Workbook
Name Grille_1: Data!$E$1:$H$12
Name Grille_2: Data!$J$1:$M$12
Name Salarié: Data!$O$1:$R$35

Sheet Data
A1: Grille1 | B1: COMMERCIAL | E1: Grille 1 | J1: Grille 2 | O1: Salarié
A2: Grille2 | B2: Commercial | E2: ELECTRICITE | G2: GAZ | J2: ELECTRICITE | L2: GAZ | O2: ELECTRICITE | Q2: GAZ
A3: Salarié | B3: NOM | C3: GRILLE | E3: PS | F3: COMMISSION | G3: CAR | H3: COMMISSION | J3: PS | K3: COMMISSION | L3: CAR | M3: COMMISSION | O3: PS en kVA | P3: COMMISSION | Q3: CAR | R3: COMMISSION
B4: Robert | C4: Grille1 | E4: 3 | F4: 30 | G4: 25 - 50 | H4: 50 | J4: 3 | K4: 60 | L4: 25 - 50 | M4: 50 | O4: 3 | P4: 20 | Q4: 25 - 50 | R4: 50
B5: Gonzague | C5: Grille2 | E5: 6 | F5: 70 | G5: 51 - 100 | H5: 150 | J5: 6 | K5: 85 | L5: 51 - 100 | M5: 150 | O5: 6 | P5: 30 | Q5: 51 - 100 | R5: 150
B6: Bernard | C6: Grille2 | E6: 9 | F6: 80 | G6: 101 - 150 | H6: 250 | J6: 9 | K6: 100 | L6: 101 - 150 | M6: 250 | O6: 9 | P6: 50 | Q6: 101 - 150 | R6: 250
B7: Lucien | C7: Salarié | E7: 12 | F7: 100 | G7: 151 et + | H7: 350 | J7: 12 | K7: 120 | L7: 151 et + | M7: 350 | O7: 12 | P7: 60 | Q7: 151 et + | R7: 350
B8: Mireille | C8: Grille2 | E8: 15 | F8: 120 | J8: 15 | K8: 135 | O8: 15 | P8: 80
B9: Genevieve | C9: Grille2 | E9: 18 | F9: 150 | J9: 18 | K9: 200 | O9: 18 | P9: 120
B10: Odile | C10: Salarié | E10: 24 | F10: 200 | J10: 24 | K10: 240 | O10: 24 | P10: 150
B11: Thérèse | C11: Grille1 | E11: 30 | F11: 230 | J11: 30 | K11: 270 | O11: 30 | P11: 170
B12: José | C12: Grille2 | E12: 36 | F12: 270 | J12: 36 | K12: 310 | O12: 36 | P12: 200
O13: 42 | P13: 305
O14: 48 | P14: 336
O15: 54 | P15: 367
E16: Electricité | J16: Gaz_ | O16: 60 | P16: 398
E17: PS | F17: Grille1 | G17: Grille2 | H17: Salarié | J17: CAR | K17: Grille1 | L17: Grille2 | M17: Salarié | O17: 66 | P17: 430
E18: 3 | F18: 30 | G18: 60 | H18: 20 | J18: 0 | O18: 72 | P18: 461
E19: 6 | F19: 70 | G19: 85 | H19: 30 | J19: 25 | K19: 50 | L19: 50 | M19: 50 | O19: 78 | P19: 492
E20: 9 | F20: 80 | G20: 100 | H20: 50 | J20: 50 | K20: 50 | L20: 50 | M20: 50 | O20: 84 | P20: 523
E21: 12 | F21: 100 | G21: 120 | H21: 60 | J21: 100 | K21: 150 | L21: 150 | M21: 150 | O21: 90 | P21: 555
E22: 15 | F22: 120 | G22: 135 | H22: 80 | J22: 150 | K22: 250 | L22: 250 | M22: 250 | O22: 96 | P22: 586
E23: 18 | F23: 150 | G23: 200 | H23: 120 | J23: 999 | K23: 350 | L23: 350 | M23: 350 | O23: 102 | P23: 617
E24: 24 | F24: 200 | G24: 240 | H24: 150 | O24: 108 | P24: 648
E25: 30 | F25: 230 | G25: 270 | H25: 170 | O25: 120 | P25: 711
E26: 36 | F26: 270 | G26: 310 | H26: 200 | O26: 132 | P26: 773
E27: 42 | H27: 305 | O27: 144 | P27: 835
E28: 48 | H28: 336 | O28: 156 | P28: 898
E29: 54 | H29: 367 | O29: 168 | P29: 960
E30: 60 | H30: 398 | O30: 180 | P30: 1023
E31: 66 | H31: 430 | O31: 192 | P31: 1085
E32: 72 | H32: 461 | O32: 204 | P32: 1147
E33: 78 | H33: 492 | O33: 216 | P33: 1210
E34: 84 | H34: 523 | O34: 228 | P34: 1272
E35: 90 | H35: 555 | O35: 240 | P35: 1335
E36: 96 | H36: 586
E37: 102 | H37: 617
E38: 108 | H38: 648
E39: 120 | H39: 711
E40: 132 | H40: 773
E41: 144 | H41: 835
E42: 156 | H42: 898
E43: 168 | H43: 960
E44: 180 | H44: 1023
E45: 192 | H45: 1085
E46: 204 | H46: 1147
E47: 216 | H47: 1210
... E49: 240 | H49: 1335

Sheet Calcul Commissions
C1: Electricité | D1: Gaz_
A2: COMMERCIAL | B2: GRILLE | C2: PUISSANCE | D2: CAR | E2: COMMISSION | G2: << Colonne E COMMISSION : Formule pour commission calculée automatiquement en fonction
A3: Robert | B3: =INDEX(Commercial[GRILLE],MATCH(A3,Commercial[NOM],0)) -> Grille1 | C3: 3 | E3: =IFERROR(INDEX(Electricité[[Grille1]:[Salarié]],MATCH(Table4[[#This Row],[PUISSANCE]],Electricité[PS],1),MATCH(Table4[[#This Row],[GRILLE]],Electricité[[#Headers],[Grille1]:[Salarié]],1)),0)+ IFERROR(INDEX(Gaz_[[Grille1]:[Salarié]],MATCH(Table4[[#This Row],[CAR]],Gaz_[CAR],1),MATCH(Table4[[#This Row],[GRILLE]],Gaz_[[#Headers],[Grille1]:[Salarié]],0)),0) -> 30 | G3: des conditions GRILLE et PUISSANCE ou GRILLE et CAR selon la feuille Data.
A4: Gonzague | B4: =INDEX(Commercial[GRILLE],MATCH(A4,Commercial[NOM],0)) -> Grille2 | C4: 6 | E4: =IFERROR(INDEX(Electricité[[Grille1]:[Salarié]],MATCH(Table4[[#This Row],[PUISSANCE]],Electricité[PS],1),MATCH(Table4[[#This Row],[GRILLE]],Electricité[[#Headers],[Grille1]:[Salarié]],1)),0)+ IFERROR(INDEX(Gaz_[[Grille1]:[Salarié]],MATCH(Table4[[#This Row],[CAR]],Gaz_[CAR],1),MATCH(Table4[[#This Row],[GRILLE]],Gaz_[[#Headers],[Grille1]:[Salarié]],0)),0) -> 85 | G4: Par exemple si Robert qui est en Grille 1 a une PUISSANCE de 3 alors COMMISSION : 30 €
A5: Bernard | B5: =INDEX(Commercial[GRILLE],MATCH(A5,Commercial[NOM],0)) -> Grille2 | C5: 36 | E5: =IFERROR(INDEX(Electricité[[Grille1]:[Salarié]],MATCH(Table4[[#This Row],[PUISSANCE]],Electricité[PS],1),MATCH(Table4[[#This Row],[GRILLE]],Electricité[[#Headers],[Grille1]:[Salarié]],1)),0)+ IFERROR(INDEX(Gaz_[[Grille1]:[Salarié]],MATCH(Table4[[#This Row],[CAR]],Gaz_[CAR],1),MATCH(Table4[[#This Row],[GRILLE]],Gaz_[[#Headers],[Grille1]:[Salarié]],0)),0) -> 310 | G5: Si Gonzague qui est en Grille 2 a une PUISSANCE de 6 alors COMISSION : 70 €
A6: Lucien | B6: =INDEX(Commercial[GRILLE],MATCH(A6,Commercial[NOM],0)) -> Salarié | C6: 42 | E6: =IFERROR(INDEX(Electricité[[Grille1]:[Salarié]],MATCH(Table4[[#This Row],[PUISSANCE]],Electricité[PS],1),MATCH(Table4[[#This Row],[GRILLE]],Electricité[[#Headers],[Grille1]:[Salarié]],1)),0)+ IFERROR(INDEX(Gaz_[[Grille1]:[Salarié]],MATCH(Table4[[#This Row],[CAR]],Gaz_[CAR],1),MATCH(Table4[[#This Row],[GRILLE]],Gaz_[[#Headers],[Grille1]:[Salarié]],0)),0) -> 305 | G6: Si Odile qui est en Salarié a une CAR de 42 alors COMMISSION : 50 €
A7: Mireille | B7: =INDEX(Commercial[GRILLE],MATCH(A7,Commercial[NOM],0)) -> Grille2 | C7: 60 | E7: =IFERROR(INDEX(Electricité[[Grille1]:[Salarié]],MATCH(Table4[[#This Row],[PUISSANCE]],Electricité[PS],1),MATCH(Table4[[#This Row],[GRILLE]],Electricité[[#Headers],[Grille1]:[Salarié]],1)),0)+ IFERROR(INDEX(Gaz_[[Grille1]:[Salarié]],MATCH(Table4[[#This Row],[CAR]],Gaz_[CAR],1),MATCH(Table4[[#This Row],[GRILLE]],Gaz_[[#Headers],[Grille1]:[Salarié]],0)),0) -> 0
A8: Genevieve | B8: =INDEX(Commercial[GRILLE],MATCH(A8,Commercial[NOM],0)) -> Grille2 | C8: 240 | E8: =IFERROR(INDEX(Electricité[[Grille1]:[Salarié]],MATCH(Table4[[#This Row],[PUISSANCE]],Electricité[PS],1),MATCH(Table4[[#This Row],[GRILLE]],Electricité[[#Headers],[Grille1]:[Salarié]],1)),0)+ IFERROR(INDEX(Gaz_[[Grille1]:[Salarié]],MATCH(Table4[[#This Row],[CAR]],Gaz_[CAR],1),MATCH(Table4[[#This Row],[GRILLE]],Gaz_[[#Headers],[Grille1]:[Salarié]],0)),0) -> 0 | G8: Merci
A9: Odile | B9: =INDEX(Commercial[GRILLE],MATCH(A9,Commercial[NOM],0)) -> Salarié | D9: 42 | E9: =IFERROR(INDEX(Electricité[[Grille1]:[Salarié]],MATCH(Table4[[#This Row],[PUISSANCE]],Electricité[PS],1),MATCH(Table4[[#This Row],[GRILLE]],Electricité[[#Headers],[Grille1]:[Salarié]],1)),0)+ IFERROR(INDEX(Gaz_[[Grille1]:[Salarié]],MATCH(Table4[[#This Row],[CAR]],Gaz_[CAR],1),MATCH(Table4[[#This Row],[GRILLE]],Gaz_[[#Headers],[Grille1]:[Salarié]],0)),0) -> 50
A10: Thérèse | B10: =INDEX(Commercial[GRILLE],MATCH(A10,Commercial[NOM],0)) -> Grille1 | D10: 50 | E10: =IFERROR(INDEX(Electricité[[Grille1]:[Salarié]],MATCH(Table4[[#This Row],[PUISSANCE]],Electricité[PS],1),MATCH(Table4[[#This Row],[GRILLE]],Electricité[[#Headers],[Grille1]:[Salarié]],1)),0)+ IFERROR(INDEX(Gaz_[[Grille1]:[Salarié]],MATCH(Table4[[#This Row],[CAR]],Gaz_[CAR],1),MATCH(Table4[[#This Row],[GRILLE]],Gaz_[[#Headers],[Grille1]:[Salarié]],0)),0) -> 50
A11: José | B11: =INDEX(Commercial[GRILLE],MATCH(A11,Commercial[NOM],0)) -> Grille2 | C11: 54 | E11: =IFERROR(INDEX(Electricité[[Grille1]:[Salarié]],MATCH(Table4[[#This Row],[PUISSANCE]],Electricité[PS],1),MATCH(Table4[[#This Row],[GRILLE]],Electricité[[#Headers],[Grille1]:[Salarié]],1)),0)+ IFERROR(INDEX(Gaz_[[Grille1]:[Salarié]],MATCH(Table4[[#This Row],[CAR]],Gaz_[CAR],1),MATCH(Table4[[#This Row],[GRILLE]],Gaz_[[#Headers],[Grille1]:[Salarié]],0)),0) -> 0
A12: Robert | B12: =INDEX(Commercial[GRILLE],MATCH(A12,Commercial[NOM],0)) -> Grille1 | C12: 60 | E12: =IFERROR(INDEX(Electricité[[Grille1]:[Salarié]],MATCH(Table4[[#This Row],[PUISSANCE]],Electricité[PS],1),MATCH(Table4[[#This Row],[GRILLE]],Electricité[[#Headers],[Grille1]:[Salarié]],1)),0)+ IFERROR(INDEX(Gaz_[[Grille1]:[Salarié]],MATCH(Table4[[#This Row],[CAR]],Gaz_[CAR],1),MATCH(Table4[[#This Row],[GRILLE]],Gaz_[[#Headers],[Grille1]:[Salarié]],0)),0) -> 0
A13: Gonzague | B13: =INDEX(Commercial[GRILLE],MATCH(A13,Commercial[NOM],0)) -> Grille2 | D13: 133 | E13: =IFERROR(INDEX(Electricité[[Grille1]:[Salarié]],MATCH(Table4[[#This Row],[PUISSANCE]],Electricité[PS],1),MATCH(Table4[[#This Row],[GRILLE]],Electricité[[#Headers],[Grille1]:[Salarié]],1)),0)+ IFERROR(INDEX(Gaz_[[Grille1]:[Salarié]],MATCH(Table4[[#This Row],[CAR]],Gaz_[CAR],1),MATCH(Table4[[#This Row],[GRILLE]],Gaz_[[#Headers],[Grille1]:[Salarié]],0)),0) -> 150
A14: Bernard | B14: =INDEX(Commercial[GRILLE],MATCH(A14,Commercial[NOM],0)) -> Grille2 | C14: 15 | E14: =IFERROR(INDEX(Electricité[[Grille1]:[Salarié]],MATCH(Table4[[#This Row],[PUISSANCE]],Electricité[PS],1),MATCH(Table4[[#This Row],[GRILLE]],Electricité[[#Headers],[Grille1]:[Salarié]],1)),0)+ IFERROR(INDEX(Gaz_[[Grille1]:[Salarié]],MATCH(Table4[[#This Row],[CAR]],Gaz_[CAR],1),MATCH(Table4[[#This Row],[GRILLE]],Gaz_[[#Headers],[Grille1]:[Salarié]],0)),0) -> 135
A15: Lucien | B15: =INDEX(Commercial[GRILLE],MATCH(A15,Commercial[NOM],0)) -> Salarié | C15: 18 | E15: =IFERROR(INDEX(Electricité[[Grille1]:[Salarié]],MATCH(Table4[[#This Row],[PUISSANCE]],Electricité[PS],1),MATCH(Table4[[#This Row],[GRILLE]],Electricité[[#Headers],[Grille1]:[Salarié]],1)),0)+ IFERROR(INDEX(Gaz_[[Grille1]:[Salarié]],MATCH(Table4[[#This Row],[CAR]],Gaz_[CAR],1),MATCH(Table4[[#This Row],[GRILLE]],Gaz_[[#Headers],[Grille1]:[Salarié]],0)),0) -> 120
A16: Mireille | B16: =INDEX(Commercial[GRILLE],MATCH(A16,Commercial[NOM],0)) -> Grille2 | C16: 72 | E16: =IFERROR(INDEX(Electricité[[Grille1]:[Salarié]],MATCH(Table4[[#This Row],[PUISSANCE]],Electricité[PS],1),MATCH(Table4[[#This Row],[GRILLE]],Electricité[[#Headers],[Grille1]:[Salarié]],1)),0)+ IFERROR(INDEX(Gaz_[[Grille1]:[Salarié]],MATCH(Table4[[#This Row],[CAR]],Gaz_[CAR],1),MATCH(Table4[[#This Row],[GRILLE]],Gaz_[[#Headers],[Grille1]:[Salarié]],0)),0) -> 0
A17: Genevieve | B17: =INDEX(Commercial[GRILLE],MATCH(A17,Commercial[NOM],0)) -> Grille2 | C17: 78 | E17: =IFERROR(INDEX(Electricité[[Grille1]:[Salarié]],MATCH(Table4[[#This Row],[PUISSANCE]],Electricité[PS],1),MATCH(Table4[[#This Row],[GRILLE]],Electricité[[#Headers],[Grille1]:[Salarié]],1)),0)+ IFERROR(INDEX(Gaz_[[Grille1]:[Salarié]],MATCH(Table4[[#This Row],[CAR]],Gaz_[CAR],1),MATCH(Table4[[#This Row],[GRILLE]],Gaz_[[#Headers],[Grille1]:[Salarié]],0)),0) -> 0
A18: Odile | B18: =INDEX(Commercial[GRILLE],MATCH(A18,Commercial[NOM],0)) -> Salarié | D18: 72 | E18: =IFERROR(INDEX(Electricité[[Grille1]:[Salarié]],MATCH(Table4[[#This Row],[PUISSANCE]],Electricité[PS],1),MATCH(Table4[[#This Row],[GRILLE]],Electricité[[#Headers],[Grille1]:[Salarié]],1)),0)+ IFERROR(INDEX(Gaz_[[Grille1]:[Salarié]],MATCH(Table4[[#This Row],[CAR]],Gaz_[CAR],1),MATCH(Table4[[#This Row],[GRILLE]],Gaz_[[#Headers],[Grille1]:[Salarié]],0)),0) -> 50
B37: =INDEX(Data!$C$4:$C$50,MATCH(A37,Data!$B$4:$B$50,0)) -> #N/A
B38: =INDEX(Data!$C$4:$C$50,MATCH(A38,Data!$B$4:$B$50,0)) -> #N/A
B39: =INDEX(Data!$C$4:$C$50,MATCH(A39,Data!$B$4:$B$50,0)) -> #N/A
B40: =INDEX(Data!$C$4:$C$50,MATCH(A40,Data!$B$4:$B$50,0)) -> #N/A
B41: =INDEX(Data!$C$4:$C$50,MATCH(A41,Data!$B$4:$B$50,0)) -> #N/A
B42: =INDEX(Data!$C$4:$C$50,MATCH(A42,Data!$B$4:$B$50,0)) -> #N/A
B43: =INDEX(Data!$C$4:$C$50,MATCH(A43,Data!$B$4:$B$50,0)) -> #N/A
