Workbook

Sheet Feuil1
D3: 1 | G3: Bessans- Elec. Recap/Détail Coût - Compteur 588268 | R3: Emetteur P.Boniface
G4: Paris - Elec. Recap coût - Compteur 556 -HP seules
B5: BESSANS - Compteur 588268 -Tarif 441
B6: Puissance 9kW | D6: Mai 98 | E6: Sep.98 | F6: Dec.98 | G6: Avr.99 | H6: Aou.99 | I6: Déc.99 | J6: Avr.00 | K6: Oct.00 | L6: Nov.00 | M6: Jan.01 | N6: Mai 01 | O6: Sep.01 | P6: Jan.02 | Q6: Mai 02 | R6: Sep.02 | S6: Jan.03 | T6: Mai 03 | U6: Sep.03 | V6: Jan.04 | W6: Mai 04 | X6: Sep.04 | Y6: Jan.05 | Z6: Mai 05 | AA6: Sep.05 | AB6: Jan.06 | AC6: Mai 06 | AD6: Sep.06 | AE6: Jan.07 | AF6: Mai 07 | AG6: Sep.07 | AH6: Jan.08 | AI6: Mai 08 | AJ6: Sep. 08 | AK6: Fev.09 | AL6: Juin 09 | AM6: Sep.09 | AN6: Jan.10 | AO6: Sep.10 | AP6: Fev. 11 | AQ6: Juil. 11 | AR6: Nov.11 | AS6: Avr.12 | AT6: Sep.12 | AU6: Mar.13 | AV6: Aou. 13
B8: Evènements | D8: (442) | E8: (442) | F8: (442) | G8: 441 | AQ8: Ach.1er | AT8: Trvx St.
D9: (12kW) | E9: (12kW) | F9: (12kW) | G9: 9kW | AR9: Loc 1er | AT9: Loc St.
B12: Consos intermédiaires | D12: 323 | E12: 323 | F12: 416 | G12: 354 | H12: 354 | I12: 720 | J12: 476 | K12: 476 | L12: 882 | M12: 605 | N12: 605 | O12: 493 | P12: 562 | Q12: 562 | R12: 1362 | S12: 820 | T12: 820 | U12: 304 | V12: 642 | W12: 642 | X12: 948 | Y12: 737 | Z12: 737 | AA12: 434 | AB12: 630 | AC12: 630 | AD12: 1519 | AE12: 917 | AF12: 917 | AG12: 390 | AH12: 734 | AI12: 734 | AJ12: 296 | AK12: 582 | AL12: 582 | AM12: 778 | AN12: 486 | AO12: 2153 | AP12: 957 | AQ12: 1179 | AR12: 1012 | AS12: 2487 | AT12: 984 | AU12: 2857 | AV12: 2840
B13: Consommation Totale | F13: 1062 | I13: 1428 | L13: 1834 | O13: 1703 | R13: 2486 | U13: 1944 | X13: 2232 | AA13: 1908 | AD13: 2779 | AG13: 2224 | AJ13: 1764 | AM13: 1942 | AO13: 2639 | AR13: 3048 | AT13: 3471 | AV13: 5697
B14: Variation coût kWh | W14: < 1,9% | AE14: >6% | AH14: >1,2% | AK14: < 0,3% | AN14: > 1,87% | AP14: < 2,44% | AR14: > 4% | AU14: > 1,96%
B15: Conso Coût kWh HT | C15: c1 | D15: 0,0723 | E15: 0.0712 | F15: 0.0708 | G15: 0.0684 | H15: 0.0679 | I15: 0.0644 | J15: 0.0648 | K15: 0.0647 | L15: 0.0645 | M15: 0.0639 | N15: 0.0639 | O15: 0,0639 | P15: 0,0649 | Q15: 0,0649 | R15: 0,0649 | S15: 0,0649 | T15: 0,0616 | U15: 0,0616 | V15: 0,0622 | W15: 0,0610 | X15: 0,0610 | Y15: 0,0610 | Z15: 0,0610 | AA15: 0,0610 | AB15: 0,0610 | AC15: 0,0610 | AD15: 0,0610 | AE15: 0,0648 | AF15: 0,0648 | AG15: 0,0648 | AH15: 0,0656 | AI15: 0,0656 | AJ15: 0,0656 | AK15: 0,0642 | AL15: 0,0642 | AM15: 0,0642 | AN15: 0,0654 | AO15: 0,0654 | AP15: 0,0638 | AQ15: 0,0638 | AR15: 0,0664 | AS15: 0,0664 | AT15: 0,0664 | AU15: 0,0677 | AV15: 0,0677
J16: 64.8 | L16: 64.5 | Y16: 61 | Z16: 61 | AA16: 61 | AN16: 65.4 | AO16: 65.4 | AP16: 63.8 | AS16: 66.4 | AT16: 66.4 | AU16: 67.7 | AV16: 67.7
B17: Abonnement HT ( en nb prix de kWh) | C17: a1 | D17: 706 c1 | E17: 687 c1 | F17: 680 c1 | G17: 499 c1 | H17: 488 c1 | I17: 534 c1 | J17: 521 c1 | K17: 506 c1 | L17: 466 c1 | M17: 451 c1 | N17: 451 c1 | O17: 465 c1 | P17: 505 c1 | Q17: 505 c1 | R17: 520 c1 | S17: 504 c1 | T17: 523 c1 | U17: 548 c1 | V17: 544 c1 | W17: 554 c1 | X17: 571 c1 | Y17: 554 c1 | Z17: 554 c1 | AA17: 571 c1 | AB17: 554 c1 | AC17: 554 c1 | AD17: 572 c1 | AE17: 531 c1 | AF17: 531 c1 | AG17: 547 c1 | AH17: 530 c1 | AI17: 530 c1 | AJ17: 546 c1 | AK17: 552 c1 | AL17: 552 c1 | AM17: 569 c1 | AN17: 280 c1 | AO17: 844 c1 | AP17: 478 c1 | AQ17: 430 c1 | AR17: 404 c1 | AS17: 404 c1 | AT17: 404 c1 | AU17: 421 c1 | AV17: 421 c1
B18: Cumul | F18: 2073 c1 | I18: 1521 c1 | L18: 1493 c1 | O18: 1367 c1 | R18: 1530 c1 | U18: 1575 c1 | X18: 1669 c1 | AA18: 1679 c1 | AD18: 1680 c1 | AG18: 1609 c1 | AJ18: 1606 c1 | AM18: 1673 c1 | AO18: 1124 c1 | AR18: 1312 c1 | AT18: 808 c1 | AV18: 842 c1
C19: T1
B20: Taxe départementale % | C20: txd | D20: 3,2xT1 | E20: 3,2xT1 | F20: 3,2xT1 | G20: 3,2xT1 | H20: 3,2xT1 | I20: 3,2xT1 | J20: 3,2xT1 | K20: 3,2xT1 | L20: 3,2xT1 | M20: 3,2xT1 | N20: 3,2xT1 | O20: 3,2xT1 | P20: 3,2xT1 | Q20: 3,2xT1 | R20: 3,2xT1 | S20: 3,2xT1 | T20: 3,2xc1a1 | U20: 3,2xc1a1 | V20: 3,2xc1a1 | W20: 3,2xc1a1 | X20: 3,2xc1a1 | Y20: 3,2xc1a1 | Z20: 3,2xc1a1 | AA20: 3,2xc1a1 | AB20: 3,2xc1a1 | AC20: 3,2xc1a1 | AD20: 3,2xc1a1 | AE20: 3,2xc1a1 | AF20: 3,2xc1a1 | AG20: 3,2xc1a1 | AH20: 3,2xc1a1 | AI20: 3,2xc1a1 | AJ20: 3,2xc1a1 | AK20: 3,2xc1a1 | AL20: 3,2xc1a1 | AM20: 3,2xc1a1 | AN20: 3,2xc1a1 | AO20: 3,2xc1a1 | AP20: 3,2xc1a1 | AQ20: ,75/MWh | AR20: ,75/MWh | AS20: ,75/MWh | AT20: ,75/MWh | AU20: ,75/MWh | AV20: ,75/MWh
B21: Taxe communale % | C21: txc | M21: 0 | N21: 0 | O21: 0 | P21: 0 | Q21: 0 | R21: 0 | S21: 0 | T21: 0 | U21: 0 | V21: 0 | W21: 0 | X21: 0 | Y21: 0 | Z21: 0 | AA21: 0 | AB21: 0 | AC21: 0 | AD21: 0 | AE21: 0 | AF21: 0 | AG21: 0 | AH21: 0 | AI21: 0 | AJ21: 0 | AK21: 0 | AL21: 0 | AM21: 0 | AN21: 0 | AO21: 0 | AP21: 0 | AQ21: 0 | AR21: 0 | AS21: 0 | AT21: 0 | AU21: 0 | AV21: 0
B22: Variation CSPE | W22: > 36% | AQ22: > 66% | AR22: > 20% | AU22: > 16,6 % | AV22: > 19%
B23: CSPE Contrib.Serv.Publ. Elec. | C23: c1+ | T23: 0,0033 | U23: 0,0033 | V23: 0,0033 | W23: 0,0045 | X23: 0,0045 | Y23: 0,0045 | Z23: 0,0045 | AA23: 0,0045 | AB23: 0,0045 | AC23: 0,0045 | AD23: 0,0045 | AE23: 0,0045 | AF23: 0,0045 | AG23: 0,0045 | AH23: 0,0045 | AI23: 0,0045 | AJ23: 0,0045 | AK23: 0,0045 | AL23: 0,0045 | AM23: 0,0045 | AN23: 0,0045 | AO23: 0,0045 | AP23: 0,0045 | AQ23: 0,0075 | AR23: 0,0090 | AS23: 0,0090 | AT23: 0,0090 | AU23: 0,0105 | AV23: 0,0135
B24: Variation CTA | AV24: > 13%
B25: CTA Contrib. Tarif. Achemt. % | AN25: 21x ? | AO25: 21x ? | AP25: 21x ? | AQ25: 21x ? | AR25: 21x? | AS25: 21x? | AT25: 21x? | AU25: 21x? | AV25: 23,73x?
B26: TVA % | D26: 20,6 | E26: 20.6 | F26: 20.6 | G26: 20.6 | H26: 20,6 x c1 | I26: 20,6xc1 | J26: 20,6xc1 | K26: 19,6xc1 | L26: 19,6xc1 | M26: 19,6xc1 | N26: 19,6xc1 | O26: 19,6xc1 | P26: 19,6xc1 | Q26: 19,6xc1 | R26: 19,6xc1 | S26: 19,6xc1 | T26: 19,6xc1 | U26: 19,6xc1 | V26: 19,6xc1 | W26: 19,6xc1 | X26: 19,6xc1 | Y26: 19,6xc1 | Z26: 19,6xc1 | AA26: 19,6xc1 | AB26: 19,6xc1 | AC26: 19,6xc1 | AD26: 19,6xc1 | AE26: 19,6xc1 | AF26: 19,6xc1 | AG26: 19,6xc1 | AH26: 19,6xc1 | AI26: 19,6xc1 | AJ26: 19,6xc1 | AK26: 19,6xc1 | AL26: 19,6xc1 | AM26: 19,6xc1 | AN26: 19,6xc1 | AO26: 19,6xc1 | AP26: 19,6xc1 | AQ26: 19,6xc1 | AR26: 19,6xc1 | AS26: 19,6xc1 | AT26: 19,6xc1 | AU26: 19,6xc1 | AV26: 19,6xc1
K27: 19,6xtxd | L27: 19,6xtxd | M27: 19,6xtxd | N27: 19,6xtxd | O27: 19,6xtxd | P27: 19,6xtxd | Q27: 19,6xtxd | R27: 19,6xtxd | S27: 19,6xtxd | T27: 19,6xtxd | U27: 19,6xtxd | V27: 19,6xttx | W27: 19,6xttx | X27: 19,6xttx | Y27: 19,6xttx | Z27: 19,6xttx | AA27: 19,6xttx | AB27: 19,6xttx | AC27: 19,6xttx | AD27: 19,6xttx | AE27: 19,6xttx | AF27: 19,6xttx | AG27: 19,6xttx | AH27: 19,6xttx | AI27: 19,6xttx | AJ27: 19,6xttx | AK27: 19,6xttx | AL27: 19,6xttx | AM27: 19,6xttx | AN27: 19,6xttx | AO27: 19,6xttx | AP27: 19,6xttx | AQ27: 19,6xttx | AR27: 19,6xttx | AS27: 19,6xttx | AT27: 19,6xttx | AU27: 19,6xttx | AV27: 19,6xttx
H28: 5,50 x a1 | I28: 5,50xa1 | J28: 5,50xa1 | K28: 5,50xa1 | L28: 5,50xa1 | M28: 5,50xa1 | N28: 5,50xa1 | O28: 5,50xa1 | P28: 5,50xa1 | Q28: 5,50xa1 | R28: 5,50xa1 | S28: 5,50xa1 | T28: 5,50xa1 | U28: 5,50xa1 | V28: 5,50xa1 | W28: 5,50xa1 | X28: 5,50xa1 | Y28: 5,50xa1 | Z28: 5,50xa1 | AA28: 5,50xa1 | AB28: 5,50xa1 | AC28: 5,50xa1 | AD28: 5,50xa1 | AE28: 5,50xa1 | AF28: 5,50xa1 | AG28: 5,50xa1 | AH28: 5,50xa1 | AI28: 5,50xa1 | AJ28: 5,50xa1 | AK28: 5,50xa1 | AL28: 5,50xa1 | AM28: 5,50xa1 | AN28: 5,50xa1 | AO28: 5,50xa1 | AP28: 5,50xa1 | AQ28: 5,50xa1 | AR28: 5,50xa1 | AS28: 5,50xa1 | AT28: 5,50xa1 | AU28: 5,50xa1 | AV28: 5,50xa1
B31: Coût global kWh TTC (Sans abonnt) | D31: 0,0900 | E31: 0,0905 | F31: 0,0864 | G31: 0,1193 | H31: 0,0857 | I31: 0,0829 | J31: 0,0812 | K31: 0,0804 | L31: 0,0797 | M31: 0,0793 | N31: 0,0793 | O31: 0,0793 | P31: 0,0800 | Q31: 0,0800 | R31: 0,0801 | S31: 0,0801 | T31: 0,0801 | U31: 0,0800 | V31: 0,0807 | W31: 0,0807 | X31: 0,0807 | Y31: 0,0807 | Z31: 0,0807 | AA31: 0,0806 | AB31: 0,0807 | AC31: 0,0807 | AD31: 0,0806 | AE31: 0,0852 | AF31: 0,0852 | AG31: 0,0849 | AH31: 0,0861 | AI31: 0,0861 | AJ31: 0,0858 | AK31: 0,0843 | AL31: 0,0843 | AM31: 0,0844 | AN31: 0,0919 | AO31: 0,0900 | AP31: 0,0890 | AQ31: 0,0918 | AR31: 0,0980 | AS31: 0,0955 | AT31: 0,0983 | AU31: 0,0986 | AV31: 0,1024
J32: 81.2 | L32: 79.7 | Y32: 80.7 | Z32: 80.7 | AA32: 80.6 | AN32: 91.9 | AO32: 90 | AP32: 89 | AS32: 95.5 | AT32: 98.3 | AU32: 98.6 | AV32: 102.4
B33: Coût Global kWh TTC (Abonnt inclus) | D33: 0,2867 | E33: 0,2779 | F33: 0,2303 | G33: 0,2051 | H33: 0,1873 | I33: 0,1350 | J33: 0,1593 | K33: 0,1561 | L33: 0,1172 | M33: 0,132 | N33: 0,132 | O33: 0,1456 | P33: 0,1438 | Q33: 0,1438 | R33: 0,107 | S33: 0,1238 | T33: 0,1238 | U33: 0,2015 | V33: 0,1383 | W33: 0,1383 | X33: 0,1209 | Y33: 0,1309 | Z33: 0,1309 | AA33: 0,1684 | AB33: 0,1394 | AC33: 0,1394 | AD33: 0,1056 | AE33: 0,1262 | AF33: 0,1262 | AG33: 0,1843 | AH33: 0,1379 | AI33: 0,1379 | AJ33: 0,2181 | AK33: 0,1509 | AL33: 0,1509 | AM33: 0,1357 | AN33: 0,1333 | AO33: 0,1181 | AP33: 0,1240 | AQ33: 0,1173 | AR33: 0,1269 | AS33: 0,1073 | AT33: 0,1250 | AU33: 0,1096 | AV33: 0,1135
J34: 159.3 | L34: 117.2 | Y34: 130.9 | Z34: 130.9 | AA34: 168.4 | AN34: 133.3 | AO34: 118.1 | AP34: 124 | AS34: 107.3 | AT34: 125 | AU34: 109.6 | AV34: 113.5
B37: PARIS - Compteur 556- 9kW- HP seules
B39: Conso Coût kWh HT (HP) | J39: 0,0790 | L39: 0,0799 | Y39: 0,0765 | Z39: 0,0765 | AA39: 0,0765 | AN39: 0,0839 | AO39: 0,0901 | AP39: 0,0910 | AS39: 0,0916 | AT39: 0,0935 | AU39: 0,0935 | AV39: 0,0998
J40: 79 | L40: 79.9 | Y40: 76.5 | Z40: 76.5 | AA40: 76.5 | AN40: 83.9 | AO40: 90.1 | AP40: 91 | AS40: 91.6 | AT40: 93.5 | AU40: 93.5 | AV40: 99.8
B41: Coût global kWh TTC (Sans abt)-HP | J41: 0,0933 | L41: 0,0826 | Y41: 0,0783 | Z41: 0,0906 | AA41: 0,0809 | AN41: 0,0995 | AO41: 0,1089 | AP41: 0,1069 | AS41: 0,1114 | AT41: 0,1072 | AU41: 0,1283 | AV41: 0,1007
J42: 93.3 | L42: 82.6 | Y42: 78.3 | Z42: 90.6 | AA42: 80.9 | AN42: 99.5 | AO42: 108.9 | AP42: 106.9 | AS42: 111.4 | AT42: 107.2 | AU42: 128.3 | AV42: 100.7
B43: Coût Global kWh TTC (Abt inclus)-HP | J43: 0,1034 | L43: 0,1009 | Y43: 0,0984 | Z43: 0,0995 | AA43: 0,0993 | AN43: 0,1090 | AO43: 0,1168 | AP43: 0,1166 | AS43: 0,1192 | AT43: 0,1201 | AU43: 0,1623 | AV43: 0,1149
J44: 103.4 | L44: 100.9 | Y44: 98.4 | Z44: 99.5 | AA44: 99.3 | AN44: 109 | AO44: 116.8 | AP44: 116.6 | AS44: 119.2 | AT44: 120.1 | AU44: 162.3 | AV44: 114.9

Sheet Feuil2
B2: =Feuil1!J6 -> Avr.00 | C2: =Feuil1!L6 -> Nov.00 | D2: =Feuil1!Y6 -> Jan.05 | E2: =Feuil1!Z6 -> Mai 05 | F2: =Feuil1!AA6 -> Sep.05 | G2: =Feuil1!AN6 -> Jan.10 | H2: =Feuil1!AO6 -> Sep.10 | I2: =Feuil1!AP6 -> Fev. 11 | J2: =Feuil1!AS6 -> Avr.12 | K2: =Feuil1!AT6 -> Sep.12 | L2: =Feuil1!AU6 -> Mar.13 | M2: =Feuil1!AV6 -> Aou. 13
A3: =Feuil1!B15 -> Conso Coût kWh HT | B3: =Feuil1!J16 -> 64.8 | C3: =Feuil1!L16 -> 64.5 | D3: =Feuil1!Y16 -> 61 | E3: =Feuil1!Z16 -> 61 | F3: =Feuil1!AA16 -> 61 | G3: =Feuil1!AN16 -> 65.4 | H3: =Feuil1!AO16 -> 65.4 | I3: =Feuil1!AP16 -> 63.8 | J3: =Feuil1!AS16 -> 66.4 | K3: =Feuil1!AT16 -> 66.4 | L3: =Feuil1!AU16 -> 67.7 | M3: =Feuil1!AV16 -> 67.7
A4: =Feuil1!B31 -> Coût global kWh TTC (Sans abonnt) | B4: =Feuil1!J32 -> 81.2 | C4: =Feuil1!L32 -> 79.7 | D4: =Feuil1!Y32 -> 80.7 | E4: =Feuil1!Z32 -> 80.7 | F4: =Feuil1!AA32 -> 80.6 | G4: =Feuil1!AN32 -> 91.9 | H4: =Feuil1!AO32 -> 90 | I4: =Feuil1!AP32 -> 89 | J4: =Feuil1!AS32 -> 95.5 | K4: =Feuil1!AT32 -> 98.3 | L4: =Feuil1!AU32 -> 98.6 | M4: =Feuil1!AV32 -> 102.4
A5: =Feuil1!B33 -> Coût Global kWh TTC (Abonnt inclus) | B5: =Feuil1!J34 -> 159.3 | C5: =Feuil1!L34 -> 117.2 | D5: =Feuil1!Y34 -> 130.9 | E5: =Feuil1!Z34 -> 130.9 | F5: =Feuil1!AA34 -> 168.4 | G5: =Feuil1!AN34 -> 133.3 | H5: =Feuil1!AO34 -> 118.1 | I5: =Feuil1!AP34 -> 124 | J5: =Feuil1!AS34 -> 107.3 | K5: =Feuil1!AT34 -> 125 | L5: =Feuil1!AU34 -> 109.6 | M5: =Feuil1!AV34 -> 113.5
A6: =Feuil1!B39 -> Conso Coût kWh HT (HP) | B6: =Feuil1!J40 -> 79 | C6: =Feuil1!L40 -> 79.9 | D6: =Feuil1!Y40 -> 76.5 | E6: =Feuil1!Z40 -> 76.5 | F6: =Feuil1!AA40 -> 76.5 | G6: =Feuil1!AN40 -> 83.9 | H6: =Feuil1!AO40 -> 90.1 | I6: =Feuil1!AP40 -> 91 | J6: =Feuil1!AS40 -> 91.6 | K6: =Feuil1!AT40 -> 93.5 | L6: =Feuil1!AU40 -> 93.5 | M6: =Feuil1!AV40 -> 99.8
A7: =Feuil1!B41 -> Coût global kWh TTC (Sans abt)-HP | B7: =Feuil1!J42 -> 93.3 | C7: =Feuil1!L42 -> 82.6 | D7: =Feuil1!Y42 -> 78.3 | E7: =Feuil1!Z42 -> 90.6 | F7: =Feuil1!AA42 -> 80.9 | G7: =Feuil1!AN42 -> 99.5 | H7: =Feuil1!AO42 -> 108.9 | I7: =Feuil1!AP42 -> 106.9 | J7: =Feuil1!AS42 -> 111.4 | K7: =Feuil1!AT42 -> 107.2 | L7: =Feuil1!AU42 -> 128.3 | M7: =Feuil1!AV42 -> 100.7
A8: =Feuil1!B43 -> Coût Global kWh TTC (Abt inclus)-HP | B8: =Feuil1!J44 -> 103.4 | C8: =Feuil1!L44 -> 100.9 | D8: =Feuil1!Y44 -> 98.4 | E8: =Feuil1!Z44 -> 99.5 | F8: =Feuil1!AA44 -> 99.3 | G8: =Feuil1!AN44 -> 109 | H8: =Feuil1!AO44 -> 116.8 | I8: =Feuil1!AP44 -> 116.6 | J8: =Feuil1!AS44 -> 119.2 | K8: =Feuil1!AT44 -> 120.1 | L8: =Feuil1!AU44 -> 162.3 | M8: =Feuil1!AV44 -> 114.9
