Workbook

Sheet ville
A1: Latitude=Nord/Sud ; Longitude = Est/Ouest | F1: Décimale
A2: Nom Ville | B2: MAJ | C2: Code Postal | D2: Code INSEE | E2: Code Région | F2: Latitude | G2: Longitude | H2: Eloignement | I2: Villes à l'Ouest de quimper | J2: Villes au Sude de Douanenez
A3: Abbécourt | B3: ABBECOURT | C3: 2300 | D3: 2001 | E3: 22 | F3: 49.6 | G3: 3.183333 | H3: 1.5 | I3: =IF(F3>Informations!$B$10,ville!B3,"") -> ABBECOURT | J3: =IF(G3<Informations!$C$11,ville!B3,"") -> ABBECOURT
A4: Achery | B4: ACHERY | C4: 2800 | D4: 2002 | E4: 22 | F4: 49.683333 | G4: 3.383333 | H4: 0.63 | I4: =IF(F4>Informations!$B$10,ville!B4,"") -> ACHERY | J4: =IF(G4<Informations!$C$11,ville!B4,"") -> ACHERY
A5: Acy | B5: ACY | C5: 2200 | D5: 2003 | E5: 22 | F5: 49.35 | G5: 3.416667 | H5: 1.65 | I5: =IF(F5>Informations!$B$10,ville!B5,"") -> ACY | J5: =IF(G5<Informations!$C$11,ville!B5,"") -> ACY
A6: Agnicourt-et-Séchelles | B6: AGNICOURT ET SECHELLES | C6: 2340 | D6: 2004 | E6: 22 | F6: 49.716667 | G6: 3.95 | H6: 1.84 | I6: =IF(F6>Informations!$B$10,ville!B6,"") -> AGNICOURT ET SECHELLES | J6: =IF(G6<Informations!$C$11,ville!B6,"") -> AGNICOURT ET SECHELLES
A7: Aguilcourt | B7: AGUILCOURT | C7: 2190 | D7: 2005 | E7: 22 | F7: 49.4 | G7: 3.966667 | H7: 1.92 | I7: =IF(F7>Informations!$B$10,ville!B7,"") -> AGUILCOURT | J7: =IF(G7<Informations!$C$11,ville!B7,"") -> AGUILCOURT
A8: Aisonville-et-Bernoville | B8: AISONVILLE ET BERNOVILLE | C8: 2110 | D8: 2006 | E8: 22 | F8: 49.933333 | G8: 3.533333 | H8: 1.59 | I8: =IF(F8>Informations!$B$10,ville!B8,"") -> AISONVILLE ET BERNOVILLE | J8: =IF(G8<Informations!$C$11,ville!B8,"") -> AISONVILLE ET BERNOVILLE
A9: Aizelles | B9: AIZELLES | C9: 2820 | D9: 2007 | E9: 22 | F9: 49.483333 | G9: 3.816667 | H9: 1.26 | I9: =IF(F9>Informations!$B$10,ville!B9,"") -> AIZELLES | J9: =IF(G9<Informations!$C$11,ville!B9,"") -> AIZELLES
A10: Alaincourt | B10: ALAINCOURT | C10: 2240 | D10: 2009 | E10: 22 | F10: 49.75 | G10: 3.366667 | H10: 1.04 | I10: =IF(F10>Informations!$B$10,ville!B10,"") -> ALAINCOURT | J10: =IF(G10<Informations!$C$11,ville!B10,"") -> ALAINCOURT
A11: Allemant | B11: ALLEMANT | C11: 2320 | D11: 2010 | E11: 22 | F11: 49.466667 | G11: 3.45 | H11: 1.2 | I11: =IF(F11>Informations!$B$10,ville!B11,"") -> ALLEMANT | J11: =IF(G11<Informations!$C$11,ville!B11,"") -> ALLEMANT
A12: Ambleny | B12: AMBLENY | C12: 2290 | D12: 2011 | E12: 22 | F12: 49.383333 | G12: 3.183333 | H12: 1.5 | I12: =IF(F12>Informations!$B$10,ville!B12,"") -> AMBLENY | J12: =IF(G12<Informations!$C$11,ville!B12,"") -> AMBLENY
A13: Ambrief | B13: AMBRIEF | C13: 2200 | D13: 2012 | E13: 22 | F13: 49.316667 | G13: 3.4 | H13: 1.5 | I13: =IF(F13>Informations!$B$10,ville!B13,"") -> AMBRIEF | J13: =IF(G13<Informations!$C$11,ville!B13,"") -> AMBRIEF
A14: Amifontaine | B14: AMIFONTAINE | C14: 2190 | D14: 2013 | E14: 22 | F14: 49.483333 | G14: 3.916667 | H14: 1.7 | I14: =IF(F14>Informations!$B$10,ville!B14,"") -> AMIFONTAINE | J14: =IF(G14<Informations!$C$11,ville!B14,"") -> AMIFONTAINE
... A310: Montcheutin | B310: MONTCHEUTIN | C310: 8250 | D310: 8296 | E310: 21 | F310: 49.283333 | G310: 4.833333 | H310: 2.16 | I310: =IF(F310>Informations!$B$10,ville!B310,"") -> MONTCHEUTIN | J310: =IF(G310<Informations!$C$11,ville!B310,"")

Sheet Informations
A1: DMS | B1: Latitude | C1: Longitude
A2: Quimper | B2: 47°59'48'' | C2: 4°05'47'' | D2: Saisie comme du texte
A3: Douarnenez | B3: 48°05'34'' | C3: 4°19'45''
B5: 1.9998611 | C5: 0.17068287 | D5: Format cellule personnalisée [hh]°mm'ss
B6: 2.0038657 | C6: 0.18038194
A9: Décimale | B9: Latitude | C9: Longitude
A10: Quimper | B10: =B5*24 -> 47.996667 | C10: =C5*24 -> 4.0963889 | D10: x 24 format standard
A11: Douarnenez | B11: =B6*24 -> 48.092778 | C11: =C6*24 -> 4.3291667
