Workbook
Name CDR: BULLETIN!$F$32:$F$36
Name CR: BULLETIN!$D$32:$D$36
Name Matrice: 'Liste des salariés'!$A$4:$H$9
Name SB: BULLETIN!$E$15
Name SNI: BULLETIN!$F$39
Name SNP: BULLETIN!$C$39
Name TA: 'Liste des salariés'!$H$1
Name TB: 'Liste des salariés'!$H$2
Name UNEDIC: BULLETIN!$D$30:$D$31
Name UNEDIC2: BULLETIN!$F$30:$F$31
Name URSSAF: BULLETIN!$D$21:$D$29
Name URSSAF2: BULLETIN!$F$21:$F$29

Sheet BULLETIN
A1: BULLETIN DE PAIE
A3: Date du bulletin | C3: =TODAY() -> 43166
A5: CODE SALARIÉ | B5: 1 | C5: Adresse | E5: =VLOOKUP(B5,'Liste des salariés'!A4:H9,4) -> Rue Grande
A6: NOM | B6: =VLOOKUP(B5,'Liste des salariés'!A4:H9,2) -> A
A7: Prénom | B7: =VLOOKUP(B5,'Liste des salariés'!A5:H10,3) -> P | C7: Qualification | E7: =VLOOKUP(B5,'Liste des salariés'!A4:H9,5) -> Commercial
A9: DÉCOMPOSITION DU SALAIRE BRUT
C11: Taux horaire Brut | E11: Montant
A12: Salaire de base | C12: =VLOOKUP(B5,Matrice,7)*9.88 -> 14.82 | E12: =C12*'Liste des salariés'!D1 -> 2247.7
A13: Heures Supplémentaires | E13: =C12*IF(VLOOKUP(B5,Matrice,6)-151.67<8,(VLOOKUP(B5,Matrice,6)-151.67)*1.25,8*1.25+(VLOOKUP(B5,Matrice,6)-159.67)*1.5) -> 162.8718
A14: Prime sur le chiffre d'affaires réalisé | E14: =IF(AND(VLOOKUP(B5,Matrice,5)="Commercial",VLOOKUP(B5,Matrice,8)>100000),VLOOKUP(B5,Matrice,8)*0.25%,0) -> 3055
A15: SALAIRE BRUT | E15: =SUM(E12:F14) -> 5465.5718
A17: MONTANT DES COTISATIONS SOCIALES
B19: Base de calcul = Assiette | C19: Cotisations sociales salariales | E19: Cotisations sociales patronales
C20: Taux | D20: Montant | E20: Taux | F20: Montant
A21: CSG DÉDUCTIBLE | B21: =SB*0.9825 -> 5369.9243 | C21: 0.068 | D21: =B21*C21 -> 365.15485 | E21: 0 | F21: =B21*E21 -> 0
A22: CSG NON DÉDUCTIBLE | B22: =SB*0.9825 -> 5369.9243 | C22: 0.024 | D22: =B22*C22 -> 128.87818 | E22: 0 | F22: =B22*E22 -> 0
A23: CRDS NON DÉDUCTIBLE | B23: =SB*0.9825 -> 5369.9243 | C23: 0.005 | D23: =B23*C23 -> 26.849621 | E23: 0 | F23: =B23*E23 -> 0
A24: ASSURANCE MALADIE | B24: =SB*0.9825 -> 5369.9243 | C24: 0 | D24: =B24*C24 -> 0 | E24: 0.133 | F24: =B24*E24 -> 714.19993
A25: ASSURANCE VIEILLESSE (Tranche A) | B25: =IF(SB>TA,TA*0.9825,SB*0.9825) -> 3253.0575 | C25: 0.069 | D25: =B25*C25 -> 224.46097 | E25: 0.0855 | F25: =B25*E25 -> 278.13642
A26: ASSURANCE VIEILLESSE (Déplafonnée) | B26: =SB*0.9825 -> 5369.9243 | C26: 0.004 | D26: =B26*C26 -> 21.479697 | E26: 0.019 | F26: =B26*E26 -> 102.02856
A27: ALLOCATIONS FAMILIALES | B27: =SB*0.9825 -> 5369.9243 | C27: 0 | D27: =B27*C27 -> 0 | E27: 0.0345 | F27: =B27*E27 -> 185.26239
A28: ACCIDENT DU TRAVAIL | B28: =SB*0.9825 -> 5369.9243 | C28: 0 | D28: =B28*C28 -> 0 | E28: 0.018 | F28: =B28*E28 -> 96.658637
A29: AIDE AU LOGEMENT (Tranche A) | B29: =IF(SB>TA,TA*0.9825,SB*0.9825) -> 3253.0575 | C29: 0 | D29: =B29*C29 -> 0 | E29: 0.001 | F29: =B29*E29 -> 3.2530575
A30: ASSURANCE CHÔMAGE (Tranche A + Tranche B) | B30: =IF(SB>TB,TB*0.9825,SB*0.9825) -> 5369.9243 | C30: 0.0095 | D30: =B30*C30 -> 51.014281 | E30: 0.0405 | F30: =B30*E30 -> 217.48193
A31: AGS (Tranche A + Tranche B) | B31: =IF(SB>TB,TB*0.9825,SB*0.9825) -> 5369.9243 | C31: 0 | D31: =B31*C31 -> 0 | E31: 0.0015 | F31: =B31*E31 -> 8.0548864
A32: RETRAITE Cadres ARRCO (Tranche A) | B32: =IF(SB>TA,TA*0.9825,SB*0.9825) -> 3253.0575 | C32: 0.031 | D32: =B32*C32 -> 100.84478 | E32: 0.0465 | F32: =B32*E32 -> 151.26717 | H32: Pour vérification
A33: RETRAITE Cadres AGIRC (Tranche B) | B33: =IF(AND(SB>TA,SB<TB),(SB-TA)*0.9825,TB*0.9825) -> 2116.8668 | C33: 0.078 | D33: =B33*C33 -> 165.11561 | E33: 0.1275 | F33: =B33*E33 -> 269.90052 | H33: =SUM(B32:B34) -> 5369.9243
A34: RETRAITE Cadres AGIRC (Tranche C) | B34: =IF(SB>TB,(SB-TB)*0.9825,0) -> 0 | C34: 0.0836 | D34: =B34*C34 -> 0 | E34: 0.1219 | F34: =B34*E34 -> 0
A35: AGFF (Tranche A) | B35: =IF(SB>TA,TA*0.9825,SB*0.9825) -> 3253.0575 | C35: 0.008 | D35: =B35*C35 -> 26.02446 | E35: 0.012 | F35: =B35*E35 -> 39.03669
A36: AGFF (Tranche B) | B36: =IF(AND(SB>TA,SB<TB),(SB-TA)*0.9825,TB*0.9825) -> 2116.8668 | C36: 0.009 | D36: =B36*C36 -> 19.051801 | E36: 0.013 | F36: =B36*E36 -> 27.519268
A37: TOTAL DES COTISATIONS SOCIALES | D37: =SUM(D21:D36) -> 1128.8743 | F37: =SUM(F21:F36) -> 2092.7995
A39: SALAIRE NET A PAYER | C39: =SB-D37 -> 4336.6975 | D39: SALAIRE NET IMPOSABLE | F39: =SNP+D22+D23 -> 4492.4253

Sheet Liste des salariés
A1: Nombres d'heures légales mensuelles | D1: =52*35/12 -> 151.66667 | F1: Tranches de la sécurité sociale au 01/01/2018 | G1: Plafond Tranche A | H1: 3311
A2: SMIC horaire Brut | D2: 9.88 | G2: Plafond Tranche B | H2: =H1*4 -> 13244
A4: CODE SALARIÉ | B4: NOM | C4: PRÉNOM | D4: ADRESSE | E4: QUALIFICATION | F4: Nombre d'heures effectuées | G4: Coefficient multiplicateur | H4: CHIFFRE D'AFFAIRES RÉALISÉ
A5: 1 | B5: A | C5: P | D5: Rue Grande | E5: Commercial | F5: 160.33 | G5: 1.5 | H5: 1222000
A6: 2 | B6: B | C6: T | D6: Place du Marché | E6: Directeur | F6: 173.33 | G6: 8
A7: 3 | B7: C | C7: C | D7: Place Jean Jaurès | E7: Chef Comptable | F7: 158.17 | G7: 2.5
A8: 4 | B8: D | C8: R | D8: Rue du Cluzel | E8: Chef Produit | F8: =D1 -> 151.66667 | G8: 3.5
A9: 5 | B9: E | C9: G | D9: Av. Pompidou | E9: Commercial | F9: 156 | G9: 1.5 | H9: 1118500

Sheet Déclaration
A1: DÉCLARATION DES COTISATIONS SOCIALES DUES | D1: Bulletin de paie Nom du salarié | E1: C
B3: Montant des retenues salariales | C3: Taux de prélèvement (en % du salaire brut) | D3: Montant des cotisations patronales | E3: Taux de prélèvement (en % du salaire brut) | F3: TOTAUX
A4: URSSAF | B4: =SUM(URSSAF) -> 766.82332 | C4: =B4/SB -> 0.14030066 | D4: =SUM(URSSAF2) -> 1379.539 | E4: =D4/SB -> 0.25240525 | F4: =B4+D4 -> 2146.3623
A5: UNEDIC | B5: =SUM(UNEDIC) -> 51.014281 | C5: =B5/SB -> 0.00933375 | D5: =SUM(UNEDIC2) -> 225.53682 | E5: =D5/SB -> 0.041265 | F5: =B5+D5 -> 276.5511
A6: CAISSES DE RETRAITE | B6: =SUM(CR) -> 311.03665 | C6: =B6/SB -> 0.056908346 | D6: =SUM(CDR) -> 487.72365 | E6: =D6/SB -> 0.089235613 | F6: =B6+D6 -> 798.7603
A7: TOTAUX | B7: =SUM(B4:B6) -> 1128.8743 | C7: =B7/SB -> 0.20654275 | D7: =SUM(D4:D6) -> 2092.7995 | E7: =D7/SB -> 0.38290586 | F7: =SUM(F4:F6) -> 3221.6737
