Workbook

Sheet Données
A1: DONNEES | E1: Statut au : | F1: =MAX(Tableau1[Date de Commande]) -> 42439
A3: N° de Commande | B3: Date de Commande | C3: Commercial | D3: Nbre de colis | E3: Client | F3: Critère
A4: 3 762 | B4: 42430 | C4: Daniel KARSZTUN | D4: 36 | E4: INTERMARCHE POLLESTRES | F4: =IF(Tableau1[[#This Row],[Nbre de colis]]<18,0,1) -> 1
A5: 3 763 | B5: 42430 | C5: Centrale | D5: 54 | E5: CARREFOUR MONTSOULT | F5: =IF(Tableau1[[#This Row],[Nbre de colis]]<18,0,1) -> 1
A6: 3 764 | B6: 42430 | C6: Jean-Marie TEISSEIRE | D6: 15 | E6: INTERMARCHE MEZE | F6: =IF(Tableau1[[#This Row],[Nbre de colis]]<18,0,1) -> 0
A7: 3 765 | B7: 42430 | C7: Jean-Marie TEISSEIRE | D7: 18 | E7: SUPER U SU MARGUERITTES | F7: =IF(Tableau1[[#This Row],[Nbre de colis]]<18,0,1) -> 1
A8: 3 766 | B8: 42430 | C8: Cédric MIRAVET | D8: 15 | E8: SUPER U GRENADE SUR GARONNE | F8: =IF(Tableau1[[#This Row],[Nbre de colis]]<18,0,1) -> 0
A9: 3 767 | B9: 42430 | C9: Cédric MIRAVET | D9: 21 | E9: INTERMARCHE PINSAGUEL | F9: =IF(Tableau1[[#This Row],[Nbre de colis]]<18,0,1) -> 1
A10: 3 768 | B10: 42430 | C10: Centrale | D10: 55 | E10: CARREFOUR SALON DE PROVENCE | F10: =IF(Tableau1[[#This Row],[Nbre de colis]]<18,0,1) -> 1
A11: 3 770 | B11: 42430 | C11: Centrale | D11: 99 | E11: CARREFOUR ST SEVER | F11: =IF(Tableau1[[#This Row],[Nbre de colis]]<18,0,1) -> 1
A12: 3 771 | B12: 42431 | C12: Cédric MIRAVET | D12: 25 | E12: SUPER U LAVAUR | F12: =IF(Tableau1[[#This Row],[Nbre de colis]]<18,0,1) -> 1
A13: 3 772 | B13: 42431 | C13: Daniel KARSZTUN | D13: 20 | E13: CARREFOUR CONTACT RIEUX MINERVOIS | F13: =IF(Tableau1[[#This Row],[Nbre de colis]]<18,0,1) -> 1
A14: 3 775 | B14: 42432 | C14: Coralie DENJEAN | D14: 15 | E14: INTERMARCHE ST SULPICE SUR LEZE | F14: =IF(Tableau1[[#This Row],[Nbre de colis]]<18,0,1) -> 0
A15: 3 776 | B15: 42432 | C15: Centrale | D15: 90 | E15: CARREFOUR MONTSOULT | F15: =IF(Tableau1[[#This Row],[Nbre de colis]]<18,0,1) -> 1
... A139: 3 761 | B139: 42429 | C139: Centrale | D139: 50 | E139: SOCAMIL STEF SURGELE EURO CENTRE | F139: =IF(Tableau1[[#This Row],[Nbre de colis]]<18,0,1) -> 1

Sheet Calculs
A1: CALCULS
A3: Nbre commandes | B3: Mois
A4: Commercial | B4: janv | C4: févr | D4: mars | E4: avr | F4: mai | G4: juin | H4: juil | I4: août | J4: sept | K4: oct | L4: nov | M4: déc | N4: Total général
A5: Cédric MIRAVET | B5: 18 | C5: 10 | D5: 7 | N5: 35
A6: Centrale | B6: 17 | C6: 15 | D6: 6 | N6: 38
A7: Coralie DENJEAN | B7: 1 | C7: 2 | D7: 1 | N7: 4
A8: Daniel KARSZTUN | B8: 11 | C8: 12 | D8: 11 | N8: 34
A9: Jean-Marie TEISSEIRE | B9: 12 | C9: 10 | D9: 3 | N9: 25
A10: Total général | B10: 59 | C10: 49 | D10: 28 | N10: 136
A13: Somme de colis | B13: Mois
A14: Commercial | B14: janv | C14: févr | D14: mars | E14: avr | F14: mai | G14: juin | H14: juil | I14: août | J14: sept | K14: oct | L14: nov | M14: déc | N14: Total général
A15: Cédric MIRAVET | B15: 280 | C15: 158 | D15: 125 | N15: 563
A16: Centrale | B16: 1016 | C16: 668 | D16: 363 | N16: 2047
A17: Coralie DENJEAN | B17: 16 | C17: 29 | D17: 15 | N17: 60
A18: Daniel KARSZTUN | B18: 254 | C18: 242 | D18: 280 | N18: 776
A19: Jean-Marie TEISSEIRE | B19: 312 | C19: 216 | D19: 56 | N19: 584
A20: Total général | B20: 1878 | C20: 1313 | D20: 839 | N20: 4030
A23: Commandes > 18 colis | B23: Mois
A24: Commercial | B24: janv | C24: févr | D24: mars | E24: avr | F24: mai | G24: juin | H24: juil | I24: août | J24: sept | K24: oct | L24: nov | M24: déc | N24: Total général
A25: Cédric MIRAVET | B25: 6 | C25: 2 | D25: 3 | N25: 11
A26: Centrale | B26: 14 | C26: 14 | D26: 6 | N26: 34
A27: Coralie DENJEAN | B27: 0 | C27: 0 | D27: 0 | N27: 0
A28: Daniel KARSZTUN | B28: 7 | C28: 5 | D28: 10 | N28: 22
A29: Jean-Marie TEISSEIRE | B29: 9 | C29: 6 | D29: 2 | N29: 17
A30: Total général | B30: 36 | C30: 27 | D30: 21 | N30: 84

Sheet Synthèse générale
F1: SYNTHESE GENERALE
A3: Mois | B3: NB cmdes | C3: <= mini | D3: > mini | F3: Mois | G3: NB cmdes | H3: <= mini | I3: > mini
A4: Janvier | B4: {=TRANSPOSE(Calculs!B10:N10)} -> 59 | C4: =B4-D4 -> 23 | D4: {=TRANSPOSE(Calculs!B30:N30)} -> 36 | F4: 1 | G4: =IF(B4=0,NA(),B4) -> 59 | H4: =IF(C4=0,NA(),C4) -> 23 | I4: =IF(D4=0,NA(),D4) -> 36
A5: Février | B5: 49 | C5: =B5-D5 -> 22 | D5: 27 | F5: 2 | G5: =IF(B5=0,NA(),B5) -> 49 | H5: =IF(C5=0,NA(),C5) -> 22 | I5: =IF(D5=0,NA(),D5) -> 27
A6: Mars | B6: 28 | C6: =B6-D6 -> 7 | D6: 21 | F6: 3 | G6: =IF(B6=0,NA(),B6) -> 28 | H6: =IF(C6=0,NA(),C6) -> 7 | I6: =IF(D6=0,NA(),D6) -> 21
A7: Avril | B7: 0 | C7: =B7-D7 -> 0 | D7: 0 | F7: 4 | G7: =IF(B7=0,NA(),B7) -> #N/A | H7: =IF(C7=0,NA(),C7) -> #N/A | I7: =IF(D7=0,NA(),D7) -> #N/A
A8: Mai | B8: 0 | C8: =B8-D8 -> 0 | D8: 0 | F8: 5 | G8: =IF(B8=0,NA(),B8) -> #N/A | H8: =IF(C8=0,NA(),C8) -> #N/A | I8: =IF(D8=0,NA(),D8) -> #N/A
A9: Juin | B9: 0 | C9: =B9-D9 -> 0 | D9: 0 | F9: 6 | G9: =IF(B9=0,NA(),B9) -> #N/A | H9: =IF(C9=0,NA(),C9) -> #N/A | I9: =IF(D9=0,NA(),D9) -> #N/A
A10: Juillet | B10: 0 | C10: =B10-D10 -> 0 | D10: 0 | F10: 7 | G10: =IF(B10=0,NA(),B10) -> #N/A | H10: =IF(C10=0,NA(),C10) -> #N/A | I10: =IF(D10=0,NA(),D10) -> #N/A
A11: Août | B11: 0 | C11: =B11-D11 -> 0 | D11: 0 | F11: 8 | G11: =IF(B11=0,NA(),B11) -> #N/A | H11: =IF(C11=0,NA(),C11) -> #N/A | I11: =IF(D11=0,NA(),D11) -> #N/A
A12: Septembre | B12: 0 | C12: =B12-D12 -> 0 | D12: 0 | F12: 9 | G12: =IF(B12=0,NA(),B12) -> #N/A | H12: =IF(C12=0,NA(),C12) -> #N/A | I12: =IF(D12=0,NA(),D12) -> #N/A
A13: Octobre | B13: 0 | C13: =B13-D13 -> 0 | D13: 0 | F13: 10 | G13: =IF(B13=0,NA(),B13) -> #N/A | H13: =IF(C13=0,NA(),C13) -> #N/A | I13: =IF(D13=0,NA(),D13) -> #N/A
A14: Novembre | B14: 0 | C14: =B14-D14 -> 0 | D14: 0 | F14: 11 | G14: =IF(B14=0,NA(),B14) -> #N/A | H14: =IF(C14=0,NA(),C14) -> #N/A | I14: =IF(D14=0,NA(),D14) -> #N/A
A15: Décembre | B15: 0 | C15: =B15-D15 -> 0 | D15: 0 | F15: 12 | G15: =IF(B15=0,NA(),B15) -> #N/A | H15: =IF(C15=0,NA(),C15) -> #N/A | I15: =IF(D15=0,NA(),D15) -> #N/A
A16: Total | B16: 136 | C16: =B16-D16 -> 52 | D16: 84

Sheet Synthèse commerciaux
A1: SYNTHESE COMMERCIAUX
A3: Commercial | B3: NB cmdes | C3: <= mini | D3: > mini
A4: =Calculs!A5 -> Cédric MIRAVET | B4: =GETPIVOTDATA("N° de Commande",Calculs!$A$3,"Commercial","Cédric MIRAVET") -> 35 | C4: =B4-D4 -> 24 | D4: =GETPIVOTDATA("Critère",Calculs!$A$23,"Commercial","Cédric MIRAVET") -> 11
A5: =Calculs!A7 -> Coralie DENJEAN | B5: =GETPIVOTDATA("N° de Commande",Calculs!$A$3,"Commercial","Coralie DENJEAN") -> 4 | C5: =B5-D5 -> 4 | D5: =GETPIVOTDATA("Critère",Calculs!$A$23,"Commercial","Coralie DENJEAN") -> 0
A6: =Calculs!A8 -> Daniel KARSZTUN | B6: =GETPIVOTDATA("N° de Commande",Calculs!$A$3,"Commercial","Daniel KARSZTUN") -> 34 | C6: =B6-D6 -> 12 | D6: =GETPIVOTDATA("Critère",Calculs!$A$23,"Commercial","Daniel KARSZTUN") -> 22
A7: =Calculs!A9 -> Jean-Marie TEISSEIRE | B7: =GETPIVOTDATA("N° de Commande",Calculs!$A$3,"Commercial","Jean-Marie TEISSEIRE") -> 25 | C7: =B7-D7 -> 8 | D7: =GETPIVOTDATA("Critère",Calculs!$A$23,"Commercial","Jean-Marie TEISSEIRE") -> 17
A8: Total | B8: =SUBTOTAL(109,Tableau4[NB cmdes]) -> 98 | C8: =SUBTOTAL(109,Tableau4[<= mini]) -> 48 | D8: =SUBTOTAL(109,Tableau4[> mini]) -> 50
