Workbook
Name Fériés: Fériés!$A$2:$A$14

Sheet Fériés
A1: 2015
A2: =DATE($A$1,1,1) -> 42005 | B2: Jour de l'an
A3: =DATE($A$1,IF((25-MOD((11*MOD($A$1-1900,19)+4-INT((7*MOD($A$1-1900,19)+1)/19)),29)-MOD($A$1-1900+INT(($A$1-1900)/4)+31-MOD((11*MOD($A$1-1900,19)+4-INT((7*MOD($A$1-1900,19)+1)/19)),29),7))>0,4,3),IF((25-MOD((11*MOD($A$1-1900,19)+4-INT((7*MOD($A$1-1900,19)+1)/19)),29)-MOD($A$1-1900+INT(($A$1-1900)/4)+31-MOD((11*MOD($A$1-1900,19)+4-INT((7*MOD($A$1-1900,19)+1)/19)),29),7))>0,(25-MOD((11*MOD($A$1-1900,19)+4-INT((7*MOD($A$1-1900,19)+1)/19)),29)-MOD($A$1-1900+INT(($A$1-1900)/4)+31-MOD((11*MOD($A$1-1900,19)+4-INT((7*MOD($A$1-1900,19)+1)/19)),29),7)),31+(25-MOD((11*MOD($A$1-1900,19)+4-INT((7*MOD($A$1-1900,19)+1)/19)),29)-MOD($A$1-1900+INT(($A$1-1900)/4)+31-MOD((11*MOD($A$1-1900,19)+4-INT((7*MOD($A$1-1900,19)+1)/19)),29),7)))) -> 42099 | B3: Pâques
A4: =A3+1 -> 42100 | B4: Lun de P
A5: =DATE($A$1,5,1) -> 42125 | B5: Fête du travail
A6: =DATE($A$1,5,8) -> 42132 | B6: Victoire1945
A7: =DATE($A$1,IF((25-MOD((11*MOD($A$1-1900,19)+4-INT((7*MOD($A$1-1900,19)+1)/19)),29)-MOD($A$1-1900+INT(($A$1-1900)/4)+31-MOD((11*MOD($A$1-1900,19)+4-INT((7*MOD($A$1-1900,19)+1)/19)),29),7))>0,4,3),IF((25-MOD((11*MOD($A$1-1900,19)+4-INT((7*MOD($A$1-1900,19)+1)/19)),29)-MOD($A$1-1900+INT(($A$1-1900)/4)+31-MOD((11*MOD($A$1-1900,19)+4-INT((7*MOD($A$1-1900,19)+1)/19)),29),7))>0,(25-MOD((11*MOD($A$1-1900,19)+4-INT((7*MOD($A$1-1900,19)+1)/19)),29)-MOD($A$1-1900+INT(($A$1-1900)/4)+31-MOD((11*MOD($A$1-1900,19)+4-INT((7*MOD($A$1-1900,19)+1)/19)),29),7)),31+(25-MOD((11*MOD($A$1-1900,19)+4-INT((7*MOD($A$1-1900,19)+1)/19)),29)-MOD($A$1-1900+INT(($A$1-1900)/4)+31-MOD((11*MOD($A$1-1900,19)+4-INT((7*MOD($A$1-1900,19)+1)/19)),29),7))))+39 -> 42138 | B7: Ascension
A8: =DATE($A$1,IF((25-MOD((11*MOD($A$1-1900,19)+4-INT((7*MOD($A$1-1900,19)+1)/19)),29)-MOD($A$1-1900+INT(($A$1-1900)/4)+31-MOD((11*MOD($A$1-1900,19)+4-INT((7*MOD($A$1-1900,19)+1)/19)),29),7))>0,4,3),IF((25-MOD((11*MOD($A$1-1900,19)+4-INT((7*MOD($A$1-1900,19)+1)/19)),29)-MOD($A$1-1900+INT(($A$1-1900)/4)+31-MOD((11*MOD($A$1-1900,19)+4-INT((7*MOD($A$1-1900,19)+1)/19)),29),7))>0,(25-MOD((11*MOD($A$1-1900,19)+4-INT((7*MOD($A$1-1900,19)+1)/19)),29)-MOD($A$1-1900+INT(($A$1-1900)/4)+31-MOD((11*MOD($A$1-1900,19)+4-INT((7*MOD($A$1-1900,19)+1)/19)),29),7)),31+(25-MOD((11*MOD($A$1-1900,19)+4-INT((7*MOD($A$1-1900,19)+1)/19)),29)-MOD($A$1-1900+INT(($A$1-1900)/4)+31-MOD((11*MOD($A$1-1900,19)+4-INT((7*MOD($A$1-1900,19)+1)/19)),29),7))))+49 -> 42148 | B8: Pentecôte
A9: =A8+1 -> 42149 | B9: Lun de P
A10: =DATE($A$1,7,14) -> 42199 | B10: Fêt. Nat.
A11: =DATE($A$1,8,15) -> 42231 | B11: Assomption
A12: =DATE($A$1,11,1) -> 42309 | B12: Toussaint
A13: =DATE($A$1,11,11) -> 42319 | B13: Armistice
A14: =DATE($A$1,12,25) -> 42363 | B14: Noël

Sheet janvier
K1: Gouter | L1: 0.66666667 | N1: Repas | O1: 0.51041667
A2: 42005 | C2: FICHE DE PRESENCE
A3: NOM PRENOM :
A4: DATE | B4: MATIN | D4: MIDI | F4: SOIR | H4: TOTAL HEURE/JOUR | I4: HEURES COMPL. | J4: REPAS | K4: GOUTER | L4: INDEMNITE D'ENTRETIEN
B5: Arrivée | C5: Départ | D5: Arrivée | E5: Départ | F5: Arrivée | G5: Départ
A6: =A2 -> 42005 | H6: =(G6-F6)+(E6-D6)+(C6-B6) -> 0 | J6: =IF(OR(AND(B6<=$O$1,C6>$O$1),AND(D6<=$O$1,E6>$O$1),AND(F6<=$O$1,G6>$O$1)),$B$40,"") | K6: =IF(OR(AND(B6<=$L$1,C6>$L$1),AND(D6<=$L$1,E6>$L$1),AND(F6<=$L$1,G6>$L$1)),$B$41,"") | L6: =IF(OR(IF(B6,3,0),IF(D6,3,0),IF(F6,3,0)),3,0) -> 0 | M6: =IFERROR(VLOOKUP($A6,Fériés,1,0),0) -> 42005
A7: =IF($A$2="","",$A$2+1) -> 42006 | B7: 0.33333333 | C7: 0.5 | D7: 0.5 | E7: 0.54166667 | F7: 0.54166667 | G7: 0.70833333 | H7: =(G7-F7)+(E7-D7)+(C7-B7) -> 0.375 | J7: =IF(OR(AND(B7<=$O$1,C7>$O$1),AND(D7<=$O$1,E7>$O$1),AND(F7<=$O$1,G7>$O$1)),$B$40,"") -> 0 | K7: =IF(OR(AND(B7<=$L$1,C7>$L$1),AND(D7<=$L$1,E7>$L$1),AND(F7<=$L$1,G7>$L$1)),$B$41,"") -> 0 | L7: =IF(OR(IF( B7,3,0),IF(D7,3,0),IF(F7,3,0)),3,0) -> 3
A8: =IF($A$2="","",$A$2+2) -> 42007 | B8: 0.33333333 | C8: 0.5 | H8: =(G8-F8)+(E8-D8)+(C8-B8) -> 0.16666667 | J8: =IF(OR(AND(B8<=$O$1,C8>$O$1),AND(D8<=$O$1,E8>$O$1),AND(F8<=$O$1,G8>$O$1)),$B$40,"") | K8: =IF(OR(AND(B8<=$L$1,C8>$L$1),AND(D8<=$L$1,E8>$L$1),AND(F8<=$L$1,G8>$L$1)),$B$41,"") | L8: =IF(OR(IF( B8,3,0),IF(D8,3,0),IF(F8,3,0)),3,0) -> 3
A9: =IF($A$2="","",$A$2+3) -> 42008 | B9: 0.375 | C9: 0.47916667 | F9: 0.5 | G9: 0.75 | H9: =(G9-F9)+(E9-D9)+(C9-B9) -> 0.35416667 | J9: =IF(OR(AND(B9<=$O$1,C9>$O$1),AND(D9<=$O$1,E9>$O$1),AND(F9<=$O$1,G9>$O$1)),$B$40,"") -> 0 | K9: =IF(OR(AND(B9<=$L$1,C9>$L$1),AND(D9<=$L$1,E9>$L$1),AND(F9<=$L$1,G9>$L$1)),$B$41,"") -> 0 | L9: =IF(OR(IF( B9,3,0),IF(D9,3,0),IF(F9,3,0)),3,0) -> 3
A10: =IF($A$2="","",$A$2+4) -> 42009 | H10: =(G10-F10)+(E10-D10)+(C10-B10) -> 0 | J10: =IF(OR(AND(B10<=$O$1,C10>$O$1),AND(D10<=$O$1,E10>$O$1),AND(F10<=$O$1,G10>$O$1)),$B$40,"") | K10: =IF(OR(AND(B10<=$L$1,C10>$L$1),AND(D10<=$L$1,E10>$L$1),AND(F10<=$L$1,G10>$L$1)),$B$41,"") | L10: =IF(OR(IF( B10,3,0),IF(D10,3,0),IF(F10,3,0)),3,0) -> 0
A11: =IF($A$2="","",$A$2+5) -> 42010 | H11: =(G11-F11)+(E11-D11)+(C11-B11) -> 0 | J11: =IF(OR(AND(B11<=$O$1,C11>$O$1),AND(D11<=$O$1,E11>$O$1),AND(F11<=$O$1,G11>$O$1)),$B$40,"") | K11: =IF(OR(AND(B11<=$L$1,C11>$L$1),AND(D11<=$L$1,E11>$L$1),AND(F11<=$L$1,G11>$L$1)),$B$41,"") | L11: =IF(OR(IF( B11,3,0),IF(D11,3,0),IF(F11,3,0)),3,0) -> 0
A12: =IF($A$2="","",$A$2+6) -> 42011 | H12: =(G12-F12)+(E12-D12)+(C12-B12) -> 0 | J12: =IF(OR(AND(B12<=$O$1,C12>$O$1),AND(D12<=$O$1,E12>$O$1),AND(F12<=$O$1,G12>$O$1)),$B$40,"") | K12: =IF(OR(AND(B12<=$L$1,C12>$L$1),AND(D12<=$L$1,E12>$L$1),AND(F12<=$L$1,G12>$L$1)),$B$41,"") | L12: =IF(OR(IF( B12,3,0),IF(D12,3,0),IF(F12,3,0)),3,0) -> 0
A13: =IF($A$2="","",$A$2+7) -> 42012 | H13: =(G13-F13)+(E13-D13)+(C13-B13) -> 0 | J13: =IF(OR(AND(B13<=$O$1,C13>$O$1),AND(D13<=$O$1,E13>$O$1),AND(F13<=$O$1,G13>$O$1)),$B$40,"") | K13: =IF(OR(AND(B13<=$L$1,C13>$L$1),AND(D13<=$L$1,E13>$L$1),AND(F13<=$L$1,G13>$L$1)),$B$41,"") | L13: =IF(OR(IF( B13,3,0),IF(D13,3,0),IF(F13,3,0)),3,0) -> 0
A14: =IF($A$2="","",$A$2+8) -> 42013 | H14: =(G14-F14)+(E14-D14)+(C14-B14) -> 0 | J14: =IF(OR(AND(B14<=$O$1,C14>$O$1),AND(D14<=$O$1,E14>$O$1),AND(F14<=$O$1,G14>$O$1)),$B$40,"") | K14: =IF(OR(AND(B14<=$L$1,C14>$L$1),AND(D14<=$L$1,E14>$L$1),AND(F14<=$L$1,G14>$L$1)),$B$41,"") | L14: =IF(OR(IF( B14,3,0),IF(D14,3,0),IF(F14,3,0)),3,0) -> 0
A15: =IF($A$2="","",$A$2+9) -> 42014 | H15: =(G15-F15)+(E15-D15)+(C15-B15) -> 0 | J15: =IF(OR(AND(B15<=$O$1,C15>$O$1),AND(D15<=$O$1,E15>$O$1),AND(F15<=$O$1,G15>$O$1)),$B$40,"") | K15: =IF(OR(AND(B15<=$L$1,C15>$L$1),AND(D15<=$L$1,E15>$L$1),AND(F15<=$L$1,G15>$L$1)),$B$41,"") | L15: =IF(OR(IF( B15,3,0),IF(D15,3,0),IF(F15,3,0)),3,0) -> 0
A16: =IF($A$2="","",$A$2+10) -> 42015 | H16: =(G16-F16)+(E16-D16)+(C16-B16) -> 0 | J16: =IF(OR(AND(B16<=$O$1,C16>$O$1),AND(D16<=$O$1,E16>$O$1),AND(F16<=$O$1,G16>$O$1)),$B$40,"") | K16: =IF(OR(AND(B16<=$L$1,C16>$L$1),AND(D16<=$L$1,E16>$L$1),AND(F16<=$L$1,G16>$L$1)),$B$41,"") | L16: =IF(OR(IF( B16,3,0),IF(D16,3,0),IF(F16,3,0)),3,0) -> 0
A17: =IF($A$2="","",$A$2+11) -> 42016 | H17: =(G17-F17)+(E17-D17)+(C17-B17) -> 0 | J17: =IF(OR(AND(B17<=$O$1,C17>$O$1),AND(D17<=$O$1,E17>$O$1),AND(F17<=$O$1,G17>$O$1)),$B$40,"") | K17: =IF(OR(AND(B17<=$L$1,C17>$L$1),AND(D17<=$L$1,E17>$L$1),AND(F17<=$L$1,G17>$L$1)),$B$41,"") | L17: =IF(OR(IF( B17,3,0),IF(D17,3,0),IF(F17,3,0)),3,0) -> 0
A18: =IF($A$2="","",$A$2+12) -> 42017 | H18: =(G18-F18)+(E18-D18)+(C18-B18) -> 0 | J18: =IF(OR(AND(B18<=$O$1,C18>$O$1),AND(D18<=$O$1,E18>$O$1),AND(F18<=$O$1,G18>$O$1)),$B$40,"") | K18: =IF(OR(AND(B18<=$L$1,C18>$L$1),AND(D18<=$L$1,E18>$L$1),AND(F18<=$L$1,G18>$L$1)),$B$41,"") | L18: =IF(OR(IF( B18,3,0),IF(D18,3,0),IF(F18,3,0)),3,0) -> 0
A19: =IF($A$2="","",$A$2+13) -> 42018 | H19: =(G19-F19)+(E19-D19)+(C19-B19) -> 0 | J19: =IF(OR(AND(B19<=$O$1,C19>$O$1),AND(D19<=$O$1,E19>$O$1),AND(F19<=$O$1,G19>$O$1)),$B$40,"") | K19: =IF(OR(AND(B19<=$L$1,C19>$L$1),AND(D19<=$L$1,E19>$L$1),AND(F19<=$L$1,G19>$L$1)),$B$41,"") | L19: =IF(OR(IF( B19,3,0),IF(D19,3,0),IF(F19,3,0)),3,0) -> 0
A20: =IF($A$2="","",$A$2+14) -> 42019 | H20: =(G20-F20)+(E20-D20)+(C20-B20) -> 0 | J20: =IF(OR(AND(B20<=$O$1,C20>$O$1),AND(D20<=$O$1,E20>$O$1),AND(F20<=$O$1,G20>$O$1)),$B$40,"") | K20: =IF(OR(AND(B20<=$L$1,C20>$L$1),AND(D20<=$L$1,E20>$L$1),AND(F20<=$L$1,G20>$L$1)),$B$41,"") | L20: =IF(OR(IF( B20,3,0),IF(D20,3,0),IF(F20,3,0)),3,0) -> 0
A21: =IF($A$2="","",$A$2+15) -> 42020 | H21: =(G21-F21)+(E21-D21)+(C21-B21) -> 0 | J21: =IF(OR(AND(B21<=$O$1,C21>$O$1),AND(D21<=$O$1,E21>$O$1),AND(F21<=$O$1,G21>$O$1)),$B$40,"") | K21: =IF(OR(AND(B21<=$L$1,C21>$L$1),AND(D21<=$L$1,E21>$L$1),AND(F21<=$L$1,G21>$L$1)),$B$41,"") | L21: =IF(OR(IF( B21,3,0),IF(D21,3,0),IF(F21,3,0)),3,0) -> 0
A22: =IF($A$2="","",$A$2+16) -> 42021 | H22: =(G22-F22)+(E22-D22)+(C22-B22) -> 0 | J22: =IF(OR(AND(B22<=$O$1,C22>$O$1),AND(D22<=$O$1,E22>$O$1),AND(F22<=$O$1,G22>$O$1)),$B$40,"") | K22: =IF(OR(AND(B22<=$L$1,C22>$L$1),AND(D22<=$L$1,E22>$L$1),AND(F22<=$L$1,G22>$L$1)),$B$41,"") | L22: =IF(OR(IF( B22,3,0),IF(D22,3,0),IF(F22,3,0)),3,0) -> 0
A23: =IF($A$2="","",$A$2+17) -> 42022 | H23: =(G23-F23)+(E23-D23)+(C23-B23) -> 0 | J23: =IF(OR(AND(B23<=$O$1,C23>$O$1),AND(D23<=$O$1,E23>$O$1),AND(F23<=$O$1,G23>$O$1)),$B$40,"") | K23: =IF(OR(AND(B23<=$L$1,C23>$L$1),AND(D23<=$L$1,E23>$L$1),AND(F23<=$L$1,G23>$L$1)),$B$41,"") | L23: =IF(OR(IF( B23,3,0),IF(D23,3,0),IF(F23,3,0)),3,0) -> 0
A24: =IF($A$2="","",$A$2+18) -> 42023 | H24: =(G24-F24)+(E24-D24)+(C24-B24) -> 0 | J24: =IF(OR(AND(B24<=$O$1,C24>$O$1),AND(D24<=$O$1,E24>$O$1),AND(F24<=$O$1,G24>$O$1)),$B$40,"") | K24: =IF(OR(AND(B24<=$L$1,C24>$L$1),AND(D24<=$L$1,E24>$L$1),AND(F24<=$L$1,G24>$L$1)),$B$41,"") | L24: =IF(OR(IF( B24,3,0),IF(D24,3,0),IF(F24,3,0)),3,0) -> 0
A25: =IF($A$2="","",$A$2+19) -> 42024 | H25: =(G25-F25)+(E25-D25)+(C25-B25) -> 0 | J25: =IF(OR(AND(B25<=$O$1,C25>$O$1),AND(D25<=$O$1,E25>$O$1),AND(F25<=$O$1,G25>$O$1)),$B$40,"") | K25: =IF(OR(AND(B25<=$L$1,C25>$L$1),AND(D25<=$L$1,E25>$L$1),AND(F25<=$L$1,G25>$L$1)),$B$41,"") | L25: =IF(OR(IF( B25,3,0),IF(D25,3,0),IF(F25,3,0)),3,0) -> 0
A26: =IF($A$2="","",$A$2+20) -> 42025 | H26: =(G26-F26)+(E26-D26)+(C26-B26) -> 0 | J26: =IF(OR(AND(B26<=$O$1,C26>$O$1),AND(D26<=$O$1,E26>$O$1),AND(F26<=$O$1,G26>$O$1)),$B$40,"") | K26: =IF(OR(AND(B26<=$L$1,C26>$L$1),AND(D26<=$L$1,E26>$L$1),AND(F26<=$L$1,G26>$L$1)),$B$41,"") | L26: =IF(OR(IF( B26,3,0),IF(D26,3,0),IF(F26,3,0)),3,0) -> 0
A27: =IF($A$2="","",$A$2+21) -> 42026 | H27: =(G27-F27)+(E27-D27)+(C27-B27) -> 0 | J27: =IF(OR(AND(B27<=$O$1,C27>$O$1),AND(D27<=$O$1,E27>$O$1),AND(F27<=$O$1,G27>$O$1)),$B$40,"") | K27: =IF(OR(AND(B27<=$L$1,C27>$L$1),AND(D27<=$L$1,E27>$L$1),AND(F27<=$L$1,G27>$L$1)),$B$41,"") | L27: =IF(OR(IF( B27,3,0),IF(D27,3,0),IF(F27,3,0)),3,0) -> 0
A28: =IF($A$2="","",$A$2+22) -> 42027 | H28: =(G28-F28)+(E28-D28)+(C28-B28) -> 0 | J28: =IF(OR(AND(B28<=$O$1,C28>$O$1),AND(D28<=$O$1,E28>$O$1),AND(F28<=$O$1,G28>$O$1)),$B$40,"") | K28: =IF(OR(AND(B28<=$L$1,C28>$L$1),AND(D28<=$L$1,E28>$L$1),AND(F28<=$L$1,G28>$L$1)),$B$41,"") | L28: =IF(OR(IF( B28,3,0),IF(D28,3,0),IF(F28,3,0)),3,0) -> 0
A29: =IF($A$2="","",$A$2+23) -> 42028 | H29: =(G29-F29)+(E29-D29)+(C29-B29) -> 0 | J29: =IF(OR(AND(B29<=$O$1,C29>$O$1),AND(D29<=$O$1,E29>$O$1),AND(F29<=$O$1,G29>$O$1)),$B$40,"") | K29: =IF(OR(AND(B29<=$L$1,C29>$L$1),AND(D29<=$L$1,E29>$L$1),AND(F29<=$L$1,G29>$L$1)),$B$41,"") | L29: =IF(OR(IF( B29,3,0),IF(D29,3,0),IF(F29,3,0)),3,0) -> 0
A30: =IF($A$2="","",$A$2+24) -> 42029 | H30: =(G30-F30)+(E30-D30)+(C30-B30) -> 0 | J30: =IF(OR(AND(B30<=$O$1,C30>$O$1),AND(D30<=$O$1,E30>$O$1),AND(F30<=$O$1,G30>$O$1)),$B$40,"") | K30: =IF(OR(AND(B30<=$L$1,C30>$L$1),AND(D30<=$L$1,E30>$L$1),AND(F30<=$L$1,G30>$L$1)),$B$41,"") | L30: =IF(OR(IF( B30,3,0),IF(D30,3,0),IF(F30,3,0)),3,0) -> 0
A31: =IF($A$2="","",$A$2+25) -> 42030 | H31: =(G31-F31)+(E31-D31)+(C31-B31) -> 0 | J31: =IF(OR(AND(B31<=$O$1,C31>$O$1),AND(D31<=$O$1,E31>$O$1),AND(F31<=$O$1,G31>$O$1)),$B$40,"") | K31: =IF(OR(AND(B31<=$L$1,C31>$L$1),AND(D31<=$L$1,E31>$L$1),AND(F31<=$L$1,G31>$L$1)),$B$41,"") | L31: =IF(OR(IF( B31,3,0),IF(D31,3,0),IF(F31,3,0)),3,0) -> 0
A32: =IF($A$2="","",$A$2+26) -> 42031 | H32: =(G32-F32)+(E32-D32)+(C32-B32) -> 0 | J32: =IF(OR(AND(B32<=$O$1,C32>$O$1),AND(D32<=$O$1,E32>$O$1),AND(F32<=$O$1,G32>$O$1)),$B$40,"") | K32: =IF(OR(AND(B32<=$L$1,C32>$L$1),AND(D32<=$L$1,E32>$L$1),AND(F32<=$L$1,G32>$L$1)),$B$41,"") | L32: =IF(OR(IF( B32,3,0),IF(D32,3,0),IF(F32,3,0)),3,0) -> 0
A33: =IF($A$2="","",$A$2+27) -> 42032 | H33: =(G33-F33)+(E33-D33)+(C33-B33) -> 0 | J33: =IF(OR(AND(B33<=$O$1,C33>$O$1),AND(D33<=$O$1,E33>$O$1),AND(F33<=$O$1,G33>$O$1)),$B$40,"") | K33: =IF(OR(AND(B33<=$L$1,C33>$L$1),AND(D33<=$L$1,E33>$L$1),AND(F33<=$L$1,G33>$L$1)),$B$41,"") | L33: =IF(OR(IF( B33,3,0),IF(D33,3,0),IF(F33,3,0)),3,0) -> 0
A34: =IF($A$2="","",$A$2+28) -> 42033 | H34: =(G34-F34)+(E34-D34)+(C34-B34) -> 0 | J34: =IF(OR(AND(B34<=$O$1,C34>$O$1),AND(D34<=$O$1,E34>$O$1),AND(F34<=$O$1,G34>$O$1)),$B$40,"") | K34: =IF(OR(AND(B34<=$L$1,C34>$L$1),AND(D34<=$L$1,E34>$L$1),AND(F34<=$L$1,G34>$L$1)),$B$41,"") | L34: =IF(OR(IF( B34,3,0),IF(D34,3,0),IF(F34,3,0)),3,0) -> 0
A35: =IF($A$2="","",$A$2+29) -> 42034 | H35: =(G35-F35)+(E35-D35)+(C35-B35) -> 0 | J35: =IF(OR(AND(B35<=$O$1,C35>$O$1),AND(D35<=$O$1,E35>$O$1),AND(F35<=$O$1,G35>$O$1)),$B$40,"") | K35: =IF(OR(AND(B35<=$L$1,C35>$L$1),AND(D35<=$L$1,E35>$L$1),AND(F35<=$L$1,G35>$L$1)),$B$41,"") | L35: =IF(OR(IF( B35,3,0),IF(D35,3,0),IF(F35,3,0)),3,0) -> 0
A36: =IF($A$2="","",$A$2+30) -> 42035 | H36: =(G36-F36)+(E36-D36)+(C36-B36) -> 0 | J36: =IF(OR(AND(B36<=$O$1,C36>$O$1),AND(D36<=$O$1,E36>$O$1),AND(F36<=$O$1,G36>$O$1)),$B$40,"") | K36: =IF(OR(AND(B36<=$L$1,C36>$L$1),AND(D36<=$L$1,E36>$L$1),AND(F36<=$L$1,G36>$L$1)),$B$41,"") | L36: =IF(OR(IF( B36,3,0),IF(D36,3,0),IF(F36,3,0)),3,0) -> 0
A37: TOTAUX | H37: =SUM(H6:H36)*24 -> 21.5 | I37: =SUM(I6:I36)*24 -> 0 | J37: =SUM(J6:J36) -> 0 | K37: =SUM(K6:K36) -> 0 | L37: =SUM(L6:L36) -> 9
A39: Entretien | C39: Salaires de base
A40: Repas | C40: Taux horaire | H40: Salaires net à payer | J40: =E39+(H37*E40)+SUM(J37:L37) -> 9
A41: Gouter
A43: Journée de+ de 8h | C43: =SUMIF($H$6:$H$36,">=08:00",$H$6:$H$36) -> 0.72916667
A44: journée de - de 8h | C44: =SUMIF($H$6:$H$36,"<08:00",$H$6:$H$36) -> 0.16666667
D45: =SUM(C43:D44)*24=H37 -> TRUE

Sheet février
K1: Gouter | L1: 0.66666667 | N1: Repas | O1: 0.51041667
A2: 42036 | C2: FICHE DE PRESENCE
A3: NOM PRENOM :
A4: DATE | B4: MATIN | D4: MIDI | F4: SOIR | H4: TOTAL HEURE/JOUR | I4: HEURES COMPL. | J4: REPAS | K4: GOUTER | L4: INDEMNITE D'ENTRETIEN
B5: Arrivée | C5: Départ | D5: Arrivée | E5: Départ | F5: Arrivée | G5: Départ
A6: =A2 -> 42036 | H6: =(G6-F6)+(E6-D6)+(C6-B6) -> 0 | J6: =IF(OR(AND(B6<=$O$1,C6>$O$1),AND(D6<=$O$1,E6>$O$1),AND(F6<=$O$1,G6>$O$1)),janvier!$B$40,"") | K6: =IF(OR(AND(B6<=$L$1,C6>$L$1),AND(D6<=$L$1,E6>$L$1),AND(F6<=$L$1,G6>$L$1)),janvier!$B$41,"") | L6: =IF(OR(IF(B6,3,0),IF(D6,3,0),IF(F6,3,0)),3,0) -> 0
A7: =IF($A$2="","",$A$2+1) -> 42037 | H7: =(G7-F7)+(E7-D7)+(C7-B7) -> 0 | J7: =IF(OR(AND(B7<=$O$1,C7>$O$1),AND(D7<=$O$1,E7>$O$1),AND(F7<=$O$1,G7>$O$1)),janvier!$B$40,"") | K7: =IF(OR(AND(B7<=$L$1,C7>$L$1),AND(D7<=$L$1,E7>$L$1),AND(F7<=$L$1,G7>$L$1)),janvier!$B$41,"") | L7: =IF(OR(IF( B7,3,0),IF(D7,3,0),IF(F7,3,0)),3,0) -> 0
A8: =IF($A$2="","",$A$2+2) -> 42038 | H8: =(G8-F8)+(E8-D8)+(C8-B8) -> 0 | J8: =IF(OR(AND(B8<=$O$1,C8>$O$1),AND(D8<=$O$1,E8>$O$1),AND(F8<=$O$1,G8>$O$1)),janvier!$B$40,"") | K8: =IF(OR(AND(B8<=$L$1,C8>$L$1),AND(D8<=$L$1,E8>$L$1),AND(F8<=$L$1,G8>$L$1)),janvier!$B$41,"") | L8: =IF(OR(IF( B8,3,0),IF(D8,3,0),IF(F8,3,0)),3,0) -> 0
A9: =IF($A$2="","",$A$2+3) -> 42039 | H9: =(G9-F9)+(E9-D9)+(C9-B9) -> 0 | J9: =IF(OR(AND(B9<=$O$1,C9>$O$1),AND(D9<=$O$1,E9>$O$1),AND(F9<=$O$1,G9>$O$1)),janvier!$B$40,"") | K9: =IF(OR(AND(B9<=$L$1,C9>$L$1),AND(D9<=$L$1,E9>$L$1),AND(F9<=$L$1,G9>$L$1)),janvier!$B$41,"") | L9: =IF(OR(IF( B9,3,0),IF(D9,3,0),IF(F9,3,0)),3,0) -> 0
A10: =IF($A$2="","",$A$2+4) -> 42040 | H10: =(G10-F10)+(E10-D10)+(C10-B10) -> 0 | J10: =IF(OR(AND(B10<=$O$1,C10>$O$1),AND(D10<=$O$1,E10>$O$1),AND(F10<=$O$1,G10>$O$1)),janvier!$B$40,"") | K10: =IF(OR(AND(B10<=$L$1,C10>$L$1),AND(D10<=$L$1,E10>$L$1),AND(F10<=$L$1,G10>$L$1)),janvier!$B$41,"") | L10: =IF(OR(IF( B10,3,0),IF(D10,3,0),IF(F10,3,0)),3,0) -> 0
A11: =IF($A$2="","",$A$2+5) -> 42041 | H11: =(G11-F11)+(E11-D11)+(C11-B11) -> 0 | J11: =IF(OR(AND(B11<=$O$1,C11>$O$1),AND(D11<=$O$1,E11>$O$1),AND(F11<=$O$1,G11>$O$1)),janvier!$B$40,"") | K11: =IF(OR(AND(B11<=$L$1,C11>$L$1),AND(D11<=$L$1,E11>$L$1),AND(F11<=$L$1,G11>$L$1)),janvier!$B$41,"") | L11: =IF(OR(IF( B11,3,0),IF(D11,3,0),IF(F11,3,0)),3,0) -> 0
A12: =IF($A$2="","",$A$2+6) -> 42042 | H12: =(G12-F12)+(E12-D12)+(C12-B12) -> 0 | J12: =IF(OR(AND(B12<=$O$1,C12>$O$1),AND(D12<=$O$1,E12>$O$1),AND(F12<=$O$1,G12>$O$1)),janvier!$B$40,"") | K12: =IF(OR(AND(B12<=$L$1,C12>$L$1),AND(D12<=$L$1,E12>$L$1),AND(F12<=$L$1,G12>$L$1)),janvier!$B$41,"") | L12: =IF(OR(IF( B12,3,0),IF(D12,3,0),IF(F12,3,0)),3,0) -> 0
A13: =IF($A$2="","",$A$2+7) -> 42043 | H13: =(G13-F13)+(E13-D13)+(C13-B13) -> 0 | J13: =IF(OR(AND(B13<=$O$1,C13>$O$1),AND(D13<=$O$1,E13>$O$1),AND(F13<=$O$1,G13>$O$1)),janvier!$B$40,"") | K13: =IF(OR(AND(B13<=$L$1,C13>$L$1),AND(D13<=$L$1,E13>$L$1),AND(F13<=$L$1,G13>$L$1)),janvier!$B$41,"") | L13: =IF(OR(IF( B13,3,0),IF(D13,3,0),IF(F13,3,0)),3,0) -> 0
A14: =IF($A$2="","",$A$2+8) -> 42044 | H14: =(G14-F14)+(E14-D14)+(C14-B14) -> 0 | J14: =IF(OR(AND(B14<=$O$1,C14>$O$1),AND(D14<=$O$1,E14>$O$1),AND(F14<=$O$1,G14>$O$1)),janvier!$B$40,"") | K14: =IF(OR(AND(B14<=$L$1,C14>$L$1),AND(D14<=$L$1,E14>$L$1),AND(F14<=$L$1,G14>$L$1)),janvier!$B$41,"") | L14: =IF(OR(IF( B14,3,0),IF(D14,3,0),IF(F14,3,0)),3,0) -> 0
A15: =IF($A$2="","",$A$2+9) -> 42045 | H15: =(G15-F15)+(E15-D15)+(C15-B15) -> 0 | J15: =IF(OR(AND(B15<=$O$1,C15>$O$1),AND(D15<=$O$1,E15>$O$1),AND(F15<=$O$1,G15>$O$1)),janvier!$B$40,"") | K15: =IF(OR(AND(B15<=$L$1,C15>$L$1),AND(D15<=$L$1,E15>$L$1),AND(F15<=$L$1,G15>$L$1)),janvier!$B$41,"") | L15: =IF(OR(IF( B15,3,0),IF(D15,3,0),IF(F15,3,0)),3,0) -> 0
A16: =IF($A$2="","",$A$2+10) -> 42046 | H16: =(G16-F16)+(E16-D16)+(C16-B16) -> 0 | J16: =IF(OR(AND(B16<=$O$1,C16>$O$1),AND(D16<=$O$1,E16>$O$1),AND(F16<=$O$1,G16>$O$1)),janvier!$B$40,"") | K16: =IF(OR(AND(B16<=$L$1,C16>$L$1),AND(D16<=$L$1,E16>$L$1),AND(F16<=$L$1,G16>$L$1)),janvier!$B$41,"") | L16: =IF(OR(IF( B16,3,0),IF(D16,3,0),IF(F16,3,0)),3,0) -> 0
A17: =IF($A$2="","",$A$2+11) -> 42047 | H17: =(G17-F17)+(E17-D17)+(C17-B17) -> 0 | J17: =IF(OR(AND(B17<=$O$1,C17>$O$1),AND(D17<=$O$1,E17>$O$1),AND(F17<=$O$1,G17>$O$1)),janvier!$B$40,"") | K17: =IF(OR(AND(B17<=$L$1,C17>$L$1),AND(D17<=$L$1,E17>$L$1),AND(F17<=$L$1,G17>$L$1)),janvier!$B$41,"") | L17: =IF(OR(IF( B17,3,0),IF(D17,3,0),IF(F17,3,0)),3,0) -> 0
A18: =IF($A$2="","",$A$2+12) -> 42048 | H18: =(G18-F18)+(E18-D18)+(C18-B18) -> 0 | J18: =IF(OR(AND(B18<=$O$1,C18>$O$1),AND(D18<=$O$1,E18>$O$1),AND(F18<=$O$1,G18>$O$1)),janvier!$B$40,"") | K18: =IF(OR(AND(B18<=$L$1,C18>$L$1),AND(D18<=$L$1,E18>$L$1),AND(F18<=$L$1,G18>$L$1)),janvier!$B$41,"") | L18: =IF(OR(IF( B18,3,0),IF(D18,3,0),IF(F18,3,0)),3,0) -> 0
A19: =IF($A$2="","",$A$2+13) -> 42049 | H19: =(G19-F19)+(E19-D19)+(C19-B19) -> 0 | J19: =IF(OR(AND(B19<=$O$1,C19>$O$1),AND(D19<=$O$1,E19>$O$1),AND(F19<=$O$1,G19>$O$1)),janvier!$B$40,"") | K19: =IF(OR(AND(B19<=$L$1,C19>$L$1),AND(D19<=$L$1,E19>$L$1),AND(F19<=$L$1,G19>$L$1)),janvier!$B$41,"") | L19: =IF(OR(IF( B19,3,0),IF(D19,3,0),IF(F19,3,0)),3,0) -> 0
A20: =IF($A$2="","",$A$2+14) -> 42050 | H20: =(G20-F20)+(E20-D20)+(C20-B20) -> 0 | J20: =IF(OR(AND(B20<=$O$1,C20>$O$1),AND(D20<=$O$1,E20>$O$1),AND(F20<=$O$1,G20>$O$1)),janvier!$B$40,"") | K20: =IF(OR(AND(B20<=$L$1,C20>$L$1),AND(D20<=$L$1,E20>$L$1),AND(F20<=$L$1,G20>$L$1)),janvier!$B$41,"") | L20: =IF(OR(IF( B20,3,0),IF(D20,3,0),IF(F20,3,0)),3,0) -> 0
A21: =IF($A$2="","",$A$2+15) -> 42051 | H21: =(G21-F21)+(E21-D21)+(C21-B21) -> 0 | J21: =IF(OR(AND(B21<=$O$1,C21>$O$1),AND(D21<=$O$1,E21>$O$1),AND(F21<=$O$1,G21>$O$1)),janvier!$B$40,"") | K21: =IF(OR(AND(B21<=$L$1,C21>$L$1),AND(D21<=$L$1,E21>$L$1),AND(F21<=$L$1,G21>$L$1)),janvier!$B$41,"") | L21: =IF(OR(IF( B21,3,0),IF(D21,3,0),IF(F21,3,0)),3,0) -> 0
A22: =IF($A$2="","",$A$2+16) -> 42052 | H22: =(G22-F22)+(E22-D22)+(C22-B22) -> 0 | J22: =IF(OR(AND(B22<=$O$1,C22>$O$1),AND(D22<=$O$1,E22>$O$1),AND(F22<=$O$1,G22>$O$1)),janvier!$B$40,"") | K22: =IF(OR(AND(B22<=$L$1,C22>$L$1),AND(D22<=$L$1,E22>$L$1),AND(F22<=$L$1,G22>$L$1)),janvier!$B$41,"") | L22: =IF(OR(IF( B22,3,0),IF(D22,3,0),IF(F22,3,0)),3,0) -> 0
A23: =IF($A$2="","",$A$2+17) -> 42053 | H23: =(G23-F23)+(E23-D23)+(C23-B23) -> 0 | J23: =IF(OR(AND(B23<=$O$1,C23>$O$1),AND(D23<=$O$1,E23>$O$1),AND(F23<=$O$1,G23>$O$1)),janvier!$B$40,"") | K23: =IF(OR(AND(B23<=$L$1,C23>$L$1),AND(D23<=$L$1,E23>$L$1),AND(F23<=$L$1,G23>$L$1)),janvier!$B$41,"") | L23: =IF(OR(IF( B23,3,0),IF(D23,3,0),IF(F23,3,0)),3,0) -> 0
A24: =IF($A$2="","",$A$2+18) -> 42054 | H24: =(G24-F24)+(E24-D24)+(C24-B24) -> 0 | J24: =IF(OR(AND(B24<=$O$1,C24>$O$1),AND(D24<=$O$1,E24>$O$1),AND(F24<=$O$1,G24>$O$1)),janvier!$B$40,"") | K24: =IF(OR(AND(B24<=$L$1,C24>$L$1),AND(D24<=$L$1,E24>$L$1),AND(F24<=$L$1,G24>$L$1)),janvier!$B$41,"") | L24: =IF(OR(IF( B24,3,0),IF(D24,3,0),IF(F24,3,0)),3,0) -> 0
A25: =IF($A$2="","",$A$2+19) -> 42055 | H25: =(G25-F25)+(E25-D25)+(C25-B25) -> 0 | J25: =IF(OR(AND(B25<=$O$1,C25>$O$1),AND(D25<=$O$1,E25>$O$1),AND(F25<=$O$1,G25>$O$1)),janvier!$B$40,"") | K25: =IF(OR(AND(B25<=$L$1,C25>$L$1),AND(D25<=$L$1,E25>$L$1),AND(F25<=$L$1,G25>$L$1)),janvier!$B$41,"") | L25: =IF(OR(IF( B25,3,0),IF(D25,3,0),IF(F25,3,0)),3,0) -> 0
A26: =IF($A$2="","",$A$2+20) -> 42056 | H26: =(G26-F26)+(E26-D26)+(C26-B26) -> 0 | J26: =IF(OR(AND(B26<=$O$1,C26>$O$1),AND(D26<=$O$1,E26>$O$1),AND(F26<=$O$1,G26>$O$1)),janvier!$B$40,"") | K26: =IF(OR(AND(B26<=$L$1,C26>$L$1),AND(D26<=$L$1,E26>$L$1),AND(F26<=$L$1,G26>$L$1)),janvier!$B$41,"") | L26: =IF(OR(IF( B26,3,0),IF(D26,3,0),IF(F26,3,0)),3,0) -> 0
A27: =IF($A$2="","",$A$2+21) -> 42057 | H27: =(G27-F27)+(E27-D27)+(C27-B27) -> 0 | J27: =IF(OR(AND(B27<=$O$1,C27>$O$1),AND(D27<=$O$1,E27>$O$1),AND(F27<=$O$1,G27>$O$1)),janvier!$B$40,"") | K27: =IF(OR(AND(B27<=$L$1,C27>$L$1),AND(D27<=$L$1,E27>$L$1),AND(F27<=$L$1,G27>$L$1)),janvier!$B$41,"") | L27: =IF(OR(IF( B27,3,0),IF(D27,3,0),IF(F27,3,0)),3,0) -> 0
A28: =IF($A$2="","",$A$2+22) -> 42058 | H28: =(G28-F28)+(E28-D28)+(C28-B28) -> 0 | J28: =IF(OR(AND(B28<=$O$1,C28>$O$1),AND(D28<=$O$1,E28>$O$1),AND(F28<=$O$1,G28>$O$1)),janvier!$B$40,"") | K28: =IF(OR(AND(B28<=$L$1,C28>$L$1),AND(D28<=$L$1,E28>$L$1),AND(F28<=$L$1,G28>$L$1)),janvier!$B$41,"") | L28: =IF(OR(IF( B28,3,0),IF(D28,3,0),IF(F28,3,0)),3,0) -> 0
A29: =IF($A$2="","",$A$2+23) -> 42059 | H29: =(G29-F29)+(E29-D29)+(C29-B29) -> 0 | J29: =IF(OR(AND(B29<=$O$1,C29>$O$1),AND(D29<=$O$1,E29>$O$1),AND(F29<=$O$1,G29>$O$1)),janvier!$B$40,"") | K29: =IF(OR(AND(B29<=$L$1,C29>$L$1),AND(D29<=$L$1,E29>$L$1),AND(F29<=$L$1,G29>$L$1)),janvier!$B$41,"") | L29: =IF(OR(IF( B29,3,0),IF(D29,3,0),IF(F29,3,0)),3,0) -> 0
A30: =IF($A$2="","",$A$2+24) -> 42060 | H30: =(G30-F30)+(E30-D30)+(C30-B30) -> 0 | J30: =IF(OR(AND(B30<=$O$1,C30>$O$1),AND(D30<=$O$1,E30>$O$1),AND(F30<=$O$1,G30>$O$1)),janvier!$B$40,"") | K30: =IF(OR(AND(B30<=$L$1,C30>$L$1),AND(D30<=$L$1,E30>$L$1),AND(F30<=$L$1,G30>$L$1)),janvier!$B$41,"") | L30: =IF(OR(IF( B30,3,0),IF(D30,3,0),IF(F30,3,0)),3,0) -> 0
A31: =IF($A$2="","",$A$2+25) -> 42061 | H31: =(G31-F31)+(E31-D31)+(C31-B31) -> 0 | J31: =IF(OR(AND(B31<=$O$1,C31>$O$1),AND(D31<=$O$1,E31>$O$1),AND(F31<=$O$1,G31>$O$1)),janvier!$B$40,"") | K31: =IF(OR(AND(B31<=$L$1,C31>$L$1),AND(D31<=$L$1,E31>$L$1),AND(F31<=$L$1,G31>$L$1)),janvier!$B$41,"") | L31: =IF(OR(IF( B31,3,0),IF(D31,3,0),IF(F31,3,0)),3,0) -> 0
A32: =IF($A$2="","",$A$2+26) -> 42062 | H32: =(G32-F32)+(E32-D32)+(C32-B32) -> 0 | J32: =IF(OR(AND(B32<=$O$1,C32>$O$1),AND(D32<=$O$1,E32>$O$1),AND(F32<=$O$1,G32>$O$1)),janvier!$B$40,"") | K32: =IF(OR(AND(B32<=$L$1,C32>$L$1),AND(D32<=$L$1,E32>$L$1),AND(F32<=$L$1,G32>$L$1)),janvier!$B$41,"") | L32: =IF(OR(IF( B32,3,0),IF(D32,3,0),IF(F32,3,0)),3,0) -> 0
A33: =IF($A$2="","",$A$2+27) -> 42063 | H33: =(G33-F33)+(E33-D33)+(C33-B33) -> 0 | J33: =IF(OR(AND(B33<=$O$1,C33>$O$1),AND(D33<=$O$1,E33>$O$1),AND(F33<=$O$1,G33>$O$1)),janvier!$B$40,"") | K33: =IF(OR(AND(B33<=$L$1,C33>$L$1),AND(D33<=$L$1,E33>$L$1),AND(F33<=$L$1,G33>$L$1)),janvier!$B$41,"") | L33: =IF(OR(IF( B33,3,0),IF(D33,3,0),IF(F33,3,0)),3,0) -> 0
A34: TOTAUX | H34: =SUM(H6:H33)*24 -> 0 | I34: =SUM(I6:I33)*24 -> 0 | J34: =SUM(J6:J33) -> 0 | K34: =SUM(K6:K33) -> 0 | L34: =SUM(L6:L33) -> 0
A36: =janvier!$A$39 -> Entretien | B36: =janvier!$B$39 -> 0 | C36: =janvier!$C$39 -> Salaires de base | E36: =janvier!$E$39 -> 0
A37: =janvier!$A$40 -> Repas | B37: =janvier!$B$40 -> 0 | C37: =janvier!$C$40 -> Taux horaire | E37: =janvier!$E$40 -> 0 | H37: Salaires net à payer | J37: =E39+(H34*E37)+SUM(J34:L34) -> 0
A38: =janvier!$A$41 -> Gouter | B38: =janvier!$B$41 -> 0

Sheet mars
K1: Gouter | L1: 0.66666667 | N1: Repas | O1: 0.51041667
A2: 42064 | C2: FICHE DE PRESENCE
A3: NOM PRENOM :
A4: DATE | B4: MATIN | D4: MIDI | F4: SOIR | H4: TOTAL HEURE/JOUR | I4: HEURES COMPL. | J4: REPAS | K4: GOUTER | L4: INDEMNITE D'ENTRETIEN
B5: Arrivée | C5: Départ | D5: Arrivée | E5: Départ | F5: Arrivée | G5: Départ
A6: =A2 -> 42064 | H6: =(G6-F6)+(E6-D6)+(C6-B6) -> 0 | J6: =IF(OR(AND(B6<=$O$1,C6>$O$1),AND(D6<=$O$1,E6>$O$1),AND(F6<=$O$1,G6>$O$1)),$B$40,"") | K6: =IF(OR(AND(B6<=$L$1,C6>$L$1),AND(D6<=$L$1,E6>$L$1),AND(F6<=$L$1,G6>$L$1)),$B$41,"") | L6: =IF(OR(IF(B6,3,0),IF(D6,3,0),IF(F6,3,0)),3,0) -> 0
A7: =IF($A$2="","",$A$2+1) -> 42065 | H7: =(G7-F7)+(E7-D7)+(C7-B7) -> 0 | J7: =IF(OR(AND(B7<=$O$1,C7>$O$1),AND(D7<=$O$1,E7>$O$1),AND(F7<=$O$1,G7>$O$1)),$B$40,"") | K7: =IF(OR(AND(B7<=$L$1,C7>$L$1),AND(D7<=$L$1,E7>$L$1),AND(F7<=$L$1,G7>$L$1)),$B$41,"") | L7: =IF(OR(IF( B7,3,0),IF(D7,3,0),IF(F7,3,0)),3,0) -> 0
A8: =IF($A$2="","",$A$2+2) -> 42066 | H8: =(G8-F8)+(E8-D8)+(C8-B8) -> 0 | J8: =IF(OR(AND(B8<=$O$1,C8>$O$1),AND(D8<=$O$1,E8>$O$1),AND(F8<=$O$1,G8>$O$1)),$B$40,"") | K8: =IF(OR(AND(B8<=$L$1,C8>$L$1),AND(D8<=$L$1,E8>$L$1),AND(F8<=$L$1,G8>$L$1)),$B$41,"") | L8: =IF(OR(IF( B8,3,0),IF(D8,3,0),IF(F8,3,0)),3,0) -> 0
A9: =IF($A$2="","",$A$2+3) -> 42067 | H9: =(G9-F9)+(E9-D9)+(C9-B9) -> 0 | J9: =IF(OR(AND(B9<=$O$1,C9>$O$1),AND(D9<=$O$1,E9>$O$1),AND(F9<=$O$1,G9>$O$1)),$B$40,"") | K9: =IF(OR(AND(B9<=$L$1,C9>$L$1),AND(D9<=$L$1,E9>$L$1),AND(F9<=$L$1,G9>$L$1)),$B$41,"") | L9: =IF(OR(IF( B9,3,0),IF(D9,3,0),IF(F9,3,0)),3,0) -> 0
A10: =IF($A$2="","",$A$2+4) -> 42068 | H10: =(G10-F10)+(E10-D10)+(C10-B10) -> 0 | J10: =IF(OR(AND(B10<=$O$1,C10>$O$1),AND(D10<=$O$1,E10>$O$1),AND(F10<=$O$1,G10>$O$1)),$B$40,"") | K10: =IF(OR(AND(B10<=$L$1,C10>$L$1),AND(D10<=$L$1,E10>$L$1),AND(F10<=$L$1,G10>$L$1)),$B$41,"") | L10: =IF(OR(IF( B10,3,0),IF(D10,3,0),IF(F10,3,0)),3,0) -> 0
A11: =IF($A$2="","",$A$2+5) -> 42069 | H11: =(G11-F11)+(E11-D11)+(C11-B11) -> 0 | J11: =IF(OR(AND(B11<=$O$1,C11>$O$1),AND(D11<=$O$1,E11>$O$1),AND(F11<=$O$1,G11>$O$1)),$B$40,"") | K11: =IF(OR(AND(B11<=$L$1,C11>$L$1),AND(D11<=$L$1,E11>$L$1),AND(F11<=$L$1,G11>$L$1)),$B$41,"") | L11: =IF(OR(IF( B11,3,0),IF(D11,3,0),IF(F11,3,0)),3,0) -> 0
A12: =IF($A$2="","",$A$2+6) -> 42070 | H12: =(G12-F12)+(E12-D12)+(C12-B12) -> 0 | J12: =IF(OR(AND(B12<=$O$1,C12>$O$1),AND(D12<=$O$1,E12>$O$1),AND(F12<=$O$1,G12>$O$1)),$B$40,"") | K12: =IF(OR(AND(B12<=$L$1,C12>$L$1),AND(D12<=$L$1,E12>$L$1),AND(F12<=$L$1,G12>$L$1)),$B$41,"") | L12: =IF(OR(IF( B12,3,0),IF(D12,3,0),IF(F12,3,0)),3,0) -> 0
A13: =IF($A$2="","",$A$2+7) -> 42071 | H13: =(G13-F13)+(E13-D13)+(C13-B13) -> 0 | J13: =IF(OR(AND(B13<=$O$1,C13>$O$1),AND(D13<=$O$1,E13>$O$1),AND(F13<=$O$1,G13>$O$1)),$B$40,"") | K13: =IF(OR(AND(B13<=$L$1,C13>$L$1),AND(D13<=$L$1,E13>$L$1),AND(F13<=$L$1,G13>$L$1)),$B$41,"") | L13: =IF(OR(IF( B13,3,0),IF(D13,3,0),IF(F13,3,0)),3,0) -> 0
A14: =IF($A$2="","",$A$2+8) -> 42072 | H14: =(G14-F14)+(E14-D14)+(C14-B14) -> 0 | J14: =IF(OR(AND(B14<=$O$1,C14>$O$1),AND(D14<=$O$1,E14>$O$1),AND(F14<=$O$1,G14>$O$1)),$B$40,"") | K14: =IF(OR(AND(B14<=$L$1,C14>$L$1),AND(D14<=$L$1,E14>$L$1),AND(F14<=$L$1,G14>$L$1)),$B$41,"") | L14: =IF(OR(IF( B14,3,0),IF(D14,3,0),IF(F14,3,0)),3,0) -> 0
A15: =IF($A$2="","",$A$2+9) -> 42073 | H15: =(G15-F15)+(E15-D15)+(C15-B15) -> 0 | J15: =IF(OR(AND(B15<=$O$1,C15>$O$1),AND(D15<=$O$1,E15>$O$1),AND(F15<=$O$1,G15>$O$1)),$B$40,"") | K15: =IF(OR(AND(B15<=$L$1,C15>$L$1),AND(D15<=$L$1,E15>$L$1),AND(F15<=$L$1,G15>$L$1)),$B$41,"") | L15: =IF(OR(IF( B15,3,0),IF(D15,3,0),IF(F15,3,0)),3,0) -> 0
A16: =IF($A$2="","",$A$2+10) -> 42074 | H16: =(G16-F16)+(E16-D16)+(C16-B16) -> 0 | J16: =IF(OR(AND(B16<=$O$1,C16>$O$1),AND(D16<=$O$1,E16>$O$1),AND(F16<=$O$1,G16>$O$1)),$B$40,"") | K16: =IF(OR(AND(B16<=$L$1,C16>$L$1),AND(D16<=$L$1,E16>$L$1),AND(F16<=$L$1,G16>$L$1)),$B$41,"") | L16: =IF(OR(IF( B16,3,0),IF(D16,3,0),IF(F16,3,0)),3,0) -> 0
A17: =IF($A$2="","",$A$2+11) -> 42075 | H17: =(G17-F17)+(E17-D17)+(C17-B17) -> 0 | J17: =IF(OR(AND(B17<=$O$1,C17>$O$1),AND(D17<=$O$1,E17>$O$1),AND(F17<=$O$1,G17>$O$1)),$B$40,"") | K17: =IF(OR(AND(B17<=$L$1,C17>$L$1),AND(D17<=$L$1,E17>$L$1),AND(F17<=$L$1,G17>$L$1)),$B$41,"") | L17: =IF(OR(IF( B17,3,0),IF(D17,3,0),IF(F17,3,0)),3,0) -> 0
A18: =IF($A$2="","",$A$2+12) -> 42076 | H18: =(G18-F18)+(E18-D18)+(C18-B18) -> 0 | J18: =IF(OR(AND(B18<=$O$1,C18>$O$1),AND(D18<=$O$1,E18>$O$1),AND(F18<=$O$1,G18>$O$1)),$B$40,"") | K18: =IF(OR(AND(B18<=$L$1,C18>$L$1),AND(D18<=$L$1,E18>$L$1),AND(F18<=$L$1,G18>$L$1)),$B$41,"") | L18: =IF(OR(IF( B18,3,0),IF(D18,3,0),IF(F18,3,0)),3,0) -> 0
A19: =IF($A$2="","",$A$2+13) -> 42077 | H19: =(G19-F19)+(E19-D19)+(C19-B19) -> 0 | J19: =IF(OR(AND(B19<=$O$1,C19>$O$1),AND(D19<=$O$1,E19>$O$1),AND(F19<=$O$1,G19>$O$1)),$B$40,"") | K19: =IF(OR(AND(B19<=$L$1,C19>$L$1),AND(D19<=$L$1,E19>$L$1),AND(F19<=$L$1,G19>$L$1)),$B$41,"") | L19: =IF(OR(IF( B19,3,0),IF(D19,3,0),IF(F19,3,0)),3,0) -> 0
A20: =IF($A$2="","",$A$2+14) -> 42078 | H20: =(G20-F20)+(E20-D20)+(C20-B20) -> 0 | J20: =IF(OR(AND(B20<=$O$1,C20>$O$1),AND(D20<=$O$1,E20>$O$1),AND(F20<=$O$1,G20>$O$1)),$B$40,"") | K20: =IF(OR(AND(B20<=$L$1,C20>$L$1),AND(D20<=$L$1,E20>$L$1),AND(F20<=$L$1,G20>$L$1)),$B$41,"") | L20: =IF(OR(IF( B20,3,0),IF(D20,3,0),IF(F20,3,0)),3,0) -> 0
A21: =IF($A$2="","",$A$2+15) -> 42079 | H21: =(G21-F21)+(E21-D21)+(C21-B21) -> 0 | J21: =IF(OR(AND(B21<=$O$1,C21>$O$1),AND(D21<=$O$1,E21>$O$1),AND(F21<=$O$1,G21>$O$1)),$B$40,"") | K21: =IF(OR(AND(B21<=$L$1,C21>$L$1),AND(D21<=$L$1,E21>$L$1),AND(F21<=$L$1,G21>$L$1)),$B$41,"") | L21: =IF(OR(IF( B21,3,0),IF(D21,3,0),IF(F21,3,0)),3,0) -> 0
A22: =IF($A$2="","",$A$2+16) -> 42080 | H22: =(G22-F22)+(E22-D22)+(C22-B22) -> 0 | J22: =IF(OR(AND(B22<=$O$1,C22>$O$1),AND(D22<=$O$1,E22>$O$1),AND(F22<=$O$1,G22>$O$1)),$B$40,"") | K22: =IF(OR(AND(B22<=$L$1,C22>$L$1),AND(D22<=$L$1,E22>$L$1),AND(F22<=$L$1,G22>$L$1)),$B$41,"") | L22: =IF(OR(IF( B22,3,0),IF(D22,3,0),IF(F22,3,0)),3,0) -> 0
A23: =IF($A$2="","",$A$2+17) -> 42081 | H23: =(G23-F23)+(E23-D23)+(C23-B23) -> 0 | J23: =IF(OR(AND(B23<=$O$1,C23>$O$1),AND(D23<=$O$1,E23>$O$1),AND(F23<=$O$1,G23>$O$1)),$B$40,"") | K23: =IF(OR(AND(B23<=$L$1,C23>$L$1),AND(D23<=$L$1,E23>$L$1),AND(F23<=$L$1,G23>$L$1)),$B$41,"") | L23: =IF(OR(IF( B23,3,0),IF(D23,3,0),IF(F23,3,0)),3,0) -> 0
A24: =IF($A$2="","",$A$2+18) -> 42082 | H24: =(G24-F24)+(E24-D24)+(C24-B24) -> 0 | J24: =IF(OR(AND(B24<=$O$1,C24>$O$1),AND(D24<=$O$1,E24>$O$1),AND(F24<=$O$1,G24>$O$1)),$B$40,"") | K24: =IF(OR(AND(B24<=$L$1,C24>$L$1),AND(D24<=$L$1,E24>$L$1),AND(F24<=$L$1,G24>$L$1)),$B$41,"") | L24: =IF(OR(IF( B24,3,0),IF(D24,3,0),IF(F24,3,0)),3,0) -> 0
A25: =IF($A$2="","",$A$2+19) -> 42083 | H25: =(G25-F25)+(E25-D25)+(C25-B25) -> 0 | J25: =IF(OR(AND(B25<=$O$1,C25>$O$1),AND(D25<=$O$1,E25>$O$1),AND(F25<=$O$1,G25>$O$1)),$B$40,"") | K25: =IF(OR(AND(B25<=$L$1,C25>$L$1),AND(D25<=$L$1,E25>$L$1),AND(F25<=$L$1,G25>$L$1)),$B$41,"") | L25: =IF(OR(IF( B25,3,0),IF(D25,3,0),IF(F25,3,0)),3,0) -> 0
A26: =IF($A$2="","",$A$2+20) -> 42084 | H26: =(G26-F26)+(E26-D26)+(C26-B26) -> 0 | J26: =IF(OR(AND(B26<=$O$1,C26>$O$1),AND(D26<=$O$1,E26>$O$1),AND(F26<=$O$1,G26>$O$1)),$B$40,"") | K26: =IF(OR(AND(B26<=$L$1,C26>$L$1),AND(D26<=$L$1,E26>$L$1),AND(F26<=$L$1,G26>$L$1)),$B$41,"") | L26: =IF(OR(IF( B26,3,0),IF(D26,3,0),IF(F26,3,0)),3,0) -> 0
A27: =IF($A$2="","",$A$2+21) -> 42085 | H27: =(G27-F27)+(E27-D27)+(C27-B27) -> 0 | J27: =IF(OR(AND(B27<=$O$1,C27>$O$1),AND(D27<=$O$1,E27>$O$1),AND(F27<=$O$1,G27>$O$1)),$B$40,"") | K27: =IF(OR(AND(B27<=$L$1,C27>$L$1),AND(D27<=$L$1,E27>$L$1),AND(F27<=$L$1,G27>$L$1)),$B$41,"") | L27: =IF(OR(IF( B27,3,0),IF(D27,3,0),IF(F27,3,0)),3,0) -> 0
A28: =IF($A$2="","",$A$2+22) -> 42086 | H28: =(G28-F28)+(E28-D28)+(C28-B28) -> 0 | J28: =IF(OR(AND(B28<=$O$1,C28>$O$1),AND(D28<=$O$1,E28>$O$1),AND(F28<=$O$1,G28>$O$1)),$B$40,"") | K28: =IF(OR(AND(B28<=$L$1,C28>$L$1),AND(D28<=$L$1,E28>$L$1),AND(F28<=$L$1,G28>$L$1)),$B$41,"") | L28: =IF(OR(IF( B28,3,0),IF(D28,3,0),IF(F28,3,0)),3,0) -> 0
A29: =IF($A$2="","",$A$2+23) -> 42087 | H29: =(G29-F29)+(E29-D29)+(C29-B29) -> 0 | J29: =IF(OR(AND(B29<=$O$1,C29>$O$1),AND(D29<=$O$1,E29>$O$1),AND(F29<=$O$1,G29>$O$1)),$B$40,"") | K29: =IF(OR(AND(B29<=$L$1,C29>$L$1),AND(D29<=$L$1,E29>$L$1),AND(F29<=$L$1,G29>$L$1)),$B$41,"") | L29: =IF(OR(IF( B29,3,0),IF(D29,3,0),IF(F29,3,0)),3,0) -> 0
A30: =IF($A$2="","",$A$2+24) -> 42088 | H30: =(G30-F30)+(E30-D30)+(C30-B30) -> 0 | J30: =IF(OR(AND(B30<=$O$1,C30>$O$1),AND(D30<=$O$1,E30>$O$1),AND(F30<=$O$1,G30>$O$1)),$B$40,"") | K30: =IF(OR(AND(B30<=$L$1,C30>$L$1),AND(D30<=$L$1,E30>$L$1),AND(F30<=$L$1,G30>$L$1)),$B$41,"") | L30: =IF(OR(IF( B30,3,0),IF(D30,3,0),IF(F30,3,0)),3,0) -> 0
A31: =IF($A$2="","",$A$2+25) -> 42089 | H31: =(G31-F31)+(E31-D31)+(C31-B31) -> 0 | J31: =IF(OR(AND(B31<=$O$1,C31>$O$1),AND(D31<=$O$1,E31>$O$1),AND(F31<=$O$1,G31>$O$1)),$B$40,"") | K31: =IF(OR(AND(B31<=$L$1,C31>$L$1),AND(D31<=$L$1,E31>$L$1),AND(F31<=$L$1,G31>$L$1)),$B$41,"") | L31: =IF(OR(IF( B31,3,0),IF(D31,3,0),IF(F31,3,0)),3,0) -> 0
A32: =IF($A$2="","",$A$2+26) -> 42090 | H32: =(G32-F32)+(E32-D32)+(C32-B32) -> 0 | J32: =IF(OR(AND(B32<=$O$1,C32>$O$1),AND(D32<=$O$1,E32>$O$1),AND(F32<=$O$1,G32>$O$1)),$B$40,"") | K32: =IF(OR(AND(B32<=$L$1,C32>$L$1),AND(D32<=$L$1,E32>$L$1),AND(F32<=$L$1,G32>$L$1)),$B$41,"") | L32: =IF(OR(IF( B32,3,0),IF(D32,3,0),IF(F32,3,0)),3,0) -> 0
A33: =IF($A$2="","",$A$2+27) -> 42091 | H33: =(G33-F33)+(E33-D33)+(C33-B33) -> 0 | J33: =IF(OR(AND(B33<=$O$1,C33>$O$1),AND(D33<=$O$1,E33>$O$1),AND(F33<=$O$1,G33>$O$1)),$B$40,"") | K33: =IF(OR(AND(B33<=$L$1,C33>$L$1),AND(D33<=$L$1,E33>$L$1),AND(F33<=$L$1,G33>$L$1)),$B$41,"") | L33: =IF(OR(IF( B33,3,0),IF(D33,3,0),IF(F33,3,0)),3,0) -> 0
A34: =IF($A$2="","",$A$2+28) -> 42092 | H34: =(G34-F34)+(E34-D34)+(C34-B34) -> 0 | J34: =IF(OR(AND(B34<=$O$1,C34>$O$1),AND(D34<=$O$1,E34>$O$1),AND(F34<=$O$1,G34>$O$1)),$B$40,"") | K34: =IF(OR(AND(B34<=$L$1,C34>$L$1),AND(D34<=$L$1,E34>$L$1),AND(F34<=$L$1,G34>$L$1)),$B$41,"") | L34: =IF(OR(IF( B34,3,0),IF(D34,3,0),IF(F34,3,0)),3,0) -> 0
A35: =IF($A$2="","",$A$2+29) -> 42093 | H35: =(G35-F35)+(E35-D35)+(C35-B35) -> 0 | J35: =IF(OR(AND(B35<=$O$1,C35>$O$1),AND(D35<=$O$1,E35>$O$1),AND(F35<=$O$1,G35>$O$1)),$B$40,"") | K35: =IF(OR(AND(B35<=$L$1,C35>$L$1),AND(D35<=$L$1,E35>$L$1),AND(F35<=$L$1,G35>$L$1)),$B$41,"") | L35: =IF(OR(IF( B35,3,0),IF(D35,3,0),IF(F35,3,0)),3,0) -> 0
A36: =IF($A$2="","",$A$2+30) -> 42094 | H36: =(G36-F36)+(E36-D36)+(C36-B36) -> 0 | J36: =IF(OR(AND(B36<=$O$1,C36>$O$1),AND(D36<=$O$1,E36>$O$1),AND(F36<=$O$1,G36>$O$1)),$B$40,"") | K36: =IF(OR(AND(B36<=$L$1,C36>$L$1),AND(D36<=$L$1,E36>$L$1),AND(F36<=$L$1,G36>$L$1)),$B$41,"") | L36: =IF(OR(IF( B36,3,0),IF(D36,3,0),IF(F36,3,0)),3,0) -> 0
A37: TOTAUX | H37: =SUM(H6:H36)*24 -> 0 | I37: =SUM(I6:I36)*24 -> 0 | J37: =SUM(J6:J36) -> 0 | K37: =SUM(K6:K36) -> 0 | L37: =SUM(L6:L36) -> 0
A39: Entetien | B39: =janvier!$B39 -> 0 | C39: Salaires de base | E39: =janvier!$E$39 -> 0
A40: Repas | B40: =janvier!$B40 -> 0 | C40: Taux horaire | E40: =janvier!$E$39 -> 0 | H40: Salaires net à payer | J40: =E39+(H37*E40)+SUM(J37:L37) -> 0
A41: Gouter | B41: =janvier!$B41 -> 0

Sheet avril
K1: Gouter | L1: 0.66666667 | N1: Repas | O1: 0.51041667
A2: 42095 | C2: FICHE DE PRESENCE
A3: NOM PRENOM :
A4: DATE | B4: MATIN | D4: MIDI | F4: SOIR | H4: TOTAL HEURE/JOUR | I4: HEURES COMPL. | J4: REPAS | K4: GOUTER | L4: INDEMNITE D'ENTRETIEN
B5: Arrivée | C5: Départ | D5: Arrivée | E5: Départ | F5: Arrivée | G5: Départ
A6: =A2 -> 42095 | H6: =(G6-F6)+(E6-D6)+(C6-B6) -> 0 | J6: =IF(OR(AND(B6<=$O$1,C6>$O$1),AND(D6<=$O$1,E6>$O$1),AND(F6<=$O$1,G6>$O$1)),$B$39,"") | K6: =IF(OR(AND(B6<=$L$1,C6>$L$1),AND(D6<=$L$1,E6>$L$1),AND(F6<=$L$1,G6>$L$1)),$B$40,"") | L6: =IF(OR(IF(B6,3,0),IF(D6,3,0),IF(F6,3,0)),3,0) -> 0
A7: =IF($A$2="","",$A$2+1) -> 42096 | H7: =(G7-F7)+(E7-D7)+(C7-B7) -> 0 | J7: =IF(OR(AND(B7<=$O$1,C7>$O$1),AND(D7<=$O$1,E7>$O$1),AND(F7<=$O$1,G7>$O$1)),$B$39,"") | K7: =IF(OR(AND(B7<=$L$1,C7>$L$1),AND(D7<=$L$1,E7>$L$1),AND(F7<=$L$1,G7>$L$1)),$B$40,"") | L7: =IF(OR(IF( B7,3,0),IF(D7,3,0),IF(F7,3,0)),3,0) -> 0
A8: =IF($A$2="","",$A$2+2) -> 42097 | H8: =(G8-F8)+(E8-D8)+(C8-B8) -> 0 | J8: =IF(OR(AND(B8<=$O$1,C8>$O$1),AND(D8<=$O$1,E8>$O$1),AND(F8<=$O$1,G8>$O$1)),$B$39,"") | K8: =IF(OR(AND(B8<=$L$1,C8>$L$1),AND(D8<=$L$1,E8>$L$1),AND(F8<=$L$1,G8>$L$1)),$B$40,"") | L8: =IF(OR(IF( B8,3,0),IF(D8,3,0),IF(F8,3,0)),3,0) -> 0
A9: =IF($A$2="","",$A$2+3) -> 42098 | H9: =(G9-F9)+(E9-D9)+(C9-B9) -> 0 | J9: =IF(OR(AND(B9<=$O$1,C9>$O$1),AND(D9<=$O$1,E9>$O$1),AND(F9<=$O$1,G9>$O$1)),$B$39,"") | K9: =IF(OR(AND(B9<=$L$1,C9>$L$1),AND(D9<=$L$1,E9>$L$1),AND(F9<=$L$1,G9>$L$1)),$B$40,"") | L9: =IF(OR(IF( B9,3,0),IF(D9,3,0),IF(F9,3,0)),3,0) -> 0
A10: =IF($A$2="","",$A$2+4) -> 42099 | H10: =(G10-F10)+(E10-D10)+(C10-B10) -> 0 | J10: =IF(OR(AND(B10<=$O$1,C10>$O$1),AND(D10<=$O$1,E10>$O$1),AND(F10<=$O$1,G10>$O$1)),$B$39,"") | K10: =IF(OR(AND(B10<=$L$1,C10>$L$1),AND(D10<=$L$1,E10>$L$1),AND(F10<=$L$1,G10>$L$1)),$B$40,"") | L10: =IF(OR(IF( B10,3,0),IF(D10,3,0),IF(F10,3,0)),3,0) -> 0
A11: =IF($A$2="","",$A$2+5) -> 42100 | H11: =(G11-F11)+(E11-D11)+(C11-B11) -> 0 | J11: =IF(OR(AND(B11<=$O$1,C11>$O$1),AND(D11<=$O$1,E11>$O$1),AND(F11<=$O$1,G11>$O$1)),$B$39,"") | K11: =IF(OR(AND(B11<=$L$1,C11>$L$1),AND(D11<=$L$1,E11>$L$1),AND(F11<=$L$1,G11>$L$1)),$B$40,"") | L11: =IF(OR(IF( B11,3,0),IF(D11,3,0),IF(F11,3,0)),3,0) -> 0
A12: =IF($A$2="","",$A$2+6) -> 42101 | H12: =(G12-F12)+(E12-D12)+(C12-B12) -> 0 | J12: =IF(OR(AND(B12<=$O$1,C12>$O$1),AND(D12<=$O$1,E12>$O$1),AND(F12<=$O$1,G12>$O$1)),$B$39,"") | K12: =IF(OR(AND(B12<=$L$1,C12>$L$1),AND(D12<=$L$1,E12>$L$1),AND(F12<=$L$1,G12>$L$1)),$B$40,"") | L12: =IF(OR(IF( B12,3,0),IF(D12,3,0),IF(F12,3,0)),3,0) -> 0
A13: =IF($A$2="","",$A$2+7) -> 42102 | H13: =(G13-F13)+(E13-D13)+(C13-B13) -> 0 | J13: =IF(OR(AND(B13<=$O$1,C13>$O$1),AND(D13<=$O$1,E13>$O$1),AND(F13<=$O$1,G13>$O$1)),$B$39,"") | K13: =IF(OR(AND(B13<=$L$1,C13>$L$1),AND(D13<=$L$1,E13>$L$1),AND(F13<=$L$1,G13>$L$1)),$B$40,"") | L13: =IF(OR(IF( B13,3,0),IF(D13,3,0),IF(F13,3,0)),3,0) -> 0
A14: =IF($A$2="","",$A$2+8) -> 42103 | H14: =(G14-F14)+(E14-D14)+(C14-B14) -> 0 | J14: =IF(OR(AND(B14<=$O$1,C14>$O$1),AND(D14<=$O$1,E14>$O$1),AND(F14<=$O$1,G14>$O$1)),$B$39,"") | K14: =IF(OR(AND(B14<=$L$1,C14>$L$1),AND(D14<=$L$1,E14>$L$1),AND(F14<=$L$1,G14>$L$1)),$B$40,"") | L14: =IF(OR(IF( B14,3,0),IF(D14,3,0),IF(F14,3,0)),3,0) -> 0
A15: =IF($A$2="","",$A$2+9) -> 42104 | H15: =(G15-F15)+(E15-D15)+(C15-B15) -> 0 | J15: =IF(OR(AND(B15<=$O$1,C15>$O$1),AND(D15<=$O$1,E15>$O$1),AND(F15<=$O$1,G15>$O$1)),$B$39,"") | K15: =IF(OR(AND(B15<=$L$1,C15>$L$1),AND(D15<=$L$1,E15>$L$1),AND(F15<=$L$1,G15>$L$1)),$B$40,"") | L15: =IF(OR(IF( B15,3,0),IF(D15,3,0),IF(F15,3,0)),3,0) -> 0
A16: =IF($A$2="","",$A$2+10) -> 42105 | H16: =(G16-F16)+(E16-D16)+(C16-B16) -> 0 | J16: =IF(OR(AND(B16<=$O$1,C16>$O$1),AND(D16<=$O$1,E16>$O$1),AND(F16<=$O$1,G16>$O$1)),$B$39,"") | K16: =IF(OR(AND(B16<=$L$1,C16>$L$1),AND(D16<=$L$1,E16>$L$1),AND(F16<=$L$1,G16>$L$1)),$B$40,"") | L16: =IF(OR(IF( B16,3,0),IF(D16,3,0),IF(F16,3,0)),3,0) -> 0
A17: =IF($A$2="","",$A$2+11) -> 42106 | H17: =(G17-F17)+(E17-D17)+(C17-B17) -> 0 | J17: =IF(OR(AND(B17<=$O$1,C17>$O$1),AND(D17<=$O$1,E17>$O$1),AND(F17<=$O$1,G17>$O$1)),$B$39,"") | K17: =IF(OR(AND(B17<=$L$1,C17>$L$1),AND(D17<=$L$1,E17>$L$1),AND(F17<=$L$1,G17>$L$1)),$B$40,"") | L17: =IF(OR(IF( B17,3,0),IF(D17,3,0),IF(F17,3,0)),3,0) -> 0
A18: =IF($A$2="","",$A$2+12) -> 42107 | H18: =(G18-F18)+(E18-D18)+(C18-B18) -> 0 | J18: =IF(OR(AND(B18<=$O$1,C18>$O$1),AND(D18<=$O$1,E18>$O$1),AND(F18<=$O$1,G18>$O$1)),$B$39,"") | K18: =IF(OR(AND(B18<=$L$1,C18>$L$1),AND(D18<=$L$1,E18>$L$1),AND(F18<=$L$1,G18>$L$1)),$B$40,"") | L18: =IF(OR(IF( B18,3,0),IF(D18,3,0),IF(F18,3,0)),3,0) -> 0
A19: =IF($A$2="","",$A$2+13) -> 42108 | H19: =(G19-F19)+(E19-D19)+(C19-B19) -> 0 | J19: =IF(OR(AND(B19<=$O$1,C19>$O$1),AND(D19<=$O$1,E19>$O$1),AND(F19<=$O$1,G19>$O$1)),$B$39,"") | K19: =IF(OR(AND(B19<=$L$1,C19>$L$1),AND(D19<=$L$1,E19>$L$1),AND(F19<=$L$1,G19>$L$1)),$B$40,"") | L19: =IF(OR(IF( B19,3,0),IF(D19,3,0),IF(F19,3,0)),3,0) -> 0
A20: =IF($A$2="","",$A$2+14) -> 42109 | H20: =(G20-F20)+(E20-D20)+(C20-B20) -> 0 | J20: =IF(OR(AND(B20<=$O$1,C20>$O$1),AND(D20<=$O$1,E20>$O$1),AND(F20<=$O$1,G20>$O$1)),$B$39,"") | K20: =IF(OR(AND(B20<=$L$1,C20>$L$1),AND(D20<=$L$1,E20>$L$1),AND(F20<=$L$1,G20>$L$1)),$B$40,"") | L20: =IF(OR(IF( B20,3,0),IF(D20,3,0),IF(F20,3,0)),3,0) -> 0
A21: =IF($A$2="","",$A$2+15) -> 42110 | H21: =(G21-F21)+(E21-D21)+(C21-B21) -> 0 | J21: =IF(OR(AND(B21<=$O$1,C21>$O$1),AND(D21<=$O$1,E21>$O$1),AND(F21<=$O$1,G21>$O$1)),$B$39,"") | K21: =IF(OR(AND(B21<=$L$1,C21>$L$1),AND(D21<=$L$1,E21>$L$1),AND(F21<=$L$1,G21>$L$1)),$B$40,"") | L21: =IF(OR(IF( B21,3,0),IF(D21,3,0),IF(F21,3,0)),3,0) -> 0
A22: =IF($A$2="","",$A$2+16) -> 42111 | H22: =(G22-F22)+(E22-D22)+(C22-B22) -> 0 | J22: =IF(OR(AND(B22<=$O$1,C22>$O$1),AND(D22<=$O$1,E22>$O$1),AND(F22<=$O$1,G22>$O$1)),$B$39,"") | K22: =IF(OR(AND(B22<=$L$1,C22>$L$1),AND(D22<=$L$1,E22>$L$1),AND(F22<=$L$1,G22>$L$1)),$B$40,"") | L22: =IF(OR(IF( B22,3,0),IF(D22,3,0),IF(F22,3,0)),3,0) -> 0
A23: =IF($A$2="","",$A$2+17) -> 42112 | H23: =(G23-F23)+(E23-D23)+(C23-B23) -> 0 | J23: =IF(OR(AND(B23<=$O$1,C23>$O$1),AND(D23<=$O$1,E23>$O$1),AND(F23<=$O$1,G23>$O$1)),$B$39,"") | K23: =IF(OR(AND(B23<=$L$1,C23>$L$1),AND(D23<=$L$1,E23>$L$1),AND(F23<=$L$1,G23>$L$1)),$B$40,"") | L23: =IF(OR(IF( B23,3,0),IF(D23,3,0),IF(F23,3,0)),3,0) -> 0
A24: =IF($A$2="","",$A$2+18) -> 42113 | H24: =(G24-F24)+(E24-D24)+(C24-B24) -> 0 | J24: =IF(OR(AND(B24<=$O$1,C24>$O$1),AND(D24<=$O$1,E24>$O$1),AND(F24<=$O$1,G24>$O$1)),$B$39,"") | K24: =IF(OR(AND(B24<=$L$1,C24>$L$1),AND(D24<=$L$1,E24>$L$1),AND(F24<=$L$1,G24>$L$1)),$B$40,"") | L24: =IF(OR(IF( B24,3,0),IF(D24,3,0),IF(F24,3,0)),3,0) -> 0
A25: =IF($A$2="","",$A$2+19) -> 42114 | H25: =(G25-F25)+(E25-D25)+(C25-B25) -> 0 | J25: =IF(OR(AND(B25<=$O$1,C25>$O$1),AND(D25<=$O$1,E25>$O$1),AND(F25<=$O$1,G25>$O$1)),$B$39,"") | K25: =IF(OR(AND(B25<=$L$1,C25>$L$1),AND(D25<=$L$1,E25>$L$1),AND(F25<=$L$1,G25>$L$1)),$B$40,"") | L25: =IF(OR(IF( B25,3,0),IF(D25,3,0),IF(F25,3,0)),3,0) -> 0
A26: =IF($A$2="","",$A$2+20) -> 42115 | H26: =(G26-F26)+(E26-D26)+(C26-B26) -> 0 | J26: =IF(OR(AND(B26<=$O$1,C26>$O$1),AND(D26<=$O$1,E26>$O$1),AND(F26<=$O$1,G26>$O$1)),$B$39,"") | K26: =IF(OR(AND(B26<=$L$1,C26>$L$1),AND(D26<=$L$1,E26>$L$1),AND(F26<=$L$1,G26>$L$1)),$B$40,"") | L26: =IF(OR(IF( B26,3,0),IF(D26,3,0),IF(F26,3,0)),3,0) -> 0
A27: =IF($A$2="","",$A$2+21) -> 42116 | H27: =(G27-F27)+(E27-D27)+(C27-B27) -> 0 | J27: =IF(OR(AND(B27<=$O$1,C27>$O$1),AND(D27<=$O$1,E27>$O$1),AND(F27<=$O$1,G27>$O$1)),$B$39,"") | K27: =IF(OR(AND(B27<=$L$1,C27>$L$1),AND(D27<=$L$1,E27>$L$1),AND(F27<=$L$1,G27>$L$1)),$B$40,"") | L27: =IF(OR(IF( B27,3,0),IF(D27,3,0),IF(F27,3,0)),3,0) -> 0
A28: =IF($A$2="","",$A$2+22) -> 42117 | H28: =(G28-F28)+(E28-D28)+(C28-B28) -> 0 | J28: =IF(OR(AND(B28<=$O$1,C28>$O$1),AND(D28<=$O$1,E28>$O$1),AND(F28<=$O$1,G28>$O$1)),$B$39,"") | K28: =IF(OR(AND(B28<=$L$1,C28>$L$1),AND(D28<=$L$1,E28>$L$1),AND(F28<=$L$1,G28>$L$1)),$B$40,"") | L28: =IF(OR(IF( B28,3,0),IF(D28,3,0),IF(F28,3,0)),3,0) -> 0
A29: =IF($A$2="","",$A$2+23) -> 42118 | H29: =(G29-F29)+(E29-D29)+(C29-B29) -> 0 | J29: =IF(OR(AND(B29<=$O$1,C29>$O$1),AND(D29<=$O$1,E29>$O$1),AND(F29<=$O$1,G29>$O$1)),$B$39,"") | K29: =IF(OR(AND(B29<=$L$1,C29>$L$1),AND(D29<=$L$1,E29>$L$1),AND(F29<=$L$1,G29>$L$1)),$B$40,"") | L29: =IF(OR(IF( B29,3,0),IF(D29,3,0),IF(F29,3,0)),3,0) -> 0
A30: =IF($A$2="","",$A$2+24) -> 42119 | H30: =(G30-F30)+(E30-D30)+(C30-B30) -> 0 | J30: =IF(OR(AND(B30<=$O$1,C30>$O$1),AND(D30<=$O$1,E30>$O$1),AND(F30<=$O$1,G30>$O$1)),$B$39,"") | K30: =IF(OR(AND(B30<=$L$1,C30>$L$1),AND(D30<=$L$1,E30>$L$1),AND(F30<=$L$1,G30>$L$1)),$B$40,"") | L30: =IF(OR(IF( B30,3,0),IF(D30,3,0),IF(F30,3,0)),3,0) -> 0
A31: =IF($A$2="","",$A$2+25) -> 42120 | H31: =(G31-F31)+(E31-D31)+(C31-B31) -> 0 | J31: =IF(OR(AND(B31<=$O$1,C31>$O$1),AND(D31<=$O$1,E31>$O$1),AND(F31<=$O$1,G31>$O$1)),$B$39,"") | K31: =IF(OR(AND(B31<=$L$1,C31>$L$1),AND(D31<=$L$1,E31>$L$1),AND(F31<=$L$1,G31>$L$1)),$B$40,"") | L31: =IF(OR(IF( B31,3,0),IF(D31,3,0),IF(F31,3,0)),3,0) -> 0
A32: =IF($A$2="","",$A$2+26) -> 42121 | H32: =(G32-F32)+(E32-D32)+(C32-B32) -> 0 | J32: =IF(OR(AND(B32<=$O$1,C32>$O$1),AND(D32<=$O$1,E32>$O$1),AND(F32<=$O$1,G32>$O$1)),$B$39,"") | K32: =IF(OR(AND(B32<=$L$1,C32>$L$1),AND(D32<=$L$1,E32>$L$1),AND(F32<=$L$1,G32>$L$1)),$B$40,"") | L32: =IF(OR(IF( B32,3,0),IF(D32,3,0),IF(F32,3,0)),3,0) -> 0
A33: =IF($A$2="","",$A$2+27) -> 42122 | H33: =(G33-F33)+(E33-D33)+(C33-B33) -> 0 | J33: =IF(OR(AND(B33<=$O$1,C33>$O$1),AND(D33<=$O$1,E33>$O$1),AND(F33<=$O$1,G33>$O$1)),$B$39,"") | K33: =IF(OR(AND(B33<=$L$1,C33>$L$1),AND(D33<=$L$1,E33>$L$1),AND(F33<=$L$1,G33>$L$1)),$B$40,"") | L33: =IF(OR(IF( B33,3,0),IF(D33,3,0),IF(F33,3,0)),3,0) -> 0
A34: =IF($A$2="","",$A$2+28) -> 42123 | H34: =(G34-F34)+(E34-D34)+(C34-B34) -> 0 | J34: =IF(OR(AND(B34<=$O$1,C34>$O$1),AND(D34<=$O$1,E34>$O$1),AND(F34<=$O$1,G34>$O$1)),$B$39,"") | K34: =IF(OR(AND(B34<=$L$1,C34>$L$1),AND(D34<=$L$1,E34>$L$1),AND(F34<=$L$1,G34>$L$1)),$B$40,"") | L34: =IF(OR(IF( B34,3,0),IF(D34,3,0),IF(F34,3,0)),3,0) -> 0
A35: =IF($A$2="","",$A$2+29) -> 42124 | H35: =(G35-F35)+(E35-D35)+(C35-B35) -> 0 | J35: =IF(OR(AND(B35<=$O$1,C35>$O$1),AND(D35<=$O$1,E35>$O$1),AND(F35<=$O$1,G35>$O$1)),$B$39,"") | K35: =IF(OR(AND(B35<=$L$1,C35>$L$1),AND(D35<=$L$1,E35>$L$1),AND(F35<=$L$1,G35>$L$1)),$B$40,"") | L35: =IF(OR(IF( B35,3,0),IF(D35,3,0),IF(F35,3,0)),3,0) -> 0
A36: TOTAUX | H36: =SUM(H6:H35)*24 -> 0 | I36: =SUM(I6:I35)*24 -> 0 | J36: =SUM(J6:J35) -> 0 | K36: =SUM(K6:K35) -> 0 | L36: =SUM(L6:L35) -> 0
A38: Entetien | B38: =janvier!$B39 -> 0 | C38: Salaires de base | E38: =janvier!$E$39 -> 0
A39: Repas | B39: =janvier!$B40 -> 0 | C39: Taux horaire | E39: =janvier!$E$39 -> 0 | H39: Salaires net à payer | J39: =E38+(H36*E39)+SUM(J36:L36) -> 0
A40: Gouter | B40: =janvier!$B41 -> 0

Sheet mai
K1: Gouter | L1: 0.66666667 | N1: Repas | O1: 0.51041667
A2: 42125 | C2: FICHE DE PRESENCE
A3: NOM PRENOM :
A4: DATE | B4: MATIN | D4: MIDI | F4: SOIR | H4: TOTAL HEURE/JOUR | I4: HEURES COMPL. | J4: REPAS | K4: GOUTER | L4: INDEMNITE D'ENTRETIEN
B5: Arrivée | C5: Départ | D5: Arrivée | E5: Départ | F5: Arrivée | G5: Départ
A6: =A2 -> 42125 | H6: =(G6-F6)+(E6-D6)+(C6-B6) -> 0 | J6: =IF(OR(AND(B6<=$O$1,C6>$O$1),AND(D6<=$O$1,E6>$O$1),AND(F6<=$O$1,G6>$O$1)),$B$40,"") | K6: =IF(OR(AND(B6<=$L$1,C6>$L$1),AND(D6<=$L$1,E6>$L$1),AND(F6<=$L$1,G6>$L$1)),$B$41,"") | L6: =IF(OR(IF(B6,3,0),IF(D6,3,0),IF(F6,3,0)),3,0) -> 0
A7: =IF($A$2="","",$A$2+1) -> 42126 | H7: =(G7-F7)+(E7-D7)+(C7-B7) -> 0 | J7: =IF(OR(AND(B7<=$O$1,C7>$O$1),AND(D7<=$O$1,E7>$O$1),AND(F7<=$O$1,G7>$O$1)),$B$40,"") | K7: =IF(OR(AND(B7<=$L$1,C7>$L$1),AND(D7<=$L$1,E7>$L$1),AND(F7<=$L$1,G7>$L$1)),$B$41,"") | L7: =IF(OR(IF( B7,3,0),IF(D7,3,0),IF(F7,3,0)),3,0) -> 0
A8: =IF($A$2="","",$A$2+2) -> 42127 | H8: =(G8-F8)+(E8-D8)+(C8-B8) -> 0 | J8: =IF(OR(AND(B8<=$O$1,C8>$O$1),AND(D8<=$O$1,E8>$O$1),AND(F8<=$O$1,G8>$O$1)),$B$40,"") | K8: =IF(OR(AND(B8<=$L$1,C8>$L$1),AND(D8<=$L$1,E8>$L$1),AND(F8<=$L$1,G8>$L$1)),$B$41,"") | L8: =IF(OR(IF( B8,3,0),IF(D8,3,0),IF(F8,3,0)),3,0) -> 0
A9: =IF($A$2="","",$A$2+3) -> 42128 | H9: =(G9-F9)+(E9-D9)+(C9-B9) -> 0 | J9: =IF(OR(AND(B9<=$O$1,C9>$O$1),AND(D9<=$O$1,E9>$O$1),AND(F9<=$O$1,G9>$O$1)),$B$40,"") | K9: =IF(OR(AND(B9<=$L$1,C9>$L$1),AND(D9<=$L$1,E9>$L$1),AND(F9<=$L$1,G9>$L$1)),$B$41,"") | L9: =IF(OR(IF( B9,3,0),IF(D9,3,0),IF(F9,3,0)),3,0) -> 0
A10: =IF($A$2="","",$A$2+4) -> 42129 | H10: =(G10-F10)+(E10-D10)+(C10-B10) -> 0 | J10: =IF(OR(AND(B10<=$O$1,C10>$O$1),AND(D10<=$O$1,E10>$O$1),AND(F10<=$O$1,G10>$O$1)),$B$40,"") | K10: =IF(OR(AND(B10<=$L$1,C10>$L$1),AND(D10<=$L$1,E10>$L$1),AND(F10<=$L$1,G10>$L$1)),$B$41,"") | L10: =IF(OR(IF( B10,3,0),IF(D10,3,0),IF(F10,3,0)),3,0) -> 0
A11: =IF($A$2="","",$A$2+5) -> 42130 | H11: =(G11-F11)+(E11-D11)+(C11-B11) -> 0 | J11: =IF(OR(AND(B11<=$O$1,C11>$O$1),AND(D11<=$O$1,E11>$O$1),AND(F11<=$O$1,G11>$O$1)),$B$40,"") | K11: =IF(OR(AND(B11<=$L$1,C11>$L$1),AND(D11<=$L$1,E11>$L$1),AND(F11<=$L$1,G11>$L$1)),$B$41,"") | L11: =IF(OR(IF( B11,3,0),IF(D11,3,0),IF(F11,3,0)),3,0) -> 0
A12: =IF($A$2="","",$A$2+6) -> 42131 | H12: =(G12-F12)+(E12-D12)+(C12-B12) -> 0 | J12: =IF(OR(AND(B12<=$O$1,C12>$O$1),AND(D12<=$O$1,E12>$O$1),AND(F12<=$O$1,G12>$O$1)),$B$40,"") | K12: =IF(OR(AND(B12<=$L$1,C12>$L$1),AND(D12<=$L$1,E12>$L$1),AND(F12<=$L$1,G12>$L$1)),$B$41,"") | L12: =IF(OR(IF( B12,3,0),IF(D12,3,0),IF(F12,3,0)),3,0) -> 0
A13: =IF($A$2="","",$A$2+7) -> 42132 | H13: =(G13-F13)+(E13-D13)+(C13-B13) -> 0 | J13: =IF(OR(AND(B13<=$O$1,C13>$O$1),AND(D13<=$O$1,E13>$O$1),AND(F13<=$O$1,G13>$O$1)),$B$40,"") | K13: =IF(OR(AND(B13<=$L$1,C13>$L$1),AND(D13<=$L$1,E13>$L$1),AND(F13<=$L$1,G13>$L$1)),$B$41,"") | L13: =IF(OR(IF( B13,3,0),IF(D13,3,0),IF(F13,3,0)),3,0) -> 0
A14: =IF($A$2="","",$A$2+8) -> 42133 | H14: =(G14-F14)+(E14-D14)+(C14-B14) -> 0 | J14: =IF(OR(AND(B14<=$O$1,C14>$O$1),AND(D14<=$O$1,E14>$O$1),AND(F14<=$O$1,G14>$O$1)),$B$40,"") | K14: =IF(OR(AND(B14<=$L$1,C14>$L$1),AND(D14<=$L$1,E14>$L$1),AND(F14<=$L$1,G14>$L$1)),$B$41,"") | L14: =IF(OR(IF( B14,3,0),IF(D14,3,0),IF(F14,3,0)),3,0) -> 0
A15: =IF($A$2="","",$A$2+9) -> 42134 | H15: =(G15-F15)+(E15-D15)+(C15-B15) -> 0 | J15: =IF(OR(AND(B15<=$O$1,C15>$O$1),AND(D15<=$O$1,E15>$O$1),AND(F15<=$O$1,G15>$O$1)),$B$40,"") | K15: =IF(OR(AND(B15<=$L$1,C15>$L$1),AND(D15<=$L$1,E15>$L$1),AND(F15<=$L$1,G15>$L$1)),$B$41,"") | L15: =IF(OR(IF( B15,3,0),IF(D15,3,0),IF(F15,3,0)),3,0) -> 0
A16: =IF($A$2="","",$A$2+10) -> 42135 | H16: =(G16-F16)+(E16-D16)+(C16-B16) -> 0 | J16: =IF(OR(AND(B16<=$O$1,C16>$O$1),AND(D16<=$O$1,E16>$O$1),AND(F16<=$O$1,G16>$O$1)),$B$40,"") | K16: =IF(OR(AND(B16<=$L$1,C16>$L$1),AND(D16<=$L$1,E16>$L$1),AND(F16<=$L$1,G16>$L$1)),$B$41,"") | L16: =IF(OR(IF( B16,3,0),IF(D16,3,0),IF(F16,3,0)),3,0) -> 0
A17: =IF($A$2="","",$A$2+11) -> 42136 | H17: =(G17-F17)+(E17-D17)+(C17-B17) -> 0 | J17: =IF(OR(AND(B17<=$O$1,C17>$O$1),AND(D17<=$O$1,E17>$O$1),AND(F17<=$O$1,G17>$O$1)),$B$40,"") | K17: =IF(OR(AND(B17<=$L$1,C17>$L$1),AND(D17<=$L$1,E17>$L$1),AND(F17<=$L$1,G17>$L$1)),$B$41,"") | L17: =IF(OR(IF( B17,3,0),IF(D17,3,0),IF(F17,3,0)),3,0) -> 0
A18: =IF($A$2="","",$A$2+12) -> 42137 | H18: =(G18-F18)+(E18-D18)+(C18-B18) -> 0 | J18: =IF(OR(AND(B18<=$O$1,C18>$O$1),AND(D18<=$O$1,E18>$O$1),AND(F18<=$O$1,G18>$O$1)),$B$40,"") | K18: =IF(OR(AND(B18<=$L$1,C18>$L$1),AND(D18<=$L$1,E18>$L$1),AND(F18<=$L$1,G18>$L$1)),$B$41,"") | L18: =IF(OR(IF( B18,3,0),IF(D18,3,0),IF(F18,3,0)),3,0) -> 0
A19: =IF($A$2="","",$A$2+13) -> 42138 | H19: =(G19-F19)+(E19-D19)+(C19-B19) -> 0 | J19: =IF(OR(AND(B19<=$O$1,C19>$O$1),AND(D19<=$O$1,E19>$O$1),AND(F19<=$O$1,G19>$O$1)),$B$40,"") | K19: =IF(OR(AND(B19<=$L$1,C19>$L$1),AND(D19<=$L$1,E19>$L$1),AND(F19<=$L$1,G19>$L$1)),$B$41,"") | L19: =IF(OR(IF( B19,3,0),IF(D19,3,0),IF(F19,3,0)),3,0) -> 0
A20: =IF($A$2="","",$A$2+14) -> 42139 | H20: =(G20-F20)+(E20-D20)+(C20-B20) -> 0 | J20: =IF(OR(AND(B20<=$O$1,C20>$O$1),AND(D20<=$O$1,E20>$O$1),AND(F20<=$O$1,G20>$O$1)),$B$40,"") | K20: =IF(OR(AND(B20<=$L$1,C20>$L$1),AND(D20<=$L$1,E20>$L$1),AND(F20<=$L$1,G20>$L$1)),$B$41,"") | L20: =IF(OR(IF( B20,3,0),IF(D20,3,0),IF(F20,3,0)),3,0) -> 0
A21: =IF($A$2="","",$A$2+15) -> 42140 | H21: =(G21-F21)+(E21-D21)+(C21-B21) -> 0 | J21: =IF(OR(AND(B21<=$O$1,C21>$O$1),AND(D21<=$O$1,E21>$O$1),AND(F21<=$O$1,G21>$O$1)),$B$40,"") | K21: =IF(OR(AND(B21<=$L$1,C21>$L$1),AND(D21<=$L$1,E21>$L$1),AND(F21<=$L$1,G21>$L$1)),$B$41,"") | L21: =IF(OR(IF( B21,3,0),IF(D21,3,0),IF(F21,3,0)),3,0) -> 0
A22: =IF($A$2="","",$A$2+16) -> 42141 | H22: =(G22-F22)+(E22-D22)+(C22-B22) -> 0 | J22: =IF(OR(AND(B22<=$O$1,C22>$O$1),AND(D22<=$O$1,E22>$O$1),AND(F22<=$O$1,G22>$O$1)),$B$40,"") | K22: =IF(OR(AND(B22<=$L$1,C22>$L$1),AND(D22<=$L$1,E22>$L$1),AND(F22<=$L$1,G22>$L$1)),$B$41,"") | L22: =IF(OR(IF( B22,3,0),IF(D22,3,0),IF(F22,3,0)),3,0) -> 0
A23: =IF($A$2="","",$A$2+17) -> 42142 | H23: =(G23-F23)+(E23-D23)+(C23-B23) -> 0 | J23: =IF(OR(AND(B23<=$O$1,C23>$O$1),AND(D23<=$O$1,E23>$O$1),AND(F23<=$O$1,G23>$O$1)),$B$40,"") | K23: =IF(OR(AND(B23<=$L$1,C23>$L$1),AND(D23<=$L$1,E23>$L$1),AND(F23<=$L$1,G23>$L$1)),$B$41,"") | L23: =IF(OR(IF( B23,3,0),IF(D23,3,0),IF(F23,3,0)),3,0) -> 0
A24: =IF($A$2="","",$A$2+18) -> 42143 | H24: =(G24-F24)+(E24-D24)+(C24-B24) -> 0 | J24: =IF(OR(AND(B24<=$O$1,C24>$O$1),AND(D24<=$O$1,E24>$O$1),AND(F24<=$O$1,G24>$O$1)),$B$40,"") | K24: =IF(OR(AND(B24<=$L$1,C24>$L$1),AND(D24<=$L$1,E24>$L$1),AND(F24<=$L$1,G24>$L$1)),$B$41,"") | L24: =IF(OR(IF( B24,3,0),IF(D24,3,0),IF(F24,3,0)),3,0) -> 0
A25: =IF($A$2="","",$A$2+19) -> 42144 | H25: =(G25-F25)+(E25-D25)+(C25-B25) -> 0 | J25: =IF(OR(AND(B25<=$O$1,C25>$O$1),AND(D25<=$O$1,E25>$O$1),AND(F25<=$O$1,G25>$O$1)),$B$40,"") | K25: =IF(OR(AND(B25<=$L$1,C25>$L$1),AND(D25<=$L$1,E25>$L$1),AND(F25<=$L$1,G25>$L$1)),$B$41,"") | L25: =IF(OR(IF( B25,3,0),IF(D25,3,0),IF(F25,3,0)),3,0) -> 0
A26: =IF($A$2="","",$A$2+20) -> 42145 | H26: =(G26-F26)+(E26-D26)+(C26-B26) -> 0 | J26: =IF(OR(AND(B26<=$O$1,C26>$O$1),AND(D26<=$O$1,E26>$O$1),AND(F26<=$O$1,G26>$O$1)),$B$40,"") | K26: =IF(OR(AND(B26<=$L$1,C26>$L$1),AND(D26<=$L$1,E26>$L$1),AND(F26<=$L$1,G26>$L$1)),$B$41,"") | L26: =IF(OR(IF( B26,3,0),IF(D26,3,0),IF(F26,3,0)),3,0) -> 0
A27: =IF($A$2="","",$A$2+21) -> 42146 | H27: =(G27-F27)+(E27-D27)+(C27-B27) -> 0 | J27: =IF(OR(AND(B27<=$O$1,C27>$O$1),AND(D27<=$O$1,E27>$O$1),AND(F27<=$O$1,G27>$O$1)),$B$40,"") | K27: =IF(OR(AND(B27<=$L$1,C27>$L$1),AND(D27<=$L$1,E27>$L$1),AND(F27<=$L$1,G27>$L$1)),$B$41,"") | L27: =IF(OR(IF( B27,3,0),IF(D27,3,0),IF(F27,3,0)),3,0) -> 0
A28: =IF($A$2="","",$A$2+22) -> 42147 | H28: =(G28-F28)+(E28-D28)+(C28-B28) -> 0 | J28: =IF(OR(AND(B28<=$O$1,C28>$O$1),AND(D28<=$O$1,E28>$O$1),AND(F28<=$O$1,G28>$O$1)),$B$40,"") | K28: =IF(OR(AND(B28<=$L$1,C28>$L$1),AND(D28<=$L$1,E28>$L$1),AND(F28<=$L$1,G28>$L$1)),$B$41,"") | L28: =IF(OR(IF( B28,3,0),IF(D28,3,0),IF(F28,3,0)),3,0) -> 0
A29: =IF($A$2="","",$A$2+23) -> 42148 | H29: =(G29-F29)+(E29-D29)+(C29-B29) -> 0 | J29: =IF(OR(AND(B29<=$O$1,C29>$O$1),AND(D29<=$O$1,E29>$O$1),AND(F29<=$O$1,G29>$O$1)),$B$40,"") | K29: =IF(OR(AND(B29<=$L$1,C29>$L$1),AND(D29<=$L$1,E29>$L$1),AND(F29<=$L$1,G29>$L$1)),$B$41,"") | L29: =IF(OR(IF( B29,3,0),IF(D29,3,0),IF(F29,3,0)),3,0) -> 0
A30: =IF($A$2="","",$A$2+24) -> 42149 | H30: =(G30-F30)+(E30-D30)+(C30-B30) -> 0 | J30: =IF(OR(AND(B30<=$O$1,C30>$O$1),AND(D30<=$O$1,E30>$O$1),AND(F30<=$O$1,G30>$O$1)),$B$40,"") | K30: =IF(OR(AND(B30<=$L$1,C30>$L$1),AND(D30<=$L$1,E30>$L$1),AND(F30<=$L$1,G30>$L$1)),$B$41,"") | L30: =IF(OR(IF( B30,3,0),IF(D30,3,0),IF(F30,3,0)),3,0) -> 0
A31: =IF($A$2="","",$A$2+25) -> 42150 | H31: =(G31-F31)+(E31-D31)+(C31-B31) -> 0 | J31: =IF(OR(AND(B31<=$O$1,C31>$O$1),AND(D31<=$O$1,E31>$O$1),AND(F31<=$O$1,G31>$O$1)),$B$40,"") | K31: =IF(OR(AND(B31<=$L$1,C31>$L$1),AND(D31<=$L$1,E31>$L$1),AND(F31<=$L$1,G31>$L$1)),$B$41,"") | L31: =IF(OR(IF( B31,3,0),IF(D31,3,0),IF(F31,3,0)),3,0) -> 0
A32: =IF($A$2="","",$A$2+26) -> 42151 | H32: =(G32-F32)+(E32-D32)+(C32-B32) -> 0 | J32: =IF(OR(AND(B32<=$O$1,C32>$O$1),AND(D32<=$O$1,E32>$O$1),AND(F32<=$O$1,G32>$O$1)),$B$40,"") | K32: =IF(OR(AND(B32<=$L$1,C32>$L$1),AND(D32<=$L$1,E32>$L$1),AND(F32<=$L$1,G32>$L$1)),$B$41,"") | L32: =IF(OR(IF( B32,3,0),IF(D32,3,0),IF(F32,3,0)),3,0) -> 0
A33: =IF($A$2="","",$A$2+27) -> 42152 | H33: =(G33-F33)+(E33-D33)+(C33-B33) -> 0 | J33: =IF(OR(AND(B33<=$O$1,C33>$O$1),AND(D33<=$O$1,E33>$O$1),AND(F33<=$O$1,G33>$O$1)),$B$40,"") | K33: =IF(OR(AND(B33<=$L$1,C33>$L$1),AND(D33<=$L$1,E33>$L$1),AND(F33<=$L$1,G33>$L$1)),$B$41,"") | L33: =IF(OR(IF( B33,3,0),IF(D33,3,0),IF(F33,3,0)),3,0) -> 0
A34: =IF($A$2="","",$A$2+28) -> 42153 | H34: =(G34-F34)+(E34-D34)+(C34-B34) -> 0 | J34: =IF(OR(AND(B34<=$O$1,C34>$O$1),AND(D34<=$O$1,E34>$O$1),AND(F34<=$O$1,G34>$O$1)),$B$40,"") | K34: =IF(OR(AND(B34<=$L$1,C34>$L$1),AND(D34<=$L$1,E34>$L$1),AND(F34<=$L$1,G34>$L$1)),$B$41,"") | L34: =IF(OR(IF( B34,3,0),IF(D34,3,0),IF(F34,3,0)),3,0) -> 0
A35: =IF($A$2="","",$A$2+29) -> 42154 | H35: =(G35-F35)+(E35-D35)+(C35-B35) -> 0 | J35: =IF(OR(AND(B35<=$O$1,C35>$O$1),AND(D35<=$O$1,E35>$O$1),AND(F35<=$O$1,G35>$O$1)),$B$40,"") | K35: =IF(OR(AND(B35<=$L$1,C35>$L$1),AND(D35<=$L$1,E35>$L$1),AND(F35<=$L$1,G35>$L$1)),$B$41,"") | L35: =IF(OR(IF( B35,3,0),IF(D35,3,0),IF(F35,3,0)),3,0) -> 0
A36: =IF($A$2="","",$A$2+30) -> 42155 | H36: =(G36-F36)+(E36-D36)+(C36-B36) -> 0 | J36: =IF(OR(AND(B36<=$O$1,C36>$O$1),AND(D36<=$O$1,E36>$O$1),AND(F36<=$O$1,G36>$O$1)),$B$40,"") | K36: =IF(OR(AND(B36<=$L$1,C36>$L$1),AND(D36<=$L$1,E36>$L$1),AND(F36<=$L$1,G36>$L$1)),$B$41,"") | L36: =IF(OR(IF( B36,3,0),IF(D36,3,0),IF(F36,3,0)),3,0) -> 0
A37: TOTAUX | H37: =SUM(H6:H36)*24 -> 0 | I37: =SUM(I6:I36)*24 -> 0 | J37: =SUM(J6:J36) -> 0 | K37: =SUM(K6:K36) -> 0 | L37: =SUM(L6:L36) -> 0
A39: Entetien | B39: =janvier!$B39 -> 0 | C39: Salaires de base | E39: =janvier!$E$39 -> 0
A40: Repas | B40: =janvier!$B40 -> 0 | C40: Taux horaire | E40: =janvier!$E$39 -> 0 | H40: Salaires net à payer | J40: =E39+(H37*E40)+SUM(J37:L37) -> 0
A41: Gouter | B41: =janvier!$B41 -> 0

Sheet juin
K1: Gouter | L1: 0.66666667 | N1: Repas | O1: 0.51041667
A2: 42156 | C2: FICHE DE PRESENCE
A3: NOM PRENOM :
A4: DATE | B4: MATIN | D4: MIDI | F4: SOIR | H4: TOTAL HEURE/JOUR | I4: HEURES COMPL. | J4: REPAS | K4: GOUTER | L4: INDEMNITE D'ENTRETIEN
B5: Arrivée | C5: Départ | D5: Arrivée | E5: Départ | F5: Arrivée | G5: Départ
A6: =A2 -> 42156 | H6: =(G6-F6)+(E6-D6)+(C6-B6) -> 0 | J6: =IF(OR(AND(B6<=$O$1,C6>$O$1),AND(D6<=$O$1,E6>$O$1),AND(F6<=$O$1,G6>$O$1)),$B$40,"") | K6: =IF(OR(AND(B6<=$L$1,C6>$L$1),AND(D6<=$L$1,E6>$L$1),AND(F6<=$L$1,G6>$L$1)),$B$41,"") | L6: =IF(OR(IF(B6,3,0),IF(D6,3,0),IF(F6,3,0)),3,0) -> 0
A7: =IF($A$2="","",$A$2+1) -> 42157 | H7: =(G7-F7)+(E7-D7)+(C7-B7) -> 0 | J7: =IF(OR(AND(B7<=$O$1,C7>$O$1),AND(D7<=$O$1,E7>$O$1),AND(F7<=$O$1,G7>$O$1)),$B$40,"") | K7: =IF(OR(AND(B7<=$L$1,C7>$L$1),AND(D7<=$L$1,E7>$L$1),AND(F7<=$L$1,G7>$L$1)),$B$41,"") | L7: =IF(OR(IF( B7,3,0),IF(D7,3,0),IF(F7,3,0)),3,0) -> 0
A8: =IF($A$2="","",$A$2+2) -> 42158 | H8: =(G8-F8)+(E8-D8)+(C8-B8) -> 0 | J8: =IF(OR(AND(B8<=$O$1,C8>$O$1),AND(D8<=$O$1,E8>$O$1),AND(F8<=$O$1,G8>$O$1)),$B$40,"") | K8: =IF(OR(AND(B8<=$L$1,C8>$L$1),AND(D8<=$L$1,E8>$L$1),AND(F8<=$L$1,G8>$L$1)),$B$41,"") | L8: =IF(OR(IF( B8,3,0),IF(D8,3,0),IF(F8,3,0)),3,0) -> 0
A9: =IF($A$2="","",$A$2+3) -> 42159 | H9: =(G9-F9)+(E9-D9)+(C9-B9) -> 0 | J9: =IF(OR(AND(B9<=$O$1,C9>$O$1),AND(D9<=$O$1,E9>$O$1),AND(F9<=$O$1,G9>$O$1)),$B$40,"") | K9: =IF(OR(AND(B9<=$L$1,C9>$L$1),AND(D9<=$L$1,E9>$L$1),AND(F9<=$L$1,G9>$L$1)),$B$41,"") | L9: =IF(OR(IF( B9,3,0),IF(D9,3,0),IF(F9,3,0)),3,0) -> 0
A10: =IF($A$2="","",$A$2+4) -> 42160 | H10: =(G10-F10)+(E10-D10)+(C10-B10) -> 0 | J10: =IF(OR(AND(B10<=$O$1,C10>$O$1),AND(D10<=$O$1,E10>$O$1),AND(F10<=$O$1,G10>$O$1)),$B$40,"") | K10: =IF(OR(AND(B10<=$L$1,C10>$L$1),AND(D10<=$L$1,E10>$L$1),AND(F10<=$L$1,G10>$L$1)),$B$41,"") | L10: =IF(OR(IF( B10,3,0),IF(D10,3,0),IF(F10,3,0)),3,0) -> 0
A11: =IF($A$2="","",$A$2+5) -> 42161 | H11: =(G11-F11)+(E11-D11)+(C11-B11) -> 0 | J11: =IF(OR(AND(B11<=$O$1,C11>$O$1),AND(D11<=$O$1,E11>$O$1),AND(F11<=$O$1,G11>$O$1)),$B$40,"") | K11: =IF(OR(AND(B11<=$L$1,C11>$L$1),AND(D11<=$L$1,E11>$L$1),AND(F11<=$L$1,G11>$L$1)),$B$41,"") | L11: =IF(OR(IF( B11,3,0),IF(D11,3,0),IF(F11,3,0)),3,0) -> 0
A12: =IF($A$2="","",$A$2+6) -> 42162 | H12: =(G12-F12)+(E12-D12)+(C12-B12) -> 0 | J12: =IF(OR(AND(B12<=$O$1,C12>$O$1),AND(D12<=$O$1,E12>$O$1),AND(F12<=$O$1,G12>$O$1)),$B$40,"") | K12: =IF(OR(AND(B12<=$L$1,C12>$L$1),AND(D12<=$L$1,E12>$L$1),AND(F12<=$L$1,G12>$L$1)),$B$41,"") | L12: =IF(OR(IF( B12,3,0),IF(D12,3,0),IF(F12,3,0)),3,0) -> 0
A13: =IF($A$2="","",$A$2+7) -> 42163 | H13: =(G13-F13)+(E13-D13)+(C13-B13) -> 0 | J13: =IF(OR(AND(B13<=$O$1,C13>$O$1),AND(D13<=$O$1,E13>$O$1),AND(F13<=$O$1,G13>$O$1)),$B$40,"") | K13: =IF(OR(AND(B13<=$L$1,C13>$L$1),AND(D13<=$L$1,E13>$L$1),AND(F13<=$L$1,G13>$L$1)),$B$41,"") | L13: =IF(OR(IF( B13,3,0),IF(D13,3,0),IF(F13,3,0)),3,0) -> 0
A14: =IF($A$2="","",$A$2+8) -> 42164 | H14: =(G14-F14)+(E14-D14)+(C14-B14) -> 0 | J14: =IF(OR(AND(B14<=$O$1,C14>$O$1),AND(D14<=$O$1,E14>$O$1),AND(F14<=$O$1,G14>$O$1)),$B$40,"") | K14: =IF(OR(AND(B14<=$L$1,C14>$L$1),AND(D14<=$L$1,E14>$L$1),AND(F14<=$L$1,G14>$L$1)),$B$41,"") | L14: =IF(OR(IF( B14,3,0),IF(D14,3,0),IF(F14,3,0)),3,0) -> 0
A15: =IF($A$2="","",$A$2+9) -> 42165 | H15: =(G15-F15)+(E15-D15)+(C15-B15) -> 0 | J15: =IF(OR(AND(B15<=$O$1,C15>$O$1),AND(D15<=$O$1,E15>$O$1),AND(F15<=$O$1,G15>$O$1)),$B$40,"") | K15: =IF(OR(AND(B15<=$L$1,C15>$L$1),AND(D15<=$L$1,E15>$L$1),AND(F15<=$L$1,G15>$L$1)),$B$41,"") | L15: =IF(OR(IF( B15,3,0),IF(D15,3,0),IF(F15,3,0)),3,0) -> 0
A16: =IF($A$2="","",$A$2+10) -> 42166 | H16: =(G16-F16)+(E16-D16)+(C16-B16) -> 0 | J16: =IF(OR(AND(B16<=$O$1,C16>$O$1),AND(D16<=$O$1,E16>$O$1),AND(F16<=$O$1,G16>$O$1)),$B$40,"") | K16: =IF(OR(AND(B16<=$L$1,C16>$L$1),AND(D16<=$L$1,E16>$L$1),AND(F16<=$L$1,G16>$L$1)),$B$41,"") | L16: =IF(OR(IF( B16,3,0),IF(D16,3,0),IF(F16,3,0)),3,0) -> 0
A17: =IF($A$2="","",$A$2+11) -> 42167 | H17: =(G17-F17)+(E17-D17)+(C17-B17) -> 0 | J17: =IF(OR(AND(B17<=$O$1,C17>$O$1),AND(D17<=$O$1,E17>$O$1),AND(F17<=$O$1,G17>$O$1)),$B$40,"") | K17: =IF(OR(AND(B17<=$L$1,C17>$L$1),AND(D17<=$L$1,E17>$L$1),AND(F17<=$L$1,G17>$L$1)),$B$41,"") | L17: =IF(OR(IF( B17,3,0),IF(D17,3,0),IF(F17,3,0)),3,0) -> 0
A18: =IF($A$2="","",$A$2+12) -> 42168 | H18: =(G18-F18)+(E18-D18)+(C18-B18) -> 0 | J18: =IF(OR(AND(B18<=$O$1,C18>$O$1),AND(D18<=$O$1,E18>$O$1),AND(F18<=$O$1,G18>$O$1)),$B$40,"") | K18: =IF(OR(AND(B18<=$L$1,C18>$L$1),AND(D18<=$L$1,E18>$L$1),AND(F18<=$L$1,G18>$L$1)),$B$41,"") | L18: =IF(OR(IF( B18,3,0),IF(D18,3,0),IF(F18,3,0)),3,0) -> 0
A19: =IF($A$2="","",$A$2+13) -> 42169 | H19: =(G19-F19)+(E19-D19)+(C19-B19) -> 0 | J19: =IF(OR(AND(B19<=$O$1,C19>$O$1),AND(D19<=$O$1,E19>$O$1),AND(F19<=$O$1,G19>$O$1)),$B$40,"") | K19: =IF(OR(AND(B19<=$L$1,C19>$L$1),AND(D19<=$L$1,E19>$L$1),AND(F19<=$L$1,G19>$L$1)),$B$41,"") | L19: =IF(OR(IF( B19,3,0),IF(D19,3,0),IF(F19,3,0)),3,0) -> 0
A20: =IF($A$2="","",$A$2+14) -> 42170 | H20: =(G20-F20)+(E20-D20)+(C20-B20) -> 0 | J20: =IF(OR(AND(B20<=$O$1,C20>$O$1),AND(D20<=$O$1,E20>$O$1),AND(F20<=$O$1,G20>$O$1)),$B$40,"") | K20: =IF(OR(AND(B20<=$L$1,C20>$L$1),AND(D20<=$L$1,E20>$L$1),AND(F20<=$L$1,G20>$L$1)),$B$41,"") | L20: =IF(OR(IF( B20,3,0),IF(D20,3,0),IF(F20,3,0)),3,0) -> 0
A21: =IF($A$2="","",$A$2+15) -> 42171 | H21: =(G21-F21)+(E21-D21)+(C21-B21) -> 0 | J21: =IF(OR(AND(B21<=$O$1,C21>$O$1),AND(D21<=$O$1,E21>$O$1),AND(F21<=$O$1,G21>$O$1)),$B$40,"") | K21: =IF(OR(AND(B21<=$L$1,C21>$L$1),AND(D21<=$L$1,E21>$L$1),AND(F21<=$L$1,G21>$L$1)),$B$41,"") | L21: =IF(OR(IF( B21,3,0),IF(D21,3,0),IF(F21,3,0)),3,0) -> 0
A22: =IF($A$2="","",$A$2+16) -> 42172 | H22: =(G22-F22)+(E22-D22)+(C22-B22) -> 0 | J22: =IF(OR(AND(B22<=$O$1,C22>$O$1),AND(D22<=$O$1,E22>$O$1),AND(F22<=$O$1,G22>$O$1)),$B$40,"") | K22: =IF(OR(AND(B22<=$L$1,C22>$L$1),AND(D22<=$L$1,E22>$L$1),AND(F22<=$L$1,G22>$L$1)),$B$41,"") | L22: =IF(OR(IF( B22,3,0),IF(D22,3,0),IF(F22,3,0)),3,0) -> 0
A23: =IF($A$2="","",$A$2+17) -> 42173 | H23: =(G23-F23)+(E23-D23)+(C23-B23) -> 0 | J23: =IF(OR(AND(B23<=$O$1,C23>$O$1),AND(D23<=$O$1,E23>$O$1),AND(F23<=$O$1,G23>$O$1)),$B$40,"") | K23: =IF(OR(AND(B23<=$L$1,C23>$L$1),AND(D23<=$L$1,E23>$L$1),AND(F23<=$L$1,G23>$L$1)),$B$41,"") | L23: =IF(OR(IF( B23,3,0),IF(D23,3,0),IF(F23,3,0)),3,0) -> 0
A24: =IF($A$2="","",$A$2+18) -> 42174 | H24: =(G24-F24)+(E24-D24)+(C24-B24) -> 0 | J24: =IF(OR(AND(B24<=$O$1,C24>$O$1),AND(D24<=$O$1,E24>$O$1),AND(F24<=$O$1,G24>$O$1)),$B$40,"") | K24: =IF(OR(AND(B24<=$L$1,C24>$L$1),AND(D24<=$L$1,E24>$L$1),AND(F24<=$L$1,G24>$L$1)),$B$41,"") | L24: =IF(OR(IF( B24,3,0),IF(D24,3,0),IF(F24,3,0)),3,0) -> 0
A25: =IF($A$2="","",$A$2+19) -> 42175 | H25: =(G25-F25)+(E25-D25)+(C25-B25) -> 0 | J25: =IF(OR(AND(B25<=$O$1,C25>$O$1),AND(D25<=$O$1,E25>$O$1),AND(F25<=$O$1,G25>$O$1)),$B$40,"") | K25: =IF(OR(AND(B25<=$L$1,C25>$L$1),AND(D25<=$L$1,E25>$L$1),AND(F25<=$L$1,G25>$L$1)),$B$41,"") | L25: =IF(OR(IF( B25,3,0),IF(D25,3,0),IF(F25,3,0)),3,0) -> 0
A26: =IF($A$2="","",$A$2+20) -> 42176 | H26: =(G26-F26)+(E26-D26)+(C26-B26) -> 0 | J26: =IF(OR(AND(B26<=$O$1,C26>$O$1),AND(D26<=$O$1,E26>$O$1),AND(F26<=$O$1,G26>$O$1)),$B$40,"") | K26: =IF(OR(AND(B26<=$L$1,C26>$L$1),AND(D26<=$L$1,E26>$L$1),AND(F26<=$L$1,G26>$L$1)),$B$41,"") | L26: =IF(OR(IF( B26,3,0),IF(D26,3,0),IF(F26,3,0)),3,0) -> 0
A27: =IF($A$2="","",$A$2+21) -> 42177 | H27: =(G27-F27)+(E27-D27)+(C27-B27) -> 0 | J27: =IF(OR(AND(B27<=$O$1,C27>$O$1),AND(D27<=$O$1,E27>$O$1),AND(F27<=$O$1,G27>$O$1)),$B$40,"") | K27: =IF(OR(AND(B27<=$L$1,C27>$L$1),AND(D27<=$L$1,E27>$L$1),AND(F27<=$L$1,G27>$L$1)),$B$41,"") | L27: =IF(OR(IF( B27,3,0),IF(D27,3,0),IF(F27,3,0)),3,0) -> 0
A28: =IF($A$2="","",$A$2+22) -> 42178 | H28: =(G28-F28)+(E28-D28)+(C28-B28) -> 0 | J28: =IF(OR(AND(B28<=$O$1,C28>$O$1),AND(D28<=$O$1,E28>$O$1),AND(F28<=$O$1,G28>$O$1)),$B$40,"") | K28: =IF(OR(AND(B28<=$L$1,C28>$L$1),AND(D28<=$L$1,E28>$L$1),AND(F28<=$L$1,G28>$L$1)),$B$41,"") | L28: =IF(OR(IF( B28,3,0),IF(D28,3,0),IF(F28,3,0)),3,0) -> 0
A29: =IF($A$2="","",$A$2+23) -> 42179 | H29: =(G29-F29)+(E29-D29)+(C29-B29) -> 0 | J29: =IF(OR(AND(B29<=$O$1,C29>$O$1),AND(D29<=$O$1,E29>$O$1),AND(F29<=$O$1,G29>$O$1)),$B$40,"") | K29: =IF(OR(AND(B29<=$L$1,C29>$L$1),AND(D29<=$L$1,E29>$L$1),AND(F29<=$L$1,G29>$L$1)),$B$41,"") | L29: =IF(OR(IF( B29,3,0),IF(D29,3,0),IF(F29,3,0)),3,0) -> 0
A30: =IF($A$2="","",$A$2+24) -> 42180 | H30: =(G30-F30)+(E30-D30)+(C30-B30) -> 0 | J30: =IF(OR(AND(B30<=$O$1,C30>$O$1),AND(D30<=$O$1,E30>$O$1),AND(F30<=$O$1,G30>$O$1)),$B$40,"") | K30: =IF(OR(AND(B30<=$L$1,C30>$L$1),AND(D30<=$L$1,E30>$L$1),AND(F30<=$L$1,G30>$L$1)),$B$41,"") | L30: =IF(OR(IF( B30,3,0),IF(D30,3,0),IF(F30,3,0)),3,0) -> 0
A31: =IF($A$2="","",$A$2+25) -> 42181 | H31: =(G31-F31)+(E31-D31)+(C31-B31) -> 0 | J31: =IF(OR(AND(B31<=$O$1,C31>$O$1),AND(D31<=$O$1,E31>$O$1),AND(F31<=$O$1,G31>$O$1)),$B$40,"") | K31: =IF(OR(AND(B31<=$L$1,C31>$L$1),AND(D31<=$L$1,E31>$L$1),AND(F31<=$L$1,G31>$L$1)),$B$41,"") | L31: =IF(OR(IF( B31,3,0),IF(D31,3,0),IF(F31,3,0)),3,0) -> 0
A32: =IF($A$2="","",$A$2+26) -> 42182 | H32: =(G32-F32)+(E32-D32)+(C32-B32) -> 0 | J32: =IF(OR(AND(B32<=$O$1,C32>$O$1),AND(D32<=$O$1,E32>$O$1),AND(F32<=$O$1,G32>$O$1)),$B$40,"") | K32: =IF(OR(AND(B32<=$L$1,C32>$L$1),AND(D32<=$L$1,E32>$L$1),AND(F32<=$L$1,G32>$L$1)),$B$41,"") | L32: =IF(OR(IF( B32,3,0),IF(D32,3,0),IF(F32,3,0)),3,0) -> 0
A33: =IF($A$2="","",$A$2+27) -> 42183 | H33: =(G33-F33)+(E33-D33)+(C33-B33) -> 0 | J33: =IF(OR(AND(B33<=$O$1,C33>$O$1),AND(D33<=$O$1,E33>$O$1),AND(F33<=$O$1,G33>$O$1)),$B$40,"") | K33: =IF(OR(AND(B33<=$L$1,C33>$L$1),AND(D33<=$L$1,E33>$L$1),AND(F33<=$L$1,G33>$L$1)),$B$41,"") | L33: =IF(OR(IF( B33,3,0),IF(D33,3,0),IF(F33,3,0)),3,0) -> 0
A34: =IF($A$2="","",$A$2+28) -> 42184 | H34: =(G34-F34)+(E34-D34)+(C34-B34) -> 0 | J34: =IF(OR(AND(B34<=$O$1,C34>$O$1),AND(D34<=$O$1,E34>$O$1),AND(F34<=$O$1,G34>$O$1)),$B$40,"") | K34: =IF(OR(AND(B34<=$L$1,C34>$L$1),AND(D34<=$L$1,E34>$L$1),AND(F34<=$L$1,G34>$L$1)),$B$41,"") | L34: =IF(OR(IF( B34,3,0),IF(D34,3,0),IF(F34,3,0)),3,0) -> 0
A35: =IF($A$2="","",$A$2+29) -> 42185 | H35: =(G35-F35)+(E35-D35)+(C35-B35) -> 0 | J35: =IF(OR(AND(B35<=$O$1,C35>$O$1),AND(D35<=$O$1,E35>$O$1),AND(F35<=$O$1,G35>$O$1)),$B$40,"") | K35: =IF(OR(AND(B35<=$L$1,C35>$L$1),AND(D35<=$L$1,E35>$L$1),AND(F35<=$L$1,G35>$L$1)),$B$41,"") | L35: =IF(OR(IF( B35,3,0),IF(D35,3,0),IF(F35,3,0)),3,0) -> 0
A36: =IF($A$2="","",$A$2+30) -> 42186 | H36: =(G36-F36)+(E36-D36)+(C36-B36) -> 0 | J36: =IF(OR(AND(B36<=$O$1,C36>$O$1),AND(D36<=$O$1,E36>$O$1),AND(F36<=$O$1,G36>$O$1)),$B$40,"") | K36: =IF(OR(AND(B36<=$L$1,C36>$L$1),AND(D36<=$L$1,E36>$L$1),AND(F36<=$L$1,G36>$L$1)),$B$41,"") | L36: =IF(OR(IF( B36,3,0),IF(D36,3,0),IF(F36,3,0)),3,0) -> 0
A37: TOTAUX | H37: =SUM(H6:H36)*24 -> 0 | I37: =SUM(I6:I36)*24 -> 0 | J37: =SUM(J6:J36) -> 0 | K37: =SUM(K6:K36) -> 0 | L37: =SUM(L6:L36) -> 0
A39: Entetien | B39: =janvier!$B39 -> 0 | C39: Salaires de base | E39: =janvier!$E$39 -> 0
A40: Repas | B40: =janvier!$B40 -> 0 | C40: Taux horaire | E40: =janvier!$E$39 -> 0 | H40: Salaires net à payer | J40: =E39+(H37*E40)+SUM(J37:L37) -> 0
A41: Gouter | B41: =janvier!$B41 -> 0

Sheet juillet
K1: Gouter | L1: 0.66666667 | N1: Repas | O1: 0.51041667
A2: 42186 | C2: FICHE DE PRESENCE
A3: NOM PRENOM :
A4: DATE | B4: MATIN | D4: MIDI | F4: SOIR | H4: TOTAL HEURE/JOUR | I4: HEURES COMPL. | J4: REPAS | K4: GOUTER | L4: INDEMNITE D'ENTRETIEN
B5: Arrivée | C5: Départ | D5: Arrivée | E5: Départ | F5: Arrivée | G5: Départ
A6: =A2 -> 42186 | H6: =(G6-F6)+(E6-D6)+(C6-B6) -> 0 | J6: =IF(OR(AND(B6<=$O$1,C6>$O$1),AND(D6<=$O$1,E6>$O$1),AND(F6<=$O$1,G6>$O$1)),$B$40,"") | K6: =IF(OR(AND(B6<=$L$1,C6>$L$1),AND(D6<=$L$1,E6>$L$1),AND(F6<=$L$1,G6>$L$1)),$B$41,"") | L6: =IF(OR(IF(B6,3,0),IF(D6,3,0),IF(F6,3,0)),3,0) -> 0
A7: =IF($A$2="","",$A$2+1) -> 42187 | H7: =(G7-F7)+(E7-D7)+(C7-B7) -> 0 | J7: =IF(OR(AND(B7<=$O$1,C7>$O$1),AND(D7<=$O$1,E7>$O$1),AND(F7<=$O$1,G7>$O$1)),$B$40,"") | K7: =IF(OR(AND(B7<=$L$1,C7>$L$1),AND(D7<=$L$1,E7>$L$1),AND(F7<=$L$1,G7>$L$1)),$B$41,"") | L7: =IF(OR(IF( B7,3,0),IF(D7,3,0),IF(F7,3,0)),3,0) -> 0
A8: =IF($A$2="","",$A$2+2) -> 42188 | H8: =(G8-F8)+(E8-D8)+(C8-B8) -> 0 | J8: =IF(OR(AND(B8<=$O$1,C8>$O$1),AND(D8<=$O$1,E8>$O$1),AND(F8<=$O$1,G8>$O$1)),$B$40,"") | K8: =IF(OR(AND(B8<=$L$1,C8>$L$1),AND(D8<=$L$1,E8>$L$1),AND(F8<=$L$1,G8>$L$1)),$B$41,"") | L8: =IF(OR(IF( B8,3,0),IF(D8,3,0),IF(F8,3,0)),3,0) -> 0
A9: =IF($A$2="","",$A$2+3) -> 42189 | H9: =(G9-F9)+(E9-D9)+(C9-B9) -> 0 | J9: =IF(OR(AND(B9<=$O$1,C9>$O$1),AND(D9<=$O$1,E9>$O$1),AND(F9<=$O$1,G9>$O$1)),$B$40,"") | K9: =IF(OR(AND(B9<=$L$1,C9>$L$1),AND(D9<=$L$1,E9>$L$1),AND(F9<=$L$1,G9>$L$1)),$B$41,"") | L9: =IF(OR(IF( B9,3,0),IF(D9,3,0),IF(F9,3,0)),3,0) -> 0
A10: =IF($A$2="","",$A$2+4) -> 42190 | H10: =(G10-F10)+(E10-D10)+(C10-B10) -> 0 | J10: =IF(OR(AND(B10<=$O$1,C10>$O$1),AND(D10<=$O$1,E10>$O$1),AND(F10<=$O$1,G10>$O$1)),$B$40,"") | K10: =IF(OR(AND(B10<=$L$1,C10>$L$1),AND(D10<=$L$1,E10>$L$1),AND(F10<=$L$1,G10>$L$1)),$B$41,"") | L10: =IF(OR(IF( B10,3,0),IF(D10,3,0),IF(F10,3,0)),3,0) -> 0
A11: =IF($A$2="","",$A$2+5) -> 42191 | H11: =(G11-F11)+(E11-D11)+(C11-B11) -> 0 | J11: =IF(OR(AND(B11<=$O$1,C11>$O$1),AND(D11<=$O$1,E11>$O$1),AND(F11<=$O$1,G11>$O$1)),$B$40,"") | K11: =IF(OR(AND(B11<=$L$1,C11>$L$1),AND(D11<=$L$1,E11>$L$1),AND(F11<=$L$1,G11>$L$1)),$B$41,"") | L11: =IF(OR(IF( B11,3,0),IF(D11,3,0),IF(F11,3,0)),3,0) -> 0
A12: =IF($A$2="","",$A$2+6) -> 42192 | H12: =(G12-F12)+(E12-D12)+(C12-B12) -> 0 | J12: =IF(OR(AND(B12<=$O$1,C12>$O$1),AND(D12<=$O$1,E12>$O$1),AND(F12<=$O$1,G12>$O$1)),$B$40,"") | K12: =IF(OR(AND(B12<=$L$1,C12>$L$1),AND(D12<=$L$1,E12>$L$1),AND(F12<=$L$1,G12>$L$1)),$B$41,"") | L12: =IF(OR(IF( B12,3,0),IF(D12,3,0),IF(F12,3,0)),3,0) -> 0
A13: =IF($A$2="","",$A$2+7) -> 42193 | H13: =(G13-F13)+(E13-D13)+(C13-B13) -> 0 | J13: =IF(OR(AND(B13<=$O$1,C13>$O$1),AND(D13<=$O$1,E13>$O$1),AND(F13<=$O$1,G13>$O$1)),$B$40,"") | K13: =IF(OR(AND(B13<=$L$1,C13>$L$1),AND(D13<=$L$1,E13>$L$1),AND(F13<=$L$1,G13>$L$1)),$B$41,"") | L13: =IF(OR(IF( B13,3,0),IF(D13,3,0),IF(F13,3,0)),3,0) -> 0
A14: =IF($A$2="","",$A$2+8) -> 42194 | H14: =(G14-F14)+(E14-D14)+(C14-B14) -> 0 | J14: =IF(OR(AND(B14<=$O$1,C14>$O$1),AND(D14<=$O$1,E14>$O$1),AND(F14<=$O$1,G14>$O$1)),$B$40,"") | K14: =IF(OR(AND(B14<=$L$1,C14>$L$1),AND(D14<=$L$1,E14>$L$1),AND(F14<=$L$1,G14>$L$1)),$B$41,"") | L14: =IF(OR(IF( B14,3,0),IF(D14,3,0),IF(F14,3,0)),3,0) -> 0
A15: =IF($A$2="","",$A$2+9) -> 42195 | H15: =(G15-F15)+(E15-D15)+(C15-B15) -> 0 | J15: =IF(OR(AND(B15<=$O$1,C15>$O$1),AND(D15<=$O$1,E15>$O$1),AND(F15<=$O$1,G15>$O$1)),$B$40,"") | K15: =IF(OR(AND(B15<=$L$1,C15>$L$1),AND(D15<=$L$1,E15>$L$1),AND(F15<=$L$1,G15>$L$1)),$B$41,"") | L15: =IF(OR(IF( B15,3,0),IF(D15,3,0),IF(F15,3,0)),3,0) -> 0
A16: =IF($A$2="","",$A$2+10) -> 42196 | H16: =(G16-F16)+(E16-D16)+(C16-B16) -> 0 | J16: =IF(OR(AND(B16<=$O$1,C16>$O$1),AND(D16<=$O$1,E16>$O$1),AND(F16<=$O$1,G16>$O$1)),$B$40,"") | K16: =IF(OR(AND(B16<=$L$1,C16>$L$1),AND(D16<=$L$1,E16>$L$1),AND(F16<=$L$1,G16>$L$1)),$B$41,"") | L16: =IF(OR(IF( B16,3,0),IF(D16,3,0),IF(F16,3,0)),3,0) -> 0
A17: =IF($A$2="","",$A$2+11) -> 42197 | H17: =(G17-F17)+(E17-D17)+(C17-B17) -> 0 | J17: =IF(OR(AND(B17<=$O$1,C17>$O$1),AND(D17<=$O$1,E17>$O$1),AND(F17<=$O$1,G17>$O$1)),$B$40,"") | K17: =IF(OR(AND(B17<=$L$1,C17>$L$1),AND(D17<=$L$1,E17>$L$1),AND(F17<=$L$1,G17>$L$1)),$B$41,"") | L17: =IF(OR(IF( B17,3,0),IF(D17,3,0),IF(F17,3,0)),3,0) -> 0
A18: =IF($A$2="","",$A$2+12) -> 42198 | H18: =(G18-F18)+(E18-D18)+(C18-B18) -> 0 | J18: =IF(OR(AND(B18<=$O$1,C18>$O$1),AND(D18<=$O$1,E18>$O$1),AND(F18<=$O$1,G18>$O$1)),$B$40,"") | K18: =IF(OR(AND(B18<=$L$1,C18>$L$1),AND(D18<=$L$1,E18>$L$1),AND(F18<=$L$1,G18>$L$1)),$B$41,"") | L18: =IF(OR(IF( B18,3,0),IF(D18,3,0),IF(F18,3,0)),3,0) -> 0
A19: =IF($A$2="","",$A$2+13) -> 42199 | H19: =(G19-F19)+(E19-D19)+(C19-B19) -> 0 | J19: =IF(OR(AND(B19<=$O$1,C19>$O$1),AND(D19<=$O$1,E19>$O$1),AND(F19<=$O$1,G19>$O$1)),$B$40,"") | K19: =IF(OR(AND(B19<=$L$1,C19>$L$1),AND(D19<=$L$1,E19>$L$1),AND(F19<=$L$1,G19>$L$1)),$B$41,"") | L19: =IF(OR(IF( B19,3,0),IF(D19,3,0),IF(F19,3,0)),3,0) -> 0
A20: =IF($A$2="","",$A$2+14) -> 42200 | H20: =(G20-F20)+(E20-D20)+(C20-B20) -> 0 | J20: =IF(OR(AND(B20<=$O$1,C20>$O$1),AND(D20<=$O$1,E20>$O$1),AND(F20<=$O$1,G20>$O$1)),$B$40,"") | K20: =IF(OR(AND(B20<=$L$1,C20>$L$1),AND(D20<=$L$1,E20>$L$1),AND(F20<=$L$1,G20>$L$1)),$B$41,"") | L20: =IF(OR(IF( B20,3,0),IF(D20,3,0),IF(F20,3,0)),3,0) -> 0
A21: =IF($A$2="","",$A$2+15) -> 42201 | H21: =(G21-F21)+(E21-D21)+(C21-B21) -> 0 | J21: =IF(OR(AND(B21<=$O$1,C21>$O$1),AND(D21<=$O$1,E21>$O$1),AND(F21<=$O$1,G21>$O$1)),$B$40,"") | K21: =IF(OR(AND(B21<=$L$1,C21>$L$1),AND(D21<=$L$1,E21>$L$1),AND(F21<=$L$1,G21>$L$1)),$B$41,"") | L21: =IF(OR(IF( B21,3,0),IF(D21,3,0),IF(F21,3,0)),3,0) -> 0
A22: =IF($A$2="","",$A$2+16) -> 42202 | H22: =(G22-F22)+(E22-D22)+(C22-B22) -> 0 | J22: =IF(OR(AND(B22<=$O$1,C22>$O$1),AND(D22<=$O$1,E22>$O$1),AND(F22<=$O$1,G22>$O$1)),$B$40,"") | K22: =IF(OR(AND(B22<=$L$1,C22>$L$1),AND(D22<=$L$1,E22>$L$1),AND(F22<=$L$1,G22>$L$1)),$B$41,"") | L22: =IF(OR(IF( B22,3,0),IF(D22,3,0),IF(F22,3,0)),3,0) -> 0
A23: =IF($A$2="","",$A$2+17) -> 42203 | H23: =(G23-F23)+(E23-D23)+(C23-B23) -> 0 | J23: =IF(OR(AND(B23<=$O$1,C23>$O$1),AND(D23<=$O$1,E23>$O$1),AND(F23<=$O$1,G23>$O$1)),$B$40,"") | K23: =IF(OR(AND(B23<=$L$1,C23>$L$1),AND(D23<=$L$1,E23>$L$1),AND(F23<=$L$1,G23>$L$1)),$B$41,"") | L23: =IF(OR(IF( B23,3,0),IF(D23,3,0),IF(F23,3,0)),3,0) -> 0
A24: =IF($A$2="","",$A$2+18) -> 42204 | H24: =(G24-F24)+(E24-D24)+(C24-B24) -> 0 | J24: =IF(OR(AND(B24<=$O$1,C24>$O$1),AND(D24<=$O$1,E24>$O$1),AND(F24<=$O$1,G24>$O$1)),$B$40,"") | K24: =IF(OR(AND(B24<=$L$1,C24>$L$1),AND(D24<=$L$1,E24>$L$1),AND(F24<=$L$1,G24>$L$1)),$B$41,"") | L24: =IF(OR(IF( B24,3,0),IF(D24,3,0),IF(F24,3,0)),3,0) -> 0
A25: =IF($A$2="","",$A$2+19) -> 42205 | H25: =(G25-F25)+(E25-D25)+(C25-B25) -> 0 | J25: =IF(OR(AND(B25<=$O$1,C25>$O$1),AND(D25<=$O$1,E25>$O$1),AND(F25<=$O$1,G25>$O$1)),$B$40,"") | K25: =IF(OR(AND(B25<=$L$1,C25>$L$1),AND(D25<=$L$1,E25>$L$1),AND(F25<=$L$1,G25>$L$1)),$B$41,"") | L25: =IF(OR(IF( B25,3,0),IF(D25,3,0),IF(F25,3,0)),3,0) -> 0
A26: =IF($A$2="","",$A$2+20) -> 42206 | H26: =(G26-F26)+(E26-D26)+(C26-B26) -> 0 | J26: =IF(OR(AND(B26<=$O$1,C26>$O$1),AND(D26<=$O$1,E26>$O$1),AND(F26<=$O$1,G26>$O$1)),$B$40,"") | K26: =IF(OR(AND(B26<=$L$1,C26>$L$1),AND(D26<=$L$1,E26>$L$1),AND(F26<=$L$1,G26>$L$1)),$B$41,"") | L26: =IF(OR(IF( B26,3,0),IF(D26,3,0),IF(F26,3,0)),3,0) -> 0
A27: =IF($A$2="","",$A$2+21) -> 42207 | H27: =(G27-F27)+(E27-D27)+(C27-B27) -> 0 | J27: =IF(OR(AND(B27<=$O$1,C27>$O$1),AND(D27<=$O$1,E27>$O$1),AND(F27<=$O$1,G27>$O$1)),$B$40,"") | K27: =IF(OR(AND(B27<=$L$1,C27>$L$1),AND(D27<=$L$1,E27>$L$1),AND(F27<=$L$1,G27>$L$1)),$B$41,"") | L27: =IF(OR(IF( B27,3,0),IF(D27,3,0),IF(F27,3,0)),3,0) -> 0
A28: =IF($A$2="","",$A$2+22) -> 42208 | H28: =(G28-F28)+(E28-D28)+(C28-B28) -> 0 | J28: =IF(OR(AND(B28<=$O$1,C28>$O$1),AND(D28<=$O$1,E28>$O$1),AND(F28<=$O$1,G28>$O$1)),$B$40,"") | K28: =IF(OR(AND(B28<=$L$1,C28>$L$1),AND(D28<=$L$1,E28>$L$1),AND(F28<=$L$1,G28>$L$1)),$B$41,"") | L28: =IF(OR(IF( B28,3,0),IF(D28,3,0),IF(F28,3,0)),3,0) -> 0
A29: =IF($A$2="","",$A$2+23) -> 42209 | H29: =(G29-F29)+(E29-D29)+(C29-B29) -> 0 | J29: =IF(OR(AND(B29<=$O$1,C29>$O$1),AND(D29<=$O$1,E29>$O$1),AND(F29<=$O$1,G29>$O$1)),$B$40,"") | K29: =IF(OR(AND(B29<=$L$1,C29>$L$1),AND(D29<=$L$1,E29>$L$1),AND(F29<=$L$1,G29>$L$1)),$B$41,"") | L29: =IF(OR(IF( B29,3,0),IF(D29,3,0),IF(F29,3,0)),3,0) -> 0
A30: =IF($A$2="","",$A$2+24) -> 42210 | H30: =(G30-F30)+(E30-D30)+(C30-B30) -> 0 | J30: =IF(OR(AND(B30<=$O$1,C30>$O$1),AND(D30<=$O$1,E30>$O$1),AND(F30<=$O$1,G30>$O$1)),$B$40,"") | K30: =IF(OR(AND(B30<=$L$1,C30>$L$1),AND(D30<=$L$1,E30>$L$1),AND(F30<=$L$1,G30>$L$1)),$B$41,"") | L30: =IF(OR(IF( B30,3,0),IF(D30,3,0),IF(F30,3,0)),3,0) -> 0
A31: =IF($A$2="","",$A$2+25) -> 42211 | H31: =(G31-F31)+(E31-D31)+(C31-B31) -> 0 | J31: =IF(OR(AND(B31<=$O$1,C31>$O$1),AND(D31<=$O$1,E31>$O$1),AND(F31<=$O$1,G31>$O$1)),$B$40,"") | K31: =IF(OR(AND(B31<=$L$1,C31>$L$1),AND(D31<=$L$1,E31>$L$1),AND(F31<=$L$1,G31>$L$1)),$B$41,"") | L31: =IF(OR(IF( B31,3,0),IF(D31,3,0),IF(F31,3,0)),3,0) -> 0
A32: =IF($A$2="","",$A$2+26) -> 42212 | H32: =(G32-F32)+(E32-D32)+(C32-B32) -> 0 | J32: =IF(OR(AND(B32<=$O$1,C32>$O$1),AND(D32<=$O$1,E32>$O$1),AND(F32<=$O$1,G32>$O$1)),$B$40,"") | K32: =IF(OR(AND(B32<=$L$1,C32>$L$1),AND(D32<=$L$1,E32>$L$1),AND(F32<=$L$1,G32>$L$1)),$B$41,"") | L32: =IF(OR(IF( B32,3,0),IF(D32,3,0),IF(F32,3,0)),3,0) -> 0
A33: =IF($A$2="","",$A$2+27) -> 42213 | H33: =(G33-F33)+(E33-D33)+(C33-B33) -> 0 | J33: =IF(OR(AND(B33<=$O$1,C33>$O$1),AND(D33<=$O$1,E33>$O$1),AND(F33<=$O$1,G33>$O$1)),$B$40,"") | K33: =IF(OR(AND(B33<=$L$1,C33>$L$1),AND(D33<=$L$1,E33>$L$1),AND(F33<=$L$1,G33>$L$1)),$B$41,"") | L33: =IF(OR(IF( B33,3,0),IF(D33,3,0),IF(F33,3,0)),3,0) -> 0
A34: =IF($A$2="","",$A$2+28) -> 42214 | H34: =(G34-F34)+(E34-D34)+(C34-B34) -> 0 | J34: =IF(OR(AND(B34<=$O$1,C34>$O$1),AND(D34<=$O$1,E34>$O$1),AND(F34<=$O$1,G34>$O$1)),$B$40,"") | K34: =IF(OR(AND(B34<=$L$1,C34>$L$1),AND(D34<=$L$1,E34>$L$1),AND(F34<=$L$1,G34>$L$1)),$B$41,"") | L34: =IF(OR(IF( B34,3,0),IF(D34,3,0),IF(F34,3,0)),3,0) -> 0
A35: =IF($A$2="","",$A$2+29) -> 42215 | H35: =(G35-F35)+(E35-D35)+(C35-B35) -> 0 | J35: =IF(OR(AND(B35<=$O$1,C35>$O$1),AND(D35<=$O$1,E35>$O$1),AND(F35<=$O$1,G35>$O$1)),$B$40,"") | K35: =IF(OR(AND(B35<=$L$1,C35>$L$1),AND(D35<=$L$1,E35>$L$1),AND(F35<=$L$1,G35>$L$1)),$B$41,"") | L35: =IF(OR(IF( B35,3,0),IF(D35,3,0),IF(F35,3,0)),3,0) -> 0
A36: =IF($A$2="","",$A$2+30) -> 42216 | H36: =(G36-F36)+(E36-D36)+(C36-B36) -> 0 | J36: =IF(OR(AND(B36<=$O$1,C36>$O$1),AND(D36<=$O$1,E36>$O$1),AND(F36<=$O$1,G36>$O$1)),$B$40,"") | K36: =IF(OR(AND(B36<=$L$1,C36>$L$1),AND(D36<=$L$1,E36>$L$1),AND(F36<=$L$1,G36>$L$1)),$B$41,"") | L36: =IF(OR(IF( B36,3,0),IF(D36,3,0),IF(F36,3,0)),3,0) -> 0
A37: TOTAUX | H37: =SUM(H6:H36)*24 -> 0 | I37: =SUM(I6:I36)*24 -> 0 | J37: =SUM(J6:J36) -> 0 | K37: =SUM(K6:K36) -> 0 | L37: =SUM(L6:L36) -> 0
A39: Entetien | B39: =janvier!$B39 -> 0 | C39: Salaires de base | E39: =janvier!$E$39 -> 0
A40: Repas | B40: =janvier!$B40 -> 0 | C40: Taux horaire | E40: =janvier!$E$39 -> 0 | H40: Salaires net à payer | J40: =E39+(H37*E40)+SUM(J37:L37) -> 0
A41: Gouter | B41: =janvier!$B41 -> 0

Sheet août
K1: Gouter | L1: 0.66666667 | N1: Repas | O1: 0.51041667
A2: 42217 | C2: FICHE DE PRESENCE
A3: NOM PRENOM :
A4: DATE | B4: MATIN | D4: MIDI | F4: SOIR | H4: TOTAL HEURE/JOUR | I4: HEURES COMPL. | J4: REPAS | K4: GOUTER | L4: INDEMNITE D'ENTRETIEN
B5: Arrivée | C5: Départ | D5: Arrivée | E5: Départ | F5: Arrivée | G5: Départ
A6: =A2 -> 42217 | H6: =(G6-F6)+(E6-D6)+(C6-B6) -> 0 | J6: =IF(OR(AND(B6<=$O$1,C6>$O$1),AND(D6<=$O$1,E6>$O$1),AND(F6<=$O$1,G6>$O$1)),$B$40,"") | K6: =IF(OR(AND(B6<=$L$1,C6>$L$1),AND(D6<=$L$1,E6>$L$1),AND(F6<=$L$1,G6>$L$1)),$B$41,"") | L6: =IF(OR(IF(B6,3,0),IF(D6,3,0),IF(F6,3,0)),3,0) -> 0
A7: =IF($A$2="","",$A$2+1) -> 42218 | H7: =(G7-F7)+(E7-D7)+(C7-B7) -> 0 | J7: =IF(OR(AND(B7<=$O$1,C7>$O$1),AND(D7<=$O$1,E7>$O$1),AND(F7<=$O$1,G7>$O$1)),$B$40,"") | K7: =IF(OR(AND(B7<=$L$1,C7>$L$1),AND(D7<=$L$1,E7>$L$1),AND(F7<=$L$1,G7>$L$1)),$B$41,"") | L7: =IF(OR(IF( B7,3,0),IF(D7,3,0),IF(F7,3,0)),3,0) -> 0
A8: =IF($A$2="","",$A$2+2) -> 42219 | H8: =(G8-F8)+(E8-D8)+(C8-B8) -> 0 | J8: =IF(OR(AND(B8<=$O$1,C8>$O$1),AND(D8<=$O$1,E8>$O$1),AND(F8<=$O$1,G8>$O$1)),$B$40,"") | K8: =IF(OR(AND(B8<=$L$1,C8>$L$1),AND(D8<=$L$1,E8>$L$1),AND(F8<=$L$1,G8>$L$1)),$B$41,"") | L8: =IF(OR(IF( B8,3,0),IF(D8,3,0),IF(F8,3,0)),3,0) -> 0
A9: =IF($A$2="","",$A$2+3) -> 42220 | H9: =(G9-F9)+(E9-D9)+(C9-B9) -> 0 | J9: =IF(OR(AND(B9<=$O$1,C9>$O$1),AND(D9<=$O$1,E9>$O$1),AND(F9<=$O$1,G9>$O$1)),$B$40,"") | K9: =IF(OR(AND(B9<=$L$1,C9>$L$1),AND(D9<=$L$1,E9>$L$1),AND(F9<=$L$1,G9>$L$1)),$B$41,"") | L9: =IF(OR(IF( B9,3,0),IF(D9,3,0),IF(F9,3,0)),3,0) -> 0
A10: =IF($A$2="","",$A$2+4) -> 42221 | H10: =(G10-F10)+(E10-D10)+(C10-B10) -> 0 | J10: =IF(OR(AND(B10<=$O$1,C10>$O$1),AND(D10<=$O$1,E10>$O$1),AND(F10<=$O$1,G10>$O$1)),$B$40,"") | K10: =IF(OR(AND(B10<=$L$1,C10>$L$1),AND(D10<=$L$1,E10>$L$1),AND(F10<=$L$1,G10>$L$1)),$B$41,"") | L10: =IF(OR(IF( B10,3,0),IF(D10,3,0),IF(F10,3,0)),3,0) -> 0
A11: =IF($A$2="","",$A$2+5) -> 42222 | H11: =(G11-F11)+(E11-D11)+(C11-B11) -> 0 | J11: =IF(OR(AND(B11<=$O$1,C11>$O$1),AND(D11<=$O$1,E11>$O$1),AND(F11<=$O$1,G11>$O$1)),$B$40,"") | K11: =IF(OR(AND(B11<=$L$1,C11>$L$1),AND(D11<=$L$1,E11>$L$1),AND(F11<=$L$1,G11>$L$1)),$B$41,"") | L11: =IF(OR(IF( B11,3,0),IF(D11,3,0),IF(F11,3,0)),3,0) -> 0
A12: =IF($A$2="","",$A$2+6) -> 42223 | H12: =(G12-F12)+(E12-D12)+(C12-B12) -> 0 | J12: =IF(OR(AND(B12<=$O$1,C12>$O$1),AND(D12<=$O$1,E12>$O$1),AND(F12<=$O$1,G12>$O$1)),$B$40,"") | K12: =IF(OR(AND(B12<=$L$1,C12>$L$1),AND(D12<=$L$1,E12>$L$1),AND(F12<=$L$1,G12>$L$1)),$B$41,"") | L12: =IF(OR(IF( B12,3,0),IF(D12,3,0),IF(F12,3,0)),3,0) -> 0
A13: =IF($A$2="","",$A$2+7) -> 42224 | H13: =(G13-F13)+(E13-D13)+(C13-B13) -> 0 | J13: =IF(OR(AND(B13<=$O$1,C13>$O$1),AND(D13<=$O$1,E13>$O$1),AND(F13<=$O$1,G13>$O$1)),$B$40,"") | K13: =IF(OR(AND(B13<=$L$1,C13>$L$1),AND(D13<=$L$1,E13>$L$1),AND(F13<=$L$1,G13>$L$1)),$B$41,"") | L13: =IF(OR(IF( B13,3,0),IF(D13,3,0),IF(F13,3,0)),3,0) -> 0
A14: =IF($A$2="","",$A$2+8) -> 42225 | H14: =(G14-F14)+(E14-D14)+(C14-B14) -> 0 | J14: =IF(OR(AND(B14<=$O$1,C14>$O$1),AND(D14<=$O$1,E14>$O$1),AND(F14<=$O$1,G14>$O$1)),$B$40,"") | K14: =IF(OR(AND(B14<=$L$1,C14>$L$1),AND(D14<=$L$1,E14>$L$1),AND(F14<=$L$1,G14>$L$1)),$B$41,"") | L14: =IF(OR(IF( B14,3,0),IF(D14,3,0),IF(F14,3,0)),3,0) -> 0
A15: =IF($A$2="","",$A$2+9) -> 42226 | H15: =(G15-F15)+(E15-D15)+(C15-B15) -> 0 | J15: =IF(OR(AND(B15<=$O$1,C15>$O$1),AND(D15<=$O$1,E15>$O$1),AND(F15<=$O$1,G15>$O$1)),$B$40,"") | K15: =IF(OR(AND(B15<=$L$1,C15>$L$1),AND(D15<=$L$1,E15>$L$1),AND(F15<=$L$1,G15>$L$1)),$B$41,"") | L15: =IF(OR(IF( B15,3,0),IF(D15,3,0),IF(F15,3,0)),3,0) -> 0
A16: =IF($A$2="","",$A$2+10) -> 42227 | H16: =(G16-F16)+(E16-D16)+(C16-B16) -> 0 | J16: =IF(OR(AND(B16<=$O$1,C16>$O$1),AND(D16<=$O$1,E16>$O$1),AND(F16<=$O$1,G16>$O$1)),$B$40,"") | K16: =IF(OR(AND(B16<=$L$1,C16>$L$1),AND(D16<=$L$1,E16>$L$1),AND(F16<=$L$1,G16>$L$1)),$B$41,"") | L16: =IF(OR(IF( B16,3,0),IF(D16,3,0),IF(F16,3,0)),3,0) -> 0
A17: =IF($A$2="","",$A$2+11) -> 42228 | H17: =(G17-F17)+(E17-D17)+(C17-B17) -> 0 | J17: =IF(OR(AND(B17<=$O$1,C17>$O$1),AND(D17<=$O$1,E17>$O$1),AND(F17<=$O$1,G17>$O$1)),$B$40,"") | K17: =IF(OR(AND(B17<=$L$1,C17>$L$1),AND(D17<=$L$1,E17>$L$1),AND(F17<=$L$1,G17>$L$1)),$B$41,"") | L17: =IF(OR(IF( B17,3,0),IF(D17,3,0),IF(F17,3,0)),3,0) -> 0
A18: =IF($A$2="","",$A$2+12) -> 42229 | H18: =(G18-F18)+(E18-D18)+(C18-B18) -> 0 | J18: =IF(OR(AND(B18<=$O$1,C18>$O$1),AND(D18<=$O$1,E18>$O$1),AND(F18<=$O$1,G18>$O$1)),$B$40,"") | K18: =IF(OR(AND(B18<=$L$1,C18>$L$1),AND(D18<=$L$1,E18>$L$1),AND(F18<=$L$1,G18>$L$1)),$B$41,"") | L18: =IF(OR(IF( B18,3,0),IF(D18,3,0),IF(F18,3,0)),3,0) -> 0
A19: =IF($A$2="","",$A$2+13) -> 42230 | H19: =(G19-F19)+(E19-D19)+(C19-B19) -> 0 | J19: =IF(OR(AND(B19<=$O$1,C19>$O$1),AND(D19<=$O$1,E19>$O$1),AND(F19<=$O$1,G19>$O$1)),$B$40,"") | K19: =IF(OR(AND(B19<=$L$1,C19>$L$1),AND(D19<=$L$1,E19>$L$1),AND(F19<=$L$1,G19>$L$1)),$B$41,"") | L19: =IF(OR(IF( B19,3,0),IF(D19,3,0),IF(F19,3,0)),3,0) -> 0
A20: =IF($A$2="","",$A$2+14) -> 42231 | H20: =(G20-F20)+(E20-D20)+(C20-B20) -> 0 | J20: =IF(OR(AND(B20<=$O$1,C20>$O$1),AND(D20<=$O$1,E20>$O$1),AND(F20<=$O$1,G20>$O$1)),$B$40,"") | K20: =IF(OR(AND(B20<=$L$1,C20>$L$1),AND(D20<=$L$1,E20>$L$1),AND(F20<=$L$1,G20>$L$1)),$B$41,"") | L20: =IF(OR(IF( B20,3,0),IF(D20,3,0),IF(F20,3,0)),3,0) -> 0
A21: =IF($A$2="","",$A$2+15) -> 42232 | H21: =(G21-F21)+(E21-D21)+(C21-B21) -> 0 | J21: =IF(OR(AND(B21<=$O$1,C21>$O$1),AND(D21<=$O$1,E21>$O$1),AND(F21<=$O$1,G21>$O$1)),$B$40,"") | K21: =IF(OR(AND(B21<=$L$1,C21>$L$1),AND(D21<=$L$1,E21>$L$1),AND(F21<=$L$1,G21>$L$1)),$B$41,"") | L21: =IF(OR(IF( B21,3,0),IF(D21,3,0),IF(F21,3,0)),3,0) -> 0
A22: =IF($A$2="","",$A$2+16) -> 42233 | H22: =(G22-F22)+(E22-D22)+(C22-B22) -> 0 | J22: =IF(OR(AND(B22<=$O$1,C22>$O$1),AND(D22<=$O$1,E22>$O$1),AND(F22<=$O$1,G22>$O$1)),$B$40,"") | K22: =IF(OR(AND(B22<=$L$1,C22>$L$1),AND(D22<=$L$1,E22>$L$1),AND(F22<=$L$1,G22>$L$1)),$B$41,"") | L22: =IF(OR(IF( B22,3,0),IF(D22,3,0),IF(F22,3,0)),3,0) -> 0
A23: =IF($A$2="","",$A$2+17) -> 42234 | H23: =(G23-F23)+(E23-D23)+(C23-B23) -> 0 | J23: =IF(OR(AND(B23<=$O$1,C23>$O$1),AND(D23<=$O$1,E23>$O$1),AND(F23<=$O$1,G23>$O$1)),$B$40,"") | K23: =IF(OR(AND(B23<=$L$1,C23>$L$1),AND(D23<=$L$1,E23>$L$1),AND(F23<=$L$1,G23>$L$1)),$B$41,"") | L23: =IF(OR(IF( B23,3,0),IF(D23,3,0),IF(F23,3,0)),3,0) -> 0
A24: =IF($A$2="","",$A$2+18) -> 42235 | H24: =(G24-F24)+(E24-D24)+(C24-B24) -> 0 | J24: =IF(OR(AND(B24<=$O$1,C24>$O$1),AND(D24<=$O$1,E24>$O$1),AND(F24<=$O$1,G24>$O$1)),$B$40,"") | K24: =IF(OR(AND(B24<=$L$1,C24>$L$1),AND(D24<=$L$1,E24>$L$1),AND(F24<=$L$1,G24>$L$1)),$B$41,"") | L24: =IF(OR(IF( B24,3,0),IF(D24,3,0),IF(F24,3,0)),3,0) -> 0
A25: =IF($A$2="","",$A$2+19) -> 42236 | H25: =(G25-F25)+(E25-D25)+(C25-B25) -> 0 | J25: =IF(OR(AND(B25<=$O$1,C25>$O$1),AND(D25<=$O$1,E25>$O$1),AND(F25<=$O$1,G25>$O$1)),$B$40,"") | K25: =IF(OR(AND(B25<=$L$1,C25>$L$1),AND(D25<=$L$1,E25>$L$1),AND(F25<=$L$1,G25>$L$1)),$B$41,"") | L25: =IF(OR(IF( B25,3,0),IF(D25,3,0),IF(F25,3,0)),3,0) -> 0
A26: =IF($A$2="","",$A$2+20) -> 42237 | H26: =(G26-F26)+(E26-D26)+(C26-B26) -> 0 | J26: =IF(OR(AND(B26<=$O$1,C26>$O$1),AND(D26<=$O$1,E26>$O$1),AND(F26<=$O$1,G26>$O$1)),$B$40,"") | K26: =IF(OR(AND(B26<=$L$1,C26>$L$1),AND(D26<=$L$1,E26>$L$1),AND(F26<=$L$1,G26>$L$1)),$B$41,"") | L26: =IF(OR(IF( B26,3,0),IF(D26,3,0),IF(F26,3,0)),3,0) -> 0
A27: =IF($A$2="","",$A$2+21) -> 42238 | H27: =(G27-F27)+(E27-D27)+(C27-B27) -> 0 | J27: =IF(OR(AND(B27<=$O$1,C27>$O$1),AND(D27<=$O$1,E27>$O$1),AND(F27<=$O$1,G27>$O$1)),$B$40,"") | K27: =IF(OR(AND(B27<=$L$1,C27>$L$1),AND(D27<=$L$1,E27>$L$1),AND(F27<=$L$1,G27>$L$1)),$B$41,"") | L27: =IF(OR(IF( B27,3,0),IF(D27,3,0),IF(F27,3,0)),3,0) -> 0
A28: =IF($A$2="","",$A$2+22) -> 42239 | H28: =(G28-F28)+(E28-D28)+(C28-B28) -> 0 | J28: =IF(OR(AND(B28<=$O$1,C28>$O$1),AND(D28<=$O$1,E28>$O$1),AND(F28<=$O$1,G28>$O$1)),$B$40,"") | K28: =IF(OR(AND(B28<=$L$1,C28>$L$1),AND(D28<=$L$1,E28>$L$1),AND(F28<=$L$1,G28>$L$1)),$B$41,"") | L28: =IF(OR(IF( B28,3,0),IF(D28,3,0),IF(F28,3,0)),3,0) -> 0
A29: =IF($A$2="","",$A$2+23) -> 42240 | H29: =(G29-F29)+(E29-D29)+(C29-B29) -> 0 | J29: =IF(OR(AND(B29<=$O$1,C29>$O$1),AND(D29<=$O$1,E29>$O$1),AND(F29<=$O$1,G29>$O$1)),$B$40,"") | K29: =IF(OR(AND(B29<=$L$1,C29>$L$1),AND(D29<=$L$1,E29>$L$1),AND(F29<=$L$1,G29>$L$1)),$B$41,"") | L29: =IF(OR(IF( B29,3,0),IF(D29,3,0),IF(F29,3,0)),3,0) -> 0
A30: =IF($A$2="","",$A$2+24) -> 42241 | H30: =(G30-F30)+(E30-D30)+(C30-B30) -> 0 | J30: =IF(OR(AND(B30<=$O$1,C30>$O$1),AND(D30<=$O$1,E30>$O$1),AND(F30<=$O$1,G30>$O$1)),$B$40,"") | K30: =IF(OR(AND(B30<=$L$1,C30>$L$1),AND(D30<=$L$1,E30>$L$1),AND(F30<=$L$1,G30>$L$1)),$B$41,"") | L30: =IF(OR(IF( B30,3,0),IF(D30,3,0),IF(F30,3,0)),3,0) -> 0
A31: =IF($A$2="","",$A$2+25) -> 42242 | H31: =(G31-F31)+(E31-D31)+(C31-B31) -> 0 | J31: =IF(OR(AND(B31<=$O$1,C31>$O$1),AND(D31<=$O$1,E31>$O$1),AND(F31<=$O$1,G31>$O$1)),$B$40,"") | K31: =IF(OR(AND(B31<=$L$1,C31>$L$1),AND(D31<=$L$1,E31>$L$1),AND(F31<=$L$1,G31>$L$1)),$B$41,"") | L31: =IF(OR(IF( B31,3,0),IF(D31,3,0),IF(F31,3,0)),3,0) -> 0
A32: =IF($A$2="","",$A$2+26) -> 42243 | H32: =(G32-F32)+(E32-D32)+(C32-B32) -> 0 | J32: =IF(OR(AND(B32<=$O$1,C32>$O$1),AND(D32<=$O$1,E32>$O$1),AND(F32<=$O$1,G32>$O$1)),$B$40,"") | K32: =IF(OR(AND(B32<=$L$1,C32>$L$1),AND(D32<=$L$1,E32>$L$1),AND(F32<=$L$1,G32>$L$1)),$B$41,"") | L32: =IF(OR(IF( B32,3,0),IF(D32,3,0),IF(F32,3,0)),3,0) -> 0
A33: =IF($A$2="","",$A$2+27) -> 42244 | H33: =(G33-F33)+(E33-D33)+(C33-B33) -> 0 | J33: =IF(OR(AND(B33<=$O$1,C33>$O$1),AND(D33<=$O$1,E33>$O$1),AND(F33<=$O$1,G33>$O$1)),$B$40,"") | K33: =IF(OR(AND(B33<=$L$1,C33>$L$1),AND(D33<=$L$1,E33>$L$1),AND(F33<=$L$1,G33>$L$1)),$B$41,"") | L33: =IF(OR(IF( B33,3,0),IF(D33,3,0),IF(F33,3,0)),3,0) -> 0
A34: =IF($A$2="","",$A$2+28) -> 42245 | H34: =(G34-F34)+(E34-D34)+(C34-B34) -> 0 | J34: =IF(OR(AND(B34<=$O$1,C34>$O$1),AND(D34<=$O$1,E34>$O$1),AND(F34<=$O$1,G34>$O$1)),$B$40,"") | K34: =IF(OR(AND(B34<=$L$1,C34>$L$1),AND(D34<=$L$1,E34>$L$1),AND(F34<=$L$1,G34>$L$1)),$B$41,"") | L34: =IF(OR(IF( B34,3,0),IF(D34,3,0),IF(F34,3,0)),3,0) -> 0
A35: =IF($A$2="","",$A$2+29) -> 42246 | H35: =(G35-F35)+(E35-D35)+(C35-B35) -> 0 | J35: =IF(OR(AND(B35<=$O$1,C35>$O$1),AND(D35<=$O$1,E35>$O$1),AND(F35<=$O$1,G35>$O$1)),$B$40,"") | K35: =IF(OR(AND(B35<=$L$1,C35>$L$1),AND(D35<=$L$1,E35>$L$1),AND(F35<=$L$1,G35>$L$1)),$B$41,"") | L35: =IF(OR(IF( B35,3,0),IF(D35,3,0),IF(F35,3,0)),3,0) -> 0
A36: =IF($A$2="","",$A$2+30) -> 42247 | H36: =(G36-F36)+(E36-D36)+(C36-B36) -> 0 | J36: =IF(OR(AND(B36<=$O$1,C36>$O$1),AND(D36<=$O$1,E36>$O$1),AND(F36<=$O$1,G36>$O$1)),$B$40,"") | K36: =IF(OR(AND(B36<=$L$1,C36>$L$1),AND(D36<=$L$1,E36>$L$1),AND(F36<=$L$1,G36>$L$1)),$B$41,"") | L36: =IF(OR(IF( B36,3,0),IF(D36,3,0),IF(F36,3,0)),3,0) -> 0
A37: TOTAUX | H37: =SUM(H6:H36)*24 -> 0 | I37: =SUM(I6:I36)*24 -> 0 | J37: =SUM(J6:J36) -> 0 | K37: =SUM(K6:K36) -> 0 | L37: =SUM(L6:L36) -> 0
A39: Entetien | B39: =janvier!$B39 -> 0 | C39: Salaires de base | E39: =janvier!$E$39 -> 0
A40: Repas | B40: =janvier!$B40 -> 0 | C40: Taux horaire | E40: =janvier!$E$39 -> 0 | H40: Salaires net à payer | J40: =E39+(H37*E40)+SUM(J37:L37) -> 0
A41: Gouter | B41: =janvier!$B41 -> 0

Sheet septembre
K1: Gouter | L1: 0.66666667 | N1: Repas | O1: 0.51041667
A2: 42248 | C2: FICHE DE PRESENCE
A3: NOM PRENOM :
A4: DATE | B4: MATIN | D4: MIDI | F4: SOIR | H4: TOTAL HEURE/JOUR | I4: HEURES COMPL. | J4: REPAS | K4: GOUTER | L4: INDEMNITE D'ENTRETIEN
B5: Arrivée | C5: Départ | D5: Arrivée | E5: Départ | F5: Arrivée | G5: Départ
A6: =A2 -> 42248 | H6: =(G6-F6)+(E6-D6)+(C6-B6) -> 0 | J6: =IF(OR(AND(B6<=$O$1,C6>$O$1),AND(D6<=$O$1,E6>$O$1),AND(F6<=$O$1,G6>$O$1)),$B$40,"") | K6: =IF(OR(AND(B6<=$L$1,C6>$L$1),AND(D6<=$L$1,E6>$L$1),AND(F6<=$L$1,G6>$L$1)),$B$41,"") | L6: =IF(OR(IF(B6,3,0),IF(D6,3,0),IF(F6,3,0)),3,0) -> 0
A7: =IF($A$2="","",$A$2+1) -> 42249 | H7: =(G7-F7)+(E7-D7)+(C7-B7) -> 0 | J7: =IF(OR(AND(B7<=$O$1,C7>$O$1),AND(D7<=$O$1,E7>$O$1),AND(F7<=$O$1,G7>$O$1)),$B$40,"") | K7: =IF(OR(AND(B7<=$L$1,C7>$L$1),AND(D7<=$L$1,E7>$L$1),AND(F7<=$L$1,G7>$L$1)),$B$41,"") | L7: =IF(OR(IF( B7,3,0),IF(D7,3,0),IF(F7,3,0)),3,0) -> 0
A8: =IF($A$2="","",$A$2+2) -> 42250 | H8: =(G8-F8)+(E8-D8)+(C8-B8) -> 0 | J8: =IF(OR(AND(B8<=$O$1,C8>$O$1),AND(D8<=$O$1,E8>$O$1),AND(F8<=$O$1,G8>$O$1)),$B$40,"") | K8: =IF(OR(AND(B8<=$L$1,C8>$L$1),AND(D8<=$L$1,E8>$L$1),AND(F8<=$L$1,G8>$L$1)),$B$41,"") | L8: =IF(OR(IF( B8,3,0),IF(D8,3,0),IF(F8,3,0)),3,0) -> 0
A9: =IF($A$2="","",$A$2+3) -> 42251 | H9: =(G9-F9)+(E9-D9)+(C9-B9) -> 0 | J9: =IF(OR(AND(B9<=$O$1,C9>$O$1),AND(D9<=$O$1,E9>$O$1),AND(F9<=$O$1,G9>$O$1)),$B$40,"") | K9: =IF(OR(AND(B9<=$L$1,C9>$L$1),AND(D9<=$L$1,E9>$L$1),AND(F9<=$L$1,G9>$L$1)),$B$41,"") | L9: =IF(OR(IF( B9,3,0),IF(D9,3,0),IF(F9,3,0)),3,0) -> 0
A10: =IF($A$2="","",$A$2+4) -> 42252 | H10: =(G10-F10)+(E10-D10)+(C10-B10) -> 0 | J10: =IF(OR(AND(B10<=$O$1,C10>$O$1),AND(D10<=$O$1,E10>$O$1),AND(F10<=$O$1,G10>$O$1)),$B$40,"") | K10: =IF(OR(AND(B10<=$L$1,C10>$L$1),AND(D10<=$L$1,E10>$L$1),AND(F10<=$L$1,G10>$L$1)),$B$41,"") | L10: =IF(OR(IF( B10,3,0),IF(D10,3,0),IF(F10,3,0)),3,0) -> 0
A11: =IF($A$2="","",$A$2+5) -> 42253 | H11: =(G11-F11)+(E11-D11)+(C11-B11) -> 0 | J11: =IF(OR(AND(B11<=$O$1,C11>$O$1),AND(D11<=$O$1,E11>$O$1),AND(F11<=$O$1,G11>$O$1)),$B$40,"") | K11: =IF(OR(AND(B11<=$L$1,C11>$L$1),AND(D11<=$L$1,E11>$L$1),AND(F11<=$L$1,G11>$L$1)),$B$41,"") | L11: =IF(OR(IF( B11,3,0),IF(D11,3,0),IF(F11,3,0)),3,0) -> 0
A12: =IF($A$2="","",$A$2+6) -> 42254 | H12: =(G12-F12)+(E12-D12)+(C12-B12) -> 0 | J12: =IF(OR(AND(B12<=$O$1,C12>$O$1),AND(D12<=$O$1,E12>$O$1),AND(F12<=$O$1,G12>$O$1)),$B$40,"") | K12: =IF(OR(AND(B12<=$L$1,C12>$L$1),AND(D12<=$L$1,E12>$L$1),AND(F12<=$L$1,G12>$L$1)),$B$41,"") | L12: =IF(OR(IF( B12,3,0),IF(D12,3,0),IF(F12,3,0)),3,0) -> 0
A13: =IF($A$2="","",$A$2+7) -> 42255 | H13: =(G13-F13)+(E13-D13)+(C13-B13) -> 0 | J13: =IF(OR(AND(B13<=$O$1,C13>$O$1),AND(D13<=$O$1,E13>$O$1),AND(F13<=$O$1,G13>$O$1)),$B$40,"") | K13: =IF(OR(AND(B13<=$L$1,C13>$L$1),AND(D13<=$L$1,E13>$L$1),AND(F13<=$L$1,G13>$L$1)),$B$41,"") | L13: =IF(OR(IF( B13,3,0),IF(D13,3,0),IF(F13,3,0)),3,0) -> 0
A14: =IF($A$2="","",$A$2+8) -> 42256 | H14: =(G14-F14)+(E14-D14)+(C14-B14) -> 0 | J14: =IF(OR(AND(B14<=$O$1,C14>$O$1),AND(D14<=$O$1,E14>$O$1),AND(F14<=$O$1,G14>$O$1)),$B$40,"") | K14: =IF(OR(AND(B14<=$L$1,C14>$L$1),AND(D14<=$L$1,E14>$L$1),AND(F14<=$L$1,G14>$L$1)),$B$41,"") | L14: =IF(OR(IF( B14,3,0),IF(D14,3,0),IF(F14,3,0)),3,0) -> 0
A15: =IF($A$2="","",$A$2+9) -> 42257 | H15: =(G15-F15)+(E15-D15)+(C15-B15) -> 0 | J15: =IF(OR(AND(B15<=$O$1,C15>$O$1),AND(D15<=$O$1,E15>$O$1),AND(F15<=$O$1,G15>$O$1)),$B$40,"") | K15: =IF(OR(AND(B15<=$L$1,C15>$L$1),AND(D15<=$L$1,E15>$L$1),AND(F15<=$L$1,G15>$L$1)),$B$41,"") | L15: =IF(OR(IF( B15,3,0),IF(D15,3,0),IF(F15,3,0)),3,0) -> 0
A16: =IF($A$2="","",$A$2+10) -> 42258 | H16: =(G16-F16)+(E16-D16)+(C16-B16) -> 0 | J16: =IF(OR(AND(B16<=$O$1,C16>$O$1),AND(D16<=$O$1,E16>$O$1),AND(F16<=$O$1,G16>$O$1)),$B$40,"") | K16: =IF(OR(AND(B16<=$L$1,C16>$L$1),AND(D16<=$L$1,E16>$L$1),AND(F16<=$L$1,G16>$L$1)),$B$41,"") | L16: =IF(OR(IF( B16,3,0),IF(D16,3,0),IF(F16,3,0)),3,0) -> 0
A17: =IF($A$2="","",$A$2+11) -> 42259 | H17: =(G17-F17)+(E17-D17)+(C17-B17) -> 0 | J17: =IF(OR(AND(B17<=$O$1,C17>$O$1),AND(D17<=$O$1,E17>$O$1),AND(F17<=$O$1,G17>$O$1)),$B$40,"") | K17: =IF(OR(AND(B17<=$L$1,C17>$L$1),AND(D17<=$L$1,E17>$L$1),AND(F17<=$L$1,G17>$L$1)),$B$41,"") | L17: =IF(OR(IF( B17,3,0),IF(D17,3,0),IF(F17,3,0)),3,0) -> 0
A18: =IF($A$2="","",$A$2+12) -> 42260 | H18: =(G18-F18)+(E18-D18)+(C18-B18) -> 0 | J18: =IF(OR(AND(B18<=$O$1,C18>$O$1),AND(D18<=$O$1,E18>$O$1),AND(F18<=$O$1,G18>$O$1)),$B$40,"") | K18: =IF(OR(AND(B18<=$L$1,C18>$L$1),AND(D18<=$L$1,E18>$L$1),AND(F18<=$L$1,G18>$L$1)),$B$41,"") | L18: =IF(OR(IF( B18,3,0),IF(D18,3,0),IF(F18,3,0)),3,0) -> 0
A19: =IF($A$2="","",$A$2+13) -> 42261 | H19: =(G19-F19)+(E19-D19)+(C19-B19) -> 0 | J19: =IF(OR(AND(B19<=$O$1,C19>$O$1),AND(D19<=$O$1,E19>$O$1),AND(F19<=$O$1,G19>$O$1)),$B$40,"") | K19: =IF(OR(AND(B19<=$L$1,C19>$L$1),AND(D19<=$L$1,E19>$L$1),AND(F19<=$L$1,G19>$L$1)),$B$41,"") | L19: =IF(OR(IF( B19,3,0),IF(D19,3,0),IF(F19,3,0)),3,0) -> 0
A20: =IF($A$2="","",$A$2+14) -> 42262 | H20: =(G20-F20)+(E20-D20)+(C20-B20) -> 0 | J20: =IF(OR(AND(B20<=$O$1,C20>$O$1),AND(D20<=$O$1,E20>$O$1),AND(F20<=$O$1,G20>$O$1)),$B$40,"") | K20: =IF(OR(AND(B20<=$L$1,C20>$L$1),AND(D20<=$L$1,E20>$L$1),AND(F20<=$L$1,G20>$L$1)),$B$41,"") | L20: =IF(OR(IF( B20,3,0),IF(D20,3,0),IF(F20,3,0)),3,0) -> 0
A21: =IF($A$2="","",$A$2+15) -> 42263 | H21: =(G21-F21)+(E21-D21)+(C21-B21) -> 0 | J21: =IF(OR(AND(B21<=$O$1,C21>$O$1),AND(D21<=$O$1,E21>$O$1),AND(F21<=$O$1,G21>$O$1)),$B$40,"") | K21: =IF(OR(AND(B21<=$L$1,C21>$L$1),AND(D21<=$L$1,E21>$L$1),AND(F21<=$L$1,G21>$L$1)),$B$41,"") | L21: =IF(OR(IF( B21,3,0),IF(D21,3,0),IF(F21,3,0)),3,0) -> 0
A22: =IF($A$2="","",$A$2+16) -> 42264 | H22: =(G22-F22)+(E22-D22)+(C22-B22) -> 0 | J22: =IF(OR(AND(B22<=$O$1,C22>$O$1),AND(D22<=$O$1,E22>$O$1),AND(F22<=$O$1,G22>$O$1)),$B$40,"") | K22: =IF(OR(AND(B22<=$L$1,C22>$L$1),AND(D22<=$L$1,E22>$L$1),AND(F22<=$L$1,G22>$L$1)),$B$41,"") | L22: =IF(OR(IF( B22,3,0),IF(D22,3,0),IF(F22,3,0)),3,0) -> 0
A23: =IF($A$2="","",$A$2+17) -> 42265 | H23: =(G23-F23)+(E23-D23)+(C23-B23) -> 0 | J23: =IF(OR(AND(B23<=$O$1,C23>$O$1),AND(D23<=$O$1,E23>$O$1),AND(F23<=$O$1,G23>$O$1)),$B$40,"") | K23: =IF(OR(AND(B23<=$L$1,C23>$L$1),AND(D23<=$L$1,E23>$L$1),AND(F23<=$L$1,G23>$L$1)),$B$41,"") | L23: =IF(OR(IF( B23,3,0),IF(D23,3,0),IF(F23,3,0)),3,0) -> 0
A24: =IF($A$2="","",$A$2+18) -> 42266 | H24: =(G24-F24)+(E24-D24)+(C24-B24) -> 0 | J24: =IF(OR(AND(B24<=$O$1,C24>$O$1),AND(D24<=$O$1,E24>$O$1),AND(F24<=$O$1,G24>$O$1)),$B$40,"") | K24: =IF(OR(AND(B24<=$L$1,C24>$L$1),AND(D24<=$L$1,E24>$L$1),AND(F24<=$L$1,G24>$L$1)),$B$41,"") | L24: =IF(OR(IF( B24,3,0),IF(D24,3,0),IF(F24,3,0)),3,0) -> 0
A25: =IF($A$2="","",$A$2+19) -> 42267 | H25: =(G25-F25)+(E25-D25)+(C25-B25) -> 0 | J25: =IF(OR(AND(B25<=$O$1,C25>$O$1),AND(D25<=$O$1,E25>$O$1),AND(F25<=$O$1,G25>$O$1)),$B$40,"") | K25: =IF(OR(AND(B25<=$L$1,C25>$L$1),AND(D25<=$L$1,E25>$L$1),AND(F25<=$L$1,G25>$L$1)),$B$41,"") | L25: =IF(OR(IF( B25,3,0),IF(D25,3,0),IF(F25,3,0)),3,0) -> 0
A26: =IF($A$2="","",$A$2+20) -> 42268 | H26: =(G26-F26)+(E26-D26)+(C26-B26) -> 0 | J26: =IF(OR(AND(B26<=$O$1,C26>$O$1),AND(D26<=$O$1,E26>$O$1),AND(F26<=$O$1,G26>$O$1)),$B$40,"") | K26: =IF(OR(AND(B26<=$L$1,C26>$L$1),AND(D26<=$L$1,E26>$L$1),AND(F26<=$L$1,G26>$L$1)),$B$41,"") | L26: =IF(OR(IF( B26,3,0),IF(D26,3,0),IF(F26,3,0)),3,0) -> 0
A27: =IF($A$2="","",$A$2+21) -> 42269 | H27: =(G27-F27)+(E27-D27)+(C27-B27) -> 0 | J27: =IF(OR(AND(B27<=$O$1,C27>$O$1),AND(D27<=$O$1,E27>$O$1),AND(F27<=$O$1,G27>$O$1)),$B$40,"") | K27: =IF(OR(AND(B27<=$L$1,C27>$L$1),AND(D27<=$L$1,E27>$L$1),AND(F27<=$L$1,G27>$L$1)),$B$41,"") | L27: =IF(OR(IF( B27,3,0),IF(D27,3,0),IF(F27,3,0)),3,0) -> 0
A28: =IF($A$2="","",$A$2+22) -> 42270 | H28: =(G28-F28)+(E28-D28)+(C28-B28) -> 0 | J28: =IF(OR(AND(B28<=$O$1,C28>$O$1),AND(D28<=$O$1,E28>$O$1),AND(F28<=$O$1,G28>$O$1)),$B$40,"") | K28: =IF(OR(AND(B28<=$L$1,C28>$L$1),AND(D28<=$L$1,E28>$L$1),AND(F28<=$L$1,G28>$L$1)),$B$41,"") | L28: =IF(OR(IF( B28,3,0),IF(D28,3,0),IF(F28,3,0)),3,0) -> 0
A29: =IF($A$2="","",$A$2+23) -> 42271 | H29: =(G29-F29)+(E29-D29)+(C29-B29) -> 0 | J29: =IF(OR(AND(B29<=$O$1,C29>$O$1),AND(D29<=$O$1,E29>$O$1),AND(F29<=$O$1,G29>$O$1)),$B$40,"") | K29: =IF(OR(AND(B29<=$L$1,C29>$L$1),AND(D29<=$L$1,E29>$L$1),AND(F29<=$L$1,G29>$L$1)),$B$41,"") | L29: =IF(OR(IF( B29,3,0),IF(D29,3,0),IF(F29,3,0)),3,0) -> 0
A30: =IF($A$2="","",$A$2+24) -> 42272 | H30: =(G30-F30)+(E30-D30)+(C30-B30) -> 0 | J30: =IF(OR(AND(B30<=$O$1,C30>$O$1),AND(D30<=$O$1,E30>$O$1),AND(F30<=$O$1,G30>$O$1)),$B$40,"") | K30: =IF(OR(AND(B30<=$L$1,C30>$L$1),AND(D30<=$L$1,E30>$L$1),AND(F30<=$L$1,G30>$L$1)),$B$41,"") | L30: =IF(OR(IF( B30,3,0),IF(D30,3,0),IF(F30,3,0)),3,0) -> 0
A31: =IF($A$2="","",$A$2+25) -> 42273 | H31: =(G31-F31)+(E31-D31)+(C31-B31) -> 0 | J31: =IF(OR(AND(B31<=$O$1,C31>$O$1),AND(D31<=$O$1,E31>$O$1),AND(F31<=$O$1,G31>$O$1)),$B$40,"") | K31: =IF(OR(AND(B31<=$L$1,C31>$L$1),AND(D31<=$L$1,E31>$L$1),AND(F31<=$L$1,G31>$L$1)),$B$41,"") | L31: =IF(OR(IF( B31,3,0),IF(D31,3,0),IF(F31,3,0)),3,0) -> 0
A32: =IF($A$2="","",$A$2+26) -> 42274 | H32: =(G32-F32)+(E32-D32)+(C32-B32) -> 0 | J32: =IF(OR(AND(B32<=$O$1,C32>$O$1),AND(D32<=$O$1,E32>$O$1),AND(F32<=$O$1,G32>$O$1)),$B$40,"") | K32: =IF(OR(AND(B32<=$L$1,C32>$L$1),AND(D32<=$L$1,E32>$L$1),AND(F32<=$L$1,G32>$L$1)),$B$41,"") | L32: =IF(OR(IF( B32,3,0),IF(D32,3,0),IF(F32,3,0)),3,0) -> 0
A33: =IF($A$2="","",$A$2+27) -> 42275 | H33: =(G33-F33)+(E33-D33)+(C33-B33) -> 0 | J33: =IF(OR(AND(B33<=$O$1,C33>$O$1),AND(D33<=$O$1,E33>$O$1),AND(F33<=$O$1,G33>$O$1)),$B$40,"") | K33: =IF(OR(AND(B33<=$L$1,C33>$L$1),AND(D33<=$L$1,E33>$L$1),AND(F33<=$L$1,G33>$L$1)),$B$41,"") | L33: =IF(OR(IF( B33,3,0),IF(D33,3,0),IF(F33,3,0)),3,0) -> 0
A34: =IF($A$2="","",$A$2+28) -> 42276 | H34: =(G34-F34)+(E34-D34)+(C34-B34) -> 0 | J34: =IF(OR(AND(B34<=$O$1,C34>$O$1),AND(D34<=$O$1,E34>$O$1),AND(F34<=$O$1,G34>$O$1)),$B$40,"") | K34: =IF(OR(AND(B34<=$L$1,C34>$L$1),AND(D34<=$L$1,E34>$L$1),AND(F34<=$L$1,G34>$L$1)),$B$41,"") | L34: =IF(OR(IF( B34,3,0),IF(D34,3,0),IF(F34,3,0)),3,0) -> 0
A35: =IF($A$2="","",$A$2+29) -> 42277 | H35: =(G35-F35)+(E35-D35)+(C35-B35) -> 0 | J35: =IF(OR(AND(B35<=$O$1,C35>$O$1),AND(D35<=$O$1,E35>$O$1),AND(F35<=$O$1,G35>$O$1)),$B$40,"") | K35: =IF(OR(AND(B35<=$L$1,C35>$L$1),AND(D35<=$L$1,E35>$L$1),AND(F35<=$L$1,G35>$L$1)),$B$41,"") | L35: =IF(OR(IF( B35,3,0),IF(D35,3,0),IF(F35,3,0)),3,0) -> 0
A36: =IF($A$2="","",$A$2+30) -> 42278 | H36: =(G36-F36)+(E36-D36)+(C36-B36) -> 0 | J36: =IF(OR(AND(B36<=$O$1,C36>$O$1),AND(D36<=$O$1,E36>$O$1),AND(F36<=$O$1,G36>$O$1)),$B$40,"") | K36: =IF(OR(AND(B36<=$L$1,C36>$L$1),AND(D36<=$L$1,E36>$L$1),AND(F36<=$L$1,G36>$L$1)),$B$41,"") | L36: =IF(OR(IF( B36,3,0),IF(D36,3,0),IF(F36,3,0)),3,0) -> 0
A37: TOTAUX | H37: =SUM(H6:H36)*24 -> 0 | I37: =SUM(I6:I36)*24 -> 0 | J37: =SUM(J6:J36) -> 0 | K37: =SUM(K6:K36) -> 0 | L37: =SUM(L6:L36) -> 0
A39: Entetien | B39: =janvier!$B39 -> 0 | C39: Salaires de base | E39: =janvier!$E$39 -> 0
A40: Repas | B40: =janvier!$B40 -> 0 | C40: Taux horaire | E40: =janvier!$E$39 -> 0 | H40: Salaires net à payer | J40: =E39+(H37*E40)+SUM(J37:L37) -> 0
A41: Gouter | B41: =janvier!$B41 -> 0

Sheet octobre
K1: Gouter | L1: 0.66666667 | N1: Repas | O1: 0.51041667
A2: 42278 | C2: FICHE DE PRESENCE
A3: NOM PRENOM :
A4: DATE | B4: MATIN | D4: MIDI | F4: SOIR | H4: TOTAL HEURE/JOUR | I4: HEURES COMPL. | J4: REPAS | K4: GOUTER | L4: INDEMNITE D'ENTRETIEN
B5: Arrivée | C5: Départ | D5: Arrivée | E5: Départ | F5: Arrivée | G5: Départ
A6: =A2 -> 42278 | H6: =(G6-F6)+(E6-D6)+(C6-B6) -> 0 | J6: =IF(OR(AND(B6<=$O$1,C6>$O$1),AND(D6<=$O$1,E6>$O$1),AND(F6<=$O$1,G6>$O$1)),$B$40,"") | K6: =IF(OR(AND(B6<=$L$1,C6>$L$1),AND(D6<=$L$1,E6>$L$1),AND(F6<=$L$1,G6>$L$1)),$B$41,"") | L6: =IF(OR(IF(B6,3,0),IF(D6,3,0),IF(F6,3,0)),3,0) -> 0
A7: =IF($A$2="","",$A$2+1) -> 42279 | H7: =(G7-F7)+(E7-D7)+(C7-B7) -> 0 | J7: =IF(OR(AND(B7<=$O$1,C7>$O$1),AND(D7<=$O$1,E7>$O$1),AND(F7<=$O$1,G7>$O$1)),$B$40,"") | K7: =IF(OR(AND(B7<=$L$1,C7>$L$1),AND(D7<=$L$1,E7>$L$1),AND(F7<=$L$1,G7>$L$1)),$B$41,"") | L7: =IF(OR(IF( B7,3,0),IF(D7,3,0),IF(F7,3,0)),3,0) -> 0
A8: =IF($A$2="","",$A$2+2) -> 42280 | H8: =(G8-F8)+(E8-D8)+(C8-B8) -> 0 | J8: =IF(OR(AND(B8<=$O$1,C8>$O$1),AND(D8<=$O$1,E8>$O$1),AND(F8<=$O$1,G8>$O$1)),$B$40,"") | K8: =IF(OR(AND(B8<=$L$1,C8>$L$1),AND(D8<=$L$1,E8>$L$1),AND(F8<=$L$1,G8>$L$1)),$B$41,"") | L8: =IF(OR(IF( B8,3,0),IF(D8,3,0),IF(F8,3,0)),3,0) -> 0
A9: =IF($A$2="","",$A$2+3) -> 42281 | H9: =(G9-F9)+(E9-D9)+(C9-B9) -> 0 | J9: =IF(OR(AND(B9<=$O$1,C9>$O$1),AND(D9<=$O$1,E9>$O$1),AND(F9<=$O$1,G9>$O$1)),$B$40,"") | K9: =IF(OR(AND(B9<=$L$1,C9>$L$1),AND(D9<=$L$1,E9>$L$1),AND(F9<=$L$1,G9>$L$1)),$B$41,"") | L9: =IF(OR(IF( B9,3,0),IF(D9,3,0),IF(F9,3,0)),3,0) -> 0
A10: =IF($A$2="","",$A$2+4) -> 42282 | H10: =(G10-F10)+(E10-D10)+(C10-B10) -> 0 | J10: =IF(OR(AND(B10<=$O$1,C10>$O$1),AND(D10<=$O$1,E10>$O$1),AND(F10<=$O$1,G10>$O$1)),$B$40,"") | K10: =IF(OR(AND(B10<=$L$1,C10>$L$1),AND(D10<=$L$1,E10>$L$1),AND(F10<=$L$1,G10>$L$1)),$B$41,"") | L10: =IF(OR(IF( B10,3,0),IF(D10,3,0),IF(F10,3,0)),3,0) -> 0
A11: =IF($A$2="","",$A$2+5) -> 42283 | H11: =(G11-F11)+(E11-D11)+(C11-B11) -> 0 | J11: =IF(OR(AND(B11<=$O$1,C11>$O$1),AND(D11<=$O$1,E11>$O$1),AND(F11<=$O$1,G11>$O$1)),$B$40,"") | K11: =IF(OR(AND(B11<=$L$1,C11>$L$1),AND(D11<=$L$1,E11>$L$1),AND(F11<=$L$1,G11>$L$1)),$B$41,"") | L11: =IF(OR(IF( B11,3,0),IF(D11,3,0),IF(F11,3,0)),3,0) -> 0
A12: =IF($A$2="","",$A$2+6) -> 42284 | H12: =(G12-F12)+(E12-D12)+(C12-B12) -> 0 | J12: =IF(OR(AND(B12<=$O$1,C12>$O$1),AND(D12<=$O$1,E12>$O$1),AND(F12<=$O$1,G12>$O$1)),$B$40,"") | K12: =IF(OR(AND(B12<=$L$1,C12>$L$1),AND(D12<=$L$1,E12>$L$1),AND(F12<=$L$1,G12>$L$1)),$B$41,"") | L12: =IF(OR(IF( B12,3,0),IF(D12,3,0),IF(F12,3,0)),3,0) -> 0
A13: =IF($A$2="","",$A$2+7) -> 42285 | H13: =(G13-F13)+(E13-D13)+(C13-B13) -> 0 | J13: =IF(OR(AND(B13<=$O$1,C13>$O$1),AND(D13<=$O$1,E13>$O$1),AND(F13<=$O$1,G13>$O$1)),$B$40,"") | K13: =IF(OR(AND(B13<=$L$1,C13>$L$1),AND(D13<=$L$1,E13>$L$1),AND(F13<=$L$1,G13>$L$1)),$B$41,"") | L13: =IF(OR(IF( B13,3,0),IF(D13,3,0),IF(F13,3,0)),3,0) -> 0
A14: =IF($A$2="","",$A$2+8) -> 42286 | H14: =(G14-F14)+(E14-D14)+(C14-B14) -> 0 | J14: =IF(OR(AND(B14<=$O$1,C14>$O$1),AND(D14<=$O$1,E14>$O$1),AND(F14<=$O$1,G14>$O$1)),$B$40,"") | K14: =IF(OR(AND(B14<=$L$1,C14>$L$1),AND(D14<=$L$1,E14>$L$1),AND(F14<=$L$1,G14>$L$1)),$B$41,"") | L14: =IF(OR(IF( B14,3,0),IF(D14,3,0),IF(F14,3,0)),3,0) -> 0
A15: =IF($A$2="","",$A$2+9) -> 42287 | H15: =(G15-F15)+(E15-D15)+(C15-B15) -> 0 | J15: =IF(OR(AND(B15<=$O$1,C15>$O$1),AND(D15<=$O$1,E15>$O$1),AND(F15<=$O$1,G15>$O$1)),$B$40,"") | K15: =IF(OR(AND(B15<=$L$1,C15>$L$1),AND(D15<=$L$1,E15>$L$1),AND(F15<=$L$1,G15>$L$1)),$B$41,"") | L15: =IF(OR(IF( B15,3,0),IF(D15,3,0),IF(F15,3,0)),3,0) -> 0
A16: =IF($A$2="","",$A$2+10) -> 42288 | H16: =(G16-F16)+(E16-D16)+(C16-B16) -> 0 | J16: =IF(OR(AND(B16<=$O$1,C16>$O$1),AND(D16<=$O$1,E16>$O$1),AND(F16<=$O$1,G16>$O$1)),$B$40,"") | K16: =IF(OR(AND(B16<=$L$1,C16>$L$1),AND(D16<=$L$1,E16>$L$1),AND(F16<=$L$1,G16>$L$1)),$B$41,"") | L16: =IF(OR(IF( B16,3,0),IF(D16,3,0),IF(F16,3,0)),3,0) -> 0
A17: =IF($A$2="","",$A$2+11) -> 42289 | H17: =(G17-F17)+(E17-D17)+(C17-B17) -> 0 | J17: =IF(OR(AND(B17<=$O$1,C17>$O$1),AND(D17<=$O$1,E17>$O$1),AND(F17<=$O$1,G17>$O$1)),$B$40,"") | K17: =IF(OR(AND(B17<=$L$1,C17>$L$1),AND(D17<=$L$1,E17>$L$1),AND(F17<=$L$1,G17>$L$1)),$B$41,"") | L17: =IF(OR(IF( B17,3,0),IF(D17,3,0),IF(F17,3,0)),3,0) -> 0
A18: =IF($A$2="","",$A$2+12) -> 42290 | H18: =(G18-F18)+(E18-D18)+(C18-B18) -> 0 | J18: =IF(OR(AND(B18<=$O$1,C18>$O$1),AND(D18<=$O$1,E18>$O$1),AND(F18<=$O$1,G18>$O$1)),$B$40,"") | K18: =IF(OR(AND(B18<=$L$1,C18>$L$1),AND(D18<=$L$1,E18>$L$1),AND(F18<=$L$1,G18>$L$1)),$B$41,"") | L18: =IF(OR(IF( B18,3,0),IF(D18,3,0),IF(F18,3,0)),3,0) -> 0
A19: =IF($A$2="","",$A$2+13) -> 42291 | H19: =(G19-F19)+(E19-D19)+(C19-B19) -> 0 | J19: =IF(OR(AND(B19<=$O$1,C19>$O$1),AND(D19<=$O$1,E19>$O$1),AND(F19<=$O$1,G19>$O$1)),$B$40,"") | K19: =IF(OR(AND(B19<=$L$1,C19>$L$1),AND(D19<=$L$1,E19>$L$1),AND(F19<=$L$1,G19>$L$1)),$B$41,"") | L19: =IF(OR(IF( B19,3,0),IF(D19,3,0),IF(F19,3,0)),3,0) -> 0
A20: =IF($A$2="","",$A$2+14) -> 42292 | H20: =(G20-F20)+(E20-D20)+(C20-B20) -> 0 | J20: =IF(OR(AND(B20<=$O$1,C20>$O$1),AND(D20<=$O$1,E20>$O$1),AND(F20<=$O$1,G20>$O$1)),$B$40,"") | K20: =IF(OR(AND(B20<=$L$1,C20>$L$1),AND(D20<=$L$1,E20>$L$1),AND(F20<=$L$1,G20>$L$1)),$B$41,"") | L20: =IF(OR(IF( B20,3,0),IF(D20,3,0),IF(F20,3,0)),3,0) -> 0
A21: =IF($A$2="","",$A$2+15) -> 42293 | H21: =(G21-F21)+(E21-D21)+(C21-B21) -> 0 | J21: =IF(OR(AND(B21<=$O$1,C21>$O$1),AND(D21<=$O$1,E21>$O$1),AND(F21<=$O$1,G21>$O$1)),$B$40,"") | K21: =IF(OR(AND(B21<=$L$1,C21>$L$1),AND(D21<=$L$1,E21>$L$1),AND(F21<=$L$1,G21>$L$1)),$B$41,"") | L21: =IF(OR(IF( B21,3,0),IF(D21,3,0),IF(F21,3,0)),3,0) -> 0
A22: =IF($A$2="","",$A$2+16) -> 42294 | H22: =(G22-F22)+(E22-D22)+(C22-B22) -> 0 | J22: =IF(OR(AND(B22<=$O$1,C22>$O$1),AND(D22<=$O$1,E22>$O$1),AND(F22<=$O$1,G22>$O$1)),$B$40,"") | K22: =IF(OR(AND(B22<=$L$1,C22>$L$1),AND(D22<=$L$1,E22>$L$1),AND(F22<=$L$1,G22>$L$1)),$B$41,"") | L22: =IF(OR(IF( B22,3,0),IF(D22,3,0),IF(F22,3,0)),3,0) -> 0
A23: =IF($A$2="","",$A$2+17) -> 42295 | H23: =(G23-F23)+(E23-D23)+(C23-B23) -> 0 | J23: =IF(OR(AND(B23<=$O$1,C23>$O$1),AND(D23<=$O$1,E23>$O$1),AND(F23<=$O$1,G23>$O$1)),$B$40,"") | K23: =IF(OR(AND(B23<=$L$1,C23>$L$1),AND(D23<=$L$1,E23>$L$1),AND(F23<=$L$1,G23>$L$1)),$B$41,"") | L23: =IF(OR(IF( B23,3,0),IF(D23,3,0),IF(F23,3,0)),3,0) -> 0
A24: =IF($A$2="","",$A$2+18) -> 42296 | H24: =(G24-F24)+(E24-D24)+(C24-B24) -> 0 | J24: =IF(OR(AND(B24<=$O$1,C24>$O$1),AND(D24<=$O$1,E24>$O$1),AND(F24<=$O$1,G24>$O$1)),$B$40,"") | K24: =IF(OR(AND(B24<=$L$1,C24>$L$1),AND(D24<=$L$1,E24>$L$1),AND(F24<=$L$1,G24>$L$1)),$B$41,"") | L24: =IF(OR(IF( B24,3,0),IF(D24,3,0),IF(F24,3,0)),3,0) -> 0
A25: =IF($A$2="","",$A$2+19) -> 42297 | H25: =(G25-F25)+(E25-D25)+(C25-B25) -> 0 | J25: =IF(OR(AND(B25<=$O$1,C25>$O$1),AND(D25<=$O$1,E25>$O$1),AND(F25<=$O$1,G25>$O$1)),$B$40,"") | K25: =IF(OR(AND(B25<=$L$1,C25>$L$1),AND(D25<=$L$1,E25>$L$1),AND(F25<=$L$1,G25>$L$1)),$B$41,"") | L25: =IF(OR(IF( B25,3,0),IF(D25,3,0),IF(F25,3,0)),3,0) -> 0
A26: =IF($A$2="","",$A$2+20) -> 42298 | H26: =(G26-F26)+(E26-D26)+(C26-B26) -> 0 | J26: =IF(OR(AND(B26<=$O$1,C26>$O$1),AND(D26<=$O$1,E26>$O$1),AND(F26<=$O$1,G26>$O$1)),$B$40,"") | K26: =IF(OR(AND(B26<=$L$1,C26>$L$1),AND(D26<=$L$1,E26>$L$1),AND(F26<=$L$1,G26>$L$1)),$B$41,"") | L26: =IF(OR(IF( B26,3,0),IF(D26,3,0),IF(F26,3,0)),3,0) -> 0
A27: =IF($A$2="","",$A$2+21) -> 42299 | H27: =(G27-F27)+(E27-D27)+(C27-B27) -> 0 | J27: =IF(OR(AND(B27<=$O$1,C27>$O$1),AND(D27<=$O$1,E27>$O$1),AND(F27<=$O$1,G27>$O$1)),$B$40,"") | K27: =IF(OR(AND(B27<=$L$1,C27>$L$1),AND(D27<=$L$1,E27>$L$1),AND(F27<=$L$1,G27>$L$1)),$B$41,"") | L27: =IF(OR(IF( B27,3,0),IF(D27,3,0),IF(F27,3,0)),3,0) -> 0
A28: =IF($A$2="","",$A$2+22) -> 42300 | H28: =(G28-F28)+(E28-D28)+(C28-B28) -> 0 | J28: =IF(OR(AND(B28<=$O$1,C28>$O$1),AND(D28<=$O$1,E28>$O$1),AND(F28<=$O$1,G28>$O$1)),$B$40,"") | K28: =IF(OR(AND(B28<=$L$1,C28>$L$1),AND(D28<=$L$1,E28>$L$1),AND(F28<=$L$1,G28>$L$1)),$B$41,"") | L28: =IF(OR(IF( B28,3,0),IF(D28,3,0),IF(F28,3,0)),3,0) -> 0
A29: =IF($A$2="","",$A$2+23) -> 42301 | H29: =(G29-F29)+(E29-D29)+(C29-B29) -> 0 | J29: =IF(OR(AND(B29<=$O$1,C29>$O$1),AND(D29<=$O$1,E29>$O$1),AND(F29<=$O$1,G29>$O$1)),$B$40,"") | K29: =IF(OR(AND(B29<=$L$1,C29>$L$1),AND(D29<=$L$1,E29>$L$1),AND(F29<=$L$1,G29>$L$1)),$B$41,"") | L29: =IF(OR(IF( B29,3,0),IF(D29,3,0),IF(F29,3,0)),3,0) -> 0
A30: =IF($A$2="","",$A$2+24) -> 42302 | H30: =(G30-F30)+(E30-D30)+(C30-B30) -> 0 | J30: =IF(OR(AND(B30<=$O$1,C30>$O$1),AND(D30<=$O$1,E30>$O$1),AND(F30<=$O$1,G30>$O$1)),$B$40,"") | K30: =IF(OR(AND(B30<=$L$1,C30>$L$1),AND(D30<=$L$1,E30>$L$1),AND(F30<=$L$1,G30>$L$1)),$B$41,"") | L30: =IF(OR(IF( B30,3,0),IF(D30,3,0),IF(F30,3,0)),3,0) -> 0
A31: =IF($A$2="","",$A$2+25) -> 42303 | H31: =(G31-F31)+(E31-D31)+(C31-B31) -> 0 | J31: =IF(OR(AND(B31<=$O$1,C31>$O$1),AND(D31<=$O$1,E31>$O$1),AND(F31<=$O$1,G31>$O$1)),$B$40,"") | K31: =IF(OR(AND(B31<=$L$1,C31>$L$1),AND(D31<=$L$1,E31>$L$1),AND(F31<=$L$1,G31>$L$1)),$B$41,"") | L31: =IF(OR(IF( B31,3,0),IF(D31,3,0),IF(F31,3,0)),3,0) -> 0
A32: =IF($A$2="","",$A$2+26) -> 42304 | H32: =(G32-F32)+(E32-D32)+(C32-B32) -> 0 | J32: =IF(OR(AND(B32<=$O$1,C32>$O$1),AND(D32<=$O$1,E32>$O$1),AND(F32<=$O$1,G32>$O$1)),$B$40,"") | K32: =IF(OR(AND(B32<=$L$1,C32>$L$1),AND(D32<=$L$1,E32>$L$1),AND(F32<=$L$1,G32>$L$1)),$B$41,"") | L32: =IF(OR(IF( B32,3,0),IF(D32,3,0),IF(F32,3,0)),3,0) -> 0
A33: =IF($A$2="","",$A$2+27) -> 42305 | H33: =(G33-F33)+(E33-D33)+(C33-B33) -> 0 | J33: =IF(OR(AND(B33<=$O$1,C33>$O$1),AND(D33<=$O$1,E33>$O$1),AND(F33<=$O$1,G33>$O$1)),$B$40,"") | K33: =IF(OR(AND(B33<=$L$1,C33>$L$1),AND(D33<=$L$1,E33>$L$1),AND(F33<=$L$1,G33>$L$1)),$B$41,"") | L33: =IF(OR(IF( B33,3,0),IF(D33,3,0),IF(F33,3,0)),3,0) -> 0
A34: =IF($A$2="","",$A$2+28) -> 42306 | H34: =(G34-F34)+(E34-D34)+(C34-B34) -> 0 | J34: =IF(OR(AND(B34<=$O$1,C34>$O$1),AND(D34<=$O$1,E34>$O$1),AND(F34<=$O$1,G34>$O$1)),$B$40,"") | K34: =IF(OR(AND(B34<=$L$1,C34>$L$1),AND(D34<=$L$1,E34>$L$1),AND(F34<=$L$1,G34>$L$1)),$B$41,"") | L34: =IF(OR(IF( B34,3,0),IF(D34,3,0),IF(F34,3,0)),3,0) -> 0
A35: =IF($A$2="","",$A$2+29) -> 42307 | H35: =(G35-F35)+(E35-D35)+(C35-B35) -> 0 | J35: =IF(OR(AND(B35<=$O$1,C35>$O$1),AND(D35<=$O$1,E35>$O$1),AND(F35<=$O$1,G35>$O$1)),$B$40,"") | K35: =IF(OR(AND(B35<=$L$1,C35>$L$1),AND(D35<=$L$1,E35>$L$1),AND(F35<=$L$1,G35>$L$1)),$B$41,"") | L35: =IF(OR(IF( B35,3,0),IF(D35,3,0),IF(F35,3,0)),3,0) -> 0
A36: =IF($A$2="","",$A$2+30) -> 42308 | H36: =(G36-F36)+(E36-D36)+(C36-B36) -> 0 | J36: =IF(OR(AND(B36<=$O$1,C36>$O$1),AND(D36<=$O$1,E36>$O$1),AND(F36<=$O$1,G36>$O$1)),$B$40,"") | K36: =IF(OR(AND(B36<=$L$1,C36>$L$1),AND(D36<=$L$1,E36>$L$1),AND(F36<=$L$1,G36>$L$1)),$B$41,"") | L36: =IF(OR(IF( B36,3,0),IF(D36,3,0),IF(F36,3,0)),3,0) -> 0
A37: TOTAUX | H37: =SUM(H6:H36)*24 -> 0 | I37: =SUM(I6:I36)*24 -> 0 | J37: =SUM(J6:J36) -> 0 | K37: =SUM(K6:K36) -> 0 | L37: =SUM(L6:L36) -> 0
A39: Entetien | B39: =janvier!$B39 -> 0 | C39: Salaires de base | E39: =janvier!$E$39 -> 0
A40: Repas | B40: =janvier!$B40 -> 0 | C40: Taux horaire | E40: =janvier!$E$39 -> 0 | H40: Salaires net à payer | J40: =E39+(H37*E40)+SUM(J37:L37) -> 0
A41: Gouter | B41: =janvier!$B41 -> 0

Sheet novembre
K1: Gouter | L1: 0.66666667 | N1: Repas | O1: 0.51041667
A2: 42309 | C2: FICHE DE PRESENCE
A3: NOM PRENOM :
A4: DATE | B4: MATIN | D4: MIDI | F4: SOIR | H4: TOTAL HEURE/JOUR | I4: HEURES COMPL. | J4: REPAS | K4: GOUTER | L4: INDEMNITE D'ENTRETIEN
B5: Arrivée | C5: Départ | D5: Arrivée | E5: Départ | F5: Arrivée | G5: Départ
A6: =A2 -> 42309 | H6: =(G6-F6)+(E6-D6)+(C6-B6) -> 0 | J6: =IF(OR(AND(B6<=$O$1,C6>$O$1),AND(D6<=$O$1,E6>$O$1),AND(F6<=$O$1,G6>$O$1)),$B$39,"") | K6: =IF(OR(AND(B6<=$L$1,C6>$L$1),AND(D6<=$L$1,E6>$L$1),AND(F6<=$L$1,G6>$L$1)),$B$40,"") | L6: =IF(OR(IF(B6,3,0),IF(D6,3,0),IF(F6,3,0)),3,0) -> 0
A7: =IF($A$2="","",$A$2+1) -> 42310 | H7: =(G7-F7)+(E7-D7)+(C7-B7) -> 0 | J7: =IF(OR(AND(B7<=$O$1,C7>$O$1),AND(D7<=$O$1,E7>$O$1),AND(F7<=$O$1,G7>$O$1)),$B$39,"") | K7: =IF(OR(AND(B7<=$L$1,C7>$L$1),AND(D7<=$L$1,E7>$L$1),AND(F7<=$L$1,G7>$L$1)),$B$40,"") | L7: =IF(OR(IF( B7,3,0),IF(D7,3,0),IF(F7,3,0)),3,0) -> 0
A8: =IF($A$2="","",$A$2+2) -> 42311 | H8: =(G8-F8)+(E8-D8)+(C8-B8) -> 0 | J8: =IF(OR(AND(B8<=$O$1,C8>$O$1),AND(D8<=$O$1,E8>$O$1),AND(F8<=$O$1,G8>$O$1)),$B$39,"") | K8: =IF(OR(AND(B8<=$L$1,C8>$L$1),AND(D8<=$L$1,E8>$L$1),AND(F8<=$L$1,G8>$L$1)),$B$40,"") | L8: =IF(OR(IF( B8,3,0),IF(D8,3,0),IF(F8,3,0)),3,0) -> 0
A9: =IF($A$2="","",$A$2+3) -> 42312 | H9: =(G9-F9)+(E9-D9)+(C9-B9) -> 0 | J9: =IF(OR(AND(B9<=$O$1,C9>$O$1),AND(D9<=$O$1,E9>$O$1),AND(F9<=$O$1,G9>$O$1)),$B$39,"") | K9: =IF(OR(AND(B9<=$L$1,C9>$L$1),AND(D9<=$L$1,E9>$L$1),AND(F9<=$L$1,G9>$L$1)),$B$40,"") | L9: =IF(OR(IF( B9,3,0),IF(D9,3,0),IF(F9,3,0)),3,0) -> 0
A10: =IF($A$2="","",$A$2+4) -> 42313 | H10: =(G10-F10)+(E10-D10)+(C10-B10) -> 0 | J10: =IF(OR(AND(B10<=$O$1,C10>$O$1),AND(D10<=$O$1,E10>$O$1),AND(F10<=$O$1,G10>$O$1)),$B$39,"") | K10: =IF(OR(AND(B10<=$L$1,C10>$L$1),AND(D10<=$L$1,E10>$L$1),AND(F10<=$L$1,G10>$L$1)),$B$40,"") | L10: =IF(OR(IF( B10,3,0),IF(D10,3,0),IF(F10,3,0)),3,0) -> 0
A11: =IF($A$2="","",$A$2+5) -> 42314 | H11: =(G11-F11)+(E11-D11)+(C11-B11) -> 0 | J11: =IF(OR(AND(B11<=$O$1,C11>$O$1),AND(D11<=$O$1,E11>$O$1),AND(F11<=$O$1,G11>$O$1)),$B$39,"") | K11: =IF(OR(AND(B11<=$L$1,C11>$L$1),AND(D11<=$L$1,E11>$L$1),AND(F11<=$L$1,G11>$L$1)),$B$40,"") | L11: =IF(OR(IF( B11,3,0),IF(D11,3,0),IF(F11,3,0)),3,0) -> 0
A12: =IF($A$2="","",$A$2+6) -> 42315 | H12: =(G12-F12)+(E12-D12)+(C12-B12) -> 0 | J12: =IF(OR(AND(B12<=$O$1,C12>$O$1),AND(D12<=$O$1,E12>$O$1),AND(F12<=$O$1,G12>$O$1)),$B$39,"") | K12: =IF(OR(AND(B12<=$L$1,C12>$L$1),AND(D12<=$L$1,E12>$L$1),AND(F12<=$L$1,G12>$L$1)),$B$40,"") | L12: =IF(OR(IF( B12,3,0),IF(D12,3,0),IF(F12,3,0)),3,0) -> 0
A13: =IF($A$2="","",$A$2+7) -> 42316 | H13: =(G13-F13)+(E13-D13)+(C13-B13) -> 0 | J13: =IF(OR(AND(B13<=$O$1,C13>$O$1),AND(D13<=$O$1,E13>$O$1),AND(F13<=$O$1,G13>$O$1)),$B$39,"") | K13: =IF(OR(AND(B13<=$L$1,C13>$L$1),AND(D13<=$L$1,E13>$L$1),AND(F13<=$L$1,G13>$L$1)),$B$40,"") | L13: =IF(OR(IF( B13,3,0),IF(D13,3,0),IF(F13,3,0)),3,0) -> 0
A14: =IF($A$2="","",$A$2+8) -> 42317 | H14: =(G14-F14)+(E14-D14)+(C14-B14) -> 0 | J14: =IF(OR(AND(B14<=$O$1,C14>$O$1),AND(D14<=$O$1,E14>$O$1),AND(F14<=$O$1,G14>$O$1)),$B$39,"") | K14: =IF(OR(AND(B14<=$L$1,C14>$L$1),AND(D14<=$L$1,E14>$L$1),AND(F14<=$L$1,G14>$L$1)),$B$40,"") | L14: =IF(OR(IF( B14,3,0),IF(D14,3,0),IF(F14,3,0)),3,0) -> 0
A15: =IF($A$2="","",$A$2+9) -> 42318 | H15: =(G15-F15)+(E15-D15)+(C15-B15) -> 0 | J15: =IF(OR(AND(B15<=$O$1,C15>$O$1),AND(D15<=$O$1,E15>$O$1),AND(F15<=$O$1,G15>$O$1)),$B$39,"") | K15: =IF(OR(AND(B15<=$L$1,C15>$L$1),AND(D15<=$L$1,E15>$L$1),AND(F15<=$L$1,G15>$L$1)),$B$40,"") | L15: =IF(OR(IF( B15,3,0),IF(D15,3,0),IF(F15,3,0)),3,0) -> 0
A16: =IF($A$2="","",$A$2+10) -> 42319 | H16: =(G16-F16)+(E16-D16)+(C16-B16) -> 0 | J16: =IF(OR(AND(B16<=$O$1,C16>$O$1),AND(D16<=$O$1,E16>$O$1),AND(F16<=$O$1,G16>$O$1)),$B$39,"") | K16: =IF(OR(AND(B16<=$L$1,C16>$L$1),AND(D16<=$L$1,E16>$L$1),AND(F16<=$L$1,G16>$L$1)),$B$40,"") | L16: =IF(OR(IF( B16,3,0),IF(D16,3,0),IF(F16,3,0)),3,0) -> 0
A17: =IF($A$2="","",$A$2+11) -> 42320 | H17: =(G17-F17)+(E17-D17)+(C17-B17) -> 0 | J17: =IF(OR(AND(B17<=$O$1,C17>$O$1),AND(D17<=$O$1,E17>$O$1),AND(F17<=$O$1,G17>$O$1)),$B$39,"") | K17: =IF(OR(AND(B17<=$L$1,C17>$L$1),AND(D17<=$L$1,E17>$L$1),AND(F17<=$L$1,G17>$L$1)),$B$40,"") | L17: =IF(OR(IF( B17,3,0),IF(D17,3,0),IF(F17,3,0)),3,0) -> 0
A18: =IF($A$2="","",$A$2+12) -> 42321 | H18: =(G18-F18)+(E18-D18)+(C18-B18) -> 0 | J18: =IF(OR(AND(B18<=$O$1,C18>$O$1),AND(D18<=$O$1,E18>$O$1),AND(F18<=$O$1,G18>$O$1)),$B$39,"") | K18: =IF(OR(AND(B18<=$L$1,C18>$L$1),AND(D18<=$L$1,E18>$L$1),AND(F18<=$L$1,G18>$L$1)),$B$40,"") | L18: =IF(OR(IF( B18,3,0),IF(D18,3,0),IF(F18,3,0)),3,0) -> 0
A19: =IF($A$2="","",$A$2+13) -> 42322 | H19: =(G19-F19)+(E19-D19)+(C19-B19) -> 0 | J19: =IF(OR(AND(B19<=$O$1,C19>$O$1),AND(D19<=$O$1,E19>$O$1),AND(F19<=$O$1,G19>$O$1)),$B$39,"") | K19: =IF(OR(AND(B19<=$L$1,C19>$L$1),AND(D19<=$L$1,E19>$L$1),AND(F19<=$L$1,G19>$L$1)),$B$40,"") | L19: =IF(OR(IF( B19,3,0),IF(D19,3,0),IF(F19,3,0)),3,0) -> 0
A20: =IF($A$2="","",$A$2+14) -> 42323 | H20: =(G20-F20)+(E20-D20)+(C20-B20) -> 0 | J20: =IF(OR(AND(B20<=$O$1,C20>$O$1),AND(D20<=$O$1,E20>$O$1),AND(F20<=$O$1,G20>$O$1)),$B$39,"") | K20: =IF(OR(AND(B20<=$L$1,C20>$L$1),AND(D20<=$L$1,E20>$L$1),AND(F20<=$L$1,G20>$L$1)),$B$40,"") | L20: =IF(OR(IF( B20,3,0),IF(D20,3,0),IF(F20,3,0)),3,0) -> 0
A21: =IF($A$2="","",$A$2+15) -> 42324 | H21: =(G21-F21)+(E21-D21)+(C21-B21) -> 0 | J21: =IF(OR(AND(B21<=$O$1,C21>$O$1),AND(D21<=$O$1,E21>$O$1),AND(F21<=$O$1,G21>$O$1)),$B$39,"") | K21: =IF(OR(AND(B21<=$L$1,C21>$L$1),AND(D21<=$L$1,E21>$L$1),AND(F21<=$L$1,G21>$L$1)),$B$40,"") | L21: =IF(OR(IF( B21,3,0),IF(D21,3,0),IF(F21,3,0)),3,0) -> 0
A22: =IF($A$2="","",$A$2+16) -> 42325 | H22: =(G22-F22)+(E22-D22)+(C22-B22) -> 0 | J22: =IF(OR(AND(B22<=$O$1,C22>$O$1),AND(D22<=$O$1,E22>$O$1),AND(F22<=$O$1,G22>$O$1)),$B$39,"") | K22: =IF(OR(AND(B22<=$L$1,C22>$L$1),AND(D22<=$L$1,E22>$L$1),AND(F22<=$L$1,G22>$L$1)),$B$40,"") | L22: =IF(OR(IF( B22,3,0),IF(D22,3,0),IF(F22,3,0)),3,0) -> 0
A23: =IF($A$2="","",$A$2+17) -> 42326 | H23: =(G23-F23)+(E23-D23)+(C23-B23) -> 0 | J23: =IF(OR(AND(B23<=$O$1,C23>$O$1),AND(D23<=$O$1,E23>$O$1),AND(F23<=$O$1,G23>$O$1)),$B$39,"") | K23: =IF(OR(AND(B23<=$L$1,C23>$L$1),AND(D23<=$L$1,E23>$L$1),AND(F23<=$L$1,G23>$L$1)),$B$40,"") | L23: =IF(OR(IF( B23,3,0),IF(D23,3,0),IF(F23,3,0)),3,0) -> 0
A24: =IF($A$2="","",$A$2+18) -> 42327 | H24: =(G24-F24)+(E24-D24)+(C24-B24) -> 0 | J24: =IF(OR(AND(B24<=$O$1,C24>$O$1),AND(D24<=$O$1,E24>$O$1),AND(F24<=$O$1,G24>$O$1)),$B$39,"") | K24: =IF(OR(AND(B24<=$L$1,C24>$L$1),AND(D24<=$L$1,E24>$L$1),AND(F24<=$L$1,G24>$L$1)),$B$40,"") | L24: =IF(OR(IF( B24,3,0),IF(D24,3,0),IF(F24,3,0)),3,0) -> 0
A25: =IF($A$2="","",$A$2+19) -> 42328 | H25: =(G25-F25)+(E25-D25)+(C25-B25) -> 0 | J25: =IF(OR(AND(B25<=$O$1,C25>$O$1),AND(D25<=$O$1,E25>$O$1),AND(F25<=$O$1,G25>$O$1)),$B$39,"") | K25: =IF(OR(AND(B25<=$L$1,C25>$L$1),AND(D25<=$L$1,E25>$L$1),AND(F25<=$L$1,G25>$L$1)),$B$40,"") | L25: =IF(OR(IF( B25,3,0),IF(D25,3,0),IF(F25,3,0)),3,0) -> 0
A26: =IF($A$2="","",$A$2+20) -> 42329 | H26: =(G26-F26)+(E26-D26)+(C26-B26) -> 0 | J26: =IF(OR(AND(B26<=$O$1,C26>$O$1),AND(D26<=$O$1,E26>$O$1),AND(F26<=$O$1,G26>$O$1)),$B$39,"") | K26: =IF(OR(AND(B26<=$L$1,C26>$L$1),AND(D26<=$L$1,E26>$L$1),AND(F26<=$L$1,G26>$L$1)),$B$40,"") | L26: =IF(OR(IF( B26,3,0),IF(D26,3,0),IF(F26,3,0)),3,0) -> 0
A27: =IF($A$2="","",$A$2+21) -> 42330 | H27: =(G27-F27)+(E27-D27)+(C27-B27) -> 0 | J27: =IF(OR(AND(B27<=$O$1,C27>$O$1),AND(D27<=$O$1,E27>$O$1),AND(F27<=$O$1,G27>$O$1)),$B$39,"") | K27: =IF(OR(AND(B27<=$L$1,C27>$L$1),AND(D27<=$L$1,E27>$L$1),AND(F27<=$L$1,G27>$L$1)),$B$40,"") | L27: =IF(OR(IF( B27,3,0),IF(D27,3,0),IF(F27,3,0)),3,0) -> 0
A28: =IF($A$2="","",$A$2+22) -> 42331 | H28: =(G28-F28)+(E28-D28)+(C28-B28) -> 0 | J28: =IF(OR(AND(B28<=$O$1,C28>$O$1),AND(D28<=$O$1,E28>$O$1),AND(F28<=$O$1,G28>$O$1)),$B$39,"") | K28: =IF(OR(AND(B28<=$L$1,C28>$L$1),AND(D28<=$L$1,E28>$L$1),AND(F28<=$L$1,G28>$L$1)),$B$40,"") | L28: =IF(OR(IF( B28,3,0),IF(D28,3,0),IF(F28,3,0)),3,0) -> 0
A29: =IF($A$2="","",$A$2+23) -> 42332 | H29: =(G29-F29)+(E29-D29)+(C29-B29) -> 0 | J29: =IF(OR(AND(B29<=$O$1,C29>$O$1),AND(D29<=$O$1,E29>$O$1),AND(F29<=$O$1,G29>$O$1)),$B$39,"") | K29: =IF(OR(AND(B29<=$L$1,C29>$L$1),AND(D29<=$L$1,E29>$L$1),AND(F29<=$L$1,G29>$L$1)),$B$40,"") | L29: =IF(OR(IF( B29,3,0),IF(D29,3,0),IF(F29,3,0)),3,0) -> 0
A30: =IF($A$2="","",$A$2+24) -> 42333 | H30: =(G30-F30)+(E30-D30)+(C30-B30) -> 0 | J30: =IF(OR(AND(B30<=$O$1,C30>$O$1),AND(D30<=$O$1,E30>$O$1),AND(F30<=$O$1,G30>$O$1)),$B$39,"") | K30: =IF(OR(AND(B30<=$L$1,C30>$L$1),AND(D30<=$L$1,E30>$L$1),AND(F30<=$L$1,G30>$L$1)),$B$40,"") | L30: =IF(OR(IF( B30,3,0),IF(D30,3,0),IF(F30,3,0)),3,0) -> 0
A31: =IF($A$2="","",$A$2+25) -> 42334 | H31: =(G31-F31)+(E31-D31)+(C31-B31) -> 0 | J31: =IF(OR(AND(B31<=$O$1,C31>$O$1),AND(D31<=$O$1,E31>$O$1),AND(F31<=$O$1,G31>$O$1)),$B$39,"") | K31: =IF(OR(AND(B31<=$L$1,C31>$L$1),AND(D31<=$L$1,E31>$L$1),AND(F31<=$L$1,G31>$L$1)),$B$40,"") | L31: =IF(OR(IF( B31,3,0),IF(D31,3,0),IF(F31,3,0)),3,0) -> 0
A32: =IF($A$2="","",$A$2+26) -> 42335 | H32: =(G32-F32)+(E32-D32)+(C32-B32) -> 0 | J32: =IF(OR(AND(B32<=$O$1,C32>$O$1),AND(D32<=$O$1,E32>$O$1),AND(F32<=$O$1,G32>$O$1)),$B$39,"") | K32: =IF(OR(AND(B32<=$L$1,C32>$L$1),AND(D32<=$L$1,E32>$L$1),AND(F32<=$L$1,G32>$L$1)),$B$40,"") | L32: =IF(OR(IF( B32,3,0),IF(D32,3,0),IF(F32,3,0)),3,0) -> 0
A33: =IF($A$2="","",$A$2+27) -> 42336 | H33: =(G33-F33)+(E33-D33)+(C33-B33) -> 0 | J33: =IF(OR(AND(B33<=$O$1,C33>$O$1),AND(D33<=$O$1,E33>$O$1),AND(F33<=$O$1,G33>$O$1)),$B$39,"") | K33: =IF(OR(AND(B33<=$L$1,C33>$L$1),AND(D33<=$L$1,E33>$L$1),AND(F33<=$L$1,G33>$L$1)),$B$40,"") | L33: =IF(OR(IF( B33,3,0),IF(D33,3,0),IF(F33,3,0)),3,0) -> 0
A34: =IF($A$2="","",$A$2+28) -> 42337 | H34: =(G34-F34)+(E34-D34)+(C34-B34) -> 0 | J34: =IF(OR(AND(B34<=$O$1,C34>$O$1),AND(D34<=$O$1,E34>$O$1),AND(F34<=$O$1,G34>$O$1)),$B$39,"") | K34: =IF(OR(AND(B34<=$L$1,C34>$L$1),AND(D34<=$L$1,E34>$L$1),AND(F34<=$L$1,G34>$L$1)),$B$40,"") | L34: =IF(OR(IF( B34,3,0),IF(D34,3,0),IF(F34,3,0)),3,0) -> 0
A35: =IF($A$2="","",$A$2+29) -> 42338 | H35: =(G35-F35)+(E35-D35)+(C35-B35) -> 0 | J35: =IF(OR(AND(B35<=$O$1,C35>$O$1),AND(D35<=$O$1,E35>$O$1),AND(F35<=$O$1,G35>$O$1)),$B$39,"") | K35: =IF(OR(AND(B35<=$L$1,C35>$L$1),AND(D35<=$L$1,E35>$L$1),AND(F35<=$L$1,G35>$L$1)),$B$40,"") | L35: =IF(OR(IF( B35,3,0),IF(D35,3,0),IF(F35,3,0)),3,0) -> 0
A36: TOTAUX | H36: =SUM(H6:H35)*24 -> 0 | I36: =SUM(I6:I35)*24 -> 0 | J36: =SUM(J6:J35) -> 0 | K36: =SUM(K6:K35) -> 0 | L36: =SUM(L6:L35) -> 0
A38: Entetien | B38: =janvier!$B38 -> 0 | C38: Salaires de base | E38: =janvier!$E$39 -> 0
A39: Repas | B39: =janvier!$B39 -> 0 | C39: Taux horaire | E39: =janvier!$E$39 -> 0 | H39: Salaires net à payer | J39: =E38+(H36*E39)+SUM(J36:L36) -> 0
A40: Gouter | B40: =janvier!$B40 -> 0

Sheet décembre
K1: Gouter | L1: 0.66666667 | N1: Repas | O1: 0.51041667
A2: 42339 | C2: FICHE DE PRESENCE
A3: NOM PRENOM :
A4: DATE | B4: MATIN | D4: MIDI | F4: SOIR | H4: TOTAL HEURE/JOUR | I4: HEURES COMPL. | J4: REPAS | K4: GOUTER | L4: INDEMNITE D'ENTRETIEN
B5: Arrivée | C5: Départ | D5: Arrivée | E5: Départ | F5: Arrivée | G5: Départ
A6: =A2 -> 42339 | H6: =(G6-F6)+(E6-D6)+(C6-B6) -> 0 | J6: =IF(OR(AND(B6<=$O$1,C6>$O$1),AND(D6<=$O$1,E6>$O$1),AND(F6<=$O$1,G6>$O$1)),$B$40,"") | K6: =IF(OR(AND(B6<=$L$1,C6>$L$1),AND(D6<=$L$1,E6>$L$1),AND(F6<=$L$1,G6>$L$1)),$B$41,"") | L6: =IF(OR(IF(B6,3,0),IF(D6,3,0),IF(F6,3,0)),3,0) -> 0
A7: =IF($A$2="","",$A$2+1) -> 42340 | H7: =(G7-F7)+(E7-D7)+(C7-B7) -> 0 | J7: =IF(OR(AND(B7<=$O$1,C7>$O$1),AND(D7<=$O$1,E7>$O$1),AND(F7<=$O$1,G7>$O$1)),$B$40,"") | K7: =IF(OR(AND(B7<=$L$1,C7>$L$1),AND(D7<=$L$1,E7>$L$1),AND(F7<=$L$1,G7>$L$1)),$B$41,"") | L7: =IF(OR(IF( B7,3,0),IF(D7,3,0),IF(F7,3,0)),3,0) -> 0
A8: =IF($A$2="","",$A$2+2) -> 42341 | H8: =(G8-F8)+(E8-D8)+(C8-B8) -> 0 | J8: =IF(OR(AND(B8<=$O$1,C8>$O$1),AND(D8<=$O$1,E8>$O$1),AND(F8<=$O$1,G8>$O$1)),$B$40,"") | K8: =IF(OR(AND(B8<=$L$1,C8>$L$1),AND(D8<=$L$1,E8>$L$1),AND(F8<=$L$1,G8>$L$1)),$B$41,"") | L8: =IF(OR(IF( B8,3,0),IF(D8,3,0),IF(F8,3,0)),3,0) -> 0
A9: =IF($A$2="","",$A$2+3) -> 42342 | H9: =(G9-F9)+(E9-D9)+(C9-B9) -> 0 | J9: =IF(OR(AND(B9<=$O$1,C9>$O$1),AND(D9<=$O$1,E9>$O$1),AND(F9<=$O$1,G9>$O$1)),$B$40,"") | K9: =IF(OR(AND(B9<=$L$1,C9>$L$1),AND(D9<=$L$1,E9>$L$1),AND(F9<=$L$1,G9>$L$1)),$B$41,"") | L9: =IF(OR(IF( B9,3,0),IF(D9,3,0),IF(F9,3,0)),3,0) -> 0
A10: =IF($A$2="","",$A$2+4) -> 42343 | H10: =(G10-F10)+(E10-D10)+(C10-B10) -> 0 | J10: =IF(OR(AND(B10<=$O$1,C10>$O$1),AND(D10<=$O$1,E10>$O$1),AND(F10<=$O$1,G10>$O$1)),$B$40,"") | K10: =IF(OR(AND(B10<=$L$1,C10>$L$1),AND(D10<=$L$1,E10>$L$1),AND(F10<=$L$1,G10>$L$1)),$B$41,"") | L10: =IF(OR(IF( B10,3,0),IF(D10,3,0),IF(F10,3,0)),3,0) -> 0
A11: =IF($A$2="","",$A$2+5) -> 42344 | H11: =(G11-F11)+(E11-D11)+(C11-B11) -> 0 | J11: =IF(OR(AND(B11<=$O$1,C11>$O$1),AND(D11<=$O$1,E11>$O$1),AND(F11<=$O$1,G11>$O$1)),$B$40,"") | K11: =IF(OR(AND(B11<=$L$1,C11>$L$1),AND(D11<=$L$1,E11>$L$1),AND(F11<=$L$1,G11>$L$1)),$B$41,"") | L11: =IF(OR(IF( B11,3,0),IF(D11,3,0),IF(F11,3,0)),3,0) -> 0
A12: =IF($A$2="","",$A$2+6) -> 42345 | H12: =(G12-F12)+(E12-D12)+(C12-B12) -> 0 | J12: =IF(OR(AND(B12<=$O$1,C12>$O$1),AND(D12<=$O$1,E12>$O$1),AND(F12<=$O$1,G12>$O$1)),$B$40,"") | K12: =IF(OR(AND(B12<=$L$1,C12>$L$1),AND(D12<=$L$1,E12>$L$1),AND(F12<=$L$1,G12>$L$1)),$B$41,"") | L12: =IF(OR(IF( B12,3,0),IF(D12,3,0),IF(F12,3,0)),3,0) -> 0
A13: =IF($A$2="","",$A$2+7) -> 42346 | H13: =(G13-F13)+(E13-D13)+(C13-B13) -> 0 | J13: =IF(OR(AND(B13<=$O$1,C13>$O$1),AND(D13<=$O$1,E13>$O$1),AND(F13<=$O$1,G13>$O$1)),$B$40,"") | K13: =IF(OR(AND(B13<=$L$1,C13>$L$1),AND(D13<=$L$1,E13>$L$1),AND(F13<=$L$1,G13>$L$1)),$B$41,"") | L13: =IF(OR(IF( B13,3,0),IF(D13,3,0),IF(F13,3,0)),3,0) -> 0
A14: =IF($A$2="","",$A$2+8) -> 42347 | H14: =(G14-F14)+(E14-D14)+(C14-B14) -> 0 | J14: =IF(OR(AND(B14<=$O$1,C14>$O$1),AND(D14<=$O$1,E14>$O$1),AND(F14<=$O$1,G14>$O$1)),$B$40,"") | K14: =IF(OR(AND(B14<=$L$1,C14>$L$1),AND(D14<=$L$1,E14>$L$1),AND(F14<=$L$1,G14>$L$1)),$B$41,"") | L14: =IF(OR(IF( B14,3,0),IF(D14,3,0),IF(F14,3,0)),3,0) -> 0
A15: =IF($A$2="","",$A$2+9) -> 42348 | H15: =(G15-F15)+(E15-D15)+(C15-B15) -> 0 | J15: =IF(OR(AND(B15<=$O$1,C15>$O$1),AND(D15<=$O$1,E15>$O$1),AND(F15<=$O$1,G15>$O$1)),$B$40,"") | K15: =IF(OR(AND(B15<=$L$1,C15>$L$1),AND(D15<=$L$1,E15>$L$1),AND(F15<=$L$1,G15>$L$1)),$B$41,"") | L15: =IF(OR(IF( B15,3,0),IF(D15,3,0),IF(F15,3,0)),3,0) -> 0
A16: =IF($A$2="","",$A$2+10) -> 42349 | H16: =(G16-F16)+(E16-D16)+(C16-B16) -> 0 | J16: =IF(OR(AND(B16<=$O$1,C16>$O$1),AND(D16<=$O$1,E16>$O$1),AND(F16<=$O$1,G16>$O$1)),$B$40,"") | K16: =IF(OR(AND(B16<=$L$1,C16>$L$1),AND(D16<=$L$1,E16>$L$1),AND(F16<=$L$1,G16>$L$1)),$B$41,"") | L16: =IF(OR(IF( B16,3,0),IF(D16,3,0),IF(F16,3,0)),3,0) -> 0
A17: =IF($A$2="","",$A$2+11) -> 42350 | H17: =(G17-F17)+(E17-D17)+(C17-B17) -> 0 | J17: =IF(OR(AND(B17<=$O$1,C17>$O$1),AND(D17<=$O$1,E17>$O$1),AND(F17<=$O$1,G17>$O$1)),$B$40,"") | K17: =IF(OR(AND(B17<=$L$1,C17>$L$1),AND(D17<=$L$1,E17>$L$1),AND(F17<=$L$1,G17>$L$1)),$B$41,"") | L17: =IF(OR(IF( B17,3,0),IF(D17,3,0),IF(F17,3,0)),3,0) -> 0
A18: =IF($A$2="","",$A$2+12) -> 42351 | H18: =(G18-F18)+(E18-D18)+(C18-B18) -> 0 | J18: =IF(OR(AND(B18<=$O$1,C18>$O$1),AND(D18<=$O$1,E18>$O$1),AND(F18<=$O$1,G18>$O$1)),$B$40,"") | K18: =IF(OR(AND(B18<=$L$1,C18>$L$1),AND(D18<=$L$1,E18>$L$1),AND(F18<=$L$1,G18>$L$1)),$B$41,"") | L18: =IF(OR(IF( B18,3,0),IF(D18,3,0),IF(F18,3,0)),3,0) -> 0
A19: =IF($A$2="","",$A$2+13) -> 42352 | H19: =(G19-F19)+(E19-D19)+(C19-B19) -> 0 | J19: =IF(OR(AND(B19<=$O$1,C19>$O$1),AND(D19<=$O$1,E19>$O$1),AND(F19<=$O$1,G19>$O$1)),$B$40,"") | K19: =IF(OR(AND(B19<=$L$1,C19>$L$1),AND(D19<=$L$1,E19>$L$1),AND(F19<=$L$1,G19>$L$1)),$B$41,"") | L19: =IF(OR(IF( B19,3,0),IF(D19,3,0),IF(F19,3,0)),3,0) -> 0
A20: =IF($A$2="","",$A$2+14) -> 42353 | H20: =(G20-F20)+(E20-D20)+(C20-B20) -> 0 | J20: =IF(OR(AND(B20<=$O$1,C20>$O$1),AND(D20<=$O$1,E20>$O$1),AND(F20<=$O$1,G20>$O$1)),$B$40,"") | K20: =IF(OR(AND(B20<=$L$1,C20>$L$1),AND(D20<=$L$1,E20>$L$1),AND(F20<=$L$1,G20>$L$1)),$B$41,"") | L20: =IF(OR(IF( B20,3,0),IF(D20,3,0),IF(F20,3,0)),3,0) -> 0
A21: =IF($A$2="","",$A$2+15) -> 42354 | H21: =(G21-F21)+(E21-D21)+(C21-B21) -> 0 | J21: =IF(OR(AND(B21<=$O$1,C21>$O$1),AND(D21<=$O$1,E21>$O$1),AND(F21<=$O$1,G21>$O$1)),$B$40,"") | K21: =IF(OR(AND(B21<=$L$1,C21>$L$1),AND(D21<=$L$1,E21>$L$1),AND(F21<=$L$1,G21>$L$1)),$B$41,"") | L21: =IF(OR(IF( B21,3,0),IF(D21,3,0),IF(F21,3,0)),3,0) -> 0
A22: =IF($A$2="","",$A$2+16) -> 42355 | H22: =(G22-F22)+(E22-D22)+(C22-B22) -> 0 | J22: =IF(OR(AND(B22<=$O$1,C22>$O$1),AND(D22<=$O$1,E22>$O$1),AND(F22<=$O$1,G22>$O$1)),$B$40,"") | K22: =IF(OR(AND(B22<=$L$1,C22>$L$1),AND(D22<=$L$1,E22>$L$1),AND(F22<=$L$1,G22>$L$1)),$B$41,"") | L22: =IF(OR(IF( B22,3,0),IF(D22,3,0),IF(F22,3,0)),3,0) -> 0
A23: =IF($A$2="","",$A$2+17) -> 42356 | H23: =(G23-F23)+(E23-D23)+(C23-B23) -> 0 | J23: =IF(OR(AND(B23<=$O$1,C23>$O$1),AND(D23<=$O$1,E23>$O$1),AND(F23<=$O$1,G23>$O$1)),$B$40,"") | K23: =IF(OR(AND(B23<=$L$1,C23>$L$1),AND(D23<=$L$1,E23>$L$1),AND(F23<=$L$1,G23>$L$1)),$B$41,"") | L23: =IF(OR(IF( B23,3,0),IF(D23,3,0),IF(F23,3,0)),3,0) -> 0
A24: =IF($A$2="","",$A$2+18) -> 42357 | H24: =(G24-F24)+(E24-D24)+(C24-B24) -> 0 | J24: =IF(OR(AND(B24<=$O$1,C24>$O$1),AND(D24<=$O$1,E24>$O$1),AND(F24<=$O$1,G24>$O$1)),$B$40,"") | K24: =IF(OR(AND(B24<=$L$1,C24>$L$1),AND(D24<=$L$1,E24>$L$1),AND(F24<=$L$1,G24>$L$1)),$B$41,"") | L24: =IF(OR(IF( B24,3,0),IF(D24,3,0),IF(F24,3,0)),3,0) -> 0
A25: =IF($A$2="","",$A$2+19) -> 42358 | H25: =(G25-F25)+(E25-D25)+(C25-B25) -> 0 | J25: =IF(OR(AND(B25<=$O$1,C25>$O$1),AND(D25<=$O$1,E25>$O$1),AND(F25<=$O$1,G25>$O$1)),$B$40,"") | K25: =IF(OR(AND(B25<=$L$1,C25>$L$1),AND(D25<=$L$1,E25>$L$1),AND(F25<=$L$1,G25>$L$1)),$B$41,"") | L25: =IF(OR(IF( B25,3,0),IF(D25,3,0),IF(F25,3,0)),3,0) -> 0
A26: =IF($A$2="","",$A$2+20) -> 42359 | H26: =(G26-F26)+(E26-D26)+(C26-B26) -> 0 | J26: =IF(OR(AND(B26<=$O$1,C26>$O$1),AND(D26<=$O$1,E26>$O$1),AND(F26<=$O$1,G26>$O$1)),$B$40,"") | K26: =IF(OR(AND(B26<=$L$1,C26>$L$1),AND(D26<=$L$1,E26>$L$1),AND(F26<=$L$1,G26>$L$1)),$B$41,"") | L26: =IF(OR(IF( B26,3,0),IF(D26,3,0),IF(F26,3,0)),3,0) -> 0
A27: =IF($A$2="","",$A$2+21) -> 42360 | H27: =(G27-F27)+(E27-D27)+(C27-B27) -> 0 | J27: =IF(OR(AND(B27<=$O$1,C27>$O$1),AND(D27<=$O$1,E27>$O$1),AND(F27<=$O$1,G27>$O$1)),$B$40,"") | K27: =IF(OR(AND(B27<=$L$1,C27>$L$1),AND(D27<=$L$1,E27>$L$1),AND(F27<=$L$1,G27>$L$1)),$B$41,"") | L27: =IF(OR(IF( B27,3,0),IF(D27,3,0),IF(F27,3,0)),3,0) -> 0
A28: =IF($A$2="","",$A$2+22) -> 42361 | H28: =(G28-F28)+(E28-D28)+(C28-B28) -> 0 | J28: =IF(OR(AND(B28<=$O$1,C28>$O$1),AND(D28<=$O$1,E28>$O$1),AND(F28<=$O$1,G28>$O$1)),$B$40,"") | K28: =IF(OR(AND(B28<=$L$1,C28>$L$1),AND(D28<=$L$1,E28>$L$1),AND(F28<=$L$1,G28>$L$1)),$B$41,"") | L28: =IF(OR(IF( B28,3,0),IF(D28,3,0),IF(F28,3,0)),3,0) -> 0
A29: =IF($A$2="","",$A$2+23) -> 42362 | H29: =(G29-F29)+(E29-D29)+(C29-B29) -> 0 | J29: =IF(OR(AND(B29<=$O$1,C29>$O$1),AND(D29<=$O$1,E29>$O$1),AND(F29<=$O$1,G29>$O$1)),$B$40,"") | K29: =IF(OR(AND(B29<=$L$1,C29>$L$1),AND(D29<=$L$1,E29>$L$1),AND(F29<=$L$1,G29>$L$1)),$B$41,"") | L29: =IF(OR(IF( B29,3,0),IF(D29,3,0),IF(F29,3,0)),3,0) -> 0
A30: =IF($A$2="","",$A$2+24) -> 42363 | H30: =(G30-F30)+(E30-D30)+(C30-B30) -> 0 | J30: =IF(OR(AND(B30<=$O$1,C30>$O$1),AND(D30<=$O$1,E30>$O$1),AND(F30<=$O$1,G30>$O$1)),$B$40,"") | K30: =IF(OR(AND(B30<=$L$1,C30>$L$1),AND(D30<=$L$1,E30>$L$1),AND(F30<=$L$1,G30>$L$1)),$B$41,"") | L30: =IF(OR(IF( B30,3,0),IF(D30,3,0),IF(F30,3,0)),3,0) -> 0
A31: =IF($A$2="","",$A$2+25) -> 42364 | H31: =(G31-F31)+(E31-D31)+(C31-B31) -> 0 | J31: =IF(OR(AND(B31<=$O$1,C31>$O$1),AND(D31<=$O$1,E31>$O$1),AND(F31<=$O$1,G31>$O$1)),$B$40,"") | K31: =IF(OR(AND(B31<=$L$1,C31>$L$1),AND(D31<=$L$1,E31>$L$1),AND(F31<=$L$1,G31>$L$1)),$B$41,"") | L31: =IF(OR(IF( B31,3,0),IF(D31,3,0),IF(F31,3,0)),3,0) -> 0
A32: =IF($A$2="","",$A$2+26) -> 42365 | H32: =(G32-F32)+(E32-D32)+(C32-B32) -> 0 | J32: =IF(OR(AND(B32<=$O$1,C32>$O$1),AND(D32<=$O$1,E32>$O$1),AND(F32<=$O$1,G32>$O$1)),$B$40,"") | K32: =IF(OR(AND(B32<=$L$1,C32>$L$1),AND(D32<=$L$1,E32>$L$1),AND(F32<=$L$1,G32>$L$1)),$B$41,"") | L32: =IF(OR(IF( B32,3,0),IF(D32,3,0),IF(F32,3,0)),3,0) -> 0
A33: =IF($A$2="","",$A$2+27) -> 42366 | H33: =(G33-F33)+(E33-D33)+(C33-B33) -> 0 | J33: =IF(OR(AND(B33<=$O$1,C33>$O$1),AND(D33<=$O$1,E33>$O$1),AND(F33<=$O$1,G33>$O$1)),$B$40,"") | K33: =IF(OR(AND(B33<=$L$1,C33>$L$1),AND(D33<=$L$1,E33>$L$1),AND(F33<=$L$1,G33>$L$1)),$B$41,"") | L33: =IF(OR(IF( B33,3,0),IF(D33,3,0),IF(F33,3,0)),3,0) -> 0
A34: =IF($A$2="","",$A$2+28) -> 42367 | H34: =(G34-F34)+(E34-D34)+(C34-B34) -> 0 | J34: =IF(OR(AND(B34<=$O$1,C34>$O$1),AND(D34<=$O$1,E34>$O$1),AND(F34<=$O$1,G34>$O$1)),$B$40,"") | K34: =IF(OR(AND(B34<=$L$1,C34>$L$1),AND(D34<=$L$1,E34>$L$1),AND(F34<=$L$1,G34>$L$1)),$B$41,"") | L34: =IF(OR(IF( B34,3,0),IF(D34,3,0),IF(F34,3,0)),3,0) -> 0
A35: =IF($A$2="","",$A$2+29) -> 42368 | H35: =(G35-F35)+(E35-D35)+(C35-B35) -> 0 | J35: =IF(OR(AND(B35<=$O$1,C35>$O$1),AND(D35<=$O$1,E35>$O$1),AND(F35<=$O$1,G35>$O$1)),$B$40,"") | K35: =IF(OR(AND(B35<=$L$1,C35>$L$1),AND(D35<=$L$1,E35>$L$1),AND(F35<=$L$1,G35>$L$1)),$B$41,"") | L35: =IF(OR(IF( B35,3,0),IF(D35,3,0),IF(F35,3,0)),3,0) -> 0
A36: =IF($A$2="","",$A$2+30) -> 42369 | H36: =(G36-F36)+(E36-D36)+(C36-B36) -> 0 | J36: =IF(OR(AND(B36<=$O$1,C36>$O$1),AND(D36<=$O$1,E36>$O$1),AND(F36<=$O$1,G36>$O$1)),$B$40,"") | K36: =IF(OR(AND(B36<=$L$1,C36>$L$1),AND(D36<=$L$1,E36>$L$1),AND(F36<=$L$1,G36>$L$1)),$B$41,"") | L36: =IF(OR(IF( B36,3,0),IF(D36,3,0),IF(F36,3,0)),3,0) -> 0
A37: TOTAUX | H37: =SUM(H6:H36)*24 -> 0 | I37: =SUM(I6:I36)*24 -> 0 | J37: =SUM(J6:J36) -> 0 | K37: =SUM(K6:K36) -> 0 | L37: =SUM(L6:L36) -> 0
A39: Entetien | B39: =janvier!$B39 -> 0 | C39: Salaires de base | E39: =janvier!$E$39 -> 0
A40: Repas | B40: =janvier!$B40 -> 0 | C40: Taux horaire | E40: =janvier!$E$39 -> 0 | H40: Salaires net à payer | J40: =E39+(H37*E40)+SUM(J37:L37) -> 0
A41: Gouter | B41: =janvier!$B41 -> 0
