Workbook

Sheet 01
C2: JANVIER
A4: N° | B4: Mois | C4: Date | D4: N° Facture | E4: Client | F4: Montant HT | G4: Etat
A5: 1 | B5: 1 | C5: 43102 | D5: 18-01 | E5: Client | F5: 268.91 | G5: payé
A6: 2 | B6: 1 | C6: 43109 | D6: 18-02 | E6: Client | F6: 453.78 | G6: payé
A7: 3 | B7: 1 | C7: 43109 | D7: 18-03 | E7: Client | F7: 848.74 | G7: payé
A8: 4 | B8: 1 | C8: 43110 | D8: 18-04 | E8: Client | F8: 798.32 | G8: payé
A9: 5 | B9: 1 | C9: 43110 | D9: 18-05 | E9: Client | F9: 580.6715 | G9: 0
A10: 6 | B10: 1 | C10: 43110 | D10: 18-06 | E10: Client | F10: 317.65 | G10: payé
A11: 7 | B11: 1 | C11: 43110 | D11: 18-07 | E11: Client | F11: 647.06 | G11: 0
A12: 8 | B12: 1 | C12: 43110 | D12: 18-08 | E12: Client | F12: 40.34 | G12: 0
A13: 9 | B13: 1 | C13: 43113 | D13: 18-09 | E13: Client | F13: 159.66 | G13: payé
A14: 10 | B14: 1 | C14: 43115 | D14: 18-10 | E14: Client | F14: 268.91 | G14: payé
A15: 11 | B15: 1 | C15: 43115 | D15: 18-11 | E15: Client | F15: 201.68 | G15: payé
A16: 12 | B16: 1 | C16: 43115 | D16: 18-12 | E16: Client | F16: 882.35 | G16: payé
... A24: 20 | B24: 1 | C24: 43121 | D24: 18-20 | E24: Client | F24: 567.23 | G24: payé

Sheet 02
C2: FEVRIER
A4: N° | B4: Mois | C4: Date | D4: N° Facture | E4: Client | F4: Montant HT | G4: Etat
A5: 1 | B5: 2 | C5: 46785 | D5: 18-21 | E5: Client | F5: 983.19 | G5: payé
A6: 2 | B6: 2 | C6: 46792 | D6: 18-22 | E6: Client | F6: 882.35 | G6: 0
A7: 3 | B7: 2 | C7: 46792 | D7: 18-23 | E7: Client | F7: 848.74 | G7: 0
A8: 4 | B8: 2 | C8: 46793 | D8: 18-24 | E8: Client | F8: 840.34 | G8: payé
A9: 5 | B9: 2 | C9: 46793 | D9: 18-25 | E9: Client | F9: 798.32 | G9: payé
A10: 6 | B10: 2 | C10: 46793 | D10: 18-26 | E10: Client | F10: 647.06 | G10: payé
A11: 7 | B11: 2 | C11: 46793 | D11: 18-27 | E11: Client | F11: 605.04 | G11: payé
A12: 8 | B12: 2 | C12: 46793 | D12: 18-28 | E12: Client | F12: 580.6715 | G12: 0
A13: 9 | B13: 2 | C13: 46796 | D13: 18-29 | E13: Client | F13: 567.23 | G13: payé
A14: 10 | B14: 2 | C14: 46798 | D14: 18-30 | E14: Client | F14: 521.01 | G14: payé
A15: 11 | B15: 2 | C15: 46798 | D15: 18-31 | E15: Client | F15: 453.78 | G15: payé
A16: 12 | B16: 2 | C16: 46798 | D16: 18-32 | E16: Client | F16: 317.65 | G16: payé
... A24: 20 | B24: 2 | C24: 46804 | D24: 18-40 | E24: Client | F24: 108.4 | G24: payé

Sheet 00
B1: Ch.Af. | C1: =SUM(D1:E1) -> 18296.643 | D1: =SUMIF($A5:$A999,"1",$C5:$C999) -> 8698.3215 | E1: =SUMIF($A5:$A999,"2",$C5:$C999) -> 9598.3215
B2: Payé | C2: =SUM(D2:E2) -> 6321.85 | D2: =SUMIF($A5:$A999,"1",$D5:$D999) -> 6321.85 | E2: =SUMIF($A5:$A999,"2",$D5:$D999) -> 0
B3: Impayé | C3: =SUM(D3:E3) -> 11974.793 | D3: =D1-D2 -> 2376.4715 | E3: =E1-E2 -> 9598.3215
A4: Mois | B4: N° Fact. | C4: Montant HT | D4: 1 | E4: 2 | G4: RECHERCHE FORMULE POUR COLONNES "D" ET"E"
A5: 1 | B5: 18-01 | C5: ='01'!F5 -> 268.91 | D5: =SUMIFS('01'!$F$5:$F$24,'01'!$D$5:$D$24,'00'!B5,'01'!$G$5:$G$24,"payé") -> 268.91 | E5: =SUMIFS('02'!$F$5:$F$24,'02'!$D$5:$D$24,'00'!B5,'02'!$G$5:$G$24,"payé") -> 0 | G5: POUR AVOIR LES MONTANTS PAYES DE
A6: 1 | B6: 18-02 | C6: ='01'!F6 -> 453.78 | D6: =SUMIFS('01'!$F$5:$F$24,'01'!$D$5:$D$24,'00'!B6,'01'!$G$5:$G$24,"payé") -> 453.78 | E6: =SUMIFS('02'!$F$5:$F$24,'02'!$D$5:$D$24,'00'!B6,'02'!$G$5:$G$24,"payé") -> 0 | G6: CHACUNE DES FACTURES PAR RAPPORT
A7: 1 | B7: 18-03 | C7: ='01'!F7 -> 848.74 | D7: =SUMIFS('01'!$F$5:$F$24,'01'!$D$5:$D$24,'00'!B7,'01'!$G$5:$G$24,"payé") -> 848.74 | E7: =SUMIFS('02'!$F$5:$F$24,'02'!$D$5:$D$24,'00'!B7,'02'!$G$5:$G$24,"payé") -> 0 | G7: AUX FEUILLES '01' et '02'
A8: 1 | B8: 18-04 | C8: ='01'!F8 -> 798.32 | D8: =SUMIFS('01'!$F$5:$F$24,'01'!$D$5:$D$24,'00'!B8,'01'!$G$5:$G$24,"payé") -> 798.32 | E8: =SUMIFS('02'!$F$5:$F$24,'02'!$D$5:$D$24,'00'!B8,'02'!$G$5:$G$24,"payé") -> 0
A9: 1 | B9: 18-05 | C9: ='01'!F9 -> 580.6715 | D9: =SUMIFS('01'!$F$5:$F$24,'01'!$D$5:$D$24,'00'!B9,'01'!$G$5:$G$24,"payé") -> 0 | E9: =SUMIFS('02'!$F$5:$F$24,'02'!$D$5:$D$24,'00'!B9,'02'!$G$5:$G$24,"payé") -> 0
A10: 1 | B10: 18-06 | C10: ='01'!F10 -> 317.65 | D10: =SUMIFS('01'!$F$5:$F$24,'01'!$D$5:$D$24,'00'!B10,'01'!$G$5:$G$24,"payé") -> 317.65 | E10: =SUMIFS('02'!$F$5:$F$24,'02'!$D$5:$D$24,'00'!B10,'02'!$G$5:$G$24,"payé") -> 0
A11: 1 | B11: 18-07 | C11: ='01'!F11 -> 647.06 | D11: =SUMIFS('01'!$F$5:$F$24,'01'!$D$5:$D$24,'00'!B11,'01'!$G$5:$G$24,"payé") -> 0 | E11: =SUMIFS('02'!$F$5:$F$24,'02'!$D$5:$D$24,'00'!B11,'02'!$G$5:$G$24,"payé") -> 0
A12: 1 | B12: 18-08 | C12: ='01'!F12 -> 40.34 | D12: =SUMIFS('01'!$F$5:$F$24,'01'!$D$5:$D$24,'00'!B12,'01'!$G$5:$G$24,"payé") -> 0 | E12: =SUMIFS('02'!$F$5:$F$24,'02'!$D$5:$D$24,'00'!B12,'02'!$G$5:$G$24,"payé") -> 0
A13: 1 | B13: 18-09 | C13: ='01'!F13 -> 159.66 | D13: =SUMIFS('01'!$F$5:$F$24,'01'!$D$5:$D$24,'00'!B13,'01'!$G$5:$G$24,"payé") -> 159.66 | E13: =SUMIFS('02'!$F$5:$F$24,'02'!$D$5:$D$24,'00'!B13,'02'!$G$5:$G$24,"payé") -> 0
A14: 1 | B14: 18-10 | C14: ='01'!F14 -> 268.91 | D14: =SUMIFS('01'!$F$5:$F$24,'01'!$D$5:$D$24,'00'!B14,'01'!$G$5:$G$24,"payé") -> 268.91 | E14: =SUMIFS('02'!$F$5:$F$24,'02'!$D$5:$D$24,'00'!B14,'02'!$G$5:$G$24,"payé") -> 0
A15: 1 | B15: 18-11 | C15: ='01'!F15 -> 201.68 | D15: =SUMIFS('01'!$F$5:$F$24,'01'!$D$5:$D$24,'00'!B15,'01'!$G$5:$G$24,"payé") -> 201.68 | E15: =SUMIFS('02'!$F$5:$F$24,'02'!$D$5:$D$24,'00'!B15,'02'!$G$5:$G$24,"payé") -> 0
A16: 1 | B16: 18-12 | C16: ='01'!F16 -> 882.35 | D16: =SUMIFS('01'!$F$5:$F$24,'01'!$D$5:$D$24,'00'!B16,'01'!$G$5:$G$24,"payé") -> 882.35 | E16: =SUMIFS('02'!$F$5:$F$24,'02'!$D$5:$D$24,'00'!B16,'02'!$G$5:$G$24,"payé") -> 0
A17: 1 | B17: 18-13 | C17: ='01'!F17 -> 983.19 | D17: =SUMIFS('01'!$F$5:$F$24,'01'!$D$5:$D$24,'00'!B17,'01'!$G$5:$G$24,"payé") -> 0 | E17: =SUMIFS('02'!$F$5:$F$24,'02'!$D$5:$D$24,'00'!B17,'02'!$G$5:$G$24,"payé") -> 0
A18: 1 | B18: 18-14 | C18: ='01'!F18 -> 159.66 | D18: =SUMIFS('01'!$F$5:$F$24,'01'!$D$5:$D$24,'00'!B18,'01'!$G$5:$G$24,"payé") -> 159.66 | E18: =SUMIFS('02'!$F$5:$F$24,'02'!$D$5:$D$24,'00'!B18,'02'!$G$5:$G$24,"payé") -> 0
A19: 1 | B19: 18-15 | C19: ='01'!F19 -> 605.04 | D19: =SUMIFS('01'!$F$5:$F$24,'01'!$D$5:$D$24,'00'!B19,'01'!$G$5:$G$24,"payé") -> 605.04 | E19: =SUMIFS('02'!$F$5:$F$24,'02'!$D$5:$D$24,'00'!B19,'02'!$G$5:$G$24,"payé") -> 0
... A24: 1 | B24: 18-20 | C24: ='01'!F24 -> 567.23 | D24: =SUMIFS('01'!$F$5:$F$24,'01'!$D$5:$D$24,'00'!B24,'01'!$G$5:$G$24,"payé") -> 567.23 | E24: =SUMIFS('02'!$F$5:$F$24,'02'!$D$5:$D$24,'00'!B24,'02'!$G$5:$G$24,"payé") -> 0
A25: 2 | B25: 18-21 | C25: ='02'!F5 -> 983.19 | D25: =SUMIFS('01'!$F$5:$F$24,'01'!$D$5:$D$24,'00'!B25,'01'!$G$5:$G$24,"payé") -> 0 | E25: =SUMIFS('02'!$F$5:$F$24,'02'!$D$5:$D$24,'00'!B25,'02'!$G$5:$G$24,"payé") -> 983.19
A26: 2 | B26: 18-22 | C26: ='02'!F6 -> 882.35 | D26: =SUMIFS('01'!$F$5:$F$24,'01'!$D$5:$D$24,'00'!B26,'01'!$G$5:$G$24,"payé") -> 0 | E26: =SUMIFS('02'!$F$5:$F$24,'02'!$D$5:$D$24,'00'!B26,'02'!$G$5:$G$24,"payé") -> 0
A27: 2 | B27: 18-23 | C27: ='02'!F7 -> 848.74 | D27: =SUMIFS('01'!$F$5:$F$24,'01'!$D$5:$D$24,'00'!B27,'01'!$G$5:$G$24,"payé") -> 0 | E27: =SUMIFS('02'!$F$5:$F$24,'02'!$D$5:$D$24,'00'!B27,'02'!$G$5:$G$24,"payé") -> 0
A28: 2 | B28: 18-24 | C28: ='02'!F8 -> 840.34 | D28: =SUMIFS('01'!$F$5:$F$24,'01'!$D$5:$D$24,'00'!B28,'01'!$G$5:$G$24,"payé") -> 0 | E28: =SUMIFS('02'!$F$5:$F$24,'02'!$D$5:$D$24,'00'!B28,'02'!$G$5:$G$24,"payé") -> 840.34
A29: 2 | B29: 18-25 | C29: ='02'!F9 -> 798.32 | D29: =SUMIFS('01'!$F$5:$F$24,'01'!$D$5:$D$24,'00'!B29,'01'!$G$5:$G$24,"payé") -> 0 | E29: =SUMIFS('02'!$F$5:$F$24,'02'!$D$5:$D$24,'00'!B29,'02'!$G$5:$G$24,"payé") -> 798.32
A30: 2 | B30: 18-26 | C30: ='02'!F10 -> 647.06 | D30: =SUMIFS('01'!$F$5:$F$24,'01'!$D$5:$D$24,'00'!B30,'01'!$G$5:$G$24,"payé") -> 0 | E30: =SUMIFS('02'!$F$5:$F$24,'02'!$D$5:$D$24,'00'!B30,'02'!$G$5:$G$24,"payé") -> 647.06
A31: 2 | B31: 18-27 | C31: ='02'!F11 -> 605.04 | D31: =SUMIFS('01'!$F$5:$F$24,'01'!$D$5:$D$24,'00'!B31,'01'!$G$5:$G$24,"payé") -> 0 | E31: =SUMIFS('02'!$F$5:$F$24,'02'!$D$5:$D$24,'00'!B31,'02'!$G$5:$G$24,"payé") -> 605.04
A32: 2 | B32: 18-28 | C32: ='02'!F12 -> 580.6715 | D32: =SUMIFS('01'!$F$5:$F$24,'01'!$D$5:$D$24,'00'!B32,'01'!$G$5:$G$24,"payé") -> 0 | E32: =SUMIFS('02'!$F$5:$F$24,'02'!$D$5:$D$24,'00'!B32,'02'!$G$5:$G$24,"payé") -> 0
A33: 2 | B33: 18-29 | C33: ='02'!F13 -> 567.23 | D33: =SUMIFS('01'!$F$5:$F$24,'01'!$D$5:$D$24,'00'!B33,'01'!$G$5:$G$24,"payé") -> 0 | E33: =SUMIFS('02'!$F$5:$F$24,'02'!$D$5:$D$24,'00'!B33,'02'!$G$5:$G$24,"payé") -> 567.23
A34: 2 | B34: 18-30 | C34: ='02'!F14 -> 521.01 | D34: =SUMIFS('01'!$F$5:$F$24,'01'!$D$5:$D$24,'00'!B34,'01'!$G$5:$G$24,"payé") -> 0 | E34: =SUMIFS('02'!$F$5:$F$24,'02'!$D$5:$D$24,'00'!B34,'02'!$G$5:$G$24,"payé") -> 521.01
A35: 2 | B35: 18-31 | C35: ='02'!F15 -> 453.78 | D35: =SUMIFS('01'!$F$5:$F$24,'01'!$D$5:$D$24,'00'!B35,'01'!$G$5:$G$24,"payé") -> 0 | E35: =SUMIFS('02'!$F$5:$F$24,'02'!$D$5:$D$24,'00'!B35,'02'!$G$5:$G$24,"payé") -> 453.78
A36: 2 | B36: 18-32 | C36: ='02'!F16 -> 317.65 | D36: =SUMIFS('01'!$F$5:$F$24,'01'!$D$5:$D$24,'00'!B36,'01'!$G$5:$G$24,"payé") -> 0 | E36: =SUMIFS('02'!$F$5:$F$24,'02'!$D$5:$D$24,'00'!B36,'02'!$G$5:$G$24,"payé") -> 317.65
... A44: 2 | B44: 18-40 | C44: ='02'!F24 -> 108.4 | D44: =SUMIFS('01'!$F$5:$F$24,'01'!$D$5:$D$24,'00'!B44,'01'!$G$5:$G$24,"payé") -> 0 | E44: =SUMIFS('02'!$F$5:$F$24,'02'!$D$5:$D$24,'00'!B44,'02'!$G$5:$G$24,"payé") -> 108.4
