Workbook
Name Segment_Nom: #N/A

Sheet Notes
A1: NOM | C1: Groupe | D1: MOYENNE GENERALE | E1: Moyenne écrit | F1: Moyenne des colles | G1: Classement | H1: Moyenne IE | I1: rien | J1: CODE | K1: DS1 - Cours | L1: DS1 - ExA | M1: DS1 - ExB | N1: DS1 - Pb | O1: DS1 - Tot | P1: DS1 - Tot/20 | Q1: rien | R1: DS2 - Cours | S1: DS2-Ex1à3 | T1: DS2-Ex4à6 | U1: DS2 - Tot/20 | V1: rien | W1: DS3 - Cours | X1: DS3 ex1 | Y1: DS3 ex2 | Z1: DS3 ex3 | AA1: DS3 tot | AB1: DS3 Tot/20 | AD1: DS4 Cours | AE1: DS4 1+2 | AF1: DS4 3 | AG1: DS4 tot | AH1: DS4 tot/20 | AJ1: Colle 1 | AK1: Colle 2 | AL1: Colle 3 | AM1: Colle 4 | AN1: Colle 5 | AO1: Colle 6 | AP1: rien | AQ1: IE0 form | AR1: IE0 refl | AS1: IE0 tot | AT1: IE0 tot/20 | AU1: rien | AV1: IE2 | AW1: IE3 | AX1: IE4 | AY1: IE5 | AZ1: IE6 | BA1: IE7 | BB1: IE7bis | BC1: rien | BD1: Diff IE/DS | BF1: DM1 | BG1: Eq suppl au DM1 | BH1: Eq1+2 | BI1: Eq3+4 | BJ1: Eq5+6+7 | BK1: DM2
A2: eleve 1 | C2: 2 | D2: =2/3*E2+1/3*F2 -> 12.914573 | E2: =AVERAGE(AB2,U2,P2) -> 11.07186 | F2: =AVERAGE(AJ2:AN2) -> 16.6 | G2: 6 | H2: =AVERAGE(AT2,AV2:BB2) -> 14.477508 | J2: 1369044 | K2: 14 | L2: 18 | M2: 10.5 | N2: 2 | O2: =K2+L2+M2+N2 -> 44.5 | P2: =O2*20/92 -> 9.673913 | R2: 14 | S2: 18.5 | T2: 11.5 | U2: =(R2+S2+T2)/3 -> 14.666667 | W2: 15 | X2: 9.5 | Y2: 2.5 | Z2: 8.5 | AA2: =W2+X2+Y2+Z2 -> 35.5 | AB2: =AA2/4 -> 8.875 | AD2: 17 | AE2: 19.5 | AF2: 12 | AG2: =AD2+AE2+AF2 -> 48.5 | AH2: =AG2/4 -> 12.125 | AJ2: 19 | AK2: 14 | AL2: 15 | AM2: 17 | AN2: 18 | AQ2: 79 | AR2: 3 | AS2: =AQ2+AR2 -> 82 | AT2: =AS2/107*20 -> 15.327103 | AV2: 8.75 | AW2: 15.666667 | AX2: 15.769231 | AY2: 12.1875 | AZ2: 15.869565 | BA2: 13.75 | BB2: 18.5 | BD2: =(H2-11.37)-(D2-10.38) -> 0.57293491 | BF2: A | BK2: A
A3: eleve 2 | C3: 1 | D3: =2/3*E3+1/3*F3 -> 11.20314 | E3: =AVERAGE(AB3,U3,P3) -> 8.7047101 | F3: =AVERAGE(AJ3:AN3) -> 16.2 | G3: 13 | H3: =AVERAGE(AT3,AV3:BB3) -> 9.8490484 | J3: 1369178 | K3: 10.5 | L3: 14 | M3: 4.5 | N3: 2 | O3: =K3+L3+M3+N3 -> 31 | P3: =O3*20/92 -> 6.7391304 | R3: 6.5 | S3: 16.5 | T3: 10 | U3: =(R3+S3+T3)/3 -> 11 | W3: 14.5 | X3: 8.5 | Y3: 4 | Z3: 6.5 | AA3: =W3+X3+Y3+Z3 -> 33.5 | AB3: =AA3/4 -> 8.375 | AD3: 5 | AE3: 7 | AF3: 13.5 | AG3: =AD3+AE3+AF3 -> 25.5 | AH3: =AG3/4 -> 6.375 | AI3: rien | AJ3: 18 | AK3: 17 | AL3: 16 | AM3: 15 | AN3: 15 | AQ3: 65 | AR3: 15 | AS3: =AQ3+AR3 -> 80 | AT3: =AS3/107*20 -> 14.953271 | AV3: 3.5 | AW3: 6.6666667 | AX3: 9.6153846 | AY3: 12.1875 | AZ3: 10.869565 | BA3: 10.5 | BB3: 10.5 | BD3: =(H3-11.37)-(D3-10.38) -> -2.3440917 | BF3: C+ | BG3: OK | BJ3: mauvais | BK3: B-
A4: eleve 3 | C4: 1 | D4: =2/3*E4+1/3*F4 -> 9.3143639 | E4: =AVERAGE(AB4,U4,P4) -> 7.4915459 | F4: =AVERAGE(AJ4:AN4) -> 12.96 | G4: 32 | H4: =AVERAGE(AT4,AV4:BB4) -> 10.169823 | J4: 1369124 | K4: 6 | L4: 11 | M4: 5.5 | N4: 0 | O4: =K4+L4+M4+N4 -> 22.5 | P4: =O4*20/92 -> 4.8913043 | R4: 6 | S4: 18.5 | T4: 9.5 | U4: =(R4+S4+T4)/3 -> 11.333333 | W4: 6 | X4: 12.5 | Y4: 2.5 | Z4: 4 | AA4: =W4+X4+Y4+Z4 -> 25 | AB4: =AA4/4 -> 6.25 | AD4: 5.5 | AE4: 4.5 | AF4: 5 | AG4: =AD4+AE4+AF4 -> 15 | AH4: =AG4/4 -> 3.75 | AJ4: 17 | AK4: 11 | AL4: 12.8 | AM4: 10 | AN4: 14 | AQ4: 69 | AR4: 11 | AS4: =AQ4+AR4 -> 80 | AT4: =AS4/107*20 -> 14.953271 | AV4: 5.5 | AW4: 12 | AX4: 11.538462 | AY4: 10.9375 | AZ4: 6.3043478 | BA4: 8.625 | BB4: 11.5 | BD4: =(H4-11.37)-(D4-10.38) -> -0.13454138 | BF4: D+ | BG4: OK | BJ4: mauvais | BK4: B+
A5: eleve 4 | C5: 1 | D5: =2/3*E5+1/3*F5 -> 6.2230274 | E5: =AVERAGE(AB5,U5,P5) -> 5.0012077 | F5: =AVERAGE(AJ5:AN5) -> 8.6666667 | G5: 45 | H5: =AVERAGE(AT5,AV5:BB5) -> 7.9586976 | J5: 1369288 | K5: 7 | L5: 11.5 | M5: 6.5 | N5: 3 | O5: =K5+L5+M5+N5 -> 28 | P5: =O5*20/92 -> 6.0869565 | R5: 6.5 | S5: 5.5 | T5: 5 | U5: =(R5+S5+T5)/3 -> 5.6666667 | W5: 7 | X5: 0.5 | Y5: 1 | Z5: 4.5 | AA5: =W5+X5+Y5+Z5 -> 13 | AB5: =AA5/4 -> 3.25 | AD5: abs | AE5: abs | AF5: abs | AG5: abs | AH5: abs | AJ5: 10 | AK5: 6 | AL5: abs | AM5: 10 | AN5: abs | AQ5: 41 | AR5: 3 | AS5: =AQ5+AR5 -> 44 | AT5: =AS5/107*20 -> 8.2242991 | AV5: abs | AW5: abs | AX5: 4.6153846 | AY5: 6.5625 | AZ5: 12.391304 | BA5: 8 | BB5: abs | BD5: =(H5-11.37)-(D5-10.38) -> 0.74567023 | BF5: D | BG5: R | BH5: X | BI5: X | BJ5: abs | BK5: NNC
A6: eleve 5 | C6: 1 | D6: =2/3*E6+1/3*F6 -> 10.302093 | E6: =AVERAGE(AB6,U6,P6) -> 8.5531401 | F6: =AVERAGE(AJ6:AN6) -> 13.8 | G6: 24 | H6: =AVERAGE(AT6,AV6:BB6) -> 11.343922 | J6: 1369148 | K6: 7 | L6: 17 | M6: 10.5 | N6: 1.5 | O6: =K6+L6+M6+N6 -> 36 | P6: =O6*20/92 -> 7.826087 | R6: 9.5 | S6: 10 | T6: 7 | U6: =(R6+S6+T6)/3 -> 8.8333333 | W6: 14.5 | X6: 10 | Y6: 1 | Z6: 10.5 | AA6: =W6+X6+Y6+Z6 -> 36 | AB6: =AA6/4 -> 9 | AD6: 8.5 | AE6: 6 | AF6: 7 | AG6: =AD6+AE6+AF6 -> 21.5 | AH6: =AG6/4 -> 5.375 | AJ6: 15 | AK6: 12 | AL6: 15 | AM6: 13 | AN6: 14 | AQ6: 77 | AR6: 7 | AS6: =AQ6+AR6 -> 84 | AT6: =AS6/107*20 -> 15.700935 | AV6: 3.25 | AW6: 11 | AX6: abs | AY6: 11.25 | AZ6: 11.956522 | BA6: 11.25 | BB6: 15 | BD6: =(H6-11.37)-(D6-10.38) -> 0.051828933 | BF6: C- | BG6: OK | BH6: mauvais | BJ6: mauvais | BK6: C
A7: eleve 6 | C7: 2 | D7: =2/3*E7+1/3*F7 -> 6.6528986 | E7: =AVERAGE(AB7,U7,P7) -> 4.1793478 | F7: =AVERAGE(AJ7:AN7) -> 11.6 | G7: 44 | H7: =AVERAGE(AT7,AV7:BB7) -> 7.3664506 | J7: 1369112 | K7: 2.5 | L7: 13 | M7: 1 | N7: 1.5 | O7: =K7+L7+M7+N7 -> 18 | P7: =O7*20/92 -> 3.9130435 | R7: 5.5 | S7: 8 | T7: 4.5 | U7: =(R7+S7+T7)/3 -> 6 | W7: 6 | X7: 2 | Y7: 0 | Z7: 2.5 | AA7: =W7+X7+Y7+Z7 -> 10.5 | AB7: =AA7/4 -> 2.625 | AD7: 6 | AE7: 4 | AF7: 3 | AG7: =AD7+AE7+AF7 -> 13 | AH7: =AG7/4 -> 3.25 | AJ7: 12 | AK7: 11 | AL7: 15 | AM7: 8 | AN7: 12 | AQ7: 47 | AR7: 12 | AS7: =AQ7+AR7 -> 59 | AT7: =AS7/107*20 -> 11.028037 | AV7: 1 | AW7: 7.3333333 | AX7: 3.4615385 | AY7: 7.5 | AZ7: 7.6086957 | BA7: 9.5 | BB7: 11.5 | BD7: =(H7-11.37)-(D7-10.38) -> -0.27644795 | BF7: B+ | BH7: X | BK7: C-
A8: eleve 7 | C8: 1 | D8: =2/3*E8+1/3*F8 -> 9.4539452 | E8: =AVERAGE(AB8,U8,P8) -> 8.5809179 | F8: =AVERAGE(AJ8:AN8) -> 11.2 | G8: 29 | H8: =AVERAGE(AT8,AV8:BB8) -> 9.9665929 | J8: 1369143 | K8: 11 | L8: 14 | M8: 8 | N8: 3 | O8: =K8+L8+M8+N8 -> 36 | P8: =O8*20/92 -> 7.826087 | R8: 9 | S8: 14.5 | T8: 7 | U8: =(R8+S8+T8)/3 -> 10.166667 | W8: 8.5 | X8: 14 | Y8: 0 | Z8: 8.5 | AA8: =W8+X8+Y8+Z8 -> 31 | AB8: =AA8/4 -> 7.75 | AD8: 7.5 | AE8: 6.5 | AF8: 11 | AG8: =AD8+AE8+AF8 -> 25 | AH8: =AG8/4 -> 6.25 | AJ8: 9 | AK8: 10 | AL8: 10 | AM8: 15 | AN8: 12 | AQ8: 53 | AR8: 14 | AS8: =AQ8+AR8 -> 67 | AT8: =AS8/107*20 -> 12.523364 | AV8: 5 | AW8: 12.333333 | AX8: 8.8461538 | AY8: 10.9375 | AZ8: 10.217391 | BA8: 8.375 | BB8: 11.5 | BD8: =(H8-11.37)-(D8-10.38) -> -0.47735238 | BF8: B- | BK8: B-
A9: eleve 8 | C9: 2 | D9: =2/3*E9+1/3*F9 -> 12.387923 | E9: =AVERAGE(AB9,U9,P9) -> 10.981884 | F9: =AVERAGE(AJ9:AN9) -> 15.2 | G9: 10 | H9: =AVERAGE(AT9,AV9:BB9) -> 12.731109 | J9: 1369081 | K9: 12.5 | L9: 15.5 | M9: 14.5 | N9: 9 | O9: =K9+L9+M9+N9 -> 51.5 | P9: =O9*20/92 -> 11.195652 | R9: 12.5 | S9: 11.5 | T9: 6 | U9: =(R9+S9+T9)/3 -> 10 | W9: 17.5 | X9: 14.5 | Y9: 1.5 | Z9: 13.5 | AA9: =W9+X9+Y9+Z9 -> 47 | AB9: =AA9/4 -> 11.75 | AD9: 12.5 | AE9: 7.5 | AF9: 7 | AG9: =AD9+AE9+AF9 -> 27 | AH9: =AG9/4 -> 6.75 | AJ9: 15 | AK9: 13 | AL9: 17 | AM9: 17 | AN9: 14 | AQ9: 63 | AR9: 10 | AS9: =AQ9+AR9 -> 73 | AT9: =AS9/107*20 -> 13.64486 | AV9: 7.5 | AW9: 11 | AX9: 10.769231 | AY9: 12.5 | AZ9: 15.434783 | BA9: 15.5 | BB9: 15.5 | BD9: =(H9-11.37)-(D9-10.38) -> -0.64681356 | BF9: B- | BK9: B+
A10: eleve 9 | C10: 2 | D10: =2/3*E10+1/3*F10 -> 12.77182 | E10: =AVERAGE(AB10,U10,P10) -> 11.957729 | F10: =AVERAGE(AJ10:AN10) -> 14.4 | G10: 8 | H10: =AVERAGE(AT10,AV10:BB10) -> 12.985022 | J10: 1369103 | K10: 14.5 | L10: 18 | M10: 15.5 | N10: 7 | O10: =K10+L10+M10+N10 -> 55 | P10: =O10*20/92 -> 11.956522 | R10: 7.5 | S10: 18 | T10: 8 | U10: =(R10+S10+T10)/3 -> 11.166667 | W10: 16 | X10: 17 | Y10: 0.5 | Z10: 17.5 | AA10: =W10+X10+Y10+Z10 -> 51 | AB10: =AA10/4 -> 12.75 | AD10: 12 | AE10: 11 | AF10: 9 | AG10: =AD10+AE10+AF10 -> 32 | AH10: =AG10/4 -> 8 | AJ10: 16 | AK10: 13 | AL10: 16 | AM10: 13 | AN10: 14 | AQ10: 69 | AR10: 6 | AS10: =AQ10+AR10 -> 75 | AT10: =AS10/107*20 -> 14.018692 | AV10: 6.5 | AW10: 13.666667 | AX10: 11.923077 | AY10: 16.25 | AZ10: 11.521739 | BA10: 15 | BB10: 15 | BD10: =(H10-11.37)-(D10-10.38) -> -0.77679786 | BF10: A | BK10: A
A11: eleve 10 | C11: 1 | D11: =2/3*E11+1/3*F11 -> 13.206844 | E11: =AVERAGE(AB11,U11,P11) -> 11.885266 | F11: =AVERAGE(AJ11:AN11) -> 15.85 | G11: 7 | H11: =AVERAGE(AT11,AV11:BB11) -> 14.704433 | J11: 1369159 | K11: 16 | L11: 19.5 | M11: 13.5 | N11: 5 | O11: =K11+L11+M11+N11 -> 54 | P11: =O11*20/92 -> 11.73913 | R11: 12.5 | S11: 8.5 | T11: 6.5 | U11: =(R11+S11+T11)/3 -> 9.1666667 | W11: 16 | X11: 19 | Y11: 9 | Z11: 15 | AA11: =W11+X11+Y11+Z11 -> 59 | AB11: =AA11/4 -> 14.75 | AD11: 14.5 | AE11: 17 | AF11: 17 | AG11: =AD11+AE11+AF11 -> 48.5 | AH11: =AG11/4 -> 12.125 | AJ11: 17 | AK11: 14 | AL11: 14.4 | AM11: abs | AN11: 18 | AQ11: 75 | AR11: 16 | AS11: =AQ11+AR11 -> 91 | AT11: =AS11/107*20 -> 17.009346 | AV11: 7.25 | AW11: 17.666667 | AX11: 13.461538 | AY11: 12.5 | AZ11: 18.043478 | BA11: 17 | BB11: abs | BD11: =(H11-11.37)-(D11-10.38) -> 0.50758894 | BF11: B+ | BJ11: mauvais | BK11: B-
A12: eleve 11 | C12: 1 | D12: =2/3*E12+1/3*F12 -> 9.2516103 | E12: =AVERAGE(AB12,U12,P12) -> 7.3774155 | F12: =AVERAGE(AJ12:AN12) -> 13 | G12: 35 | H12: =AVERAGE(AT12,AV12:BB12) -> 10.143185 | J12: 1369226 | K12: 11.5 | L12: 14.5 | M12: 7 | N12: 0 | O12: =K12+L12+M12+N12 -> 33 | P12: =O12*20/92 -> 7.173913 | R12: 7 | S12: 11 | T12: 5.5 | U12: =(R12+S12+T12)/3 -> 7.8333333 | W12: 14 | X12: 4.5 | Y12: 1 | Z12: 9 | AA12: =W12+X12+Y12+Z12 -> 28.5 | AB12: =AA12/4 -> 7.125 | AD12: 10 | AE12: 4.5 | AF12: 6 | AG12: =AD12+AE12+AF12 -> 20.5 | AH12: =AG12/4 -> 5.125 | AJ12: 12 | AK12: 14 | AL12: 10 | AM12: 12 | AN12: 17 | AQ12: 69 | AR12: 20 | AS12: =AQ12+AR12 -> 89 | AT12: =AS12/107*20 -> 16.635514 | AV12: 1 | AW12: 7.3333333 | AX12: 10 | AY12: 9.6875 | AZ12: 11.73913 | BA12: 11.75 | BB12: 13 | BD12: =(H12-11.37)-(D12-10.38) -> -0.098425583 | BF12: C- | BG12: abs | BJ12: mauvais | BK12: C
A13: eleve 12 | C13: 1 | D13: =2/3*E13+1/3*F13 -> 8.2610306 | E13: =AVERAGE(AB13,U13,P13) -> 6.9915459 | F13: =AVERAGE(AJ13:AN13) -> 10.8 | G13: 39 | H13: =AVERAGE(AT13,AV13:BB13) -> 11.17032 | J13: 1369181 | K13: 6.5 | L13: 16 | M13: 9.5 | N13: 2 | O13: =K13+L13+M13+N13 -> 34 | P13: =O13*20/92 -> 7.3913043 | R13: 4 | S13: 11.5 | T13: 5 | U13: =(R13+S13+T13)/3 -> 6.8333333 | W13: 9 | X13: 9 | Y13: 4 | Z13: 5 | AA13: =W13+X13+Y13+Z13 -> 27 | AB13: =AA13/4 -> 6.75 | AD13: 11.5 | AE13: 8.5 | AF13: 3 | AG13: =AD13+AE13+AF13 -> 23 | AH13: =AG13/4 -> 5.75 | AJ13: 9 | AK13: 14 | AL13: 7 | AM13: 10 | AN13: 14 | AQ13: 58 | AR13: 14 | AS13: =AQ13+AR13 -> 72 | AT13: =AS13/107*20 -> 13.457944 | AV13: 10.75 | AW13: 10.333333 | AX13: 7.3076923 | AY13: 12.1875 | AZ13: 12.826087 | BA13: 9.5 | BB13: 13 | BD13: =(H13-11.37)-(D13-10.38) -> 1.919289 | BF13: B+ | BH13: mauvais | BK13: C
A14: eleve 13 | C14: 2 | D14: =2/3*E14+1/3*F14 -> 10.444686 | E14: =AVERAGE(AB14,U14,P14) -> 9.067029 | F14: =AVERAGE(AJ14:AN14) -> 13.2 | G14: 21 | H14: =AVERAGE(AT14,AV14:BB14) -> 11.775648 | J14: 1369096 | K14: 10.5 | L14: 17.5 | M14: 8 | N14: 0 | O14: =K14+L14+M14+N14 -> 36 | P14: =O14*20/92 -> 7.826087 | R14: 13 | S14: 13.5 | T14: 8 | U14: =(R14+S14+T14)/3 -> 11.5 | W14: 14.5 | X14: 11 | Y14: 0 | Z14: 6 | AA14: =W14+X14+Y14+Z14 -> 31.5 | AB14: =AA14/4 -> 7.875 | AD14: 14 | AE14: 8.5 | AF14: 6 | AG14: =AD14+AE14+AF14 -> 28.5 | AH14: =AG14/4 -> 7.125 | AJ14: 13 | AK14: 13 | AL14: 13 | AM14: 13 | AN14: 14 | AQ14: 59 | AR14: 12 | AS14: =AQ14+AR14 -> 71 | AT14: =AS14/107*20 -> 13.271028 | AV14: 5.5 | AW14: 11 | AX14: 12.692308 | AY14: 9.6875 | AZ14: 11.304348 | BA14: 11.75 | BB14: 19 | BD14: =(H14-11.37)-(D14-10.38) -> 0.34096195 | BF14: D | BG14: OK | BK14: B-
A15: eleve 14 | C15: 1 | D15: =2/3*E15+1/3*F15 -> 9.0727858 | E15: =AVERAGE(AB15,U15,P15) -> 8.8091787 | F15: =AVERAGE(AJ15:AN15) -> 9.6 | G15: 36 | H15: =AVERAGE(AT15,AV15:BB15) -> 9.9065851 | J15: 1369160 | K15: 6.5 | L15: 12 | M15: 7 | N15: 1 | O15: =K15+L15+M15+N15 -> 26.5 | P15: =O15*20/92 -> 5.7608696 | R15: 11.5 | S15: 11.5 | T15: 7.5 | U15: =(R15+S15+T15)/3 -> 10.166667 | W15: 12.5 | X15: 11.5 | Y15: 5 | Z15: 13 | AA15: =W15+X15+Y15+Z15 -> 42 | AB15: =AA15/4 -> 10.5 | AD15: 9.5 | AE15: 4 | AF15: 6.5 | AG15: =AD15+AE15+AF15 -> 20 | AH15: =AG15/4 -> 5 | AJ15: 7 | AK15: 10 | AL15: 11 | AM15: 9 | AN15: 11 | AQ15: 57 | AR15: 7 | AS15: =AQ15+AR15 -> 64 | AT15: =AS15/107*20 -> 11.962617 | AV15: 6 | AW15: 9.3333333 | AX15: 5.7692308 | AY15: 13.4375 | AZ15: 10 | BA15: 11.75 | BB15: 11 | BD15: =(H15-11.37)-(D15-10.38) -> -0.15620071 | BF15: A- | BK15: B
A16: eleve 15 | C16: 2 | D16: =2/3*E16+1/3*F16 -> 12.683092 | E16: =AVERAGE(AB16,U16,P16) -> 11.224638 | F16: =AVERAGE(AJ16:AN16) -> 15.6 | G16: 9 | H16: =AVERAGE(AT16,AV16:BB16) -> 13.387708 | J16: 1369010 | K16: 13 | L16: 20.5 | M16: 9 | N16: 2 | O16: =K16+L16+M16+N16 -> 44.5 | P16: =O16*20/92 -> 9.673913 | R16: 12.5 | S16: 17.5 | T16: 7.5 | U16: =(R16+S16+T16)/3 -> 12.5 | W16: 16.5 | X16: 9 | Y16: 3.5 | Z16: 17 | AA16: =W16+X16+Y16+Z16 -> 46 | AB16: =AA16/4 -> 11.5 | AD16: 12.5 | AE16: 14 | AF16: 15 | AG16: =AD16+AE16+AF16 -> 41.5 | AH16: =AG16/4 -> 10.375 | AJ16: 18 | AK16: 12 | AL16: 14 | AM16: 18 | AN16: 16 | AQ16: 66 | AR16: 12 | AS16: =AQ16+AR16 -> 78 | AT16: =AS16/107*20 -> 14.579439 | AV16: 8.75 | AW16: 12.666667 | AX16: 13.461538 | AY16: 13.4375 | AZ16: 16.956522 | BA16: 15.75 | BB16: 11.5 | BD16: =(H16-11.37)-(D16-10.38) -> -0.28538352 | BF16: B- | BK16: C+
A17: eleve 16 | C17: 2 | D17: =2/3*E17+1/3*F17 -> 10.894122 | E17: =AVERAGE(AB17,U17,P17) -> 9.3411836 | F17: =AVERAGE(AJ17:AN17) -> 14 | G17: 17 | H17: =AVERAGE(AT17,AV17:BB17) -> 10.752504 | J17: 1369099 | K17: 9.5 | L17: 16.5 | M17: 18 | N17: 0 | O17: =K17+L17+M17+N17 -> 44 | P17: =O17*20/92 -> 9.5652174 | R17: 10 | S17: 13 | T17: 6.5 | U17: =(R17+S17+T17)/3 -> 9.8333333 | W17: 12 | X17: 10.5 | Y17: 7.5 | Z17: 4.5 | AA17: =W17+X17+Y17+Z17 -> 34.5 | AB17: =AA17/4 -> 8.625 | AD17: 8 | AE17: 6 | AF17: 5 | AG17: =AD17+AE17+AF17 -> 19 | AH17: =AG17/4 -> 4.75 | AJ17: 15 | AK17: 12 | AL17: 12 | AM17: 16 | AN17: 15 | AQ17: 62 | AR17: 2 | AS17: =AQ17+AR17 -> 64 | AT17: =AS17/107*20 -> 11.962617 | AV17: 2.75 | AW17: 13.333333 | AX17: 9.6153846 | AY17: 10 | AZ17: 12.608696 | BA17: 12.75 | BB17: 13 | BD17: =(H17-11.37)-(D17-10.38) -> -1.1316186 | BF17: C- | BG17: OK | BJ17: mauvais | BK17: C+
A18: eleve 17 | C18: 1 | D18: =2/3*E18+1/3*F18 -> 11.613446 | E18: =AVERAGE(AB18,U18,P18) -> 9.6201691 | F18: =AVERAGE(AJ18:AN18) -> 15.6 | G18: 12 | H18: =AVERAGE(AT18,AV18:BB18) -> 12.00096 | J18: 1369171 | K18: 10.5 | L18: 14.5 | M18: 8.5 | N18: 4 | O18: =K18+L18+M18+N18 -> 37.5 | P18: =O18*20/92 -> 8.1521739 | R18: 9 | S18: 16 | T18: 7.5 | U18: =(R18+S18+T18)/3 -> 10.833333 | W18: 20 | X18: 8.5 | Y18: 0 | Z18: 11 | AA18: =W18+X18+Y18+Z18 -> 39.5 | AB18: =AA18/4 -> 9.875 | AD18: 7.5 | AE18: 9.5 | AF18: 6.5 | AG18: =AD18+AE18+AF18 -> 23.5 | AH18: =AG18/4 -> 5.875 | AJ18: 18 | AK18: 13 | AL18: 16 | AM18: 13 | AN18: 18 | AQ18: 60 | AR18: 15 | AS18: =AQ18+AR18 -> 75 | AT18: =AS18/107*20 -> 14.018692 | AV18: 5.5 | AW18: 11.666667 | AX18: 11.153846 | AY18: 8.125 | AZ18: 13.043478 | BA18: 15 | BB18: 17.5 | BD18: =(H18-11.37)-(D18-10.38) -> -0.60248572 | BF18: C+ | BG18: R | BJ18: mauvais | BK18: C+
A19: eleve 18 | C19: 2 | D19: =2/3*E19+1/3*F19 -> 13.226087 | E19: =AVERAGE(AB19,U19,P19) -> 12.23913 | F19: =AVERAGE(AJ19:AN19) -> 15.2 | G19: 5 | H19: =AVERAGE(AT19,AV19:BB19) -> 13.967144 | J19: 1369021 | K19: 14 | L19: 14.5 | M19: 11.5 | N19: 7 | O19: =K19+L19+M19+N19 -> 47 | P19: =O19*20/92 -> 10.217391 | R19: 9 | S19: 20.5 | T19: 11 | U19: =(R19+S19+T19)/3 -> 13.5 | W19: 12.5 | X19: 13.5 | Y19: 6 | Z19: 20 | AA19: =W19+X19+Y19+Z19 -> 52 | AB19: =AA19/4 -> 13 | AD19: 10.5 | AE19: 21 | AF19: 19 | AG19: =AD19+AE19+AF19 -> 50.5 | AH19: =AG19/4 -> 12.625 | AJ19: 17 | AK19: 15 | AL19: 15 | AM19: 13 | AN19: 16 | AQ19: 80 | AR19: 15 | AS19: =AQ19+AR19 -> 95 | AT19: =AS19/107*20 -> 17.757009 | AV19: 4.5 | AW19: 16 | AX19: 11.923077 | AY19: 17.1875 | AZ19: 15.869565 | BA19: 12 | BB19: 16.5 | BD19: =(H19-11.37)-(D19-10.38) -> -0.24894302 | BF19: A | BK19: A-
A20: eleve 19 | C20: 2 | D20: =2/3*E20+1/3*F20 -> 11.205475 | E20: =AVERAGE(AB20,U20,P20) -> 8.9082126 | F20: =AVERAGE(AJ20:AN20) -> 15.8 | G20: 16 | H20: =AVERAGE(AT20,AV20:BB20) -> 11.37115 | J20: 1369116 | K20: 10.5 | L20: 12 | M20: 11.5 | N20: 0 | O20: =K20+L20+M20+N20 -> 34 | P20: =O20*20/92 -> 7.3913043 | R20: 9.5 | S20: 10.5 | T20: 5 | U20: =(R20+S20+T20)/3 -> 8.3333333 | W20: 17.5 | X20: 13.5 | Y20: 1 | Z20: 12 | AA20: =W20+X20+Y20+Z20 -> 44 | AB20: =AA20/4 -> 11 | AD20: 9.5 | AE20: 15 | AF20: 8 | AG20: =AD20+AE20+AF20 -> 32.5 | AH20: =AG20/4 -> 8.125 | AJ20: 17 | AK20: 14 | AL20: 15 | AM20: 15 | AN20: 18 | AQ20: 69 | AR20: 12 | AS20: =AQ20+AR20 -> 81 | AT20: =AS20/107*20 -> 15.140187 | AV20: 4.5 | AW20: 11 | AX20: 10.769231 | AY20: 11.875 | AZ20: 10.434783 | BA20: 12.25 | BB20: 15 | BD20: =(H20-11.37)-(D20-10.38) -> -0.824325 | BF20: B+ | BK20: B
A21: eleve 20 | C21: 2 | D21: =2/3*E21+1/3*F21 -> 10.306683 | E21: =AVERAGE(AB21,U21,P21) -> 8.1600242 | F21: =AVERAGE(AJ21:AN21) -> 14.6 | G21: 20 | H21: =AVERAGE(AT21,AV21:BB21) -> 9.0071714 | J21: 1369092 | K21: 10 | L21: 9.5 | M21: 6 | N21: 4.5 | O21: =K21+L21+M21+N21 -> 30 | P21: =O21*20/92 -> 6.5217391 | R21: 5.5 | S21: 11 | T21: 5.5 | U21: =(R21+S21+T21)/3 -> 7.3333333 | W21: 11 | X21: 9 | Y21: 15 | Z21: 7.5 | AA21: =W21+X21+Y21+Z21 -> 42.5 | AB21: =AA21/4 -> 10.625 | AD21: 8 | AE21: 5 | AF21: 5 | AG21: =AD21+AE21+AF21 -> 18 | AH21: =AG21/4 -> 4.5 | AJ21: 17 | AK21: 13 | AL21: 16 | AM21: 16 | AN21: 11 | AQ21: 53 | AR21: 6 | AS21: =AQ21+AR21 -> 59 | AT21: =AS21/107*20 -> 11.028037 | AV21: 6.75 | AW21: 8.6666667 | AX21: 9.6153846 | AY21: 10.3125 | AZ21: 10.434783 | BA21: 8.75 | BB21: 6.5 | BD21: =(H21-11.37)-(D21-10.38) -> -2.2895114 | BF21: C | BG21: OK | BJ21: mauvais | BK21: C-
A22: eleve 21 | C22: 2 | D22: =2/3*E22+1/3*F22 -> 10.789452 | E22: =AVERAGE(AB22,U22,P22) -> 10.184179 | F22: =AVERAGE(AJ22:AN22) -> 12 | G22: 22 | H22: =AVERAGE(AT22,AV22:BB22) -> 11.041445 | J22: 1369025 | K22: 5.5 | L22: 17 | M22: 14.5 | N22: 1 | O22: =K22+L22+M22+N22 -> 38 | P22: =O22*20/92 -> 8.2608696 | R22: 14.5 | S22: 15 | T22: 7 | U22: =(R22+S22+T22)/3 -> 12.166667 | W22: 18.5 | X22: 7.5 | Y22: 0 | Z22: 14.5 | AA22: =W22+X22+Y22+Z22 -> 40.5 | AB22: =AA22/4 -> 10.125 | AD22: 8.5 | AE22: 8 | AF22: 14 | AG22: =AD22+AE22+AF22 -> 30.5 | AH22: =AG22/4 -> 7.625 | AJ22: 8 | AK22: 10 | AL22: 12 | AM22: 13 | AN22: 17 | AQ22: 62 | AR22: 7 | AS22: =AQ22+AR22 -> 69 | AT22: =AS22/107*20 -> 12.897196 | AV22: 6.25 | AW22: 14 | AX22: 8.4615385 | AY22: 10.625 | AZ22: 9.3478261 | BA22: 14.25 | BB22: 12.5 | BD22: =(H22-11.37)-(D22-10.38) -> -0.73800739 | BF22: B | BK22: A-
A23: eleve 22 | C23: 1 | D23: =2/3*E23+1/3*F23 -> 10.315217 | E23: =AVERAGE(AB23,U23,P23) -> 8.8478261 | F23: =AVERAGE(AJ23:AN23) -> 13.25 | G23: 18 | H23: =AVERAGE(AT23,AV23:BB23) -> 8.8093119 | J23: 1369133 | K23: 10 | L23: 17.5 | M23: 8 | N23: 4.5 | O23: =K23+L23+M23+N23 -> 40 | P23: =O23*20/92 -> 8.6956522 | R23: 8 | S23: 14 | T23: 5 | U23: =(R23+S23+T23)/3 -> 9 | W23: abs | X23: abs | Y23: abs | Z23: abs | AA23: abs | AB23: abs | AD23: abs | AE23: abs | AF23: abs | AG23: abs | AH23: abs | AJ23: 16 | AK23: 15 | AL23: 11 | AM23: 11 | AN23: abs | AQ23: 50 | AR23: -1 | AS23: =AQ23+AR23 -> 49 | AT23: =AS23/107*20 -> 9.1588785 | AV23: abs | AW23: 5.3333333 | AX23: abs | AY23: abs | AZ23: 6.3043478 | BA23: 11.25 | BB23: 12 | BD23: =(H23-11.37)-(D23-10.38) -> -2.4959055 | BF23: D | BG23: OK | BI23: abs | BJ23: X | BK23: NNC
A24: eleve 23 | C24: 2 | D24: =2/3*E24+1/3*F24 -> 13.655072 | E24: =AVERAGE(AB24,U24,P24) -> 13.282609 | F24: =AVERAGE(AJ24:AN24) -> 14.4 | G24: 2 | H24: =AVERAGE(AT24,AV24:BB24) -> 14.277583 | J24: 1369179 | K24: 12 | L24: 20.5 | M24: 16.5 | N24: 5.5 | O24: =K24+L24+M24+N24 -> 54.5 | P24: =O24*20/92 -> 11.847826 | R24: 10 | S24: 16 | T24: 14.5 | U24: =(R24+S24+T24)/3 -> 13.5 | W24: 16.5 | X24: 14.5 | Y24: 7.5 | Z24: 19.5 | AA24: =W24+X24+Y24+Z24 -> 58 | AB24: =AA24/4 -> 14.5 | AD24: 13.5 | AE24: 13.5 | AF24: 15.5 | AG24: =AD24+AE24+AF24 -> 42.5 | AH24: =AG24/4 -> 10.625 | AJ24: 17 | AK24: 17 | AL24: 11 | AM24: 12 | AN24: 15 | AQ24: 75 | AR24: 6 | AS24: =AQ24+AR24 -> 81 | AT24: =AS24/107*20 -> 15.140187 | AV24: 10 | AW24: 13 | AX24: 16.153846 | AY24: 15.9375 | AZ24: 11.73913 | BA24: 16.75 | BB24: 15.5 | BD24: =(H24-11.37)-(D24-10.38) -> -0.36748953 | BF24: A | BK24: A
A25: eleve 24 | C25: 2 | D25: =2/3*E25+1/3*F25 -> 7.4803543 | E25: =AVERAGE(AB25,U25,P25) -> 5.0205314 | F25: =AVERAGE(AJ25:AN25) -> 12.4 | G25: 41 | H25: =AVERAGE(AT25,AV25:BB25) -> 9.5072018 | J25: 1369051 | K25: 6 | L25: 12 | M25: 6.5 | N25: 3 | O25: =K25+L25+M25+N25 -> 27.5 | P25: =O25*20/92 -> 5.9782609 | R25: 6.5 | S25: 4 | T25: 7 | U25: =(R25+S25+T25)/3 -> 5.8333333 | W25: 7 | X25: 3 | Y25: 0 | Z25: 3 | AA25: =W25+X25+Y25+Z25 -> 13 | AB25: =AA25/4 -> 3.25 | AD25: 7 | AE25: 1 | AF25: 3.5 | AG25: =AD25+AE25+AF25 -> 11.5 | AH25: =AG25/4 -> 2.875 | AJ25: 14 | AK25: 14 | AL25: 11 | AM25: 9 | AN25: 14 | AQ25: 65 | AR25: 11 | AS25: =AQ25+AR25 -> 76 | AT25: =AS25/107*20 -> 14.205607 | AV25: 1.5 | AW25: 12 | AX25: 5.3846154 | AY25: 10 | AZ25: 10.217391 | BA25: 12.75 | BB25: 10 | BD25: =(H25-11.37)-(D25-10.38) -> 1.0368475 | BF25: C | BG25: R | BJ25: X | BK25: B-
A26: eleve 25 | C26: 2 | D26: =2/3*E26+1/3*F26 -> 11.77029 | E26: =AVERAGE(AB26,U26,P26) -> 10.255435 | F26: =AVERAGE(AJ26:AN26) -> 14.8 | G26: 11 | H26: =AVERAGE(AT26,AV26:BB26) -> 13.238092 | J26: 1369089 | K26: 12.5 | L26: 19.5 | M26: 12.5 | N26: 1 | O26: =K26+L26+M26+N26 -> 45.5 | P26: =O26*20/92 -> 9.8913043 | R26: 9 | S26: 14 | T26: 11.5 | U26: =(R26+S26+T26)/3 -> 11.5 | W26: 13.5 | X26: 11 | Y26: 4 | Z26: 9 | AA26: =W26+X26+Y26+Z26 -> 37.5 | AB26: =AA26/4 -> 9.375 | AD26: 9.5 | AE26: 17.5 | AF26: 10.5 | AG26: =AD26+AE26+AF26 -> 37.5 | AH26: =AG26/4 -> 9.375 | AJ26: 14 | AK26: 15 | AL26: 18 | AM26: 13 | AN26: 14 | AQ26: 69 | AR26: 15 | AS26: =AQ26+AR26 -> 84 | AT26: =AS26/107*20 -> 15.700935 | AV26: 11.25 | AW26: 10 | AX26: 10 | AY26: 12.8125 | AZ26: 17.391304 | BA26: 15.75 | BB26: 13 | BD26: =(H26-11.37)-(D26-10.38) -> 0.47780251 | BF26: B | BK26: B-
A27: eleve 26 | C27: 1 | D27: =2/3*E27+1/3*F27 -> 9.4066023 | E27: =AVERAGE(AB27,U27,P27) -> 7.6099034 | F27: =AVERAGE(AJ27:AN27) -> 13 | G27: 28 | H27: =AVERAGE(AT27,AV27:BB27) -> 13.306202 | J27: 1369278 | K27: 8 | L27: 16.5 | M27: 3 | N27: 2 | O27: =K27+L27+M27+N27 -> 29.5 | P27: =O27*20/92 -> 6.4130435 | R27: 7.5 | S27: 15 | T27: 9.5 | U27: =(R27+S27+T27)/3 -> 10.666667 | W27: 10 | X27: 8 | Y27: 1 | Z27: 4 | AA27: =W27+X27+Y27+Z27 -> 23 | AB27: =AA27/4 -> 5.75 | AD27: 7.5 | AE27: 5.5 | AF27: 6 | AG27: =AD27+AE27+AF27 -> 19 | AH27: =AG27/4 -> 4.75 | AJ27: 15 | AK27: 14 | AL27: 9 | AM27: 13 | AN27: 14 | AQ27: 69 | AR27: 7 | AS27: =AQ27+AR27 -> 76 | AT27: =AS27/107*20 -> 14.205607 | AV27: 5.25 | AW27: 14.666667 | AX27: 14.615385 | AY27: 13.125 | AZ27: 16.086957 | BA27: 14 | BB27: 14.5 | BD27: =(H27-11.37)-(D27-10.38) -> 2.9095997 | BF27: D | BG27: R | BH27: mauvais | BJ27: mauvais | BK27: B-
A28: eleve 27 | C28: 2 | D28: =2/3*E28+1/3*F28 -> 10.87971 | E28: =AVERAGE(AB28,U28,P28) -> 9.6195652 | F28: =AVERAGE(AJ28:AN28) -> 13.4 | G28: 19 | H28: =AVERAGE(AT28,AV28:BB28) -> 10.656594 | J28: 1369097 | K28: 8.5 | L28: 17.5 | M28: 9 | N28: 0 | O28: =K28+L28+M28+N28 -> 35 | P28: =O28*20/92 -> 7.6086957 | R28: 11.5 | S28: 10 | T28: 5.5 | U28: =(R28+S28+T28)/3 -> 9 | W28: 20.5 | X28: 8 | Y28: 2 | Z28: 18.5 | AA28: =W28+X28+Y28+Z28 -> 49 | AB28: =AA28/4 -> 12.25 | AD28: 7.5 | AE28: 8.5 | AF28: 4 | AG28: =AD28+AE28+AF28 -> 20 | AH28: =AG28/4 -> 5 | AJ28: 15 | AK28: 15 | AL28: 7 | AM28: 15 | AN28: 15 | AQ28: 71 | AR28: 6 | AS28: =AQ28+AR28 -> 77 | AT28: =AS28/107*20 -> 14.392523 | AV28: 4 | AW28: 8.6666667 | AX28: 7.3076923 | AY28: 9.375 | AZ28: 8.2608696 | BA28: 16.75 | BB28: 16.5 | BD28: =(H28-11.37)-(D28-10.38) -> -1.2131162 | BF28: B+ | BJ28: mauvais | BK28: C+
A29: eleve 28 | C29: 1 | D29: =2/3*E29+1/3*F29 -> 7.5319646 | E29: =AVERAGE(AB29,U29,P29) -> 5.8979469 | F29: =AVERAGE(AJ29:AN29) -> 10.8 | G29: 42 | H29: =AVERAGE(AT29,AV29:BB29) -> 8.4694052 | J29: 1369211 | K29: 5.5 | L29: 12.5 | M29: 5 | N29: 3 | O29: =K29+L29+M29+N29 -> 26 | P29: =O29*20/92 -> 5.6521739 | R29: 4 | S29: 7 | T29: 0 | U29: =(R29+S29+T29)/3 -> 3.6666667 | W29: 11 | X29: 8.5 | Y29: 0 | Z29: 14 | AA29: =W29+X29+Y29+Z29 -> 33.5 | AB29: =AA29/4 -> 8.375 | AD29: 4 | AE29: 2.5 | AF29: 2.5 | AG29: =AD29+AE29+AF29 -> 9 | AH29: =AG29/4 -> 2.25 | AJ29: 10 | AK29: 13 | AL29: 8 | AM29: 12 | AN29: 11 | AQ29: 46 | AR29: 3 | AS29: =AQ29+AR29 -> 49 | AT29: =AS29/107*20 -> 9.1588785 | AV29: 3.25 | AW29: 10 | AX29: 9.6153846 | AY29: 7.1875 | AZ29: 8.0434783 | BA29: 10.5 | BB29: 10 | BD29: =(H29-11.37)-(D29-10.38) -> -0.052559401 | BF29: B+ | BJ29: X | BK29: B-
A30: eleve 29 | C30: 2 | D30: =2/3*E30+1/3*F30 -> 9.760306 | E30: =AVERAGE(AB30,U30,P30) -> 8.0404589 | F30: =AVERAGE(AJ30:AN30) -> 13.2 | G30: 27 | H30: =AVERAGE(AT30,AV30:BB30) -> 13.491714 | J30: 1369048 | K30: 8.5 | L30: 11 | M30: 8 | N30: 2 | O30: =K30+L30+M30+N30 -> 29.5 | P30: =O30*20/92 -> 6.4130435 | R30: 9.5 | S30: 8 | T30: 7.5 | U30: =(R30+S30+T30)/3 -> 8.3333333 | W30: 16.5 | X30: 7 | Y30: 3.5 | Z30: 10.5 | AA30: =W30+X30+Y30+Z30 -> 37.5 | AB30: =AA30/4 -> 9.375 | AD30: 13.5 | AE30: 15 | AF30: 9.5 | AG30: =AD30+AE30+AF30 -> 38 | AH30: =AG30/4 -> 9.5 | AJ30: 15 | AK30: 13 | AL30: 15 | AM30: 10 | AN30: 13 | AQ30: 72 | AR30: 2 | AS30: =AQ30+AR30 -> 74 | AT30: =AS30/107*20 -> 13.831776 | AV30: 9 | AW30: 11.333333 | AX30: 13.461538 | AY30: 14.6875 | AZ30: 15.869565 | BA30: 14.75 | BB30: 15 | BD30: =(H30-11.37)-(D30-10.38) -> 2.7414081 | BF30: C | BG30: OK | BK30: B-
A31: eleve 30 | C31: 1 | D31: =2/3*E31+1/3*F31 -> 9.118438 | E31: =AVERAGE(AB31,U31,P31) -> 7.477657 | F31: =AVERAGE(AJ31:AN31) -> 12.4 | G31: 34 | H31: =AVERAGE(AT31,AV31:BB31) -> 11.367353 | J31: 1369172 | K31: 11.5 | L31: 14.5 | M31: 8 | N31: 0 | O31: =K31+L31+M31+N31 -> 34 | P31: =O31*20/92 -> 7.3913043 | R31: 12.5 | S31: 8.5 | T31: 9.5 | U31: =(R31+S31+T31)/3 -> 10.166667 | W31: 11 | X31: 0.5 | Y31: 0.5 | Z31: 7.5 | AA31: =W31+X31+Y31+Z31 -> 19.5 | AB31: =AA31/4 -> 4.875 | AD31: 14.5 | AE31: 9 | AF31: 6.5 | AG31: =AD31+AE31+AF31 -> 30 | AH31: =AG31/4 -> 7.5 | AJ31: 10 | AK31: 14 | AL31: 11 | AM31: 13 | AN31: 14 | AQ31: 53 | AR31: 7 | AS31: =AQ31+AR31 -> 60 | AT31: =AS31/107*20 -> 11.214953 | AV31: 6.25 | AW31: 17 | AX31: 8.8461538 | AY31: 11.5625 | AZ31: 14.565217 | BA31: 13 | BB31: 8.5 | BD31: =(H31-11.37)-(D31-10.38) -> 1.2589151 | BF31: B- | BK31: B+
A32: eleve 31 | C32: 2 | D32: =2/3*E32+1/3*F32 -> 14.099839 | E32: =AVERAGE(AB32,U32,P32) -> 13.149758 | F32: =AVERAGE(AJ32:AN32) -> 16 | G32: 1 | H32: =AVERAGE(AT32,AV32:BB32) -> 15.617987 | J32: 1369106 | K32: 15 | L32: 19.5 | M32: 15 | N32: 7 | O32: =K32+L32+M32+N32 -> 56.5 | P32: =O32*20/92 -> 12.282609 | R32: 14 | S32: 18 | T32: 9 | U32: =(R32+S32+T32)/3 -> 13.666667 | W32: 20 | X32: 13 | Y32: 3.5 | Z32: 17.5 | AA32: =W32+X32+Y32+Z32 -> 54 | AB32: =AA32/4 -> 13.5 | AD32: 14 | AE32: 21.5 | AF32: 16 | AG32: =AD32+AE32+AF32 -> 51.5 | AH32: =AG32/4 -> 12.875 | AJ32: 16 | AK32: 13 | AL32: 17 | AM32: 16 | AN32: 18 | AQ32: 81 | AR32: 11 | AS32: =AQ32+AR32 -> 92 | AT32: =AS32/107*20 -> 17.196262 | AV32: 11.5 | AW32: 15.333333 | AX32: 14.615385 | AY32: 14.375 | AZ32: 17.173913 | BA32: 16.25 | BB32: 18.5 | BD32: =(H32-11.37)-(D32-10.38) -> 0.52814761 | BF32: B+ | BK32: A
A33: eleve 32 | C33: 2 | D33: =2/3*E33+1/3*F33 -> 11.352979 | E33: =AVERAGE(AB33,U33,P33) -> 9.7294686 | F33: =AVERAGE(AJ33:AN33) -> 14.6 | G33: 14 | H33: =AVERAGE(AT33,AV33:BB33) -> 10.777385 | J33: 1369042 | K33: 9.5 | L33: 17.5 | M33: 13.5 | N33: 1 | O33: =K33+L33+M33+N33 -> 41.5 | P33: =O33*20/92 -> 9.0217391 | R33: 8 | S33: 14 | T33: 7 | U33: =(R33+S33+T33)/3 -> 9.6666667 | W33: 14 | X33: 8 | Y33: 1 | Z33: 19 | AA33: =W33+X33+Y33+Z33 -> 42 | AB33: =AA33/4 -> 10.5 | AD33: 9.5 | AE33: 6.5 | AF33: 13.5 | AG33: =AD33+AE33+AF33 -> 29.5 | AH33: =AG33/4 -> 7.375 | AJ33: 12 | AK33: 14 | AL33: 16 | AM33: 16 | AN33: 15 | AQ33: 73 | AR33: 10 | AS33: =AQ33+AR33 -> 83 | AT33: =AS33/107*20 -> 15.514019 | AV33: 8.25 | AW33: 3 | AX33: 14.615385 | AY33: 12.1875 | AZ33: 10.652174 | BA33: 11.5 | BB33: 10.5 | BD33: =(H33-11.37)-(D33-10.38) -> -1.5655944 | BF33: C- | BG33: OK | BK33: B-
A34: eleve 33 | C34: 1 | D34: =2/3*E34+1/3*F34 -> 9.7113527 | E34: =AVERAGE(AB34,U34,P34) -> 8.567029 | F34: =AVERAGE(AJ34:AN34) -> 12 | G34: 26 | H34: =AVERAGE(AT34,AV34:BB34) -> 12.920958 | J34: 1369161 | K34: 12 | L34: 17 | M34: 6 | N34: 1 | O34: =K34+L34+M34+N34 -> 36 | P34: =O34*20/92 -> 7.826087 | R34: 10.5 | S34: 15 | T34: 3 | U34: =(R34+S34+T34)/3 -> 9.5 | W34: 12.5 | X34: 7.5 | Y34: 0 | Z34: 13.5 | AA34: =W34+X34+Y34+Z34 -> 33.5 | AB34: =AA34/4 -> 8.375 | AD34: 7.5 | AE34: 13 | AF34: 3.5 | AG34: =AD34+AE34+AF34 -> 24 | AH34: =AG34/4 -> 6 | AJ34: 13 | AK34: 13 | AL34: 14 | AM34: 9 | AN34: 11 | AQ34: 59 | AR34: 7 | AS34: =AQ34+AR34 -> 66 | AT34: =AS34/107*20 -> 12.336449 | AV34: 11.75 | AW34: 13.666667 | AX34: 11.538462 | AY34: 10 | AZ34: 12.826087 | BA34: 13.25 | BB34: 18 | BD34: =(H34-11.37)-(D34-10.38) -> 2.2196053 | BF34: C+ | BG34: OK | BK34: C-
A35: eleve 34 | C35: 1 | D35: =2/3*E35+1/3*F35 -> 10.189694 | E35: =AVERAGE(AB35,U35,P35) -> 9.0845411 | F35: =AVERAGE(AJ35:AN35) -> 12.4 | G35: 23 | H35: =AVERAGE(AT35,AV35:BB35) -> 11.496429 | J35: 1369167 | K35: 10.5 | L35: 18.5 | M35: 9 | N35: 1.5 | O35: =K35+L35+M35+N35 -> 39.5 | P35: =O35*20/92 -> 8.5869565 | R35: 8 | S35: 12 | T35: 7.5 | U35: =(R35+S35+T35)/3 -> 9.1666667 | W35: 16 | X35: 8.5 | Y35: 4 | Z35: 9.5 | AA35: =W35+X35+Y35+Z35 -> 38 | AB35: =AA35/4 -> 9.5 | AD35: 10.5 | AE35: 9.5 | AF35: 10.5 | AG35: =AD35+AE35+AF35 -> 30.5 | AH35: =AG35/4 -> 7.625 | AJ35: 13 | AK35: 13 | AL35: 9 | AM35: 16 | AN35: 11 | AQ35: 80 | AR35: 1 | AS35: =AQ35+AR35 -> 81 | AT35: =AS35/107*20 -> 15.140187 | AV35: 4 | AW35: 9.3333333 | AX35: 12.307692 | AY35: 10.625 | AZ35: 14.565217 | BA35: 15.5 | BB35: 10.5 | BD35: =(H35-11.37)-(D35-10.38) -> 0.3167347 | BF35: A- | BJ35: mauvais | BK35: C+
A36: eleve 35 | C36: 1 | D36: =2/3*E36+1/3*F36 -> 11.190097 | E36: =AVERAGE(AB36,U36,P36) -> 10.085145 | F36: =AVERAGE(AJ36:AN36) -> 13.4 | G36: 15 | H36: =AVERAGE(AT36,AV36:BB36) -> 11.347286 | J36: 1369121 | K36: 14 | L36: 5 | M36: 7.5 | N36: 4 | O36: =K36+L36+M36+N36 -> 30.5 | P36: =O36*20/92 -> 6.6304348 | R36: 10 | S36: 15.5 | T36: 12 | U36: =(R36+S36+T36)/3 -> 12.5 | W36: 20 | X36: 10 | Y36: 1 | Z36: 13.5 | AA36: =W36+X36+Y36+Z36 -> 44.5 | AB36: =AA36/4 -> 11.125 | AD36: 5.5 | AE36: 15.5 | AF36: 9 | AG36: =AD36+AE36+AF36 -> 30 | AH36: =AG36/4 -> 7.5 | AJ36: 15 | AK36: 13 | AL36: 12 | AM36: 13 | AN36: 14 | AQ36: 59 | AR36: 9 | AS36: =AQ36+AR36 -> 68 | AT36: =AS36/107*20 -> 12.71028 | AV36: 7.75 | AW36: 7.6666667 | AX36: 11.923077 | AY36: 15 | AZ36: 13.478261 | BA36: 6.75 | BB36: 15.5 | BD36: =(H36-11.37)-(D36-10.38) -> -0.83281101 | BF36: A | BH36: mauvais | BK36: A
A37: eleve 36 | C37: 2 | D37: =2/3*E37+1/3*F37 -> 8.7140902 | E37: =AVERAGE(AB37,U37,P37) -> 6.7711353 | F37: =AVERAGE(AJ37:AN37) -> 12.6 | G37: 38 | H37: =AVERAGE(AT37,AV37:BB37) -> 11.186503 | J37: 1369146 | K37: 9 | L37: 11.5 | M37: 9.5 | N37: 0 | O37: =K37+L37+M37+N37 -> 30 | P37: =O37*20/92 -> 6.5217391 | R37: 8 | S37: 6 | T37: 3 | U37: =(R37+S37+T37)/3 -> 5.6666667 | W37: 14.5 | X37: 8 | Y37: 3 | Z37: 7 | AA37: =W37+X37+Y37+Z37 -> 32.5 | AB37: =AA37/4 -> 8.125 | AD37: 10 | AE37: 6.5 | AF37: 7 | AG37: =AD37+AE37+AF37 -> 23.5 | AH37: =AG37/4 -> 5.875 | AJ37: 11 | AK37: 10 | AL37: 14 | AM37: 12 | AN37: 16 | AQ37: 58 | AR37: 6 | AS37: =AQ37+AR37 -> 64 | AT37: =AS37/107*20 -> 11.962617 | AV37: 4.75 | AW37: 12.333333 | AX37: 11.538462 | AY37: 11.875 | AZ37: 9.7826087 | BA37: 13.75 | BB37: 13.5 | BD37: =(H37-11.37)-(D37-10.38) -> 1.4824124 | BF37: B- | BH37: X | BJ37: X | BK37: C-
A38: eleve 37 | C38: 1 | D38: =2/3*E38+1/3*F38 -> 9.4596618 | E38: =AVERAGE(AB38,U38,P38) -> 8.3894928 | F38: =AVERAGE(AJ38:AN38) -> 11.6 | G38: 30 | H38: =AVERAGE(AT38,AV38:BB38) -> 10.664747 | J38: 1369204 | K38: 8 | L38: 9.5 | M38: 6 | N38: 2 | O38: =K38+L38+M38+N38 -> 25.5 | P38: =O38*20/92 -> 5.5434783 | R38: 9.5 | S38: 12.5 | T38: 8 | U38: =(R38+S38+T38)/3 -> 10 | W38: 19 | X38: 9 | Y38: 0 | Z38: 10.5 | AA38: =W38+X38+Y38+Z38 -> 38.5 | AB38: =AA38/4 -> 9.625 | AD38: 8.5 | AE38: 8 | AF38: 10.5 | AG38: =AD38+AE38+AF38 -> 27 | AH38: =AG38/4 -> 6.75 | AJ38: 13 | AK38: 7 | AL38: 11 | AM38: 15 | AN38: 12 | AQ38: 67 | AR38: 15 | AS38: =AQ38+AR38 -> 82 | AT38: =AS38/107*20 -> 15.327103 | AV38: 2.5 | AW38: 10.666667 | AX38: 13.076923 | AY38: 12.8125 | AZ38: 10.434783 | BA38: 10.5 | BB38: 10 | BD38: =(H38-11.37)-(D38-10.38) -> 0.21508506 | BF38: A- | BK38: A
A39: eleve 38 | C39: 2 | D39: =2/3*E39+1/3*F39 -> 8.9080515 | E39: =AVERAGE(AB39,U39,P39) -> 6.2620773 | F39: =AVERAGE(AJ39:AN39) -> 14.2 | G39: 33 | H39: =AVERAGE(AT39,AV39:BB39) -> 9.3760184 | J39: 1369264 | K39: 7 | L39: 8.5 | M39: 5.5 | N39: 6 | O39: =K39+L39+M39+N39 -> 27 | P39: =O39*20/92 -> 5.8695652 | R39: 5.5 | S39: 7 | T39: 6 | U39: =(R39+S39+T39)/3 -> 6.1666667 | W39: 8 | X39: 2.5 | Y39: 8.5 | Z39: 8 | AA39: =W39+X39+Y39+Z39 -> 27 | AB39: =AA39/4 -> 6.75 | AD39: 4.5 | AE39: 1.5 | AF39: 4.5 | AG39: =AD39+AE39+AF39 -> 10.5 | AH39: =AG39/4 -> 2.625 | AJ39: 16 | AK39: 13 | AL39: 15 | AM39: 16 | AN39: 11 | AQ39: 53 | AR39: 2 | AS39: =AQ39+AR39 -> 55 | AT39: =AS39/107*20 -> 10.280374 | AV39: 3 | AW39: 7.3333333 | AX39: 6.5384615 | AY39: 14.0625 | AZ39: 13.043478 | BA39: 9.25 | BB39: 11.5 | BD39: =(H39-11.37)-(D39-10.38) -> -0.52203316 | BF39: C+ | BG39: OK | BK39: B-
A40: eleve 39 | C40: 2 | D40: =2/3*E40+1/3*F40 -> 7.7414654 | E40: =AVERAGE(AB40,U40,P40) -> 6.8121981 | F40: =AVERAGE(AJ40:AN40) -> 9.6 | G40: 40 | H40: =AVERAGE(AT40,AV40:BB40) -> 9.023111 | J40: 1369095 | K40: 9 | L40: 13.5 | M40: 4 | N40: 1 | O40: =K40+L40+M40+N40 -> 27.5 | P40: =O40*20/92 -> 5.9782609 | R40: 6 | S40: 12 | T40: 7 | U40: =(R40+S40+T40)/3 -> 8.3333333 | W40: 10 | X40: 8.5 | Y40: 0 | Z40: 6 | AA40: =W40+X40+Y40+Z40 -> 24.5 | AB40: =AA40/4 -> 6.125 | AD40: 7 | AE40: 4.5 | AF40: 4 | AG40: =AD40+AE40+AF40 -> 15.5 | AH40: =AG40/4 -> 3.875 | AJ40: 9 | AK40: 12 | AL40: 6 | AM40: 12 | AN40: 9 | AQ40: 74 | AR40: 16 | AS40: =AQ40+AR40 -> 90 | AT40: =AS40/107*20 -> 16.82243 | AV40: 3 | AW40: 8 | AX40: 8.8461538 | AY40: 11.875 | AZ40: 7.3913043 | BA40: 12.25 | BB40: 4 | BD40: =(H40-11.37)-(D40-10.38) -> 0.29164563 | BF40: D- | BG40: OK | BJ40: mauvais | BK40: C+
A41: eleve 40 | C41: 2 | D41: =2/3*E41+1/3*F41 -> 8.7333333 | E41: =AVERAGE(AB41,U41,P41) -> 6.5 | F41: =AVERAGE(AJ41:AN41) -> 13.2 | G41: 37 | H41: =AVERAGE(AT41,AV41:BB41) -> 8.285987 | J41: 1369117 | K41: 6.5 | L41: 11.5 | M41: 5 | N41: 0 | O41: =K41+L41+M41+N41 -> 23 | P41: =O41*20/92 -> 5 | R41: 11 | S41: 6.5 | T41: 6.5 | U41: =(R41+S41+T41)/3 -> 8 | W41: 8.5 | X41: 9.5 | Y41: 0 | Z41: 8 | AA41: =W41+X41+Y41+Z41 -> 26 | AB41: =AA41/4 -> 6.5 | AD41: 6 | AE41: 5 | AF41: 4 | AG41: =AD41+AE41+AF41 -> 15 | AH41: =AG41/4 -> 3.75 | AJ41: 12 | AK41: 13 | AL41: 14 | AM41: 13 | AN41: 14 | AQ41: 68 | AR41: 8 | AS41: =AQ41+AR41 -> 76 | AT41: =AS41/107*20 -> 14.205607 | AV41: 2.25 | AW41: 7.3333333 | AX41: 6.1538462 | AY41: 9.0625 | AZ41: 9.7826087 | BA41: 11 | BB41: 6.5 | BD41: =(H41-11.37)-(D41-10.38) -> -1.4373464 | BF41: B- | BH41: mauvais | BJ41: mauvais | BK41: C-
A42: eleve 41 | C42: 1 | D42: =2/3*E42+1/3*F42 -> 9.550161 | E42: =AVERAGE(AB42,U42,P42) -> 8.7252415 | F42: =AVERAGE(AJ42:AN42) -> 11.2 | G42: 31 | H42: =AVERAGE(AT42,AV42:BB42) -> 10.741562 | J42: 1369194 | K42: 11.5 | L42: 11 | M42: 12 | N42: 1 | O42: =K42+L42+M42+N42 -> 35.5 | P42: =O42*20/92 -> 7.7173913 | R42: 8 | S42: 12 | T42: 3.5 | U42: =(R42+S42+T42)/3 -> 7.8333333 | W42: 11.5 | X42: 9 | Y42: 5.5 | Z42: 16.5 | AA42: =W42+X42+Y42+Z42 -> 42.5 | AB42: =AA42/4 -> 10.625 | AD42: 4.5 | AE42: 10 | AF42: 10.5 | AG42: =AD42+AE42+AF42 -> 25 | AH42: =AG42/4 -> 6.25 | AJ42: 12 | AK42: 8 | AL42: 11 | AM42: 12 | AN42: 13 | AQ42: 71 | AR42: 20 | AS42: =AQ42+AR42 -> 91 | AT42: =AS42/107*20 -> 17.009346 | AV42: 0.5 | AW42: 9.6666667 | AX42: 8.8461538 | AY42: 9.0625 | AZ42: 14.347826 | BA42: 14.5 | BB42: 12 | BD42: =(H42-11.37)-(D42-10.38) -> 0.20140052 | BF42: B+ | BH42: X | BJ42: t.mauvais | BK42: B
A43: eleve 42 | C43: 1 | D43: =2/3*E43+1/3*F43 -> 13.483333 | E43: =AVERAGE(AB43,U43,P43) -> 13.125 | F43: =AVERAGE(AJ43:AN43) -> 14.2 | G43: 4 | H43: =AVERAGE(AT43,AV43:BB43) -> 13.877501 | J43: 1369216 | K43: 14 | L43: 20 | M43: 14.5 | N43: 9 | O43: =K43+L43+M43+N43 -> 57.5 | P43: =O43*20/92 -> 12.5 | R43: 10.5 | S43: 22 | T43: 9.5 | U43: =(R43+S43+T43)/3 -> 14 | W43: 18.5 | X43: 17 | Y43: 0 | Z43: 16 | AA43: =W43+X43+Y43+Z43 -> 51.5 | AB43: =AA43/4 -> 12.875 | AD43: 7 | AE43: 17.5 | AF43: 25.5 | AG43: =AD43+AE43+AF43 -> 50 | AH43: =AG43/4 -> 12.5 | AJ43: 16 | AK43: 11 | AL43: 13 | AM43: 15 | AN43: 16 | AQ43: 74 | AR43: 11 | AS43: =AQ43+AR43 -> 85 | AT43: =AS43/107*20 -> 15.88785 | AV43: 10.5 | AW43: 13.67 | AX43: 11.538462 | AY43: 15.9375 | AZ43: 12.608696 | BA43: abs | BB43: 17 | BD43: =(H43-11.37)-(D43-10.38) -> -0.59583224 | BF43: C | BG43: OK | BK43: C+
A44: eleve 43 | C44: 1 | D44: =2/3*E44+1/3*F44 -> 13.345008 | E44: =AVERAGE(AB44,U44,P44) -> 13.017512 | F44: =AVERAGE(AJ44:AN44) -> 14 | G44: 3 | H44: =AVERAGE(AT44,AV44:BB44) -> 14.610496 | J44: 1369198 | K44: 14.5 | L44: 21.5 | M44: 11.5 | N44: 2 | O44: =K44+L44+M44+N44 -> 49.5 | P44: =O44*20/92 -> 10.76087 | R44: 12.5 | S44: 20.5 | T44: 8 | U44: =(R44+S44+T44)/3 -> 13.666667 | W44: 12 | X44: 16 | Y44: 4 | Z44: 26.5 | AA44: =W44+X44+Y44+Z44 -> 58.5 | AB44: =AA44/4 -> 14.625 | AD44: 15.5 | AE44: 16.5 | AF44: 19 | AG44: =AD44+AE44+AF44 -> 51 | AH44: =AG44/4 -> 12.75 | AJ44: 10 | AK44: 16 | AL44: 17 | AM44: 14 | AN44: 13 | AQ44: 68 | AR44: 11 | AS44: =AQ44+AR44 -> 79 | AT44: =AS44/107*20 -> 14.766355 | AV44: 9 | AW44: 13.333333 | AX44: 16.153846 | AY44: 15 | AZ44: 14.130435 | BA44: 16.5 | BB44: 18 | BD44: =(H44-11.37)-(D44-10.38) -> 0.27548812 | BF44: A | BK44: B
A45: eleve 44 | C45: 2 | D45: =2/3*E45+1/3*F45 -> 10.302335 | E45: =AVERAGE(AB45,U45,P45) -> 8.4535024 | F45: =AVERAGE(AJ45:AN45) -> 14 | G45: 25 | H45: =AVERAGE(AT45,AV45:BB45) -> 13.088229 | J45: 1369026 | K45: 12 | L45: 23 | M45: 10.5 | N45: 3.5 | O45: =K45+L45+M45+N45 -> 49 | P45: =O45*20/92 -> 10.652174 | R45: 8 | S45: 12 | T45: 2 | U45: =(R45+S45+T45)/3 -> 7.3333333 | W45: 11.5 | X45: 5.5 | Y45: 0 | Z45: 12.5 | AA45: =W45+X45+Y45+Z45 -> 29.5 | AB45: =AA45/4 -> 7.375 | AD45: 14.5 | AE45: 9 | AF45: 8.5 | AG45: =AD45+AE45+AF45 -> 32 | AH45: =AG45/4 -> 8 | AJ45: 13 | AK45: 16 | AL45: 13 | AM45: 11 | AN45: 17 | AQ45: 63 | AR45: 2 | AS45: =AQ45+AR45 -> 65 | AT45: =AS45/107*20 -> 12.149533 | AV45: 5.25 | AW45: 11.666667 | AX45: 13.846154 | AY45: 12.5 | AZ45: 18.043478 | BA45: 13.75 | BB45: 17.5 | BD45: =(H45-11.37)-(D45-10.38) -> 1.795894 | BF45: B+ | BK45: C-
A46: eleve 45 | C46: 1 | D46: =2/3*E46+1/3*F46 -> 8.0564412 | E46: =AVERAGE(AB46,U46,P46) -> 5.8846618 | F46: =AVERAGE(AJ46:AN46) -> 12.4 | G46: 43 | H46: =AVERAGE(AT46,AV46:BB46) -> 9.6551847 | J46: 1369283 | K46: 6 | L46: 10.5 | M46: 11 | N46: 1 | O46: =K46+L46+M46+N46 -> 28.5 | P46: =O46*20/92 -> 6.1956522 | R46: 6 | S46: 7.5 | T46: 7 | U46: =(R46+S46+T46)/3 -> 6.8333333 | W46: 10.5 | X46: 1.5 | Y46: 0 | Z46: 6.5 | AA46: =W46+X46+Y46+Z46 -> 18.5 | AB46: =AA46/4 -> 4.625 | AD46: 6 | AE46: 3 | AF46: 4 | AG46: =AD46+AE46+AF46 -> 13 | AH46: =AG46/4 -> 3.25 | AJ46: 14 | AK46: 9 | AL46: 14 | AM46: 9 | AN46: 16 | AQ46: 49 | AR46: 4 | AS46: =AQ46+AR46 -> 53 | AT46: =AS46/107*20 -> 9.9065421 | AV46: 5.25 | AW46: 9.6666667 | AX46: 9.2307692 | AY46: 10.9375 | AZ46: 10 | BA46: 11.25 | BB46: 11 | BD46: =(H46-11.37)-(D46-10.38) -> 0.60874352 | BF46: B+ | BJ46: mauvais | BK46: B-
A47: MOYENNE | D47: =AVERAGE(D2:D46) -> 10.376331 | E47: =AVERAGE(E2:E46) -> 8.9097558 | F47: =AVERAGE(F2:F46) -> 13.309481 | H47: =AVERAGE(H2:H46) -> 11.374873 | K47: =AVERAGE(K2:K46) -> 10 | L47: =AVERAGE(L2:L46) -> 15.011111 | M47: =AVERAGE(M2:M46) -> 9.2777778 | N47: =AVERAGE(N2:N46) -> 2.5888889 | O47: =AVERAGE(O2:O46) -> 36.877778 | P47: =AVERAGE(P2:P46) -> 8.0169082 | R47: =AVERAGE(R2:R46) -> 9.0888889 | S47: =AVERAGE(S2:S46) -> 12.655556 | T47: =AVERAGE(T2:T46) -> 7.1111111 | U47: =AVERAGE(U2:U46) -> 9.6185185 | W47: =AVERAGE(W2:W46) -> 13.443182 | X47: =AVERAGE(X2:X46) -> 9.2954545 | Y47: =AVERAGE(Y2:Y46) -> 2.5909091 | Z47: =AVERAGE(Z2:Z46) -> 11.068182 | AA47: =AVERAGE(AA2:AA46) -> 36.397727 | AB47: =AVERAGE(AB2:AB46) -> 9.0994318 | AD47: =AVERAGE(AD2:AD46) -> 9.4302326 | AE47: =AVERAGE(AE2:AE46) -> 9.4651163 | AF47: =AVERAGE(AF2:AF46) -> 8.9883721 | AG47: =AVERAGE(AG2:AG46) -> 27.883721 | AH47: =AVERAGE(AH2:AH46) -> 6.9709302 | AJ47: =AVERAGE(AJ2:AJ46) -> 13.777778 | AK47: =AVERAGE(AK2:AK46) -> 12.711111 | AL47: =AVERAGE(AL2:AL46) -> 12.936364 | AM47: =AVERAGE(AM2:AM46) -> 13.022727 | AN47: =AVERAGE(AN2:AN46) -> 14.27907 | AQ47: =AVERAGE(AQ2:AQ46) -> 64.444444 | AR47: =AVERAGE(AR2:AR46) -> 9.0666667 | AS47: =AVERAGE(AS2:AS46) -> 73.511111 | AT47: =AVERAGE(AT2:AT46) -> 13.740395 | AV47: =AVERAGE(AV2:AV46) -> 5.8197674 | AW47: =AVERAGE(AW2:AW46) -> 11.075833 | AX47: =AVERAGE(AX2:AX46) -> 10.626118 | AY47: =AVERAGE(AY2:AY46) -> 11.803977 | AZ47: =AVERAGE(AZ2:AZ46) -> 12.256039 | BA47: =AVERAGE(BA2:BA46) -> 12.602273 | BB47: =AVERAGE(BB2:BB46) -> 13.174419 | BC47: =AVERAGE(BC2:BC46) -> #DIV/0! | BD47: =AVERAGE(BD2:BD46) -> 0.0085415607
A48: SUR | D48: 20 | E48: 20 | F48: 20 | K48: 20 | L48: 28 | M48: 19 | N48: 25 | O48: 92 | P48: 20 | R48: 16 | S48: 24 | T48: 20 | U48: 20 | W48: 24 | X48: 20 | Y48: 18 | Z48: 34 | AA48: 96 | AB48: 20 | AD48: 20 | AE48: 24 | AF48: 36 | AG48: 80 | AH48: 20 | AJ48: 20 | AK48: 20 | AL48: 20 | AM48: 20 | AN48: 20 | AQ48: 87 | AR48: 32 | AS48: 107 | AT48: 20 | AV48: 20 | AW48: 20 | AX48: 20 | AY48: 20 | AZ48: 20 | BB48: 20 | BD48: 20
A49: MIN | D49: =MIN(D2:D46) -> 6.2230274 | E49: =MIN(E2:E46) -> 4.1793478 | F49: =MIN(F2:F46) -> 8.6666667 | K49: =MIN(K2:K46) -> 2.5 | L49: =MIN(L2:L46) -> 5 | M49: =MIN(M2:M46) -> 1 | N49: =MIN(N2:N46) -> 0 | O49: =MIN(O2:O46) -> 18 | P49: =MIN(P2:P46) -> 3.9130435 | R49: =MIN(R2:R46) -> 4 | S49: =MIN(S2:S46) -> 4 | T49: =MIN(T2:T46) -> 0 | U49: =MIN(U2:U46) -> 3.6666667 | W49: =MIN(W2:W46) -> 6 | X49: =MIN(X2:X46) -> 0.5 | Y49: =MIN(Y2:Y46) -> 0 | Z49: =MIN(Z2:Z46) -> 2.5 | AA49: =MIN(AA2:AA46) -> 10.5 | AB49: =MIN(AB2:AB46) -> 2.625 | AD49: =MIN(AD2:AD46) -> 4 | AE49: =MIN(AE2:AE46) -> 1 | AF49: =MIN(AF2:AF46) -> 2.5 | AG49: =MIN(AG2:AG46) -> 9 | AH49: =MIN(AH2:AH46) -> 2.25 | AJ49: =MIN(AJ2:AJ46) -> 7 | AK49: =MIN(AK2:AK46) -> 6 | AL49: =MIN(AL2:AL46) -> 6 | AM49: =MIN(AM2:AM46) -> 8 | AN49: =MIN(AN2:AN46) -> 9 | AQ49: =MIN(AQ2:AQ46) -> 41 | AR49: =MIN(AR2:AR46) -> -1 | AS49: =MIN(AS2:AS46) -> 44 | AT49: =MIN(AT2:AT46) -> 8.2242991 | AV49: =MIN(AV2:AV46) -> 0.5 | AW49: =MIN(AW2:AW46) -> 3 | AX49: =MIN(AX2:AX46) -> 3.4615385 | AY49: =MIN(AY2:AY46) -> 6.5625 | AZ49: =MIN(AZ2:AZ46) -> 6.3043478 | BA49: =MIN(BA2:BA46) -> 6.75 | BB49: =MIN(BB2:BB46) -> 4 | BD49: =MIN(BD2:BD46) -> -2.4959055
A50: MAX | D50: =MAX(D2:D46) -> 14.099839 | E50: =MAX(E2:E46) -> 13.282609 | F50: =MAX(F2:F46) -> 16.6 | K50: =MAX(K2:K46) -> 16 | L50: =MAX(L2:L46) -> 23 | M50: =MAX(M2:M46) -> 18 | N50: =MAX(N2:N46) -> 9 | O50: =MAX(O2:O46) -> 57.5 | P50: =MAX(P2:P46) -> 12.5 | R50: =MAX(R2:R46) -> 14.5 | S50: =MAX(S2:S46) -> 22 | T50: =MAX(T2:T46) -> 14.5 | U50: =MAX(U2:U46) -> 14.666667 | W50: =MAX(W2:W46) -> 20.5 | X50: =MAX(X2:X46) -> 19 | Y50: =MAX(Y2:Y46) -> 15 | Z50: =MAX(Z2:Z46) -> 26.5 | AA50: =MAX(AA2:AA46) -> 59 | AB50: =MAX(AB2:AB46) -> 14.75 | AD50: =MAX(AD2:AD46) -> 17 | AE50: =MAX(AE2:AE46) -> 21.5 | AF50: =MAX(AF2:AF46) -> 25.5 | AG50: =MAX(AG2:AG46) -> 51.5 | AH50: =MAX(AH2:AH46) -> 12.875 | AJ50: =MAX(AJ2:AJ46) -> 19 | AK50: =MAX(AK2:AK46) -> 17 | AL50: =MAX(AL2:AL46) -> 18 | AM50: =MAX(AM2:AM46) -> 18 | AN50: =MAX(AN2:AN46) -> 18 | AQ50: =MAX(AQ2:AQ46) -> 81 | AR50: =MAX(AR2:AR46) -> 20 | AS50: =MAX(AS2:AS46) -> 95 | AT50: =MAX(AT2:AT46) -> 17.757009 | AV50: =MAX(AV2:AV46) -> 11.75 | AW50: =MAX(AW2:AW46) -> 17.666667 | AX50: =MAX(AX2:AX46) -> 16.153846 | AY50: =MAX(AY2:AY46) -> 17.1875 | AZ50: =MAX(AZ2:AZ46) -> 18.043478 | BA50: =MAX(BA2:BA46) -> 17 | BB50: =MAX(BB2:BB46) -> 19 | BD50: =MAX(BD2:BD46) -> 2.9095997
A51: Ecart Type | D51: =STDEV(D2:D46) -> 1.964416 | E51: =STDEV(E2:E46) -> 2.2805833 | F51: =STDEV(F2:F46) -> 1.8582392 | K51: =STDEV(K2:K46) -> 3.131584 | L51: =STDEV(L2:L46) -> 3.9189065 | M51: =STDEV(M2:M46) -> 3.8473065 | N51: =STDEV(N2:N46) -> 2.4594181 | O51: =STDEV(O2:O46) -> 10.120386 | P51: =STDEV(P2:P46) -> 2.200084 | R51: =STDEV(R2:R46) -> 2.7350604 | S51: =STDEV(S2:S46) -> 4.3625762 | T51: =STDEV(T2:T46) -> 2.7404564 | U51: =STDEV(U2:U46) -> 2.5960397 | W51: =STDEV(W2:W46) -> 4.0508625 | X51: =STDEV(X2:X46) -> 4.3686491 | Y51: =STDEV(Y2:Y46) -> 3.1938763 | Z51: =STDEV(Z2:Z46) -> 5.4555188 | AA51: =STDEV(AA2:AA46) -> 12.23395 | AB51: =STDEV(AB2:AB46) -> 3.0584875 | AD51: =STDEV(AD2:AD46) -> 3.4009477 | AE51: =STDEV(AE2:AE46) -> 5.4471436 | AF51: =STDEV(AF2:AF46) -> 5.2400568 | AG51: =STDEV(AG2:AG46) -> 12.001407 | AH51: =STDEV(AH2:AH46) -> 3.0003518 | AJ51: =STDEV(AJ2:AJ46) -> 3.0517423 | AK51: =STDEV(AK2:AK46) -> 2.3800518 | AL51: =STDEV(AL2:AL46) -> 2.9720474 | AM51: =STDEV(AM2:AM46) -> 2.5287982 | AN51: =STDEV(AN2:AN46) -> 2.3024374 | AQ51: =STDEV(AQ2:AQ46) -> 9.9282782 | AR51: =STDEV(AR2:AR46) -> 5.2022722 | AS51: =STDEV(AS2:AS46) -> 12.425454 | AT51: =STDEV(AT2:AT46) -> 2.3225149 | AV51: =STDEV(AV2:AV46) -> 3.0415406 | AW51: =STDEV(AW2:AW46) -> 3.1442014 | AX51: =STDEV(AX2:AX46) -> 3.1359081 | AY51: =STDEV(AY2:AY46) -> 2.4715529 | AZ51: =STDEV(AZ2:AZ46) -> 3.1309044 | BA51: =STDEV(BA2:BA46) -> 2.6744746 | BB51: =STDEV(BB2:BB46) -> 3.5065987 | BD51: =STDEV(BD2:BD46) -> 1.2056757
A53: Moyenne groupe 1 | B53: =C53=D53 -> TRUE | C53: =AVERAGEIFS(D$2:D$46,$C$2:$C$46,1) -> 9.9663753 | D53: =AVERAGE(D3,D4,D5,D6,D8,D11,D12,D13,D15,D18,D23,D27,D29,D31,D34,D35,D36,D38,D42,D43,D44,D46) -> 9.9663753 | E53: =AVERAGE(E3,E4,E5,E6,E8,E11,E12,E13,E15,E18,E23,E27,E29,E31,E34,E35,E36,E38,E42,E43,E44,E46) -> 8.623957 | F53: =AVERAGE(F3,F4,F5,F6,F8,F11,F12,F13,F15,F18,F23,F27,F29,F31,F34,F35,F36,F38,F42,F43,F44,F46) -> 12.651212 | G53: =AVERAGE(G3,G4,G5,G6,G8,G11,G12,G13,G15,G18,G23,G27,G29,G31,G34,G35,G36,G38,G42,G43,G44,G46) -> 25.863636 | K53: =AVERAGE(K3,K4,K5,K6,K8,K11,K12,K13,K15,K18,K23,K27,K29,K31,K34,K35,K36,K38,K42,K43,K44,K46) -> 9.9090909 | L53: =AVERAGE(L3,L4,L5,L6,L8,L11,L12,L13,L15,L18,L23,L27,L29,L31,L34,L35,L36,L38,L42,L43,L44,L46) -> 14.454545 | M53: =AVERAGE(M3,M4,M5,M6,M8,M11,M12,M13,M15,M18,M23,M27,M29,M31,M34,M35,M36,M38,M42,M43,M44,M46) -> 8.2727273 | N53: =AVERAGE(N3,N4,N5,N6,N8,N11,N12,N13,N15,N18,N23,N27,N29,N31,N34,N35,N36,N38,N42,N43,N44,N46) -> 2.3863636 | O53: =AVERAGE(O3,O4,O5,O6,O8,O11,O12,O13,O15,O18,O23,O27,O29,O31,O34,O35,O36,O38,O42,O43,O44,O46) -> 35.022727 | P53: =AVERAGE(P3,P4,P5,P6,P8,P11,P12,P13,P15,P18,P23,P27,P29,P31,P34,P35,P36,P38,P42,P43,P44,P46) -> 7.6136364 | R53: =AVERAGE(R3,R4,R5,R6,R8,R11,R12,R13,R15,R18,R23,R27,R29,R31,R34,R35,R36,R38,R42,R43,R44,R46) -> 8.5681818 | S53: =AVERAGE(S3,S4,S5,S6,S8,S11,S12,S13,S15,S18,S23,S27,S29,S31,S34,S35,S36,S38,S42,S43,S44,S46) -> 12.954545 | T53: =AVERAGE(T3,T4,T5,T6,T8,T11,T12,T13,T15,T18,T23,T27,T29,T31,T34,T35,T36,T38,T42,T43,T44,T46) -> 6.9545455 | U53: =AVERAGE(U3,U4,U5,U6,U8,U11,U12,U13,U15,U18,U23,U27,U29,U31,U34,U35,U36,U38,U42,U43,U44,U46) -> 9.4924242 | W53: =AVERAGE(W3,W4,W5,W6,W8,W11,W12,W13,W15,W18,W23,W27,W29,W31,W34,W35,W36,W38,W42,W43,W44,W46) -> 13.047619 | X53: =AVERAGE(X3,X4,X5,X6,X8,X11,X12,X13,X15,X18,X23,X27,X29,X31,X34,X35,X36,X38,X42,X43,X44,X46) -> 9.2142857 | Y53: =AVERAGE(Y3,Y4,Y5,Y6,Y8,Y11,Y12,Y13,Y15,Y18,Y23,Y27,Y29,Y31,Y34,Y35,Y36,Y38,Y42,Y43,Y44,Y46) -> 2.0714286 | Z53: =AVERAGE(Z3,Z4,Z5,Z6,Z8,Z11,Z12,Z13,Z15,Z18,Z23,Z27,Z29,Z31,Z34,Z35,Z36,Z38,Z42,Z43,Z44,Z46) -> 10.714286 | AA53: =AVERAGE(AA3,AA4,AA5,AA6,AA8,AA11,AA12,AA13,AA15,AA18,AA23,AA27,AA29,AA31,AA34,AA35,AA36,AA38,AA42,AA43,AA44,AA46) -> 35.047619 | AB53: =AVERAGE(AB3,AB4,AB5,AB6,AB8,AB11,AB12,AB13,AB15,AB18,AB23,AB27,AB29,AB31,AB34,AB35,AB36,AB38,AB42,AB43,AB44,AB46) -> 8.7619048 | AJ53: =AVERAGE(AJ3,AJ4,AJ5,AJ6,AJ8,AJ11,AJ12,AJ13,AJ15,AJ18,AJ23,AJ27,AJ29,AJ31,AJ34,AJ35,AJ36,AJ38,AJ42,AJ43,AJ44,AJ46) -> 13.136364 | AK53: =AVERAGE(AK3,AK4,AK5,AK6,AK8,AK11,AK12,AK13,AK15,AK18,AK23,AK27,AK29,AK31,AK34,AK35,AK36,AK38,AK42,AK43,AK44,AK46) -> 12.136364 | AL53: =AVERAGE(AL3,AL4,AL5,AL6,AL8,AL11,AL12,AL13,AL15,AL18,AL23,AL27,AL29,AL31,AL34,AL35,AL36,AL38,AL42,AL43,AL44,AL46) -> 12.009524 | AM53: =AVERAGE(AM3,AM4,AM5,AM6,AM8,AM11,AM12,AM13,AM15,AM18,AM23,AM27,AM29,AM31,AM34,AM35,AM36,AM38,AM42,AM43,AM44,AM46) -> 12.333333 | AN53: =AVERAGE(AN3,AN4,AN5,AN6,AN8,AN11,AN12,AN13,AN15,AN18,AN23,AN27,AN29,AN31,AN34,AN35,AN36,AN38,AN42,AN43,AN44,AN46) -> 13.9 | AQ53: =AVERAGE(AQ3,AQ4,AQ5,AQ6,AQ8,AQ11,AQ12,AQ13,AQ15,AQ18,AQ23,AQ27,AQ29,AQ31,AQ34,AQ35,AQ36,AQ38,AQ42,AQ43,AQ44,AQ46) -> 62.227273 | AR53: =AVERAGE(AR3,AR4,AR5,AR6,AR8,AR11,AR12,AR13,AR15,AR18,AR23,AR27,AR29,AR31,AR34,AR35,AR36,AR38,AR42,AR43,AR44,AR46) -> 9.8181818 | AS53: =AVERAGE(AS3,AS4,AS5,AS6,AS8,AS11,AS12,AS13,AS15,AS18,AS23,AS27,AS29,AS31,AS34,AS35,AS36,AS38,AS42,AS43,AS44,AS46) -> 72.045455 | AT53: =AVERAGE(AT3,AT4,AT5,AT6,AT8,AT11,AT12,AT13,AT15,AT18,AT23,AT27,AT29,AT31,AT34,AT35,AT36,AT38,AT42,AT43,AT44,AT46) -> 13.46644 | AV53: =AVERAGE(AV3,AV4,AV5,AV6,AV8,AV11,AV12,AV13,AV15,AV18,AV23,AV27,AV29,AV31,AV34,AV35,AV36,AV38,AV42,AV43,AV44,AV46) -> 5.6875 | AW53: =AVERAGE(AW3,AW4,AW5,AW6,AW8,AW11,AW12,AW13,AW15,AW18,AW23,AW27,AW29,AW31,AW34,AW35,AW36,AW38,AW42,AW43,AW44,AW46) -> 11.095397 | AX53: =AVERAGE(AX3,AX4,AX5,AX6,AX8,AX11,AX12,AX13,AX15,AX18,AX23,AX27,AX29,AX31,AX34,AX35,AX36,AX38,AX42,AX43,AX44,AX46) -> 10.5 | AY53: =AVERAGE(AY3,AY4,AY5,AY6,AY8,AY11,AY12,AY13,AY15,AY18,AY23,AY27,AY29,AY31,AY34,AY35,AY36,AY38,AY42,AY43,AY44,AY46) -> 11.383929 | AZ53: =AVERAGE(AZ3,AZ4,AZ5,AZ6,AZ8,AZ11,AZ12,AZ13,AZ15,AZ18,AZ23,AZ27,AZ29,AZ31,AZ34,AZ35,AZ36,AZ38,AZ42,AZ43,AZ44,AZ46) -> 12.035573 | BA53: =AVERAGE(BA3,BA4,BA5,BA6,BA8,BA11,BA12,BA13,BA15,BA18,BA23,BA27,BA29,BA31,BA34,BA35,BA36,BA38,BA42,BA43,BA44,BA46) -> 11.845238 | BD53: =AVERAGE(BD3,BD4,BD5,BD6,BD8,BD11,BD12,BD13,BD15,BD18,BD23,BD27,BD29,BD31,BD34,BD35,BD36,BD38,BD42,BD43,BD44,BD46) -> 0.15635198
A54: Moyenne groupe 2 | B54: =C54=D54 -> TRUE | C54: =AVERAGEIFS(D$2:D$46,$C$2:$C$46,2) -> 10.768463 | D54: =AVERAGE(D45,D41,D40,D39,D37,D33,D32,D30,D28,D26,D25,D24,D22,D21,D20,D19,D17,D16,D14,D10,D9,D7,D2) -> 10.768463 | E54: =AVERAGE(E45,E41,E40,E39,E37,E33,E32,E30,E28,E26,E25,E24,E22,E21,E20,E19,E17,E16,E14,E10,E9,E7,E2) -> 9.1831285 | F54: =AVERAGE(F45,F41,F40,F39,F37,F33,F32,F30,F28,F26,F25,F24,F22,F21,F20,F19,F17,F16,F14,F10,F9,F7,F2) -> 13.93913 | G54: =AVERAGE(G45,G41,G40,G39,G37,G33,G32,G30,G28,G26,G25,G24,G22,G21,G20,G19,G17,G16,G14,G10,G9,G7,G2) -> 20.26087 | K54: =AVERAGE(K45,K41,K40,K39,K37,K33,K32,K30,K28,K26,K25,K24,K22,K21,K20,K19,K17,K16,K14,K10,K9,K7,K2) -> 10.086957 | L54: =AVERAGE(L45,L41,L40,L39,L37,L33,L32,L30,L28,L26,L25,L24,L22,L21,L20,L19,L17,L16,L14,L10,L9,L7,L2) -> 15.543478 | M54: =AVERAGE(M45,M41,M40,M39,M37,M33,M32,M30,M28,M26,M25,M24,M22,M21,M20,M19,M17,M16,M14,M10,M9,M7,M2) -> 10.23913 | N54: =AVERAGE(N45,N41,N40,N39,N37,N33,N32,N30,N28,N26,N25,N24,N22,N21,N20,N19,N17,N16,N14,N10,N9,N7,N2) -> 2.7826087 | O54: =AVERAGE(O45,O41,O40,O39,O37,O33,O32,O30,O28,O26,O25,O24,O22,O21,O20,O19,O17,O16,O14,O10,O9,O7,O2) -> 38.652174 | P54: =AVERAGE(P45,P41,P40,P39,P37,P33,P32,P30,P28,P26,P25,P24,P22,P21,P20,P19,P17,P16,P14,P10,P9,P7,P2) -> 8.4026465 | R54: =AVERAGE(R45,R41,R40,R39,R37,R33,R32,R30,R28,R26,R25,R24,R22,R21,R20,R19,R17,R16,R14,R10,R9,R7,R2) -> 9.5869565 | S54: =AVERAGE(S45,S41,S40,S39,S37,S33,S32,S30,S28,S26,S25,S24,S22,S21,S20,S19,S17,S16,S14,S10,S9,S7,S2) -> 12.369565 | T54: =AVERAGE(T45,T41,T40,T39,T37,T33,T32,T30,T28,T26,T25,T24,T22,T21,T20,T19,T17,T16,T14,T10,T9,T7,T2) -> 7.2608696 | U54: =AVERAGE(U45,U41,U40,U39,U37,U33,U32,U30,U28,U26,U25,U24,U22,U21,U20,U19,U17,U16,U14,U10,U9,U7,U2) -> 9.7391304 | W54: =AVERAGE(W45,W41,W40,W39,W37,W33,W32,W30,W28,W26,W25,W24,W22,W21,W20,W19,W17,W16,W14,W10,W9,W7,W2) -> 13.804348 | X54: =AVERAGE(X45,X41,X40,X39,X37,X33,X32,X30,X28,X26,X25,X24,X22,X21,X20,X19,X17,X16,X14,X10,X9,X7,X2) -> 9.3695652 | Y54: =AVERAGE(Y45,Y41,Y40,Y39,Y37,Y33,Y32,Y30,Y28,Y26,Y25,Y24,Y22,Y21,Y20,Y19,Y17,Y16,Y14,Y10,Y9,Y7,Y2) -> 3.0652174 | Z54: =AVERAGE(Z45,Z41,Z40,Z39,Z37,Z33,Z32,Z30,Z28,Z26,Z25,Z24,Z22,Z21,Z20,Z19,Z17,Z16,Z14,Z10,Z9,Z7,Z2) -> 11.391304 | AA54: =AVERAGE(AA45,AA41,AA40,AA39,AA37,AA33,AA32,AA30,AA28,AA26,AA25,AA24,AA22,AA21,AA20,AA19,AA17,AA16,AA14,AA10,AA9,AA7,AA2) -> 37.630435 | AB54: =AVERAGE(AB45,AB41,AB40,AB39,AB37,AB33,AB32,AB30,AB28,AB26,AB25,AB24,AB22,AB21,AB20,AB19,AB17,AB16,AB14,AB10,AB9,AB7,AB2) -> 9.4076087 | AJ54: =AVERAGE(AJ45,AJ41,AJ40,AJ39,AJ37,AJ33,AJ32,AJ30,AJ28,AJ26,AJ25,AJ24,AJ22,AJ21,AJ20,AJ19,AJ17,AJ16,AJ14,AJ10,AJ9,AJ7,AJ2) -> 14.391304 | AK54: =AVERAGE(AK45,AK41,AK40,AK39,AK37,AK33,AK32,AK30,AK28,AK26,AK25,AK24,AK22,AK21,AK20,AK19,AK17,AK16,AK14,AK10,AK9,AK7,AK2) -> 13.26087 | AL54: =AVERAGE(AL45,AL41,AL40,AL39,AL37,AL33,AL32,AL30,AL28,AL26,AL25,AL24,AL22,AL21,AL20,AL19,AL17,AL16,AL14,AL10,AL9,AL7,AL2) -> 13.782609 | AM54: =AVERAGE(AM45,AM41,AM40,AM39,AM37,AM33,AM32,AM30,AM28,AM26,AM25,AM24,AM22,AM21,AM20,AM19,AM17,AM16,AM14,AM10,AM9,AM7,AM2) -> 13.652174 | AN54: =AVERAGE(AN45,AN41,AN40,AN39,AN37,AN33,AN32,AN30,AN28,AN26,AN25,AN24,AN22,AN21,AN20,AN19,AN17,AN16,AN14,AN10,AN9,AN7,AN2) -> 14.608696 | AQ54: =AVERAGE(AQ45,AQ41,AQ40,AQ39,AQ37,AQ33,AQ32,AQ30,AQ28,AQ26,AQ25,AQ24,AQ22,AQ21,AQ20,AQ19,AQ17,AQ16,AQ14,AQ10,AQ9,AQ7,AQ2) -> 66.565217 | AR54: =AVERAGE(AR45,AR41,AR40,AR39,AR37,AR33,AR32,AR30,AR28,AR26,AR25,AR24,AR22,AR21,AR20,AR19,AR17,AR16,AR14,AR10,AR9,AR7,AR2) -> 8.3478261 | AS54: =AVERAGE(AS45,AS41,AS40,AS39,AS37,AS33,AS32,AS30,AS28,AS26,AS25,AS24,AS22,AS21,AS20,AS19,AS17,AS16,AS14,AS10,AS9,AS7,AS2) -> 74.913043 | AT54: =AVERAGE(AT45,AT41,AT40,AT39,AT37,AT33,AT32,AT30,AT28,AT26,AT25,AT24,AT22,AT21,AT20,AT19,AT17,AT16,AT14,AT10,AT9,AT7,AT2) -> 14.002438 | AV54: =AVERAGE(AV45,AV41,AV40,AV39,AV37,AV33,AV32,AV30,AV28,AV26,AV25,AV24,AV22,AV21,AV20,AV19,AV17,AV16,AV14,AV10,AV9,AV7,AV2) -> 5.9347826 | AW54: =AVERAGE(AW45,AW41,AW40,AW39,AW37,AW33,AW32,AW30,AW28,AW26,AW25,AW24,AW22,AW21,AW20,AW19,AW17,AW16,AW14,AW10,AW9,AW7,AW2) -> 11.057971 | AX54: =AVERAGE(AX45,AX41,AX40,AX39,AX37,AX33,AX32,AX30,AX28,AX26,AX25,AX24,AX22,AX21,AX20,AX19,AX17,AX16,AX14,AX10,AX9,AX7,AX2) -> 10.735786 | AY54: =AVERAGE(AY45,AY41,AY40,AY39,AY37,AY33,AY32,AY30,AY28,AY26,AY25,AY24,AY22,AY21,AY20,AY19,AY17,AY16,AY14,AY10,AY9,AY7,AY2) -> 12.1875 | AZ54: =AVERAGE(AZ45,AZ41,AZ40,AZ39,AZ37,AZ33,AZ32,AZ30,AZ28,AZ26,AZ25,AZ24,AZ22,AZ21,AZ20,AZ19,AZ17,AZ16,AZ14,AZ10,AZ9,AZ7,AZ2) -> 12.466919 | BA54: =AVERAGE(BA45,BA41,BA40,BA39,BA37,BA33,BA32,BA30,BA28,BA26,BA25,BA24,BA22,BA21,BA20,BA19,BA17,BA16,BA14,BA10,BA9,BA7,BA2) -> 13.293478 | BD54: =AVERAGE(BD45,BD41,BD40,BD39,BD37,BD33,BD32,BD30,BD28,BD26,BD25,BD24,BD22,BD21,BD20,BD19,BD17,BD16,BD14,BD10,BD9,BD7,BD2) -> -0.13284232
A56: SUPA | P56: 9.35 | U56: 9 | AA56: 28.2 | AB56: =AA56/4.8 -> 5.875 | AM56: 12.4
A57: SUPB | D57: 11.42 | E57: 10.5 | F57: 13.25 | P57: 10.4 | U57: 10.5 | AJ57: 13.9 | AK57: 12.5 | AL57: 12.71 | AM57: 12.33 | AN57: 12.86 | AT57: 14.4
A58: SUPC | D58: 10.51 | E58: 9.42 | F58: 12.68 | P58: 9.38 | U58: 9.52 | AA58: 31.16 | AB58: =AA58/4.8 -> 6.4916667 | AJ58: 13.41 | AK58: 11.96 | AL58: 13.1 | AM58: 13.1 | AT58: 14.6
A59: SUPD | D59: 11.2 | E59: 9.9 | F59: 13.5 | P59: 9.67 | U59: 10.2 | W59: 14.6 | AA59: 37.9 | AB59: =AA59/4.8 -> 7.8958333 | AJ59: 13.4 | AK59: 13.7 | AL59: 13.1 | AM59: 13.23 | AN59: 13.7
D60: (au 06/11) | E60: (au 06/11) | F60: (au 06/11) | BA60: 17,25?

Sheet Calculs
C1: =Notes!P47 -> 8.0169082 | D1: =Notes!U47 -> 9.6185185 | E1: =Notes!AB47 -> 9.0994318 | F1: =Notes!AH47 -> 6.9709302 | G1: {=Notes!AJ47:AN47} -> 13.777778 | H1: 12.711111 | I1: 12.936364 | J1: 13.022727 | K1: 14.27907 | L1: =Notes!AT47 -> 13.740395 | M1: {=Notes!AV47:BB47} -> 5.8197674 | N1: 11.075833 | O1: 10.626118 | P1: 11.803977 | Q1: 12.256039 | R1: 12.602273 | S1: 13.174419 | V1: Groupe | W1: (Tous)
A2: Nom | B2: Groupe | C2: DS1 | D2: DS2 | E2: DS3 | F2: DS4 | G2: Colle1 | H2: Colle2 | I2: Colle3 | J2: Colle4 | K2: Colle5 | L2: IE0 | M2: IE2 | N2: IE3 | O2: IE4 | P2: IE5 | Q2: IE6 | R2: IE7 | S2: IE7bis | V2: Nom | W2: eleve 4
A3: eleve 1 | B3: =Notes!C2 -> 2 | C3: =IFERROR(Notes!P2-C$1,"") -> 1.6570048 | D3: =IFERROR(Notes!U2-D$1,"") -> 5.0481481 | E3: =IFERROR(Notes!AB2-E$1,"") -> -0.22443182 | F3: =IFERROR(Notes!AH2-F$1,"") -> 5.1540698 | G3: =IFERROR(Notes!AJ2-G$1,"") -> 5.2222222 | H3: =IFERROR(Notes!AK2-H$1,"") -> 1.2888889 | I3: =IFERROR(Notes!AL2-I$1,"") -> 2.0636364 | J3: =IFERROR(Notes!AM2-J$1,"") -> 3.9772727 | K3: =IFERROR(Notes!AN2-K$1,"") -> 3.7209302 | L3: =IFERROR(Notes!AT2-L$1,"") -> 1.5867082 | M3: =IFERROR(Notes!AV2-M$1,"") -> 2.9302326 | N3: =IFERROR(Notes!AW2-N$1,"") -> 4.5908333 | O3: =IFERROR(Notes!AX2-O$1,"") -> 5.1431127 | P3: =IFERROR(Notes!AY2-P$1,"") -> 0.38352273 | Q3: =IFERROR(Notes!AZ2-Q$1,"") -> 3.6135266 | R3: =IFERROR(Notes!BA2-R$1,"") -> 1.1477273 | S3: =IFERROR(Notes!BB2-S$1,"") -> 5.3255814
A4: eleve 2 | B4: =Notes!C3 -> 1 | C4: =IFERROR(Notes!P3-C$1,"") -> -1.2777778 | D4: =IFERROR(Notes!U3-D$1,"") -> 1.3814815 | E4: =IFERROR(Notes!AB3-E$1,"") -> -0.72443182 | F4: =IFERROR(Notes!AH3-F$1,"") -> -0.59593023 | G4: =IFERROR(Notes!AJ3-G$1,"") -> 4.2222222 | H4: =IFERROR(Notes!AK3-H$1,"") -> 4.2888889 | I4: =IFERROR(Notes!AL3-I$1,"") -> 3.0636364 | J4: =IFERROR(Notes!AM3-J$1,"") -> 1.9772727 | K4: =IFERROR(Notes!AN3-K$1,"") -> 0.72093023 | L4: =IFERROR(Notes!AT3-L$1,"") -> 1.2128764 | M4: =IFERROR(Notes!AV3-M$1,"") -> -2.3197674 | N4: =IFERROR(Notes!AW3-N$1,"") -> -4.4091667 | O4: =IFERROR(Notes!AX3-O$1,"") -> -1.0107335 | P4: =IFERROR(Notes!AY3-P$1,"") -> 0.38352273 | Q4: =IFERROR(Notes!AZ3-Q$1,"") -> -1.3864734 | R4: =IFERROR(Notes!BA3-R$1,"") -> -2.1022727 | S4: =IFERROR(Notes!BB3-S$1,"") -> -2.6744186 | V4: Valeurs
A5: eleve 3 | B5: =Notes!C4 -> 1 | C5: =IFERROR(Notes!P4-C$1,"") -> -3.1256039 | D5: =IFERROR(Notes!U4-D$1,"") -> 1.7148148 | E5: =IFERROR(Notes!AB4-E$1,"") -> -2.8494318 | F5: =IFERROR(Notes!AH4-F$1,"") -> -3.2209302 | G5: =IFERROR(Notes!AJ4-G$1,"") -> 3.2222222 | H5: =IFERROR(Notes!AK4-H$1,"") -> -1.7111111 | I5: =IFERROR(Notes!AL4-I$1,"") -> -0.13636364 | J5: =IFERROR(Notes!AM4-J$1,"") -> -3.0227273 | K5: =IFERROR(Notes!AN4-K$1,"") -> -0.27906977 | L5: =IFERROR(Notes!AT4-L$1,"") -> 1.2128764 | M5: =IFERROR(Notes!AV4-M$1,"") -> -0.31976744 | N5: =IFERROR(Notes!AW4-N$1,"") -> 0.92416667 | O5: =IFERROR(Notes!AX4-O$1,"") -> 0.91234347 | P5: =IFERROR(Notes!AY4-P$1,"") -> -0.86647727 | Q5: =IFERROR(Notes!AZ4-Q$1,"") -> -5.9516908 | R5: =IFERROR(Notes!BA4-R$1,"") -> -3.9772727 | S5: =IFERROR(Notes!BB4-S$1,"") -> -1.6744186 | V5: DS1 | W5: -1.9299517
A6: eleve 4 | B6: =Notes!C5 -> 1 | C6: =IFERROR(Notes!P5-C$1,"") -> -1.9299517 | D6: =IFERROR(Notes!U5-D$1,"") -> -3.9518519 | E6: =IFERROR(Notes!AB5-E$1,"") -> -5.8494318 | F6: =IFERROR(Notes!AH5-F$1,"") | G6: =IFERROR(Notes!AJ5-G$1,"") -> -3.7777778 | H6: =IFERROR(Notes!AK5-H$1,"") -> -6.7111111 | I6: =IFERROR(Notes!AL5-I$1,"") | J6: =IFERROR(Notes!AM5-J$1,"") -> -3.0227273 | K6: =IFERROR(Notes!AN5-K$1,"") | L6: =IFERROR(Notes!AT5-L$1,"") -> -5.5160955 | M6: =IFERROR(Notes!AV5-M$1,"") | N6: =IFERROR(Notes!AW5-N$1,"") | O6: =IFERROR(Notes!AX5-O$1,"") -> -6.0107335 | P6: =IFERROR(Notes!AY5-P$1,"") -> -5.2414773 | Q6: =IFERROR(Notes!AZ5-Q$1,"") -> 0.1352657 | R6: =IFERROR(Notes!BA5-R$1,"") -> -4.6022727 | S6: =IFERROR(Notes!BB5-S$1,"") | V6: DS2 | W6: -3.9518519
A7: eleve 5 | B7: =Notes!C6 -> 1 | C7: =IFERROR(Notes!P6-C$1,"") -> -0.19082126 | D7: =IFERROR(Notes!U6-D$1,"") -> -0.78518519 | E7: =IFERROR(Notes!AB6-E$1,"") -> -0.099431818 | F7: =IFERROR(Notes!AH6-F$1,"") -> -1.5959302 | G7: =IFERROR(Notes!AJ6-G$1,"") -> 1.2222222 | H7: =IFERROR(Notes!AK6-H$1,"") -> -0.71111111 | I7: =IFERROR(Notes!AL6-I$1,"") -> 2.0636364 | J7: =IFERROR(Notes!AM6-J$1,"") -> -0.022727273 | K7: =IFERROR(Notes!AN6-K$1,"") -> -0.27906977 | L7: =IFERROR(Notes!AT6-L$1,"") -> 1.96054 | M7: =IFERROR(Notes!AV6-M$1,"") -> -2.5697674 | N7: =IFERROR(Notes!AW6-N$1,"") -> -0.075833333 | O7: =IFERROR(Notes!AX6-O$1,"") | P7: =IFERROR(Notes!AY6-P$1,"") -> -0.55397727 | Q7: =IFERROR(Notes!AZ6-Q$1,"") -> -0.29951691 | R7: =IFERROR(Notes!BA6-R$1,"") -> -1.3522727 | S7: =IFERROR(Notes!BB6-S$1,"") -> 1.8255814 | V7: DS3 | W7: -5.8494318
A8: eleve 6 | B8: =Notes!C7 -> 2 | C8: =IFERROR(Notes!P7-C$1,"") -> -4.1038647 | D8: =IFERROR(Notes!U7-D$1,"") -> -3.6185185 | E8: =IFERROR(Notes!AB7-E$1,"") -> -6.4744318 | F8: =IFERROR(Notes!AH7-F$1,"") -> -3.7209302 | G8: =IFERROR(Notes!AJ7-G$1,"") -> -1.7777778 | H8: =IFERROR(Notes!AK7-H$1,"") -> -1.7111111 | I8: =IFERROR(Notes!AL7-I$1,"") -> 2.0636364 | J8: =IFERROR(Notes!AM7-J$1,"") -> -5.0227273 | K8: =IFERROR(Notes!AN7-K$1,"") -> -2.2790698 | L8: =IFERROR(Notes!AT7-L$1,"") -> -2.7123572 | M8: =IFERROR(Notes!AV7-M$1,"") -> -4.8197674 | N8: =IFERROR(Notes!AW7-N$1,"") -> -3.7425 | O8: =IFERROR(Notes!AX7-O$1,"") -> -7.1645796 | P8: =IFERROR(Notes!AY7-P$1,"") -> -4.3039773 | Q8: =IFERROR(Notes!AZ7-Q$1,"") -> -4.647343 | R8: =IFERROR(Notes!BA7-R$1,"") -> -3.1022727 | S8: =IFERROR(Notes!BB7-S$1,"") -> -1.6744186 | V8: DS4
A9: eleve 7 | B9: =Notes!C8 -> 1 | C9: =IFERROR(Notes!P8-C$1,"") -> -0.19082126 | D9: =IFERROR(Notes!U8-D$1,"") -> 0.54814815 | E9: =IFERROR(Notes!AB8-E$1,"") -> -1.3494318 | F9: =IFERROR(Notes!AH8-F$1,"") -> -0.72093023 | G9: =IFERROR(Notes!AJ8-G$1,"") -> -4.7777778 | H9: =IFERROR(Notes!AK8-H$1,"") -> -2.7111111 | I9: =IFERROR(Notes!AL8-I$1,"") -> -2.9363636 | J9: =IFERROR(Notes!AM8-J$1,"") -> 1.9772727 | K9: =IFERROR(Notes!AN8-K$1,"") -> -2.2790698 | L9: =IFERROR(Notes!AT8-L$1,"") -> -1.2170301 | M9: =IFERROR(Notes!AV8-M$1,"") -> -0.81976744 | N9: =IFERROR(Notes!AW8-N$1,"") -> 1.2575 | O9: =IFERROR(Notes!AX8-O$1,"") -> -1.7799642 | P9: =IFERROR(Notes!AY8-P$1,"") -> -0.86647727 | Q9: =IFERROR(Notes!AZ8-Q$1,"") -> -2.0386473 | R9: =IFERROR(Notes!BA8-R$1,"") -> -4.2272727 | S9: =IFERROR(Notes!BB8-S$1,"") -> -1.6744186
A10: eleve 8 | B10: =Notes!C9 -> 2 | C10: =IFERROR(Notes!P9-C$1,"") -> 3.178744 | D10: =IFERROR(Notes!U9-D$1,"") -> 0.38148148 | E10: =IFERROR(Notes!AB9-E$1,"") -> 2.6505682 | F10: =IFERROR(Notes!AH9-F$1,"") -> -0.22093023 | G10: =IFERROR(Notes!AJ9-G$1,"") -> 1.2222222 | H10: =IFERROR(Notes!AK9-H$1,"") -> 0.28888889 | I10: =IFERROR(Notes!AL9-I$1,"") -> 4.0636364 | J10: =IFERROR(Notes!AM9-J$1,"") -> 3.9772727 | K10: =IFERROR(Notes!AN9-K$1,"") -> -0.27906977 | L10: =IFERROR(Notes!AT9-L$1,"") -> -0.095534787 | M10: =IFERROR(Notes!AV9-M$1,"") -> 1.6802326 | N10: =IFERROR(Notes!AW9-N$1,"") -> -0.075833333 | O10: =IFERROR(Notes!AX9-O$1,"") -> 0.1431127 | P10: =IFERROR(Notes!AY9-P$1,"") -> 0.69602273 | Q10: =IFERROR(Notes!AZ9-Q$1,"") -> 3.178744 | R10: =IFERROR(Notes!BA9-R$1,"") -> 2.8977273 | S10: =IFERROR(Notes!BB9-S$1,"") -> 2.3255814
A11: eleve 9 | B11: =Notes!C10 -> 2 | C11: =IFERROR(Notes!P10-C$1,"") -> 3.9396135 | D11: =IFERROR(Notes!U10-D$1,"") -> 1.5481481 | E11: =IFERROR(Notes!AB10-E$1,"") -> 3.6505682 | F11: =IFERROR(Notes!AH10-F$1,"") -> 1.0290698 | G11: =IFERROR(Notes!AJ10-G$1,"") -> 2.2222222 | H11: =IFERROR(Notes!AK10-H$1,"") -> 0.28888889 | I11: =IFERROR(Notes!AL10-I$1,"") -> 3.0636364 | J11: =IFERROR(Notes!AM10-J$1,"") -> -0.022727273 | K11: =IFERROR(Notes!AN10-K$1,"") -> -0.27906977 | L11: =IFERROR(Notes!AT10-L$1,"") -> 0.27829699 | M11: =IFERROR(Notes!AV10-M$1,"") -> 0.68023256 | N11: =IFERROR(Notes!AW10-N$1,"") -> 2.5908333 | O11: =IFERROR(Notes!AX10-O$1,"") -> 1.2969589 | P11: =IFERROR(Notes!AY10-P$1,"") -> 4.4460227 | Q11: =IFERROR(Notes!AZ10-Q$1,"") -> -0.73429952 | R11: =IFERROR(Notes!BA10-R$1,"") -> 2.3977273 | S11: =IFERROR(Notes!BB10-S$1,"") -> 1.8255814
A12: eleve 10 | B12: =Notes!C11 -> 1 | C12: =IFERROR(Notes!P11-C$1,"") -> 3.7222222 | D12: =IFERROR(Notes!U11-D$1,"") -> -0.45185185 | E12: =IFERROR(Notes!AB11-E$1,"") -> 5.6505682 | F12: =IFERROR(Notes!AH11-F$1,"") -> 5.1540698 | G12: =IFERROR(Notes!AJ11-G$1,"") -> 3.2222222 | H12: =IFERROR(Notes!AK11-H$1,"") -> 1.2888889 | I12: =IFERROR(Notes!AL11-I$1,"") -> 1.4636364 | J12: =IFERROR(Notes!AM11-J$1,"") | K12: =IFERROR(Notes!AN11-K$1,"") -> 3.7209302 | L12: =IFERROR(Notes!AT11-L$1,"") -> 3.2689512 | M12: =IFERROR(Notes!AV11-M$1,"") -> 1.4302326 | N12: =IFERROR(Notes!AW11-N$1,"") -> 6.5908333 | O12: =IFERROR(Notes!AX11-O$1,"") -> 2.8354204 | P12: =IFERROR(Notes!AY11-P$1,"") -> 0.69602273 | Q12: =IFERROR(Notes!AZ11-Q$1,"") -> 5.7874396 | R12: =IFERROR(Notes!BA11-R$1,"") -> 4.3977273 | S12: =IFERROR(Notes!BB11-S$1,"")
A13: eleve 11 | B13: =Notes!C12 -> 1 | C13: =IFERROR(Notes!P12-C$1,"") -> -0.84299517 | D13: =IFERROR(Notes!U12-D$1,"") -> -1.7851852 | E13: =IFERROR(Notes!AB12-E$1,"") -> -1.9744318 | F13: =IFERROR(Notes!AH12-F$1,"") -> -1.8459302 | G13: =IFERROR(Notes!AJ12-G$1,"") -> -1.7777778 | H13: =IFERROR(Notes!AK12-H$1,"") -> 1.2888889 | I13: =IFERROR(Notes!AL12-I$1,"") -> -2.9363636 | J13: =IFERROR(Notes!AM12-J$1,"") -> -1.0227273 | K13: =IFERROR(Notes!AN12-K$1,"") -> 2.7209302 | L13: =IFERROR(Notes!AT12-L$1,"") -> 2.8951194 | M13: =IFERROR(Notes!AV12-M$1,"") -> -4.8197674 | N13: =IFERROR(Notes!AW12-N$1,"") -> -3.7425 | O13: =IFERROR(Notes!AX12-O$1,"") -> -0.62611807 | P13: =IFERROR(Notes!AY12-P$1,"") -> -2.1164773 | Q13: =IFERROR(Notes!AZ12-Q$1,"") -> -0.51690821 | R13: =IFERROR(Notes!BA12-R$1,"") -> -0.85227273 | S13: =IFERROR(Notes!BB12-S$1,"") -> -0.1744186
A14: eleve 12 | B14: =Notes!C13 -> 1 | C14: =IFERROR(Notes!P13-C$1,"") -> -0.62560386 | D14: =IFERROR(Notes!U13-D$1,"") -> -2.7851852 | E14: =IFERROR(Notes!AB13-E$1,"") -> -2.3494318 | F14: =IFERROR(Notes!AH13-F$1,"") -> -1.2209302 | G14: =IFERROR(Notes!AJ13-G$1,"") -> -4.7777778 | H14: =IFERROR(Notes!AK13-H$1,"") -> 1.2888889 | I14: =IFERROR(Notes!AL13-I$1,"") -> -5.9363636 | J14: =IFERROR(Notes!AM13-J$1,"") -> -3.0227273 | K14: =IFERROR(Notes!AN13-K$1,"") -> -0.27906977 | L14: =IFERROR(Notes!AT13-L$1,"") -> -0.28245067 | M14: =IFERROR(Notes!AV13-M$1,"") -> 4.9302326 | N14: =IFERROR(Notes!AW13-N$1,"") -> -0.7425 | O14: =IFERROR(Notes!AX13-O$1,"") -> -3.3184258 | P14: =IFERROR(Notes!AY13-P$1,"") -> 0.38352273 | Q14: =IFERROR(Notes!AZ13-Q$1,"") -> 0.57004831 | R14: =IFERROR(Notes!BA13-R$1,"") -> -3.1022727 | S14: =IFERROR(Notes!BB13-S$1,"") -> -0.1744186 | V14: Groupe | W14: (Tous)
A15: eleve 13 | B15: =Notes!C14 -> 2 | C15: =IFERROR(Notes!P14-C$1,"") -> -0.19082126 | D15: =IFERROR(Notes!U14-D$1,"") -> 1.8814815 | E15: =IFERROR(Notes!AB14-E$1,"") -> -1.2244318 | F15: =IFERROR(Notes!AH14-F$1,"") -> 0.15406977 | G15: =IFERROR(Notes!AJ14-G$1,"") -> -0.77777778 | H15: =IFERROR(Notes!AK14-H$1,"") -> 0.28888889 | I15: =IFERROR(Notes!AL14-I$1,"") -> 0.063636364 | J15: =IFERROR(Notes!AM14-J$1,"") -> -0.022727273 | K15: =IFERROR(Notes!AN14-K$1,"") -> -0.27906977 | L15: =IFERROR(Notes!AT14-L$1,"") -> -0.46936656 | M15: =IFERROR(Notes!AV14-M$1,"") -> -0.31976744 | N15: =IFERROR(Notes!AW14-N$1,"") -> -0.075833333 | O15: =IFERROR(Notes!AX14-O$1,"") -> 2.0661896 | P15: =IFERROR(Notes!AY14-P$1,"") -> -2.1164773 | Q15: =IFERROR(Notes!AZ14-Q$1,"") -> -0.95169082 | R15: =IFERROR(Notes!BA14-R$1,"") -> -0.85227273 | S15: =IFERROR(Notes!BB14-S$1,"") -> 5.8255814 | V15: Nom | W15: eleve 4
A16: eleve 14 | B16: =Notes!C15 -> 1 | C16: =IFERROR(Notes!P15-C$1,"") -> -2.2560386 | D16: =IFERROR(Notes!U15-D$1,"") -> 0.54814815 | E16: =IFERROR(Notes!AB15-E$1,"") -> 1.4005682 | F16: =IFERROR(Notes!AH15-F$1,"") -> -1.9709302 | G16: =IFERROR(Notes!AJ15-G$1,"") -> -6.7777778 | H16: =IFERROR(Notes!AK15-H$1,"") -> -2.7111111 | I16: =IFERROR(Notes!AL15-I$1,"") -> -1.9363636 | J16: =IFERROR(Notes!AM15-J$1,"") -> -4.0227273 | K16: =IFERROR(Notes!AN15-K$1,"") -> -3.2790698 | L16: =IFERROR(Notes!AT15-L$1,"") -> -1.7777778 | M16: =IFERROR(Notes!AV15-M$1,"") -> 0.18023256 | N16: =IFERROR(Notes!AW15-N$1,"") -> -1.7425 | O16: =IFERROR(Notes!AX15-O$1,"") -> -4.8568873 | P16: =IFERROR(Notes!AY15-P$1,"") -> 1.6335227 | Q16: =IFERROR(Notes!AZ15-Q$1,"") -> -2.2560386 | R16: =IFERROR(Notes!BA15-R$1,"") -> -0.85227273 | S16: =IFERROR(Notes!BB15-S$1,"") -> -2.1744186
A17: eleve 15 | B17: =Notes!C16 -> 2 | C17: =IFERROR(Notes!P16-C$1,"") -> 1.6570048 | D17: =IFERROR(Notes!U16-D$1,"") -> 2.8814815 | E17: =IFERROR(Notes!AB16-E$1,"") -> 2.4005682 | F17: =IFERROR(Notes!AH16-F$1,"") -> 3.4040698 | G17: =IFERROR(Notes!AJ16-G$1,"") -> 4.2222222 | H17: =IFERROR(Notes!AK16-H$1,"") -> -0.71111111 | I17: =IFERROR(Notes!AL16-I$1,"") -> 1.0636364 | J17: =IFERROR(Notes!AM16-J$1,"") -> 4.9772727 | K17: =IFERROR(Notes!AN16-K$1,"") -> 1.7209302 | L17: =IFERROR(Notes!AT16-L$1,"") -> 0.83904465 | M17: =IFERROR(Notes!AV16-M$1,"") -> 2.9302326 | N17: =IFERROR(Notes!AW16-N$1,"") -> 1.5908333 | O17: =IFERROR(Notes!AX16-O$1,"") -> 2.8354204 | P17: =IFERROR(Notes!AY16-P$1,"") -> 1.6335227 | Q17: =IFERROR(Notes!AZ16-Q$1,"") -> 4.7004831 | R17: =IFERROR(Notes!BA16-R$1,"") -> 3.1477273 | S17: =IFERROR(Notes!BB16-S$1,"") -> -1.6744186 | V17: Valeurs
A18: eleve 16 | B18: =Notes!C17 -> 2 | C18: =IFERROR(Notes!P17-C$1,"") -> 1.5483092 | D18: =IFERROR(Notes!U17-D$1,"") -> 0.21481481 | E18: =IFERROR(Notes!AB17-E$1,"") -> -0.47443182 | F18: =IFERROR(Notes!AH17-F$1,"") -> -2.2209302 | G18: =IFERROR(Notes!AJ17-G$1,"") -> 1.2222222 | H18: =IFERROR(Notes!AK17-H$1,"") -> -0.71111111 | I18: =IFERROR(Notes!AL17-I$1,"") -> -0.93636364 | J18: =IFERROR(Notes!AM17-J$1,"") -> 2.9772727 | K18: =IFERROR(Notes!AN17-K$1,"") -> 0.72093023 | L18: =IFERROR(Notes!AT17-L$1,"") -> -1.7777778 | M18: =IFERROR(Notes!AV17-M$1,"") -> -3.0697674 | N18: =IFERROR(Notes!AW17-N$1,"") -> 2.2575 | O18: =IFERROR(Notes!AX17-O$1,"") -> -1.0107335 | P18: =IFERROR(Notes!AY17-P$1,"") -> -1.8039773 | Q18: =IFERROR(Notes!AZ17-Q$1,"") -> 0.352657 | R18: =IFERROR(Notes!BA17-R$1,"") -> 0.14772727 | S18: =IFERROR(Notes!BB17-S$1,"") -> -0.1744186 | V18: Colle1 | W18: -3.7777778
A19: eleve 17 | B19: =Notes!C18 -> 1 | C19: =IFERROR(Notes!P18-C$1,"") -> 0.1352657 | D19: =IFERROR(Notes!U18-D$1,"") -> 1.2148148 | E19: =IFERROR(Notes!AB18-E$1,"") -> 0.77556818 | F19: =IFERROR(Notes!AH18-F$1,"") -> -1.0959302 | G19: =IFERROR(Notes!AJ18-G$1,"") -> 4.2222222 | H19: =IFERROR(Notes!AK18-H$1,"") -> 0.28888889 | I19: =IFERROR(Notes!AL18-I$1,"") -> 3.0636364 | J19: =IFERROR(Notes!AM18-J$1,"") -> -0.022727273 | K19: =IFERROR(Notes!AN18-K$1,"") -> 3.7209302 | L19: =IFERROR(Notes!AT18-L$1,"") -> 0.27829699 | M19: =IFERROR(Notes!AV18-M$1,"") -> -0.31976744 | N19: =IFERROR(Notes!AW18-N$1,"") -> 0.59083333 | O19: =IFERROR(Notes!AX18-O$1,"") -> 0.52772809 | P19: =IFERROR(Notes!AY18-P$1,"") -> -3.6789773 | Q19: =IFERROR(Notes!AZ18-Q$1,"") -> 0.78743961 | R19: =IFERROR(Notes!BA18-R$1,"") -> 2.3977273 | S19: =IFERROR(Notes!BB18-S$1,"") -> 4.3255814 | V19: Colle2 | W19: -6.7111111
A20: eleve 18 | B20: =Notes!C19 -> 2 | C20: =IFERROR(Notes!P19-C$1,"") -> 2.2004831 | D20: =IFERROR(Notes!U19-D$1,"") -> 3.8814815 | E20: =IFERROR(Notes!AB19-E$1,"") -> 3.9005682 | F20: =IFERROR(Notes!AH19-F$1,"") -> 5.6540698 | G20: =IFERROR(Notes!AJ19-G$1,"") -> 3.2222222 | H20: =IFERROR(Notes!AK19-H$1,"") -> 2.2888889 | I20: =IFERROR(Notes!AL19-I$1,"") -> 2.0636364 | J20: =IFERROR(Notes!AM19-J$1,"") -> -0.022727273 | K20: =IFERROR(Notes!AN19-K$1,"") -> 1.7209302 | L20: =IFERROR(Notes!AT19-L$1,"") -> 4.0166147 | M20: =IFERROR(Notes!AV19-M$1,"") -> -1.3197674 | N20: =IFERROR(Notes!AW19-N$1,"") -> 4.9241667 | O20: =IFERROR(Notes!AX19-O$1,"") -> 1.2969589 | P20: =IFERROR(Notes!AY19-P$1,"") -> 5.3835227 | Q20: =IFERROR(Notes!AZ19-Q$1,"") -> 3.6135266 | R20: =IFERROR(Notes!BA19-R$1,"") -> -0.60227273 | S20: =IFERROR(Notes!BB19-S$1,"") -> 3.3255814 | V20: Colle3
A21: eleve 19 | B21: =Notes!C20 -> 2 | C21: =IFERROR(Notes!P20-C$1,"") -> -0.62560386 | D21: =IFERROR(Notes!U20-D$1,"") -> -1.2851852 | E21: =IFERROR(Notes!AB20-E$1,"") -> 1.9005682 | F21: =IFERROR(Notes!AH20-F$1,"") -> 1.1540698 | G21: =IFERROR(Notes!AJ20-G$1,"") -> 3.2222222 | H21: =IFERROR(Notes!AK20-H$1,"") -> 1.2888889 | I21: =IFERROR(Notes!AL20-I$1,"") -> 2.0636364 | J21: =IFERROR(Notes!AM20-J$1,"") -> 1.9772727 | K21: =IFERROR(Notes!AN20-K$1,"") -> 3.7209302 | L21: =IFERROR(Notes!AT20-L$1,"") -> 1.3997923 | M21: =IFERROR(Notes!AV20-M$1,"") -> -1.3197674 | N21: =IFERROR(Notes!AW20-N$1,"") -> -0.075833333 | O21: =IFERROR(Notes!AX20-O$1,"") -> 0.1431127 | P21: =IFERROR(Notes!AY20-P$1,"") -> 0.071022727 | Q21: =IFERROR(Notes!AZ20-Q$1,"") -> -1.821256 | R21: =IFERROR(Notes!BA20-R$1,"") -> -0.35227273 | S21: =IFERROR(Notes!BB20-S$1,"") -> 1.8255814 | V21: Colle4 | W21: -3.0227273
A22: eleve 20 | B22: =Notes!C21 -> 2 | C22: =IFERROR(Notes!P21-C$1,"") -> -1.4951691 | D22: =IFERROR(Notes!U21-D$1,"") -> -2.2851852 | E22: =IFERROR(Notes!AB21-E$1,"") -> 1.5255682 | F22: =IFERROR(Notes!AH21-F$1,"") -> -2.4709302 | G22: =IFERROR(Notes!AJ21-G$1,"") -> 3.2222222 | H22: =IFERROR(Notes!AK21-H$1,"") -> 0.28888889 | I22: =IFERROR(Notes!AL21-I$1,"") -> 3.0636364 | J22: =IFERROR(Notes!AM21-J$1,"") -> 2.9772727 | K22: =IFERROR(Notes!AN21-K$1,"") -> -3.2790698 | L22: =IFERROR(Notes!AT21-L$1,"") -> -2.7123572 | M22: =IFERROR(Notes!AV21-M$1,"") -> 0.93023256 | N22: =IFERROR(Notes!AW21-N$1,"") -> -2.4091667 | O22: =IFERROR(Notes!AX21-O$1,"") -> -1.0107335 | P22: =IFERROR(Notes!AY21-P$1,"") -> -1.4914773 | Q22: =IFERROR(Notes!AZ21-Q$1,"") -> -1.821256 | R22: =IFERROR(Notes!BA21-R$1,"") -> -3.8522727 | S22: =IFERROR(Notes!BB21-S$1,"") -> -6.6744186 | V22: Colle5
A23: eleve 21 | B23: =Notes!C22 -> 2 | C23: =IFERROR(Notes!P22-C$1,"") -> 0.24396135 | D23: =IFERROR(Notes!U22-D$1,"") -> 2.5481481 | E23: =IFERROR(Notes!AB22-E$1,"") -> 1.0255682 | F23: =IFERROR(Notes!AH22-F$1,"") -> 0.65406977 | G23: =IFERROR(Notes!AJ22-G$1,"") -> -5.7777778 | H23: =IFERROR(Notes!AK22-H$1,"") -> -2.7111111 | I23: =IFERROR(Notes!AL22-I$1,"") -> -0.93636364 | J23: =IFERROR(Notes!AM22-J$1,"") -> -0.022727273 | K23: =IFERROR(Notes!AN22-K$1,"") -> 2.7209302 | L23: =IFERROR(Notes!AT22-L$1,"") -> -0.84319834 | M23: =IFERROR(Notes!AV22-M$1,"") -> 0.43023256 | N23: =IFERROR(Notes!AW22-N$1,"") -> 2.9241667 | O23: =IFERROR(Notes!AX22-O$1,"") -> -2.1645796 | P23: =IFERROR(Notes!AY22-P$1,"") -> -1.1789773 | Q23: =IFERROR(Notes!AZ22-Q$1,"") -> -2.9082126 | R23: =IFERROR(Notes!BA22-R$1,"") -> 1.6477273 | S23: =IFERROR(Notes!BB22-S$1,"") -> -0.6744186 | AG23: Souci!?
A24: eleve 22 | B24: =Notes!C23 -> 1 | C24: =IFERROR(Notes!P23-C$1,"") -> 0.67874396 | D24: =IFERROR(Notes!U23-D$1,"") -> -0.61851852 | E24: =IFERROR(Notes!AB23-E$1,"") | F24: =IFERROR(Notes!AH23-F$1,"") | G24: =IFERROR(Notes!AJ23-G$1,"") -> 2.2222222 | H24: =IFERROR(Notes!AK23-H$1,"") -> 2.2888889 | I24: =IFERROR(Notes!AL23-I$1,"") -> -1.9363636 | J24: =IFERROR(Notes!AM23-J$1,"") -> -2.0227273 | K24: =IFERROR(Notes!AN23-K$1,"") | L24: =IFERROR(Notes!AT23-L$1,"") -> -4.5815161 | M24: =IFERROR(Notes!AV23-M$1,"") | N24: =IFERROR(Notes!AW23-N$1,"") -> -5.7425 | O24: =IFERROR(Notes!AX23-O$1,"") | P24: =IFERROR(Notes!AY23-P$1,"") | Q24: =IFERROR(Notes!AZ23-Q$1,"") -> -5.9516908 | R24: =IFERROR(Notes!BA23-R$1,"") -> -1.3522727 | S24: =IFERROR(Notes!BB23-S$1,"") -> -1.1744186
A25: eleve 23 | B25: =Notes!C24 -> 2 | C25: =IFERROR(Notes!P24-C$1,"") -> 3.8309179 | D25: =IFERROR(Notes!U24-D$1,"") -> 3.8814815 | E25: =IFERROR(Notes!AB24-E$1,"") -> 5.4005682 | F25: =IFERROR(Notes!AH24-F$1,"") -> 3.6540698 | G25: =IFERROR(Notes!AJ24-G$1,"") -> 3.2222222 | H25: =IFERROR(Notes!AK24-H$1,"") -> 4.2888889 | I25: =IFERROR(Notes!AL24-I$1,"") -> -1.9363636 | J25: =IFERROR(Notes!AM24-J$1,"") -> -1.0227273 | K25: =IFERROR(Notes!AN24-K$1,"") -> 0.72093023 | L25: =IFERROR(Notes!AT24-L$1,"") -> 1.3997923 | M25: =IFERROR(Notes!AV24-M$1,"") -> 4.1802326 | N25: =IFERROR(Notes!AW24-N$1,"") -> 1.9241667 | O25: =IFERROR(Notes!AX24-O$1,"") -> 5.5277281 | P25: =IFERROR(Notes!AY24-P$1,"") -> 4.1335227 | Q25: =IFERROR(Notes!AZ24-Q$1,"") -> -0.51690821 | R25: =IFERROR(Notes!BA24-R$1,"") -> 4.1477273 | S25: =IFERROR(Notes!BB24-S$1,"") -> 2.3255814
A26: eleve 24 | B26: =Notes!C25 -> 2 | C26: =IFERROR(Notes!P25-C$1,"") -> -2.0386473 | D26: =IFERROR(Notes!U25-D$1,"") -> -3.7851852 | E26: =IFERROR(Notes!AB25-E$1,"") -> -5.8494318 | F26: =IFERROR(Notes!AH25-F$1,"") -> -4.0959302 | G26: =IFERROR(Notes!AJ25-G$1,"") -> 0.22222222 | H26: =IFERROR(Notes!AK25-H$1,"") -> 1.2888889 | I26: =IFERROR(Notes!AL25-I$1,"") -> -1.9363636 | J26: =IFERROR(Notes!AM25-J$1,"") -> -4.0227273 | K26: =IFERROR(Notes!AN25-K$1,"") -> -0.27906977 | L26: =IFERROR(Notes!AT25-L$1,"") -> 0.46521288 | M26: =IFERROR(Notes!AV25-M$1,"") -> -4.3197674 | N26: =IFERROR(Notes!AW25-N$1,"") -> 0.92416667 | O26: =IFERROR(Notes!AX25-O$1,"") -> -5.2415027 | P26: =IFERROR(Notes!AY25-P$1,"") -> -1.8039773 | Q26: =IFERROR(Notes!AZ25-Q$1,"") -> -2.0386473 | R26: =IFERROR(Notes!BA25-R$1,"") -> 0.14772727 | S26: =IFERROR(Notes!BB25-S$1,"") -> -3.1744186
A27: eleve 25 | B27: =Notes!C26 -> 2 | C27: =IFERROR(Notes!P26-C$1,"") -> 1.8743961 | D27: =IFERROR(Notes!U26-D$1,"") -> 1.8814815 | E27: =IFERROR(Notes!AB26-E$1,"") -> 0.27556818 | F27: =IFERROR(Notes!AH26-F$1,"") -> 2.4040698 | G27: =IFERROR(Notes!AJ26-G$1,"") -> 0.22222222 | H27: =IFERROR(Notes!AK26-H$1,"") -> 2.2888889 | I27: =IFERROR(Notes!AL26-I$1,"") -> 5.0636364 | J27: =IFERROR(Notes!AM26-J$1,"") -> -0.022727273 | K27: =IFERROR(Notes!AN26-K$1,"") -> -0.27906977 | L27: =IFERROR(Notes!AT26-L$1,"") -> 1.96054 | M27: =IFERROR(Notes!AV26-M$1,"") -> 5.4302326 | N27: =IFERROR(Notes!AW26-N$1,"") -> -1.0758333 | O27: =IFERROR(Notes!AX26-O$1,"") -> -0.62611807 | P27: =IFERROR(Notes!AY26-P$1,"") -> 1.0085227 | Q27: =IFERROR(Notes!AZ26-Q$1,"") -> 5.1352657 | R27: =IFERROR(Notes!BA26-R$1,"") -> 3.1477273 | S27: =IFERROR(Notes!BB26-S$1,"") -> -0.1744186
A28: eleve 26 | B28: =Notes!C27 -> 1 | C28: =IFERROR(Notes!P27-C$1,"") -> -1.6038647 | D28: =IFERROR(Notes!U27-D$1,"") -> 1.0481481 | E28: =IFERROR(Notes!AB27-E$1,"") -> -3.3494318 | F28: =IFERROR(Notes!AH27-F$1,"") -> -2.2209302 | G28: =IFERROR(Notes!AJ27-G$1,"") -> 1.2222222 | H28: =IFERROR(Notes!AK27-H$1,"") -> 1.2888889 | I28: =IFERROR(Notes!AL27-I$1,"") -> -3.9363636 | J28: =IFERROR(Notes!AM27-J$1,"") -> -0.022727273 | K28: =IFERROR(Notes!AN27-K$1,"") -> -0.27906977 | L28: =IFERROR(Notes!AT27-L$1,"") -> 0.46521288 | M28: =IFERROR(Notes!AV27-M$1,"") -> -0.56976744 | N28: =IFERROR(Notes!AW27-N$1,"") -> 3.5908333 | O28: =IFERROR(Notes!AX27-O$1,"") -> 3.9892665 | P28: =IFERROR(Notes!AY27-P$1,"") -> 1.3210227 | Q28: =IFERROR(Notes!AZ27-Q$1,"") -> 3.8309179 | R28: =IFERROR(Notes!BA27-R$1,"") -> 1.3977273 | S28: =IFERROR(Notes!BB27-S$1,"") -> 1.3255814 | V28: Groupe | W28: (Tous)
A29: eleve 27 | B29: =Notes!C28 -> 2 | C29: =IFERROR(Notes!P28-C$1,"") -> -0.40821256 | D29: =IFERROR(Notes!U28-D$1,"") -> -0.61851852 | E29: =IFERROR(Notes!AB28-E$1,"") -> 3.1505682 | F29: =IFERROR(Notes!AH28-F$1,"") -> -1.9709302 | G29: =IFERROR(Notes!AJ28-G$1,"") -> 1.2222222 | H29: =IFERROR(Notes!AK28-H$1,"") -> 2.2888889 | I29: =IFERROR(Notes!AL28-I$1,"") -> -5.9363636 | J29: =IFERROR(Notes!AM28-J$1,"") -> 1.9772727 | K29: =IFERROR(Notes!AN28-K$1,"") -> 0.72093023 | L29: =IFERROR(Notes!AT28-L$1,"") -> 0.65212876 | M29: =IFERROR(Notes!AV28-M$1,"") -> -1.8197674 | N29: =IFERROR(Notes!AW28-N$1,"") -> -2.4091667 | O29: =IFERROR(Notes!AX28-O$1,"") -> -3.3184258 | P29: =IFERROR(Notes!AY28-P$1,"") -> -2.4289773 | Q29: =IFERROR(Notes!AZ28-Q$1,"") -> -3.9951691 | R29: =IFERROR(Notes!BA28-R$1,"") -> 4.1477273 | S29: =IFERROR(Notes!BB28-S$1,"") -> 3.3255814 | V29: Nom | W29: eleve 4
A30: eleve 28 | B30: =Notes!C29 -> 1 | C30: =IFERROR(Notes!P29-C$1,"") -> -2.3647343 | D30: =IFERROR(Notes!U29-D$1,"") -> -5.9518519 | E30: =IFERROR(Notes!AB29-E$1,"") -> -0.72443182 | F30: =IFERROR(Notes!AH29-F$1,"") -> -4.7209302 | G30: =IFERROR(Notes!AJ29-G$1,"") -> -3.7777778 | H30: =IFERROR(Notes!AK29-H$1,"") -> 0.28888889 | I30: =IFERROR(Notes!AL29-I$1,"") -> -4.9363636 | J30: =IFERROR(Notes!AM29-J$1,"") -> -1.0227273 | K30: =IFERROR(Notes!AN29-K$1,"") -> -3.2790698 | L30: =IFERROR(Notes!AT29-L$1,"") -> -4.5815161 | M30: =IFERROR(Notes!AV29-M$1,"") -> -2.5697674 | N30: =IFERROR(Notes!AW29-N$1,"") -> -1.0758333 | O30: =IFERROR(Notes!AX29-O$1,"") -> -1.0107335 | P30: =IFERROR(Notes!AY29-P$1,"") -> -4.6164773 | Q30: =IFERROR(Notes!AZ29-Q$1,"") -> -4.2125604 | R30: =IFERROR(Notes!BA29-R$1,"") -> -2.1022727 | S30: =IFERROR(Notes!BB29-S$1,"") -> -3.1744186
A31: eleve 29 | B31: =Notes!C30 -> 2 | C31: =IFERROR(Notes!P30-C$1,"") -> -1.6038647 | D31: =IFERROR(Notes!U30-D$1,"") -> -1.2851852 | E31: =IFERROR(Notes!AB30-E$1,"") -> 0.27556818 | F31: =IFERROR(Notes!AH30-F$1,"") -> 2.5290698 | G31: =IFERROR(Notes!AJ30-G$1,"") -> 1.2222222 | H31: =IFERROR(Notes!AK30-H$1,"") -> 0.28888889 | I31: =IFERROR(Notes!AL30-I$1,"") -> 2.0636364 | J31: =IFERROR(Notes!AM30-J$1,"") -> -3.0227273 | K31: =IFERROR(Notes!AN30-K$1,"") -> -1.2790698 | L31: =IFERROR(Notes!AT30-L$1,"") -> 0.091381101 | M31: =IFERROR(Notes!AV30-M$1,"") -> 3.1802326 | N31: =IFERROR(Notes!AW30-N$1,"") -> 0.2575 | O31: =IFERROR(Notes!AX30-O$1,"") -> 2.8354204 | P31: =IFERROR(Notes!AY30-P$1,"") -> 2.8835227 | Q31: =IFERROR(Notes!AZ30-Q$1,"") -> 3.6135266 | R31: =IFERROR(Notes!BA30-R$1,"") -> 2.1477273 | S31: =IFERROR(Notes!BB30-S$1,"") -> 1.8255814 | V31: Valeurs
A32: eleve 30 | B32: =Notes!C31 -> 1 | C32: =IFERROR(Notes!P31-C$1,"") -> -0.62560386 | D32: =IFERROR(Notes!U31-D$1,"") -> 0.54814815 | E32: =IFERROR(Notes!AB31-E$1,"") -> -4.2244318 | F32: =IFERROR(Notes!AH31-F$1,"") -> 0.52906977 | G32: =IFERROR(Notes!AJ31-G$1,"") -> -3.7777778 | H32: =IFERROR(Notes!AK31-H$1,"") -> 1.2888889 | I32: =IFERROR(Notes!AL31-I$1,"") -> -1.9363636 | J32: =IFERROR(Notes!AM31-J$1,"") -> -0.022727273 | K32: =IFERROR(Notes!AN31-K$1,"") -> -0.27906977 | L32: =IFERROR(Notes!AT31-L$1,"") -> -2.5254413 | M32: =IFERROR(Notes!AV31-M$1,"") -> 0.43023256 | N32: =IFERROR(Notes!AW31-N$1,"") -> 5.9241667 | O32: =IFERROR(Notes!AX31-O$1,"") -> -1.7799642 | P32: =IFERROR(Notes!AY31-P$1,"") -> -0.24147727 | Q32: =IFERROR(Notes!AZ31-Q$1,"") -> 2.3091787 | R32: =IFERROR(Notes!BA31-R$1,"") -> 0.39772727 | S32: =IFERROR(Notes!BB31-S$1,"") -> -4.6744186 | V32: IE0 | W32: -5.5160955
A33: eleve 31 | B33: =Notes!C32 -> 2 | C33: =IFERROR(Notes!P32-C$1,"") -> 4.2657005 | D33: =IFERROR(Notes!U32-D$1,"") -> 4.0481481 | E33: =IFERROR(Notes!AB32-E$1,"") -> 4.4005682 | F33: =IFERROR(Notes!AH32-F$1,"") -> 5.9040698 | G33: =IFERROR(Notes!AJ32-G$1,"") -> 2.2222222 | H33: =IFERROR(Notes!AK32-H$1,"") -> 0.28888889 | I33: =IFERROR(Notes!AL32-I$1,"") -> 4.0636364 | J33: =IFERROR(Notes!AM32-J$1,"") -> 2.9772727 | K33: =IFERROR(Notes!AN32-K$1,"") -> 3.7209302 | L33: =IFERROR(Notes!AT32-L$1,"") -> 3.4558671 | M33: =IFERROR(Notes!AV32-M$1,"") -> 5.6802326 | N33: =IFERROR(Notes!AW32-N$1,"") -> 4.2575 | O33: =IFERROR(Notes!AX32-O$1,"") -> 3.9892665 | P33: =IFERROR(Notes!AY32-P$1,"") -> 2.5710227 | Q33: =IFERROR(Notes!AZ32-Q$1,"") -> 4.9178744 | R33: =IFERROR(Notes!BA32-R$1,"") -> 3.6477273 | S33: =IFERROR(Notes!BB32-S$1,"") -> 5.3255814 | V33: IE2
A34: eleve 32 | B34: =Notes!C33 -> 2 | C34: =IFERROR(Notes!P33-C$1,"") -> 1.0048309 | D34: =IFERROR(Notes!U33-D$1,"") -> 0.048148148 | E34: =IFERROR(Notes!AB33-E$1,"") -> 1.4005682 | F34: =IFERROR(Notes!AH33-F$1,"") -> 0.40406977 | G34: =IFERROR(Notes!AJ33-G$1,"") -> -1.7777778 | H34: =IFERROR(Notes!AK33-H$1,"") -> 1.2888889 | I34: =IFERROR(Notes!AL33-I$1,"") -> 3.0636364 | J34: =IFERROR(Notes!AM33-J$1,"") -> 2.9772727 | K34: =IFERROR(Notes!AN33-K$1,"") -> 0.72093023 | L34: =IFERROR(Notes!AT33-L$1,"") -> 1.7736241 | M34: =IFERROR(Notes!AV33-M$1,"") -> 2.4302326 | N34: =IFERROR(Notes!AW33-N$1,"") -> -8.0758333 | O34: =IFERROR(Notes!AX33-O$1,"") -> 3.9892665 | P34: =IFERROR(Notes!AY33-P$1,"") -> 0.38352273 | Q34: =IFERROR(Notes!AZ33-Q$1,"") -> -1.6038647 | R34: =IFERROR(Notes!BA33-R$1,"") -> -1.1022727 | S34: =IFERROR(Notes!BB33-S$1,"") -> -2.6744186 | V34: IE3
A35: eleve 33 | B35: =Notes!C34 -> 1 | C35: =IFERROR(Notes!P34-C$1,"") -> -0.19082126 | D35: =IFERROR(Notes!U34-D$1,"") -> -0.11851852 | E35: =IFERROR(Notes!AB34-E$1,"") -> -0.72443182 | F35: =IFERROR(Notes!AH34-F$1,"") -> -0.97093023 | G35: =IFERROR(Notes!AJ34-G$1,"") -> -0.77777778 | H35: =IFERROR(Notes!AK34-H$1,"") -> 0.28888889 | I35: =IFERROR(Notes!AL34-I$1,"") -> 1.0636364 | J35: =IFERROR(Notes!AM34-J$1,"") -> -4.0227273 | K35: =IFERROR(Notes!AN34-K$1,"") -> -3.2790698 | L35: =IFERROR(Notes!AT34-L$1,"") -> -1.403946 | M35: =IFERROR(Notes!AV34-M$1,"") -> 5.9302326 | N35: =IFERROR(Notes!AW34-N$1,"") -> 2.5908333 | O35: =IFERROR(Notes!AX34-O$1,"") -> 0.91234347 | P35: =IFERROR(Notes!AY34-P$1,"") -> -1.8039773 | Q35: =IFERROR(Notes!AZ34-Q$1,"") -> 0.57004831 | R35: =IFERROR(Notes!BA34-R$1,"") -> 0.64772727 | S35: =IFERROR(Notes!BB34-S$1,"") -> 4.8255814 | V35: IE4 | W35: -6.0107335
A36: eleve 34 | B36: =Notes!C35 -> 1 | C36: =IFERROR(Notes!P35-C$1,"") -> 0.57004831 | D36: =IFERROR(Notes!U35-D$1,"") -> -0.45185185 | E36: =IFERROR(Notes!AB35-E$1,"") -> 0.40056818 | F36: =IFERROR(Notes!AH35-F$1,"") -> 0.65406977 | G36: =IFERROR(Notes!AJ35-G$1,"") -> -0.77777778 | H36: =IFERROR(Notes!AK35-H$1,"") -> 0.28888889 | I36: =IFERROR(Notes!AL35-I$1,"") -> -3.9363636 | J36: =IFERROR(Notes!AM35-J$1,"") -> 2.9772727 | K36: =IFERROR(Notes!AN35-K$1,"") -> -3.2790698 | L36: =IFERROR(Notes!AT35-L$1,"") -> 1.3997923 | M36: =IFERROR(Notes!AV35-M$1,"") -> -1.8197674 | N36: =IFERROR(Notes!AW35-N$1,"") -> -1.7425 | O36: =IFERROR(Notes!AX35-O$1,"") -> 1.6815742 | P36: =IFERROR(Notes!AY35-P$1,"") -> -1.1789773 | Q36: =IFERROR(Notes!AZ35-Q$1,"") -> 2.3091787 | R36: =IFERROR(Notes!BA35-R$1,"") -> 2.8977273 | S36: =IFERROR(Notes!BB35-S$1,"") -> -2.6744186 | V36: IE5 | W36: -5.2414773
A37: eleve 35 | B37: =Notes!C36 -> 1 | C37: =IFERROR(Notes!P36-C$1,"") -> -1.3864734 | D37: =IFERROR(Notes!U36-D$1,"") -> 2.8814815 | E37: =IFERROR(Notes!AB36-E$1,"") -> 2.0255682 | F37: =IFERROR(Notes!AH36-F$1,"") -> 0.52906977 | G37: =IFERROR(Notes!AJ36-G$1,"") -> 1.2222222 | H37: =IFERROR(Notes!AK36-H$1,"") -> 0.28888889 | I37: =IFERROR(Notes!AL36-I$1,"") -> -0.93636364 | J37: =IFERROR(Notes!AM36-J$1,"") -> -0.022727273 | K37: =IFERROR(Notes!AN36-K$1,"") -> -0.27906977 | L37: =IFERROR(Notes!AT36-L$1,"") -> -1.0301142 | M37: =IFERROR(Notes!AV36-M$1,"") -> 1.9302326 | N37: =IFERROR(Notes!AW36-N$1,"") -> -3.4091667 | O37: =IFERROR(Notes!AX36-O$1,"") -> 1.2969589 | P37: =IFERROR(Notes!AY36-P$1,"") -> 3.1960227 | Q37: =IFERROR(Notes!AZ36-Q$1,"") -> 1.2222222 | R37: =IFERROR(Notes!BA36-R$1,"") -> -5.8522727 | S37: =IFERROR(Notes!BB36-S$1,"") -> 2.3255814 | V37: IE6 | W37: 0.1352657
A38: eleve 36 | B38: =Notes!C37 -> 2 | C38: =IFERROR(Notes!P37-C$1,"") -> -1.4951691 | D38: =IFERROR(Notes!U37-D$1,"") -> -3.9518519 | E38: =IFERROR(Notes!AB37-E$1,"") -> -0.97443182 | F38: =IFERROR(Notes!AH37-F$1,"") -> -1.0959302 | G38: =IFERROR(Notes!AJ37-G$1,"") -> -2.7777778 | H38: =IFERROR(Notes!AK37-H$1,"") -> -2.7111111 | I38: =IFERROR(Notes!AL37-I$1,"") -> 1.0636364 | J38: =IFERROR(Notes!AM37-J$1,"") -> -1.0227273 | K38: =IFERROR(Notes!AN37-K$1,"") -> 1.7209302 | L38: =IFERROR(Notes!AT37-L$1,"") -> -1.7777778 | M38: =IFERROR(Notes!AV37-M$1,"") -> -1.0697674 | N38: =IFERROR(Notes!AW37-N$1,"") -> 1.2575 | O38: =IFERROR(Notes!AX37-O$1,"") -> 0.91234347 | P38: =IFERROR(Notes!AY37-P$1,"") -> 0.071022727 | Q38: =IFERROR(Notes!AZ37-Q$1,"") -> -2.47343 | R38: =IFERROR(Notes!BA37-R$1,"") -> 1.1477273 | S38: =IFERROR(Notes!BB37-S$1,"") -> 0.3255814 | V38: IE7 | W38: -4.6022727
A39: eleve 37 | B39: =Notes!C38 -> 1 | C39: =IFERROR(Notes!P38-C$1,"") -> -2.47343 | D39: =IFERROR(Notes!U38-D$1,"") -> 0.38148148 | E39: =IFERROR(Notes!AB38-E$1,"") -> 0.52556818 | F39: =IFERROR(Notes!AH38-F$1,"") -> -0.22093023 | G39: =IFERROR(Notes!AJ38-G$1,"") -> -0.77777778 | H39: =IFERROR(Notes!AK38-H$1,"") -> -5.7111111 | I39: =IFERROR(Notes!AL38-I$1,"") -> -1.9363636 | J39: =IFERROR(Notes!AM38-J$1,"") -> 1.9772727 | K39: =IFERROR(Notes!AN38-K$1,"") -> -2.2790698 | L39: =IFERROR(Notes!AT38-L$1,"") -> 1.5867082 | M39: =IFERROR(Notes!AV38-M$1,"") -> -3.3197674 | N39: =IFERROR(Notes!AW38-N$1,"") -> -0.40916667 | O39: =IFERROR(Notes!AX38-O$1,"") -> 2.450805 | P39: =IFERROR(Notes!AY38-P$1,"") -> 1.0085227 | Q39: =IFERROR(Notes!AZ38-Q$1,"") -> -1.821256 | R39: =IFERROR(Notes!BA38-R$1,"") -> -2.1022727 | S39: =IFERROR(Notes!BB38-S$1,"") -> -3.1744186 | V39: IE7bis
A40: eleve 38 | B40: =Notes!C39 -> 2 | C40: =IFERROR(Notes!P39-C$1,"") -> -2.147343 | D40: =IFERROR(Notes!U39-D$1,"") -> -3.4518519 | E40: =IFERROR(Notes!AB39-E$1,"") -> -2.3494318 | F40: =IFERROR(Notes!AH39-F$1,"") -> -4.3459302 | G40: =IFERROR(Notes!AJ39-G$1,"") -> 2.2222222 | H40: =IFERROR(Notes!AK39-H$1,"") -> 0.28888889 | I40: =IFERROR(Notes!AL39-I$1,"") -> 2.0636364 | J40: =IFERROR(Notes!AM39-J$1,"") -> 2.9772727 | K40: =IFERROR(Notes!AN39-K$1,"") -> -3.2790698 | L40: =IFERROR(Notes!AT39-L$1,"") -> -3.4600208 | M40: =IFERROR(Notes!AV39-M$1,"") -> -2.8197674 | N40: =IFERROR(Notes!AW39-N$1,"") -> -3.7425 | O40: =IFERROR(Notes!AX39-O$1,"") -> -4.0876565 | P40: =IFERROR(Notes!AY39-P$1,"") -> 2.2585227 | Q40: =IFERROR(Notes!AZ39-Q$1,"") -> 0.78743961 | R40: =IFERROR(Notes!BA39-R$1,"") -> -3.3522727 | S40: =IFERROR(Notes!BB39-S$1,"") -> -1.6744186
A41: eleve 39 | B41: =Notes!C40 -> 2 | C41: =IFERROR(Notes!P40-C$1,"") -> -2.0386473 | D41: =IFERROR(Notes!U40-D$1,"") -> -1.2851852 | E41: =IFERROR(Notes!AB40-E$1,"") -> -2.9744318 | F41: =IFERROR(Notes!AH40-F$1,"") -> -3.0959302 | G41: =IFERROR(Notes!AJ40-G$1,"") -> -4.7777778 | H41: =IFERROR(Notes!AK40-H$1,"") -> -0.71111111 | I41: =IFERROR(Notes!AL40-I$1,"") -> -6.9363636 | J41: =IFERROR(Notes!AM40-J$1,"") -> -1.0227273 | K41: =IFERROR(Notes!AN40-K$1,"") -> -5.2790698 | L41: =IFERROR(Notes!AT40-L$1,"") -> 3.0820353 | M41: =IFERROR(Notes!AV40-M$1,"") -> -2.8197674 | N41: =IFERROR(Notes!AW40-N$1,"") -> -3.0758333 | O41: =IFERROR(Notes!AX40-O$1,"") -> -1.7799642 | P41: =IFERROR(Notes!AY40-P$1,"") -> 0.071022727 | Q41: =IFERROR(Notes!AZ40-Q$1,"") -> -4.8647343 | R41: =IFERROR(Notes!BA40-R$1,"") -> -0.35227273 | S41: =IFERROR(Notes!BB40-S$1,"") -> -9.1744186
A42: eleve 40 | B42: =Notes!C41 -> 2 | C42: =IFERROR(Notes!P41-C$1,"") -> -3.0169082 | D42: =IFERROR(Notes!U41-D$1,"") -> -1.6185185 | E42: =IFERROR(Notes!AB41-E$1,"") -> -2.5994318 | F42: =IFERROR(Notes!AH41-F$1,"") -> -3.2209302 | G42: =IFERROR(Notes!AJ41-G$1,"") -> -1.7777778 | H42: =IFERROR(Notes!AK41-H$1,"") -> 0.28888889 | I42: =IFERROR(Notes!AL41-I$1,"") -> 1.0636364 | J42: =IFERROR(Notes!AM41-J$1,"") -> -0.022727273 | K42: =IFERROR(Notes!AN41-K$1,"") -> -0.27906977 | L42: =IFERROR(Notes!AT41-L$1,"") -> 0.46521288 | M42: =IFERROR(Notes!AV41-M$1,"") -> -3.5697674 | N42: =IFERROR(Notes!AW41-N$1,"") -> -3.7425 | O42: =IFERROR(Notes!AX41-O$1,"") -> -4.4722719 | P42: =IFERROR(Notes!AY41-P$1,"") -> -2.7414773 | Q42: =IFERROR(Notes!AZ41-Q$1,"") -> -2.47343 | R42: =IFERROR(Notes!BA41-R$1,"") -> -1.6022727 | S42: =IFERROR(Notes!BB41-S$1,"") -> -6.6744186
A43: eleve 41 | B43: =Notes!C42 -> 1 | C43: =IFERROR(Notes!P42-C$1,"") -> -0.29951691 | D43: =IFERROR(Notes!U42-D$1,"") -> -1.7851852 | E43: =IFERROR(Notes!AB42-E$1,"") -> 1.5255682 | F43: =IFERROR(Notes!AH42-F$1,"") -> -0.72093023 | G43: =IFERROR(Notes!AJ42-G$1,"") -> -1.7777778 | H43: =IFERROR(Notes!AK42-H$1,"") -> -4.7111111 | I43: =IFERROR(Notes!AL42-I$1,"") -> -1.9363636 | J43: =IFERROR(Notes!AM42-J$1,"") -> -1.0227273 | K43: =IFERROR(Notes!AN42-K$1,"") -> -1.2790698 | L43: =IFERROR(Notes!AT42-L$1,"") -> 3.2689512 | M43: =IFERROR(Notes!AV42-M$1,"") -> -5.3197674 | N43: =IFERROR(Notes!AW42-N$1,"") -> -1.4091667 | O43: =IFERROR(Notes!AX42-O$1,"") -> -1.7799642 | P43: =IFERROR(Notes!AY42-P$1,"") -> -2.7414773 | Q43: =IFERROR(Notes!AZ42-Q$1,"") -> 2.0917874 | R43: =IFERROR(Notes!BA42-R$1,"") -> 1.8977273 | S43: =IFERROR(Notes!BB42-S$1,"") -> -1.1744186
A44: eleve 42 | B44: =Notes!C43 -> 1 | C44: =IFERROR(Notes!P43-C$1,"") -> 4.4830918 | D44: =IFERROR(Notes!U43-D$1,"") -> 4.3814815 | E44: =IFERROR(Notes!AB43-E$1,"") -> 3.7755682 | F44: =IFERROR(Notes!AH43-F$1,"") -> 5.5290698 | G44: =IFERROR(Notes!AJ43-G$1,"") -> 2.2222222 | H44: =IFERROR(Notes!AK43-H$1,"") -> -1.7111111 | I44: =IFERROR(Notes!AL43-I$1,"") -> 0.063636364 | J44: =IFERROR(Notes!AM43-J$1,"") -> 1.9772727 | K44: =IFERROR(Notes!AN43-K$1,"") -> 1.7209302 | L44: =IFERROR(Notes!AT43-L$1,"") -> 2.1474559 | M44: =IFERROR(Notes!AV43-M$1,"") -> 4.6802326 | N44: =IFERROR(Notes!AW43-N$1,"") -> 2.5941667 | O44: =IFERROR(Notes!AX43-O$1,"") -> 0.91234347 | P44: =IFERROR(Notes!AY43-P$1,"") -> 4.1335227 | Q44: =IFERROR(Notes!AZ43-Q$1,"") -> 0.352657 | R44: =IFERROR(Notes!BA43-R$1,"") | S44: =IFERROR(Notes!BB43-S$1,"") -> 3.8255814
A45: eleve 43 | B45: =Notes!C44 -> 1 | C45: =IFERROR(Notes!P44-C$1,"") -> 2.7439614 | D45: =IFERROR(Notes!U44-D$1,"") -> 4.0481481 | E45: =IFERROR(Notes!AB44-E$1,"") -> 5.5255682 | F45: =IFERROR(Notes!AH44-F$1,"") -> 5.7790698 | G45: =IFERROR(Notes!AJ44-G$1,"") -> -3.7777778 | H45: =IFERROR(Notes!AK44-H$1,"") -> 3.2888889 | I45: =IFERROR(Notes!AL44-I$1,"") -> 4.0636364 | J45: =IFERROR(Notes!AM44-J$1,"") -> 0.97727273 | K45: =IFERROR(Notes!AN44-K$1,"") -> -1.2790698 | L45: =IFERROR(Notes!AT44-L$1,"") -> 1.0259605 | M45: =IFERROR(Notes!AV44-M$1,"") -> 3.1802326 | N45: =IFERROR(Notes!AW44-N$1,"") -> 2.2575 | O45: =IFERROR(Notes!AX44-O$1,"") -> 5.5277281 | P45: =IFERROR(Notes!AY44-P$1,"") -> 3.1960227 | Q45: =IFERROR(Notes!AZ44-Q$1,"") -> 1.8743961 | R45: =IFERROR(Notes!BA44-R$1,"") -> 3.8977273 | S45: =IFERROR(Notes!BB44-S$1,"") -> 4.8255814
A46: eleve 44 | B46: =Notes!C45 -> 2 | C46: =IFERROR(Notes!P45-C$1,"") -> 2.6352657 | D46: =IFERROR(Notes!U45-D$1,"") -> -2.2851852 | E46: =IFERROR(Notes!AB45-E$1,"") -> -1.7244318 | F46: =IFERROR(Notes!AH45-F$1,"") -> 1.0290698 | G46: =IFERROR(Notes!AJ45-G$1,"") -> -0.77777778 | H46: =IFERROR(Notes!AK45-H$1,"") -> 3.2888889 | I46: =IFERROR(Notes!AL45-I$1,"") -> 0.063636364 | J46: =IFERROR(Notes!AM45-J$1,"") -> -2.0227273 | K46: =IFERROR(Notes!AN45-K$1,"") -> 2.7209302 | L46: =IFERROR(Notes!AT45-L$1,"") -> -1.5908619 | M46: =IFERROR(Notes!AV45-M$1,"") -> -0.56976744 | N46: =IFERROR(Notes!AW45-N$1,"") -> 0.59083333 | O46: =IFERROR(Notes!AX45-O$1,"") -> 3.2200358 | P46: =IFERROR(Notes!AY45-P$1,"") -> 0.69602273 | Q46: =IFERROR(Notes!AZ45-Q$1,"") -> 5.7874396 | R46: =IFERROR(Notes!BA45-R$1,"") -> 1.1477273 | S46: =IFERROR(Notes!BB45-S$1,"") -> 4.3255814
A47: eleve 45 | B47: =Notes!C46 -> 1 | C47: =IFERROR(Notes!P46-C$1,"") -> -1.821256 | D47: =IFERROR(Notes!U46-D$1,"") -> -2.7851852 | E47: =IFERROR(Notes!AB46-E$1,"") -> -4.4744318 | F47: =IFERROR(Notes!AH46-F$1,"") -> -3.7209302 | G47: =IFERROR(Notes!AJ46-G$1,"") -> 0.22222222 | H47: =IFERROR(Notes!AK46-H$1,"") -> -3.7111111 | I47: =IFERROR(Notes!AL46-I$1,"") -> 1.0636364 | J47: =IFERROR(Notes!AM46-J$1,"") -> -4.0227273 | K47: =IFERROR(Notes!AN46-K$1,"") -> 1.7209302 | L47: =IFERROR(Notes!AT46-L$1,"") -> -3.8338525 | M47: =IFERROR(Notes!AV46-M$1,"") -> -0.56976744 | N47: =IFERROR(Notes!AW46-N$1,"") -> -1.4091667 | O47: =IFERROR(Notes!AX46-O$1,"") -> -1.3953488 | P47: =IFERROR(Notes!AY46-P$1,"") -> -0.86647727 | Q47: =IFERROR(Notes!AZ46-Q$1,"") -> -2.2560386 | R47: =IFERROR(Notes!BA46-R$1,"") -> -1.3522727 | S47: =IFERROR(Notes!BB46-S$1,"") -> -2.1744186
