Workbook
Name Segment_Nom: #N/A

Sheet Notes
A1: NOM | C1: Groupe | D1: MOYENNE GENERALE | E1: Moyenne écrit | F1: Moyenne des colles | G1: Classement | H1: Moyenne IE | I1: rien | J1: CODE | K1: DS1 - Cours | L1: DS1 - ExA | M1: DS1 - ExB | N1: DS1 - Pb | O1: DS1 - Tot | P1: DS1 - Tot/20 | Q1: rien | R1: DS2 - Cours | S1: DS2-Ex1à3 | T1: DS2-Ex4à6 | U1: DS2 - Tot/20 | V1: rien | W1: DS3 - Cours | X1: DS3 ex1 | Y1: DS3 ex2 | Z1: DS3 ex3 | AA1: DS3 tot | AB1: DS3 Tot/20 | AD1: DS4 Cours | AE1: DS4 1+2 | AF1: DS4 3 | AG1: DS4 tot | AH1: DS4 tot/20 | AJ1: Colle 1 | AK1: Colle 2 | AL1: Colle 3 | AM1: Colle 4 | AN1: Colle 5 | AO1: Colle 6 | AP1: rien | AQ1: IE0 form | AR1: IE0 refl | AS1: IE0 tot | AT1: IE0 tot/20 | AU1: rien | AV1: IE2 | AW1: IE3 | AX1: IE4 | AY1: IE5 | AZ1: IE6 | BA1: IE7 | BB1: IE7bis | BC1: rien | BD1: Diff IE/DS | BF1: DM1 | BG1: Eq suppl au DM1 | BH1: Eq1+2 | BI1: Eq3+4 | BJ1: Eq5+6+7 | BK1: DM2
A2: eleve 1 | C2: 2 | D2: =2/3*E2+1/3*F2 -> 12.914573 | E2: =AVERAGE(AB2,U2,P2) -> 11.07186 | F2: =AVERAGE(AJ2:AN2) -> 16.6 | G2: 6 | H2: =AVERAGE(AT2,AV2:BB2) -> 14.477508 | J2: 1369044 | K2: 14 | L2: 18 | M2: 10.5 | N2: 2 | O2: =K2+L2+M2+N2 -> 44.5 | P2: =O2*20/92 -> 9.673913 | R2: 14 | S2: 18.5 | T2: 11.5 | U2: =(R2+S2+T2)/3 -> 14.666667 | W2: 15 | X2: 9.5 | Y2: 2.5 | Z2: 8.5 | AA2: =W2+X2+Y2+Z2 -> 35.5 | AB2: =AA2/4 -> 8.875 | AD2: 17 | AE2: 19.5 | AF2: 12 | AG2: =AD2+AE2+AF2 -> 48.5 | AH2: =AG2/4 -> 12.125 | AJ2: 19 | AK2: 14 | AL2: 15 | AM2: 17 | AN2: 18 | AQ2: 79 | AR2: 3 | AS2: =AQ2+AR2 -> 82 | AT2: =AS2/107*20 -> 15.327103 | AV2: 8.75 | AW2: 15.666667 | AX2: 15.769231 | AY2: 12.1875 | AZ2: 15.869565 | BA2: 13.75 | BB2: 18.5 | BD2: =(H2-11.37)-(D2-10.38) -> 0.57293491 | BF2: A | BK2: A
A3: eleve 2 | C3: 1 | D3: =2/3*E3+1/3*F3 -> 11.20314 | E3: =AVERAGE(AB3,U3,P3) -> 8.7047101 | F3: =AVERAGE(AJ3:AN3) -> 16.2 | G3: 13 | H3: =AVERAGE(AT3,AV3:BB3) -> 9.8490484 | J3: 1369178 | K3: 10.5 | L3: 14 | M3: 4.5 | N3: 2 | O3: =K3+L3+M3+N3 -> 31 | P3: =O3*20/92 -> 6.7391304 | R3: 6.5 | S3: 16.5 | T3: 10 | U3: =(R3+S3+T3)/3 -> 11 | W3: 14.5 | X3: 8.5 | Y3: 4 | Z3: 6.5 | AA3: =W3+X3+Y3+Z3 -> 33.5 | AB3: =AA3/4 -> 8.375 | AD3: 5 | AE3: 7 | AF3: 13.5 | AG3: =AD3+AE3+AF3 -> 25.5 | AH3: =AG3/4 -> 6.375 | AI3: rien | AJ3: 18 | AK3: 17 | AL3: 16 | AM3: 15 | AN3: 15 | AQ3: 65 | AR3: 15 | AS3: =AQ3+AR3 -> 80 | AT3: =AS3/107*20 -> 14.953271 | AV3: 3.5 | AW3: 6.6666667 | AX3: 9.6153846 | AY3: 12.1875 | AZ3: 10.869565 | BA3: 10.5 | BB3: 10.5 | BD3: =(H3-11.37)-(D3-10.38) -> -2.3440917 | BF3: C+ | BG3: OK | BJ3: mauvais | BK3: B-
A4: eleve 3 | C4: 1 | D4: =2/3*E4+1/3*F4 -> 9.3143639 | E4: =AVERAGE(AB4,U4,P4) -> 7.4915459 | F4: =AVERAGE(AJ4:AN4) -> 12.96 | G4: 32 | H4: =AVERAGE(AT4,AV4:BB4) -> 10.169823 | J4: 1369124 | K4: 6 | L4: 11 | M4: 5.5 | N4: 0 | O4: =K4+L4+M4+N4 -> 22.5 | P4: =O4*20/92 -> 4.8913043 | R4: 6 | S4: 18.5 | T4: 9.5 | U4: =(R4+S4+T4)/3 -> 11.333333 | W4: 6 | X4: 12.5 | Y4: 2.5 | Z4: 4 | AA4: =W4+X4+Y4+Z4 -> 25 | AB4: =AA4/4 -> 6.25 | AD4: 5.5 | AE4: 4.5 | AF4: 5 | AG4: =AD4+AE4+AF4 -> 15 | AH4: =AG4/4 -> 3.75 | AJ4: 17 | AK4: 11 | AL4: 12.8 | AM4: 10 | AN4: 14 | AQ4: 69 | AR4: 11 | AS4: =AQ4+AR4 -> 80 | AT4: =AS4/107*20 -> 14.953271 | AV4: 5.5 | AW4: 12 | AX4: 11.538462 | AY4: 10.9375 | AZ4: 6.3043478 | BA4: 8.625 | BB4: 11.5 | BD4: =(H4-11.37)-(D4-10.38) -> -0.13454138 | BF4: D+ | BG4: OK | BJ4: mauvais | BK4: B+
A5: eleve 4 | C5: 1 | D5: =2/3*E5+1/3*F5 -> 6.2230274 | E5: =AVERAGE(AB5,U5,P5) -> 5.0012077 | F5: =AVERAGE(AJ5:AN5) -> 8.6666667 | G5: 45 | H5: =AVERAGE(AT5,AV5:BB5) -> 7.9586976 | J5: 1369288 | K5: 7 | L5: 11.5 | M5: 6.5 | N5: 3 | O5: =K5+L5+M5+N5 -> 28 | P5: =O5*20/92 -> 6.0869565 | R5: 6.5 | S5: 5.5 | T5: 5 | U5: =(R5+S5+T5)/3 -> 5.6666667 | W5: 7 | X5: 0.5 | Y5: 1 | Z5: 4.5 | AA5: =W5+X5+Y5+Z5 -> 13 | AB5: =AA5/4 -> 3.25 | AD5: abs | AE5: abs | AF5: abs | AG5: abs | AH5: abs | AJ5: 10 | AK5: 6 | AL5: abs | AM5: 10 | AN5: abs | AQ5: 41 | AR5: 3 | AS5: =AQ5+AR5 -> 44 | AT5: =AS5/107*20 -> 8.2242991 | AV5: abs | AW5: abs | AX5: 4.6153846 | AY5: 6.5625 | AZ5: 12.391304 | BA5: 8 | BB5: abs | BD5: =(H5-11.37)-(D5-10.38) -> 0.74567023 | BF5: D | BG5: R | BH5: X | BI5: X | BJ5: abs | BK5: NNC
A6: eleve 5 | C6: 1 | D6: =2/3*E6+1/3*F6 -> 10.302093 | E6: =AVERAGE(AB6,U6,P6) -> 8.5531401 | F6: =AVERAGE(AJ6:AN6) -> 13.8 | G6: 24 | H6: =AVERAGE(AT6,AV6:BB6) -> 11.343922 | J6: 1369148 | K6: 7 | L6: 17 | M6: 10.5 | N6: 1.5 | O6: =K6+L6+M6+N6 -> 36 | P6: =O6*20/92 -> 7.826087 | R6: 9.5 | S6: 10 | T6: 7 | U6: =(R6+S6+T6)/3 -> 8.8333333 | W6: 14.5 | X6: 10 | Y6: 1 | Z6: 10.5 | AA6: =W6+X6+Y6+Z6 -> 36 | AB6: =AA6/4 -> 9 | AD6: 8.5 | AE6: 6 | AF6: 7 | AG6: =AD6+AE6+AF6 -> 21.5 | AH6: =AG6/4 -> 5.375 | AJ6: 15 | AK6: 12 | AL6: 15 | AM6: 13 | AN6: 14 | AQ6: 77 | AR6: 7 | AS6: =AQ6+AR6 -> 84 | AT6: =AS6/107*20 -> 15.700935 | AV6: 3.25 | AW6: 11 | AX6: abs | AY6: 11.25 | AZ6: 11.956522 | BA6: 11.25 | BB6: 15 | BD6: =(H6-11.37)-(D6-10.38) -> 0.051828933 | BF6: C- | BG6: OK | BH6: mauvais | BJ6: mauvais | BK6: C
A7: eleve 6 | C7: 2 | D7: =2/3*E7+1/3*F7 -> 6.6528986 | E7: =AVERAGE(AB7,U7,P7) -> 4.1793478 | F7: =AVERAGE(AJ7:AN7) -> 11.6 | G7: 44 | H7: =AVERAGE(AT7,AV7:BB7) -> 7.3664506 | J7: 1369112 | K7: 2.5 | L7: 13 | M7: 1 | N7: 1.5 | O7: =K7+L7+M7+N7 -> 18 | P7: =O7*20/92 -> 3.9130435 | R7: 5.5 | S7: 8 | T7: 4.5 | U7: =(R7+S7+T7)/3 -> 6 | W7: 6 | X7: 2 | Y7: 0 | Z7: 2.5 | AA7: =W7+X7+Y7+Z7 -> 10.5 | AB7: =AA7/4 -> 2.625 | AD7: 6 | AE7: 4 | AF7: 3 | AG7: =AD7+AE7+AF7 -> 13 | AH7: =AG7/4 -> 3.25 | AJ7: 12 | AK7: 11 | AL7: 15 | AM7: 8 | AN7: 12 | AQ7: 47 | AR7: 12 | AS7: =AQ7+AR7 -> 59 | AT7: =AS7/107*20 -> 11.028037 | AV7: 1 | AW7: 7.3333333 | AX7: 3.4615385 | AY7: 7.5 | AZ7: 7.6086957 | BA7: 9.5 | BB7: 11.5 | BD7: =(H7-11.37)-(D7-10.38) -> -0.27644795 | BF7: B+ | BH7: X | BK7: C-
A8: eleve 7 | C8: 1 | D8: =2/3*E8+1/3*F8 -> 9.4539452 | E8: =AVERAGE(AB8,U8,P8) -> 8.5809179 | F8: =AVERAGE(AJ8:AN8) -> 11.2 | G8: 29 | H8: =AVERAGE(AT8,AV8:BB8) -> 9.9665929 | J8: 1369143 | K8: 11 | L8: 14 | M8: 8 | N8: 3 | O8: =K8+L8+M8+N8 -> 36 | P8: =O8*20/92 -> 7.826087 | R8: 9 | S8: 14.5 | T8: 7 | U8: =(R8+S8+T8)/3 -> 10.166667 | W8: 8.5 | X8: 14 | Y8: 0 | Z8: 8.5 | AA8: =W8+X8+Y8+Z8 -> 31 | AB8: =AA8/4 -> 7.75 | AD8: 7.5 | AE8: 6.5 | AF8: 11 | AG8: =AD8+AE8+AF8 -> 25 | AH8: =AG8/4 -> 6.25 | AJ8: 9 | AK8: 10 | AL8: 10 | AM8: 15 | AN8: 12 | AQ8: 53 | AR8: 14 | AS8: =AQ8+AR8 -> 67 | AT8: =AS8/107*20 -> 12.523364 | AV8: 5 | AW8: 12.333333 | AX8: 8.8461538 | AY8: 10.9375 | AZ8: 10.217391 | BA8: 8.375 | BB8: 11.5 | BD8: =(H8-11.37)-(D8-10.38) -> -0.47735238 | BF8: B- | BK8: B-
A9: eleve 8 | C9: 2 | D9: =2/3*E9+1/3*F9 -> 12.387923 | E9: =AVERAGE(AB9,U9,P9) -> 10.981884 | F9: =AVERAGE(AJ9:AN9) -> 15.2 | G9: 10 | H9: =AVERAGE(AT9,AV9:BB9) -> 12.731109 | J9: 1369081 | K9: 12.5 | L9: 15.5 | M9: 14.5 | N9: 9 | O9: =K9+L9+M9+N9 -> 51.5 | P9: =O9*20/92 -> 11.195652 | R9: 12.5 | S9: 11.5 | T9: 6 | U9: =(R9+S9+T9)/3 -> 10 | W9: 17.5 | X9: 14.5 | Y9: 1.5 | Z9: 13.5 | AA9: =W9+X9+Y9+Z9 -> 47 | AB9: =AA9/4 -> 11.75 | AD9: 12.5 | AE9: 7.5 | AF9: 7 | AG9: =AD9+AE9+AF9 -> 27 | AH9: =AG9/4 -> 6.75 | AJ9: 15 | AK9: 13 | AL9: 17 | AM9: 17 | AN9: 14 | AQ9: 63 | AR9: 10 | AS9: =AQ9+AR9 -> 73 | AT9: =AS9/107*20 -> 13.64486 | AV9: 7.5 | AW9: 11 | AX9: 10.769231 | AY9: 12.5 | AZ9: 15.434783 | BA9: 15.5 | BB9: 15.5 | BD9: =(H9-11.37)-(D9-10.38) -> -0.64681356 | BF9: B- | BK9: B+
A10: eleve 9 | C10: 2 | D10: =2/3*E10+1/3*F10 -> 12.77182 | E10: =AVERAGE(AB10,U10,P10) -> 11.957729 | F10: =AVERAGE(AJ10:AN10) -> 14.4 | G10: 8 | H10: =AVERAGE(AT10,AV10:BB10) -> 12.985022 | J10: 1369103 | K10: 14.5 | L10: 18 | M10: 15.5 | N10: 7 | O10: =K10+L10+M10+N10 -> 55 | P10: =O10*20/92 -> 11.956522 | R10: 7.5 | S10: 18 | T10: 8 | U10: =(R10+S10+T10)/3 -> 11.166667 | W10: 16 | X10: 17 | Y10: 0.5 | Z10: 17.5 | AA10: =W10+X10+Y10+Z10 -> 51 | AB10: =AA10/4 -> 12.75 | AD10: 12 | AE10: 11 | AF10: 9 | AG10: =AD10+AE10+AF10 -> 32 | AH10: =AG10/4 -> 8 | AJ10: 16 | AK10: 13 | AL10: 16 | AM10: 13 | AN10: 14 | AQ10: 69 | AR10: 6 | AS10: =AQ10+AR10 -> 75 | AT10: =AS10/107*20 -> 14.018692 | AV10: 6.5 | AW10: 13.666667 | AX10: 11.923077 | AY10: 16.25 | AZ10: 11.521739 | BA10: 15 | BB10: 15 | BD10: =(H10-11.37)-(D10-10.38) -> -0.77679786 | BF10: A | BK10: A
A11: eleve 10 | C11: 1 | D11: =2/3*E11+1/3*F11 -> 13.206844 | E11: =AVERAGE(AB11,U11,P11) -> 11.885266 | F11: =AVERAGE(AJ11:AN11) -> 15.85 | G11: 7 | H11: =AVERAGE(AT11,AV11:BB11) -> 14.704433 | J11: 1369159 | K11: 16 | L11: 19.5 | M11: 13.5 | N11: 5 | O11: =K11+L11+M11+N11 -> 54 | P11: =O11*20/92 -> 11.73913 | R11: 12.5 | S11: 8.5 | T11: 6.5 | U11: =(R11+S11+T11)/3 -> 9.1666667 | W11: 16 | X11: 19 | Y11: 9 | Z11: 15 | AA11: =W11+X11+Y11+Z11 -> 59 | AB11: =AA11/4 -> 14.75 | AD11: 14.5 | AE11: 17 | AF11: 17 | AG11: =AD11+AE11+AF11 -> 48.5 | AH11: =AG11/4 -> 12.125 | AJ11: 17 | AK11: 14 | AL11: 14.4 | AM11: abs | AN11: 18 | AQ11: 75 | AR11: 16 | AS11: =AQ11+AR11 -> 91 | AT11: =AS11/107*20 -> 17.009346 | AV11: 7.25 | AW11: 17.666667 | AX11: 13.461538 | AY11: 12.5 | AZ11: 18.043478 | BA11: 17 | BB11: abs | BD11: =(H11-11.37)-(D11-10.38) -> 0.50758894 | BF11: B+ | BJ11: mauvais | BK11: B-
A12: eleve 11 | C12: 1 | D12: =2/3*E12+1/3*F12 -> 9.2516103 | E12: =AVERAGE(AB12,U12,P12) -> 7.3774155 | F12: =AVERAGE(AJ12:AN12) -> 13 | G12: 35 | H12: =AVERAGE(AT12,AV12:BB12) -> 10.143185 | J12: 1369226 | K12: 11.5 | L12: 14.5 | M12: 7 | N12: 0 | O12: =K12+L12+M12+N12 -> 33 | P12: =O12*20/92 -> 7.173913 | R12: 7 | S12: 11 | T12: 5.5 | U12: =(R12+S12+T12)/3 -> 7.8333333 | W12: 14 | X12: 4.5 | Y12: 1 | Z12: 9 | AA12: =W12+X12+Y12+Z12 -> 28.5 | AB12: =AA12/4 -> 7.125 | AD12: 10 | AE12: 4.5 | AF12: 6 | AG12: =AD12+AE12+AF12 -> 20.5 | AH12: =AG12/4 -> 5.125 | AJ12: 12 | AK12: 14 | AL12: 10 | AM12: 12 | AN12: 17 | AQ12: 69 | AR12: 20 | AS12: =AQ12+AR12 -> 89 | AT12: =AS12/107*20 -> 16.635514 | AV12: 1 | AW12: 7.3333333 | AX12: 10 | AY12: 9.6875 | AZ12: 11.73913 | BA12: 11.75 | BB12: 13 | BD12: =(H12-11.37)-(D12-10.38) -> -0.098425583 | BF12: C- | BG12: abs | BJ12: mauvais | BK12: C
A13: eleve 12 | C13: 1 | D13: =2/3*E13+1/3*F13 -> 8.2610306 | E13: =AVERAGE(AB13,U13,P13) -> 6.9915459 | F13: =AVERAGE(AJ13:AN13) -> 10.8 | G13: 39 | H13: =AVERAGE(AT13,AV13:BB13) -> 11.17032 | J13: 1369181 | K13: 6.5 | L13: 16 | M13: 9.5 | N13: 2 | O13: =K13+L13+M13+N13 -> 34 | P13: =O13*20/92 -> 7.3913043 | R13: 4 | S13: 11.5 | T13: 5 | U13: =(R13+S13+T13)/3 -> 6.8333333 | W13: 9 | X13: 9 | Y13: 4 | Z13: 5 | AA13: =W13+X13+Y13+Z13 -> 27 | AB13: =AA13/4 -> 6.75 | AD13: 11.5 | AE13: 8.5 | AF13: 3 | AG13: =AD13+AE13+AF13 -> 23 | AH13: =AG13/4 -> 5.75 | AJ13: 9 | AK13: 14 | AL13: 7 | AM13: 10 | AN13: 14 | AQ13: 58 | AR13: 14 | AS13: =AQ13+AR13 -> 72 | AT13: =AS13/107*20 -> 13.457944 | AV13: 10.75 | AW13: 10.333333 | AX13: 7.3076923 | AY13: 12.1875 | AZ13: 12.826087 | BA13: 9.5 | BB13: 13 | BD13: =(H13-11.37)-(D13-10.38) -> 1.919289 | BF13: B+ | BH13: mauvais | BK13: C
A14: eleve 13 | C14: 2 | D14: =2/3*E14+1/3*F14 -> 10.444686 | E14: =AVERAGE(AB14,U14,P14) -> 9.067029 | F14: =AVERAGE(AJ14:AN14) -> 13.2 | G14: 21 | H14: =AVERAGE(AT14,AV14:BB14) -> 11.775648 | J14: 1369096 | K14: 10.5 | L14: 17.5 | M14: 8 | N14: 0 | O14: =K14+L14+M14+N14 -> 36 | P14: =O14*20/92 -> 7.826087 | R14: 13 | S14: 13.5 | T14: 8 | U14: =(R14+S14+T14)/3 -> 11.5 | W14: 14.5 | X14: 11 | Y14: 0 | Z14: 6 | AA14: =W14+X14+Y14+Z14 -> 31.5 | AB14: =AA14/4 -> 7.875 | AD14: 14 | AE14: 8.5 | AF14: 6 | AG14: =AD14+AE14+AF14 -> 28.5 | AH14: =AG14/4 -> 7.125 | AJ14: 13 | AK14: 13 | AL14: 13 | AM14: 13 | AN14: 14 | AQ14: 59 | AR14: 12 | AS14: =AQ14+AR14 -> 71 | AT14: =AS14/107*20 -> 13.271028 | AV14: 5.5 | AW14: 11 | AX14: 12.692308 | AY14: 9.6875 | AZ14: 11.304348 | BA14: 11.75 | BB14: 19 | BD14: =(H14-11.37)-(D14-10.38) -> 0.34096195 | BF14: D | BG14: OK | BK14: B-
A15: eleve 14 | C15: 1 | D15: =2/3*E15+1/3*F15 -> 9.0727858 | E15: =AVERAGE(AB15,U15,P15) -> 8.8091787 | F15: =AVERAGE(AJ15:AN15) -> 9.6 | G15: 36 | H15: =AVERAGE(AT15,AV15:BB15) -> 9.9065851 | J15: 1369160 | K15: 6.5 | L15: 12 | M15: 7 | N15: 1 | O15: =K15+L15+M15+N15 -> 26.5 | P15: =O15*20/92 -> 5.7608696 | R15: 11.5 | S15: 11.5 | T15: 7.5 | U15: =(R15+S15+T15)/3 -> 10.166667 | W15: 12.5 | X15: 11.5 | Y15: 5 | Z15: 13 | AA15: =W15+X15+Y15+Z15 -> 42 | AB15: =AA15/4 -> 10.5 | AD15: 9.5 | AE15: 4 | AF15: 6.5 | AG15: =AD15+AE15+AF15 -> 20 | AH15: =AG15/4 -> 5 | AJ15: 7 | AK15: 10 | AL15: 11 | AM15: 9 | AN15: 11 | AQ15: 57 | AR15: 7 | AS15: =AQ15+AR15 -> 64 | AT15: =AS15/107*20 -> 11.962617 | AV15: 6 | AW15: 9.3333333 | AX15: 5.7692308 | AY15: 13.4375 | AZ15: 10 | BA15: 11.75 | BB15: 11 | BD15: =(H15-11.37)-(D15-10.38) -> -0.15620071 | BF15: A- | BK15: B
A16: eleve 15 | C16: 2 | D16: =2/3*E16+1/3*F16 -> 12.683092 | E16: =AVERAGE(AB16,U16,P16) -> 11.224638 | F16: =AVERAGE(AJ16:AN16) -> 15.6 | G16: 9 | H16: =AVERAGE(AT16,AV16:BB16) -> 13.387708 | J16: 1369010 | K16: 13 | L16: 20.5 | M16: 9 | N16: 2 | O16: =K16+L16+M16+N16 -> 44.5 | P16: =O16*20/92 -> 9.673913 | R16: 12.5 | S16: 17.5 | T16: 7.5 | U16: =(R16+S16+T16)/3 -> 12.5 | W16: 16.5 | X16: 9 | Y16: 3.5 | Z16: 17 | AA16: =W16+X16+Y16+Z16 -> 46 | AB16: =AA16/4 -> 11.5 | AD16: 12.5 | AE16: 14 | AF16: 15 | AG16: =AD16+AE16+AF16 -> 41.5 | AH16: =AG16/4 -> 10.375 | AJ16: 18 | AK16: 12 | AL16: 14 | AM16: 18 | AN16: 16 | AQ16: 66 | AR16: 12 | AS16: =AQ16+AR16 -> 78 | AT16: =AS16/107*20 -> 14.579439 | AV16: 8.75 | AW16: 12.666667 | AX16: 13.461538 | AY16: 13.4375 | AZ16: 16.956522 | BA16: 15.75 | BB16: 11.5 | BD16: =(H16-11.37)-(D16-10.38) -> -0.28538352 | BF16: B- | BK16: C+
A17: eleve 16 | C17: 2 | D17: =2/3*E17+1/3*F17 -> 10.894122 | E17: =AVERAGE(AB17,U17,P17) -> 9.3411836 | F17: =AVERAGE(AJ17:AN17) -> 14 | G17: 17 | H17: =AVERAGE(AT17,AV17:BB17) -> 10.752504 | J17: 1369099 | K17: 9.5 | L17: 16.5 | M17: 18 | N17: 0 | O17: =K17+L17+M17+N17 -> 44 | P17: =O17*20/92 -> 9.5652174 | R17: 10 | S17: 13 | T17: 6.5 | U17: =(R17+S17+T17)/3 -> 9.8333333 | W17: 12 | X17: 10.5 | Y17: 7.5 | Z17: 4.5 | AA17: =W17+X17+Y17+Z17 -> 34.5 | AB17: =AA17/4 -> 8.625 | AD17: 8 | AE17: 6 | AF17: 5 | AG17: =AD17+AE17+AF17 -> 19 | AH17: =AG17/4 -> 4.75 | AJ17: 15 | AK17: 12 | AL17: 12 | AM17: 16 | AN17: 15 | AQ17: 62 | AR17: 2 | AS17: =AQ17+AR17 -> 64 | AT17: =AS17/107*20 -> 11.962617 | AV17: 2.75 | AW17: 13.333333 | AX17: 9.6153846 | AY17: 10 | AZ17: 12.608696 | BA17: 12.75 | BB17: 13 | BD17: =(H17-11.37)-(D17-10.38) -> -1.1316186 | BF17: C- | BG17: OK | BJ17: mauvais | BK17: C+
A18: eleve 17 | C18: 1 | D18: =2/3*E18+1/3*F18 -> 11.613446 | E18: =AVERAGE(AB18,U18,P18) -> 9.6201691 | F18: =AVERAGE(AJ18:AN18) -> 15.6 | G18: 12 | H18: =AVERAGE(AT18,AV18:BB18) -> 12.00096 | J18: 1369171 | K18: 10.5 | L18: 14.5 | M18: 8.5 | N18: 4 | O18: =K18+L18+M18+N18 -> 37.5 | P18: =O18*20/92 -> 8.1521739 | R18: 9 | S18: 16 | T18: 7.5 | U18: =(R18+S18+T18)/3 -> 10.833333 | W18: 20 | X18: 8.5 | Y18: 0 | Z18: 11 | AA18: =W18+X18+Y18+Z18 -> 39.5 | AB18: =AA18/4 -> 9.875 | AD18: 7.5 | AE18: 9.5 | AF18: 6.5 | AG18: =AD18+AE18+AF18 -> 23.5 | AH18: =AG18/4 -> 5.875 | AJ18: 18 | AK18: 13 | AL18: 16 | AM18: 13 | AN18: 18 | AQ18: 60 | AR18: 15 | AS18: =AQ18+AR18 -> 75 | AT18: =AS18/107*20 -> 14.018692 | AV18: 5.5 | AW18: 11.666667 | AX18: 11.153846 | AY18: 8.125 | AZ18: 13.043478 | BA18: 15 | BB18: 17.5 | BD18: =(H18-11.37)-(D18-10.38) -> -0.60248572 | BF18: C+ | BG18: R | BJ18: mauvais | BK18: C+
A19: eleve 18 | C19: 2 | D19: =2/3*E19+1/3*F19 -> 13.226087 | E19: =AVERAGE(AB19,U19,P19) -> 12.23913 | F19: =AVERAGE(AJ19:AN19) -> 15.2 | G19: 5 | H19: =AVERAGE(AT19,AV19:BB19) -> 13.967144 | J19: 1369021 | K19: 14 | L19: 14.5 | M19: 11.5 | N19: 7 | O19: =K19+L19+M19+N19 -> 47 | P19: =O19*20/92 -> 10.217391 | R19: 9 | S19: 20.5 | T19: 11 | U19: =(R19+S19+T19)/3 -> 13.5 | W19: 12.5 | X19: 13.5 | Y19: 6 | Z19: 20 | AA19: =W19+X19+Y19+Z19 -> 52 | AB19: =AA19/4 -> 13 | AD19: 10.5 | AE19: 21 | AF19: 19 | AG19: =AD19+AE19+AF19 -> 50.5 | AH19: =AG19/4 -> 12.625 | AJ19: 17 | AK19: 15 | AL19: 15 | AM19: 13 | AN19: 16 | AQ19: 80 | AR19: 15 | AS19: =AQ19+AR19 -> 95 | AT19: =AS19/107*20 -> 17.757009 | AV19: 4.5 | AW19: 16 | AX19: 11.923077 | AY19: 17.1875 | AZ19: 15.869565 | BA19: 12 | BB19: 16.5 | BD19: =(H19-11.37)-(D19-10.38) -> -0.24894302 | BF19: A | BK19: A-
A20: eleve 19 | C20: 2 | D20: =2/3*E20+1/3*F20 -> 11.205475 | E20: =AVERAGE(AB20,U20,P20) -> 8.9082126 | F20: =AVERAGE(AJ20:AN20) -> 15.8 | G20: 16 | H20: =AVERAGE(AT20,AV20:BB20) -> 11.37115 | J20: 1369116 | K20: 10.5 | L20: 12 | M20: 11.5 | N20: 0 | O20: =K20+L20+M20+N20 -> 34 | P20: =O20*20/92 -> 7.3913043 | R20: 9.5 | S20: 10.5 | T20: 5 | U20: =(R20+S20+T20)/3 -> 8.3333333 | W20: 17.5 | X20: 13.5 | Y20: 1 | Z20: 12 | AA20: =W20+X20+Y20+Z20 -> 44 | AB20: =AA20/4 -> 11 | AD20: 9.5 | AE20: 15 | AF20: 8 | AG20: =AD20+AE20+AF20 -> 32.5 | AH20: =AG20/4 -> 8.125 | AJ20: 17 | AK20: 14 | AL20: 15 | AM20: 15 | AN20: 18 | AQ20: 69 | AR20: 12 | AS20: =AQ20+AR20 -> 81 | AT20: =AS20/107*20 -> 15.140187 | AV20: 4.5 | AW20: 11 | AX20: 10.769231 | AY20: 11.875 | AZ20: 10.434783 | BA20: 12.25 | BB20: 15 | BD20: =(H20-11.37)-(D20-10.38) -> -0.824325 | BF20: B+ | BK20: B
A21: eleve 20 | C21: 2 | D21: =2/3*E21+1/3*F21 -> 10.306683 | E21: =AVERAGE(AB21,U21,P21) -> 8.1600242 | F21: =AVERAGE(AJ21:AN21) -> 14.6 | G21: 20 | H21: =AVERAGE(AT21,AV21:BB21) -> 9.0071714 | J21: 1369092 | K21: 10 | L21: 9.5 | M21: 6 | N21: 4.5 | O21: =K21+L21+M21+N21 -> 30 | P21: =O21*20/92 -> 6.5217391 | R21: 5.5 | S21: 11 | T21: 5.5 | U21: =(R21+S21+T21)/3 -> 7.3333333 | W21: 11 | X21: 9 | Y21: 15 | Z21: 7.5 | AA21: =W21+X21+Y21+Z21 -> 42.5 | AB21: =AA21/4 -> 10.625 | AD21: 8 | AE21: 5 | AF21: 5 | AG21: =AD21+AE21+AF21 -> 18 | AH21: =AG21/4 -> 4.5 | AJ21: 17 | AK21: 13 | AL21: 16 | AM21: 16 | AN21: 11 | AQ21: 53 | AR21: 6 | AS21: =AQ21+AR21 -> 59 | AT21: =AS21/107*20 -> 11.028037 | AV21: 6.75 | AW21: 8.6666667 | AX21: 9.6153846 | AY21: 10.3125 | AZ21: 10.434783 | BA21: 8.75 | BB21: 6.5 | BD21: =(H21-11.37)-(D21-10.38) -> -2.2895114 | BF21: C | BG21: OK | BJ21: mauvais | BK21: C-
A22: eleve 21 | C22: 2 | D22: =2/3*E22+1/3*F22 -> 10.789452 | E22: =AVERAGE(AB22,U22,P22) -> 10.184179 | F22: =AVERAGE(AJ22:AN22) -> 12 | G22: 22 | H22: =AVERAGE(AT22,AV22:BB22) -> 11.041445 | J22: 1369025 | K22: 5.5 | L22: 17 | M22: 14.5 | N22: 1 | O22: =K22+L22+M22+N22 -> 38 | P22: =O22*20/92 -> 8.2608696 | R22: 14.5 | S22: 15 | T22: 7 | U22: =(R22+S22+T22)/3 -> 12.166667 | W22: 18.5 | X22: 7.5 | Y22: 0 | Z22: 14.5 | AA22: =W22+X22+Y22+Z22 -> 40.5 | AB22: =AA22/4 -> 10.125 | AD22: 8.5 | AE22: 8 | AF22: 14 | AG22: =AD22+AE22+AF22 -> 30.5 | AH22: =AG22/4 -> 7.625 | AJ22: 8 | AK22: 10 | AL22: 12 | AM22: 13 | AN22: 17 | AQ22: 62 | AR22: 7 | AS22: =AQ22+AR22 -> 69 | AT22: =AS22/107*20 -> 12.897196 | AV22: 6.25 | AW22: 14 | AX22: 8.4615385 | AY22: 10.625 | AZ22: 9.3478261 | BA22: 14.25 | BB22: 12.5 | BD22: =(H22-11.37)-(D22-10.38) -> -0.73800739 | BF22: B | BK22: A-
A23: eleve 22 | C23: 1 | D23: =2/3*E23+1/3*F23 -> 10.315217 | E23: =AVERAGE(AB23,U23,P23) -> 8.8478261 | F23: =AVERAGE(AJ23:AN23) -> 13.25 | G23: 18 | H23: =AVERAGE(AT23,AV23:BB23) -> 8.8093119 | J23: 1369133 | K23: 10 | L23: 17.5 | M23: 8 | N23: 4.5 | O23: =K23+L23+M23+N23 -> 40 | P23: =O23*20/92 -> 8.6956522 | R23: 8 | S23: 14 | T23: 5 | U23: =(R23+S23+T23)/3 -> 9 | W23: abs | X23: abs | Y23: abs | Z23: abs | AA23: abs | AB23: abs | AD23: abs | AE23: abs | AF23: abs | AG23: abs | AH23: abs | AJ23: 16 | AK23: 15 | AL23: 11 | AM23: 11 | AN23: abs | AQ23: 50 | AR23: -1 | AS23: =AQ23+AR23 -> 49 | AT23: =AS23/107*20 -> 9.1588785 | AV23: abs | AW23: 5.3333333 | AX23: abs | AY23: abs | AZ23: 6.3043478 | BA23: 11.25 | BB23: 12 | BD23: =(H23-11.37)-(D23-10.38) -> -2.4959055 | BF23: D | BG23: OK | BI23: abs | BJ23: X | BK23: NNC
A24: eleve 23 | C24: 2 | D24: =2/3*E24+1/3*F24 -> 13.655072 | E24: =AVERAGE(AB24,U24,P24) -> 13.282609 | F24: =AVERAGE(AJ24:AN24) -> 14.4 | G24: 2 | H24: =AVERAGE(AT24,AV24:BB24) -> 14.277583 | J24: 1369179 | K24: 12 | L24: 20.5 | M24: 16.5 | N24: 5.5 | O24: =K24+L24+M24+N24 -> 54.5 | P24: =O24*20/92 -> 11.847826 | R24: 10 | S24: 16 | T24: 14.5 | U24: =(R24+S24+T24)/3 -> 13.5 | W24: 16.5 | X24: 14.5 | Y24: 7.5 | Z24: 19.5 | AA24: =W24+X24+Y24+Z24 -> 58 | AB24: =AA24/4 -> 14.5 | AD24: 13.5 | AE24: 13.5 | AF24: 15.5 | AG24: =AD24+AE24+AF24 -> 42.5 | AH24: =AG24/4 -> 10.625 | AJ24: 17 | AK24: 17 | AL24: 11 | AM24: 12 | AN24: 15 | AQ24: 75 | AR24: 6 | AS24: =AQ24+AR24 -> 81 | AT24: =AS24/107*20 -> 15.140187 | AV24: 10 | AW24: 13 | AX24: 16.153846 | AY24: 15.9375 | AZ24: 11.73913 | BA24: 16.75 | BB24: 15.5 | BD24: =(H24-11.37)-(D24-10.38) -> -0.36748953 | BF24: A | BK24: A
A25: eleve 24 | C25: 2 | D25: =2/3*E25+1/3*F25 -> 7.4803543 | E25: =AVERAGE(AB25,U25,P25) -> 5.0205314 | F25: =AVERAGE(AJ25:AN25) -> 12.4 | G25: 41 | H25: =AVERAGE(AT25,AV25:BB25) -> 9.5072018 | J25: 1369051 | K25: 6 | L25: 12 | M25: 6.5 | N25: 3 | O25: =K25+L25+M25+N25 -> 27.5 | P25: =O25*20/92 -> 5.9782609 | R25: 6.5 | S25: 4 | T25: 7 | U25: =(R25+S25+T25)/3 -> 5.8333333 | W25: 7 | X25: 3 | Y25: 0 | Z25: 3 | AA25: =W25+X25+Y25+Z25 -> 13 | AB25: =AA25/4 -> 3.25 | AD25: 7 | AE25: 1 | AF25: 3.5 | AG25: =AD25+AE25+AF25 -> 11.5 | AH25: =AG25/4 -> 2.875 | AJ25: 14 | AK25: 14 | AL25: 11 | AM25: 9 | AN25: 14 | AQ25: 65 | AR25: 11 | AS25: =AQ25+AR25 -> 76 | AT25: =AS25/107*20 -> 14.205607 | AV25: 1.5 | AW25: 12 | AX25: 5.3846154 | AY25: 10 | AZ25: 10.217391 | BA25: 12.75 | BB25: 10 | BD25: =(H25-11.37)-(D25-10.38) -> 1.0368475 | BF25: C | BG25: R | BJ25: X | BK25: B-
A26: eleve 25 | C26: 2 | D26: =2/3*E26+1/3*F26 -> 11.77029 | E26: =AVERAGE(AB26,U26,P26) -> 10.255435 | F26: =AVERAGE(AJ26:AN26) -> 14.8 | G26: 11 | H26: =AVERAGE(AT26,AV26:BB26) -> 13.238092 | J26: 1369089 | K26: 12.5 | L26: 19.5 | M26: 12.5 | N26: 1 | O26: =K26+L26+M26+N26 -> 45.5 | P26: =O26*20/92 -> 9.8913043 | R26: 9 | S26: 14 | T26: 11.5 | U26: =(R26+S26+T26)/3 -> 11.5 | W26: 13.5 | X26: 11 | Y26: 4 | Z26: 9 | AA26: =W26+X26+Y26+Z26 -> 37.5 | AB26: =AA26/4 -> 9.375 | AD26: 9.5 | AE26: 17.5 | AF26: 10.5 | AG26: =AD26+AE26+AF26 -> 37.5 | AH26: =AG26/4 -> 9.375 | AJ26: 14 | AK26: 15 | AL26: 18 | AM26: 13 | AN26: 14 | AQ26: 69 | AR26: 15 | AS26: =AQ26+AR26 -> 84 | AT26: =AS26/107*20 -> 15.700935 | AV26: 11.25 | AW26: 10 | AX26: 10 | AY26: 12.8125 | AZ26: 17.391304 | BA26: 15.75 | BB26: 13 | BD26: =(H26-11.37)-(D26-10.38) -> 0.47780251 | BF26: B | BK26: B-
A27: eleve 26 | C27: 1 | D27: =2/3*E27+1/3*F27 -> 9.4066023 | E27: =AVERAGE(AB27,U27,P27) -> 7.6099034 | F27: =AVERAGE(AJ27:AN27) -> 13 | G27: 28 | H27: =AVERAGE(AT27,AV27:BB27) -> 13.306202 | J27: 1369278 | K27: 8 | L27: 16.5 | M27: 3 | N27: 2 | O27: =K27+L27+M27+N27 -> 29.5 | P27: =O27*20/92 -> 6.4130435 | R27: 7.5 | S27: 15 | T27: 9.5 | U27: =(R27+S27+T27)/3 -> 10.666667 | W27: 10 | X27: 8 | Y27: 1 | Z27: 4 | AA27: =W27+X27+Y27+Z27 -> 23 | AB27: =AA27/4 -> 5.75 | AD27: 7.5 | AE27: 5.5 | AF27: 6 | AG27: =AD27+AE27+AF27 -> 19 | AH27: =AG27/4 -> 4.75 | AJ27: 15 | AK27: 14 | AL27: 9 | AM27: 13 | AN27: 14 | AQ27: 69 | AR27: 7 | AS27: =AQ27+AR27 -> 76 | AT27: =AS27/107*20 -> 14.205607 | AV27: 5.25 | AW27: 14.666667 | AX27: 14.615385 | AY27: 13.125 | AZ27: 16.086957 | BA27: 14 | BB27: 14.5 | BD27: =(H27-11.37)-(D27-10.38) -> 2.9095997 | BF27: D | BG27: R | BH27: mauvais | BJ27: mauvais | BK27: B-
A28: eleve 27 | C28: 2 | D28: =2/3*E28+1/3*F28 -> 10.87971 | E28: =AVERAGE(AB28,U28,P28) -> 9.6195652 | F28: =AVERAGE(AJ28:AN28) -> 13.4 | G28: 19 | H28: =AVERAGE(AT28,AV28:BB28) -> 10.656594 | J28: 1369097 | K28: 8.5 | L28: 17.5 | M28: 9 | N28: 0 | O28: =K28+L28+M28+N28 -> 35 | P28: =O28*20/92 -> 7.6086957 | R28: 11.5 | S28: 10 | T28: 5.5 | U28: =(R28+S28+T28)/3 -> 9 | W28: 20.5 | X28: 8 | Y28: 2 | Z28: 18.5 | AA28: =W28+X28+Y28+Z28 -> 49 | AB28: =AA28/4 -> 12.25 | AD28: 7.5 | AE28: 8.5 | AF28: 4 | AG28: =AD28+AE28+AF28 -> 20 | AH28: =AG28/4 -> 5 | AJ28: 15 | AK28: 15 | AL28: 7 | AM28: 15 | AN28: 15 | AQ28: 71 | AR28: 6 | AS28: =AQ28+AR28 -> 77 | AT28: =AS28/107*20 -> 14.392523 | AV28: 4 | AW28: 8.6666667 | AX28: 7.3076923 | AY28: 9.375 | AZ28: 8.2608696 | BA28: 16.75 | BB28: 16.5 | BD28: =(H28-11.37)-(D28-10.38) -> -1.2131162 | BF28: B+ | BJ28: mauvais | BK28: C+
A29: eleve 28 | C29: 1 | D29: =2/3*E29+1/3*F29 -> 7.5319646 | E29: =AVERAGE(AB29,U29,P29) -> 5.8979469 | F29: =AVERAGE(AJ29:AN29) -> 10.8 | G29: 42 | H29: =AVERAGE(AT29,AV29:BB29) -> 8.4694052 | J29: 1369211 | K29: 5.5 | L29: 12.5 | M29: 5 | N29: 3 | O29: =K29+L29+M29+N29 -> 26 | P29: =O29*20/92 -> 5.6521739 | R29: 4 | S29: 7 | T29: 0 | U29: =(R29+S29+T29)/3 -> 3.6666667 | W29: 11 | X29: 8.5 | Y29: 0 | Z29: 14 | AA29: =W29+X29+Y29+Z29 -> 33.5 | AB29: =AA29/4 -> 8.375 | AD29: 4 | AE29: 2.5 | AF29: 2.5 | AG29: =AD29+AE29+AF29 -> 9 | AH29: =AG29/4 -> 2.25 | AJ29: 10 | AK29: 13 | AL29: 8 | AM29: 12 | AN29: 11 | AQ29: 46 | AR29: 3 | AS29: =AQ29+AR29 -> 49 | AT29: =AS29/107*20 -> 9.1588785 | AV29: 3.25 | AW29: 10 | AX29: 9.6153846 | AY29: 7.1875 | AZ29: 8.0434783 | BA29: 10.5 | BB29: 10 | BD29: =(H29-11.37)-(D29-10.38) -> -0.052559401 | BF29: B+ | BJ29: X | BK29: B-
A30: eleve 29 | C30: 2 | D30: =2/3*E30+1/3*F30 -> 9.760306 | E30: =AVERAGE(AB30,U30,P30) -> 8.0404589 | F30: =AVERAGE(AJ30:AN30) -> 13.2 | G30: 27 | H30: =AVERAGE(AT30,AV30:BB30) -> 13.491714 | J30: 1369048 | K30: 8.5 | L30: 11 | M30: 8 | N30: 2 | O30: =K30+L30+M30+N30 -> 29.5 | P30: =O30*20/92 -> 6.4130435 | R30: 9.5 | S30: 8 | T30: 7.5 | U30: =(R30+S30+T30)/3 -> 8.3333333 | W30: 16.5 | X30: 7 | Y30: 3.5 | Z30: 10.5 | AA30: =W30+X30+Y30+Z30 -> 37.5 | AB30: =AA30/4 -> 9.375 | AD30: 13.5 | AE30: 15 | AF30: 9.5 | AG30: =AD30+AE30+AF30 -> 38 | AH30: =AG30/4 -> 9.5 | AJ30: 15 | AK30: 13 | AL30: 15 | AM30: 10 | AN30: 13 | AQ30: 72 | AR30: 2 | AS30: =AQ30+AR30 -> 74 | AT30: =AS30/107*20 -> 13.831776 | AV30: 9 | AW30: 11.333333 | AX30: 13.461538 | AY30: 14.6875 | AZ30: 15.869565 | BA30: 14.75 | BB30: 15 | BD30: =(H30-11.37)-(D30-10.38) -> 2.7414081 | BF30: C | BG30: OK | BK30: B-
A31: eleve 30 | C31: 1 | D31: =2/3*E31+1/3*F31 -> 9.118438 | E31: =AVERAGE(AB31,U31,P31) -> 7.477657 | F31: =AVERAGE(AJ31:AN31) -> 12.4 | G31: 34 | H31: =AVERAGE(AT31,AV31:BB31) -> 11.367353 | J31: 1369172 | K31: 11.5 | L31: 14.5 | M31: 8 | N31: 0 | O31: =K31+L31+M31+N31 -> 34 | P31: =O31*20/92 -> 7.3913043 | R31: 12.5 | S31: 8.5 | T31: 9.5 | U31: =(R31+S31+T31)/3 -> 10.166667 | W31: 11 | X31: 0.5 | Y31: 0.5 | Z31: 7.5 | AA31: =W31+X31+Y31+Z31 -> 19.5 | AB31: =AA31/4 -> 4.875 | AD31: 14.5 | AE31: 9 | AF31: 6.5 | AG31: =AD31+AE31+AF31 -> 30 | AH31: =AG31/4 -> 7.5 | AJ31: 10 | AK31: 14 | AL31: 11 | AM31: 13 | AN31: 14 | AQ31: 53 | AR31: 7 | AS31: =AQ31+AR31 -> 60 | AT31: =AS31/107*20 -> 11.214953 | AV31: 6.25 | AW31: 17 | AX31: 8.8461538 | AY31: 11.5625 | AZ31: 14.565217 | BA31: 13 | BB31: 8.5 | BD31: =(H31-11.37)-(D31-10.38) -> 1.2589151 | BF31: B- | BK31: B+
A32: eleve 31 | C32: 2 | D32: =2/3*E32+1/3*F32 -> 14.099839 | E32: =AVERAGE(AB32,U32,P32) -> 13.149758 | F32: =AVERAGE(AJ32:AN32) -> 16 | G32: 1 | H32: =AVERAGE(AT32,AV32:BB32) -> 15.617987 | J32: 1369106 | K32: 15 | L32: 19.5 | M32: 15 | N32: 7 | O32: =K32+L32+M32+N32 -> 56.5 | P32: =O32*20/92 -> 12.282609 | R32: 14 | S32: 18 | T32: 9 | U32: =(R32+S32+T32)/3 -> 13.666667 | W32: 20 | X32: 13 | Y32: 3.5 | Z32: 17.5 | AA32: =W32+X32+Y32+Z32 -> 54 | AB32: =AA32/4 -> 13.5 | AD32: 14 | AE32: 21.5 | AF32: 16 | AG32: =AD32+AE32+AF32 -> 51.5 | AH32: =AG32/4 -> 12.875 | AJ32: 16 | AK32: 13 | AL32: 17 | AM32: 16 | AN32: 18 | AQ32: 81 | AR32: 11 | AS32: =AQ32+AR32 -> 92 | AT32: =AS32/107*20 -> 17.196262 | AV32: 11.5 | AW32: 15.333333 | AX32: 14.615385 | AY32: 14.375 | AZ32: 17.173913 | BA32: 16.25 | BB32: 18.5 | BD32: =(H32-11.37)-(D32-10.38) -> 0.52814761 | BF32: B+ | BK32: A
A33: eleve 32 | C33: 2 | D33: =2/3*E33+1/3*F33 -> 11.352979 | E33: =AVERAGE(AB33,U33,P33) -> 9.7294686 | F33: =AVERAGE(AJ33:AN33) -> 14.6 | G33: 14 | H33: =AVERAGE(AT33,AV33:BB33) -> 10.777385 | J33: 1369042 | K33: 9.5 | L33: 17.5 | M33: 13.5 | N33: 1 | O33: =K33+L33+M33+N33 -> 41.5 | P33: =O33*20/92 -> 9.0217391 | R33: 8 | S33: 14 | T33: 7 | U33: =(R33+S33+T33)/3 -> 9.6666667 | W33: 14 | X33: 8 | Y33: 1 | Z33: 19 | AA33: =W33+X33+Y33+Z33 -> 42 | AB33: =AA33/4 -> 10.5 | AD33: 9.5 | AE33: 6.5 | AF33: 13.5 | AG33: =AD33+AE33+AF33 -> 29.5 | AH33: =AG33/4 -> 7.375 | AJ33: 12 | AK33: 14 | AL33: 16 | AM33: 16 | AN33: 15 | AQ33: 73 | AR33: 10 | AS33: =AQ33+AR33 -> 83 | AT33: =AS33/107*20 -> 15.514019 | AV33: 8.25 | AW33: 3 | AX33: 14.615385 | AY33: 12.1875 | AZ33: 10.652174 | BA33: 11.5 | BB33: 10.5 | BD33: =(H33-11.37)-(D33-10.38) -> -1.5655944 | BF33: C- | BG33: OK | BK33: B-
A34: eleve 33 | C34: 1 | D34: =2/3*E34+1/3*F34 -> 9.7113527 | E34: =AVERAGE(AB34,U34,P34) -> 8.567029 | F34: =AVERAGE(AJ34:AN34) -> 12 | G34: 26 | H34: =AVERAGE(AT34,AV34:BB34) -> 12.920958 | J34: 1369161 | K34: 12 | L34: 17 | M34: 6 | N34: 1 | O34: =K34+L34+M34+N34 -> 36 | P34: =O34*20/92 -> 7.826087 | R34: 10.5 | S34: 15 | T34: 3 | U34: =(R34+S34+T34)/3 -> 9.5 | W34: 12.5 | X34: 7.5 | Y34: 0 | Z34: 13.5 | AA34: =W34+X34+Y34+Z34 -> 33.5 | AB34: =AA34/4 -> 8.375 | AD34: 7.5 | AE34: 13 | AF34: 3.5 | AG34: =AD34+AE34+AF34 -> 24 | AH34: =AG34/4 -> 6 | AJ34: 13 | AK34: 13 | AL34: 14 | AM34: 9 | AN34: 11 | AQ34: 59 | AR34: 7 | AS34: =AQ34+AR34 -> 66 | AT34: =AS34/107*20 -> 12.336449 | AV34: 11.75 | AW34: 13.666667 | AX34: 11.538462 | AY34: 10 | AZ34: 12.826087 | BA34: 13.25 | BB34: 18 | BD34: =(H34-11.37)-(D34-10.38) -> 2.2196053 | BF34: C+ | BG34: OK | BK34: C-
A35: eleve 34 | C35: 1 | D35: =2/3*E35+1/3*F35 -> 10.189694 | E35: =AVERAGE(AB35,U35,P35) -> 9.0845411 | F35: =AVERAGE(AJ35:AN35) -> 12.4 | G35: 23 | H35: =AVERAGE(AT35,AV35:BB35) -> 11.496429 | J35: 1369167 | K35: 10.5 | L35: 18.5 | M35: 9 | N35: 1.5 | O35: =K35+L35+M35+N35 -> 39.5 | P35: =O35*20/92 -> 8.5869565 | R35: 8 | S35: 12 | T35: 7.5 | U35: =(R35+S35+T35)/3 -> 9.1666667 | W35: 16 | X35: 8.5 | Y35: 4 | Z35: 9.5 | AA35: =W35+X35+Y35+Z35 -> 38 | AB35: =AA35/4 -> 9.5 | AD35: 10.5 | AE35: 9.5 | AF35: 10.5 | AG35: =AD35+AE35+AF35 -> 30.5 | AH35: =AG35/4 -> 7.625 | AJ35: 13 | AK35: 13 | AL35: 9 | AM35: 16 | AN35: 11 | AQ35: 80 | AR35: 1 | AS35: =AQ35+AR35 -> 81 | AT35: =AS35/107*20 -> 15.140187 | AV35: 4 | AW35: 9.3333333 | AX35: 12.307692 | AY35: 10.625 | AZ35: 14.565217 | BA35: 15.5 | BB35: 10.5 | BD35: =(H35-11.37)-(D35-10.38) -> 0.3167347 | BF35: A- | BJ35: mauvais | BK35: C+
A36: eleve 35 | C36: 1 | D36: =2/3*E36+1/3*F36 -> 11.190097 | E36: =AVERAGE(AB36,U36,P36) -> 10.085145 | F36: =AVERAGE(AJ36:AN36) -> 13.4 | G36: 15 | H36: =AVERAGE(AT36,AV36:BB36) -> 11.347286 | J36: 1369121 | K36: 14 | L36: 5 | M36: 7.5 | N36: 4 | O36: =K36+L36+M36+N36 -> 30.5 | P36: =O36*20/92 -> 6.6304348 | R36: 10 | S36: 15.5 | T36: 12 | U36: =(R36+S36+T36)/3 -> 12.5 | W36: 20 | X36: 10 | Y36: 1 | Z36: 13.5 | AA36: =W36+X36+Y36+Z36 -> 44.5 | AB36: =AA36/4 -> 11.125 | AD36: 5.5 | AE36: 15.5 | AF36: 9 | AG36: =AD36+AE36+AF36 -> 30 | AH36: =AG36/4 -> 7.5 | AJ36: 15 | AK36: 13 | AL36: 12 | AM36: 13 | AN36: 14 | AQ36: 59 | AR36: 9 | AS36: =AQ36+AR36 -> 68 | AT36: =AS36/107*20 -> 12.71028 | AV36: 7.75 | AW36: 7.6666667 | AX36: 11.923077 | AY36: 15 | AZ36: 13.478261 | BA36: 6.75 | BB36: 15.5 | BD36: =(H36-11.37)-(D36-10.38) -> -0.83281101 | BF36: A | BH36: mauvais | BK36: A
A37: eleve 36 | C37: 2 | D37: =2/3*E37+1/3*F37 -> 8.7140902 | E37: =AVERAGE(AB37,U37,P37) -> 6.7711353 | F37: =AVERAGE(AJ37:AN37) -> 12.6 | G37: 38 | H37: =AVERAGE(AT37,AV37:BB37) -> 11.186503 | J37: 1369146 | K37: 9 | L37: 11.5 | M37: 9.5 | N37: 0 | O37: =K37+L37+M37+N37 -> 30 | P37: =O37*20/92 -> 6.5217391 | R37: 8 | S37: 6 | T37: 3 | U37: =(R37+S37+T37)/3 -> 5.6666667 | W37: 14.5 | X37: 8 | Y37: 3 | Z37: 7 | AA37: =W37+X37+Y37+Z37 -> 32.5 | AB37: =AA37/4 -> 8.125 | AD37: 10 | AE37: 6.5 | AF37: 7 | AG37: =AD37+AE37+AF37 -> 23.5 | AH37: =AG37/4 -> 5.875 | AJ37: 11 | AK37: 10 | AL37: 14 | AM37: 12 | AN37: 16 | AQ37: 58 | AR37: 6 | AS37: =AQ37+AR37 -> 64 | AT37: =AS37/107*20 -> 11.962617 | AV37: 4.75 | AW37: 12.333333 | AX37: 11.538462 | AY37: 11.875 | AZ37: 9.7826087 | BA37: 13.75 | BB37: 13.5 | BD37: =(H37-11.37)-(D37-10.38) -> 1.4824124 | BF37: B- | BH37: X | BJ37: X | BK37: C-
A38: eleve 37 | C38: 1 | D38: =2/3*E38+1/3*F38 -> 9.4596618 | E38: =AVERAGE(AB38,U38,P38) -> 8.3894928 | F38: =AVERAGE(AJ38:AN38) -> 11.6 | G38: 30 | H38: =AVERAGE(AT38,AV38:BB38) -> 10.664747 | J38: 1369204 | K38: 8 | L38: 9.5 | M38: 6 | N38: 2 | O38: =K38+L38+M38+N38 -> 25.5 | P38: =O38*20/92 -> 5.5434783 | R38: 9.5 | S38: 12.5 | T38: 8 | U38: =(R38+S38+T38)/3 -> 10 | W38: 19 | X38: 9 | Y38: 0 | Z38: 10.5 | AA38: =W38+X38+Y38+Z38 -> 38.5 | AB38: =AA38/4 -> 9.625 | AD38: 8.5 | AE38: 8 | AF38: 10.5 | AG38: =AD38+AE38+AF38 -> 27 | AH38: =AG38/4 -> 6.75 | AJ38: 13 | AK38: 7 | AL38: 11 | AM38: 15 | AN38: 12 | AQ38: 67 | AR38: 15 | AS38: =AQ38+AR38 -> 82 | AT38: =AS38/107*20 -> 15.327103 | AV38: 2.5 | AW38: 10.666667 | AX38: 13.076923 | AY38: 12.8125 | AZ38: 10.434783 | BA38: 10.5 | BB38: 10 | BD38: =(H38-11.37)-(D38-10.38) -> 0.21508506 | BF38: A- | BK38: A
A39: eleve 38 | C39: 2 | D39: =2/3*E39+1/3*F39 -> 8.9080515 | E39: =AVERAGE(AB39,U39,P39) -> 6.2620773 | F39: =AVERAGE(AJ39:AN39) -> 14.2 | G39: 33 | H39: =AVERAGE(AT39,AV39:BB39) -> 9.3760184 | J39: 1369264 | K39: 7 | L39: 8.5 | M39: 5.5 | N39: 6 | O39: =K39+L39+M39+N39 -> 27 | P39: =O39*20/92 -> 5.8695652 | R39: 5.5 | S39: 7 | T39: 6 | U39: =(R39+S39+T39)/3 -> 6.1666667 | W39: 8 | X39: 2.5 | Y39: 8.5 | Z39: 8 | AA39: =W39+X39+Y39+Z39 -> 27 | AB39: =AA39/4 -> 6.75 | AD39: 4.5 | AE39: 1.5 | AF39: 4.5 | AG39: =AD39+AE39+AF39 -> 10.5 | AH39: =AG39/4 -> 2.625 | AJ39: 16 | AK39: 13 | AL39: 15 | AM39: 16 | AN39: 11 | AQ39: 53 | AR39: 2 | AS39: =AQ39+AR39 -> 55 | AT39: =AS39/107*20 -> 10.280374 | AV39: 3 | AW39: 7.3333333 | AX39: 6.5384615 | AY39: 14.0625 | AZ39: 13.043478 | BA39: 9.25 | BB39: 11.5 | BD39: =(H39-11.37)-(D39-10.38) -> -0.52203316 | BF39: C+ | BG39: OK | BK39: B-
A40: eleve 39 | C40: 2 | D40: =2/3*E40+1/3*F40 -> 7.7414654 | E40: =AVERAGE(AB40,U40,P40) -> 6.8121981 | F40: =AVERAGE(AJ40:AN40) -> 9.6 | G40: 40 | H40: =AVERAGE(AT40,AV40:BB40) -> 9.023111 | J40: 1369095 | K40: 9 | L40: 13.5 | M40: 4 | N40: 1 | O40: =K40+L40+M40+N40 -> 27.5 | P40: =O40*20/92 -> 5.9782609 | R40: 6 | S40: 12 | T40: 7 | U40: =(R40+S40+T40)/3 -> 8.3333333 | W40: 10 | X40: 8.5 | Y40: 0 | Z40: 6 | AA40: =W40+X40+Y40+Z40 -> 24.5 | AB40: =AA40/4 -> 6.125 | AD40: 7 | AE40: 4.5 | AF40: 4 | AG40: =AD40+AE40+AF40 -> 15.5 | AH40: =AG40/4 -> 3.875 | AJ40: 9 | AK40: 12 | AL40: 6 | AM40: 12 | AN40: 9 | AQ40: 74 | AR40: 16 | AS40: =AQ40+AR40 -> 90 | AT40: =AS40/107*20 -> 16.82243 | AV40: 3 | AW40: 8 | AX40: 8.8461538 | AY40: 11.875 | AZ40: 7.3913043 | BA40: 12.25 | BB40: 4 | BD40: =(H40-11.37)-(D40-10.38) -> 0.29164563 | BF40: D- | BG40: OK | BJ40: mauvais | BK40: C+
...

Sheet Calculs
C1: =Notes!P47 -> 8.0169082 | D1: =Notes!U47 -> 9.6185185 | E1: =Notes!AB47 -> 9.0994318 | F1: =Notes!AH47 -> 6.9709302 | G1: {=Notes!AJ47:AN47} -> 13.777778 | H1: 12.711111 | I1: 12.936364 | J1: 13.022727 | K1: 14.27907 | L1: =Notes!AT47 -> 13.740395 | M1: {=Notes!AV47:BB47} -> 5.8197674 | N1: 11.075833 | O1: 10.626118 | P1: 11.803977 | Q1: 12.256039 | R1: 12.602273 | S1: 13.174419 | V1: Groupe | W1: (Tous)
A2: Nom | B2: Groupe | C2: DS1 | D2: DS2 | E2: DS3 | F2: DS4 | G2: Colle1 | H2: Colle2 | I2: Colle3 | J2: Colle4 | K2: Colle5 | L2: IE0 | M2: IE2 | N2: IE3 | O2: IE4 | P2: IE5 | Q2: IE6 | R2: IE7 | S2: IE7bis | V2: Nom | W2: eleve 4
A3: eleve 1 | B3: =Notes!C2 -> 2 | C3: =IFERROR(Notes!P2-C$1,"") -> 1.6570048 | D3: =IFERROR(Notes!U2-D$1,"") -> 5.0481481 | E3: =IFERROR(Notes!AB2-E$1,"") -> -0.22443182 | F3: =IFERROR(Notes!AH2-F$1,"") -> 5.1540698 | G3: =IFERROR(Notes!AJ2-G$1,"") -> 5.2222222 | H3: =IFERROR(Notes!AK2-H$1,"") -> 1.2888889 | I3: =IFERROR(Notes!AL2-I$1,"") -> 2.0636364 | J3: =IFERROR(Notes!AM2-J$1,"") -> 3.9772727 | K3: =IFERROR(Notes!AN2-K$1,"") -> 3.7209302 | L3: =IFERROR(Notes!AT2-L$1,"") -> 1.5867082 | M3: =IFERROR(Notes!AV2-M$1,"") -> 2.9302326 | N3: =IFERROR(Notes!AW2-N$1,"") -> 4.5908333 | O3: =IFERROR(Notes!AX2-O$1,"") -> 5.1431127 | P3: =IFERROR(Notes!AY2-P$1,"") -> 0.38352273 | Q3: =IFERROR(Notes!AZ2-Q$1,"") -> 3.6135266 | R3: =IFERROR(Notes!BA2-R$1,"") -> 1.1477273 | S3: =IFERROR(Notes!BB2-S$1,"") -> 5.3255814
A4: eleve 2 | B4: =Notes!C3 -> 1 | C4: =IFERROR(Notes!P3-C$1,"") -> -1.2777778 | D4: =IFERROR(Notes!U3-D$1,"") -> 1.3814815 | E4: =IFERROR(Notes!AB3-E$1,"") -> -0.72443182 | F4: =IFERROR(Notes!AH3-F$1,"") -> -0.59593023 | G4: =IFERROR(Notes!AJ3-G$1,"") -> 4.2222222 | H4: =IFERROR(Notes!AK3-H$1,"") -> 4.2888889 | I4: =IFERROR(Notes!AL3-I$1,"") -> 3.0636364 | J4: =IFERROR(Notes!AM3-J$1,"") -> 1.9772727 | K4: =IFERROR(Notes!AN3-K$1,"") -> 0.72093023 | L4: =IFERROR(Notes!AT3-L$1,"") -> 1.2128764 | M4: =IFERROR(Notes!AV3-M$1,"") -> -2.3197674 | N4: =IFERROR(Notes!AW3-N$1,"") -> -4.4091667 | O4: =IFERROR(Notes!AX3-O$1,"") -> -1.0107335 | P4: =IFERROR(Notes!AY3-P$1,"") -> 0.38352273 | Q4: =IFERROR(Notes!AZ3-Q$1,"") -> -1.3864734 | R4: =IFERROR(Notes!BA3-R$1,"") -> -2.1022727 | S4: =IFERROR(Notes!BB3-S$1,"") -> -2.6744186 | V4: Valeurs
A5: eleve 3 | B5: =Notes!C4 -> 1 | C5: =IFERROR(Notes!P4-C$1,"") -> -3.1256039 | D5: =IFERROR(Notes!U4-D$1,"") -> 1.7148148 | E5: =IFERROR(Notes!AB4-E$1,"") -> -2.8494318 | F5: =IFERROR(Notes!AH4-F$1,"") -> -3.2209302 | G5: =IFERROR(Notes!AJ4-G$1,"") -> 3.2222222 | H5: =IFERROR(Notes!AK4-H$1,"") -> -1.7111111 | I5: =IFERROR(Notes!AL4-I$1,"") -> -0.13636364 | J5: =IFERROR(Notes!AM4-J$1,"") -> -3.0227273 | K5: =IFERROR(Notes!AN4-K$1,"") -> -0.27906977 | L5: =IFERROR(Notes!AT4-L$1,"") -> 1.2128764 | M5: =IFERROR(Notes!AV4-M$1,"") -> -0.31976744 | N5: =IFERROR(Notes!AW4-N$1,"") -> 0.92416667 | O5: =IFERROR(Notes!AX4-O$1,"") -> 0.91234347 | P5: =IFERROR(Notes!AY4-P$1,"") -> -0.86647727 | Q5: =IFERROR(Notes!AZ4-Q$1,"") -> -5.9516908 | R5: =IFERROR(Notes!BA4-R$1,"") -> -3.9772727 | S5: =IFERROR(Notes!BB4-S$1,"") -> -1.6744186 | V5: DS1 | W5: -1.9299517
A6: eleve 4 | B6: =Notes!C5 -> 1 | C6: =IFERROR(Notes!P5-C$1,"") -> -1.9299517 | D6: =IFERROR(Notes!U5-D$1,"") -> -3.9518519 | E6: =IFERROR(Notes!AB5-E$1,"") -> -5.8494318 | F6: =IFERROR(Notes!AH5-F$1,"") | G6: =IFERROR(Notes!AJ5-G$1,"") -> -3.7777778 | H6: =IFERROR(Notes!AK5-H$1,"") -> -6.7111111 | I6: =IFERROR(Notes!AL5-I$1,"") | J6: =IFERROR(Notes!AM5-J$1,"") -> -3.0227273 | K6: =IFERROR(Notes!AN5-K$1,"") | L6: =IFERROR(Notes!AT5-L$1,"") -> -5.5160955 | M6: =IFERROR(Notes!AV5-M$1,"") | N6: =IFERROR(Notes!AW5-N$1,"") | O6: =IFERROR(Notes!AX5-O$1,"") -> -6.0107335 | P6: =IFERROR(Notes!AY5-P$1,"") -> -5.2414773 | Q6: =IFERROR(Notes!AZ5-Q$1,"") -> 0.1352657 | R6: =IFERROR(Notes!BA5-R$1,"") -> -4.6022727 | S6: =IFERROR(Notes!BB5-S$1,"") | V6: DS2 | W6: -3.9518519
A7: eleve 5 | B7: =Notes!C6 -> 1 | C7: =IFERROR(Notes!P6-C$1,"") -> -0.19082126 | D7: =IFERROR(Notes!U6-D$1,"") -> -0.78518519 | E7: =IFERROR(Notes!AB6-E$1,"") -> -0.099431818 | F7: =IFERROR(Notes!AH6-F$1,"") -> -1.5959302 | G7: =IFERROR(Notes!AJ6-G$1,"") -> 1.2222222 | H7: =IFERROR(Notes!AK6-H$1,"") -> -0.71111111 | I7: =IFERROR(Notes!AL6-I$1,"") -> 2.0636364 | J7: =IFERROR(Notes!AM6-J$1,"") -> -0.022727273 | K7: =IFERROR(Notes!AN6-K$1,"") -> -0.27906977 | L7: =IFERROR(Notes!AT6-L$1,"") -> 1.96054 | M7: =IFERROR(Notes!AV6-M$1,"") -> -2.5697674 | N7: =IFERROR(Notes!AW6-N$1,"") -> -0.075833333 | O7: =IFERROR(Notes!AX6-O$1,"") | P7: =IFERROR(Notes!AY6-P$1,"") -> -0.55397727 | Q7: =IFERROR(Notes!AZ6-Q$1,"") -> -0.29951691 | R7: =IFERROR(Notes!BA6-R$1,"") -> -1.3522727 | S7: =IFERROR(Notes!BB6-S$1,"") -> 1.8255814 | V7: DS3 | W7: -5.8494318
A8: eleve 6 | B8: =Notes!C7 -> 2 | C8: =IFERROR(Notes!P7-C$1,"") -> -4.1038647 | D8: =IFERROR(Notes!U7-D$1,"") -> -3.6185185 | E8: =IFERROR(Notes!AB7-E$1,"") -> -6.4744318 | F8: =IFERROR(Notes!AH7-F$1,"") -> -3.7209302 | G8: =IFERROR(Notes!AJ7-G$1,"") -> -1.7777778 | H8: =IFERROR(Notes!AK7-H$1,"") -> -1.7111111 | I8: =IFERROR(Notes!AL7-I$1,"") -> 2.0636364 | J8: =IFERROR(Notes!AM7-J$1,"") -> -5.0227273 | K8: =IFERROR(Notes!AN7-K$1,"") -> -2.2790698 | L8: =IFERROR(Notes!AT7-L$1,"") -> -2.7123572 | M8: =IFERROR(Notes!AV7-M$1,"") -> -4.8197674 | N8: =IFERROR(Notes!AW7-N$1,"") -> -3.7425 | O8: =IFERROR(Notes!AX7-O$1,"") -> -7.1645796 | P8: =IFERROR(Notes!AY7-P$1,"") -> -4.3039773 | Q8: =IFERROR(Notes!AZ7-Q$1,"") -> -4.647343 | R8: =IFERROR(Notes!BA7-R$1,"") -> -3.1022727 | S8: =IFERROR(Notes!BB7-S$1,"") -> -1.6744186 | V8: DS4
A9: eleve 7 | B9: =Notes!C8 -> 1 | C9: =IFERROR(Notes!P8-C$1,"") -> -0.19082126 | D9: =IFERROR(Notes!U8-D$1,"") -> 0.54814815 | E9: =IFERROR(Notes!AB8-E$1,"") -> -1.3494318 | F9: =IFERROR(Notes!AH8-F$1,"") -> -0.72093023 | G9: =IFERROR(Notes!AJ8-G$1,"") -> -4.7777778 | H9: =IFERROR(Notes!AK8-H$1,"") -> -2.7111111 | I9: =IFERROR(Notes!AL8-I$1,"") -> -2.9363636 | J9: =IFERROR(Notes!AM8-J$1,"") -> 1.9772727 | K9: =IFERROR(Notes!AN8-K$1,"") -> -2.2790698 | L9: =IFERROR(Notes!AT8-L$1,"") -> -1.2170301 | M9: =IFERROR(Notes!AV8-M$1,"") -> -0.81976744 | N9: =IFERROR(Notes!AW8-N$1,"") -> 1.2575 | O9: =IFERROR(Notes!AX8-O$1,"") -> -1.7799642 | P9: =IFERROR(Notes!AY8-P$1,"") -> -0.86647727 | Q9: =IFERROR(Notes!AZ8-Q$1,"") -> -2.0386473 | R9: =IFERROR(Notes!BA8-R$1,"") -> -4.2272727 | S9: =IFERROR(Notes!BB8-S$1,"") -> -1.6744186
A10: eleve 8 | B10: =Notes!C9 -> 2 | C10: =IFERROR(Notes!P9-C$1,"") -> 3.178744 | D10: =IFERROR(Notes!U9-D$1,"") -> 0.38148148 | E10: =IFERROR(Notes!AB9-E$1,"") -> 2.6505682 | F10: =IFERROR(Notes!AH9-F$1,"") -> -0.22093023 | G10: =IFERROR(Notes!AJ9-G$1,"") -> 1.2222222 | H10: =IFERROR(Notes!AK9-H$1,"") -> 0.28888889 | I10: =IFERROR(Notes!AL9-I$1,"") -> 4.0636364 | J10: =IFERROR(Notes!AM9-J$1,"") -> 3.9772727 | K10: =IFERROR(Notes!AN9-K$1,"") -> -0.27906977 | L10: =IFERROR(Notes!AT9-L$1,"") -> -0.095534787 | M10: =IFERROR(Notes!AV9-M$1,"") -> 1.6802326 | N10: =IFERROR(Notes!AW9-N$1,"") -> -0.075833333 | O10: =IFERROR(Notes!AX9-O$1,"") -> 0.1431127 | P10: =IFERROR(Notes!AY9-P$1,"") -> 0.69602273 | Q10: =IFERROR(Notes!AZ9-Q$1,"") -> 3.178744 | R10: =IFERROR(Notes!BA9-R$1,"") -> 2.8977273 | S10: =IFERROR(Notes!BB9-S$1,"") -> 2.3255814
A11: eleve 9 | B11: =Notes!C10 -> 2 | C11: =IFERROR(Notes!P10-C$1,"") -> 3.9396135 | D11: =IFERROR(Notes!U10-D$1,"") -> 1.5481481 | E11: =IFERROR(Notes!AB10-E$1,"") -> 3.6505682 | F11: =IFERROR(Notes!AH10-F$1,"") -> 1.0290698 | G11: =IFERROR(Notes!AJ10-G$1,"") -> 2.2222222 | H11: =IFERROR(Notes!AK10-H$1,"") -> 0.28888889 | I11: =IFERROR(Notes!AL10-I$1,"") -> 3.0636364 | J11: =IFERROR(Notes!AM10-J$1,"") -> -0.022727273 | K11: =IFERROR(Notes!AN10-K$1,"") -> -0.27906977 | L11: =IFERROR(Notes!AT10-L$1,"") -> 0.27829699 | M11: =IFERROR(Notes!AV10-M$1,"") -> 0.68023256 | N11: =IFERROR(Notes!AW10-N$1,"") -> 2.5908333 | O11: =IFERROR(Notes!AX10-O$1,"") -> 1.2969589 | P11: =IFERROR(Notes!AY10-P$1,"") -> 4.4460227 | Q11: =IFERROR(Notes!AZ10-Q$1,"") -> -0.73429952 | R11: =IFERROR(Notes!BA10-R$1,"") -> 2.3977273 | S11: =IFERROR(Notes!BB10-S$1,"") -> 1.8255814
A12: eleve 10 | B12: =Notes!C11 -> 1 | C12: =IFERROR(Notes!P11-C$1,"") -> 3.7222222 | D12: =IFERROR(Notes!U11-D$1,"") -> -0.45185185 | E12: =IFERROR(Notes!AB11-E$1,"") -> 5.6505682 | F12: =IFERROR(Notes!AH11-F$1,"") -> 5.1540698 | G12: =IFERROR(Notes!AJ11-G$1,"") -> 3.2222222 | H12: =IFERROR(Notes!AK11-H$1,"") -> 1.2888889 | I12: =IFERROR(Notes!AL11-I$1,"") -> 1.4636364 | J12: =IFERROR(Notes!AM11-J$1,"") | K12: =IFERROR(Notes!AN11-K$1,"") -> 3.7209302 | L12: =IFERROR(Notes!AT11-L$1,"") -> 3.2689512 | M12: =IFERROR(Notes!AV11-M$1,"") -> 1.4302326 | N12: =IFERROR(Notes!AW11-N$1,"") -> 6.5908333 | O12: =IFERROR(Notes!AX11-O$1,"") -> 2.8354204 | P12: =IFERROR(Notes!AY11-P$1,"") -> 0.69602273 | Q12: =IFERROR(Notes!AZ11-Q$1,"") -> 5.7874396 | R12: =IFERROR(Notes!BA11-R$1,"") -> 4.3977273 | S12: =IFERROR(Notes!BB11-S$1,"")
A13: eleve 11 | B13: =Notes!C12 -> 1 | C13: =IFERROR(Notes!P12-C$1,"") -> -0.84299517 | D13: =IFERROR(Notes!U12-D$1,"") -> -1.7851852 | E13: =IFERROR(Notes!AB12-E$1,"") -> -1.9744318 | F13: =IFERROR(Notes!AH12-F$1,"") -> -1.8459302 | G13: =IFERROR(Notes!AJ12-G$1,"") -> -1.7777778 | H13: =IFERROR(Notes!AK12-H$1,"") -> 1.2888889 | I13: =IFERROR(Notes!AL12-I$1,"") -> -2.9363636 | J13: =IFERROR(Notes!AM12-J$1,"") -> -1.0227273 | K13: =IFERROR(Notes!AN12-K$1,"") -> 2.7209302 | L13: =IFERROR(Notes!AT12-L$1,"") -> 2.8951194 | M13: =IFERROR(Notes!AV12-M$1,"") -> -4.8197674 | N13: =IFERROR(Notes!AW12-N$1,"") -> -3.7425 | O13: =IFERROR(Notes!AX12-O$1,"") -> -0.62611807 | P13: =IFERROR(Notes!AY12-P$1,"") -> -2.1164773 | Q13: =IFERROR(Notes!AZ12-Q$1,"") -> -0.51690821 | R13: =IFERROR(Notes!BA12-R$1,"") -> -0.85227273 | S13: =IFERROR(Notes!BB12-S$1,"") -> -0.1744186
A14: eleve 12 | B14: =Notes!C13 -> 1 | C14: =IFERROR(Notes!P13-C$1,"") -> -0.62560386 | D14: =IFERROR(Notes!U13-D$1,"") -> -2.7851852 | E14: =IFERROR(Notes!AB13-E$1,"") -> -2.3494318 | F14: =IFERROR(Notes!AH13-F$1,"") -> -1.2209302 | G14: =IFERROR(Notes!AJ13-G$1,"") -> -4.7777778 | H14: =IFERROR(Notes!AK13-H$1,"") -> 1.2888889 | I14: =IFERROR(Notes!AL13-I$1,"") -> -5.9363636 | J14: =IFERROR(Notes!AM13-J$1,"") -> -3.0227273 | K14: =IFERROR(Notes!AN13-K$1,"") -> -0.27906977 | L14: =IFERROR(Notes!AT13-L$1,"") -> -0.28245067 | M14: =IFERROR(Notes!AV13-M$1,"") -> 4.9302326 | N14: =IFERROR(Notes!AW13-N$1,"") -> -0.7425 | O14: =IFERROR(Notes!AX13-O$1,"") -> -3.3184258 | P14: =IFERROR(Notes!AY13-P$1,"") -> 0.38352273 | Q14: =IFERROR(Notes!AZ13-Q$1,"") -> 0.57004831 | R14: =IFERROR(Notes!BA13-R$1,"") -> -3.1022727 | S14: =IFERROR(Notes!BB13-S$1,"") -> -0.1744186 | V14: Groupe | W14: (Tous)
A15: eleve 13 | B15: =Notes!C14 -> 2 | C15: =IFERROR(Notes!P14-C$1,"") -> -0.19082126 | D15: =IFERROR(Notes!U14-D$1,"") -> 1.8814815 | E15: =IFERROR(Notes!AB14-E$1,"") -> -1.2244318 | F15: =IFERROR(Notes!AH14-F$1,"") -> 0.15406977 | G15: =IFERROR(Notes!AJ14-G$1,"") -> -0.77777778 | H15: =IFERROR(Notes!AK14-H$1,"") -> 0.28888889 | I15: =IFERROR(Notes!AL14-I$1,"") -> 0.063636364 | J15: =IFERROR(Notes!AM14-J$1,"") -> -0.022727273 | K15: =IFERROR(Notes!AN14-K$1,"") -> -0.27906977 | L15: =IFERROR(Notes!AT14-L$1,"") -> -0.46936656 | M15: =IFERROR(Notes!AV14-M$1,"") -> -0.31976744 | N15: =IFERROR(Notes!AW14-N$1,"") -> -0.075833333 | O15: =IFERROR(Notes!AX14-O$1,"") -> 2.0661896 | P15: =IFERROR(Notes!AY14-P$1,"") -> -2.1164773 | Q15: =IFERROR(Notes!AZ14-Q$1,"") -> -0.95169082 | R15: =IFERROR(Notes!BA14-R$1,"") -> -0.85227273 | S15: =IFERROR(Notes!BB14-S$1,"") -> 5.8255814 | V15: Nom | W15: eleve 4
A16: eleve 14 | B16: =Notes!C15 -> 1 | C16: =IFERROR(Notes!P15-C$1,"") -> -2.2560386 | D16: =IFERROR(Notes!U15-D$1,"") -> 0.54814815 | E16: =IFERROR(Notes!AB15-E$1,"") -> 1.4005682 | F16: =IFERROR(Notes!AH15-F$1,"") -> -1.9709302 | G16: =IFERROR(Notes!AJ15-G$1,"") -> -6.7777778 | H16: =IFERROR(Notes!AK15-H$1,"") -> -2.7111111 | I16: =IFERROR(Notes!AL15-I$1,"") -> -1.9363636 | J16: =IFERROR(Notes!AM15-J$1,"") -> -4.0227273 | K16: =IFERROR(Notes!AN15-K$1,"") -> -3.2790698 | L16: =IFERROR(Notes!AT15-L$1,"") -> -1.7777778 | M16: =IFERROR(Notes!AV15-M$1,"") -> 0.18023256 | N16: =IFERROR(Notes!AW15-N$1,"") -> -1.7425 | O16: =IFERROR(Notes!AX15-O$1,"") -> -4.8568873 | P16: =IFERROR(Notes!AY15-P$1,"") -> 1.6335227 | Q16: =IFERROR(Notes!AZ15-Q$1,"") -> -2.2560386 | R16: =IFERROR(Notes!BA15-R$1,"") -> -0.85227273 | S16: =IFERROR(Notes!BB15-S$1,"") -> -2.1744186
A17: eleve 15 | B17: =Notes!C16 -> 2 | C17: =IFERROR(Notes!P16-C$1,"") -> 1.6570048 | D17: =IFERROR(Notes!U16-D$1,"") -> 2.8814815 | E17: =IFERROR(Notes!AB16-E$1,"") -> 2.4005682 | F17: =IFERROR(Notes!AH16-F$1,"") -> 3.4040698 | G17: =IFERROR(Notes!AJ16-G$1,"") -> 4.2222222 | H17: =IFERROR(Notes!AK16-H$1,"") -> -0.71111111 | I17: =IFERROR(Notes!AL16-I$1,"") -> 1.0636364 | J17: =IFERROR(Notes!AM16-J$1,"") -> 4.9772727 | K17: =IFERROR(Notes!AN16-K$1,"") -> 1.7209302 | L17: =IFERROR(Notes!AT16-L$1,"") -> 0.83904465 | M17: =IFERROR(Notes!AV16-M$1,"") -> 2.9302326 | N17: =IFERROR(Notes!AW16-N$1,"") -> 1.5908333 | O17: =IFERROR(Notes!AX16-O$1,"") -> 2.8354204 | P17: =IFERROR(Notes!AY16-P$1,"") -> 1.6335227 | Q17: =IFERROR(Notes!AZ16-Q$1,"") -> 4.7004831 | R17: =IFERROR(Notes!BA16-R$1,"") -> 3.1477273 | S17: =IFERROR(Notes!BB16-S$1,"") -> -1.6744186 | V17: Valeurs
A18: eleve 16 | B18: =Notes!C17 -> 2 | C18: =IFERROR(Notes!P17-C$1,"") -> 1.5483092 | D18: =IFERROR(Notes!U17-D$1,"") -> 0.21481481 | E18: =IFERROR(Notes!AB17-E$1,"") -> -0.47443182 | F18: =IFERROR(Notes!AH17-F$1,"") -> -2.2209302 | G18: =IFERROR(Notes!AJ17-G$1,"") -> 1.2222222 | H18: =IFERROR(Notes!AK17-H$1,"") -> -0.71111111 | I18: =IFERROR(Notes!AL17-I$1,"") -> -0.93636364 | J18: =IFERROR(Notes!AM17-J$1,"") -> 2.9772727 | K18: =IFERROR(Notes!AN17-K$1,"") -> 0.72093023 | L18: =IFERROR(Notes!AT17-L$1,"") -> -1.7777778 | M18: =IFERROR(Notes!AV17-M$1,"") -> -3.0697674 | N18: =IFERROR(Notes!AW17-N$1,"") -> 2.2575 | O18: =IFERROR(Notes!AX17-O$1,"") -> -1.0107335 | P18: =IFERROR(Notes!AY17-P$1,"") -> -1.8039773 | Q18: =IFERROR(Notes!AZ17-Q$1,"") -> 0.352657 | R18: =IFERROR(Notes!BA17-R$1,"") -> 0.14772727 | S18: =IFERROR(Notes!BB17-S$1,"") -> -0.1744186 | V18: Colle1 | W18: -3.7777778
A19: eleve 17 | B19: =Notes!C18 -> 1 | C19: =IFERROR(Notes!P18-C$1,"") -> 0.1352657 | D19: =IFERROR(Notes!U18-D$1,"") -> 1.2148148 | E19: =IFERROR(Notes!AB18-E$1,"") -> 0.77556818 | F19: =IFERROR(Notes!AH18-F$1,"") -> -1.0959302 | G19: =IFERROR(Notes!AJ18-G$1,"") -> 4.2222222 | H19: =IFERROR(Notes!AK18-H$1,"") -> 0.28888889 | I19: =IFERROR(Notes!AL18-I$1,"") -> 3.0636364 | J19: =IFERROR(Notes!AM18-J$1,"") -> -0.022727273 | K19: =IFERROR(Notes!AN18-K$1,"") -> 3.7209302 | L19: =IFERROR(Notes!AT18-L$1,"") -> 0.27829699 | M19: =IFERROR(Notes!AV18-M$1,"") -> -0.31976744 | N19: =IFERROR(Notes!AW18-N$1,"") -> 0.59083333 | O19: =IFERROR(Notes!AX18-O$1,"") -> 0.52772809 | P19: =IFERROR(Notes!AY18-P$1,"") -> -3.6789773 | Q19: =IFERROR(Notes!AZ18-Q$1,"") -> 0.78743961 | R19: =IFERROR(Notes!BA18-R$1,"") -> 2.3977273 | S19: =IFERROR(Notes!BB18-S$1,"") -> 4.3255814 | V19: Colle2 | W19: -6.7111111
A20: eleve 18 | B20: =Notes!C19 -> 2 | C20: =IFERROR(Notes!P19-C$1,"") -> 2.2004831 | D20: =IFERROR(Notes!U19-D$1,"") -> 3.8814815 | E20: =IFERROR(Notes!AB19-E$1,"") -> 3.9005682 | F20: =IFERROR(Notes!AH19-F$1,"") -> 5.6540698 | G20: =IFERROR(Notes!AJ19-G$1,"") -> 3.2222222 | H20: =IFERROR(Notes!AK19-H$1,"") -> 2.2888889 | I20: =IFERROR(Notes!AL19-I$1,"") -> 2.0636364 | J20: =IFERROR(Notes!AM19-J$1,"") -> -0.022727273 | K20: =IFERROR(Notes!AN19-K$1,"") -> 1.7209302 | L20: =IFERROR(Notes!AT19-L$1,"") -> 4.0166147 | M20: =IFERROR(Notes!AV19-M$1,"") -> -1.3197674 | N20: =IFERROR(Notes!AW19-N$1,"") -> 4.9241667 | O20: =IFERROR(Notes!AX19-O$1,"") -> 1.2969589 | P20: =IFERROR(Notes!AY19-P$1,"") -> 5.3835227 | Q20: =IFERROR(Notes!AZ19-Q$1,"") -> 3.6135266 | R20: =IFERROR(Notes!BA19-R$1,"") -> -0.60227273 | S20: =IFERROR(Notes!BB19-S$1,"") -> 3.3255814 | V20: Colle3
A21: eleve 19 | B21: =Notes!C20 -> 2 | C21: =IFERROR(Notes!P20-C$1,"") -> -0.62560386 | D21: =IFERROR(Notes!U20-D$1,"") -> -1.2851852 | E21: =IFERROR(Notes!AB20-E$1,"") -> 1.9005682 | F21: =IFERROR(Notes!AH20-F$1,"") -> 1.1540698 | G21: =IFERROR(Notes!AJ20-G$1,"") -> 3.2222222 | H21: =IFERROR(Notes!AK20-H$1,"") -> 1.2888889 | I21: =IFERROR(Notes!AL20-I$1,"") -> 2.0636364 | J21: =IFERROR(Notes!AM20-J$1,"") -> 1.9772727 | K21: =IFERROR(Notes!AN20-K$1,"") -> 3.7209302 | L21: =IFERROR(Notes!AT20-L$1,"") -> 1.3997923 | M21: =IFERROR(Notes!AV20-M$1,"") -> -1.3197674 | N21: =IFERROR(Notes!AW20-N$1,"") -> -0.075833333 | O21: =IFERROR(Notes!AX20-O$1,"") -> 0.1431127 | P21: =IFERROR(Notes!AY20-P$1,"") -> 0.071022727 | Q21: =IFERROR(Notes!AZ20-Q$1,"") -> -1.821256 | R21: =IFERROR(Notes!BA20-R$1,"") -> -0.35227273 | S21: =IFERROR(Notes!BB20-S$1,"") -> 1.8255814 | V21: Colle4 | W21: -3.0227273
A22: eleve 20 | B22: =Notes!C21 -> 2 | C22: =IFERROR(Notes!P21-C$1,"") -> -1.4951691 | D22: =IFERROR(Notes!U21-D$1,"") -> -2.2851852 | E22: =IFERROR(Notes!AB21-E$1,"") -> 1.5255682 | F22: =IFERROR(Notes!AH21-F$1,"") -> -2.4709302 | G22: =IFERROR(Notes!AJ21-G$1,"") -> 3.2222222 | H22: =IFERROR(Notes!AK21-H$1,"") -> 0.28888889 | I22: =IFERROR(Notes!AL21-I$1,"") -> 3.0636364 | J22: =IFERROR(Notes!AM21-J$1,"") -> 2.9772727 | K22: =IFERROR(Notes!AN21-K$1,"") -> -3.2790698 | L22: =IFERROR(Notes!AT21-L$1,"") -> -2.7123572 | M22: =IFERROR(Notes!AV21-M$1,"") -> 0.93023256 | N22: =IFERROR(Notes!AW21-N$1,"") -> -2.4091667 | O22: =IFERROR(Notes!AX21-O$1,"") -> -1.0107335 | P22: =IFERROR(Notes!AY21-P$1,"") -> -1.4914773 | Q22: =IFERROR(Notes!AZ21-Q$1,"") -> -1.821256 | R22: =IFERROR(Notes!BA21-R$1,"") -> -3.8522727 | S22: =IFERROR(Notes!BB21-S$1,"") -> -6.6744186 | V22: Colle5
A23: eleve 21 | B23: =Notes!C22 -> 2 | C23: =IFERROR(Notes!P22-C$1,"") -> 0.24396135 | D23: =IFERROR(Notes!U22-D$1,"") -> 2.5481481 | E23: =IFERROR(Notes!AB22-E$1,"") -> 1.0255682 | F23: =IFERROR(Notes!AH22-F$1,"") -> 0.65406977 | G23: =IFERROR(Notes!AJ22-G$1,"") -> -5.7777778 | H23: =IFERROR(Notes!AK22-H$1,"") -> -2.7111111 | I23: =IFERROR(Notes!AL22-I$1,"") -> -0.93636364 | J23: =IFERROR(Notes!AM22-J$1,"") -> -0.022727273 | K23: =IFERROR(Notes!AN22-K$1,"") -> 2.7209302 | L23: =IFERROR(Notes!AT22-L$1,"") -> -0.84319834 | M23: =IFERROR(Notes!AV22-M$1,"") -> 0.43023256 | N23: =IFERROR(Notes!AW22-N$1,"") -> 2.9241667 | O23: =IFERROR(Notes!AX22-O$1,"") -> -2.1645796 | P23: =IFERROR(Notes!AY22-P$1,"") -> -1.1789773 | Q23: =IFERROR(Notes!AZ22-Q$1,"") -> -2.9082126 | R23: =IFERROR(Notes!BA22-R$1,"") -> 1.6477273 | S23: =IFERROR(Notes!BB22-S$1,"") -> -0.6744186 | AG23: Souci!?
A24: eleve 22 | B24: =Notes!C23 -> 1 | C24: =IFERROR(Notes!P23-C$1,"") -> 0.67874396 | D24: =IFERROR(Notes!U23-D$1,"") -> -0.61851852 | E24: =IFERROR(Notes!AB23-E$1,"") | F24: =IFERROR(Notes!AH23-F$1,"") | G24: =IFERROR(Notes!AJ23-G$1,"") -> 2.2222222 | H24: =IFERROR(Notes!AK23-H$1,"") -> 2.2888889 | I24: =IFERROR(Notes!AL23-I$1,"") -> -1.9363636 | J24: =IFERROR(Notes!AM23-J$1,"") -> -2.0227273 | K24: =IFERROR(Notes!AN23-K$1,"") | L24: =IFERROR(Notes!AT23-L$1,"") -> -4.5815161 | M24: =IFERROR(Notes!AV23-M$1,"") | N24: =IFERROR(Notes!AW23-N$1,"") -> -5.7425 | O24: =IFERROR(Notes!AX23-O$1,"") | P24: =IFERROR(Notes!AY23-P$1,"") | Q24: =IFERROR(Notes!AZ23-Q$1,"") -> -5.9516908 | R24: =IFERROR(Notes!BA23-R$1,"") -> -1.3522727 | S24: =IFERROR(Notes!BB23-S$1,"") -> -1.1744186
A25: eleve 23 | B25: =Notes!C24 -> 2 | C25: =IFERROR(Notes!P24-C$1,"") -> 3.8309179 | D25: =IFERROR(Notes!U24-D$1,"") -> 3.8814815 | E25: =IFERROR(Notes!AB24-E$1,"") -> 5.4005682 | F25: =IFERROR(Notes!AH24-F$1,"") -> 3.6540698 | G25: =IFERROR(Notes!AJ24-G$1,"") -> 3.2222222 | H25: =IFERROR(Notes!AK24-H$1,"") -> 4.2888889 | I25: =IFERROR(Notes!AL24-I$1,"") -> -1.9363636 | J25: =IFERROR(Notes!AM24-J$1,"") -> -1.0227273 | K25: =IFERROR(Notes!AN24-K$1,"") -> 0.72093023 | L25: =IFERROR(Notes!AT24-L$1,"") -> 1.3997923 | M25: =IFERROR(Notes!AV24-M$1,"") -> 4.1802326 | N25: =IFERROR(Notes!AW24-N$1,"") -> 1.9241667 | O25: =IFERROR(Notes!AX24-O$1,"") -> 5.5277281 | P25: =IFERROR(Notes!AY24-P$1,"") -> 4.1335227 | Q25: =IFERROR(Notes!AZ24-Q$1,"") -> -0.51690821 | R25: =IFERROR(Notes!BA24-R$1,"") -> 4.1477273 | S25: =IFERROR(Notes!BB24-S$1,"") -> 2.3255814
A26: eleve 24 | B26: =Notes!C25 -> 2 | C26: =IFERROR(Notes!P25-C$1,"") -> -2.0386473 | D26: =IFERROR(Notes!U25-D$1,"") -> -3.7851852 | E26: =IFERROR(Notes!AB25-E$1,"") -> -5.8494318 | F26: =IFERROR(Notes!AH25-F$1,"") -> -4.0959302 | G26: =IFERROR(Notes!AJ25-G$1,"") -> 0.22222222 | H26: =IFERROR(Notes!AK25-H$1,"") -> 1.2888889 | I26: =IFERROR(Notes!AL25-I$1,"") -> -1.9363636 | J26: =IFERROR(Notes!AM25-J$1,"") -> -4.0227273 | K26: =IFERROR(Notes!AN25-K$1,"") -> -0.27906977 | L26: =IFERROR(Notes!AT25-L$1,"") -> 0.46521288 | M26: =IFERROR(Notes!AV25-M$1,"") -> -4.3197674 | N26: =IFERROR(Notes!AW25-N$1,"") -> 0.92416667 | O26: =IFERROR(Notes!AX25-O$1,"") -> -5.2415027 | P26: =IFERROR(Notes!AY25-P$1,"") -> -1.8039773 | Q26: =IFERROR(Notes!AZ25-Q$1,"") -> -2.0386473 | R26: =IFERROR(Notes!BA25-R$1,"") -> 0.14772727 | S26: =IFERROR(Notes!BB25-S$1,"") -> -3.1744186
A27: eleve 25 | B27: =Notes!C26 -> 2 | C27: =IFERROR(Notes!P26-C$1,"") -> 1.8743961 | D27: =IFERROR(Notes!U26-D$1,"") -> 1.8814815 | E27: =IFERROR(Notes!AB26-E$1,"") -> 0.27556818 | F27: =IFERROR(Notes!AH26-F$1,"") -> 2.4040698 | G27: =IFERROR(Notes!AJ26-G$1,"") -> 0.22222222 | H27: =IFERROR(Notes!AK26-H$1,"") -> 2.2888889 | I27: =IFERROR(Notes!AL26-I$1,"") -> 5.0636364 | J27: =IFERROR(Notes!AM26-J$1,"") -> -0.022727273 | K27: =IFERROR(Notes!AN26-K$1,"") -> -0.27906977 | L27: =IFERROR(Notes!AT26-L$1,"") -> 1.96054 | M27: =IFERROR(Notes!AV26-M$1,"") -> 5.4302326 | N27: =IFERROR(Notes!AW26-N$1,"") -> -1.0758333 | O27: =IFERROR(Notes!AX26-O$1,"") -> -0.62611807 | P27: =IFERROR(Notes!AY26-P$1,"") -> 1.0085227 | Q27: =IFERROR(Notes!AZ26-Q$1,"") -> 5.1352657 | R27: =IFERROR(Notes!BA26-R$1,"") -> 3.1477273 | S27: =IFERROR(Notes!BB26-S$1,"") -> -0.1744186
A28: eleve 26 | B28: =Notes!C27 -> 1 | C28: =IFERROR(Notes!P27-C$1,"") -> -1.6038647 | D28: =IFERROR(Notes!U27-D$1,"") -> 1.0481481 | E28: =IFERROR(Notes!AB27-E$1,"") -> -3.3494318 | F28: =IFERROR(Notes!AH27-F$1,"") -> -2.2209302 | G28: =IFERROR(Notes!AJ27-G$1,"") -> 1.2222222 | H28: =IFERROR(Notes!AK27-H$1,"") -> 1.2888889 | I28: =IFERROR(Notes!AL27-I$1,"") -> -3.9363636 | J28: =IFERROR(Notes!AM27-J$1,"") -> -0.022727273 | K28: =IFERROR(Notes!AN27-K$1,"") -> -0.27906977 | L28: =IFERROR(Notes!AT27-L$1,"") -> 0.46521288 | M28: =IFERROR(Notes!AV27-M$1,"") -> -0.56976744 | N28: =IFERROR(Notes!AW27-N$1,"") -> 3.5908333 | O28: =IFERROR(Notes!AX27-O$1,"") -> 3.9892665 | P28: =IFERROR(Notes!AY27-P$1,"") -> 1.3210227 | Q28: =IFERROR(Notes!AZ27-Q$1,"") -> 3.8309179 | R28: =IFERROR(Notes!BA27-R$1,"") -> 1.3977273 | S28: =IFERROR(Notes!BB27-S$1,"") -> 1.3255814 | V28: Groupe | W28: (Tous)
A29: eleve 27 | B29: =Notes!C28 -> 2 | C29: =IFERROR(Notes!P28-C$1,"") -> -0.40821256 | D29: =IFERROR(Notes!U28-D$1,"") -> -0.61851852 | E29: =IFERROR(Notes!AB28-E$1,"") -> 3.1505682 | F29: =IFERROR(Notes!AH28-F$1,"") -> -1.9709302 | G29: =IFERROR(Notes!AJ28-G$1,"") -> 1.2222222 | H29: =IFERROR(Notes!AK28-H$1,"") -> 2.2888889 | I29: =IFERROR(Notes!AL28-I$1,"") -> -5.9363636 | J29: =IFERROR(Notes!AM28-J$1,"") -> 1.9772727 | K29: =IFERROR(Notes!AN28-K$1,"") -> 0.72093023 | L29: =IFERROR(Notes!AT28-L$1,"") -> 0.65212876 | M29: =IFERROR(Notes!AV28-M$1,"") -> -1.8197674 | N29: =IFERROR(Notes!AW28-N$1,"") -> -2.4091667 | O29: =IFERROR(Notes!AX28-O$1,"") -> -3.3184258 | P29: =IFERROR(Notes!AY28-P$1,"") -> -2.4289773 | Q29: =IFERROR(Notes!AZ28-Q$1,"") -> -3.9951691 | R29: =IFERROR(Notes!BA28-R$1,"") -> 4.1477273 | S29: =IFERROR(Notes!BB28-S$1,"") -> 3.3255814 | V29: Nom | W29: eleve 4
A30: eleve 28 | B30: =Notes!C29 -> 1 | C30: =IFERROR(Notes!P29-C$1,"") -> -2.3647343 | D30: =IFERROR(Notes!U29-D$1,"") -> -5.9518519 | E30: =IFERROR(Notes!AB29-E$1,"") -> -0.72443182 | F30: =IFERROR(Notes!AH29-F$1,"") -> -4.7209302 | G30: =IFERROR(Notes!AJ29-G$1,"") -> -3.7777778 | H30: =IFERROR(Notes!AK29-H$1,"") -> 0.28888889 | I30: =IFERROR(Notes!AL29-I$1,"") -> -4.9363636 | J30: =IFERROR(Notes!AM29-J$1,"") -> -1.0227273 | K30: =IFERROR(Notes!AN29-K$1,"") -> -3.2790698 | L30: =IFERROR(Notes!AT29-L$1,"") -> -4.5815161 | M30: =IFERROR(Notes!AV29-M$1,"") -> -2.5697674 | N30: =IFERROR(Notes!AW29-N$1,"") -> -1.0758333 | O30: =IFERROR(Notes!AX29-O$1,"") -> -1.0107335 | P30: =IFERROR(Notes!AY29-P$1,"") -> -4.6164773 | Q30: =IFERROR(Notes!AZ29-Q$1,"") -> -4.2125604 | R30: =IFERROR(Notes!BA29-R$1,"") -> -2.1022727 | S30: =IFERROR(Notes!BB29-S$1,"") -> -3.1744186
