Workbook
Name C_B: 'Matrice de Prouty Brut'!$B$7:$F$7
Name C_C: 'Matrice de Prouty Corrigé'!$B$7:$F$7
Name C_P: 'Matrice de Prouty Pondéré'!$B$7:$F$7
Name L_B: 'Matrice de Prouty Brut'!$B$3:$B$7
Name L_C: 'Matrice de Prouty Corrigé'!$B$3:$B$6
Name L_P: 'Matrice de Prouty Pondéré'!$B$3:$B$7
Name M_B: 'Matrice de Prouty Brut'!$B$3:$F$7
Name M_C: 'Matrice de Prouty Corrigé'!$B$3:$F$7
Name M_P: 'Matrice de Prouty Pondéré'!$B$3:$F$7

Sheet scenarii triés
A1: SCENARII
A2: N° risque | B2: CIBLE | C2: ACTION | D2: AUTEUR | E2: MODE OPERATOIRE | F2: SCENARIO LITERAL
A3: Patrimoine Materiels (outils de production, fluides, énergies,MP…)
A4: RPMAT1 | B4: Une ou des installations techniques EXT( fluide, énergie, moyens communication) | C4: est dégradé | D4: la petite délinquance/opportunistes | E4: destruction avec intrusion (jeux, défis…) | F4: =CONCATENATE(B4," ",C4," par ",D4," ",E4) -> Une ou des installations techniques EXT( fluide, énergie, moyens communication) est dégradé par la petite délinquance/opportunistes destruction avec intrusion (jeux, défis…)
A5: RPMAT2 | B5: Les cuves du stockage des fluides toxiques | C5: est dégradé | D5: le personnel, les e.e., les sous-traitants | E5: un sabotage | F5: =CONCATENATE(B5," ",C5," par ",D5," ",E5) -> Les cuves du stockage des fluides toxiques est dégradé par le personnel, les e.e., les sous-traitants un sabotage
A6: RPMAT3 | B6: Les systèmes d'énergies, les fluides | C6: sont volés | D6: la délinquance itinérante | E6: la fraude | F6: =CONCATENATE(B6," ",C6," par ",D6," ",E6) -> Les systèmes d'énergies, les fluides sont volés par la délinquance itinérante la fraude
A7: RPMAT4 | B7: Charriots élévateur | C7: sont volés | D7: la délinquance/criminalité en bande organisée | E7: par intrusion avec effraction en force | F7: =CONCATENATE(B7," ",C7," par ",D7," ",E7) -> Charriots élévateur sont volés par la délinquance/criminalité en bande organisée par intrusion avec effraction en force
A8: RPMAT5 | B8: L'environnement | C8: est polué | D8: les activistes | E8: par un sabotage de la zone de stockage des fluides toxiques après intruison discrète, ruse ou sauvage | F8: =CONCATENATE(B8," ",C8," par ",D8," ",E8) -> L'environnement est polué par les activistes par un sabotage de la zone de stockage des fluides toxiques après intruison discrète, ruse ou sauvage
A9: RPMAT6 | B9: Le matériel, meubles, bureautique… | C9: est dégradé | D9: la délinquance organisée | E9: suite à une intrusion précédée d'une effraction | F9: =CONCATENATE(B9," ",C9," par ",D9," ",E9) -> Le matériel, meubles, bureautique… est dégradé par la délinquance organisée suite à une intrusion précédée d'une effraction
A10: RPMAT7 | B10: Les locaux | C10: est dégradé | D10: les activistes | E10: suite à une intrusion par effraction | F10: =CONCATENATE(B10," ",C10," par ",D10," ",E10) -> Les locaux est dégradé par les activistes suite à une intrusion par effraction
A11: RPMAT8 | B11: Les véhicules des personnels ou sociétés | C11: sont dégradés | D11: la petite délinquance/opportunitée | E11: par détoriation partielle après intrusion | F11: =CONCATENATE(B11," ",C11," par ",D11," ",E11) -> Les véhicules des personnels ou sociétés sont dégradés par la petite délinquance/opportunitée par détoriation partielle après intrusion
A12: RPMAT9 | B12: Les véhicules des personnels ou sociétés | C12: est dégradé | D12: le personnel | E12: discrétement | F12: =CONCATENATE(B12," ",C12," par ",D12," ",E12) -> Les véhicules des personnels ou sociétés est dégradé par le personnel discrétement
A13: RPMAT10 | B13: Une ou des installations techniques EXT | C13: est détruit | D13: la petite délinquance | E13: par incendie (feu de camp, mégo, jeux..)précédé d'une intrusion | F13: =CONCATENATE(B13," ",C13," par ",D13," ",E13) -> Une ou des installations techniques EXT est détruit par la petite délinquance par incendie (feu de camp, mégo, jeux..)précédé d'une intrusion
A14: RPMAT11 | B14: Les matériels electro portatifs/outillages léger | C14: est volé | D14: la petite délinquance / opportunitée / itinérante | E14: par intrusion avec effraction | F14: =CONCATENATE(B14," ",C14," par ",D14," ",E14) -> Les matériels electro portatifs/outillages léger est volé par la petite délinquance / opportunitée / itinérante par intrusion avec effraction
A15: RPMAT12 | B15: Les matériels informatiques/vidéo | C15: est volé | D15: la petite délinquance / opportunitée / itinérante | E15: par intrusion avec effraction | F15: =CONCATENATE(B15," ",C15," par ",D15," ",E15) -> Les matériels informatiques/vidéo est volé par la petite délinquance / opportunitée / itinérante par intrusion avec effraction
... A31: RPMAT28 | B31: VL personnels (objets…) | C31: est volé | D31: la petite délinquance / opportuniste | E31: suite à une effraction (roulotte) | F31: =CONCATENATE(B31," ",C31," par ",D31," ",E31) -> VL personnels (objets…) est volé par la petite délinquance / opportuniste suite à une effraction (roulotte)
A32: Risque sur les personnes
A33: RPERS29 | B33: Le dirigeant et le personnel | C33: est agressé | D33: la délinquance itinérante | E33: par contacts verbales et physiques | F33: =CONCATENATE(B33," ",C33," par ",D33," ",E33) -> Le dirigeant et le personnel est agressé par la délinquance itinérante par contacts verbales et physiques
A34: RPERS30 | B34: Le dirigeant et/ou l'(les)homme(s) clé | C34: est agressé | D34: la petite délinquance/ opportuniste | E34: par action violente sur le parking de l'entreprise | F34: =CONCATENATE(B34," ",C34," par ",D34," ",E34) -> Le dirigeant et/ou l'(les)homme(s) clé est agressé par la petite délinquance/ opportuniste par action violente sur le parking de l'entreprise
A35: RPERS31 | B35: Le dirigeant et/ou l'(les)homme(s) clé | C35: est agressé | D35: la délinquance/criminalité en bande organisée / les activistes | E35: home jacking | F35: =CONCATENATE(B35," ",C35," par ",D35," ",E35) -> Le dirigeant et/ou l'(les)homme(s) clé est agressé par la délinquance/criminalité en bande organisée / les activistes home jacking
A36: RPERS32 | B36: Le dirigeant et/ou l'(les)homme(s) clé | C36: est séquestré | D36: la grand bandistisme / les activistes | E36: par action violente /menaces/contraintes sur son lieu de résidence | F36: =CONCATENATE(B36," ",C36," par ",D36," ",E36) -> Le dirigeant et/ou l'(les)homme(s) clé est séquestré par la grand bandistisme / les activistes par action violente /menaces/contraintes sur son lieu de résidence
A37: RPERS33 | B37: Le dirigeant et/ou l'(les)homme(s) clé | C37: est séquestré | D37: le grand bandistisme / personnel / les activistes | E37: par action violente /menaces/contraintes sur son lieu de travail | F37: =CONCATENATE(B37," ",C37," par ",D37," ",E37) -> Le dirigeant et/ou l'(les)homme(s) clé est séquestré par le grand bandistisme / personnel / les activistes par action violente /menaces/contraintes sur son lieu de travail
A38: RPERS34 | B38: Le personnel | C38: est atteint (tué, blessé) | D38: des terroristes | E38: par action kamikaze / prise d'otage | F38: =CONCATENATE(B38," ",C38," par ",D38," ",E38) -> Le personnel est atteint (tué, blessé) par des terroristes par action kamikaze / prise d'otage
A39: RPERS35 | B39: L'intégrité physique des personnels | C39: est atteint (tué, blessé) | D39: le crime organisée | E39: par action violente précédé par un braquage… | F39: =CONCATENATE(B39," ",C39," par ",D39," ",E39) -> L'intégrité physique des personnels est atteint (tué, blessé) par le crime organisée par action violente précédé par un braquage…
A40: RPERS36 | B40: Le personnel | C40: est agressé | D40: la petite délinquance / opportuniste | E40: par action violente | F40: =CONCATENATE(B40," ",C40," par ",D40," ",E40) -> Le personnel est agressé par la petite délinquance / opportuniste par action violente
A41: RPERS37 | B41: L'ensemble des personnels | C41: est agressé | D41: un membre du personnel | E41: par action violente ou non du à un phénomène de radicalisation | F41: =CONCATENATE(B41," ",C41," par ",D41," ",E41) -> L'ensemble des personnels est agressé par un membre du personnel par action violente ou non du à un phénomène de radicalisation
A42: RPERS38 | B42: Le personnel entreprise externe | C42: est agressé | D42: la petite délinquance/ opportuniste | E42: par action violente | F42: =CONCATENATE(B42," ",C42," par ",D42," ",E42) -> Le personnel entreprise externe est agressé par la petite délinquance/ opportuniste par action violente
A43: RPERS39 | B43: Le personnel entreprise externe (chauffeur) | C43: est agressé | D43: la délinquance/criminalité en bande organisée | E43: truck jacking | F43: =CONCATENATE(B43," ",C43," par ",D43," ",E43) -> Le personnel entreprise externe (chauffeur) est agressé par la délinquance/criminalité en bande organisée truck jacking
A44: RPERS40 | B44: Le personnel sous-traitant | C44: est agressé | D44: la petite délinquance/ opportuniste | E44: par action violente | F44: =CONCATENATE(B44," ",C44," par ",D44," ",E44) -> Le personnel sous-traitant est agressé par la petite délinquance/ opportuniste par action violente
A45: Risques sur le patrimoine immatériel
A46: RPIM41 | B46: Le patrimoine informationnel (recettes, brevets, portefeuille clients, facturation, données personnels…) | C46: est volé | D46: la délinquance organisée / crime organisé | E46: par intimidation | F46: =CONCATENATE(B46," ",C46," par ",D46," ",E46) -> Le patrimoine informationnel (recettes, brevets, portefeuille clients, facturation, données personnels…) est volé par la délinquance organisée / crime organisé par intimidation
A47: RPIM42 | B47: Le patrimoine informationnel (recettes, brevets, portefeuille clients, facturation, données personnels…) | C47: est volé | D47: la délinquance organisée / crime organisé / concurrence | E47: par compromission | F47: =CONCATENATE(B47," ",C47," par ",D47," ",E47) -> Le patrimoine informationnel (recettes, brevets, portefeuille clients, facturation, données personnels…) est volé par la délinquance organisée / crime organisé / concurrence par compromission
A48: RPIM43 | B48: Le patrimoine informationnel (recettes, brevets, portefeuille clients, facturation, données personnels…) | C48: est volé | D48: la délinquance organisée / crime organisé / concurrence | E48: par corruption | F48: =CONCATENATE(B48," ",C48," par ",D48," ",E48) -> Le patrimoine informationnel (recettes, brevets, portefeuille clients, facturation, données personnels…) est volé par la délinquance organisée / crime organisé / concurrence par corruption
A49: RPIM44 | B49: Le patrimoine informationnel (recettes, brevets, portefeuille clients, facturation, données personnels…) | C49: est volé | D49: la délinquance organisée / crime organisé / concurrence | E49: par espionnage | F49: =CONCATENATE(B49," ",C49," par ",D49," ",E49) -> Le patrimoine informationnel (recettes, brevets, portefeuille clients, facturation, données personnels…) est volé par la délinquance organisée / crime organisé / concurrence par espionnage
A50: RPIM45 | B50: Le patrimoine informationnel (recettes, brevets, portefeuille clients, facturation, données personnels…) | C50: est volé | D50: la délinquance organisée / crime organisé / concurrence | E50: par ruse (social engineering) | F50: =CONCATENATE(B50," ",C50," par ",D50," ",E50) -> Le patrimoine informationnel (recettes, brevets, portefeuille clients, facturation, données personnels…) est volé par la délinquance organisée / crime organisé / concurrence par ruse (social engineering)
A51: RPIM46 | B51: Le patrimoine informationnel (recettes, brevets, portefeuille clients, facturation, données personnels…) | C51: est espionné | D51: le grand banditisme | E51: par écoute illégale | F51: =CONCATENATE(B51," ",C51," par ",D51," ",E51) -> Le patrimoine informationnel (recettes, brevets, portefeuille clients, facturation, données personnels…) est espionné par le grand banditisme par écoute illégale
A52: RPIM47 | B52: Le patrimoine informationnel (recettes, brevets, portefeuille clients, facturation, données personnels…) | C52: est espionné | D52: la concurrence | E52: par observation | F52: =CONCATENATE(B52," ",C52," par ",D52," ",E52) -> Le patrimoine informationnel (recettes, brevets, portefeuille clients, facturation, données personnels…) est espionné par la concurrence par observation
A53: RPIM48 | B53: Le patrimoine informationnel (recettes, brevets, portefeuille clients, facturation, données personnels…) | C53: est espionné | D53: la concurrence | E53: piratage informatique | F53: =CONCATENATE(B53," ",C53," par ",D53," ",E53) -> Le patrimoine informationnel (recettes, brevets, portefeuille clients, facturation, données personnels…) est espionné par la concurrence piratage informatique
A54: RPIM49 | B54: Le patrimoine informationnel et le patrimoine financier | C54: est volé | D54: le crime organisé | E54: sous la contrainte | F54: =CONCATENATE(B54," ",C54," par ",D54," ",E54) -> Le patrimoine informationnel et le patrimoine financier est volé par le crime organisé sous la contrainte
A55: RPIM50 | B55: Le patrimoine informationnel (recettes, brevets, portefeuille clients, facturation, données personnels…) | C55: est volé | D55: le personnel | E55: par fraude et/ou ruse ( clé usb, photos documents,…) | F55: =CONCATENATE(B55," ",C55," par ",D55," ",E55) -> Le patrimoine informationnel (recettes, brevets, portefeuille clients, facturation, données personnels…) est volé par le personnel par fraude et/ou ruse ( clé usb, photos documents,…)
A56: RPIM51 | B56: Le patrimoine informationnel (recettes, brevets, portefeuille clients, facturation, données personnels…) | C56: est volé | D56: le personnel | E56: par intrusion logique | F56: =CONCATENATE(B56," ",C56," par ",D56," ",E56) -> Le patrimoine informationnel (recettes, brevets, portefeuille clients, facturation, données personnels…) est volé par le personnel par intrusion logique | H56: phishing | I56: cyberattacks
A57: RPIM52 | B57: Le système informatique | C57: est détruit / dégradé | D57: la délinquance cyber / Hacktivistes | E57: par une attaque logique cyber externe | F57: =CONCATENATE(B57," ",C57," par ",D57," ",E57) -> Le système informatique est détruit / dégradé par la délinquance cyber / Hacktivistes par une attaque logique cyber externe | I57: espionnage
A58: RPIM53 | B58: Le système informatique | C58: est détruit / dégradé | D58: le personnel | E58: par une attaque logique cyber interne (involontaire/volontaire) ou mauvaise manipulation | F58: =CONCATENATE(B58," ",C58," par ",D58," ",E58) -> Le système informatique est détruit / dégradé par le personnel par une attaque logique cyber interne (involontaire/volontaire) ou mauvaise manipulation | I58: destabilisation
A59: RPIM54 | B59: Les informations clés et le patrimoine financier | C59: soustrait | D59: la délinquance/criminalité en bande organisée | E59: home jacking hommes clés | F59: =CONCATENATE(B59," ",C59," par ",D59," ",E59) -> Les informations clés et le patrimoine financier soustrait par la délinquance/criminalité en bande organisée home jacking hommes clés
A60: RPIM55 | B60: Les informations clés et le patrimoine financier | C60: est soustrait | D60: la délinquance/criminalité en bande organisée | E60: contraintes sur proche du personnel | F60: =CONCATENATE(B60," ",C60," par ",D60," ",E60) -> Les informations clés et le patrimoine financier est soustrait par la délinquance/criminalité en bande organisée contraintes sur proche du personnel
A61: RPIM56 | B61: Les informations clés et le patrimoine financier | C61: est soustrait | D61: la délinquance/criminalité en bande organisée | E61: chantage du personnel | F61: =CONCATENATE(B61," ",C61," par ",D61," ",E61) -> Les informations clés et le patrimoine financier est soustrait par la délinquance/criminalité en bande organisée chantage du personnel
A62: RPIM57 | B62: L'image et la notoriété | C62: est atteint | D62: des terroristes | E62: par action Kamikaze / prise d'otage | F62: =CONCATENATE(B62," ",C62," par ",D62," ",E62) -> L'image et la notoriété est atteint par des terroristes par action Kamikaze / prise d'otage
A63: RPIM58 | B63: L'image et la notoriété | C63: est atteint | D63: le crime organisé /organisme publique / politique / justice | E63: par dénigrement / désinformation | F63: =CONCATENATE(B63," ",C63," par ",D63," ",E63) -> L'image et la notoriété est atteint par le crime organisé /organisme publique / politique / justice par dénigrement / désinformation
A64: RPIM59 | B64: L'image et la notoriété | C64: est dégradé | D64: le personnel ou ancien personnels | E64: par divulgation voie de press, ou réseau socio (Fake news, social engineering) | F64: =CONCATENATE(B64," ",C64," par ",D64," ",E64) -> L'image et la notoriété est dégradé par le personnel ou ancien personnels par divulgation voie de press, ou réseau socio (Fake news, social engineering)
A65: RPIM60 | B65: L'image et la notoriété | C65: est dégradé | D65: la concurrence | E65: par divulgation voie de press, ou réseau socio (Fake news, social engineering) | F65: =CONCATENATE(B65," ",C65," par ",D65," ",E65) -> L'image et la notoriété est dégradé par la concurrence par divulgation voie de press, ou réseau socio (Fake news, social engineering)
A66: RPIM61 | B66: L'image et la notoriété | C66: est dégradé | D66: des activistes | E66: par désinformation, divulgation voie de press, ou réseau socio (Fake news, social engineering) | F66: =CONCATENATE(B66," ",C66," par ",D66," ",E66) -> L'image et la notoriété est dégradé par des activistes par désinformation, divulgation voie de press, ou réseau socio (Fake news, social engineering)
A67: RPIM62 | B67: L'image et la notoriété | C67: est dégradé | D67: des activistes | E67: par action forte d'envahissement de l'entreprise avec médiatisation | F67: =CONCATENATE(B67," ",C67," par ",D67," ",E67) -> L'image et la notoriété est dégradé par des activistes par action forte d'envahissement de l'entreprise avec médiatisation
A68: RPIM63 | B68: L'image et la notoriété | C68: est dégradé | D68: des activistes | E68: par action forte d'envahissement d'entreprise externe / sous-traitant avec médiatisation | F68: =CONCATENATE(B68," ",C68," par ",D68," ",E68) -> L'image et la notoriété est dégradé par des activistes par action forte d'envahissement d'entreprise externe / sous-traitant avec médiatisation
A69: RPIM64 | B69: Les actifs techniques | C69: sont détruits / neutralisés | D69: la délinquance cyber / Hacktivistes | E69: par social engineering, documents piégés, phishing | F69: =CONCATENATE(B69," ",C69," par ",D69," ",E69) -> Les actifs techniques sont détruits / neutralisés par la délinquance cyber / Hacktivistes par social engineering, documents piégés, phishing
A70: RPIM65 | B70: L'image et la notoriété | C70: est dégradé | D70: le personnel | E70: par une mauvaise utilisation du web | F70: =CONCATENATE(B70," ",C70," par ",D70," ",E70) -> L'image et la notoriété est dégradé par le personnel par une mauvaise utilisation du web
... A73: RPIM68 | B73: L'image/patrimoine financiers | C73: est atteint | D73: le crime organisé / la concurrence | E73: par ruse (social engineering) | F73: =CONCATENATE(B73," ",C73," par ",D73," ",E73) -> L'image/patrimoine financiers est atteint par le crime organisé / la concurrence par ruse (social engineering)
A74: Risques sur le patrimoine financier
A75: RPFIN69 | B75: Le patrimoine financier | C75: est détruit | D75: les terroristes | E75: par action Kamikaze | F75: =CONCATENATE(B75," ",C75," par ",D75," ",E75) -> Le patrimoine financier est détruit par les terroristes par action Kamikaze
A76: RPFIN70 | B76: Le patrimoine financier | C76: est détourné | D76: le personnel | E76: par fraude, escroquerie, malversation | F76: =CONCATENATE(B76," ",C76," par ",D76," ",E76) -> Le patrimoine financier est détourné par le personnel par fraude, escroquerie, malversation
A77: RPFIN71 | B77: Le patrimoine financier | C77: est volé | D77: le crime organisé/Cybercrim | E77: par intrusion logique (ranconwere,…) et chantage | F77: =CONCATENATE(B77," ",C77," par ",D77," ",E77) -> Le patrimoine financier est volé par le crime organisé/Cybercrim par intrusion logique (ranconwere,…) et chantage
A78: RPFIN72 | B78: Le patrimoine financier | C78: est volé | D78: le crime organisé | E78: par escroquerie et faux | F78: =CONCATENATE(B78," ",C78," par ",D78," ",E78) -> Le patrimoine financier est volé par le crime organisé par escroquerie et faux
A79: RPFIN73 | B79: Le patrimoine financier | C79: est volé | D79: les e.e., sous-traitants | E79: par escroquerie et faux | F79: =CONCATENATE(B79," ",C79," par ",D79," ",E79) -> Le patrimoine financier est volé par les e.e., sous-traitants par escroquerie et faux
A80: RPFIN74 | B80: Le patrimoine financier et/ou le C.A. | C80: est déprécié indirectement | D80: les legislateurs pays, les clients | E80: par renouvellement réglementaire, legislatif, contractuel | F80: =CONCATENATE(B80," ",C80," par ",D80," ",E80) -> Le patrimoine financier et/ou le C.A. est déprécié indirectement par les legislateurs pays, les clients par renouvellement réglementaire, legislatif, contractuel
A81: RPFIN75 | B81: Le patrimoine financier et/ou le C.A. | C81: est déprécié indirectement | D81: les pays d'origine échanges commerciales, communautés,… | E81: conflits, relation dipplomatique divergente,… | F81: =CONCATENATE(B81," ",C81," par ",D81," ",E81) -> Le patrimoine financier et/ou le C.A. est déprécié indirectement par les pays d'origine échanges commerciales, communautés,… conflits, relation dipplomatique divergente,…
A82: RISQUES DOMINO impact sur la societe (Fournisseurs, E.E., sous-traitants…)
A83: REXT76 | B83: Les Fluides, énergies, moyens de communications… | C83: est saboté | D83: tous types auteurs | E83: via toutes types d'actions | F83: =CONCATENATE(B83," ",C83," par ",D83," ",E83) -> Les Fluides, énergies, moyens de communications… est saboté par tous types auteurs via toutes types d'actions
A84: REXT77 | B84: Le patrimoine immatériel (données, informations,…) | C84: est volé / détruit / altéré | D84: tous types auteurs | E84: via toutes types d'actions | F84: =CONCATENATE(B84," ",C84," par ",D84," ",E84) -> Le patrimoine immatériel (données, informations,…) est volé / détruit / altéré par tous types auteurs via toutes types d'actions
A85: REXT78 | B85: Le patrimoine matériel (MP,…) | C85: est volé / détruit / dégradé | D85: tous types auteurs | E85: via toutes types d'actions | F85: =CONCATENATE(B85," ",C85," par ",D85," ",E85) -> Le patrimoine matériel (MP,…) est volé / détruit / dégradé par tous types auteurs via toutes types d'actions
A86: REXT79 | B86: Le système informatique | C86: est infecté | D86: tous auteurs cyber | E86: via toutes types d'actions | F86: =CONCATENATE(B86," ",C86," par ",D86," ",E86) -> Le système informatique est infecté par tous auteurs cyber via toutes types d'actions

Sheet Risque brut
A1: EVALUATION RISQUES BRUTS | P1: Cotation de la PROBABILITE (ou vraisemblance) :
A2: RISQUES | C2: G | D2: F | E2: GRAVITE | I2: FREQUENCE/VRAISEMBLANCE | M2: CRITICITE BRUT
A3: RPMAT1 | B3: ='scenarii triés'!F4 -> Une ou des installations techniques EXT( fluide, énergie, moyens communication) est dégradé par la petite délinquance/opportunistes destruction avec intrusion (jeux, défis…) | C3: 4 | D3: 2 | M3: =14 -> 14 | P3: 1 | Q3: 2 | R3: 3 | S3: 4
A4: RPMAT2 | B4: ='scenarii triés'!F5 -> Les cuves du stockage des fluides toxiques est dégradé par le personnel, les e.e., les sous-traitants un sabotage | C4: 4 | D4: 3 | M4: =15 -> 15 | P4: Evènement envisageable mais jamais survenu ou jamais décelé | Q4: Evènement s’étant produit une fois sur le site | R4: Evènement s’étant produit plusieurs fois | S4: Evènement déjà survenu pour la cible étudiée
A5: RPMAT3 | B5: ='scenarii triés'!F6 -> Les systèmes d'énergies, les fluides sont volés par la délinquance itinérante la fraude | C5: 2 | D5: 3 | M5: =8 -> 8
A6: RPMAT4 | B6: ='scenarii triés'!F7 -> Charriots élévateur sont volés par la délinquance/criminalité en bande organisée par intrusion avec effraction en force | C6: 3 | D6: 3 | M6: 12 | P6: Niveau d’appréciation de la GRAVITE :
A7: RPMAT5 | B7: ='scenarii triés'!F8 -> L'environnement est polué par les activistes par un sabotage de la zone de stockage des fluides toxiques après intruison discrète, ruse ou sauvage | C7: 4 | D7: 2 | M7: 14
A8: RPMAT6 | B8: ='scenarii triés'!F9 -> Le matériel, meubles, bureautique… est dégradé par la délinquance organisée suite à une intrusion précédée d'une effraction | C8: 2 | D8: 3 | M8: 8 | P8: 1 | Q8: 2 | R8: 3 | S8: 4
A9: RPMAT7 | B9: ='scenarii triés'!F10 -> Les locaux est dégradé par les activistes suite à une intrusion par effraction | C9: 3 | D9: 3 | M9: 12 | P9: Pas de conséquences prévisibles sur les activités | Q9: Conséquences limitées : arrêt de l’activité inférieur à 24h | R9: Conséquences importantes : arrêt de l’activité > à 24h et < à 48h | S9: Conséquences majeures : arrêt des opérations > 7 jrs Perte de marché Impact médiatique
A10: RPMAT8 | B10: ='scenarii triés'!F11 -> Les véhicules des personnels ou sociétés sont dégradés par la petite délinquance/opportunitée par détoriation partielle après intrusion | C10: 3 | D10: 4 | M10: 13
A11: RPMAT9 | B11: ='scenarii triés'!F12 -> Les véhicules des personnels ou sociétés est dégradé par le personnel discrétement | C11: 1 | D11: 1 | M11: 1
A12: RPMAT10 | B12: ='scenarii triés'!F13 -> Une ou des installations techniques EXT est détruit par la petite délinquance par incendie (feu de camp, mégo, jeux..)précédé d'une intrusion | C12: 4 | D12: 2 | M12: 14
A13: RPMAT11 | B13: ='scenarii triés'!F14 -> Les matériels electro portatifs/outillages léger est volé par la petite délinquance / opportunitée / itinérante par intrusion avec effraction | C13: 2 | D13: 3 | M13: 8
A14: RPMAT12 | B14: ='scenarii triés'!F15 -> Les matériels informatiques/vidéo est volé par la petite délinquance / opportunitée / itinérante par intrusion avec effraction | C14: 3 | D14: 3 | M14: 12
A15: RPMAT13 | B15: ='scenarii triés'!F16 -> Les MP, produits finis est volé par la délinquance itinérante par intrusion avec effraction | C15: 3 | D15: 2 | M15: 9
A16: RPMAT14 | B16: ='scenarii triés'!F17 -> Les MP, produits finis est détrourné par le personnel, les e.e., les sous-traitants par ruse | C16: 3 | D16: 3 | M16: 12
A17: RPMAT15 | B17: ='scenarii triés'!F18 -> Les MP, produits finis est volé par le personnel par ruse | C17: 3 | D17: 4 | M17: 13
A18: RPMAT16 | B18: ='scenarii triés'!F19 -> Les MP, produits finis est volé par le personnel par intrusion avec effraction | C18: 3 | D18: 3 | M18: 12
A19: RPMAT17 | B19: ='scenarii triés'!F20 -> Les MP, produits finis est volé par la délinquance organisée par braquage | C19: 4 | D19: 3 | M19: 15
A20: RPMAT18 | B20: ='scenarii triés'!F21 -> Les MP, produits finis est volé par la délinquance organisée / crime organisé par truckjacking | C20: 3 | D20: 2 | M20: 9 | O20: à voir sur F
A21: RPMAT19 | B21: ='scenarii triés'!F22 -> L'outil de production est dégradé par les activistes par détoriation mécanique majeur lors d'une intrusion en force sur le site | C21: 4 | D21: 2 | M21: 14
A22: RPMAT20 | B22: ='scenarii triés'!F23 -> le produit fini est dégradé par le personnel par ajonction/mélange de produits chimique lors du process | C22: 4 | D22: 1 | M22: 10
A23: RPMAT21 | B23: ='scenarii triés'!F24 -> Une ou des installations techniques EXT( fluide, énergie, moyens communication) est saboté par la délinquance et le crime organisées par destruction | C23: 4 | D23: 1 | M23: 10
A24: RPMAT22 | B24: ='scenarii triés'!F25 -> points avec une forte capacité calorifique est détruit par le crime organisé par incendie (utilisation comburrant...) avec intrusion discrète / force de nuit | C24: 4 | D24: 2 | M24: 14 | O24: à refair
A25: RPMAT23 | B25: ='scenarii triés'!F26 -> procedés de production névralgique est détruit par la concurrence par incendie (...) de manière discrète | M25: = | O25: à refaire
A26: RPMAT24 | B26: ='scenarii triés'!F27 -> Palettes, Poubelles, Cuves stockage (eau, alcool) est détruit par le personnel, les e.e., les sous-traitants par incendie (intentionnel, utilisation matériaux, comburant sur place) | C26: 4 | D26: 4 | M26: 16
A27: RPMAT25 | B27: ='scenarii triés'!F28 -> Process est saboté par le personnel sur site à la suite d'une mauvaise execution volontaire | C27: 3 | D27: 2 | M27: 12
A28: RPMAT26 | B28: ='scenarii triés'!F29 -> Matériels (machine, produits finis), sources énergie et fluide est saboté par le personnel sur site par détruction volontaire suite à une manifestation dure | C28: 4 | D28: 2 | M28: 14
A29: RPMAT27 | B29: ='scenarii triés'!F30 -> Les locaux sont dégradés par la petite délinquance / opportuniste par grafiti | C29: 1 | D29: 3 | M29: 4
A30: RPMAT28 | B30: ='scenarii triés'!F31 -> VL personnels (objets…) est volé par la petite délinquance / opportuniste suite à une effraction (roulotte) | C30: 1 | D30: 3 | M30: 4
A31: RPERS29 | B31: ='scenarii triés'!F33 -> Le dirigeant et le personnel est agressé par la délinquance itinérante par contacts verbales et physiques | C31: 2 | D31: 3 | M31: 8
A32: RPERS30 | B32: ='scenarii triés'!F34 -> Le dirigeant et/ou l'(les)homme(s) clé est agressé par la petite délinquance/ opportuniste par action violente sur le parking de l'entreprise | C32: 2 | D32: 3 | M32: 8
A33: RPERS31 | B33: ='scenarii triés'!F35 -> Le dirigeant et/ou l'(les)homme(s) clé est agressé par la délinquance/criminalité en bande organisée / les activistes home jacking | C33: 2 | D33: 1 | M33: 3
A34: RPERS32 | B34: ='scenarii triés'!F36 -> Le dirigeant et/ou l'(les)homme(s) clé est séquestré par la grand bandistisme / les activistes par action violente /menaces/contraintes sur son lieu de résidence | C34: 2 | D34: 1 | M34: 3
A35: RPERS33 | B35: ='scenarii triés'!F37 -> Le dirigeant et/ou l'(les)homme(s) clé est séquestré par le grand bandistisme / personnel / les activistes par action violente /menaces/contraintes sur son lieu de travail | C35: 2 | D35: 2 | M35: 5
A36: RPERS34 | B36: ='scenarii triés'!F38 -> Le personnel est atteint (tué, blessé) par des terroristes par action kamikaze / prise d'otage | C36: 4 | D36: 2 | M36: 14
A37: RPERS35 | B37: ='scenarii triés'!F39 -> L'intégrité physique des personnels est atteint (tué, blessé) par le crime organisée par action violente précédé par un braquage… | C37: 3 | D37: 3 | M37: 12
A38: RPERS36 | B38: ='scenarii triés'!F40 -> Le personnel est agressé par la petite délinquance / opportuniste par action violente | C38: 2 | D38: 1 | M38: 3
A39: RPERS37 | B39: ='scenarii triés'!F41 -> L'ensemble des personnels est agressé par un membre du personnel par action violente ou non du à un phénomène de radicalisation | C39: 3 | D39: 2 | M39: 9
A40: RPERS38 | B40: ='scenarii triés'!F42 -> Le personnel entreprise externe est agressé par la petite délinquance/ opportuniste par action violente | C40: 2 | D40: 2 | M40: 5
A41: RPERS39 | B41: ='scenarii triés'!F43 -> Le personnel entreprise externe (chauffeur) est agressé par la délinquance/criminalité en bande organisée truck jacking | C41: 3 | D41: 2 | M41: 9
A42: RPERS40 | B42: ='scenarii triés'!F44 -> Le personnel sous-traitant est agressé par la petite délinquance/ opportuniste par action violente | C42: 2 | D42: 2 | M42: 5
A43: RPIM41 | B43: ='scenarii triés'!F46 -> Le patrimoine informationnel (recettes, brevets, portefeuille clients, facturation, données personnels…) est volé par la délinquance organisée / crime organisé par intimidation | C43: 4 | D43: 1 | M43: 10
A44: RPIM42 | B44: ='scenarii triés'!F47 -> Le patrimoine informationnel (recettes, brevets, portefeuille clients, facturation, données personnels…) est volé par la délinquance organisée / crime organisé / concurrence par compromission | C44: 3 | D44: 2 | M44: 9
A45: RPIM43 | B45: ='scenarii triés'!F48 -> Le patrimoine informationnel (recettes, brevets, portefeuille clients, facturation, données personnels…) est volé par la délinquance organisée / crime organisé / concurrence par corruption | C45: 3 | D45: 2 | M45: 9
A46: RPIM44 | B46: ='scenarii triés'!F49 -> Le patrimoine informationnel (recettes, brevets, portefeuille clients, facturation, données personnels…) est volé par la délinquance organisée / crime organisé / concurrence par espionnage | C46: 3 | D46: 2 | M46: 9
A47: RPIM45 | B47: ='scenarii triés'!F50 -> Le patrimoine informationnel (recettes, brevets, portefeuille clients, facturation, données personnels…) est volé par la délinquance organisée / crime organisé / concurrence par ruse (social engineering) | C47: 3 | D47: 2 | M47: 9
A48: RPIM46 | B48: ='scenarii triés'!F51 -> Le patrimoine informationnel (recettes, brevets, portefeuille clients, facturation, données personnels…) est espionné par le grand banditisme par écoute illégale | C48: 3 | D48: 1 | M48: 6
A49: RPIM47 | B49: ='scenarii triés'!F52 -> Le patrimoine informationnel (recettes, brevets, portefeuille clients, facturation, données personnels…) est espionné par la concurrence par observation | C49: 3 | D49: 3 | M49: 12
A50: RPIM48 | B50: ='scenarii triés'!F53 -> Le patrimoine informationnel (recettes, brevets, portefeuille clients, facturation, données personnels…) est espionné par la concurrence piratage informatique | C50: 3 | D50: 2 | M50: 9
A51: RPIM49 | B51: ='scenarii triés'!F54 -> Le patrimoine informationnel et le patrimoine financier est volé par le crime organisé sous la contrainte | C51: 3 | D51: 1 | M51: 6
A52: RPIM50 | B52: ='scenarii triés'!F55 -> Le patrimoine informationnel (recettes, brevets, portefeuille clients, facturation, données personnels…) est volé par le personnel par fraude et/ou ruse ( clé usb, photos documents,…) | C52: 3 | D52: 2 | M52: 9
A53: RPIM51 | B53: ='scenarii triés'!F56 -> Le patrimoine informationnel (recettes, brevets, portefeuille clients, facturation, données personnels…) est volé par le personnel par intrusion logique | C53: 3 | D53: 2 | M53: 9
A54: RPIM52 | B54: ='scenarii triés'!F57 -> Le système informatique est détruit / dégradé par la délinquance cyber / Hacktivistes par une attaque logique cyber externe | C54: 4 | D54: 3 | M54: 15
... A70: RPIM68 | B70: ='scenarii triés'!F73 -> L'image/patrimoine financiers est atteint par le crime organisé / la concurrence par ruse (social engineering) | C70: 4 | D70: 3 | M70: 15
A71: RPFIN69 | B71: ='scenarii triés'!F75 -> Le patrimoine financier est détruit par les terroristes par action Kamikaze | C71: 4 | D71: 2 | M71: 14
A72: RPFIN70 | B72: ='scenarii triés'!F76 -> Le patrimoine financier est détourné par le personnel par fraude, escroquerie, malversation | C72: 3 | D72: 2 | M72: 9
A73: RPFIN71 | B73: ='scenarii triés'!F77 -> Le patrimoine financier est volé par le crime organisé/Cybercrim par intrusion logique (ranconwere,…) et chantage | C73: 4 | D73: 4 | M73: 16
A74: RPFIN72 | B74: ='scenarii triés'!F78 -> Le patrimoine financier est volé par le crime organisé par escroquerie et faux | C74: 3 | D74: 1 | M74: 6
A75: RPFIN73 | B75: ='scenarii triés'!F79 -> Le patrimoine financier est volé par les e.e., sous-traitants par escroquerie et faux | C75: 3 | D75: 2 | M75: 9
A76: RPFIN74 | B76: ='scenarii triés'!F80 -> Le patrimoine financier et/ou le C.A. est déprécié indirectement par les legislateurs pays, les clients par renouvellement réglementaire, legislatif, contractuel | C76: 3 | D76: 3 | M76: 12
A77: RPFIN75 | B77: ='scenarii triés'!F81 -> Le patrimoine financier et/ou le C.A. est déprécié indirectement par les pays d'origine échanges commerciales, communautés,… conflits, relation dipplomatique divergente,… | C77: 3 | D77: 2 | M77: 9
A78: REXT76 | B78: ='scenarii triés'!F83 -> Les Fluides, énergies, moyens de communications… est saboté par tous types auteurs via toutes types d'actions | C78: 3 | D78: 4 | M78: 13
A79: REXT77 | B79: ='scenarii triés'!F84 -> Le patrimoine immatériel (données, informations,…) est volé / détruit / altéré par tous types auteurs via toutes types d'actions | C79: 3 | D79: 3 | M79: 12
A80: REXT78 | B80: ='scenarii triés'!F85 -> Le patrimoine matériel (MP,…) est volé / détruit / dégradé par tous types auteurs via toutes types d'actions | C80: 3 | D80: 2 | M80: 9
A81: REXT79 | B81: ='scenarii triés'!F86 -> Le système informatique est infecté par tous auteurs cyber via toutes types d'actions | C81: 4 | D81: 4 | M81: 16

Sheet Evaluation des Risques
A1: EVALUATION RISQUES BRUTS
A2: RISQUES | C2: G | D2: F | E2: GRAVITE | I2: FREQUENCE/VRAISEMBLANCE | M2: CRITICITE Brut | N2: G | O2: F | P2: CRITICITE Pondérée | Q2: G | R2: F | S2: CRITICITE Corrigée
A3: RPMAT1 | B3: ='scenarii triés'!F4 -> Une ou des installations techniques EXT( fluide, énergie, moyens communication) est dégradé par la petite délinquance/opportunistes destruction avec intrusion (jeux, défis…) | C3: 4 | D3: 2 | M3: =IFERROR(INDEX(M_B,MATCH(D3,L_B,0),MATCH(C3,C_B,0)),NA()) -> 14 | N3: 4 | O3: 2 | P3: =IFERROR(INDEX(M_P,MATCH(O3,L_P,0),MATCH(N3,C_P,0)),NA()) -> 14 | Q3: 4 | R3: 2 | S3: =IFERROR(INDEX(M_C,MATCH(R3,L_C,0),MATCH(Q3,C_C,0)),NA()) -> 14
A4: RPMAT2 | B4: ='scenarii triés'!F5 -> Les cuves du stockage des fluides toxiques est dégradé par le personnel, les e.e., les sous-traitants un sabotage | C4: 4 | D4: 3 | M4: =IFERROR(INDEX(M_B,MATCH(D4,L_B,0),MATCH(C4,C_B,0)),NA()) -> 15 | N4: 4 | O4: 3 | P4: =IFERROR(INDEX(M_P,MATCH(O4,L_P,0),MATCH(N4,C_P,0)),NA()) -> 15 | Q4: 4 | R4: 3 | S4: =IFERROR(INDEX(M_C,MATCH(R4,L_C,0),MATCH(Q4,C_C,0)),NA()) -> 15
A5: RPMAT3 | B5: ='scenarii triés'!F6 -> Les systèmes d'énergies, les fluides sont volés par la délinquance itinérante la fraude | C5: 2 | D5: 3 | M5: =IFERROR(INDEX(M_B,MATCH(D5,L_B,0),MATCH(C5,C_B,0)),NA()) -> 8 | N5: 2 | O5: 3 | P5: =IFERROR(INDEX(M_P,MATCH(O5,L_P,0),MATCH(N5,C_P,0)),NA()) -> 8 | Q5: 2 | R5: 3 | S5: =IFERROR(INDEX(M_C,MATCH(R5,L_C,0),MATCH(Q5,C_C,0)),NA()) -> 8
A6: RPMAT4 | B6: ='scenarii triés'!F7 -> Charriots élévateur sont volés par la délinquance/criminalité en bande organisée par intrusion avec effraction en force | C6: 3 | D6: 3 | M6: =IFERROR(INDEX(M_B,MATCH(D6,L_B,0),MATCH(C6,C_B,0)),NA()) -> 12 | N6: 3 | O6: 3 | P6: =IFERROR(INDEX(M_P,MATCH(O6,L_P,0),MATCH(N6,C_P,0)),NA()) -> 12 | Q6: 3 | R6: 3 | S6: =IFERROR(INDEX(M_C,MATCH(R6,L_C,0),MATCH(Q6,C_C,0)),NA()) -> 12
A7: RPMAT5 | B7: ='scenarii triés'!F8 -> L'environnement est polué par les activistes par un sabotage de la zone de stockage des fluides toxiques après intruison discrète, ruse ou sauvage | C7: 4 | D7: 2 | M7: =IFERROR(INDEX(M_B,MATCH(D7,L_B,0),MATCH(C7,C_B,0)),NA()) -> 14 | N7: 4 | O7: 2 | P7: =IFERROR(INDEX(M_P,MATCH(O7,L_P,0),MATCH(N7,C_P,0)),NA()) -> 14 | Q7: 4 | R7: 2 | S7: =IFERROR(INDEX(M_C,MATCH(R7,L_C,0),MATCH(Q7,C_C,0)),NA()) -> 14
A8: RPMAT6 | B8: ='scenarii triés'!F9 -> Le matériel, meubles, bureautique… est dégradé par la délinquance organisée suite à une intrusion précédée d'une effraction | C8: 2 | D8: 3 | M8: =IFERROR(INDEX(M_B,MATCH(D8,L_B,0),MATCH(C8,C_B,0)),NA()) -> 8 | N8: 2 | O8: 3 | P8: =IFERROR(INDEX(M_P,MATCH(O8,L_P,0),MATCH(N8,C_P,0)),NA()) -> 8 | Q8: 2 | R8: 3 | S8: =IFERROR(INDEX(M_C,MATCH(R8,L_C,0),MATCH(Q8,C_C,0)),NA()) -> 8
A9: RPMAT7 | B9: ='scenarii triés'!F10 -> Les locaux est dégradé par les activistes suite à une intrusion par effraction | C9: 3 | D9: 3 | M9: =IFERROR(INDEX(M_B,MATCH(D9,L_B,0),MATCH(C9,C_B,0)),NA()) -> 12 | N9: 3 | O9: 3 | P9: =IFERROR(INDEX(M_P,MATCH(O9,L_P,0),MATCH(N9,C_P,0)),NA()) -> 12 | Q9: 3 | R9: 3 | S9: =IFERROR(INDEX(M_C,MATCH(R9,L_C,0),MATCH(Q9,C_C,0)),NA()) -> 12
A10: RPMAT8 | B10: ='scenarii triés'!F11 -> Les véhicules des personnels ou sociétés sont dégradés par la petite délinquance/opportunitée par détoriation partielle après intrusion | C10: 3 | D10: 4 | M10: =IFERROR(INDEX(M_B,MATCH(D10,L_B,0),MATCH(C10,C_B,0)),NA()) -> 13 | N10: 3 | O10: 4 | P10: =IFERROR(INDEX(M_P,MATCH(O10,L_P,0),MATCH(N10,C_P,0)),NA()) -> 13 | Q10: 3 | R10: 4 | S10: =IFERROR(INDEX(M_C,MATCH(R10,L_C,0),MATCH(Q10,C_C,0)),NA()) -> 13
A11: RPMAT9 | B11: ='scenarii triés'!F12 -> Les véhicules des personnels ou sociétés est dégradé par le personnel discrétement | C11: 1 | D11: 1 | M11: =IFERROR(INDEX(M_B,MATCH(D11,L_B,0),MATCH(C11,C_B,0)),NA()) -> 1 | N11: 1 | O11: 1 | P11: =IFERROR(INDEX(M_P,MATCH(O11,L_P,0),MATCH(N11,C_P,0)),NA()) -> 1 | Q11: 1 | R11: 1 | S11: =IFERROR(INDEX(M_C,MATCH(R11,L_C,0),MATCH(Q11,C_C,0)),NA()) -> 1
A12: RPMAT10 | B12: ='scenarii triés'!F13 -> Une ou des installations techniques EXT est détruit par la petite délinquance par incendie (feu de camp, mégo, jeux..)précédé d'une intrusion | C12: 4 | D12: 2 | M12: =IFERROR(INDEX(M_B,MATCH(D12,L_B,0),MATCH(C12,C_B,0)),NA()) -> 14 | N12: 4 | O12: 2 | P12: =IFERROR(INDEX(M_P,MATCH(O12,L_P,0),MATCH(N12,C_P,0)),NA()) -> 14 | Q12: 4 | R12: 2 | S12: =IFERROR(INDEX(M_C,MATCH(R12,L_C,0),MATCH(Q12,C_C,0)),NA()) -> 14
A13: RPMAT11 | B13: ='scenarii triés'!F14 -> Les matériels electro portatifs/outillages léger est volé par la petite délinquance / opportunitée / itinérante par intrusion avec effraction | C13: 2 | D13: 3 | M13: =IFERROR(INDEX(M_B,MATCH(D13,L_B,0),MATCH(C13,C_B,0)),NA()) -> 8 | N13: 2 | O13: 3 | P13: =IFERROR(INDEX(M_P,MATCH(O13,L_P,0),MATCH(N13,C_P,0)),NA()) -> 8 | Q13: 2 | R13: 3 | S13: =IFERROR(INDEX(M_C,MATCH(R13,L_C,0),MATCH(Q13,C_C,0)),NA()) -> 8
A14: RPMAT12 | B14: ='scenarii triés'!F15 -> Les matériels informatiques/vidéo est volé par la petite délinquance / opportunitée / itinérante par intrusion avec effraction | C14: 3 | D14: 3 | M14: =IFERROR(INDEX(M_B,MATCH(D14,L_B,0),MATCH(C14,C_B,0)),NA()) -> 12 | N14: 3 | O14: 3 | P14: =IFERROR(INDEX(M_P,MATCH(O14,L_P,0),MATCH(N14,C_P,0)),NA()) -> 12 | Q14: 3 | R14: 3 | S14: =IFERROR(INDEX(M_C,MATCH(R14,L_C,0),MATCH(Q14,C_C,0)),NA()) -> 12
... A24: RPMAT22 | B24: ='scenarii triés'!F25 -> points avec une forte capacité calorifique est détruit par le crime organisé par incendie (utilisation comburrant...) avec intrusion discrète / force de nuit | C24: 4 | D24: 2 | M24: =IFERROR(INDEX(M_B,MATCH(D24,L_B,0),MATCH(C24,C_B,0)),NA()) -> 14 | N24: 4 | O24: 2 | P24: =IFERROR(INDEX(M_P,MATCH(O24,L_P,0),MATCH(N24,C_P,0)),NA()) -> 14 | Q24: 4 | R24: 2 | S24: =IFERROR(INDEX(M_C,MATCH(R24,L_C,0),MATCH(Q24,C_C,0)),NA()) -> 14
A25: RPMAT23 | B25: ='scenarii triés'!F26 -> procedés de production névralgique est détruit par la concurrence par incendie (...) de manière discrète | M25: =IFERROR(INDEX(M_B,MATCH(D25,L_B,0),MATCH(C25,C_B,0)),NA()) -> #N/A | P25: =IFERROR(INDEX(M_P,MATCH(O25,L_P,0),MATCH(N25,C_P,0)),NA()) -> #N/A | S25: =IFERROR(INDEX(M_C,MATCH(R25,L_C,0),MATCH(Q25,C_C,0)),NA()) -> #N/A
A26: RPMAT24 | B26: ='scenarii triés'!F27 -> Palettes, Poubelles, Cuves stockage (eau, alcool) est détruit par le personnel, les e.e., les sous-traitants par incendie (intentionnel, utilisation matériaux, comburant sur place) | C26: 4 | D26: 4 | M26: =IFERROR(INDEX(M_B,MATCH(D26,L_B,0),MATCH(C26,C_B,0)),NA()) -> 16 | N26: 4 | O26: 4 | P26: =IFERROR(INDEX(M_P,MATCH(O26,L_P,0),MATCH(N26,C_P,0)),NA()) -> 16 | Q26: 4 | R26: 4 | S26: =IFERROR(INDEX(M_C,MATCH(R26,L_C,0),MATCH(Q26,C_C,0)),NA()) -> 16
A27: RPMAT25 | B27: ='scenarii triés'!F28 -> Process est saboté par le personnel sur site à la suite d'une mauvaise execution volontaire | C27: 3 | D27: 2 | M27: =IFERROR(INDEX(M_B,MATCH(D27,L_B,0),MATCH(C27,C_B,0)),NA()) -> 9 | N27: 3 | O27: 2 | P27: =IFERROR(INDEX(M_P,MATCH(O27,L_P,0),MATCH(N27,C_P,0)),NA()) -> 9 | Q27: 3 | R27: 2 | S27: =IFERROR(INDEX(M_C,MATCH(R27,L_C,0),MATCH(Q27,C_C,0)),NA()) -> 9
A28: RPMAT26 | B28: ='scenarii triés'!F29 -> Matériels (machine, produits finis), sources énergie et fluide est saboté par le personnel sur site par détruction volontaire suite à une manifestation dure | C28: 4 | D28: 2 | M28: =IFERROR(INDEX(M_B,MATCH(D28,L_B,0),MATCH(C28,C_B,0)),NA()) -> 14 | N28: 4 | O28: 2 | P28: =IFERROR(INDEX(M_P,MATCH(O28,L_P,0),MATCH(N28,C_P,0)),NA()) -> 14 | Q28: 4 | R28: 2 | S28: =IFERROR(INDEX(M_C,MATCH(R28,L_C,0),MATCH(Q28,C_C,0)),NA()) -> 14
A29: RPMAT27 | B29: ='scenarii triés'!F30 -> Les locaux sont dégradés par la petite délinquance / opportuniste par grafiti | C29: 1 | D29: 3 | M29: =IFERROR(INDEX(M_B,MATCH(D29,L_B,0),MATCH(C29,C_B,0)),NA()) -> 4 | N29: 1 | O29: 3 | P29: =IFERROR(INDEX(M_P,MATCH(O29,L_P,0),MATCH(N29,C_P,0)),NA()) -> 4 | Q29: 1 | R29: 3 | S29: =IFERROR(INDEX(M_C,MATCH(R29,L_C,0),MATCH(Q29,C_C,0)),NA()) -> 4
A30: RPMAT28 | B30: ='scenarii triés'!F31 -> VL personnels (objets…) est volé par la petite délinquance / opportuniste suite à une effraction (roulotte) | C30: 1 | D30: 3 | M30: =IFERROR(INDEX(M_B,MATCH(D30,L_B,0),MATCH(C30,C_B,0)),NA()) -> 4 | N30: 1 | O30: 3 | P30: =IFERROR(INDEX(M_P,MATCH(O30,L_P,0),MATCH(N30,C_P,0)),NA()) -> 4 | Q30: 1 | R30: 3 | S30: =IFERROR(INDEX(M_C,MATCH(R30,L_C,0),MATCH(Q30,C_C,0)),NA()) -> 4
A31: RPERS29 | B31: ='scenarii triés'!F33 -> Le dirigeant et le personnel est agressé par la délinquance itinérante par contacts verbales et physiques | C31: 2 | D31: 3 | M31: =IFERROR(INDEX(M_B,MATCH(D31,L_B,0),MATCH(C31,C_B,0)),NA()) -> 8 | N31: 2 | O31: 3 | P31: =IFERROR(INDEX(M_P,MATCH(O31,L_P,0),MATCH(N31,C_P,0)),NA()) -> 8 | Q31: 2 | R31: 3 | S31: =IFERROR(INDEX(M_C,MATCH(R31,L_C,0),MATCH(Q31,C_C,0)),NA()) -> 8
A32: RPERS30 | B32: ='scenarii triés'!F34 -> Le dirigeant et/ou l'(les)homme(s) clé est agressé par la petite délinquance/ opportuniste par action violente sur le parking de l'entreprise | C32: 2 | D32: 3 | M32: =IFERROR(INDEX(M_B,MATCH(D32,L_B,0),MATCH(C32,C_B,0)),NA()) -> 8 | N32: 2 | O32: 3 | P32: =IFERROR(INDEX(M_P,MATCH(O32,L_P,0),MATCH(N32,C_P,0)),NA()) -> 8 | Q32: 2 | R32: 3 | S32: =IFERROR(INDEX(M_C,MATCH(R32,L_C,0),MATCH(Q32,C_C,0)),NA()) -> 8
A33: RPERS31 | B33: ='scenarii triés'!F35 -> Le dirigeant et/ou l'(les)homme(s) clé est agressé par la délinquance/criminalité en bande organisée / les activistes home jacking | C33: 2 | D33: 1 | M33: =IFERROR(INDEX(M_B,MATCH(D33,L_B,0),MATCH(C33,C_B,0)),NA()) -> 3 | N33: 2 | O33: 1 | P33: =IFERROR(INDEX(M_P,MATCH(O33,L_P,0),MATCH(N33,C_P,0)),NA()) -> 3 | Q33: 2 | R33: 1 | S33: =IFERROR(INDEX(M_C,MATCH(R33,L_C,0),MATCH(Q33,C_C,0)),NA()) -> 3
A34: RPERS32 | B34: ='scenarii triés'!F36 -> Le dirigeant et/ou l'(les)homme(s) clé est séquestré par la grand bandistisme / les activistes par action violente /menaces/contraintes sur son lieu de résidence | C34: 2 | D34: 1 | M34: =IFERROR(INDEX(M_B,MATCH(D34,L_B,0),MATCH(C34,C_B,0)),NA()) -> 3 | N34: 2 | O34: 1 | P34: =IFERROR(INDEX(M_P,MATCH(O34,L_P,0),MATCH(N34,C_P,0)),NA()) -> 3 | Q34: 2 | R34: 1 | S34: =IFERROR(INDEX(M_C,MATCH(R34,L_C,0),MATCH(Q34,C_C,0)),NA()) -> 3
A35: RPERS33 | B35: ='scenarii triés'!F37 -> Le dirigeant et/ou l'(les)homme(s) clé est séquestré par le grand bandistisme / personnel / les activistes par action violente /menaces/contraintes sur son lieu de travail | C35: 2 | D35: 2 | M35: =IFERROR(INDEX(M_B,MATCH(D35,L_B,0),MATCH(C35,C_B,0)),NA()) -> 5 | N35: 2 | O35: 2 | P35: =IFERROR(INDEX(M_P,MATCH(O35,L_P,0),MATCH(N35,C_P,0)),NA()) -> 5 | Q35: 2 | R35: 2 | S35: =IFERROR(INDEX(M_C,MATCH(R35,L_C,0),MATCH(Q35,C_C,0)),NA()) -> 5
A36: RPERS34 | B36: ='scenarii triés'!F38 -> Le personnel est atteint (tué, blessé) par des terroristes par action kamikaze / prise d'otage | C36: 4 | D36: 2 | M36: =IFERROR(INDEX(M_B,MATCH(D36,L_B,0),MATCH(C36,C_B,0)),NA()) -> 14 | N36: 4 | O36: 2 | P36: =IFERROR(INDEX(M_P,MATCH(O36,L_P,0),MATCH(N36,C_P,0)),NA()) -> 14 | Q36: 4 | R36: 2 | S36: =IFERROR(INDEX(M_C,MATCH(R36,L_C,0),MATCH(Q36,C_C,0)),NA()) -> 14
A37: RPERS35 | B37: ='scenarii triés'!F39 -> L'intégrité physique des personnels est atteint (tué, blessé) par le crime organisée par action violente précédé par un braquage… | C37: 3 | D37: 3 | M37: =IFERROR(INDEX(M_B,MATCH(D37,L_B,0),MATCH(C37,C_B,0)),NA()) -> 12 | N37: 3 | O37: 3 | P37: =IFERROR(INDEX(M_P,MATCH(O37,L_P,0),MATCH(N37,C_P,0)),NA()) -> 12 | Q37: 3 | R37: 3 | S37: =IFERROR(INDEX(M_C,MATCH(R37,L_C,0),MATCH(Q37,C_C,0)),NA()) -> 12
A38: RPERS36 | B38: ='scenarii triés'!F40 -> Le personnel est agressé par la petite délinquance / opportuniste par action violente | C38: 2 | D38: 1 | M38: =IFERROR(INDEX(M_B,MATCH(D38,L_B,0),MATCH(C38,C_B,0)),NA()) -> 3 | N38: 2 | O38: 1 | P38: =IFERROR(INDEX(M_P,MATCH(O38,L_P,0),MATCH(N38,C_P,0)),NA()) -> 3 | Q38: 2 | R38: 1 | S38: =IFERROR(INDEX(M_C,MATCH(R38,L_C,0),MATCH(Q38,C_C,0)),NA()) -> 3
A39: RPERS37 | B39: ='scenarii triés'!F41 -> L'ensemble des personnels est agressé par un membre du personnel par action violente ou non du à un phénomène de radicalisation | C39: 3 | D39: 2 | M39: =IFERROR(INDEX(M_B,MATCH(D39,L_B,0),MATCH(C39,C_B,0)),NA()) -> 9 | N39: 3 | O39: 2 | P39: =IFERROR(INDEX(M_P,MATCH(O39,L_P,0),MATCH(N39,C_P,0)),NA()) -> 9 | Q39: 3 | R39: 2 | S39: =IFERROR(INDEX(M_C,MATCH(R39,L_C,0),MATCH(Q39,C_C,0)),NA()) -> 9
A40: RPERS38 | B40: ='scenarii triés'!F42 -> Le personnel entreprise externe est agressé par la petite délinquance/ opportuniste par action violente | C40: 2 | D40: 2 | M40: =IFERROR(INDEX(M_B,MATCH(D40,L_B,0),MATCH(C40,C_B,0)),NA()) -> 5 | N40: 2 | O40: 2 | P40: =IFERROR(INDEX(M_P,MATCH(O40,L_P,0),MATCH(N40,C_P,0)),NA()) -> 5 | Q40: 2 | R40: 2 | S40: =IFERROR(INDEX(M_C,MATCH(R40,L_C,0),MATCH(Q40,C_C,0)),NA()) -> 5
A41: RPERS39 | B41: ='scenarii triés'!F43 -> Le personnel entreprise externe (chauffeur) est agressé par la délinquance/criminalité en bande organisée truck jacking | C41: 3 | D41: 2 | M41: =IFERROR(INDEX(M_B,MATCH(D41,L_B,0),MATCH(C41,C_B,0)),NA()) -> 9 | N41: 3 | O41: 2 | P41: =IFERROR(INDEX(M_P,MATCH(O41,L_P,0),MATCH(N41,C_P,0)),NA()) -> 9 | Q41: 3 | R41: 2 | S41: =IFERROR(INDEX(M_C,MATCH(R41,L_C,0),MATCH(Q41,C_C,0)),NA()) -> 9
A42: RPERS40 | B42: ='scenarii triés'!F44 -> Le personnel sous-traitant est agressé par la petite délinquance/ opportuniste par action violente | C42: 2 | D42: 2 | M42: =IFERROR(INDEX(M_B,MATCH(D42,L_B,0),MATCH(C42,C_B,0)),NA()) -> 5 | N42: 2 | O42: 2 | P42: =IFERROR(INDEX(M_P,MATCH(O42,L_P,0),MATCH(N42,C_P,0)),NA()) -> 5 | Q42: 2 | R42: 2 | S42: =IFERROR(INDEX(M_C,MATCH(R42,L_C,0),MATCH(Q42,C_C,0)),NA()) -> 5
A43: RPIM41 | B43: ='scenarii triés'!F46 -> Le patrimoine informationnel (recettes, brevets, portefeuille clients, facturation, données personnels…) est volé par la délinquance organisée / crime organisé par intimidation | C43: 4 | D43: 1 | M43: =IFERROR(INDEX(M_B,MATCH(D43,L_B,0),MATCH(C43,C_B,0)),NA()) -> 10 | N43: 4 | O43: 1 | P43: =IFERROR(INDEX(M_P,MATCH(O43,L_P,0),MATCH(N43,C_P,0)),NA()) -> 10 | Q43: 4 | R43: 1 | S43: =IFERROR(INDEX(M_C,MATCH(R43,L_C,0),MATCH(Q43,C_C,0)),NA()) -> 10
A44: RPIM42 | B44: ='scenarii triés'!F47 -> Le patrimoine informationnel (recettes, brevets, portefeuille clients, facturation, données personnels…) est volé par la délinquance organisée / crime organisé / concurrence par compromission | C44: 3 | D44: 2 | M44: =IFERROR(INDEX(M_B,MATCH(D44,L_B,0),MATCH(C44,C_B,0)),NA()) -> 9 | N44: 3 | O44: 2 | P44: =IFERROR(INDEX(M_P,MATCH(O44,L_P,0),MATCH(N44,C_P,0)),NA()) -> 9 | Q44: 3 | R44: 2 | S44: =IFERROR(INDEX(M_C,MATCH(R44,L_C,0),MATCH(Q44,C_C,0)),NA()) -> 9
A45: RPIM43 | B45: ='scenarii triés'!F48 -> Le patrimoine informationnel (recettes, brevets, portefeuille clients, facturation, données personnels…) est volé par la délinquance organisée / crime organisé / concurrence par corruption | C45: 3 | D45: 2 | M45: =IFERROR(INDEX(M_B,MATCH(D45,L_B,0),MATCH(C45,C_B,0)),NA()) -> 9 | N45: 3 | O45: 2 | P45: =IFERROR(INDEX(M_P,MATCH(O45,L_P,0),MATCH(N45,C_P,0)),NA()) -> 9 | Q45: 3 | R45: 2 | S45: =IFERROR(INDEX(M_C,MATCH(R45,L_C,0),MATCH(Q45,C_C,0)),NA()) -> 9
A46: RPIM44 | B46: ='scenarii triés'!F49 -> Le patrimoine informationnel (recettes, brevets, portefeuille clients, facturation, données personnels…) est volé par la délinquance organisée / crime organisé / concurrence par espionnage | C46: 3 | D46: 2 | M46: =IFERROR(INDEX(M_B,MATCH(D46,L_B,0),MATCH(C46,C_B,0)),NA()) -> 9 | N46: 3 | O46: 2 | P46: =IFERROR(INDEX(M_P,MATCH(O46,L_P,0),MATCH(N46,C_P,0)),NA()) -> 9 | Q46: 3 | R46: 2 | S46: =IFERROR(INDEX(M_C,MATCH(R46,L_C,0),MATCH(Q46,C_C,0)),NA()) -> 9
A47: RPIM45 | B47: ='scenarii triés'!F50 -> Le patrimoine informationnel (recettes, brevets, portefeuille clients, facturation, données personnels…) est volé par la délinquance organisée / crime organisé / concurrence par ruse (social engineering) | C47: 3 | D47: 2 | M47: =IFERROR(INDEX(M_B,MATCH(D47,L_B,0),MATCH(C47,C_B,0)),NA()) -> 9 | N47: 3 | O47: 2 | P47: =IFERROR(INDEX(M_P,MATCH(O47,L_P,0),MATCH(N47,C_P,0)),NA()) -> 9 | Q47: 3 | R47: 2 | S47: =IFERROR(INDEX(M_C,MATCH(R47,L_C,0),MATCH(Q47,C_C,0)),NA()) -> 9
A48: RPIM46 | B48: ='scenarii triés'!F51 -> Le patrimoine informationnel (recettes, brevets, portefeuille clients, facturation, données personnels…) est espionné par le grand banditisme par écoute illégale | C48: 3 | D48: 1 | M48: =IFERROR(INDEX(M_B,MATCH(D48,L_B,0),MATCH(C48,C_B,0)),NA()) -> 6 | N48: 3 | O48: 1 | P48: =IFERROR(INDEX(M_P,MATCH(O48,L_P,0),MATCH(N48,C_P,0)),NA()) -> 6 | Q48: 3 | R48: 1 | S48: =IFERROR(INDEX(M_C,MATCH(R48,L_C,0),MATCH(Q48,C_C,0)),NA()) -> 6
A49: RPIM47 | B49: ='scenarii triés'!F52 -> Le patrimoine informationnel (recettes, brevets, portefeuille clients, facturation, données personnels…) est espionné par la concurrence par observation | C49: 3 | D49: 3 | M49: =IFERROR(INDEX(M_B,MATCH(D49,L_B,0),MATCH(C49,C_B,0)),NA()) -> 12 | N49: 3 | O49: 3 | P49: =IFERROR(INDEX(M_P,MATCH(O49,L_P,0),MATCH(N49,C_P,0)),NA()) -> 12 | Q49: 3 | R49: 3 | S49: =IFERROR(INDEX(M_C,MATCH(R49,L_C,0),MATCH(Q49,C_C,0)),NA()) -> 12
A50: RPIM48 | B50: ='scenarii triés'!F53 -> Le patrimoine informationnel (recettes, brevets, portefeuille clients, facturation, données personnels…) est espionné par la concurrence piratage informatique | C50: 3 | D50: 2 | M50: =IFERROR(INDEX(M_B,MATCH(D50,L_B,0),MATCH(C50,C_B,0)),NA()) -> 9 | N50: 3 | O50: 2 | P50: =IFERROR(INDEX(M_P,MATCH(O50,L_P,0),MATCH(N50,C_P,0)),NA()) -> 9 | Q50: 3 | R50: 2 | S50: =IFERROR(INDEX(M_C,MATCH(R50,L_C,0),MATCH(Q50,C_C,0)),NA()) -> 9
A51: RPIM49 | B51: ='scenarii triés'!F54 -> Le patrimoine informationnel et le patrimoine financier est volé par le crime organisé sous la contrainte | C51: 3 | D51: 1 | M51: =IFERROR(INDEX(M_B,MATCH(D51,L_B,0),MATCH(C51,C_B,0)),NA()) -> 6 | N51: 3 | O51: 1 | P51: =IFERROR(INDEX(M_P,MATCH(O51,L_P,0),MATCH(N51,C_P,0)),NA()) -> 6 | Q51: 3 | R51: 1 | S51: =IFERROR(INDEX(M_C,MATCH(R51,L_C,0),MATCH(Q51,C_C,0)),NA()) -> 6
A52: RPIM50 | B52: ='scenarii triés'!F55 -> Le patrimoine informationnel (recettes, brevets, portefeuille clients, facturation, données personnels…) est volé par le personnel par fraude et/ou ruse ( clé usb, photos documents,…) | C52: 3 | D52: 2 | M52: =IFERROR(INDEX(M_B,MATCH(D52,L_B,0),MATCH(C52,C_B,0)),NA()) -> 9 | N52: 3 | O52: 2 | P52: =IFERROR(INDEX(M_P,MATCH(O52,L_P,0),MATCH(N52,C_P,0)),NA()) -> 9 | Q52: 3 | R52: 2 | S52: =IFERROR(INDEX(M_C,MATCH(R52,L_C,0),MATCH(Q52,C_C,0)),NA()) -> 9
A53: RPIM51 | B53: ='scenarii triés'!F56 -> Le patrimoine informationnel (recettes, brevets, portefeuille clients, facturation, données personnels…) est volé par le personnel par intrusion logique | C53: 3 | D53: 2 | M53: =IFERROR(INDEX(M_B,MATCH(D53,L_B,0),MATCH(C53,C_B,0)),NA()) -> 9 | N53: 3 | O53: 2 | P53: =IFERROR(INDEX(M_P,MATCH(O53,L_P,0),MATCH(N53,C_P,0)),NA()) -> 9 | Q53: 3 | R53: 2 | S53: =IFERROR(INDEX(M_C,MATCH(R53,L_C,0),MATCH(Q53,C_C,0)),NA()) -> 9
A54: RPIM52 | B54: ='scenarii triés'!F57 -> Le système informatique est détruit / dégradé par la délinquance cyber / Hacktivistes par une attaque logique cyber externe | C54: 4 | D54: 3 | M54: =IFERROR(INDEX(M_B,MATCH(D54,L_B,0),MATCH(C54,C_B,0)),NA()) -> 15 | N54: 4 | O54: 3 | P54: =IFERROR(INDEX(M_P,MATCH(O54,L_P,0),MATCH(N54,C_P,0)),NA()) -> 15 | Q54: 4 | R54: 3 | S54: =IFERROR(INDEX(M_C,MATCH(R54,L_C,0),MATCH(Q54,C_C,0)),NA()) -> 15
... A70: RPIM68 | B70: ='scenarii triés'!F73 -> L'image/patrimoine financiers est atteint par le crime organisé / la concurrence par ruse (social engineering) | C70: 4 | D70: 3 | M70: =IFERROR(INDEX(M_B,MATCH(D70,L_B,0),MATCH(C70,C_B,0)),NA()) -> 15 | N70: 4 | O70: 3 | P70: =IFERROR(INDEX(M_P,MATCH(O70,L_P,0),MATCH(N70,C_P,0)),NA()) -> 15 | Q70: 4 | R70: 3 | S70: =IFERROR(INDEX(M_C,MATCH(R70,L_C,0),MATCH(Q70,C_C,0)),NA()) -> 15
A71: RPFIN69 | B71: ='scenarii triés'!F75 -> Le patrimoine financier est détruit par les terroristes par action Kamikaze | C71: 4 | D71: 2 | M71: =IFERROR(INDEX(M_B,MATCH(D71,L_B,0),MATCH(C71,C_B,0)),NA()) -> 14 | N71: 4 | O71: 2 | P71: =IFERROR(INDEX(M_P,MATCH(O71,L_P,0),MATCH(N71,C_P,0)),NA()) -> 14 | Q71: 4 | R71: 2 | S71: =IFERROR(INDEX(M_C,MATCH(R71,L_C,0),MATCH(Q71,C_C,0)),NA()) -> 14
A72: RPFIN70 | B72: ='scenarii triés'!F76 -> Le patrimoine financier est détourné par le personnel par fraude, escroquerie, malversation | C72: 3 | D72: 2 | M72: =IFERROR(INDEX(M_B,MATCH(D72,L_B,0),MATCH(C72,C_B,0)),NA()) -> 9 | N72: 3 | O72: 2 | P72: =IFERROR(INDEX(M_P,MATCH(O72,L_P,0),MATCH(N72,C_P,0)),NA()) -> 9 | Q72: 3 | R72: 2 | S72: =IFERROR(INDEX(M_C,MATCH(R72,L_C,0),MATCH(Q72,C_C,0)),NA()) -> 9
A73: RPFIN71 | B73: ='scenarii triés'!F77 -> Le patrimoine financier est volé par le crime organisé/Cybercrim par intrusion logique (ranconwere,…) et chantage | C73: 4 | D73: 4 | M73: =IFERROR(INDEX(M_B,MATCH(D73,L_B,0),MATCH(C73,C_B,0)),NA()) -> 16 | N73: 4 | O73: 4 | P73: =IFERROR(INDEX(M_P,MATCH(O73,L_P,0),MATCH(N73,C_P,0)),NA()) -> 16 | Q73: 4 | R73: 4 | S73: =IFERROR(INDEX(M_C,MATCH(R73,L_C,0),MATCH(Q73,C_C,0)),NA()) -> 16
A74: RPFIN72 | B74: ='scenarii triés'!F78 -> Le patrimoine financier est volé par le crime organisé par escroquerie et faux | C74: 3 | D74: 1 | M74: =IFERROR(INDEX(M_B,MATCH(D74,L_B,0),MATCH(C74,C_B,0)),NA()) -> 6 | N74: 3 | O74: 1 | P74: =IFERROR(INDEX(M_P,MATCH(O74,L_P,0),MATCH(N74,C_P,0)),NA()) -> 6 | Q74: 3 | R74: 1 | S74: =IFERROR(INDEX(M_C,MATCH(R74,L_C,0),MATCH(Q74,C_C,0)),NA()) -> 6
A75: RPFIN73 | B75: ='scenarii triés'!F79 -> Le patrimoine financier est volé par les e.e., sous-traitants par escroquerie et faux | C75: 3 | D75: 2 | M75: =IFERROR(INDEX(M_B,MATCH(D75,L_B,0),MATCH(C75,C_B,0)),NA()) -> 9 | N75: 3 | O75: 2 | P75: =IFERROR(INDEX(M_P,MATCH(O75,L_P,0),MATCH(N75,C_P,0)),NA()) -> 9 | Q75: 3 | R75: 2 | S75: =IFERROR(INDEX(M_C,MATCH(R75,L_C,0),MATCH(Q75,C_C,0)),NA()) -> 9
A76: RPFIN74 | B76: ='scenarii triés'!F80 -> Le patrimoine financier et/ou le C.A. est déprécié indirectement par les legislateurs pays, les clients par renouvellement réglementaire, legislatif, contractuel | C76: 3 | D76: 3 | M76: =IFERROR(INDEX(M_B,MATCH(D76,L_B,0),MATCH(C76,C_B,0)),NA()) -> 12 | N76: 3 | O76: 3 | P76: =IFERROR(INDEX(M_P,MATCH(O76,L_P,0),MATCH(N76,C_P,0)),NA()) -> 12 | Q76: 3 | R76: 3 | S76: =IFERROR(INDEX(M_C,MATCH(R76,L_C,0),MATCH(Q76,C_C,0)),NA()) -> 12
A77: RPFIN75 | B77: ='scenarii triés'!F81 -> Le patrimoine financier et/ou le C.A. est déprécié indirectement par les pays d'origine échanges commerciales, communautés,… conflits, relation dipplomatique divergente,… | C77: 3 | D77: 2 | M77: =IFERROR(INDEX(M_B,MATCH(D77,L_B,0),MATCH(C77,C_B,0)),NA()) -> 9 | N77: 3 | O77: 2 | P77: =IFERROR(INDEX(M_P,MATCH(O77,L_P,0),MATCH(N77,C_P,0)),NA()) -> 9 | Q77: 3 | R77: 2 | S77: =IFERROR(INDEX(M_C,MATCH(R77,L_C,0),MATCH(Q77,C_C,0)),NA()) -> 9
A78: REXT76 | B78: ='scenarii triés'!F83 -> Les Fluides, énergies, moyens de communications… est saboté par tous types auteurs via toutes types d'actions | C78: 3 | D78: 4 | M78: =IFERROR(INDEX(M_B,MATCH(D78,L_B,0),MATCH(C78,C_B,0)),NA()) -> 13 | N78: 3 | O78: 4 | P78: =IFERROR(INDEX(M_P,MATCH(O78,L_P,0),MATCH(N78,C_P,0)),NA()) -> 13 | Q78: 3 | R78: 4 | S78: =IFERROR(INDEX(M_C,MATCH(R78,L_C,0),MATCH(Q78,C_C,0)),NA()) -> 13
A79: REXT77 | B79: ='scenarii triés'!F84 -> Le patrimoine immatériel (données, informations,…) est volé / détruit / altéré par tous types auteurs via toutes types d'actions | C79: 3 | D79: 3 | M79: =IFERROR(INDEX(M_B,MATCH(D79,L_B,0),MATCH(C79,C_B,0)),NA()) -> 12 | N79: 3 | O79: 3 | P79: =IFERROR(INDEX(M_P,MATCH(O79,L_P,0),MATCH(N79,C_P,0)),NA()) -> 12 | Q79: 3 | R79: 3 | S79: =IFERROR(INDEX(M_C,MATCH(R79,L_C,0),MATCH(Q79,C_C,0)),NA()) -> 12
A80: REXT78 | B80: ='scenarii triés'!F85 -> Le patrimoine matériel (MP,…) est volé / détruit / dégradé par tous types auteurs via toutes types d'actions | C80: 3 | D80: 2 | M80: =IFERROR(INDEX(M_B,MATCH(D80,L_B,0),MATCH(C80,C_B,0)),NA()) -> 9 | N80: 3 | O80: 2 | P80: =IFERROR(INDEX(M_P,MATCH(O80,L_P,0),MATCH(N80,C_P,0)),NA()) -> 9 | Q80: 3 | R80: 2 | S80: =IFERROR(INDEX(M_C,MATCH(R80,L_C,0),MATCH(Q80,C_C,0)),NA()) -> 9
A81: REXT79 | B81: ='scenarii triés'!F86 -> Le système informatique est infecté par tous auteurs cyber via toutes types d'actions | C81: 4 | D81: 4 | M81: =IFERROR(INDEX(M_B,MATCH(D81,L_B,0),MATCH(C81,C_B,0)),NA()) -> 16 | N81: 4 | O81: 4 | P81: =IFERROR(INDEX(M_P,MATCH(O81,L_P,0),MATCH(N81,C_P,0)),NA()) -> 16 | Q81: 4 | R81: 4 | S81: =IFERROR(INDEX(M_C,MATCH(R81,L_C,0),MATCH(Q81,C_C,0)),NA()) -> 16

Sheet Matrice de Prouty Brut
B2: Fréquence
B3: 4 | C3: 7 | D3: 11 | E3: 13 | F3: 16
B4: 3 | C4: 4 | D4: 8 | E4: 12 | F4: 15
B5: 2 | C5: 2 | D5: 5 | E5: 9 | F5: 14
B6: 1 | C6: 1 | D6: 3 | E6: 6 | F6: 10
C7: 1 | D7: 2 | E7: 3 | F7: 4 | G7: Gravité

Sheet Matrice de Prouty Pondéré
B2: Fréquence
B3: 4 | C3: 7 | D3: 11 | E3: 13 | F3: 16
B4: 3 | C4: 4 | D4: 8 | E4: 12 | F4: 15
B5: 2 | C5: 2 | D5: 5 | E5: 9 | F5: 14
B6: 1 | C6: 1 | D6: 3 | E6: 6 | F6: 10
C7: 1 | D7: 2 | E7: 3 | F7: 4 | G7: Gravité

Sheet Matrice de Prouty Corrigé
B2: Fréquence
B3: 4 | C3: 7 | D3: 11 | E3: 13 | F3: 16
B4: 3 | C4: 4 | D4: 8 | E4: 12 | F4: 15
B5: 2 | C5: 2 | D5: 5 | E5: 9 | F5: 14
B6: 1 | C6: 1 | D6: 3 | E6: 6 | F6: 10
C7: 1 | D7: 2 | E7: 3 | F7: 4 | G7: Gravité
