Workbook
Name Águeda: 'AVEIRO - Dados'!$B$2:$D$29
Name Arouca: 'AVEIRO - Dados'!$F$2:$H$19
Name Aveiro: 'AVEIRO - Dados'!$J$2:$L$37
Name Espinho: 'AVEIRO - Dados'!$N$2:$P$14
Name Mealhada: 'AVEIRO - Dados'!$R$2:$T$24
Name Ovar: 'AVEIRO - Dados'!$V$2:$X$32
Name Santa_Maria_da_Feira: 'AVEIRO - Dados'!$Z$2:$AB$25
Name São_João_da_Madeira: 'AVEIRO - Dados'!$AD$2:$AF$28
Name Segment_Região: #N/A

Sheet AVEIRO - Dados
B2: Águeda | F2: Arouca | J2: Aveiro | N2: Espinho | R2: Mealhada | V2: Ovar | Z2: Santa Maria da Feira | AD2: São João da Madeira
B3: Tipo de Gasolina | C3: Localizações | D3: Preço/Litro | F3: Tipo de Gasolina | G3: Localizações | H3: Preço/Litro | J3: Tipo de Gasolina | K3: Localizações | L3: Preço/Litro | N3: Tipo de Gasolina | O3: Localizações | P3: Preço/Litro | R3: Tipo de Gasolina | S3: Localizações | T3: Preço/Litro | V3: Tipo de Gasolina | W3: Localizações | X3: Preço/Litro | Z3: Tipo de Gasolina | AA3: Localizações | AB3: Preço/Litro | AD3: Tipo de Gasolina | AE3: Localizações | AF3: Preço/Litro
B4: GASOLINA 95 SIMPLES | C4: Prio - Aguada de Baixo N/S | D4: 1.425 | F4: GASOLINA 95 SIMPLES | G4: Galp Alvarenga | H4: 1.479 | J4: GASOLINA 95 SIMPLES | K4: Jumbo Aveiro | L4: 1.339 | N4: GASOLINA 95 SIMPLES | O4: R Star Energy - Espinho | P4: 1.469 | R4: GASOLINA 95 SIMPLES | S4: Intermarché - Mealhada | T4: 1.398 | V4: GASOLINA 95 SIMPLES | W4: Intermarché Ovar | X4: 1.399 | Z4: GASOLINA 95 SIMPLES | AA4: Pingo Doce Lourosa | AB4: 1.414 | AD4: GASOLINA 95 SIMPLES | AE4: Intermarché - Arrifana | AF4: 1.149
C5: Prio - Aguada de Baixo S/N | D5: 1.425 | G5: Galp Santa Eulália | H5: 1.509 | K5: Bxpress Aveiro | L5: 1.404 | O5: Repsol - Espinho | P5: 1.539 | S5: Galp Mealhada N/S | T5: 1.514 | W5: Intermarche Esmoriz | X5: 1.439 | AA5: E.Leclerc Santa Maria da Feira | AB5: 1.419 | AE5: Petro Zona S. J. Madeira | AF5: 1.459
C6: Redil - Recardães | D6: 1.439 | G6: Galp Chão de Ave | H6: 1.539 | K6: Pingo Doce Aveiro | L6: 1.419 | O6: Galp Espinho | P6: 1.569 | S6: Galp - Luso | T6: 1.514 | W6: Galp - Valega | X6: 1.469 | AA6: Pingo Doce Arrifana | AB6: 1.419 | AE6: Repsol São João da Madeira | AF6: 1.479
C7: Repsol - Hospital Águeda | D7: 1.479 | G7: S. Brás Combustíveis -...S. Brás Combustíveis - Nespereira | H7: 1.559 | K7: Prio - Gafanha da Nazaré (Av. Central) | L7: 1.425 | O7: BP - Domingues e Gomes | P7: 1.559 | S7: Repsol - Mealhada B | T7: 1.529 | W7: Repsol - Valega A | X7: 1.469 | AA7: Intermarché - Santa Maria de Lamas | AB7: 1.429 | AE7: Galp São João da Madeira | AF7: 1.509
C8: Cepsa - Travassô | D8: 1.484 | F8: GASOLINA 95 + | G8: Galp Santa Eulália | H8: 1.559 | K8: Prio - Gafanha da Nazaré | L8: 1.445 | N8: GASOLINA 95 + | O8: Repsol - Espinho | P8: 1.529 | S8: BP Casal Comba | T8: 1.539 | W8: Repsol - Valega B | X8: 1.469 | AA8: R Star - São João de Ver | AB8: 1.469 | AE8: Galp Petroroque - S. João da Madeira | AF8: 1.509
B9: GASOLINA 95 + | C9: Cepsa - Travassô | D9: 1.514 | F9: GASOLINA 98 SIMPLES | G9: S. Brás Combustíveis -...SS | H9: 1.649 | J9: GASOLINA 95 + | K9: Prio - São Bernardo | L9: 1.455 | O9: Galp Espinho | P9: 1.529 | R9: GASOLINA 95 + | S9: Galp Mealhada N/S | T9: 1.534 | V9: GASOLINA 95 + | W9: Galp - Valega | X9: 1.489 | Z9: GASOLINA 95 + | AA9: Prio - Fiães | AB9: 1.445 | AD9: GASOLINA 95 + | AE9: Galp São João da Madeira | AF9: 1.529
C10: Galp - Mendes & Loureiro - Comb. e Lubs., Lda | D10: 1.529 | G10: Galp Chão de Ave | H10: 1.654 | K10: Cepsa Aveiro - Esgueira | L10: 1.479 | N10: GASOLINA 98 SIMPLES | O10: R Star Energy - Espinho | P10: 1.534 | S10: Galp - Luso | T10: 1.534 | W10: Repsol - Valega A | X10: 1.519 | AA10: Repsol - Lourosa | AB10: 1.519 | AE10: Galp Petroroque - S. João da Madeira | AF10: 1.529
B11: GASOLINA 98 SIMPLES | C11: Redil - Recardães | D11: 1.509 | F11: GASOLINA 98 + | G11: Galp Santa Eulália | H11: 1.624 | K11: Galp - Cacia | L11: 1.484 | N11: GASOLINA 98 + | O11: Galp Espinho | P11: 1.624 | R11: GASOLINA 98 SIMPLES | S11: Intermarché - Mealhada | T11: 1.488 | W11: Galp Ovar - Av. Sá Carneiro | X11: 1.529 | AA11: Galp - Fiães | AB11: 1.529 | AD11: GASOLINA 98 SIMPLES | AE11: Intermarché - Arrifana | AF11: 1.488
C12: Alves Bandeira - Travassô | D12: 1.604 | F12: GASÓLEO | G12: Galp Alvarenga | H12: 1.309 | K12: Repsol - Zona Industrial de Aveiro | L12: 1.499 | O12: Repsol - Espinho | P12: 1.629 | R12: GASOLINA 98 + | S12: Repsol - Mealhada B | T12: 1.679 | V12: GASOLINA 98 SIMPLES | W12: Intermarche Esmoriz | X12: 1.449 | AA12: Galp - Espargo | AB12: 1.529 | AE12: Petro Zona S. J. Madeira | AF12: 1.519
C13: BP - A.B.M. - Zona Industrial | D13: 1.719 | G13: Galp Santa Eulália | H13: 1.339 | K13: Repsol - Esgueira A | L13: 1.499 | O13: BP - Domingues e Gomes | P13: 1.719 | S13: BP Casal Comba | T13: 1.719 | W13: Intermarché Ovar | X13: 1.478 | AA13: Galp Arrifana | AB13: 1.529 | AD13: GASOLINA 98 + | AE13: Repsol São João da Madeira | AF13: 1.619
B14: GASOLINA 98+ | C14: Repsol - Hospital Águeda | D14: 1.619 | G14: Galp Chão de Ave | H14: 1.339 | J14: GASOLINA 98 SIMPLES | K14: Jumbo Aveiro | L14: 1.469 | N14: GASÓLEO | O14: R Star Energy - Espinho | P14: 1.238 | R14: GASÓLEO | S14: Intermarché - Mealhada | T14: 1.188 | W14: Almeida's - Torre | X14: 1.544 | Z14: GASOLINA 98 SIMPLES | AA14: E.Leclerc Santa Maria da Feira | AB14: 1.488 | AE14: Galp Petroroque - S. João da Madeira | AF14: 1.624
C15: Galp - Mendes & Loureiro - Comb. e Lubs., Lda | D15: 1.624 | G15: S. Brás Combustíveis - Nespereira | H15: 1.339 | K15: Pingo Doce Aveiro | L15: 1.488 | O15: Repsol - Espinho | P15: 1.284 | S15: Galp Mealhada N/S | T15: 1.319 | W15: Alves Bandeira Maceda | X15: 1.589 | AA15: Pingo Doce Lourosa | AB15: 1.488 | AE15: Repsol São João da Madeira | AF15: 1.679
C16: BP - Águeda | D16: 1.719 | F16: GASÓLEO + | G16: Galp Alvarenga | H16: 1.304 | K16: Alves Bandeira - Santa Joana | L16: 1.594 | O16: Galp Espinho | P16: 1.314 | S16: Galp - Luso | T16: 1.319 | W16: BP Esmoriz | X16: 1.729 | AA16: Pingo Doce Arrifana | AB16: 1.488 | AE16: BP São João da Madeira | AF16: 1.719
C17: BP - Águeda - EN1 | D17: 1.719 | G17: Galp Santa Eulália | H17: 1.334 | K17: Alves Bandeira - São Bernardo | L17: 1.594 | O17: BP - Domingues e Gomes | P17: 1.359 | S17: Repsol - Mealhada B | T17: 1.324 | V17: GASOLINA 98 + | W17: Intermarche Esmoriz | X17: 1.449 | AA17: Intermarché - Santa Maria de Lamas | AB17: 1.489 | AD17: GASÓLEO | AE17: Intermarché - Arrifana | AF17: 1.202
C18: BP - Aguada de Baixo Oeste | D18: 1.734 | G18: S. Brás Combustíveis - Nespereira | H18: 1.379 | J18: GASOLINA 98 + | K18: Galp - Cacia | L18: 1.584 | N18: GASÓLEO + | O18: R Star Energy - Espinho | P18: 1.268 | S18: BP Casal Comba | T18: 1.339 | W18: Intermarché Ovar | X18: 1.478 | AA18: R Star - São João de Ver | AB18: 1.564 | AE18: Petro Zona S. J. Madeira | AF18: 1.269
B19: GASÓLEO | C19: Redil - Recardães | D19: 1.259 | F19: GPL AUTO | G19: // | H19: // | K19: Repsol - Zona Industrial de Aveiro | L19: 1.599 | O19: Repsol - Espinho | P19: 1.329 | R19: GASÓLEO + | S19: Intermarché - Mealhada | T19: 1.218 | W19: Almeida's - Torre | X19: 1.544 | Z19: GASOLINA 98 + | AA19: Repsol - Lourosa | AB19: 1.617 | AE19: Repsol São João da Madeira | AF19: 1.274
C20: Prio - Aguada de Baixo N/S | D20: 1.265 | K20: Repsol - Esgueira A | L20: 1.599 | O20: Galp Espinho | P20: 1.334 | S20: Galp - Luso | T20: 1.339 | W20: Alves Bandeira Maceda | X20: 1.589 | AA20: Repsol Santa Maria da Feira | AB20: 1.617 | AE20: Galp São João da Madeira | AF20: 1.314
C21: Prio - Aguada de Baixo S/N | D21: 1.265 | K21: Repsol - Esgueira B | L21: 1.599 | O21: BP - Domingues e Gomes | P21: 1.459 | S21: Repsol - Mealhada B | T21: 1.379 | W21: BP Esmoriz | X21: 1.729 | AA21: Galp - Fiães | AB21: 1.624 | AE21: Galp Petroroque - S. João da Madeira | AF21: 1.314
C22: Repsol - Hospital Águeda | D22: 1.274 | F22: Região | K22: Repsol Aveiro - Av Universidade B | L22: 1.599 | N22: GPL AUTO | O22: R Star Energy - Espinho | P22: 0.66 | S22: Galp Mealhada N/S | T22: 1.389 | V22: GASÓLEO | W22: Intermarché Ovar | X22: 1.189 | AA22: BP Arrifana | AB22: 1.719 | AD22: GASÓLEO + | AE22: Petro Zona S. J. Madeira | AF22: 1.299
C23: Cepsa - Travassô | D23: 1.289 | J23: GASÓLEO | K23: Jumbo Aveiro | L23: 1.199 | S23: BP Casal Comba | T23: 1.459 | W23: Intermarche Esmoriz | X23: 1.214 | Z23: GASÓLEO | AA23: Pingo Doce Lourosa | AB23: 1.179 | AE23: Repsol São João da Madeira | AF23: 1.319
B24: GASÓLEO + | C24: Prio - Aguada de Baixo N/S | D24: 1.215 | K24: Pingo Doce Aveiro | L24: 1.202 | R24: GPL AUTO | S24: // | T24: // | W24: Repsol - Valega A | X24: 1.264 | AA24: Pingo Doce Arrifana | AB24: 1.179 | AE24: Galp São João da Madeira | AF24: 1.334
C25: Prio - Aguada de Baixo S/N | D25: 1.215 | K25: Bxpress Aveiro | L25: 1.212 | W25: Repsol - Valega B | X25: 1.264 | AA25: Intermarché - Santa Maria de Lamas | AB25: 1.199 | AE25: Galp Petroroque - S. João da Madeira | AF25: 1.334
C26: Redil - Recardães | D26: 1.289 | K26: Prio - Gafanha da Nazaré (Av. Central) | L26: 1.245 | W26: Galp - Valega | X26: 1.274 | AA26: E.Leclerc Santa Maria da Feira | AB26: 1.199 | AE26: Repsol São João da Madeira | AF26: 1.379
C27: Repsol - Hospital Águeda | D27: 1.319 | K27: Prio - Gafanha da Nazaré | L27: 1.245 | V27: GASÓLEO + | W27: Galp - Valega | X27: 1.294 | AA27: R Star - São João de Ver | AB27: 1.238 | AD27: GPL AUTO | AE27: Petro Zona S. J. Madeira | AF27: 0.629
C28: Cepsa - Travassô | D28: 1.319 | J28: GASÓLEO + | K28: Prio - Gafanha da Nazaré (Av. Central) | L28: 1.215 | W28: Sopor - Esmoriz | X28: 1.309 | Z28: GASÓLEO + | AA28: Prio - Fiães | AB28: 1.235 | AE28: Repsol São João da Madeira | AF28: 0.674
B29: GPL AUTO | C29: // | D29: // | K29: Prio - Gafanha da Nazaré | L29: 1.235 | W29: Cepsa - Ovar I | X29: 1.309 | AA29: Intermarché - Santa Maria de Lamas | AB29: 1.239
B30: Total Station | C30: ??????????????? | K30: Prio - São Bernardo | L30: 1.245 | W30: Repsol - Valega A | X30: 1.319 | AA30: R Star - São João de Ver | AB30: 1.268
K31: Galp - Cacia | L31: 1.289 | W31: Alves Bandeira Maceda | X31: 1.319 | AA31: Repsol - Lourosa | AB31: 1.319
K32: Cepsa Aveiro - Esgueira | L32: 1.289 | V32: GPL AUTO | W32: // | X32: // | AA32: Repsol Santa Maria da Feira | AB32: 1.319
J33: GPL AUTO | K33: Prio - Gafanha da Nazaré | L33: 0.589 | Z33: GPL AUTO | AA33: Galp - Espargo | AB33: 0.692
K34: Bxpress Aveiro | L34: 0.599 | AA34: Repsol Santa Maria da Feira | AB34: 0.704
K35: Galp A.S. Aveiro E/O | L35: 0.693 | AA35: Azoria Mozelos N/S | AB35: 0.75
K36: Galp A.S. Aveiro O/E | L36: 0.693
K37: BP Forca - Aveiro | L37: 0.694

Sheet Análise por conselho
F3: Preço | M3: Preço | T3: Preço | AA3: Preço | AH3: Preço | AO3: Preço | AV3: Preço | BC3: Preço
B4: Águeda | F4: Mínimo/Maximo | I4: Arouca | M4: Mínimo/Maximo | P4: Aveiro | T4: Mínimo/Maximo | W4: Espinho | AA4: Mínimo/Maximo | AD4: Mealhada | AH4: Mínimo/Maximo | AK4: Ovar | AO4: Mínimo/Maximo | AR4: Santa Maria Da Feira | AV4: Mínimo/Maximo | AY4: São João Da Madeira | BC4: Mínimo/Maximo
B5: GASOLINA 95 SIMPLES | F5: =MIN('AVEIRO - Dados'!B4:D8) -> 1.425 | G5: =MAX('AVEIRO - Dados'!B4:D8) -> 1.484 | I5: GASOLINA 95 SIMPLES | M5: =MIN('AVEIRO - Dados'!F4:H7) -> 1.479 | N5: =MAX('AVEIRO - Dados'!F4:H7) -> 1.559 | P5: GASOLINA 95 SIMPLES | T5: =MIN('AVEIRO - Dados'!J4:L8) -> 1.339 | U5: =MAX('AVEIRO - Dados'!J4:L8) -> 1.445 | W5: GASOLINA 95 SIMPLES | AA5: =MIN('AVEIRO - Dados'!N4:P7) -> 1.469 | AB5: =MAX('AVEIRO - Dados'!N4:P7) -> 1.569 | AD5: GASOLINA 95 SIMPLES | AH5: =MIN('AVEIRO - Dados'!R4:T8) -> 1.398 | AI5: =MAX('AVEIRO - Dados'!R4:T8) -> 1.539 | AK5: GASOLINA 95 SIMPLES | AO5: =MIN('AVEIRO - Dados'!V4:X8) -> 1.399 | AP5: =MAX('AVEIRO - Dados'!V4:X8) -> 1.469 | AR5: GASOLINA 95 SIMPLES | AV5: =MIN('AVEIRO - Dados'!Z4:AB8) -> 1.414 | AW5: =MAX('AVEIRO - Dados'!Z4:AB8) -> 1.469 | AY5: GASOLINA 95 SIMPLES | BC5: =MIN('AVEIRO - Dados'!AD4:AF8) -> 1.149 | BD5: =MAX('AVEIRO - Dados'!AD4:AF8) -> 1.509
B6: GASOLINA 95 + | F6: =MIN('AVEIRO - Dados'!B9:D10) -> 1.514 | G6: =MAX('AVEIRO - Dados'!B9:D10) -> 1.529 | I6: GASOLINA 95 + | M6: =MIN('AVEIRO - Dados'!F8:H8) -> 1.559 | N6: =MAX('AVEIRO - Dados'!F8:H8) -> 1.559 | P6: GASOLINA 95 + | T6: =MIN('AVEIRO - Dados'!J9:L13) -> 1.455 | U6: =MAX('AVEIRO - Dados'!J9:L13) -> 1.499 | W6: GASOLINA 95 + | AA6: =MIN('AVEIRO - Dados'!N8:P9) -> 1.529 | AB6: =MAX('AVEIRO - Dados'!N8:P9) -> 1.529 | AD6: GASOLINA 95 + | AH6: =MIN('AVEIRO - Dados'!R9:T10) -> 1.534 | AI6: =MAX('AVEIRO - Dados'!R9:T10) -> 1.534 | AK6: GASOLINA 95 + | AO6: =MIN('AVEIRO - Dados'!V9:X11) -> 1.489 | AP6: =MAX('AVEIRO - Dados'!V9:X11) -> 1.529 | AR6: GASOLINA 95 + | AV6: =MIN('AVEIRO - Dados'!Z9:AB13) -> 1.445 | AW6: =MAX('AVEIRO - Dados'!Z9:AB13) -> 1.529 | AY6: GASOLINA 95 + | BC6: =MIN('AVEIRO - Dados'!AD9:AF10) -> 1.529 | BD6: =MAX('AVEIRO - Dados'!AD9:AF10) -> 1.529
B7: GASOLINA 98 SIMPLES | F7: =MIN('AVEIRO - Dados'!B11:D13) -> 1.509 | G7: =MAX('AVEIRO - Dados'!B11:D13) -> 1.719 | I7: GASOLINA 98 SIMPLES | M7: =MIN('AVEIRO - Dados'!F9:H10) -> 1.649 | N7: =MAX('AVEIRO - Dados'!F9:H10) -> 1.654 | P7: GASOLINA 98 SIMPLES | T7: =MIN('AVEIRO - Dados'!J14:L17) -> 1.469 | U7: =MAX('AVEIRO - Dados'!J14:L17) -> 1.594 | W7: GASOLINA 98 SIMPLES | AA7: =MIN('AVEIRO - Dados'!N10:P10) -> 1.534 | AB7: =MAX('AVEIRO - Dados'!N10:P10) -> 1.534 | AD7: GASOLINA 98 SIMPLES | AH7: =MIN('AVEIRO - Dados'!R11:T11) -> 1.488 | AI7: =MAX('AVEIRO - Dados'!R11:T11) -> 1.488 | AK7: GASOLINA 98 SIMPLES | AO7: =MIN('AVEIRO - Dados'!V12:X16) -> 1.449 | AP7: =MAX('AVEIRO - Dados'!V12:X16) -> 1.729 | AR7: GASOLINA 98 SIMPLES | AV7: =MIN('AVEIRO - Dados'!Z14:AB18) -> 1.488 | AW7: =MAX('AVEIRO - Dados'!Z14:AB18) -> 1.564 | AY7: GASOLINA 98 SIMPLES | BC7: =MIN('AVEIRO - Dados'!AD11:AF12) -> 1.488 | BD7: =MAX('AVEIRO - Dados'!AD11:AF12) -> 1.519
B8: GASOLINA 98 + | F8: =MIN('AVEIRO - Dados'!B14:D18) -> 1.619 | G8: =MAX('AVEIRO - Dados'!B14:D18) -> 1.734 | I8: GASOLINA 98 + | M8: =MIN('AVEIRO - Dados'!F12:H15) -> 1.309 | N8: =MAX('AVEIRO - Dados'!F11:H11) -> 1.624 | P8: GASOLINA 98 + | T8: =MIN('AVEIRO - Dados'!J18:L22) -> 1.584 | U8: =MAX('AVEIRO - Dados'!J18:L22) -> 1.599 | W8: GASOLINA 98 + | AA8: =MIN('AVEIRO - Dados'!N11:P13) -> 1.624 | AB8: =MAX('AVEIRO - Dados'!N11:P13) -> 1.719 | AD8: GASOLINA 98 + | AH8: =MIN('AVEIRO - Dados'!R12:T13) -> 1.679 | AI8: =MAX('AVEIRO - Dados'!R12:T13) -> 1.719 | AK8: GASOLINA 98 + | AO8: =MIN('AVEIRO - Dados'!V17:X21) -> 1.449 | AP8: =MAX('AVEIRO - Dados'!V17:X21) -> 1.729 | AR8: GASOLINA 98 + | AV8: =MIN('AVEIRO - Dados'!Z19:AB22) -> 1.617 | AW8: =MAX('AVEIRO - Dados'!Z19:AB22) -> 1.719 | AY8: GASOLINA 98 + | BC8: =MIN('AVEIRO - Dados'!AD13:AF16) -> 1.619 | BD8: =MAX('AVEIRO - Dados'!AD13:AF16) -> 1.719
B9: GASÓLEO | F9: =MIN('AVEIRO - Dados'!B19:D23) -> 1.259 | G9: =MAX('AVEIRO - Dados'!B19:D23) -> 1.289 | I9: GASÓLEO | M9: =MIN('AVEIRO - Dados'!F12:H15) -> 1.309 | N9: =MAX('AVEIRO - Dados'!F12:H15) -> 1.339 | P9: GASÓLEO | T9: =MIN('AVEIRO - Dados'!J23:L27) -> 1.199 | U9: =MAX('AVEIRO - Dados'!J23:L27) -> 1.245 | W9: GASÓLEO | AA9: =MIN('AVEIRO - Dados'!N14:P17) -> 1.238 | AB9: =MAX('AVEIRO - Dados'!N14:P17) -> 1.359 | AD9: GASÓLEO | AH9: =MIN('AVEIRO - Dados'!R14:T18) -> 1.188 | AI9: =MAX('AVEIRO - Dados'!R14:T18) -> 1.339 | AK9: GASÓLEO | AO9: =MIN('AVEIRO - Dados'!V22:X26) -> 1.189 | AP9: =MAX('AVEIRO - Dados'!V22:X26) -> 1.274 | AR9: GASÓLEO | AV9: =MIN('AVEIRO - Dados'!Z23:AB27) -> 1.179 | AW9: =MAX('AVEIRO - Dados'!Z23:AB27) -> 1.238 | AY9: GASÓLEO | BC9: =MIN('AVEIRO - Dados'!AD17:AF21) -> 1.202 | BD9: =MAX('AVEIRO - Dados'!AD17:AF21) -> 1.314
B10: GASÓLEO + | F10: =MIN('AVEIRO - Dados'!B24:D28) -> 1.215 | G10: =MAX('AVEIRO - Dados'!B24:D28) -> 1.319 | I10: GASÓLEO + | M10: =MIN('AVEIRO - Dados'!F16:H18) -> 1.304 | N10: =MAX('AVEIRO - Dados'!F16:H18) -> 1.379 | P10: GASÓLEO + | T10: =MIN('AVEIRO - Dados'!J28:L32) -> 1.215 | U10: =MAX('AVEIRO - Dados'!J28:L32) -> 1.289 | W10: GASÓLEO + | AA10: =MIN('AVEIRO - Dados'!N18:P21) -> 1.268 | AB10: =MAX('AVEIRO - Dados'!N18:P21) -> 1.459 | AD10: GASÓLEO + | AH10: =MIN('AVEIRO - Dados'!R19:T23) -> 1.218 | AI10: =MAX('AVEIRO - Dados'!R19:T23) -> 1.459 | AK10: GASÓLEO + | AO10: =MIN('AVEIRO - Dados'!V27:X31) -> 1.294 | AP10: =MAX('AVEIRO - Dados'!V27:X31) -> 1.319 | AR10: GASÓLEO + | AV10: =MIN('AVEIRO - Dados'!Z28:AB32) -> 1.235 | AW10: =MAX('AVEIRO - Dados'!Z28:AB32) -> 1.319 | AY10: GASÓLEO + | BC10: =MIN('AVEIRO - Dados'!AD22:AF26) -> 1.299 | BD10: =MAX('AVEIRO - Dados'!AD22:AF26) -> 1.379
B11: GPL AUTO | F11: // | G11: // | I11: GPL AUTO | M11: // | N11: // | P11: GPL AUTO | T11: =MIN('AVEIRO - Dados'!J33:L37) -> 0.589 | U11: =MAX('AVEIRO - Dados'!J33:L37) -> 0.694 | W11: GPL AUTO | AA11: =MIN('AVEIRO - Dados'!N22:P22) -> 0.66 | AB11: =MAX('AVEIRO - Dados'!N22:P22) -> 0.66 | AD11: GPL AUTO | AH11: // | AI11: // | AK11: GPL AUTO | AO11: // | AP11: // | AR11: GPL AUTO | AV11: =MIN('AVEIRO - Dados'!Z33:AB35) -> 0.692 | AW11: =MAX('AVEIRO - Dados'!Z33:AB35) -> 0.75 | AY11: GPL AUTO | BC11: =MIN('AVEIRO - Dados'!AD27:AF28) -> 0.629 | BD11: =MAX('AVEIRO - Dados'!AD27:AF28) -> 0.674
B12: Número total de estações | I12: Número total de estações | P12: Número total de estações | W12: Número total de estações | AD12: Número total de estações | AK12: Número total de estações | AR12: Número total de estações | AY12: Número total de estações
F14: Preço Médio | M14: Preço Médio | T14: Preço Médio | AA14: Preço Médio | AH14: Preço Médio | AO14: Preço Médio | AV14: Preço Médio | BC14: Preço Médio
B15: Águeda | I15: Arouca | P15: Aveiro | W15: Espinho | AD15: Mealhada | AK15: Ovar | AR15: Santa Maria Da Feira | AY15: São João Da Madeira
B16: GASOLINA 95 SIMPLES | F16: =AVERAGE('AVEIRO - Dados'!B4:D8) -> 1.4504 | I16: GASOLINA 95 SIMPLES | M16: =AVERAGE('AVEIRO - Dados'!F4:H7) -> 1.5215 | P16: GASOLINA 95 SIMPLES | T16: =AVERAGE('AVEIRO - Dados'!J4:L8) -> 1.4064 | W16: GASOLINA 95 SIMPLES | AA16: =AVERAGE('AVEIRO - Dados'!N4:P7) -> 1.534 | AD16: GASOLINA 95 SIMPLES | AH16: =AVERAGE('AVEIRO - Dados'!R4:T8) -> 1.4988 | AK16: GASOLINA 95 SIMPLES | AO16: =AVERAGE('AVEIRO - Dados'!V4:X8) -> 1.449 | AR16: GASOLINA 95 SIMPLES | AV16: =AVERAGE('AVEIRO - Dados'!Z4:AB8) -> 1.43 | AY16: GASOLINA 95 SIMPLES | BC16: =AVERAGE('AVEIRO - Dados'!AD4:AF8) -> 1.421
B17: GASOLINA 95 + | F17: =AVERAGE('AVEIRO - Dados'!B9:D10) -> 1.5215 | I17: GASOLINA 95 + | M17: =AVERAGE('AVEIRO - Dados'!F8:H8) -> 1.559 | P17: GASOLINA 95 + | T17: =AVERAGE('AVEIRO - Dados'!J9:L13) -> 1.4832 | W17: GASOLINA 95 + | AA17: =AVERAGE('AVEIRO - Dados'!N8:P9) -> 1.529 | AD17: GASOLINA 95 + | AH17: =AVERAGE('AVEIRO - Dados'!R9:T10) -> 1.534 | AK17: GASOLINA 95 + | AO17: =AVERAGE('AVEIRO - Dados'!V9:X11) -> 1.5123333 | AR17: GASOLINA 95 + | AV17: =AVERAGE('AVEIRO - Dados'!Z9:AB13) -> 1.5102 | AY17: GASOLINA 95 + | BC17: =AVERAGE('AVEIRO - Dados'!AD9:AF10) -> 1.529
B18: GASOLINA 98 SIMPLES | F18: =AVERAGE('AVEIRO - Dados'!B11:D13) -> 1.6106667 | I18: GASOLINA 98 SIMPLES | M18: =AVERAGE('AVEIRO - Dados'!F11:H11) -> 1.624 | P18: GASOLINA 98 SIMPLES | T18: =AVERAGE('AVEIRO - Dados'!J14:L17) -> 1.53625 | W18: GASOLINA 98 SIMPLES | AA18: =AVERAGE('AVEIRO - Dados'!N10:P10) -> 1.534 | AD18: GASOLINA 98 SIMPLES | AH18: =AVERAGE('AVEIRO - Dados'!R11:T11) -> 1.488 | AK18: GASOLINA 98 SIMPLES | AO18: =AVERAGE('AVEIRO - Dados'!V12:X16) -> 1.5578 | AR18: GASOLINA 98 SIMPLES | AV18: =AVERAGE('AVEIRO - Dados'!Z14:AB18) -> 1.5034 | AY18: GASOLINA 98 SIMPLES | BC18: =AVERAGE('AVEIRO - Dados'!AD11:AF12) -> 1.5035
B19: GASOLINA 98 + | F19: =AVERAGE('AVEIRO - Dados'!B14:D18) -> 1.683 | I19: GASOLINA 98 + | M19: =AVERAGE('AVEIRO - Dados'!F11:H11) -> 1.624 | P19: GASOLINA 98 + | T19: =AVERAGE('AVEIRO - Dados'!J18:L22) -> 1.596 | W19: GASOLINA 98 + | AA19: =AVERAGE('AVEIRO - Dados'!N11:P13) -> 1.6573333 | AD19: GASOLINA 98 + | AH19: =AVERAGE('AVEIRO - Dados'!R12:T13) -> 1.699 | AK19: GASOLINA 98 + | AO19: =AVERAGE('AVEIRO - Dados'!V17:X21) -> 1.5578 | AR19: GASOLINA 98 + | AV19: =AVERAGE('AVEIRO - Dados'!Z19:AB22) -> 1.64425 | AY19: GASOLINA 98 + | BC19: =AVERAGE('AVEIRO - Dados'!AD13:AF16) -> 1.66025
B20: GASÓLEO | F20: =AVERAGE('AVEIRO - Dados'!B19:D23) -> 1.2704 | I20: GASÓLEO | M20: =AVERAGE('AVEIRO - Dados'!F12:H15) -> 1.3315 | P20: GASÓLEO | T20: =AVERAGE('AVEIRO - Dados'!J23:L27) -> 1.2206 | W20: GASÓLEO | AA20: =AVERAGE('AVEIRO - Dados'!N14:P17) -> 1.29875 | AD20: GASÓLEO | AH20: =AVERAGE('AVEIRO - Dados'!R14:T18) -> 1.2978 | AK20: GASÓLEO | AO20: =AVERAGE('AVEIRO - Dados'!V22:X26) -> 1.241 | AR20: GASÓLEO | AV20: =AVERAGE('AVEIRO - Dados'!Z23:AB27) -> 1.1988 | AY20: GASÓLEO | BC20: =AVERAGE('AVEIRO - Dados'!AD17:AF21) -> 1.2746
B21: GASÓLEO + | F21: =AVERAGE('AVEIRO - Dados'!B24:D28) -> 1.2714 | I21: GASÓLEO + | M21: =AVERAGE('AVEIRO - Dados'!F16:H18) -> 1.339 | P21: GASÓLEO + | T21: =AVERAGE('AVEIRO - Dados'!J28:L32) -> 1.2546 | W21: GASÓLEO + | AA21: =AVERAGE('AVEIRO - Dados'!N18:P21) -> 1.3475 | AD21: GASÓLEO + | AH21: =AVERAGE('AVEIRO - Dados'!R19:T23) -> 1.3568 | AK21: GASÓLEO + | AO21: =AVERAGE('AVEIRO - Dados'!V27:X31) -> 1.31 | AR21: GASÓLEO + | AV21: =AVERAGE('AVEIRO - Dados'!Z28:AB32) -> 1.276 | AY21: GASÓLEO + | BC21: =AVERAGE('AVEIRO - Dados'!AD22:AF26) -> 1.333
B22: GPL AUTO | F22: // | I22: GPL AUTO | M22: // | P22: GPL AUTO | T22: =AVERAGE('AVEIRO - Dados'!J33:L37) -> 0.6536 | W22: GPL AUTO | AA22: =AVERAGE('AVEIRO - Dados'!N22:P22) -> 0.66 | AD22: GPL AUTO | AH22: // | AK22: GPL AUTO | AO22: // | AR22: GPL AUTO | AV22: =AVERAGE('AVEIRO - Dados'!Z33:AB35) -> 0.71533333 | AY22: GPL AUTO | BC22: =AVERAGE('AVEIRO - Dados'!AD27:AF28) -> 0.6515
B26: TOTAL de estações

Sheet Escolha do tipo de gasolina

Sheet PQ - TCDs
B8: Tipo de Gasolina | C8: Min | D8: Moyenne | E8: Max | G8: Nombre de Localizações
B9: GASÓLEO | C9: 1.259 | D9: 1.2704 | E9: 1.289 | G9: 25
B10: GASÓLEO + | C10: 1.215 | D10: 1.2714 | E10: 1.319
B11: GASOLINA 95 + | C11: 1.514 | D11: 1.5215 | E11: 1.529
B12: GASOLINA 95 SIMPLES | C12: 1.425 | D12: 1.4504 | E12: 1.484
B13: GASOLINA 98 +
B14: GASOLINA 98 SIMPLES | C14: 1.509 | D14: 1.6106667 | E14: 1.719
B15: GASOLINA 98+ | C15: 1.619 | D15: 1.683 | E15: 1.734
B16: GPL AUTO

Sheet PQ - Table
A1: Tipo de Gasolina | B1: Localizações | C1: Preço/Litro | D1: Região
A2: GASOLINA 95 SIMPLES | B2: Prio - Aguada de Baixo N/S | C2: 1.425 | D2: Agueda
A3: GASOLINA 95 SIMPLES | B3: Prio - Aguada de Baixo S/N | C3: 1.425 | D3: Agueda
A4: GASOLINA 95 SIMPLES | B4: Redil - Recardães | C4: 1.439 | D4: Agueda
A5: GASOLINA 95 SIMPLES | B5: Repsol - Hospital Águeda | C5: 1.479 | D5: Agueda
A6: GASOLINA 95 SIMPLES | B6: Cepsa - Travassô | C6: 1.484 | D6: Agueda
A7: GASOLINA 95 + | B7: Cepsa - Travassô | C7: 1.514 | D7: Agueda
A8: GASOLINA 95 + | B8: Galp - Mendes & Loureiro - Comb. e Lubs., Lda | C8: 1.529 | D8: Agueda
A9: GASOLINA 98 SIMPLES | B9: Redil - Recardães | C9: 1.509 | D9: Agueda
A10: GASOLINA 98 SIMPLES | B10: Alves Bandeira - Travassô | C10: 1.604 | D10: Agueda
A11: GASOLINA 98 SIMPLES | B11: BP - A.B.M. - Zona Industrial | C11: 1.719 | D11: Agueda
A12: GASOLINA 98+ | B12: Repsol - Hospital Águeda | C12: 1.619 | D12: Agueda
A13: GASOLINA 98+ | B13: Galp - Mendes & Loureiro - Comb. e Lubs., Lda | C13: 1.624 | D13: Agueda
... A199: GPL AUTO | B199: Repsol São João da Madeira | C199: 0.674 | D199: Sao Joao da Madeira
