Workbook
Name _10A: [1]Données!$D$14:$M$14
Name _15A: [1]Données!$D$14:$R$14
Name _E1: #REF!
Name _E2: #REF!
Name _E3: #REF!
Name _EAS1: '[2]K1-Clés'!$F$71
Name _EAS2: '[2]K1-Clés'!$G$71
Name _EAS3: '[2]K1-Clés'!$H$71
Name _EAS4: '[2]K1-Clés'!$I$71
Name _EAS5: '[2]K1-Clés'!$J$71
Name _EAS6: '[2]K1-Clés'!$K$71
Name _EAS7: '[2]K1-Clés'!$L$71
Name _EAS8: '[2]K1-Clés'!$N$71
Name _Enc1204: OFFSET([3]cedesparCE!$T$1,1,0,COUNTA([3]cedesparCE!$T$1:$T$65536)-1,1)
Name _ENV1: '[2]K1-Clés'!$F$86
Name _ENV2: '[2]K1-Clés'!$G$86
Name _ENV3: '[2]K1-Clés'!$H$86
Name _ENV4: '[2]K1-Clés'!$I$86
Name _ENV5: '[2]K1-Clés'!$J$86
Name _ENV6: '[2]K1-Clés'!$K$86
Name _ENV7: '[2]K1-Clés'!$L$86
Name _ETC1: '[2]K1-Clés'!$F$92
Name _ETC2: '[2]K1-Clés'!$G$92
Name _ETC3: '[2]K1-Clés'!$H$92
Name _ETC4: '[2]K1-Clés'!$I$92
Name _ETC5: '[2]K1-Clés'!$J$92
Name _ETC6: '[2]K1-Clés'!$K$92
Name _ETC7: '[2]K1-Clés'!$L$92
Name _HPV1: '[4] TOTAL'!$O$26
Name _IMS4: '[2]K1-Clés'!$I$62
Name _IMS5: '[2]K1-Clés'!$J$62
Name _IMS6: '[2]K1-Clés'!$K$62
Name _IMS7: '[2]K1-Clés'!$L$62
Name _IMS8: '[2]K1-Clés'!$M$62
Name _IMS9: '[2]K1-Clés'!$N$62
Name _INF1: '[2]K1-Clés'!$F$98
Name _INF2: '[2]K1-Clés'!$G$98
Name _INF3: '[2]K1-Clés'!$H$98
Name _INF4: '[2]K1-Clés'!$I$98
Name _INF5: '[2]K1-Clés'!$J$98
Name _INF6: '[2]K1-Clés'!$K$98
Name _INF7: '[2]K1-Clés'!$L$98
Name _JH1: '[2]K1-Clés'!$E$41
Name _JH2: '[2]K1-Clés'!$E$46
Name _Lib1: #REF!
Name _Lib2: #REF!
Name _Lib3: #REF!
Name _Lib4: #REF!
Name _Lib5: #REF!
Name _Lib6: #REF!
Name _LIS1: '[2]K1-Clés'!$F$89
Name _LIS2: '[2]K1-Clés'!$G$89
Name _LIS3: '[2]K1-Clés'!$H$89
Name _LIS4: '[2]K1-Clés'!$I$89
Name _LIS5: '[2]K1-Clés'!$J$89
Name _LIS6: '[2]K1-Clés'!$K$89
Name _LIS7: '[2]K1-Clés'!$L$89
Name _LS1: #REF!
Name _LS2: #REF!
Name _LS3: #REF!

Sheet liste_site
A1: Num_Site | B1: depatement | C1: Surface | D1: pièces
A2: 000 | B2: 45 | C2: 552 | D2: 3835.4616
A3: 110 | B3: 18 | C3: 461.9 | D3: 3378.3366
A4: 111 | B4: 18 | C4: 120 | D4: 954
A5: 112 | B5: 18 | C5: 177.45 | D5: 1410.7275
A6: 113 | B6: 18 | C6: 151.08 | D6: 1201.086
A7: 114 | B7: 18 | C7: 184.89 | D7: 1469.8755
A8: 115 | B8: 18 | C8: 76.36 | D8: 607.062
A9: 116 | B9: 18 | C9: 253.24 | D9: 1852.1974
A10: 117 | B10: 18 | C10: 92.24 | D10: 733.308
A11: 130 | B11: 18 | C11: 303.83 | D11: 2222.2126
A12: 131 | B12: 18 | C12: 151.19 | D12: 1201.9605
A13: 132 | B13: 18 | C13: 157.44 | D13: 1251.648
... A114: 478 | B114: 41 | C114: 90.46 | D114: 719.157
A115: 511 | B115: 28 | C115: =555.38+232.93 -> 788.31 | D115: 5367.8661
A116: 512 | B116: 28 | C116: 168.09 | D116: 1336.3155
A117: 520 | B117: 28 | C117: 123.04 | D117: 978.168
A118: 521 | B118: 28 | C118: 133.35 | D118: 1060.1325
A119: 522 | B119: 28 | C119: 218.69 | D119: 1738.5855
A120: 523 | B120: 28 | C120: 246 | D120: 1955.7
A121: 524 | B121: 28 | C121: 196.71 | D121: 1563.8445
A122: 525 | B122: 28 | C122: 103.21 | D122: 820.5195
A123: 526 | B123: 28 | C123: 161.82 | D123: 1286.469
A124: 527 | B124: 28 | C124: 227.43 | D124: 1808.0685
A125: 529 | B125: 28 | C125: 196.75 | D125: 1564.1625
A126: 530 | B126: 28 | C126: 165.14 | D126: 1312.863
A127: 531 | B127: 28 | C127: 239.32 | D127: 1902.594
... A198: 696 | B198: 45 | C198: 64.45 | D198: 512.3775
A199: E01 | B199: 41 | C199: =217.53+56.45 -> 273.98 | D199: 2003.8897
A200: E02 | B200: 18 | C200: 502.76 | D200: 3494
A201: E07 | B201: 37 | C201: 353.78 | D201: 2587.5469
A202: G514 | B202: 28 | C202: 9 | D202: 71.55
A203: G546 | B203: 28 | C203: 9.38 | D203: 74.571
A204: G583 | B204: 28 | C204: 14 | D204: 111.3
A205: G628 | B205: 45 | C205: 7.4 | D205: 58.83
A206: G695 | B206: 45 | C206: 7 | D206: 55.65
A207: GS15 | B207: 37 | C207: 11.56 | D207: 91.902
A208: GS16 | B208: 37 | C208: 9.08 | D208: 72.186
A209: S01 | B209: 45 | C209: 9460 | D209: 70857.93
A210: S08 | B210: 41 | C210: 490.56 | D210: 3587.9558
A211: S09 | B211: 36 | C211: 1110 | D211: 8314.1968
... A215: S18 | B215: 41 | C215: 34 | D215: 270.3

Sheet statistique
B2: Nombre de site par surface | I2: Nombre de pièces | J2: Surface
A3: Département | B3: 250 | C3: 500 | D3: 750 | E3: 1000 | F3: 10000 | I3: depatement | J3: 250m² | K3: 500m² | L3: 750m² | M3: >750m² | N3: Total général
A4: 37 | B4: =SUMPRODUCT((Départements=$A4)*(Surfaces<=B$3)) -> 39 | C4: =SUMPRODUCT((Départements=$A4)*(Surfaces>B$3)*(Surfaces<=C$3)) -> 10 | D4: =SUMPRODUCT((Départements=$A4)*(Surfaces>C$3)*(Surfaces<=D$3)) -> 0 | E4: =SUMPRODUCT((Départements=$A4)*(Surfaces>D$3)*(Surfaces<=E$3)) -> 0 | F4: =SUMPRODUCT((Départements=$A4)*(Surfaces>E$3)*(Surfaces<=F$3)) -> 2 | I4: 18 | J4: 16 | K4: 3 | L4: 2 | N4: 21
A5: 18 | B5: =SUMPRODUCT((liste_site!$B$2:$B$215=$A5)*(liste_site!$C$2:$C$215<=B$3)) -> 16 | C5: =SUMPRODUCT((Départements=$A5)*(Surfaces>B$3)*(Surfaces<=C$3)) -> 3 | D5: =SUMPRODUCT((Départements=$A5)*(Surfaces>C$3)*(Surfaces<=D$3)) -> 2 | E5: =SUMPRODUCT((Départements=$A5)*(Surfaces>D$3)*(Surfaces<=E$3)) -> 0 | F5: =SUMPRODUCT((Départements=$A5)*(Surfaces>E$3)*(Surfaces<=F$3)) -> 0 | I5: 28 | J5: 31 | K5: 3 | M5: 1 | N5: 35
A6: 41 | B6: =SUMPRODUCT((liste_site!$B$2:$B$215=$A6)*(liste_site!$C$2:$C$215<=B$3)) -> 21 | C6: =SUMPRODUCT((Départements=$A6)*(Surfaces>B$3)*(Surfaces<=C$3)) -> 6 | D6: =SUMPRODUCT((Départements=$A6)*(Surfaces>C$3)*(Surfaces<=D$3)) -> 1 | E6: =SUMPRODUCT((Départements=$A6)*(Surfaces>D$3)*(Surfaces<=E$3)) -> 0 | F6: =SUMPRODUCT((Départements=$A6)*(Surfaces>E$3)*(Surfaces<=F$3)) -> 0 | I6: 36 | J6: 16 | K6: 4 | L6: 1 | M6: 1 | N6: 22
A7: 36 | B7: =SUMPRODUCT((liste_site!$B$2:$B$215=$A7)*(liste_site!$C$2:$C$215<=B$3)) -> 16 | C7: =SUMPRODUCT((Départements=$A7)*(Surfaces>B$3)*(Surfaces<=C$3)) -> 4 | D7: =SUMPRODUCT((Départements=$A7)*(Surfaces>C$3)*(Surfaces<=D$3)) -> 1 | E7: =SUMPRODUCT((Départements=$A7)*(Surfaces>D$3)*(Surfaces<=E$3)) -> 0 | F7: =SUMPRODUCT((Départements=$A7)*(Surfaces>E$3)*(Surfaces<=F$3)) -> 1 | I7: 37 | J7: 39 | K7: 10 | M7: 2 | N7: 51
A8: 45 | B8: =SUMPRODUCT((liste_site!$B$2:$B$215=$A8)*(liste_site!$C$2:$C$215<=B$3)) -> 39 | C8: =SUMPRODUCT((Départements=$A8)*(Surfaces>B$3)*(Surfaces<=C$3)) -> 12 | D8: =SUMPRODUCT((Départements=$A8)*(Surfaces>C$3)*(Surfaces<=D$3)) -> 4 | E8: =SUMPRODUCT((Départements=$A8)*(Surfaces>D$3)*(Surfaces<=E$3)) -> 1 | F8: =SUMPRODUCT((Départements=$A8)*(Surfaces>E$3)*(Surfaces<=F$3)) -> 1 | I8: 41 | J8: 21 | K8: 6 | L8: 1 | N8: 28
A9: 28 | B9: =SUMPRODUCT((liste_site!$B$2:$B$215=$A9)*(liste_site!$C$2:$C$215<=B$3)) -> 31 | C9: =SUMPRODUCT((Départements=$A9)*(Surfaces>B$3)*(Surfaces<=C$3)) -> 3 | D9: =SUMPRODUCT((Départements=$A9)*(Surfaces>C$3)*(Surfaces<=D$3)) -> 0 | E9: =SUMPRODUCT((Départements=$A9)*(Surfaces>D$3)*(Surfaces<=E$3)) -> 1 | F9: =SUMPRODUCT((Départements=$A9)*(Surfaces>E$3)*(Surfaces<=F$3)) -> 0 | I9: 45 | J9: 39 | K9: 12 | L9: 4 | M9: 2 | N9: 57
I10: Total général | J10: 162 | K10: 38 | L10: 8 | M10: 6 | N10: 214
B11: =SUM(B4:B9) -> 162 | C11: =SUM(C4:C9) -> 38 | D11: =SUM(D4:D9) -> 8 | E11: =SUM(E4:E9) -> 2 | F11: =SUM(F4:F9) -> 4
E17: max m²
E18: =MAX(Surfaces) -> 9460 | F18: ??
