Workbook

Sheet Feuil1
A1: ref fournisseur | B1: Ancien Prix | C1: nom avec attributs FR | D1: meta_description FR | E1: ref de ma boutique | G1: nouveau prix | I1: si besoin d'un point
A2: 100006 | B2: 22.3975 | C2: Porte-documents page up opaque (x6) | D2: Porte-documents page up opaque (x6) | E2: 20001 | G2: =VLOOKUP(A2,Feuil2!$A$1:$C$25,3,FALSE) -> 15.5 | I2: =SUBSTITUTE(G2,",",".") -> 15.5
A3: 100026 | B3: 18.8275 | C3: Trieur vertical modulaire noir | D3: Trieur vertical modulaire noir | E3: 20002 | G3: =VLOOKUP(A3,Feuil2!$A$1:$C$25,3,FALSE) -> 12.53 | I3: =SUBSTITUTE(G3,",",".") -> 12.53
A4: 100048 | B4: 2.703 | C4: Etui souple PP 12/100 210x297 (x10) | D4: Etui souple PP 12/100 210x297 (x10) | E4: 20003 | G4: =VLOOKUP(A4,Feuil2!$A$1:$C$25,3,FALSE) -> 1.89 | I4: =SUBSTITUTE(G4,",",".") -> 1.89
A5: 100147 | B5: 47.906 | C5: Doss. susp. velcro H fd 15 bleu (x25) | D5: Doss. susp. velcro H fd 15 bleu (x25) | E5: 20004 | G5: =VLOOKUP(A5,Feuil2!$A$1:$C$25,3,FALSE) -> 32.55 | I5: =SUBSTITUTE(G5,",",".") -> 32.55
A6: 100157 | B6: 47.7105 | C6: Doss. susp. velcro V fond 50 bleu (x25) | D6: Doss. susp. velcro V fond 50 bleu (x25) | E6: 20005 | G6: =VLOOKUP(A6,Feuil2!$A$1:$C$25,3,FALSE) -> 32.42 | I6: =SUBSTITUTE(G6,",",".") -> 32.42
A7: 100159 | B7: 47.7105 | C7: Doss. susp. velcro V fond 50 vert (x25) | D7: Doss. susp. velcro V fond 50 vert (x25) | E7: 20006 | G7: =VLOOKUP(A7,Feuil2!$A$1:$C$25,3,FALSE) -> #N/A | I7: =SUBSTITUTE(G7,",",".") -> #N/A
A8: 100161 | B8: 44.506 | C8: Doss. susp. velcro V fond 30 bleu (x25) | D8: Doss. susp. velcro V fond 30 bleu (x25) | E8: 20007 | G8: =VLOOKUP(A8,Feuil2!$A$1:$C$25,3,FALSE) -> 30.24 | I8: =SUBSTITUTE(G8,",",".") -> 30.24
A9: 100163 | B9: 44.506 | C9: Doss. susp. velcro V fond 30 vert (x25) | D9: Doss. susp. velcro V fond 30 vert (x25) | E9: 20008 | G9: =VLOOKUP(A9,Feuil2!$A$1:$C$25,3,FALSE) -> 30.24 | I9: =SUBSTITUTE(G9,",",".") -> 30.24
A10: 100165 | B10: 38.267 | C10: Doss. susp. velcro V fond 15 bleu (x25) | D10: Doss. susp. velcro V fond 15 bleu (x25) | E10: 20009 | G10: =VLOOKUP(A10,Feuil2!$A$1:$C$25,3,FALSE) -> 28.12 | I10: =SUBSTITUTE(G10,",",".") -> 28.12
A11: 100166 | B11: 38.267 | C11: Doss. susp. velcro V fond 15 jaune (x25) | D11: Doss. susp. velcro V fond 15 jaune (x25) | E11: 20010 | G11: =VLOOKUP(A11,Feuil2!$A$1:$C$25,3,FALSE) -> 28.12 | I11: =SUBSTITUTE(G11,",",".") -> 28.12
A12: 100167 | B12: 38.267 | C12: Doss. susp. velcro V fond 15 vert (x25) | D12: Doss. susp. velcro V fond 15 vert (x25) | E12: 20011 | G12: =VLOOKUP(A12,Feuil2!$A$1:$C$25,3,FALSE) -> 28.12 | I12: =SUBSTITUTE(G12,",",".") -> 28.12
A13: 100169 | B13: 34.663 | C13: Doss. susp. velcro V fond V bleu (x25) | D13: Doss. susp. velcro V fond V bleu (x25) | E13: 20012 | G13: =VLOOKUP(A13,Feuil2!$A$1:$C$25,3,FALSE) -> 23.56 | I13: =SUBSTITUTE(G13,",",".") -> 23.56

Sheet Feuil2
A1: Article | B1: Désignation | C1: Nouveau Prix
A2: 100006 | B2: Porte-documents page up opaque (x6) | C2: 15.5
A3: 100026 | B3: Trieur vertical modulaire noir | C3: 12.53
A4: 100048 | B4: Etui souple PP 12/100 210x297 (x10) | C4: 1.89
A5: 100147 | B5: Doss. susp. velcro H fd 15 bleu (x25) | C5: 32.55
A6: 100157 | B6: Doss. susp. velcro V fond 50 bleu (x25) | C6: 32.42
A7: 100161 | B7: Doss. susp. velcro V fond 30 bleu (x25) | C7: 30.24
A8: 100162 | B8: Doss. susp. velcro V fond 30 jaune (x25) | C8: 39.9
A9: 100163 | B9: Doss. susp. velcro V fond 30 vert (x25) | C9: 30.24
A10: 100165 | B10: Doss. susp. velcro V fond 15 bleu (x25) | C10: 28.12
A11: 100166 | B11: Doss. susp. velcro V fond 15 jaune (x25) | C11: 28.12
A12: 100167 | B12: Doss. susp. velcro V fond 15 vert (x25) | C12: 28.12
A13: 100169 | B13: Doss. susp. velcro V fond V bleu (x25) | C13: 23.56
... A25: 100349 | B25: Class. levier blanc dos 8cm A4 chromos+ | C25: 2.48
