Workbook

Sheet Feuil1
A1: A1 | B1: Date | C1: 43637 | D1: 43638 | E1: 43639 | F1: 43640 | G1: 43641 | H1: 43642 | I1: 43643 | J1: 43644 | K1: 43645 | L1: 43646 | M1: 43647 | N1: 43648 | O1: 43649 | P1: 43650 | Q1: 43651 | R1: 43652 | S1: 43653
A2: A2 | B2: Total prévu Cumul | C2: 155 | D2: 210 | E2: 320 | F2: 335 | G2: 386 | H2: 455 | I2: 520 | J2: 533 | K2: 633 | L2: 800 | M2: 850 | N2: 870 | O2: 880 | P2: 890 | Q2: 891 | R2: 950 | S2: 1000
A3: A3 | B3: % prévu | C3: =C2*100/1406/100 -> 0.11024182 | D3: =D2*100/1406/100 -> 0.14935989 | E3: =E2*100/1406/100 -> 0.22759602 | F3: =F2*100/1406/100 -> 0.23826458 | G3: =G2*100/1406/100 -> 0.2745377 | H3: =H2*100/1406/100 -> 0.32361309 | I3: =I2*100/1406/100 -> 0.36984353 | J3: =J2*100/1406/100 -> 0.37908962 | ... R3: =R2*100/1406/100 -> 0.67567568 | S3: =1 -> 1
A4: A4 | B4: Poucentage prévu cumul au jour j | C4: 100 | D4: 100 | E4: 100 | F4: 100 | G4: 100 | H4: 100 | I4: 100 | J4: 100 | K4: 100 | L4: 100 | M4: 100 | N4: 100 | O4: 100 | P4: 100 | Q4: 100 | R4: 100 | S4: 100
A5: A5 | B5: Total réel Cumul | C5: 154 | D5: 202 | E5: 315 | F5: 335 | G5: 400 | H5: 425 | I5: 502 | J5: 515 | K5: 600 | L5: 750 | M5: 824 | N5: 865 | O5: 870 | P5: 880 | Q5: 890 | R5: 948 | S5: 999
A6: A6 | B6: % réél | C6: =C5*100/1406/100 -> 0.10953058 | D6: =D5*100/1406/100 -> 0.14366999 | E6: =E5*100/1406/100 -> 0.22403983 | F6: =F5*100/1406/100 -> 0.23826458 | G6: =G5*100/1406/100 -> 0.28449502 | H6: =H5*100/1406/100 -> 0.30227596 | I6: =I5*100/1406/100 -> 0.35704125 | J6: =J5*100/1406/100 -> 0.36628734 | ... R6: =R5*100/1406/100 -> 0.6742532 | S6: =0.99 -> 0.99
A7: A7 | B7: Poucentage réel cumul au jour j | C7: =C5*C4/C2 -> 99.354839 | D7: =D5*D4/D2 -> 96.190476 | E7: =E5*E4/E2 -> 98.4375 | F7: =F5*F4/F2 -> 100 | G7: =G5*G4/G2 -> 103.62694 | H7: =H5*H4/H2 -> 93.406593 | I7: =I5*I4/I2 -> 96.538462 | J7: =J5*J4/J2 -> 96.622889 | ... S7: =S5*S4/S2 -> 99.9
A8: A8 | B8: Delta (reel - prévu) cumul | C8: =C5-C2 -> -1 | D8: =D5-D2 -> -8 | E8: =E5-E2 -> -5 | F8: =F5-F2 -> 0 | G8: =G5-G2 -> 14 | H8: =H5-H2 -> -30 | I8: =I5-I2 -> -18 | J8: =J5-J2 -> -18 | ... S8: =S5-S2 -> -1
A9: A9 | B9: Pourcentage Delta (reel - prévu) cumul | C9: =C6-C3 -> -0.00071123755 | D9: =D6-D3 -> -0.0056899004 | E9: =E6-E3 -> -0.0035561878 | F9: =F6-F3 -> 0 | G9: =G6-G3 -> 0.0099573257 | H9: =H6-H3 -> -0.021337127 | I9: =I6-I3 -> -0.012802276 | J9: =J6-J3 -> -0.012802276 | ... S9: =S6-S3 -> -0.01
B10: Date d'avancement +2j | C10: =C20+2 -> 43649
C11: % prévu | D11: =IFERROR(INDEX(Feuil1!$C$2:$S$9,MATCH(C11,Feuil1!$B$2:$B$9,0),MATCH($C$10,Feuil1!$C$1:$S$1,0)),"-") -> 0.62588905
C12: % réél | D12: =IFERROR(INDEX(Feuil1!$C$2:$S$9,MATCH(C12,Feuil1!$B$2:$B$9,0),MATCH($C$10,Feuil1!$C$1:$S$1,0)),"-") -> 0.61877667
C13: Pourcentage Delta (reel - prévu) cumul | D13: =IFERROR(INDEX(Feuil1!$C$2:$S$9,MATCH(C13,Feuil1!$B$2:$B$9,0),MATCH($C$10,Feuil1!$C$1:$S$1,0)),"-") -> -0.0071123755
B15: Date d'avancement + 1j | C15: =C20+1 -> 43648
C16: % prévu | D16: =IFERROR(INDEX(Feuil1!$C$2:$S$9,MATCH(C16,Feuil1!$B$2:$B$9,0),MATCH($C$15,Feuil1!$C$1:$S$1,0)),"-") -> 0.61877667
C17: % réél | D17: =IFERROR(INDEX(Feuil1!$C$2:$S$9,MATCH(C17,Feuil1!$B$2:$B$9,0),MATCH($C$15,Feuil1!$C$1:$S$1,0)),"-") -> 0.61522048
C18: Pourcentage Delta (reel - prévu) cumul | D18: =IFERROR(INDEX(Feuil1!$C$2:$S$9,MATCH(C18,Feuil1!$B$2:$B$9,0),MATCH($C$15,Feuil1!$C$1:$S$1,0)),"-") -> -0.0035561878
B20: Date d'avancement | C20: 43647
C21: % prévu | D21: =IFERROR(INDEX(Feuil1!$C$2:$S$9,MATCH(C21,Feuil1!$B$2:$B$9,0),MATCH($C$20,Feuil1!$C$1:$S$1,0)),"-") -> 0.60455192
C22: % réél | D22: =IFERROR(INDEX(Feuil1!$C$2:$S$9,MATCH(C22,Feuil1!$B$2:$B$9,0),MATCH($C$20,Feuil1!$C$1:$S$1,0)),"-") -> 0.58605974
C23: Pourcentage Delta (reel - prévu) cumul | D23: =IFERROR(INDEX(Feuil1!$C$2:$S$9,MATCH(C23,Feuil1!$B$2:$B$9,0),MATCH($C$20,Feuil1!$C$1:$S$1,0)),"-") -> -0.018492176
B25: Date d'avancement-1 | C25: =C20-1 -> 43646
C26: % prévu | D26: =IFERROR(INDEX(Feuil1!$C$2:$S$9,MATCH(C26,Feuil1!$B$2:$B$9,0),MATCH($C$25,Feuil1!$C$1:$S$1,0)),"-") -> 0.56899004
C27: % réél | D27: =IFERROR(INDEX(Feuil1!$C$2:$S$9,MATCH(C27,Feuil1!$B$2:$B$9,0),MATCH($C$25,Feuil1!$C$1:$S$1,0)),"-") -> 0.53342817
C28: Pourcentage Delta (reel - prévu) cumul | D28: =IFERROR(INDEX(Feuil1!$C$2:$S$9,MATCH(C28,Feuil1!$B$2:$B$9,0),MATCH($C$25,Feuil1!$C$1:$S$1,0)),"-") -> -0.035561878

Sheet Feuil4
L4: 1 | M4: Ajout Série 3
L5: 2 | M5: Sélectionner la série 3
L6: 3 | M6: Ajout Barre erreur verticale

Sheet Feuil2
A1: Date: | B1: 43644
B2: % prévu | C2: =IFERROR(INDEX(Feuil1!$C$2:$K$9,MATCH(B2,Feuil1!$B$2:$B$9,0),MATCH($B$1,Feuil1!$C$1:$K$1,0)),"-") -> 0.37908962
B3: % réél | C3: =IFERROR(INDEX(Feuil1!$C$2:$K$9,MATCH(B3,Feuil1!$B$2:$B$9,0),MATCH($B$1,Feuil1!$C$1:$K$1,0)),"-") -> 0.36628734
B4: Pourcentage Delta (reel - prévu) cumul | C4: =IFERROR(INDEX(Feuil1!$C$2:$K$9,MATCH(B4,Feuil1!$B$2:$B$9,0),MATCH($B$1,Feuil1!$C$1:$K$1,0)),"-") -> -0.012802276
B8: =B1-1 -> 43643
B9: % prévu | C9: =IFERROR(INDEX(Feuil1!$C$2:$K$9,MATCH(B9,Feuil1!$B$2:$B$9,0),MATCH($B$8,Feuil1!$C$1:$K$1,0)),"-") -> 0.36984353
B10: % réél | C10: =IFERROR(INDEX(Feuil1!$C$2:$K$9,MATCH(B10,Feuil1!$B$2:$B$9,0),MATCH($B$8,Feuil1!$C$1:$K$1,0)),"-") -> 0.35704125
B11: Pourcentage Delta (reel - prévu) cumul | C11: =IFERROR(INDEX(Feuil1!$C$2:$K$9,MATCH(B11,Feuil1!$B$2:$B$9,0),MATCH($B$8,Feuil1!$C$1:$K$1,0)),"-") -> -0.012802276
B13: =B8-2 -> 43641
B14: % prévu | C14: =IFERROR(INDEX(Feuil1!$C$2:$K$9,MATCH(B14,Feuil1!$B$2:$B$9,0),MATCH($B$13,Feuil1!$C$1:$K$1,0)),"-") -> 0.2745377
B15: % réél | C15: =IFERROR(INDEX(Feuil1!$C$2:$K$9,MATCH(B15,Feuil1!$B$2:$B$9,0),MATCH($B$13,Feuil1!$C$1:$K$1,0)),"-") -> 0.28449502
B16: Pourcentage Delta (reel - prévu) cumul | C16: =IFERROR(INDEX(Feuil1!$C$2:$K$9,MATCH(B16,Feuil1!$B$2:$B$9,0),MATCH($B$13,Feuil1!$C$1:$K$1,0)),"-") -> 0.0099573257

Sheet Feuil3
A4: Prévu | B4: colonne | C4: 41639 | F4: 41640 | I4: 41641 | L4: 41642 | O4: 41643 | R4: 41644 | U4: 41645 | X4: 41646 | AA4: 41647
C5: L | D5: t | E5: p | F5: t | G5: t | H5: t | I5: o | J5: t | K5: t | L5: p | M5: p | N5: t | O5: p | R5: p | W5: o | X5: p | Z5: p | AC5: p
C6: =COUNTIF($B$5:C5,"p")+COUNTIF($B$5:C5,"t")+COUNTIF($B$5:C5,"o")+COUNTIF($B$5:C5,"l") -> 1 | D6: =COUNTIF($B$5:D5,"p")+COUNTIF($B$5:D5,"t")+COUNTIF($B$5:D5,"o")+COUNTIF($B$5:D5,"l") -> 2 | E6: =COUNTIF($B$5:E5,"p")+COUNTIF($B$5:E5,"t")+COUNTIF($B$5:E5,"o")+COUNTIF($B$5:E5,"l") -> 3 | F6: =COUNTIF($B$5:F5,"p")+COUNTIF($B$5:F5,"t")+COUNTIF($B$5:F5,"o")+COUNTIF($B$5:F5,"l") -> 4 | G6: =COUNTIF($B$5:G5,"p")+COUNTIF($B$5:G5,"t")+COUNTIF($B$5:G5,"o")+COUNTIF($B$5:G5,"l") -> 5 | H6: =COUNTIF($B$5:H5,"p")+COUNTIF($B$5:H5,"t")+COUNTIF($B$5:H5,"o")+COUNTIF($B$5:H5,"l") -> 6 | I6: =COUNTIF($B$5:I5,"p")+COUNTIF($B$5:I5,"t")+COUNTIF($B$5:I5,"o")+COUNTIF($B$5:I5,"l") -> 7 | J6: =COUNTIF($B$5:J5,"p")+COUNTIF($B$5:J5,"t")+COUNTIF($B$5:J5,"o")+COUNTIF($B$5:J5,"l") -> 8 | ... AC6: =COUNTIF($B$5:AC5,"p")+COUNTIF($B$5:AC5,"t")+COUNTIF($B$5:AC5,"o")+COUNTIF($B$5:AC5,"l") -> 18
C7: =C6/$AC$6 -> 0.055555556 | D7: =D6/$AC$6 -> 0.11111111 | E7: =E6/$AC$6 -> 0.16666667 | F7: =F6/$AC$6 -> 0.22222222 | G7: =G6/$AC$6 -> 0.27777778 | H7: =H6/$AC$6 -> 0.33333333 | I7: =I6/$AC$6 -> 0.38888889 | J7: =J6/$AC$6 -> 0.44444444 | ... AC7: =AC6/$AC$6 -> 1
A8: Réel | B8: colonne | C8: 41639 | F8: 41640 | I8: 41641 | L8: 41642 | O8: 41643 | R8: 41644 | U8: 41645 | X8: 41646 | AA8: 41647
C9: L | E9: p | F9: t | H9: t | I9: o | J9: t | K9: t | L9: p | M9: p | N9: t | O9: p | P9: t | Q9: t | R9: p | W9: o | Y9: p | Z9: p | AC9: p
C10: =COUNTIF($B$9:C9,"p")+COUNTIF($B$9:C9,"t")+COUNTIF($B$9:C9,"o")+COUNTIF($B$9:C9,"l") -> 1 | D10: =COUNTIF($B$9:D9,"p")+COUNTIF($B$9:D9,"t")+COUNTIF($B$9:D9,"o")+COUNTIF($B$9:D9,"l") -> 1 | E10: =COUNTIF($B$9:E9,"p")+COUNTIF($B$9:E9,"t")+COUNTIF($B$9:E9,"o")+COUNTIF($B$9:E9,"l") -> 2 | F10: =COUNTIF($B$9:F9,"p")+COUNTIF($B$9:F9,"t")+COUNTIF($B$9:F9,"o")+COUNTIF($B$9:F9,"l") -> 3 | G10: =COUNTIF($B$9:G9,"p")+COUNTIF($B$9:G9,"t")+COUNTIF($B$9:G9,"o")+COUNTIF($B$9:G9,"l") -> 3 | H10: =COUNTIF($B$9:H9,"p")+COUNTIF($B$9:H9,"t")+COUNTIF($B$9:H9,"o")+COUNTIF($B$9:H9,"l") -> 4 | I10: =COUNTIF($B$9:I9,"p")+COUNTIF($B$9:I9,"t")+COUNTIF($B$9:I9,"o")+COUNTIF($B$9:I9,"l") -> 5 | J10: =COUNTIF($B$9:J9,"p")+COUNTIF($B$9:J9,"t")+COUNTIF($B$9:J9,"o")+COUNTIF($B$9:J9,"l") -> 6 | ... AC10: =COUNTIF($B$9:AC9,"p")+COUNTIF($B$9:AC9,"t")+COUNTIF($B$9:AC9,"o")+COUNTIF($B$9:AC9,"l") -> 18
C11: =C10/$AC$6 -> 0.055555556 | D11: =D10/$AC$6 -> 0.055555556 | E11: {=E0/$AC$6} -> #NAME? | F11: =F10/$AC$6 -> 0.16666667 | G11: =G10/$AC$6 -> 0.16666667 | H11: =H10/$AC$6 -> 0.22222222 | I11: =I10/$AC$6 -> 0.27777778 | J11: =J10/$AC$6 -> 0.33333333 | K11: =K10/$AC$6 -> 0.38888889 | L11: =L10/$AC$6 -> 0.44444444 | M11: =M10/$AC$6 -> 0.5 | ... AC11: =AC10/$AC$6 -> 1
B13: four
B15: échangeur
