Workbook
Name Campagnes: OFFSET(GLOBAL!$A$10,1,,IFERROR(MATCH("Total général",GLOBAL!$A$10:$A$1000,0)-2,1),4)
Name début_: GLOBAL!$D$11
Name fin_: MATCH(max_,GLOBAL!$D:$D,1)-1
Name max_: 9.99999999999999E+307
Name range_1: début_:INDEX(GLOBAL!$D:$D,fin_)
Name range_2: OFFSET(début_,0,-2,fin_-10,1)
Name range_3: OFFSET(début_,0,-3,fin_-10,1)

Sheet INDEX
D2: GLOBAL
C3: VUES | D3: =GLOBAL!F8 -> 106399 | F3: =GETPIVOTDATA("Somme de Vues",GLOBAL!$A$10) -> 106399
C4: CLICS | D4: =GLOBAL!#REF! -> #REF! | F4: =GETPIVOTDATA("Somme de Clics",GLOBAL!$A$10) -> 6217
C5: CTR | D5: =D4/D3 -> #REF! | F5: =GETPIVOTDATA("CTR ",GLOBAL!$A$10) -> 0.058431
C6: Nombre campagnes | D6: =GLOBAL!A2 -> 0
C7: EVOL | D7: =D5/D8 -> #REF! | F7: =F5/F8 -> 22.443928
C8: CTR -1 | D8: 0.0026034214 | F8: =D8 -> 0.0026034214
C9: Top 1 | D9: =IF(D10="","",INDEX(GLOBAL!A11:A151,MATCH(INDEX!D10,GLOBAL!F11:F151,0))) -> Tututu-mojito | F9: =IF(F10=0,"",INDEX(range_3,MATCH(F10,range_1,0))) -> Tututu-mojito
C10: CTR | D10: {=LARGE(IF(GLOBAL!B11:B151>1000,GLOBAL!F11:F151),1)} -> 0.23594203 | F10: =IF(MAX(range_2)>1000,LARGE(range_1,1),0) -> 0.23594203
C11: Top 2 | D11: =IF(D12="","",INDEX(GLOBAL!A11:A151,MATCH(INDEX!D12,GLOBAL!F11:F151,0))) -> Tututu- | F11: =IF(F12=0,"",INDEX(range_3,MATCH(F12,range_1,0))) -> Tututu-Demerge
C12: CTR | D12: {=LARGE(IF(GLOBAL!B11:B151>1000,GLOBAL!F11:F151),2)} -> 0.1480111 | F12: =IF(MAX(range_2)>1000,LARGE(range_1,2),0) -> 0.19019837
C13: Top 3 | D13: =IF(D14="","",INDEX(GLOBAL!A11:A151,MATCH(INDEX!D14,GLOBAL!F11:F151,0))) -> Tututu-Aviso | F13: =IF(F14=0,"",INDEX(range_3,MATCH(F14,range_1,0))) -> Tututu-
C14: CTR | D14: {=LARGE(IF(GLOBAL!B11:B151>1000,GLOBAL!F11:F151),3)} -> 0.10063898 | F14: =IF(MAX(range_2)>1000,LARGE(range_1,3),0) -> 0.1480111
C15: Flop 1 | D15: =IF(D16="","",INDEX(GLOBAL!A11:A151,MATCH(INDEX!D16,GLOBAL!F11:F151,0))) -> Tututu-patatipatataConnect | F15: =IF(F16=0,"",INDEX(range_3,MATCH(F16,range_1,0))) -> Tututu-patatipatataConnect
C16: CTR | D16: =SMALL(GLOBAL!F11:F151,1+COUNTIF(GLOBAL!F11:F151,0)) -> 0.010287694 | F16: =IF(MAX(range_2)>1000,SMALL(range_1,1),0) -> 0.010287694
C17: Flop 2 | D17: =IF(D18="","",INDEX(GLOBAL!A11:A151,MATCH(INDEX!D18,GLOBAL!F11:F151,0))) -> Tututu-football | F17: =IF(F18=0,"",INDEX(range_3,MATCH(F18,range_1,0))) -> Tututu-football
C18: CTR | D18: =SMALL(GLOBAL!F11:F151,2+COUNTIF(GLOBAL!F11:F151,0)) -> 0.019067697 | F18: =IF(MAX(range_2)>1000,SMALL(range_1,2),0) -> 0.019067697
C19: Flop 3 | D19: =IF(D20="","",INDEX(GLOBAL!A11:A151,MATCH(INDEX!D20,GLOBAL!F11:F151,0))) -> Tututu-oooo- | F19: =IF(F20=0,"",INDEX(range_3,MATCH(F20,range_1,0))) -> Tututu-oooo-
C20: CTR | D20: {=SMALL(GLOBAL!F11:F151,3+COUNTIF(GLOBAL!F11:F151,0))} -> 0.021718602 | F20: =IF(MAX(range_2)>1000,SMALL(range_1,3),0) -> 0.021718602

Sheet GLOBAL
H2: Nombre de campagnes | I2: =COUNT(range_1) -> 10
I3: {=MATCH(GRANDE.VALEUR,IF(GLOBAL!B11:B151>1000,GLOBAL!F11:F151),1)} -> #NAME?
C4: Inséer un champ calculé CTR | I4: SI(INDEX(B11:B100;;EQUIV(grande.valeur";$1:$1;0)))
C5: Pas de données sous le TCD | I5: equiv;SI(GLOBAL!!B$9:B$16>1000;GRANDE.VALEUR(SI(GLOBAL!!D$9:D$16);2)
C6: Voir gestionnaire de noms | I6: GRANDE.VALEUR(SI(GLOBAL!B11:B151>1000;GLOBAL!D11:D151);2)
C8: Nombre vues | F8: =GETPIVOTDATA("Somme de Vues",$A$10) -> 106399 | I8: EQUIV(GRANDE.VALEUR(SI(GLOBAL!B11:B100;GLOBAL!D11:D100));1)
I9: Equiv(GRANDE.VALEUR(SI(GLOBAL!B11:B151>1000;GLOBAL!D11:D151);1)
A10: Row Labels | B10: Somme de Vues | C10: Somme de Clics | D10: CTR | F10: CTR | I10: {=MATCH("Total général",LARGE(IF(GLOBAL!B11:B151>1000,GLOBAL!F11:F151),1))} -> #N/A
A11: Tututu-Demerge | B11: 857 | C11: 163 | D11: 0.19019837 | F11: =C11/B11 -> 0.19019837 | I11: {=MATCH("Total général",GRANDE.VALEUR,IF(GLOBAL!$B$10:$B$1000,0))} -> #NAME?
A12: Tututu- | B12: 17296 | C12: 2560 | D12: 0.1480111 | F12: =C12/B12 -> 0.1480111 | I12: {=MATCH("Total général",GLOBAL!$B$10:$B$1000,0)-1} -> #N/A
A13: Tututu-ipatata | B13: 6914 | C13: 208 | D13: 0.030083888 | F13: =C13/B13 -> 0.030083888 | I13: =LARGE(range_1,2) -> 0.19019837
A14: Tututu-patatipatataConnect | B14: 27703 | C14: 285 | D14: 0.010287694 | F14: =C14/B14 -> 0.010287694
A15: Tututu-Persontuto | B15: 2035 | C15: 88 | D15: 0.043243243 | F15: =C15/B15 -> 0.043243243
A16: Tututu-mojito | B16: 1725 | C16: 407 | D16: 0.23594203 | F16: =C16/B16 -> 0.23594203
A17: Tututu-Teasing-jeu | B17: 24095 | C17: 1904 | D17: 0.079020544 | F17: =C17/B17 -> 0.079020544
A18: Tututu-football | B18: 21345 | C18: 407 | D18: 0.019067697 | F18: =C18/B18 -> 0.019067697
A19: Tututu-oooo- | B19: 3177 | C19: 69 | D19: 0.021718602 | F19: =C19/B19 -> 0.021718602
A20: Tututu-Aviso | B20: 1252 | C20: 126 | D20: 0.10063898 | F20: =C20/B20 -> 0.10063898
A21: Grand Total | B21: 106399 | C21: 6217 | D21: 0.058431 | F21: =C21/B21 -> 0.058431
