Workbook

Sheet Feuil2
B3: PAYS | C3: REGION | D3: ANNEE | E3: VENTE | G3: Somme de VENTE | I3: ANNEE
B4: SENEGAL | C4: R1 | D4: 2013 | E4: 5 | G4: PAYS | H4: REGION | I4: 2013 | J4: 2014 | K4: Total général
B5: SENEGAL | C5: R1 | D5: 2014 | E5: 4 | G5: SENEGAL | H5: R1 | I5: 5 | J5: 4 | K5: 9
B6: SENEGAL | C6: R2 | D6: 2014 | E6: 12 | H6: R2 | I6: 15 | J6: 12 | K6: 27
B7: SENEGAL | C7: R2 | D7: 2013 | E7: 15 | G7: Total SENEGAL | I7: 20 | J7: 16 | K7: 36
B8: FRANCE | C8: R3 | D8: 2013 | E8: 5
B9: FRANCE | C9: R3 | D9: 2014 | E9: 6 | G9: FRANCE | H9: R3 | I9: 5 | J9: 6 | K9: 11
B10: FRANCE | C10: R4 | D10: 2013 | E10: 20 | H10: R4 | I10: 20 | J10: 24 | K10: 44
B11: FRANCE | C11: R4 | D11: 2014 | E11: 24 | G11: Total FRANCE | I11: 25 | J11: 30 | K11: 55
G13: Total général | I13: 45 | J13: 46 | K13: 91

Sheet Feuil2 (2)
B3: PAYS | C3: REGION | D3: ANNEE | E3: VENTE | G3: VENTE | I3: ANNEE
B4: SENEGAL | C4: R1 | D4: 2013 | E4: 5 | G4: PAYS | H4: REGION | I4: 2013 | J4: 2014 | K4: Total général
B5: SENEGAL | C5: R1 | D5: 2014 | E5: 4 | G5: SENEGAL | H5: R1 | I5: 0.25 | J5: 0.25 | K5: 0.25
B6: SENEGAL | C6: R2 | D6: 2014 | E6: 12 | H6: R2 | I6: 0.75 | J6: 0.75 | K6: 0.75
B7: SENEGAL | C7: R2 | D7: 2013 | E7: 15 | G7: Total SENEGAL | I7: 0.44444444 | J7: 0.34782609 | K7: 0.3956044
B8: FRANCE | C8: R3 | D8: 2013 | E8: 5
B9: FRANCE | C9: R3 | D9: 2014 | E9: 6 | G9: FRANCE | H9: R3 | I9: 0.2 | J9: 0.2 | K9: 0.2
B10: FRANCE | C10: R4 | D10: 2013 | E10: 20 | H10: R4 | I10: 0.8 | J10: 0.8 | K10: 0.8
B11: FRANCE | C11: R4 | D11: 2014 | E11: 24 | G11: Total FRANCE | I11: 0.55555556 | J11: 0.65217391 | K11: 0.6043956
G13: Total général | I13: 1 | J13: 1 | K13: 1
I17: =Feuil2!I5/Feuil2!I$7 -> 0.25 | J17: =Feuil2!J5/Feuil2!J$7 -> 0.25 | K17: =Feuil2!K5/Feuil2!K$7 -> 0.25
I18: =Feuil2!I6/Feuil2!I$7 -> 0.75 | J18: =Feuil2!J6/Feuil2!J$7 -> 0.75 | K18: =Feuil2!K6/Feuil2!K$7 -> 0.75
I19: =Feuil2!I7/Feuil2!I$13 -> 0.44444444 | J19: =Feuil2!J7/Feuil2!J$13 -> 0.34782609 | K19: =Feuil2!K7/Feuil2!K$13 -> 0.3956044
I21: =Feuil2!I9/Feuil2!I$11 -> 0.2 | J21: =Feuil2!J9/Feuil2!J$11 -> 0.2 | K21: =Feuil2!K9/Feuil2!K$11 -> 0.2
I22: =Feuil2!I10/Feuil2!I$11 -> 0.8 | J22: =Feuil2!J10/Feuil2!J$11 -> 0.8 | K22: =Feuil2!K10/Feuil2!K$11 -> 0.8
I23: =Feuil2!I11/Feuil2!I$13 -> 0.55555556 | J23: =Feuil2!J11/Feuil2!J$13 -> 0.65217391 | K23: =Feuil2!K11/Feuil2!K$13 -> 0.6043956
I25: =I19+I23 -> 1 | J25: =J19+J23 -> 1 | K25: =K19+K23 -> 1
