Workbook

Sheet Données
AQ1: PSA - Date fin | AR1: PSB - Date fin | AS1: RU - Date fin | AT1: RdP - Date - Lancement projet | AU1: RdP - Statut - Lancement projet | AV1: RdP - Date - Lancement EO | AW1: RdP - Statut - Lancement EO | AX1: RdP - Date - Lancement RO | AY1: RdP - Statut - Lancement RO | AZ1: RdP - Date - Lancement PSA | BA1: RdP - Statut - Lancement PSA | BB1: RdP - Date - Bilan PSA | BC1: RdP - Statut - Bilan PSA | BD1: RdP - Date - Bilan PSB | BE1: RdP - Statut - Bilan PSB | BF1: RdP - Date - Bilan RU | BG1: RdP - Statut - Bilan RU | BH1: LP - Nb K1 | BI1: LP - Nb K10 | BJ1: LP - Nb K50 | BK1: LP - Nb K200 | BL1: DPP - Nb K1 | BM1: DPP - Nb K10 | BN1: DPP - Nb K50 | BO1: DPP - Nb K200 | BP1: PI - Nb K1 | BQ1: PI - Nb K10 | BR1: PI - Nb K50 | BS1: PI - Nb K200 | BT1: RO - Nb K1 | BU1: RO - Nb K10 | BV1: RO - Nb K50 | BW1: RO - Nb K200 | BX1: PSA - Nb K1 | BY1: PSA - Nb K10 | BZ1: PSA - Nb K50 | CA1: PSA - Nb K200 | CB1: Risk max avant PSA | CC1: Risk PSA | CD1: Risk levé avant PSA
BH2: 0 | BI2: 1 | BJ2: 0 | BK2: 0 | BP2: 1 | BQ2: 1 | BR2: 0 | BS2: 0 | BX2: 0 | BY2: 0 | BZ2: 0 | CA2: 0 | CB2: =MAX(SUM(BH2:BK2),SUM(BL2:BO2),SUM(BP2:BS2),SUM(BT2:BW2)) -> 2 | CC2: =SUM(BX2:CA2) -> 0 | CD2: =IF(AND(CC2=0,CB2>0),1,IF(AND(CC2=0,CB2=0),"Pas de risque",CC2/CB2)) -> 1
BH3: 0 | BI3: 0 | BJ3: 0 | BK3: 0 | BL3: 0 | BM3: 0 | BN3: 0 | BO3: 0 | BT3: 0 | BU3: 0 | BV3: 0 | BW3: 0 | CB3: =MAX(SUM(BH3:BK3),SUM(BL3:BO3),SUM(BP3:BS3),SUM(BT3:BW3)) -> 0 | CC3: =SUM(BX3:CA3) -> 0 | CD3: =IF(AND(CC3=0,CB3>0),1,IF(AND(CC3=0,CB3=0),"Pas de risque",CC3/CB3)) -> Pas de risque
AQ4: 41817.359 | BH4: 0 | BI4: 0 | BJ4: 0 | BK4: 0 | BL4: 0 | BM4: 0 | BN4: 0 | BO4: 0 | BT4: 0 | BU4: 0 | BV4: 0 | BW4: 0 | BX4: 0 | BY4: 0 | BZ4: 0 | CA4: 0 | CB4: =MAX(SUM(BH4:BK4),SUM(BL4:BO4),SUM(BP4:BS4),SUM(BT4:BW4)) -> 0 | CC4: =SUM(BX4:CA4) -> 0 | CD4: =IFERROR(IF(AND(CC4=0,CB4>0),1,IF(AND(CC4=0,CB4=0),"Pas de risque",CC4/CB4)),"100%") -> Pas de risque
BH5: 0 | BI5: 0 | BJ5: 0 | BK5: 0 | BL5: 0 | BM5: 0 | BN5: 0 | BO5: 0 | BT5: 0 | BU5: 0 | BV5: 0 | BW5: 0 | CB5: =MAX(SUM(BH5:BK5),SUM(BL5:BO5),SUM(BP5:BS5),SUM(BT5:BW5)) -> 0 | CC5: =SUM(BX5:CA5) -> 0 | CD5: =IF(AND(CC5=0,CB5>0),1,IF(AND(CC5=0,CB5=0),"Pas de risque",CC5/CB5)) -> Pas de risque
AQ6: 41817.36 | BH6: 0 | BI6: 0 | BJ6: 0 | BK6: 0 | BL6: 0 | BM6: 0 | BN6: 0 | BO6: 0 | BT6: 0 | BU6: 0 | BV6: 0 | BW6: 0 | BX6: 0 | BY6: 0 | BZ6: 0 | CA6: 0 | CB6: =MAX(SUM(BH6:BK6),SUM(BL6:BO6),SUM(BP6:BS6),SUM(BT6:BW6)) -> 0 | CC6: =SUM(BX6:CA6) -> 0 | CD6: =IFERROR(IF(AND(CC6=0,CB6>0),1,IF(AND(CC6=0,CB6=0),"Pas de risque",CC6/CB6)),"100%") -> Pas de risque
AQ7: 41754.343 | BH7: 0 | BI7: 0 | BJ7: 0 | BK7: 0 | BL7: 0 | BM7: 0 | BN7: 0 | BO7: 0 | BT7: 0 | BU7: 0 | BV7: 0 | BW7: 0 | BX7: 0 | BY7: 0 | BZ7: 0 | CA7: 0 | CB7: =MAX(SUM(BH7:BK7),SUM(BL7:BO7),SUM(BP7:BS7),SUM(BT7:BW7)) -> 0 | CC7: =SUM(BX7:CA7) -> 0 | CD7: =IFERROR(IF(AND(CC7=0,CB7>0),1,IF(AND(CC7=0,CB7=0),"Pas de risque",CC7/CB7)),"100%") -> Pas de risque
AQ8: 41754.352 | BH8: 0 | BI8: 0 | BJ8: 0 | BK8: 0 | BP8: 0 | BQ8: 0 | BR8: 0 | BS8: 0 | BX8: 0 | BY8: 0 | BZ8: 0 | CA8: 0 | CB8: =MAX(SUM(BH8:BK8),SUM(BL8:BO8),SUM(BP8:BS8),SUM(BT8:BW8)) -> 0 | CC8: =SUM(BX8:CA8) -> 0 | CD8: =IFERROR(IF(AND(CC8=0,CB8>0),1,IF(AND(CC8=0,CB8=0),"Pas de risque",CC8/CB8)),"100%") -> Pas de risque
BH9: 0 | BI9: 0 | BJ9: 0 | BK9: 0 | BL9: 0 | BM9: 0 | BN9: 0 | BO9: 0 | BT9: 0 | BU9: 0 | BV9: 0 | BW9: 0 | CB9: =MAX(SUM(BH9:BK9),SUM(BL9:BO9),SUM(BP9:BS9),SUM(BT9:BW9)) -> 0 | CC9: =SUM(BX9:CA9) -> 0 | CD9: =IF(AND(CC9=0,CB9>0),1,IF(AND(CC9=0,CB9=0),"Pas de risque",CC9/CB9)) -> Pas de risque
AQ10: 41887.44 | BH10: 0 | BI10: 0 | BJ10: 0 | BK10: 0 | BP10: 2 | BQ10: 0 | BR10: 0 | BS10: 0 | BT10: 0 | BU10: 4 | BV10: 0 | BW10: 0 | BX10: 6 | BY10: 0 | BZ10: 0 | CA10: 0 | CB10: =MAX(SUM(BH10:BK10),SUM(BL10:BO10),SUM(BP10:BS10),SUM(BT10:BW10)) -> 4 | CC10: =SUM(BX10:CA10) -> 6 | CD10: =IFERROR(IF(AND(CC10=0,CB10>0),1,IF(AND(CC10=0,CB10=0),"Pas de risque",CC10/CB10)),"100%") -> 1.5
BH11: 0 | BI11: 0 | BJ11: 0 | BK11: 0 | BL11: 0 | BM11: 0 | BN11: 0 | BO11: 0 | BT11: 0 | BU11: 0 | BV11: 0 | BW11: 0 | CB11: =MAX(SUM(BH11:BK11),SUM(BL11:BO11),SUM(BP11:BS11),SUM(BT11:BW11)) -> 0 | CC11: =SUM(BX11:CA11) -> 0 | CD11: =IF(AND(CC11=0,CB11>0),1,IF(AND(CC11=0,CB11=0),"Pas de risque",CC11/CB11)) -> Pas de risque
BH12: 0 | BI12: 2 | BJ12: 1 | BK12: 0 | BP12: 2 | BQ12: 1 | BR12: 0 | BS12: 0 | BX12: 0 | BY12: 0 | BZ12: 0 | CA12: 0 | CB12: =MAX(SUM(BH12:BK12),SUM(BL12:BO12),SUM(BP12:BS12),SUM(BT12:BW12)) -> 3 | CC12: =SUM(BX12:CA12) -> 0 | CD12: =IF(AND(CC12=0,CB12>0),1,IF(AND(CC12=0,CB12=0),"Pas de risque",CC12/CB12)) -> 1
BH13: 2 | BI13: 1 | BJ13: 0 | BK13: 0 | BP13: 5 | BQ13: 2 | BR13: 0 | BS13: 0 | BX13: 0 | BY13: 0 | BZ13: 0 | CA13: 0 | CB13: =MAX(SUM(BH13:BK13),SUM(BL13:BO13),SUM(BP13:BS13),SUM(BT13:BW13)) -> 7 | CC13: =SUM(BX13:CA13) -> 0 | CD13: =IF(AND(CC13=0,CB13>0),1,IF(AND(CC13=0,CB13=0),"Pas de risque",CC13/CB13)) -> 1
BH14: 2 | BI14: 21 | BJ14: 6 | BK14: 0 | BP14: 1 | BQ14: 7 | BR14: 6 | BS14: 0 | BX14: 0 | BY14: 0 | BZ14: 0 | CA14: 0 | CB14: =MAX(SUM(BH14:BK14),SUM(BL14:BO14),SUM(BP14:BS14),SUM(BT14:BW14)) -> 29 | CC14: =SUM(BX14:CA14) -> 0 | CD14: =IF(AND(CC14=0,CB14>0),1,IF(AND(CC14=0,CB14=0),"Pas de risque",CC14/CB14)) -> 1
BH15: 7 | BI15: 3 | BJ15: 5 | BK15: 0 | BP15: 2 | BQ15: 9 | BR15: 4 | BS15: 0 | BX15: 0 | BY15: 0 | BZ15: 0 | CA15: 0 | CB15: =MAX(SUM(BH15:BK15),SUM(BL15:BO15),SUM(BP15:BS15),SUM(BT15:BW15)) -> 15 | CC15: =SUM(BX15:CA15) -> 0 | CD15: =IF(AND(CC15=0,CB15>0),1,IF(AND(CC15=0,CB15=0),"Pas de risque",CC15/CB15)) -> 1
BH16: 0 | BI16: 0 | BJ16: 0 | BK16: 0 | BP16: 1 | BQ16: 0 | BR16: 0 | BS16: 0 | BX16: 0 | BY16: 0 | BZ16: 0 | CA16: 0 | CB16: =MAX(SUM(BH16:BK16),SUM(BL16:BO16),SUM(BP16:BS16),SUM(BT16:BW16)) -> 1 | CC16: =SUM(BX16:CA16) -> 0 | CD16: =IF(AND(CC16=0,CB16>0),1,IF(AND(CC16=0,CB16=0),"Pas de risque",CC16/CB16)) -> 1
BH17: 1 | BI17: 1 | BJ17: 4 | BK17: 0 | BP17: 1 | BQ17: 2 | BR17: 3 | BS17: 0 | BX17: 0 | BY17: 0 | BZ17: 0 | CA17: 0 | CB17: =MAX(SUM(BH17:BK17),SUM(BL17:BO17),SUM(BP17:BS17),SUM(BT17:BW17)) -> 6 | CC17: =SUM(BX17:CA17) -> 0 | CD17: =IF(AND(CC17=0,CB17>0),1,IF(AND(CC17=0,CB17=0),"Pas de risque",CC17/CB17)) -> 1
AQ18: 41754.432 | BH18: 0 | BI18: 8 | BJ18: 7 | BK18: 2 | BP18: 3 | BQ18: 5 | BR18: 1 | BS18: 0 | BX18: 3 | BY18: 8 | BZ18: 0 | CA18: 0 | CB18: =MAX(SUM(BH18:BK18),SUM(BL18:BO18),SUM(BP18:BS18),SUM(BT18:BW18)) -> 17 | CC18: =SUM(BX18:CA18) -> 11 | CD18: =IFERROR(IF(AND(CC18=0,CB18>0),1,IF(AND(CC18=0,CB18=0),"Pas de risque",CC18/CB18)),"100%") -> 0.64705882
BH19: 2 | BI19: 2 | BJ19: 3 | BK19: 0 | BP19: 1 | BQ19: 1 | BR19: 0 | BS19: 0 | BX19: 0 | BY19: 0 | BZ19: 0 | CA19: 0 | CB19: =MAX(SUM(BH19:BK19),SUM(BL19:BO19),SUM(BP19:BS19),SUM(BT19:BW19)) -> 7 | CC19: =SUM(BX19:CA19) -> 0 | CD19: =IF(AND(CC19=0,CB19>0),1,IF(AND(CC19=0,CB19=0),"Pas de risque",CC19/CB19)) -> 1
BH20: 4 | BI20: 2 | BJ20: 1 | BK20: 0 | BP20: 9 | BQ20: 3 | BR20: 1 | BS20: 0 | BX20: 0 | BY20: 0 | BZ20: 0 | CA20: 0 | CB20: =MAX(SUM(BH20:BK20),SUM(BL20:BO20),SUM(BP20:BS20),SUM(BT20:BW20)) -> 13 | CC20: =SUM(BX20:CA20) -> 0 | CD20: =IF(AND(CC20=0,CB20>0),1,IF(AND(CC20=0,CB20=0),"Pas de risque",CC20/CB20)) -> 1
BH21: 5 | BI21: 0 | BJ21: 4 | BK21: 0 | BP21: 3 | BQ21: 4 | BR21: 1 | BS21: 0 | BX21: 0 | BY21: 0 | BZ21: 0 | CA21: 0 | CB21: =MAX(SUM(BH21:BK21),SUM(BL21:BO21),SUM(BP21:BS21),SUM(BT21:BW21)) -> 9 | CC21: =SUM(BX21:CA21) -> 0 | CD21: =IF(AND(CC21=0,CB21>0),1,IF(AND(CC21=0,CB21=0),"Pas de risque",CC21/CB21)) -> 1
BH22: 5 | BI22: 0 | BJ22: 0 | BK22: 0 | BP22: 0 | BQ22: 0 | BR22: 0 | BS22: 0 | BX22: 0 | BY22: 0 | BZ22: 0 | CA22: 0 | CB22: =MAX(SUM(BH22:BK22),SUM(BL22:BO22),SUM(BP22:BS22),SUM(BT22:BW22)) -> 5 | CC22: =SUM(BX22:CA22) -> 0 | CD22: =IF(AND(CC22=0,CB22>0),1,IF(AND(CC22=0,CB22=0),"Pas de risque",CC22/CB22)) -> 1
BH23: 6 | BI23: 8 | BJ23: 8 | BK23: 0 | BP23: 5 | BQ23: 8 | BR23: 1 | BS23: 0 | BX23: 0 | BY23: 0 | BZ23: 0 | CA23: 0 | CB23: =MAX(SUM(BH23:BK23),SUM(BL23:BO23),SUM(BP23:BS23),SUM(BT23:BW23)) -> 22 | CC23: =SUM(BX23:CA23) -> 0 | CD23: =IF(AND(CC23=0,CB23>0),1,IF(AND(CC23=0,CB23=0),"Pas de risque",CC23/CB23)) -> 1
BH24: 2 | BI24: 5 | BJ24: 5 | BK24: 0 | BP24: 0 | BQ24: 1 | BR24: 4 | BS24: 0 | BX24: 0 | BY24: 0 | BZ24: 0 | CA24: 0 | CB24: =MAX(SUM(BH24:BK24),SUM(BL24:BO24),SUM(BP24:BS24),SUM(BT24:BW24)) -> 12 | CC24: =SUM(BX24:CA24) -> 0 | CD24: =IF(AND(CC24=0,CB24>0),1,IF(AND(CC24=0,CB24=0),"Pas de risque",CC24/CB24)) -> 1
BH25: 1 | BI25: 4 | BJ25: 3 | BK25: 0 | BP25: 1 | BQ25: 2 | BR25: 1 | BS25: 0 | BX25: 0 | BY25: 0 | BZ25: 0 | CA25: 0 | CB25: =MAX(SUM(BH25:BK25),SUM(BL25:BO25),SUM(BP25:BS25),SUM(BT25:BW25)) -> 8 | CC25: =SUM(BX25:CA25) -> 0 | CD25: =IF(AND(CC25=0,CB25>0),1,IF(AND(CC25=0,CB25=0),"Pas de risque",CC25/CB25)) -> 1
AQ26: 42062.385 | BH26: 4 | BI26: 5 | BJ26: 0 | BK26: 0 | BP26: 0 | BQ26: 1 | BR26: 0 | BS26: 0 | BX26: 0 | BY26: 0 | BZ26: 0 | CA26: 0 | CB26: =MAX(SUM(BH26:BK26),SUM(BL26:BO26),SUM(BP26:BS26),SUM(BT26:BW26)) -> 9 | CC26: =SUM(BX26:CA26) -> 0 | CD26: =IFERROR(IF(AND(CC26=0,CB26>0),1,IF(AND(CC26=0,CB26=0),"Pas de risque",CC26/CB26)),"100%") -> 1
BH27: 0 | BI27: 20 | BJ27: 21 | BK27: 0 | BP27: 11 | BQ27: 25 | BR27: 7 | BS27: 0 | BX27: 0 | BY27: 0 | BZ27: 0 | CA27: 0 | CB27: =MAX(SUM(BH27:BK27),SUM(BL27:BO27),SUM(BP27:BS27),SUM(BT27:BW27)) -> 43 | CC27: =SUM(BX27:CA27) -> 0 | CD27: =IF(AND(CC27=0,CB27>0),1,IF(AND(CC27=0,CB27=0),"Pas de risque",CC27/CB27)) -> 1
BH28: 0 | BI28: 0 | BJ28: 0 | BK28: 0 | BL28: 0 | BM28: 0 | BN28: 0 | BO28: 0 | CB28: =MAX(SUM(BH28:BK28),SUM(BL28:BO28),SUM(BP28:BS28),SUM(BT28:BW28)) -> 0 | CC28: =SUM(BX28:CA28) -> 0 | CD28: =IF(AND(CC28=0,CB28>0),1,IF(AND(CC28=0,CB28=0),"Pas de risque",CC28/CB28)) -> Pas de risque
AQ29: 41845.345 | BH29: 0 | BI29: 0 | BJ29: 0 | BK29: 0 | BP29: 13 | BQ29: 7 | BR29: 3 | BS29: 0 | BX29: 0 | BY29: 0 | BZ29: 1 | CA29: 0 | CB29: =MAX(SUM(BH29:BK29),SUM(BL29:BO29),SUM(BP29:BS29),SUM(BT29:BW29)) -> 23 | CC29: =SUM(BX29:CA29) -> 1 | CD29: =IFERROR(IF(AND(CC29=0,CB29>0),1,IF(AND(CC29=0,CB29=0),"Pas de risque",CC29/CB29)),"100%") -> 0.043478261
AQ30: 41845.345 | BH30: 0 | BI30: 0 | BJ30: 1 | BK30: 0 | BP30: 0 | BQ30: 0 | BR30: 0 | BS30: 0 | BX30: 0 | BY30: 0 | BZ30: 0 | CA30: 0 | CB30: =MAX(SUM(BH30:BK30),SUM(BL30:BO30),SUM(BP30:BS30),SUM(BT30:BW30)) -> 1 | CC30: =SUM(BX30:CA30) -> 0 | CD30: =IFERROR(IF(AND(CC30=0,CB30>0),1,IF(AND(CC30=0,CB30=0),"Pas de risque",CC30/CB30)),"100%") -> 1
AQ31: 41845.345 | BH31: 0 | BI31: 0 | BJ31: 0 | BK31: 0 | BP31: 0 | BQ31: 0 | BR31: 0 | BS31: 0 | BX31: 0 | BY31: 0 | BZ31: 0 | CA31: 0 | CB31: =MAX(SUM(BH31:BK31),SUM(BL31:BO31),SUM(BP31:BS31),SUM(BT31:BW31)) -> 0 | CC31: =SUM(BX31:CA31) -> 0 | CD31: =IFERROR(IF(AND(CC31=0,CB31>0),1,IF(AND(CC31=0,CB31=0),"Pas de risque",CC31/CB31)),"100%") -> Pas de risque
AQ32: 41845.345 | BH32: 0 | BI32: 0 | BJ32: 2 | BK32: 0 | BP32: 0 | BQ32: 0 | BR32: 0 | BS32: 0 | BX32: 0 | BY32: 0 | BZ32: 0 | CA32: 0 | CB32: =MAX(SUM(BH32:BK32),SUM(BL32:BO32),SUM(BP32:BS32),SUM(BT32:BW32)) -> 2 | CC32: =SUM(BX32:CA32) -> 0 | CD32: =IFERROR(IF(AND(CC32=0,CB32>0),1,IF(AND(CC32=0,CB32=0),"Pas de risque",CC32/CB32)),"100%") -> 1
BH33: 0 | BI33: 0 | BJ33: 0 | BK33: 0 | BL33: 0 | BM33: 0 | BN33: 0 | BO33: 0 | CB33: =MAX(SUM(BH33:BK33),SUM(BL33:BO33),SUM(BP33:BS33),SUM(BT33:BW33)) -> 0 | CC33: =SUM(BX33:CA33) -> 0 | CD33: =IF(AND(CC33=0,CB33>0),1,IF(AND(CC33=0,CB33=0),"Pas de risque",CC33/CB33)) -> Pas de risque
BH34: 0 | BI34: 0 | BJ34: 0 | BK34: 0 | BL34: 0 | BM34: 0 | BN34: 0 | BO34: 0 | CB34: =MAX(SUM(BH34:BK34),SUM(BL34:BO34),SUM(BP34:BS34),SUM(BT34:BW34)) -> 0 | CC34: =SUM(BX34:CA34) -> 0 | CD34: =IF(AND(CC34=0,CB34>0),1,IF(AND(CC34=0,CB34=0),"Pas de risque",CC34/CB34)) -> Pas de risque
BH35: 0 | BI35: 0 | BJ35: 0 | BK35: 0 | BL35: 0 | BM35: 0 | BN35: 0 | BO35: 0 | CB35: =MAX(SUM(BH35:BK35),SUM(BL35:BO35),SUM(BP35:BS35),SUM(BT35:BW35)) -> 0 | CC35: =SUM(BX35:CA35) -> 0 | CD35: =IF(AND(CC35=0,CB35>0),1,IF(AND(CC35=0,CB35=0),"Pas de risque",CC35/CB35)) -> Pas de risque
BH36: 0 | BI36: 0 | BJ36: 0 | BK36: 0 | BL36: 0 | BM36: 0 | BN36: 0 | BO36: 0 | CB36: =MAX(SUM(BH36:BK36),SUM(BL36:BO36),SUM(BP36:BS36),SUM(BT36:BW36)) -> 0 | CC36: =SUM(BX36:CA36) -> 0 | CD36: =IF(AND(CC36=0,CB36>0),1,IF(AND(CC36=0,CB36=0),"Pas de risque",CC36/CB36)) -> Pas de risque
BH37: 0 | BI37: 0 | BJ37: 0 | BK37: 0 | BL37: 0 | BM37: 0 | BN37: 0 | BO37: 0 | CB37: =MAX(SUM(BH37:BK37),SUM(BL37:BO37),SUM(BP37:BS37),SUM(BT37:BW37)) -> 0 | CC37: =SUM(BX37:CA37) -> 0 | CD37: =IF(AND(CC37=0,CB37>0),1,IF(AND(CC37=0,CB37=0),"Pas de risque",CC37/CB37)) -> Pas de risque
BH38: 0 | BI38: 0 | BJ38: 0 | BK38: 0 | BL38: 0 | BM38: 0 | BN38: 0 | BO38: 0 | CB38: =MAX(SUM(BH38:BK38),SUM(BL38:BO38),SUM(BP38:BS38),SUM(BT38:BW38)) -> 0 | CC38: =SUM(BX38:CA38) -> 0 | CD38: =IF(AND(CC38=0,CB38>0),1,IF(AND(CC38=0,CB38=0),"Pas de risque",CC38/CB38)) -> Pas de risque
AQ39: 41810.373 | BH39: 1 | BI39: 1 | BJ39: 0 | BK39: 0 | BP39: 2 | BQ39: 0 | BR39: 1 | BS39: 0 | BX39: 0 | BY39: 0 | BZ39: 0 | CA39: 0 | CB39: =MAX(SUM(BH39:BK39),SUM(BL39:BO39),SUM(BP39:BS39),SUM(BT39:BW39)) -> 3 | CC39: =SUM(BX39:CA39) -> 0 | CD39: =IFERROR(IF(AND(CC39=0,CB39>0),1,IF(AND(CC39=0,CB39=0),"Pas de risque",CC39/CB39)),"100%") -> 1
AQ40: 41754.433 | BH40: 2 | BI40: 6 | BJ40: 1 | BK40: 0 | BP40: 0 | BQ40: 0 | BR40: 1 | BS40: 0 | BX40: 0 | BY40: 0 | BZ40: 0 | CA40: 0 | CB40: =MAX(SUM(BH40:BK40),SUM(BL40:BO40),SUM(BP40:BS40),SUM(BT40:BW40)) -> 9 | CC40: =SUM(BX40:CA40) -> 0 | CD40: =IFERROR(IF(AND(CC40=0,CB40>0),1,IF(AND(CC40=0,CB40=0),"Pas de risque",CC40/CB40)),"100%") -> 1
BH41: 3 | BI41: 3 | BJ41: 8 | BK41: 1 | BP41: 1 | BQ41: 12 | BR41: 2 | BS41: 0 | BX41: 0 | BY41: 0 | BZ41: 0 | CA41: 0 | CB41: =MAX(SUM(BH41:BK41),SUM(BL41:BO41),SUM(BP41:BS41),SUM(BT41:BW41)) -> 15 | CC41: =SUM(BX41:CA41) -> 0 | CD41: =IF(AND(CC41=0,CB41>0),1,IF(AND(CC41=0,CB41=0),"Pas de risque",CC41/CB41)) -> 1
BH42: 0 | BI42: 0 | BJ42: 0 | BK42: 0 | BP42: 3 | BQ42: 1 | BR42: 4 | BS42: 0 | BX42: 0 | BY42: 0 | BZ42: 0 | CA42: 0 | CB42: =MAX(SUM(BH42:BK42),SUM(BL42:BO42),SUM(BP42:BS42),SUM(BT42:BW42)) -> 8 | CC42: =SUM(BX42:CA42) -> 0 | CD42: =IF(AND(CC42=0,CB42>0),1,IF(AND(CC42=0,CB42=0),"Pas de risque",CC42/CB42)) -> 1
BH43: 0 | BI43: 3 | BJ43: 1 | BK43: 0 | BP43: 6 | BQ43: 4 | BR43: 3 | BS43: 0 | BX43: 0 | BY43: 0 | BZ43: 0 | CA43: 0 | CB43: =MAX(SUM(BH43:BK43),SUM(BL43:BO43),SUM(BP43:BS43),SUM(BT43:BW43)) -> 13 | CC43: =SUM(BX43:CA43) -> 0 | CD43: =IF(AND(CC43=0,CB43>0),1,IF(AND(CC43=0,CB43=0),"Pas de risque",CC43/CB43)) -> 1
BH44: 4 | BI44: 19 | BJ44: 8 | BK44: 0 | BP44: 2 | BQ44: 36 | BR44: 8 | BS44: 0 | BX44: 0 | BY44: 0 | BZ44: 0 | CA44: 0 | CB44: =MAX(SUM(BH44:BK44),SUM(BL44:BO44),SUM(BP44:BS44),SUM(BT44:BW44)) -> 46 | CC44: =SUM(BX44:CA44) -> 0 | CD44: =IF(AND(CC44=0,CB44>0),1,IF(AND(CC44=0,CB44=0),"Pas de risque",CC44/CB44)) -> 1
BH45: 0 | BI45: 1 | BJ45: 0 | BK45: 0 | CB45: =MAX(SUM(BH45:BK45),SUM(BL45:BO45),SUM(BP45:BS45),SUM(BT45:BW45)) -> 1 | CC45: =SUM(BX45:CA45) -> 0 | CD45: =IF(AND(CC45=0,CB45>0),1,IF(AND(CC45=0,CB45=0),"Pas de risque",CC45/CB45)) -> 1
AQ46: 42013.411 | BH46: 2 | BI46: 19 | BJ46: 4 | BK46: 0 | BP46: 2 | BQ46: 48 | BR46: 5 | BS46: 0 | BT46: 1 | BU46: 2 | BV46: 1 | BW46: 0 | BX46: 6 | BY46: 6 | BZ46: 1 | CA46: 0 | CB46: =MAX(SUM(BH46:BK46),SUM(BL46:BO46),SUM(BP46:BS46),SUM(BT46:BW46)) -> 55 | CC46: =SUM(BX46:CA46) -> 13 | CD46: =IFERROR(IF(AND(CC46=0,CB46>0),1,IF(AND(CC46=0,CB46=0),"Pas de risque",CC46/CB46)),"100%") -> 0.23636364
AQ47: 41691.409 | BH47: 0 | BI47: 2 | BJ47: 2 | BK47: 0 | BP47: 2 | BQ47: 0 | BR47: 6 | BS47: 0 | BX47: 0 | BY47: 2 | BZ47: 0 | CA47: 0 | CB47: =MAX(SUM(BH47:BK47),SUM(BL47:BO47),SUM(BP47:BS47),SUM(BT47:BW47)) -> 8 | CC47: =SUM(BX47:CA47) -> 2 | CD47: =IFERROR(IF(AND(CC47=0,CB47>0),1,IF(AND(CC47=0,CB47=0),"Pas de risque",CC47/CB47)),"100%") -> 0.25
AQ48: 42041.41 | BH48: 7 | BI48: 10 | BJ48: 4 | BK48: 0 | BP48: 4 | BQ48: 27 | BR48: 1 | BS48: 0 | BX48: 2 | BY48: 1 | BZ48: 0 | CA48: 0 | CB48: =MAX(SUM(BH48:BK48),SUM(BL48:BO48),SUM(BP48:BS48),SUM(BT48:BW48)) -> 32 | CC48: =SUM(BX48:CA48) -> 3 | CD48: =IFERROR(IF(AND(CC48=0,CB48>0),1,IF(AND(CC48=0,CB48=0),"Pas de risque",CC48/CB48)),"100%") -> 0.09375
AQ49: 41740.392 | BH49: 0 | BI49: 0 | BJ49: 0 | BK49: 0 | BP49: 5 | BQ49: 11 | BR49: 7 | BS49: 0 | BX49: 4 | BY49: 1 | BZ49: 1 | CA49: 0 | CB49: =MAX(SUM(BH49:BK49),SUM(BL49:BO49),SUM(BP49:BS49),SUM(BT49:BW49)) -> 23 | CC49: =SUM(BX49:CA49) -> 6 | CD49: =IFERROR(IF(AND(CC49=0,CB49>0),1,IF(AND(CC49=0,CB49=0),"Pas de risque",CC49/CB49)),"100%") -> 0.26086957
AQ50: 41740.393 | BH50: 0 | BI50: 0 | BJ50: 0 | BK50: 0 | BP50: 0 | BQ50: 0 | BR50: 0 | BS50: 0 | BX50: 0 | BY50: 0 | BZ50: 0 | CA50: 0 | CB50: =MAX(SUM(BH50:BK50),SUM(BL50:BO50),SUM(BP50:BS50),SUM(BT50:BW50)) -> 0 | CC50: =SUM(BX50:CA50) -> 0 | CD50: =IFERROR(IF(AND(CC50=0,CB50>0),1,IF(AND(CC50=0,CB50=0),"Pas de risque",CC50/CB50)),"100%") -> Pas de risque
BH51: 2 | BI51: 4 | BJ51: 3 | BK51: 0 | BL51: 0 | BM51: 0 | BN51: 0 | BO51: 0 | CB51: =MAX(SUM(BH51:BK51),SUM(BL51:BO51),SUM(BP51:BS51),SUM(BT51:BW51)) -> 9 | CC51: =SUM(BX51:CA51) -> 0 | CD51: =IF(AND(CC51=0,CB51>0),1,IF(AND(CC51=0,CB51=0),"Pas de risque",CC51/CB51)) -> 1
BH52: 0 | BI52: 0 | BJ52: 0 | BK52: 0 | BL52: 0 | BM52: 0 | BN52: 0 | BO52: 0 | CB52: =MAX(SUM(BH52:BK52),SUM(BL52:BO52),SUM(BP52:BS52),SUM(BT52:BW52)) -> 0 | CC52: =SUM(BX52:CA52) -> 0 | CD52: =IF(AND(CC52=0,CB52>0),1,IF(AND(CC52=0,CB52=0),"Pas de risque",CC52/CB52)) -> Pas de risque
BH53: 0 | BI53: 6 | BJ53: 0 | BK53: 0 | BP53: 0 | BQ53: 0 | BR53: 0 | BS53: 0 | CB53: =MAX(SUM(BH53:BK53),SUM(BL53:BO53),SUM(BP53:BS53),SUM(BT53:BW53)) -> 6 | CC53: =SUM(BX53:CA53) -> 0 | CD53: =IF(AND(CC53=0,CB53>0),1,IF(AND(CC53=0,CB53=0),"Pas de risque",CC53/CB53)) -> 1
BH54: 5 | BI54: 1 | BJ54: 0 | BK54: 0 | BP54: 2 | BQ54: 1 | BR54: 0 | BS54: 0 | BX54: 0 | BY54: 0 | BZ54: 0 | CA54: 0 | CB54: =MAX(SUM(BH54:BK54),SUM(BL54:BO54),SUM(BP54:BS54),SUM(BT54:BW54)) -> 6 | CC54: =SUM(BX54:CA54) -> 0 | CD54: =IF(AND(CC54=0,CB54>0),1,IF(AND(CC54=0,CB54=0),"Pas de risque",CC54/CB54)) -> 1
BH55: 0 | BI55: 0 | BJ55: 0 | BK55: 0 | CB55: =MAX(SUM(BH55:BK55),SUM(BL55:BO55),SUM(BP55:BS55),SUM(BT55:BW55)) -> 0 | CC55: =SUM(BX55:CA55) -> 0 | CD55: =IF(AND(CC55=0,CB55>0),1,IF(AND(CC55=0,CB55=0),"Pas de risque",CC55/CB55)) -> Pas de risque
BH56: 0 | BI56: 1 | BJ56: 0 | BK56: 0 | BL56: 0 | BM56: 1 | BN56: 0 | BO56: 0 | BX56: 0 | BY56: 0 | BZ56: 0 | CA56: 0 | CB56: =MAX(SUM(BH56:BK56),SUM(BL56:BO56),SUM(BP56:BS56),SUM(BT56:BW56)) -> 1 | CC56: =SUM(BX56:CA56) -> 0 | CD56: =IF(AND(CC56=0,CB56>0),1,IF(AND(CC56=0,CB56=0),"Pas de risque",CC56/CB56)) -> 1
BH57: 0 | BI57: 1 | BJ57: 0 | BK57: 0 | BL57: 0 | BM57: 1 | BN57: 0 | BO57: 0 | BX57: 0 | BY57: 0 | BZ57: 0 | CA57: 0 | CB57: =MAX(SUM(BH57:BK57),SUM(BL57:BO57),SUM(BP57:BS57),SUM(BT57:BW57)) -> 1 | CC57: =SUM(BX57:CA57) -> 0 | CD57: =IF(AND(CC57=0,CB57>0),1,IF(AND(CC57=0,CB57=0),"Pas de risque",CC57/CB57)) -> 1
BH58: 0 | BI58: 1 | BJ58: 3 | BK58: 0 | BP58: 2 | BQ58: 3 | BR58: 4 | BS58: 0 | BX58: 0 | BY58: 0 | BZ58: 0 | CA58: 0 | CB58: =MAX(SUM(BH58:BK58),SUM(BL58:BO58),SUM(BP58:BS58),SUM(BT58:BW58)) -> 9 | CC58: =SUM(BX58:CA58) -> 0 | CD58: =IF(AND(CC58=0,CB58>0),1,IF(AND(CC58=0,CB58=0),"Pas de risque",CC58/CB58)) -> 1
AQ59: 42083.429 | BH59: 0 | BI59: 4 | BJ59: 4 | BK59: 0 | BP59: 4 | BQ59: 12 | BR59: 11 | BS59: 0 | BX59: 12 | BY59: 2 | BZ59: 2 | CA59: 0 | CB59: =MAX(SUM(BH59:BK59),SUM(BL59:BO59),SUM(BP59:BS59),SUM(BT59:BW59)) -> 27 | CC59: =SUM(BX59:CA59) -> 16 | CD59: =IFERROR(IF(AND(CC59=0,CB59>0),1,IF(AND(CC59=0,CB59=0),"Pas de risque",CC59/CB59)),"100%") -> 0.59259259
BH60: 2 | BI60: 1 | BJ60: 0 | BK60: 0 | BP60: 2 | BQ60: 3 | BR60: 0 | BS60: 0 | BT60: 0 | BU60: 0 | BV60: 0 | BW60: 0 | CB60: =MAX(SUM(BH60:BK60),SUM(BL60:BO60),SUM(BP60:BS60),SUM(BT60:BW60)) -> 5 | CC60: =SUM(BX60:CA60) -> 0 | CD60: =IF(AND(CC60=0,CB60>0),1,IF(AND(CC60=0,CB60=0),"Pas de risque",CC60/CB60)) -> 1
BH61: 14 | BI61: 12 | BJ61: 12 | BK61: 0 | BL61: 0 | BM61: 0 | BN61: 0 | BO61: 0 | CB61: =MAX(SUM(BH61:BK61),SUM(BL61:BO61),SUM(BP61:BS61),SUM(BT61:BW61)) -> 38 | CC61: =SUM(BX61:CA61) -> 0 | CD61: =IF(AND(CC61=0,CB61>0),1,IF(AND(CC61=0,CB61=0),"Pas de risque",CC61/CB61)) -> 1
AQ62: 41754.364 | BH62: 0 | BI62: 2 | BJ62: 1 | BK62: 0 | BP62: 3 | BQ62: 7 | BR62: 1 | BS62: 0 | BX62: 0 | BY62: 0 | BZ62: 0 | CA62: 0 | CB62: =MAX(SUM(BH62:BK62),SUM(BL62:BO62),SUM(BP62:BS62),SUM(BT62:BW62)) -> 11 | CC62: =SUM(BX62:CA62) -> 0 | CD62: =IFERROR(IF(AND(CC62=0,CB62>0),1,IF(AND(CC62=0,CB62=0),"Pas de risque",CC62/CB62)),"100%") -> 1
AQ63: 41754.432 | BH63: 0 | BI63: 0 | BJ63: 0 | BK63: 0 | BP63: 3 | BQ63: 8 | BR63: 0 | BS63: 0 | BX63: 0 | BY63: 0 | BZ63: 0 | CA63: 0 | CB63: =MAX(SUM(BH63:BK63),SUM(BL63:BO63),SUM(BP63:BS63),SUM(BT63:BW63)) -> 11 | CC63: =SUM(BX63:CA63) -> 0 | CD63: =IFERROR(IF(AND(CC63=0,CB63>0),1,IF(AND(CC63=0,CB63=0),"Pas de risque",CC63/CB63)),"100%") -> 1
BH64: 0 | BI64: 1 | BJ64: 0 | BK64: 0 | BL64: 4 | BM64: 5 | BN64: 1 | BO64: 0 | BP64: 3 | BQ64: 11 | BR64: 0 | BS64: 0 | BT64: 0 | BU64: 7 | BV64: 0 | BW64: 0 | CB64: =MAX(SUM(BH64:BK64),SUM(BL64:BO64),SUM(BP64:BS64),SUM(BT64:BW64)) -> 14 | CC64: =SUM(BX64:CA64) -> 0 | CD64: =IF(AND(CC64=0,CB64>0),1,IF(AND(CC64=0,CB64=0),"Pas de risque",CC64/CB64)) -> 1
BH65: 8 | BI65: 3 | BJ65: 1 | BK65: 0 | BP65: 9 | BQ65: 5 | BR65: 2 | BS65: 0 | BX65: 0 | BY65: 0 | BZ65: 0 | CA65: 0 | CB65: =MAX(SUM(BH65:BK65),SUM(BL65:BO65),SUM(BP65:BS65),SUM(BT65:BW65)) -> 16 | CC65: =SUM(BX65:CA65) -> 0 | CD65: =IF(AND(CC65=0,CB65>0),1,IF(AND(CC65=0,CB65=0),"Pas de risque",CC65/CB65)) -> 1
BH66: 0 | BI66: 0 | BJ66: 1 | BK66: 0 | BL66: 0 | BM66: 0 | BN66: 0 | BO66: 0 | CB66: =MAX(SUM(BH66:BK66),SUM(BL66:BO66),SUM(BP66:BS66),SUM(BT66:BW66)) -> 1 | CC66: =SUM(BX66:CA66) -> 0 | CD66: =IF(AND(CC66=0,CB66>0),1,IF(AND(CC66=0,CB66=0),"Pas de risque",CC66/CB66)) -> 1
BH67: 1 | BI67: 3 | BJ67: 2 | BK67: 0 | BL67: 2 | BM67: 4 | BN67: 2 | BO67: 0 | CB67: =MAX(SUM(BH67:BK67),SUM(BL67:BO67),SUM(BP67:BS67),SUM(BT67:BW67)) -> 8 | CC67: =SUM(BX67:CA67) -> 0 | CD67: =IF(AND(CC67=0,CB67>0),1,IF(AND(CC67=0,CB67=0),"Pas de risque",CC67/CB67)) -> 1
BH68: 0 | BI68: 1 | BJ68: 3 | BK68: 0 | BP68: 0 | BQ68: 0 | BR68: 0 | BS68: 0 | CB68: =MAX(SUM(BH68:BK68),SUM(BL68:BO68),SUM(BP68:BS68),SUM(BT68:BW68)) -> 4 | CC68: =SUM(BX68:CA68) -> 0 | CD68: =IF(AND(CC68=0,CB68>0),1,IF(AND(CC68=0,CB68=0),"Pas de risque",CC68/CB68)) -> 1
BH69: 0 | BI69: 1 | BJ69: 0 | BK69: 0 | BP69: 2 | BQ69: 2 | BR69: 0 | BS69: 0 | BX69: 0 | BY69: 0 | BZ69: 0 | CA69: 0 | CB69: =MAX(SUM(BH69:BK69),SUM(BL69:BO69),SUM(BP69:BS69),SUM(BT69:BW69)) -> 4 | CC69: =SUM(BX69:CA69) -> 0 | CD69: =IF(AND(CC69=0,CB69>0),1,IF(AND(CC69=0,CB69=0),"Pas de risque",CC69/CB69)) -> 1
BH70: 0 | BI70: 0 | BJ70: 0 | BK70: 0 | CB70: =MAX(SUM(BH70:BK70),SUM(BL70:BO70),SUM(BP70:BS70),SUM(BT70:BW70)) -> 0 | CC70: =SUM(BX70:CA70) -> 0 | CD70: =IF(AND(CC70=0,CB70>0),1,IF(AND(CC70=0,CB70=0),"Pas de risque",CC70/CB70)) -> Pas de risque
BH71: 1 | BI71: 0 | BJ71: 0 | BK71: 0 | BL71: 0 | BM71: 0 | BN71: 0 | BO71: 0 | BT71: 1 | BU71: 4 | BV71: 0 | BW71: 0 | CB71: =MAX(SUM(BH71:BK71),SUM(BL71:BO71),SUM(BP71:BS71),SUM(BT71:BW71)) -> 5 | CC71: =SUM(BX71:CA71) -> 0 | CD71: =IF(AND(CC71=0,CB71>0),1,IF(AND(CC71=0,CB71=0),"Pas de risque",CC71/CB71)) -> 1
BH72: 0 | BI72: 0 | BJ72: 0 | BK72: 0 | BL72: 0 | BM72: 0 | BN72: 0 | BO72: 0 | BT72: 0 | BU72: 0 | BV72: 0 | BW72: 0 | CB72: =MAX(SUM(BH72:BK72),SUM(BL72:BO72),SUM(BP72:BS72),SUM(BT72:BW72)) -> 0 | CC72: =SUM(BX72:CA72) -> 0 | CD72: =IF(AND(CC72=0,CB72>0),1,IF(AND(CC72=0,CB72=0),"Pas de risque",CC72/CB72)) -> Pas de risque
BH73: 0 | BI73: 0 | BJ73: 0 | BK73: 0 | BL73: 0 | BM73: 0 | BN73: 0 | BO73: 0 | CB73: =MAX(SUM(BH73:BK73),SUM(BL73:BO73),SUM(BP73:BS73),SUM(BT73:BW73)) -> 0 | CC73: =SUM(BX73:CA73) -> 0 | CD73: =IF(AND(CC73=0,CB73>0),1,IF(AND(CC73=0,CB73=0),"Pas de risque",CC73/CB73)) -> Pas de risque
BH74: 0 | BI74: 0 | BJ74: 0 | BK74: 0 | BL74: 0 | BM74: 0 | BN74: 0 | BO74: 0 | CB74: =MAX(SUM(BH74:BK74),SUM(BL74:BO74),SUM(BP74:BS74),SUM(BT74:BW74)) -> 0 | CC74: =SUM(BX74:CA74) -> 0 | CD74: =IF(AND(CC74=0,CB74>0),1,IF(AND(CC74=0,CB74=0),"Pas de risque",CC74/CB74)) -> Pas de risque
BH75: 0 | BI75: 0 | BJ75: 0 | BK75: 0 | BL75: 0 | BM75: 0 | BN75: 0 | BO75: 0 | CB75: =MAX(SUM(BH75:BK75),SUM(BL75:BO75),SUM(BP75:BS75),SUM(BT75:BW75)) -> 0 | CC75: =SUM(BX75:CA75) -> 0 | CD75: =IF(AND(CC75=0,CB75>0),1,IF(AND(CC75=0,CB75=0),"Pas de risque",CC75/CB75)) -> Pas de risque
BH76: 0 | BI76: 0 | BJ76: 0 | BK76: 0 | BL76: 0 | BM76: 0 | BN76: 0 | BO76: 0 | CB76: =MAX(SUM(BH76:BK76),SUM(BL76:BO76),SUM(BP76:BS76),SUM(BT76:BW76)) -> 0 | CC76: =SUM(BX76:CA76) -> 0 | CD76: =IF(AND(CC76=0,CB76>0),1,IF(AND(CC76=0,CB76=0),"Pas de risque",CC76/CB76)) -> Pas de risque
AQ77: 41992.411 | BH77: 0 | BI77: 2 | BJ77: 2 | BK77: 0 | BP77: 0 | BQ77: 1 | BR77: 0 | BS77: 0 | BX77: 1 | BY77: 1 | BZ77: 0 | CA77: 0 | CB77: =MAX(SUM(BH77:BK77),SUM(BL77:BO77),SUM(BP77:BS77),SUM(BT77:BW77)) -> 4 | CC77: =SUM(BX77:CA77) -> 2 | CD77: =IFERROR(IF(AND(CC77=0,CB77>0),1,IF(AND(CC77=0,CB77=0),"Pas de risque",CC77/CB77)),"100%") -> 0.5
BH78: 5 | BI78: 8 | BJ78: 3 | BK78: 0 | BL78: 6 | BM78: 8 | BN78: 0 | BO78: 0 | BP78: 4 | BQ78: 2 | BR78: 0 | BS78: 0 | BT78: 3 | BU78: 0 | BV78: 1 | BW78: 0 | CB78: =MAX(SUM(BH78:BK78),SUM(BL78:BO78),SUM(BP78:BS78),SUM(BT78:BW78)) -> 16 | CC78: =SUM(BX78:CA78) -> 0 | CD78: =IF(AND(CC78=0,CB78>0),1,IF(AND(CC78=0,CB78=0),"Pas de risque",CC78/CB78)) -> 1
BH79: 0 | BI79: 10 | BJ79: 9 | BK79: 0 | BP79: 1 | BQ79: 4 | BR79: 4 | BS79: 0 | BT79: 0 | BU79: 8 | BV79: 3 | BW79: 0 | CB79: =MAX(SUM(BH79:BK79),SUM(BL79:BO79),SUM(BP79:BS79),SUM(BT79:BW79)) -> 19 | CC79: =SUM(BX79:CA79) -> 0 | CD79: =IF(AND(CC79=0,CB79>0),1,IF(AND(CC79=0,CB79=0),"Pas de risque",CC79/CB79)) -> 1
BH80: 0 | BI80: 1 | BJ80: 0 | BK80: 0 | CB80: =MAX(SUM(BH80:BK80),SUM(BL80:BO80),SUM(BP80:BS80),SUM(BT80:BW80)) -> 1 | CC80: =SUM(BX80:CA80) -> 0 | CD80: =IF(AND(CC80=0,CB80>0),1,IF(AND(CC80=0,CB80=0),"Pas de risque",CC80/CB80)) -> 1
BH81: 0 | BI81: 0 | BJ81: 0 | BK81: 0 | CB81: =MAX(SUM(BH81:BK81),SUM(BL81:BO81),SUM(BP81:BS81),SUM(BT81:BW81)) -> 0 | CC81: =SUM(BX81:CA81) -> 0 | CD81: =IF(AND(CC81=0,CB81>0),1,IF(AND(CC81=0,CB81=0),"Pas de risque",CC81/CB81)) -> Pas de risque
BH82: 3 | BI82: 0 | BJ82: 0 | BK82: 0 | CB82: =MAX(SUM(BH82:BK82),SUM(BL82:BO82),SUM(BP82:BS82),SUM(BT82:BW82)) -> 3 | CC82: =SUM(BX82:CA82) -> 0 | CD82: =IF(AND(CC82=0,CB82>0),1,IF(AND(CC82=0,CB82=0),"Pas de risque",CC82/CB82)) -> 1
BH83: 0 | BI83: 0 | BJ83: 0 | BK83: 0 | BL83: 0 | BM83: 0 | BN83: 0 | BO83: 0 | BP83: 1 | BQ83: 0 | BR83: 0 | BS83: 0 | CB83: =MAX(SUM(BH83:BK83),SUM(BL83:BO83),SUM(BP83:BS83),SUM(BT83:BW83)) -> 1 | CC83: =SUM(BX83:CA83) -> 0 | CD83: =IF(AND(CC83=0,CB83>0),1,IF(AND(CC83=0,CB83=0),"Pas de risque",CC83/CB83)) -> 1
BH84: 0 | BI84: 0 | BJ84: 0 | BK84: 0 | CB84: =MAX(SUM(BH84:BK84),SUM(BL84:BO84),SUM(BP84:BS84),SUM(BT84:BW84)) -> 0 | CC84: =SUM(BX84:CA84) -> 0 | CD84: =IF(AND(CC84=0,CB84>0),1,IF(AND(CC84=0,CB84=0),"Pas de risque",CC84/CB84)) -> Pas de risque
BH85: 11 | BI85: 3 | BJ85: 0 | BK85: 0 | CB85: =MAX(SUM(BH85:BK85),SUM(BL85:BO85),SUM(BP85:BS85),SUM(BT85:BW85)) -> 14 | CC85: =SUM(BX85:CA85) -> 0 | CD85: =IF(AND(CC85=0,CB85>0),1,IF(AND(CC85=0,CB85=0),"Pas de risque",CC85/CB85)) -> 1
BH86: 0 | BI86: 1 | BJ86: 0 | BK86: 0 | BP86: 0 | BQ86: 1 | BR86: 0 | BS86: 0 | CB86: =MAX(SUM(BH86:BK86),SUM(BL86:BO86),SUM(BP86:BS86),SUM(BT86:BW86)) -> 1 | CC86: =SUM(BX86:CA86) -> 0 | CD86: =IF(AND(CC86=0,CB86>0),1,IF(AND(CC86=0,CB86=0),"Pas de risque",CC86/CB86)) -> 1
BH87: 1 | BI87: 12 | BJ87: 0 | BK87: 0 | BL87: 0 | BM87: 3 | BN87: 0 | BO87: 0 | BP87: 2 | BQ87: 9 | BR87: 4 | BS87: 0 | BT87: 1 | BU87: 2 | BV87: 0 | BW87: 0 | CB87: =MAX(SUM(BH87:BK87),SUM(BL87:BO87),SUM(BP87:BS87),SUM(BT87:BW87)) -> 15 | CC87: =SUM(BX87:CA87) -> 0 | CD87: =IF(AND(CC87=0,CB87>0),1,IF(AND(CC87=0,CB87=0),"Pas de risque",CC87/CB87)) -> 1
BH88: 0 | BI88: 2 | BJ88: 0 | BK88: 0 | CB88: =MAX(SUM(BH88:BK88),SUM(BL88:BO88),SUM(BP88:BS88),SUM(BT88:BW88)) -> 2 | CC88: =SUM(BX88:CA88) -> 0 | CD88: =IF(AND(CC88=0,CB88>0),1,IF(AND(CC88=0,CB88=0),"Pas de risque",CC88/CB88)) -> 1
BH89: 18 | BI89: 11 | BJ89: 12 | BK89: 0 | CB89: =MAX(SUM(BH89:BK89),SUM(BL89:BO89),SUM(BP89:BS89),SUM(BT89:BW89)) -> 41 | CC89: =SUM(BX89:CA89) -> 0 | CD89: =IF(AND(CC89=0,CB89>0),1,IF(AND(CC89=0,CB89=0),"Pas de risque",CC89/CB89)) -> 1
BH90: 3 | BI90: 16 | BJ90: 8 | BK90: 0 | BL90: 2 | BM90: 15 | BN90: 0 | BO90: 0 | BP90: 1 | BQ90: 8 | BR90: 0 | BS90: 0 | BT90: 1 | BU90: 4 | BV90: 0 | BW90: 0 | CB90: =MAX(SUM(BH90:BK90),SUM(BL90:BO90),SUM(BP90:BS90),SUM(BT90:BW90)) -> 27 | CC90: =SUM(BX90:CA90) -> 0 | CD90: =IF(AND(CC90=0,CB90>0),1,IF(AND(CC90=0,CB90=0),"Pas de risque",CC90/CB90)) -> 1
BH91: 2 | BI91: 9 | BJ91: 4 | BK91: 0 | BL91: 0 | BM91: 2 | BN91: 0 | BO91: 0 | BP91: 2 | BQ91: 30 | BR91: 2 | BS91: 0 | BT91: 0 | BU91: 6 | BV91: 0 | BW91: 0 | CB91: =MAX(SUM(BH91:BK91),SUM(BL91:BO91),SUM(BP91:BS91),SUM(BT91:BW91)) -> 34 | CC91: =SUM(BX91:CA91) -> 0 | CD91: =IF(AND(CC91=0,CB91>0),1,IF(AND(CC91=0,CB91=0),"Pas de risque",CC91/CB91)) -> 1
BH92: 19 | BI92: 6 | BJ92: 2 | BK92: 0 | CB92: =MAX(SUM(BH92:BK92),SUM(BL92:BO92),SUM(BP92:BS92),SUM(BT92:BW92)) -> 27 | CC92: =SUM(BX92:CA92) -> 0 | CD92: =IF(AND(CC92=0,CB92>0),1,IF(AND(CC92=0,CB92=0),"Pas de risque",CC92/CB92)) -> 1
BH93: 0 | BI93: 0 | BJ93: 0 | BK93: 0 | CB93: =MAX(SUM(BH93:BK93),SUM(BL93:BO93),SUM(BP93:BS93),SUM(BT93:BW93)) -> 0 | CC93: =SUM(BX93:CA93) -> 0 | CD93: =IF(AND(CC93=0,CB93>0),1,IF(AND(CC93=0,CB93=0),"Pas de risque",CC93/CB93)) -> Pas de risque
BH94: 1 | BI94: 7 | BJ94: 0 | BK94: 0 | CB94: =MAX(SUM(BH94:BK94),SUM(BL94:BO94),SUM(BP94:BS94),SUM(BT94:BW94)) -> 8 | CC94: =SUM(BX94:CA94) -> 0 | CD94: =IF(AND(CC94=0,CB94>0),1,IF(AND(CC94=0,CB94=0),"Pas de risque",CC94/CB94)) -> 1
AQ95: 42013.411 | BH95: 0 | BI95: 0 | BJ95: 0 | BK95: 0 | BP95: 1 | BQ95: 0 | BR95: 0 | BS95: 0 | BX95: 0 | BY95: 0 | BZ95: 0 | CA95: 0 | CB95: =MAX(SUM(BH95:BK95),SUM(BL95:BO95),SUM(BP95:BS95),SUM(BT95:BW95)) -> 1 | CC95: =SUM(BX95:CA95) -> 0 | CD95: =IFERROR(IF(AND(CC95=0,CB95>0),1,IF(AND(CC95=0,CB95=0),"Pas de risque",CC95/CB95)),"100%") -> 1
AQ96: 42069.429 | BH96: 0 | BI96: 0 | BJ96: 0 | BK96: 0 | BL96: 2 | BM96: 18 | BN96: 2 | BO96: 0 | BP96: 5 | BQ96: 12 | BR96: 2 | BS96: 0 | BT96: 1 | BU96: 2 | BV96: 1 | BW96: 0 | BX96: 1 | BY96: 0 | BZ96: 0 | CA96: 0 | CB96: =MAX(SUM(BH96:BK96),SUM(BL96:BO96),SUM(BP96:BS96),SUM(BT96:BW96)) -> 22 | CC96: =SUM(BX96:CA96) -> 1 | CD96: =IFERROR(IF(AND(CC96=0,CB96>0),1,IF(AND(CC96=0,CB96=0),"Pas de risque",CC96/CB96)),"100%") -> 0.045454545
BH97: 5 | BI97: 1 | BJ97: 0 | BK97: 0 | CB97: =MAX(SUM(BH97:BK97),SUM(BL97:BO97),SUM(BP97:BS97),SUM(BT97:BW97)) -> 6 | CC97: =SUM(BX97:CA97) -> 0 | CD97: =IF(AND(CC97=0,CB97>0),1,IF(AND(CC97=0,CB97=0),"Pas de risque",CC97/CB97)) -> 1
BH98: 0 | BI98: 0 | BJ98: 0 | BK98: 0 | BP98: 0 | BQ98: 0 | BR98: 0 | BS98: 0 | CB98: =MAX(SUM(BH98:BK98),SUM(BL98:BO98),SUM(BP98:BS98),SUM(BT98:BW98)) -> 0 | CC98: =SUM(BX98:CA98) -> 0 | CD98: =IF(AND(CC98=0,CB98>0),1,IF(AND(CC98=0,CB98=0),"Pas de risque",CC98/CB98)) -> Pas de risque
BH99: 7 | BI99: 0 | BJ99: 0 | BK99: 0 | CB99: =MAX(SUM(BH99:BK99),SUM(BL99:BO99),SUM(BP99:BS99),SUM(BT99:BW99)) -> 7 | CC99: =SUM(BX99:CA99) -> 0 | CD99: =IF(AND(CC99=0,CB99>0),1,IF(AND(CC99=0,CB99=0),"Pas de risque",CC99/CB99)) -> 1
BL100: 0 | BM100: 5 | BN100: 0 | BO100: 0 | CB100: =MAX(SUM(BH100:BK100),SUM(BL100:BO100),SUM(BP100:BS100),SUM(BT100:BW100)) -> 5 | CC100: =SUM(BX100:CA100) -> 0 | CD100: =IF(AND(CC100=0,CB100>0),1,IF(AND(CC100=0,CB100=0),"Pas de risque",CC100/CB100)) -> 1
...

Sheet Base équivalente au TCD
A1: PSA - Date fin | B1: PSB - Date fin | C1: RU - Date fin | D1: RdP - Date - Lancement projet | E1: RdP - Statut - Lancement projet | F1: RdP - Date - Lancement EO | G1: RdP - Statut - Lancement EO | H1: RdP - Date - Lancement RO | I1: RdP - Statut - Lancement RO | J1: RdP - Date - Lancement PSA | K1: RdP - Statut - Lancement PSA | L1: RdP - Date - Bilan PSA | M1: RdP - Statut - Bilan PSA | N1: RdP - Date - Bilan PSB | O1: RdP - Statut - Bilan PSB | P1: RdP - Date - Bilan RU | Q1: RdP - Statut - Bilan RU | R1: LP - Nb K1 | S1: LP - Nb K10 | T1: LP - Nb K50 | U1: LP - Nb K200 | V1: DPP - Nb K1 | W1: DPP - Nb K10 | X1: DPP - Nb K50 | Y1: DPP - Nb K200 | Z1: PI - Nb K1 | AA1: PI - Nb K10 | AB1: PI - Nb K50 | AC1: PI - Nb K200 | AD1: RO - Nb K1 | AE1: RO - Nb K10 | AF1: RO - Nb K50 | AG1: RO - Nb K200 | AH1: PSA - Nb K1 | AI1: PSA - Nb K10 | AJ1: PSA - Nb K50 | AK1: PSA - Nb K200 | AL1: Risk max avant PSA | AM1: Risk PSA | AN1: Risk levé avant PSA
A2: 41845.345 | R2: 0 | S2: 0 | T2: 0 | U2: 0 | Z2: 13 | AA2: 7 | AB2: 3 | AC2: 0 | AH2: 0 | AI2: 0 | AJ2: 1 | AK2: 0 | AL2: 23 | AM2: 1 | AN2: 0.043478261
A3: 42069.429 | R3: 0 | S3: 0 | T3: 0 | U3: 0 | V3: 2 | W3: 18 | X3: 2 | Y3: 0 | Z3: 5 | AA3: 12 | AB3: 2 | AC3: 0 | AD3: 1 | AE3: 2 | AF3: 1 | AG3: 0 | AH3: 1 | AI3: 0 | AJ3: 0 | AK3: 0 | AL3: 22 | AM3: 1 | AN3: 0.045454545
A4: 42041.41 | R4: 7 | S4: 10 | T4: 4 | U4: 0 | Z4: 4 | AA4: 27 | AB4: 1 | AC4: 0 | AH4: 2 | AI4: 1 | AJ4: 0 | AK4: 0 | AL4: 32 | AM4: 3 | AN4: 0.09375
A5: 42013.411 | R5: 2 | S5: 19 | T5: 4 | U5: 0 | Z5: 2 | AA5: 48 | AB5: 5 | AC5: 0 | AD5: 1 | AE5: 2 | AF5: 1 | AG5: 0 | AH5: 6 | AI5: 6 | AJ5: 1 | AK5: 0 | AL5: 55 | AM5: 13 | AN5: 0.23636364
A6: 41691.409 | R6: 0 | S6: 2 | T6: 2 | U6: 0 | Z6: 2 | AA6: 0 | AB6: 6 | AC6: 0 | AH6: 0 | AI6: 2 | AJ6: 0 | AK6: 0 | AL6: 8 | AM6: 2 | AN6: 0.25
A7: 41740.392 | R7: 0 | S7: 0 | T7: 0 | U7: 0 | Z7: 5 | AA7: 11 | AB7: 7 | AC7: 0 | AH7: 4 | AI7: 1 | AJ7: 1 | AK7: 0 | AL7: 23 | AM7: 6 | AN7: 0.26086957
A8: 41992.411 | R8: 0 | S8: 2 | T8: 2 | U8: 0 | Z8: 0 | AA8: 1 | AB8: 0 | AC8: 0 | AH8: 1 | AI8: 1 | AJ8: 0 | AK8: 0 | AL8: 4 | AM8: 2 | AN8: 0.5
A9: 42083.429 | R9: 0 | S9: 4 | T9: 4 | U9: 0 | Z9: 4 | AA9: 12 | AB9: 11 | AC9: 0 | AH9: 12 | AI9: 2 | AJ9: 2 | AK9: 0 | AL9: 27 | AM9: 16 | AN9: 0.59259259
A10: 41754.432 | R10: 0 | S10: 8 | T10: 7 | U10: 2 | Z10: 3 | AA10: 5 | AB10: 1 | AC10: 0 | AH10: 3 | AI10: 8 | AJ10: 0 | AK10: 0 | AL10: 17 | AM10: 11 | AN10: 0.64705882
A11: 42013.411 | R11: 0 | S11: 0 | T11: 0 | U11: 0 | Z11: 1 | AA11: 0 | AB11: 0 | AC11: 0 | AH11: 0 | AI11: 0 | AJ11: 0 | AK11: 0 | AL11: 1 | AM11: 0 | AN11: 1
A12: 42062.385 | R12: 4 | S12: 5 | T12: 0 | U12: 0 | Z12: 0 | AA12: 1 | AB12: 0 | AC12: 0 | AH12: 0 | AI12: 0 | AJ12: 0 | AK12: 0 | AL12: 9 | AM12: 0 | AN12: 1
A13: 41754.357 | R13: 2 | S13: 0 | T13: 0 | U13: 0 | Z13: 2 | AA13: 2 | AB13: 0 | AC13: 0 | AH13: 0 | AI13: 0 | AJ13: 0 | AK13: 0 | AL13: 4 | AM13: 0 | AN13: 1
A14: 41754.432 | R14: 0 | S14: 0 | T14: 0 | U14: 0 | Z14: 3 | AA14: 8 | AB14: 0 | AC14: 0 | AH14: 0 | AI14: 0 | AJ14: 0 | AK14: 0 | AL14: 11 | AM14: 0 | AN14: 1
A15: 41754.364 | R15: 0 | S15: 2 | T15: 1 | U15: 0 | Z15: 3 | AA15: 7 | AB15: 1 | AC15: 0 | AH15: 0 | AI15: 0 | AJ15: 0 | AK15: 0 | AL15: 11 | AM15: 0 | AN15: 1
A16: 41754.433 | R16: 2 | S16: 6 | T16: 1 | U16: 0 | Z16: 0 | AA16: 0 | AB16: 1 | AC16: 0 | AH16: 0 | AI16: 0 | AJ16: 0 | AK16: 0 | AL16: 9 | AM16: 0 | AN16: 1
A17: 41810.373 | R17: 1 | S17: 1 | T17: 0 | U17: 0 | Z17: 2 | AA17: 0 | AB17: 1 | AC17: 0 | AH17: 0 | AI17: 0 | AJ17: 0 | AK17: 0 | AL17: 3 | AM17: 0 | AN17: 1
... A19: 41845.345 | R19: 0 | S19: 0 | T19: 1 | U19: 0 | Z19: 0 | AA19: 0 | AB19: 0 | AC19: 0 | AH19: 0 | AI19: 0 | AJ19: 0 | AK19: 0 | AL19: 1 | AM19: 0 | AN19: 1
A20: 41887.44 | R20: 0 | S20: 0 | T20: 0 | U20: 0 | Z20: 2 | AA20: 0 | AB20: 0 | AC20: 0 | AD20: 0 | AE20: 4 | AF20: 0 | AG20: 0 | AH20: 6 | AI20: 0 | AJ20: 0 | AK20: 0 | AL20: 4 | AM20: 6 | AN20: 1.5
A21: 41675 | R21: 0 | S21: 0 | T21: 0 | U21: 0 | AL21: 0 | AM21: 0 | AN21: Pas de risque
A22: 41754.391 | R22: 0 | S22: 0 | T22: 0 | U22: 0 | V22: 0 | W22: 0 | X22: 0 | Y22: 0 | AD22: 0 | AE22: 0 | AF22: 0 | AG22: 0 | AH22: 0 | AI22: 0 | AJ22: 0 | AK22: 0 | AL22: 0 | AM22: 0 | AN22: Pas de risque
A23: 41754.343 | R23: 0 | S23: 0 | T23: 0 | U23: 0 | V23: 0 | W23: 0 | X23: 0 | Y23: 0 | AD23: 0 | AE23: 0 | AF23: 0 | AG23: 0 | AH23: 0 | AI23: 0 | AJ23: 0 | AK23: 0 | AL23: 0 | AM23: 0 | AN23: Pas de risque
A24: 41754.352 | R24: 0 | S24: 0 | T24: 0 | U24: 0 | Z24: 0 | AA24: 0 | AB24: 0 | AC24: 0 | AH24: 0 | AI24: 0 | AJ24: 0 | AK24: 0 | AL24: 0 | AM24: 0 | AN24: Pas de risque
A25: 41740.393 | R25: 0 | S25: 0 | T25: 0 | U25: 0 | Z25: 0 | AA25: 0 | AB25: 0 | AC25: 0 | AH25: 0 | AI25: 0 | AJ25: 0 | AK25: 0 | AL25: 0 | AM25: 0 | AN25: Pas de risque
A26: 41817.359 | R26: 0 | S26: 0 | T26: 0 | U26: 0 | V26: 0 | W26: 0 | X26: 0 | Y26: 0 | AD26: 0 | AE26: 0 | AF26: 0 | AG26: 0 | AH26: 0 | AI26: 0 | AJ26: 0 | AK26: 0 | AL26: 0 | AM26: 0 | AN26: Pas de risque
A27: 41817.36 | R27: 0 | S27: 0 | T27: 0 | U27: 0 | V27: 0 | W27: 0 | X27: 0 | Y27: 0 | AD27: 0 | AE27: 0 | AF27: 0 | AG27: 0 | AH27: 0 | AI27: 0 | AJ27: 0 | AK27: 0 | AL27: 0 | AM27: 0 | AN27: Pas de risque
A28: 41845.345 | R28: 0 | S28: 0 | T28: 0 | U28: 0 | Z28: 0 | AA28: 0 | AB28: 0 | AC28: 0 | AH28: 0 | AI28: 0 | AJ28: 0 | AK28: 0 | AL28: 0 | AM28: 0 | AN28: Pas de risque

Sheet TCD
A1: FY | B1: 2014 | L1: Ajustement pour Année Fiscale
C2: =DATE($B$1,4,1) -> 41730 | D2: =DATE($B$1,MONTH(C2)+1,1) -> 41760 | E2: =DATE($B$1,MONTH(D2)+1,1) -> 41791 | F2: =DATE($B$1,MONTH(E2)+1,1) -> 41821 | G2: =DATE($B$1,MONTH(F2)+1,1) -> 41852 | H2: =DATE($B$1,MONTH(G2)+1,1) -> 41883 | I2: =DATE($B$1,MONTH(H2)+1,1) -> 41913 | J2: =DATE($B$1,MONTH(I2)+1,1) -> 41944 | K2: =DATE($B$1,MONTH(J2)+1,1) -> 41974 | L2: =DATE($B$1+1,MONTH(K2)+1,1) -> 42370 | M2: =DATE($B$1+1,MONTH(L2)+1,1) -> 42036 | N2: =DATE($B$1+1,MONTH(M2)+1,1) -> 42064
B3: Pas de risque | C3: =SUMPRODUCT(--(Données!$CD$4:$CD$923=$B3)*(YEAR(Données!$AQ$4:$AQ$923)=YEAR(B$2))*(MONTH(Données!$AQ$4:$AQ$923)=MONTH(C$2))) -> 0 | D3: =SUMPRODUCT(--(Données!$CD$4:$CD$923=$B3)*(YEAR(Données!$AQ$4:$AQ$923)=YEAR(C$2))*(MONTH(Données!$AQ$4:$AQ$923)=MONTH(D$2))) -> 0 | E3: =SUMPRODUCT(--(Données!$CD$4:$CD$923=$B3)*(YEAR(Données!$AQ$4:$AQ$923)=YEAR(D$2))*(MONTH(Données!$AQ$4:$AQ$923)=MONTH(E$2))) -> 2 | F3: =SUMPRODUCT(--(Données!$CD$4:$CD$923=$B3)*(YEAR(Données!$AQ$4:$AQ$923)=YEAR(E$2))*(MONTH(Données!$AQ$4:$AQ$923)=MONTH(F$2))) -> 1 | G3: =SUMPRODUCT(--(Données!$CD$4:$CD$923=$B3)*(YEAR(Données!$AQ$4:$AQ$923)=YEAR(F$2))*(MONTH(Données!$AQ$4:$AQ$923)=MONTH(G$2))) -> 0 | H3: =SUMPRODUCT(--(Données!$CD$4:$CD$923=$B3)*(YEAR(Données!$AQ$4:$AQ$923)=YEAR(G$2))*(MONTH(Données!$AQ$4:$AQ$923)=MONTH(H$2))) -> 0 | I3: =SUMPRODUCT(--(Données!$CD$4:$CD$923=$B3)*(YEAR(Données!$AQ$4:$AQ$923)=YEAR(H$2))*(MONTH(Données!$AQ$4:$AQ$923)=MONTH(I$2))) -> 0 | J3: =SUMPRODUCT(--(Données!$CD$4:$CD$923=$B3)*(YEAR(Données!$AQ$4:$AQ$923)=YEAR(I$2))*(MONTH(Données!$AQ$4:$AQ$923)=MONTH(J$2))) -> 0 | ... N3: =SUMPRODUCT(--(Données!$CD$4:$CD$923=$B3)*(YEAR(Données!$AQ$4:$AQ$923)=YEAR(M$2))*(MONTH(Données!$AQ$4:$AQ$923)=MONTH(N$2))) -> 0
B4: Risques non Levés | C4: =SUMPRODUCT(--(Données!$CD$4:$CD$923<=99%)*(YEAR(Données!$AQ$4:$AQ$923)=YEAR(C$2))*(MONTH(Données!$AQ$4:$AQ$923)=MONTH(C$2))) -> 2 | D4: =SUMPRODUCT(--(Données!$CD$4:$CD$923<=99%)*(YEAR(Données!$AQ$4:$AQ$923)=YEAR(D$2))*(MONTH(Données!$AQ$4:$AQ$923)=MONTH(D$2))) -> 0 | E4: =SUMPRODUCT(--(Données!$CD$4:$CD$923<=99%)*(YEAR(Données!$AQ$4:$AQ$923)=YEAR(E$2))*(MONTH(Données!$AQ$4:$AQ$923)=MONTH(E$2))) -> 0 | F4: =SUMPRODUCT(--(Données!$CD$4:$CD$923<=99%)*(YEAR(Données!$AQ$4:$AQ$923)=YEAR(F$2))*(MONTH(Données!$AQ$4:$AQ$923)=MONTH(F$2))) -> 1 | G4: =SUMPRODUCT(--(Données!$CD$4:$CD$923<=99%)*(YEAR(Données!$AQ$4:$AQ$923)=YEAR(G$2))*(MONTH(Données!$AQ$4:$AQ$923)=MONTH(G$2))) -> 0 | H4: =SUMPRODUCT(--(Données!$CD$4:$CD$923<=99%)*(YEAR(Données!$AQ$4:$AQ$923)=YEAR(H$2))*(MONTH(Données!$AQ$4:$AQ$923)=MONTH(H$2))) -> 0 | I4: =SUMPRODUCT(--(Données!$CD$4:$CD$923<=99%)*(YEAR(Données!$AQ$4:$AQ$923)=YEAR(I$2))*(MONTH(Données!$AQ$4:$AQ$923)=MONTH(I$2))) -> 0 | J4: =SUMPRODUCT(--(Données!$CD$4:$CD$923<=99%)*(YEAR(Données!$AQ$4:$AQ$923)=YEAR(J$2))*(MONTH(Données!$AQ$4:$AQ$923)=MONTH(J$2))) -> 0 | ... N4: =SUMPRODUCT(--(Données!$CD$4:$CD$923<=99%)*(YEAR(Données!$AQ$4:$AQ$923)=YEAR(N$2))*(MONTH(Données!$AQ$4:$AQ$923)=MONTH(N$2))) -> 2
B5: Risques Levés | C5: =SUMPRODUCT(--(Données!$CD$4:$CD$923<>"")*(YEAR(Données!$AQ$4:$AQ$923)=YEAR(C$2))*(MONTH(Données!$AQ$4:$AQ$923)=MONTH(C$2)))-SUM(C3:C4) -> 8 | D5: =SUMPRODUCT(--(Données!$CD$4:$CD$923<>"")*(YEAR(Données!$AQ$4:$AQ$923)=YEAR(D$2))*(MONTH(Données!$AQ$4:$AQ$923)=MONTH(D$2)))-SUM(D3:D4) -> 0 | E5: =SUMPRODUCT(--(Données!$CD$4:$CD$923<>"")*(YEAR(Données!$AQ$4:$AQ$923)=YEAR(E$2))*(MONTH(Données!$AQ$4:$AQ$923)=MONTH(E$2)))-SUM(E3:E4) -> 1 | F5: =SUMPRODUCT(--(Données!$CD$4:$CD$923<>"")*(YEAR(Données!$AQ$4:$AQ$923)=YEAR(F$2))*(MONTH(Données!$AQ$4:$AQ$923)=MONTH(F$2)))-SUM(F3:F4) -> 2 | G5: =SUMPRODUCT(--(Données!$CD$4:$CD$923<>"")*(YEAR(Données!$AQ$4:$AQ$923)=YEAR(G$2))*(MONTH(Données!$AQ$4:$AQ$923)=MONTH(G$2)))-SUM(G3:G4) -> 0 | H5: =SUMPRODUCT(--(Données!$CD$4:$CD$923<>"")*(YEAR(Données!$AQ$4:$AQ$923)=YEAR(H$2))*(MONTH(Données!$AQ$4:$AQ$923)=MONTH(H$2)))-SUM(H3:H4) -> 1 | I5: =SUMPRODUCT(--(Données!$CD$4:$CD$923<>"")*(YEAR(Données!$AQ$4:$AQ$923)=YEAR(I$2))*(MONTH(Données!$AQ$4:$AQ$923)=MONTH(I$2)))-SUM(I3:I4) -> 0 | J5: =SUMPRODUCT(--(Données!$CD$4:$CD$923<>"")*(YEAR(Données!$AQ$4:$AQ$923)=YEAR(J$2))*(MONTH(Données!$AQ$4:$AQ$923)=MONTH(J$2)))-SUM(J3:J4) -> 0 | ... N5: =SUMPRODUCT(--(Données!$CD$4:$CD$923<>"")*(YEAR(Données!$AQ$4:$AQ$923)=YEAR(N$2))*(MONTH(Données!$AQ$4:$AQ$923)=MONTH(N$2)))-SUM(N3:N4) -> 0
B6: TOTAL | C6: =SUM(C3:C5) -> 10 | D6: =SUM(D3:D5) -> 0 | E6: =SUM(E3:E5) -> 3 | F6: =SUM(F3:F5) -> 4 | G6: =SUM(G3:G5) -> 0 | H6: =SUM(H3:H5) -> 1 | I6: =SUM(I3:I5) -> 0 | J6: =SUM(J3:J5) -> 0 | ... N6: =SUM(N3:N5) -> 2
B13: TCD issu du tableau en feuille Données
B14: Count of Risk levé avant PSA | D14: Years | E14: PSA - Date fin
D15: 2014 | J15: 2015 | M15: Grand Total
B16: Risk levé avant PSA2 | C16: Risk levé avant PSA | D16: févr | E16: avr | F16: juin | G16: juil | H16: sept | I16: déc | J16: janv | K16: févr | L16: mars
B17: Risques non levés | D17: 1 | E17: 2 | G17: 1 | I17: 1 | J17: 1 | K17: 1 | L17: 2 | M17: 9
B18: 1 | E18: 4 | F18: 1 | G18: 2 | J18: 1 | K18: 1 | M18: 9
B19: 1.5 | H19: 1 | M19: 1
B20: Pas de risque | D20: 1 | E20: 4 | F20: 2 | G20: 1 | M20: 8
B21: Grand Total | D21: 2 | E21: 10 | F21: 3 | G21: 4 | H21: 1 | I21: 1 | J21: 2 | K21: 2 | L21: 2 | M21: 27
