Workbook

Sheet Données
AQ1: PSA - Date fin | AR1: PSB - Date fin | AS1: RU - Date fin | AT1: RdP - Date - Lancement projet | AU1: RdP - Statut - Lancement projet | AV1: RdP - Date - Lancement EO | AW1: RdP - Statut - Lancement EO | AX1: RdP - Date - Lancement RO | AY1: RdP - Statut - Lancement RO | AZ1: RdP - Date - Lancement PSA | BA1: RdP - Statut - Lancement PSA | BB1: RdP - Date - Bilan PSA | BC1: RdP - Statut - Bilan PSA | BD1: RdP - Date - Bilan PSB | BE1: RdP - Statut - Bilan PSB | BF1: RdP - Date - Bilan RU | BG1: RdP - Statut - Bilan RU | BH1: LP - Nb K1 | BI1: LP - Nb K10 | BJ1: LP - Nb K50 | BK1: LP - Nb K200 | BL1: DPP - Nb K1 | BM1: DPP - Nb K10 | BN1: DPP - Nb K50 | BO1: DPP - Nb K200 | BP1: PI - Nb K1 | BQ1: PI - Nb K10 | BR1: PI - Nb K50 | BS1: PI - Nb K200 | BT1: RO - Nb K1 | BU1: RO - Nb K10 | BV1: RO - Nb K50 | BW1: RO - Nb K200 | BX1: PSA - Nb K1 | BY1: PSA - Nb K10 | BZ1: PSA - Nb K50 | CA1: PSA - Nb K200 | CB1: Risk max avant PSA | CC1: Risk PSA | CD1: Risk levé avant PSA
BH2: 0 | BI2: 1 | BJ2: 0 | BK2: 0 | BP2: 1 | BQ2: 1 | BR2: 0 | BS2: 0 | BX2: 0 | BY2: 0 | BZ2: 0 | CA2: 0 | CB2: =MAX(SUM(BH2:BK2),SUM(BL2:BO2),SUM(BP2:BS2),SUM(BT2:BW2)) -> 2 | CC2: =SUM(BX2:CA2) -> 0 | CD2: =IF(AND(CC2=0,CB2>0),1,IF(AND(CC2=0,CB2=0),"Pas de risque",CC2/CB2)) -> 1
BH3: 0 | BI3: 0 | BJ3: 0 | BK3: 0 | BL3: 0 | BM3: 0 | BN3: 0 | BO3: 0 | BT3: 0 | BU3: 0 | BV3: 0 | BW3: 0 | CB3: =MAX(SUM(BH3:BK3),SUM(BL3:BO3),SUM(BP3:BS3),SUM(BT3:BW3)) -> 0 | CC3: =SUM(BX3:CA3) -> 0 | CD3: =IF(AND(CC3=0,CB3>0),1,IF(AND(CC3=0,CB3=0),"Pas de risque",CC3/CB3)) -> Pas de risque
AQ4: 41817.359 | BH4: 0 | BI4: 0 | BJ4: 0 | BK4: 0 | BL4: 0 | BM4: 0 | BN4: 0 | BO4: 0 | BT4: 0 | BU4: 0 | BV4: 0 | BW4: 0 | BX4: 0 | BY4: 0 | BZ4: 0 | CA4: 0 | CB4: =MAX(SUM(BH4:BK4),SUM(BL4:BO4),SUM(BP4:BS4),SUM(BT4:BW4)) -> 0 | CC4: =SUM(BX4:CA4) -> 0 | CD4: =IFERROR(IF(AND(CC4=0,CB4>0),1,IF(AND(CC4=0,CB4=0),"Pas de risque",CC4/CB4)),"100%") -> Pas de risque
BH5: 0 | BI5: 0 | BJ5: 0 | BK5: 0 | BL5: 0 | BM5: 0 | BN5: 0 | BO5: 0 | BT5: 0 | BU5: 0 | BV5: 0 | BW5: 0 | CB5: =MAX(SUM(BH5:BK5),SUM(BL5:BO5),SUM(BP5:BS5),SUM(BT5:BW5)) -> 0 | CC5: =SUM(BX5:CA5) -> 0 | CD5: =IF(AND(CC5=0,CB5>0),1,IF(AND(CC5=0,CB5=0),"Pas de risque",CC5/CB5)) -> Pas de risque
AQ6: 41817.36 | BH6: 0 | BI6: 0 | BJ6: 0 | BK6: 0 | BL6: 0 | BM6: 0 | BN6: 0 | BO6: 0 | BT6: 0 | BU6: 0 | BV6: 0 | BW6: 0 | BX6: 0 | BY6: 0 | BZ6: 0 | CA6: 0 | CB6: =MAX(SUM(BH6:BK6),SUM(BL6:BO6),SUM(BP6:BS6),SUM(BT6:BW6)) -> 0 | CC6: =SUM(BX6:CA6) -> 0 | CD6: =IFERROR(IF(AND(CC6=0,CB6>0),1,IF(AND(CC6=0,CB6=0),"Pas de risque",CC6/CB6)),"100%") -> Pas de risque
AQ7: 41754.343 | BH7: 0 | BI7: 0 | BJ7: 0 | BK7: 0 | BL7: 0 | BM7: 0 | BN7: 0 | BO7: 0 | BT7: 0 | BU7: 0 | BV7: 0 | BW7: 0 | BX7: 0 | BY7: 0 | BZ7: 0 | CA7: 0 | CB7: =MAX(SUM(BH7:BK7),SUM(BL7:BO7),SUM(BP7:BS7),SUM(BT7:BW7)) -> 0 | CC7: =SUM(BX7:CA7) -> 0 | CD7: =IFERROR(IF(AND(CC7=0,CB7>0),1,IF(AND(CC7=0,CB7=0),"Pas de risque",CC7/CB7)),"100%") -> Pas de risque
AQ8: 41754.352 | BH8: 0 | BI8: 0 | BJ8: 0 | BK8: 0 | BP8: 0 | BQ8: 0 | BR8: 0 | BS8: 0 | BX8: 0 | BY8: 0 | BZ8: 0 | CA8: 0 | CB8: =MAX(SUM(BH8:BK8),SUM(BL8:BO8),SUM(BP8:BS8),SUM(BT8:BW8)) -> 0 | CC8: =SUM(BX8:CA8) -> 0 | CD8: =IFERROR(IF(AND(CC8=0,CB8>0),1,IF(AND(CC8=0,CB8=0),"Pas de risque",CC8/CB8)),"100%") -> Pas de risque
BH9: 0 | BI9: 0 | BJ9: 0 | BK9: 0 | BL9: 0 | BM9: 0 | BN9: 0 | BO9: 0 | BT9: 0 | BU9: 0 | BV9: 0 | BW9: 0 | CB9: =MAX(SUM(BH9:BK9),SUM(BL9:BO9),SUM(BP9:BS9),SUM(BT9:BW9)) -> 0 | CC9: =SUM(BX9:CA9) -> 0 | CD9: =IF(AND(CC9=0,CB9>0),1,IF(AND(CC9=0,CB9=0),"Pas de risque",CC9/CB9)) -> Pas de risque
AQ10: 41887.44 | BH10: 0 | BI10: 0 | BJ10: 0 | BK10: 0 | BP10: 2 | BQ10: 0 | BR10: 0 | BS10: 0 | BT10: 0 | BU10: 4 | BV10: 0 | BW10: 0 | BX10: 6 | BY10: 0 | BZ10: 0 | CA10: 0 | CB10: =MAX(SUM(BH10:BK10),SUM(BL10:BO10),SUM(BP10:BS10),SUM(BT10:BW10)) -> 4 | CC10: =SUM(BX10:CA10) -> 6 | CD10: =IFERROR(IF(AND(CC10=0,CB10>0),1,IF(AND(CC10=0,CB10=0),"Pas de risque",CC10/CB10)),"100%") -> 1.5
BH11: 0 | BI11: 0 | BJ11: 0 | BK11: 0 | BL11: 0 | BM11: 0 | BN11: 0 | BO11: 0 | BT11: 0 | BU11: 0 | BV11: 0 | BW11: 0 | CB11: =MAX(SUM(BH11:BK11),SUM(BL11:BO11),SUM(BP11:BS11),SUM(BT11:BW11)) -> 0 | CC11: =SUM(BX11:CA11) -> 0 | CD11: =IF(AND(CC11=0,CB11>0),1,IF(AND(CC11=0,CB11=0),"Pas de risque",CC11/CB11)) -> Pas de risque
BH12: 0 | BI12: 2 | BJ12: 1 | BK12: 0 | BP12: 2 | BQ12: 1 | BR12: 0 | BS12: 0 | BX12: 0 | BY12: 0 | BZ12: 0 | CA12: 0 | CB12: =MAX(SUM(BH12:BK12),SUM(BL12:BO12),SUM(BP12:BS12),SUM(BT12:BW12)) -> 3 | CC12: =SUM(BX12:CA12) -> 0 | CD12: =IF(AND(CC12=0,CB12>0),1,IF(AND(CC12=0,CB12=0),"Pas de risque",CC12/CB12)) -> 1
BH13: 2 | BI13: 1 | BJ13: 0 | BK13: 0 | BP13: 5 | BQ13: 2 | BR13: 0 | BS13: 0 | BX13: 0 | BY13: 0 | BZ13: 0 | CA13: 0 | CB13: =MAX(SUM(BH13:BK13),SUM(BL13:BO13),SUM(BP13:BS13),SUM(BT13:BW13)) -> 7 | CC13: =SUM(BX13:CA13) -> 0 | CD13: =IF(AND(CC13=0,CB13>0),1,IF(AND(CC13=0,CB13=0),"Pas de risque",CC13/CB13)) -> 1
BH14: 2 | BI14: 21 | BJ14: 6 | BK14: 0 | BP14: 1 | BQ14: 7 | BR14: 6 | BS14: 0 | BX14: 0 | BY14: 0 | BZ14: 0 | CA14: 0 | CB14: =MAX(SUM(BH14:BK14),SUM(BL14:BO14),SUM(BP14:BS14),SUM(BT14:BW14)) -> 29 | CC14: =SUM(BX14:CA14) -> 0 | CD14: =IF(AND(CC14=0,CB14>0),1,IF(AND(CC14=0,CB14=0),"Pas de risque",CC14/CB14)) -> 1
BH15: 7 | BI15: 3 | BJ15: 5 | BK15: 0 | BP15: 2 | BQ15: 9 | BR15: 4 | BS15: 0 | BX15: 0 | BY15: 0 | BZ15: 0 | CA15: 0 | CB15: =MAX(SUM(BH15:BK15),SUM(BL15:BO15),SUM(BP15:BS15),SUM(BT15:BW15)) -> 15 | CC15: =SUM(BX15:CA15) -> 0 | CD15: =IF(AND(CC15=0,CB15>0),1,IF(AND(CC15=0,CB15=0),"Pas de risque",CC15/CB15)) -> 1
BH16: 0 | BI16: 0 | BJ16: 0 | BK16: 0 | BP16: 1 | BQ16: 0 | BR16: 0 | BS16: 0 | BX16: 0 | BY16: 0 | BZ16: 0 | CA16: 0 | CB16: =MAX(SUM(BH16:BK16),SUM(BL16:BO16),SUM(BP16:BS16),SUM(BT16:BW16)) -> 1 | CC16: =SUM(BX16:CA16) -> 0 | CD16: =IF(AND(CC16=0,CB16>0),1,IF(AND(CC16=0,CB16=0),"Pas de risque",CC16/CB16)) -> 1
BH17: 1 | BI17: 1 | BJ17: 4 | BK17: 0 | BP17: 1 | BQ17: 2 | BR17: 3 | BS17: 0 | BX17: 0 | BY17: 0 | BZ17: 0 | CA17: 0 | CB17: =MAX(SUM(BH17:BK17),SUM(BL17:BO17),SUM(BP17:BS17),SUM(BT17:BW17)) -> 6 | CC17: =SUM(BX17:CA17) -> 0 | CD17: =IF(AND(CC17=0,CB17>0),1,IF(AND(CC17=0,CB17=0),"Pas de risque",CC17/CB17)) -> 1
AQ18: 41754.432 | BH18: 0 | BI18: 8 | BJ18: 7 | BK18: 2 | BP18: 3 | BQ18: 5 | BR18: 1 | BS18: 0 | BX18: 3 | BY18: 8 | BZ18: 0 | CA18: 0 | CB18: =MAX(SUM(BH18:BK18),SUM(BL18:BO18),SUM(BP18:BS18),SUM(BT18:BW18)) -> 17 | CC18: =SUM(BX18:CA18) -> 11 | CD18: =IFERROR(IF(AND(CC18=0,CB18>0),1,IF(AND(CC18=0,CB18=0),"Pas de risque",CC18/CB18)),"100%") -> 0.64705882
BH19: 2 | BI19: 2 | BJ19: 3 | BK19: 0 | BP19: 1 | BQ19: 1 | BR19: 0 | BS19: 0 | BX19: 0 | BY19: 0 | BZ19: 0 | CA19: 0 | CB19: =MAX(SUM(BH19:BK19),SUM(BL19:BO19),SUM(BP19:BS19),SUM(BT19:BW19)) -> 7 | CC19: =SUM(BX19:CA19) -> 0 | CD19: =IF(AND(CC19=0,CB19>0),1,IF(AND(CC19=0,CB19=0),"Pas de risque",CC19/CB19)) -> 1
BH20: 4 | BI20: 2 | BJ20: 1 | BK20: 0 | BP20: 9 | BQ20: 3 | BR20: 1 | BS20: 0 | BX20: 0 | BY20: 0 | BZ20: 0 | CA20: 0 | CB20: =MAX(SUM(BH20:BK20),SUM(BL20:BO20),SUM(BP20:BS20),SUM(BT20:BW20)) -> 13 | CC20: =SUM(BX20:CA20) -> 0 | CD20: =IF(AND(CC20=0,CB20>0),1,IF(AND(CC20=0,CB20=0),"Pas de risque",CC20/CB20)) -> 1
BH21: 5 | BI21: 0 | BJ21: 4 | BK21: 0 | BP21: 3 | BQ21: 4 | BR21: 1 | BS21: 0 | BX21: 0 | BY21: 0 | BZ21: 0 | CA21: 0 | CB21: =MAX(SUM(BH21:BK21),SUM(BL21:BO21),SUM(BP21:BS21),SUM(BT21:BW21)) -> 9 | CC21: =SUM(BX21:CA21) -> 0 | CD21: =IF(AND(CC21=0,CB21>0),1,IF(AND(CC21=0,CB21=0),"Pas de risque",CC21/CB21)) -> 1
BH22: 5 | BI22: 0 | BJ22: 0 | BK22: 0 | BP22: 0 | BQ22: 0 | BR22: 0 | BS22: 0 | BX22: 0 | BY22: 0 | BZ22: 0 | CA22: 0 | CB22: =MAX(SUM(BH22:BK22),SUM(BL22:BO22),SUM(BP22:BS22),SUM(BT22:BW22)) -> 5 | CC22: =SUM(BX22:CA22) -> 0 | CD22: =IF(AND(CC22=0,CB22>0),1,IF(AND(CC22=0,CB22=0),"Pas de risque",CC22/CB22)) -> 1
BH23: 6 | BI23: 8 | BJ23: 8 | BK23: 0 | BP23: 5 | BQ23: 8 | BR23: 1 | BS23: 0 | BX23: 0 | BY23: 0 | BZ23: 0 | CA23: 0 | CB23: =MAX(SUM(BH23:BK23),SUM(BL23:BO23),SUM(BP23:BS23),SUM(BT23:BW23)) -> 22 | CC23: =SUM(BX23:CA23) -> 0 | CD23: =IF(AND(CC23=0,CB23>0),1,IF(AND(CC23=0,CB23=0),"Pas de risque",CC23/CB23)) -> 1
BH24: 2 | BI24: 5 | BJ24: 5 | BK24: 0 | BP24: 0 | BQ24: 1 | BR24: 4 | BS24: 0 | BX24: 0 | BY24: 0 | BZ24: 0 | CA24: 0 | CB24: =MAX(SUM(BH24:BK24),SUM(BL24:BO24),SUM(BP24:BS24),SUM(BT24:BW24)) -> 12 | CC24: =SUM(BX24:CA24) -> 0 | CD24: =IF(AND(CC24=0,CB24>0),1,IF(AND(CC24=0,CB24=0),"Pas de risque",CC24/CB24)) -> 1
BH25: 1 | BI25: 4 | BJ25: 3 | BK25: 0 | BP25: 1 | BQ25: 2 | BR25: 1 | BS25: 0 | BX25: 0 | BY25: 0 | BZ25: 0 | CA25: 0 | CB25: =MAX(SUM(BH25:BK25),SUM(BL25:BO25),SUM(BP25:BS25),SUM(BT25:BW25)) -> 8 | CC25: =SUM(BX25:CA25) -> 0 | CD25: =IF(AND(CC25=0,CB25>0),1,IF(AND(CC25=0,CB25=0),"Pas de risque",CC25/CB25)) -> 1
AQ26: 42062.385 | BH26: 4 | BI26: 5 | BJ26: 0 | BK26: 0 | BP26: 0 | BQ26: 1 | BR26: 0 | BS26: 0 | BX26: 0 | BY26: 0 | BZ26: 0 | CA26: 0 | CB26: =MAX(SUM(BH26:BK26),SUM(BL26:BO26),SUM(BP26:BS26),SUM(BT26:BW26)) -> 9 | CC26: =SUM(BX26:CA26) -> 0 | CD26: =IFERROR(IF(AND(CC26=0,CB26>0),1,IF(AND(CC26=0,CB26=0),"Pas de risque",CC26/CB26)),"100%") -> 1
BH27: 0 | BI27: 20 | BJ27: 21 | BK27: 0 | BP27: 11 | BQ27: 25 | BR27: 7 | BS27: 0 | BX27: 0 | BY27: 0 | BZ27: 0 | CA27: 0 | CB27: =MAX(SUM(BH27:BK27),SUM(BL27:BO27),SUM(BP27:BS27),SUM(BT27:BW27)) -> 43 | CC27: =SUM(BX27:CA27) -> 0 | CD27: =IF(AND(CC27=0,CB27>0),1,IF(AND(CC27=0,CB27=0),"Pas de risque",CC27/CB27)) -> 1
BH28: 0 | BI28: 0 | BJ28: 0 | BK28: 0 | BL28: 0 | BM28: 0 | BN28: 0 | BO28: 0 | CB28: =MAX(SUM(BH28:BK28),SUM(BL28:BO28),SUM(BP28:BS28),SUM(BT28:BW28)) -> 0 | CC28: =SUM(BX28:CA28) -> 0 | CD28: =IF(AND(CC28=0,CB28>0),1,IF(AND(CC28=0,CB28=0),"Pas de risque",CC28/CB28)) -> Pas de risque
AQ29: 41845.345 | BH29: 0 | BI29: 0 | BJ29: 0 | BK29: 0 | BP29: 13 | BQ29: 7 | BR29: 3 | BS29: 0 | BX29: 0 | BY29: 0 | BZ29: 1 | CA29: 0 | CB29: =MAX(SUM(BH29:BK29),SUM(BL29:BO29),SUM(BP29:BS29),SUM(BT29:BW29)) -> 23 | CC29: =SUM(BX29:CA29) -> 1 | CD29: =IFERROR(IF(AND(CC29=0,CB29>0),1,IF(AND(CC29=0,CB29=0),"Pas de risque",CC29/CB29)),"100%") -> 0.043478261
AQ30: 41845.345 | BH30: 0 | BI30: 0 | BJ30: 1 | BK30: 0 | BP30: 0 | BQ30: 0 | BR30: 0 | BS30: 0 | BX30: 0 | BY30: 0 | BZ30: 0 | CA30: 0 | CB30: =MAX(SUM(BH30:BK30),SUM(BL30:BO30),SUM(BP30:BS30),SUM(BT30:BW30)) -> 1 | CC30: =SUM(BX30:CA30) -> 0 | CD30: =IFERROR(IF(AND(CC30=0,CB30>0),1,IF(AND(CC30=0,CB30=0),"Pas de risque",CC30/CB30)),"100%") -> 1
AQ31: 41845.345 | BH31: 0 | BI31: 0 | BJ31: 0 | BK31: 0 | BP31: 0 | BQ31: 0 | BR31: 0 | BS31: 0 | BX31: 0 | BY31: 0 | BZ31: 0 | CA31: 0 | CB31: =MAX(SUM(BH31:BK31),SUM(BL31:BO31),SUM(BP31:BS31),SUM(BT31:BW31)) -> 0 | CC31: =SUM(BX31:CA31) -> 0 | CD31: =IFERROR(IF(AND(CC31=0,CB31>0),1,IF(AND(CC31=0,CB31=0),"Pas de risque",CC31/CB31)),"100%") -> Pas de risque
AQ32: 41845.345 | BH32: 0 | BI32: 0 | BJ32: 2 | BK32: 0 | BP32: 0 | BQ32: 0 | BR32: 0 | BS32: 0 | BX32: 0 | BY32: 0 | BZ32: 0 | CA32: 0 | CB32: =MAX(SUM(BH32:BK32),SUM(BL32:BO32),SUM(BP32:BS32),SUM(BT32:BW32)) -> 2 | CC32: =SUM(BX32:CA32) -> 0 | CD32: =IFERROR(IF(AND(CC32=0,CB32>0),1,IF(AND(CC32=0,CB32=0),"Pas de risque",CC32/CB32)),"100%") -> 1
BH33: 0 | BI33: 0 | BJ33: 0 | BK33: 0 | BL33: 0 | BM33: 0 | BN33: 0 | BO33: 0 | CB33: =MAX(SUM(BH33:BK33),SUM(BL33:BO33),SUM(BP33:BS33),SUM(BT33:BW33)) -> 0 | CC33: =SUM(BX33:CA33) -> 0 | CD33: =IF(AND(CC33=0,CB33>0),1,IF(AND(CC33=0,CB33=0),"Pas de risque",CC33/CB33)) -> Pas de risque
BH34: 0 | BI34: 0 | BJ34: 0 | BK34: 0 | BL34: 0 | BM34: 0 | BN34: 0 | BO34: 0 | CB34: =MAX(SUM(BH34:BK34),SUM(BL34:BO34),SUM(BP34:BS34),SUM(BT34:BW34)) -> 0 | CC34: =SUM(BX34:CA34) -> 0 | CD34: =IF(AND(CC34=0,CB34>0),1,IF(AND(CC34=0,CB34=0),"Pas de risque",CC34/CB34)) -> Pas de risque
BH35: 0 | BI35: 0 | BJ35: 0 | BK35: 0 | BL35: 0 | BM35: 0 | BN35: 0 | BO35: 0 | CB35: =MAX(SUM(BH35:BK35),SUM(BL35:BO35),SUM(BP35:BS35),SUM(BT35:BW35)) -> 0 | CC35: =SUM(BX35:CA35) -> 0 | CD35: =IF(AND(CC35=0,CB35>0),1,IF(AND(CC35=0,CB35=0),"Pas de risque",CC35/CB35)) -> Pas de risque
BH36: 0 | BI36: 0 | BJ36: 0 | BK36: 0 | BL36: 0 | BM36: 0 | BN36: 0 | BO36: 0 | CB36: =MAX(SUM(BH36:BK36),SUM(BL36:BO36),SUM(BP36:BS36),SUM(BT36:BW36)) -> 0 | CC36: =SUM(BX36:CA36) -> 0 | CD36: =IF(AND(CC36=0,CB36>0),1,IF(AND(CC36=0,CB36=0),"Pas de risque",CC36/CB36)) -> Pas de risque
BH37: 0 | BI37: 0 | BJ37: 0 | BK37: 0 | BL37: 0 | BM37: 0 | BN37: 0 | BO37: 0 | CB37: =MAX(SUM(BH37:BK37),SUM(BL37:BO37),SUM(BP37:BS37),SUM(BT37:BW37)) -> 0 | CC37: =SUM(BX37:CA37) -> 0 | CD37: =IF(AND(CC37=0,CB37>0),1,IF(AND(CC37=0,CB37=0),"Pas de risque",CC37/CB37)) -> Pas de risque
BH38: 0 | BI38: 0 | BJ38: 0 | BK38: 0 | BL38: 0 | BM38: 0 | BN38: 0 | BO38: 0 | CB38: =MAX(SUM(BH38:BK38),SUM(BL38:BO38),SUM(BP38:BS38),SUM(BT38:BW38)) -> 0 | CC38: =SUM(BX38:CA38) -> 0 | CD38: =IF(AND(CC38=0,CB38>0),1,IF(AND(CC38=0,CB38=0),"Pas de risque",CC38/CB38)) -> Pas de risque
AQ39: 41810.373 | BH39: 1 | BI39: 1 | BJ39: 0 | BK39: 0 | BP39: 2 | BQ39: 0 | BR39: 1 | BS39: 0 | BX39: 0 | BY39: 0 | BZ39: 0 | CA39: 0 | CB39: =MAX(SUM(BH39:BK39),SUM(BL39:BO39),SUM(BP39:BS39),SUM(BT39:BW39)) -> 3 | CC39: =SUM(BX39:CA39) -> 0 | CD39: =IFERROR(IF(AND(CC39=0,CB39>0),1,IF(AND(CC39=0,CB39=0),"Pas de risque",CC39/CB39)),"100%") -> 1
AQ40: 41754.433 | BH40: 2 | BI40: 6 | BJ40: 1 | BK40: 0 | BP40: 0 | BQ40: 0 | BR40: 1 | BS40: 0 | BX40: 0 | BY40: 0 | BZ40: 0 | CA40: 0 | CB40: =MAX(SUM(BH40:BK40),SUM(BL40:BO40),SUM(BP40:BS40),SUM(BT40:BW40)) -> 9 | CC40: =SUM(BX40:CA40) -> 0 | CD40: =IFERROR(IF(AND(CC40=0,CB40>0),1,IF(AND(CC40=0,CB40=0),"Pas de risque",CC40/CB40)),"100%") -> 1
...

Sheet Base équivalente au TCD
A1: PSA - Date fin | B1: PSB - Date fin | C1: RU - Date fin | D1: RdP - Date - Lancement projet | E1: RdP - Statut - Lancement projet | F1: RdP - Date - Lancement EO | G1: RdP - Statut - Lancement EO | H1: RdP - Date - Lancement RO | I1: RdP - Statut - Lancement RO | J1: RdP - Date - Lancement PSA | K1: RdP - Statut - Lancement PSA | L1: RdP - Date - Bilan PSA | M1: RdP - Statut - Bilan PSA | N1: RdP - Date - Bilan PSB | O1: RdP - Statut - Bilan PSB | P1: RdP - Date - Bilan RU | Q1: RdP - Statut - Bilan RU | R1: LP - Nb K1 | S1: LP - Nb K10 | T1: LP - Nb K50 | U1: LP - Nb K200 | V1: DPP - Nb K1 | W1: DPP - Nb K10 | X1: DPP - Nb K50 | Y1: DPP - Nb K200 | Z1: PI - Nb K1 | AA1: PI - Nb K10 | AB1: PI - Nb K50 | AC1: PI - Nb K200 | AD1: RO - Nb K1 | AE1: RO - Nb K10 | AF1: RO - Nb K50 | AG1: RO - Nb K200 | AH1: PSA - Nb K1 | AI1: PSA - Nb K10 | AJ1: PSA - Nb K50 | AK1: PSA - Nb K200 | AL1: Risk max avant PSA | AM1: Risk PSA | AN1: Risk levé avant PSA
A2: 41845.345 | R2: 0 | S2: 0 | T2: 0 | U2: 0 | Z2: 13 | AA2: 7 | AB2: 3 | AC2: 0 | AH2: 0 | AI2: 0 | AJ2: 1 | AK2: 0 | AL2: 23 | AM2: 1 | AN2: 0.043478261
A3: 42069.429 | R3: 0 | S3: 0 | T3: 0 | U3: 0 | V3: 2 | W3: 18 | X3: 2 | Y3: 0 | Z3: 5 | AA3: 12 | AB3: 2 | AC3: 0 | AD3: 1 | AE3: 2 | AF3: 1 | AG3: 0 | AH3: 1 | AI3: 0 | AJ3: 0 | AK3: 0 | AL3: 22 | AM3: 1 | AN3: 0.045454545
A4: 42041.41 | R4: 7 | S4: 10 | T4: 4 | U4: 0 | Z4: 4 | AA4: 27 | AB4: 1 | AC4: 0 | AH4: 2 | AI4: 1 | AJ4: 0 | AK4: 0 | AL4: 32 | AM4: 3 | AN4: 0.09375
A5: 42013.411 | R5: 2 | S5: 19 | T5: 4 | U5: 0 | Z5: 2 | AA5: 48 | AB5: 5 | AC5: 0 | AD5: 1 | AE5: 2 | AF5: 1 | AG5: 0 | AH5: 6 | AI5: 6 | AJ5: 1 | AK5: 0 | AL5: 55 | AM5: 13 | AN5: 0.23636364
A6: 41691.409 | R6: 0 | S6: 2 | T6: 2 | U6: 0 | Z6: 2 | AA6: 0 | AB6: 6 | AC6: 0 | AH6: 0 | AI6: 2 | AJ6: 0 | AK6: 0 | AL6: 8 | AM6: 2 | AN6: 0.25
A7: 41740.392 | R7: 0 | S7: 0 | T7: 0 | U7: 0 | Z7: 5 | AA7: 11 | AB7: 7 | AC7: 0 | AH7: 4 | AI7: 1 | AJ7: 1 | AK7: 0 | AL7: 23 | AM7: 6 | AN7: 0.26086957
A8: 41992.411 | R8: 0 | S8: 2 | T8: 2 | U8: 0 | Z8: 0 | AA8: 1 | AB8: 0 | AC8: 0 | AH8: 1 | AI8: 1 | AJ8: 0 | AK8: 0 | AL8: 4 | AM8: 2 | AN8: 0.5
A9: 42083.429 | R9: 0 | S9: 4 | T9: 4 | U9: 0 | Z9: 4 | AA9: 12 | AB9: 11 | AC9: 0 | AH9: 12 | AI9: 2 | AJ9: 2 | AK9: 0 | AL9: 27 | AM9: 16 | AN9: 0.59259259
A10: 41754.432 | R10: 0 | S10: 8 | T10: 7 | U10: 2 | Z10: 3 | AA10: 5 | AB10: 1 | AC10: 0 | AH10: 3 | AI10: 8 | AJ10: 0 | AK10: 0 | AL10: 17 | AM10: 11 | AN10: 0.64705882
A11: 42013.411 | R11: 0 | S11: 0 | T11: 0 | U11: 0 | Z11: 1 | AA11: 0 | AB11: 0 | AC11: 0 | AH11: 0 | AI11: 0 | AJ11: 0 | AK11: 0 | AL11: 1 | AM11: 0 | AN11: 1
A12: 42062.385 | R12: 4 | S12: 5 | T12: 0 | U12: 0 | Z12: 0 | AA12: 1 | AB12: 0 | AC12: 0 | AH12: 0 | AI12: 0 | AJ12: 0 | AK12: 0 | AL12: 9 | AM12: 0 | AN12: 1
A13: 41754.357 | R13: 2 | S13: 0 | T13: 0 | U13: 0 | Z13: 2 | AA13: 2 | AB13: 0 | AC13: 0 | AH13: 0 | AI13: 0 | AJ13: 0 | AK13: 0 | AL13: 4 | AM13: 0 | AN13: 1
A14: 41754.432 | R14: 0 | S14: 0 | T14: 0 | U14: 0 | Z14: 3 | AA14: 8 | AB14: 0 | AC14: 0 | AH14: 0 | AI14: 0 | AJ14: 0 | AK14: 0 | AL14: 11 | AM14: 0 | AN14: 1
A15: 41754.364 | R15: 0 | S15: 2 | T15: 1 | U15: 0 | Z15: 3 | AA15: 7 | AB15: 1 | AC15: 0 | AH15: 0 | AI15: 0 | AJ15: 0 | AK15: 0 | AL15: 11 | AM15: 0 | AN15: 1
A16: 41754.433 | R16: 2 | S16: 6 | T16: 1 | U16: 0 | Z16: 0 | AA16: 0 | AB16: 1 | AC16: 0 | AH16: 0 | AI16: 0 | AJ16: 0 | AK16: 0 | AL16: 9 | AM16: 0 | AN16: 1
A17: 41810.373 | R17: 1 | S17: 1 | T17: 0 | U17: 0 | Z17: 2 | AA17: 0 | AB17: 1 | AC17: 0 | AH17: 0 | AI17: 0 | AJ17: 0 | AK17: 0 | AL17: 3 | AM17: 0 | AN17: 1
... A19: 41845.345 | R19: 0 | S19: 0 | T19: 1 | U19: 0 | Z19: 0 | AA19: 0 | AB19: 0 | AC19: 0 | AH19: 0 | AI19: 0 | AJ19: 0 | AK19: 0 | AL19: 1 | AM19: 0 | AN19: 1
A20: 41887.44 | R20: 0 | S20: 0 | T20: 0 | U20: 0 | Z20: 2 | AA20: 0 | AB20: 0 | AC20: 0 | AD20: 0 | AE20: 4 | AF20: 0 | AG20: 0 | AH20: 6 | AI20: 0 | AJ20: 0 | AK20: 0 | AL20: 4 | AM20: 6 | AN20: 1.5
A21: 41675 | R21: 0 | S21: 0 | T21: 0 | U21: 0 | AL21: 0 | AM21: 0 | AN21: Pas de risque
A22: 41754.391 | R22: 0 | S22: 0 | T22: 0 | U22: 0 | V22: 0 | W22: 0 | X22: 0 | Y22: 0 | AD22: 0 | AE22: 0 | AF22: 0 | AG22: 0 | AH22: 0 | AI22: 0 | AJ22: 0 | AK22: 0 | AL22: 0 | AM22: 0 | AN22: Pas de risque
A23: 41754.343 | R23: 0 | S23: 0 | T23: 0 | U23: 0 | V23: 0 | W23: 0 | X23: 0 | Y23: 0 | AD23: 0 | AE23: 0 | AF23: 0 | AG23: 0 | AH23: 0 | AI23: 0 | AJ23: 0 | AK23: 0 | AL23: 0 | AM23: 0 | AN23: Pas de risque
A24: 41754.352 | R24: 0 | S24: 0 | T24: 0 | U24: 0 | Z24: 0 | AA24: 0 | AB24: 0 | AC24: 0 | AH24: 0 | AI24: 0 | AJ24: 0 | AK24: 0 | AL24: 0 | AM24: 0 | AN24: Pas de risque
A25: 41740.393 | R25: 0 | S25: 0 | T25: 0 | U25: 0 | Z25: 0 | AA25: 0 | AB25: 0 | AC25: 0 | AH25: 0 | AI25: 0 | AJ25: 0 | AK25: 0 | AL25: 0 | AM25: 0 | AN25: Pas de risque
A26: 41817.359 | R26: 0 | S26: 0 | T26: 0 | U26: 0 | V26: 0 | W26: 0 | X26: 0 | Y26: 0 | AD26: 0 | AE26: 0 | AF26: 0 | AG26: 0 | AH26: 0 | AI26: 0 | AJ26: 0 | AK26: 0 | AL26: 0 | AM26: 0 | AN26: Pas de risque
A27: 41817.36 | R27: 0 | S27: 0 | T27: 0 | U27: 0 | V27: 0 | W27: 0 | X27: 0 | Y27: 0 | AD27: 0 | AE27: 0 | AF27: 0 | AG27: 0 | AH27: 0 | AI27: 0 | AJ27: 0 | AK27: 0 | AL27: 0 | AM27: 0 | AN27: Pas de risque
A28: 41845.345 | R28: 0 | S28: 0 | T28: 0 | U28: 0 | Z28: 0 | AA28: 0 | AB28: 0 | AC28: 0 | AH28: 0 | AI28: 0 | AJ28: 0 | AK28: 0 | AL28: 0 | AM28: 0 | AN28: Pas de risque

Sheet TCD
A1: FY | B1: 2014 | L1: Ajustement pour Année Fiscale
C2: =DATE($B$1,4,1) -> 41730 | D2: =DATE($B$1,MONTH(C2)+1,1) -> 41760 | E2: =DATE($B$1,MONTH(D2)+1,1) -> 41791 | F2: =DATE($B$1,MONTH(E2)+1,1) -> 41821 | G2: =DATE($B$1,MONTH(F2)+1,1) -> 41852 | H2: =DATE($B$1,MONTH(G2)+1,1) -> 41883 | I2: =DATE($B$1,MONTH(H2)+1,1) -> 41913 | J2: =DATE($B$1,MONTH(I2)+1,1) -> 41944 | K2: =DATE($B$1,MONTH(J2)+1,1) -> 41974 | L2: =DATE($B$1+1,MONTH(K2)+1,1) -> 42370 | M2: =DATE($B$1+1,MONTH(L2)+1,1) -> 42036 | N2: =DATE($B$1+1,MONTH(M2)+1,1) -> 42064
B3: Pas de risque | C3: =SUMPRODUCT(--(Données!$CD$4:$CD$923=$B3)*(YEAR(Données!$AQ$4:$AQ$923)=YEAR(B$2))*(MONTH(Données!$AQ$4:$AQ$923)=MONTH(C$2))) -> 0 | D3: =SUMPRODUCT(--(Données!$CD$4:$CD$923=$B3)*(YEAR(Données!$AQ$4:$AQ$923)=YEAR(C$2))*(MONTH(Données!$AQ$4:$AQ$923)=MONTH(D$2))) -> 0 | E3: =SUMPRODUCT(--(Données!$CD$4:$CD$923=$B3)*(YEAR(Données!$AQ$4:$AQ$923)=YEAR(D$2))*(MONTH(Données!$AQ$4:$AQ$923)=MONTH(E$2))) -> 2 | F3: =SUMPRODUCT(--(Données!$CD$4:$CD$923=$B3)*(YEAR(Données!$AQ$4:$AQ$923)=YEAR(E$2))*(MONTH(Données!$AQ$4:$AQ$923)=MONTH(F$2))) -> 1 | G3: =SUMPRODUCT(--(Données!$CD$4:$CD$923=$B3)*(YEAR(Données!$AQ$4:$AQ$923)=YEAR(F$2))*(MONTH(Données!$AQ$4:$AQ$923)=MONTH(G$2))) -> 0 | H3: =SUMPRODUCT(--(Données!$CD$4:$CD$923=$B3)*(YEAR(Données!$AQ$4:$AQ$923)=YEAR(G$2))*(MONTH(Données!$AQ$4:$AQ$923)=MONTH(H$2))) -> 0 | I3: =SUMPRODUCT(--(Données!$CD$4:$CD$923=$B3)*(YEAR(Données!$AQ$4:$AQ$923)=YEAR(H$2))*(MONTH(Données!$AQ$4:$AQ$923)=MONTH(I$2))) -> 0 | J3: =SUMPRODUCT(--(Données!$CD$4:$CD$923=$B3)*(YEAR(Données!$AQ$4:$AQ$923)=YEAR(I$2))*(MONTH(Données!$AQ$4:$AQ$923)=MONTH(J$2))) -> 0 | ... N3: =SUMPRODUCT(--(Données!$CD$4:$CD$923=$B3)*(YEAR(Données!$AQ$4:$AQ$923)=YEAR(M$2))*(MONTH(Données!$AQ$4:$AQ$923)=MONTH(N$2))) -> 0
B4: Risques non Levés | C4: =SUMPRODUCT(--(Données!$CD$4:$CD$923<=99%)*(YEAR(Données!$AQ$4:$AQ$923)=YEAR(C$2))*(MONTH(Données!$AQ$4:$AQ$923)=MONTH(C$2))) -> 2 | D4: =SUMPRODUCT(--(Données!$CD$4:$CD$923<=99%)*(YEAR(Données!$AQ$4:$AQ$923)=YEAR(D$2))*(MONTH(Données!$AQ$4:$AQ$923)=MONTH(D$2))) -> 0 | E4: =SUMPRODUCT(--(Données!$CD$4:$CD$923<=99%)*(YEAR(Données!$AQ$4:$AQ$923)=YEAR(E$2))*(MONTH(Données!$AQ$4:$AQ$923)=MONTH(E$2))) -> 0 | F4: =SUMPRODUCT(--(Données!$CD$4:$CD$923<=99%)*(YEAR(Données!$AQ$4:$AQ$923)=YEAR(F$2))*(MONTH(Données!$AQ$4:$AQ$923)=MONTH(F$2))) -> 1 | G4: =SUMPRODUCT(--(Données!$CD$4:$CD$923<=99%)*(YEAR(Données!$AQ$4:$AQ$923)=YEAR(G$2))*(MONTH(Données!$AQ$4:$AQ$923)=MONTH(G$2))) -> 0 | H4: =SUMPRODUCT(--(Données!$CD$4:$CD$923<=99%)*(YEAR(Données!$AQ$4:$AQ$923)=YEAR(H$2))*(MONTH(Données!$AQ$4:$AQ$923)=MONTH(H$2))) -> 0 | I4: =SUMPRODUCT(--(Données!$CD$4:$CD$923<=99%)*(YEAR(Données!$AQ$4:$AQ$923)=YEAR(I$2))*(MONTH(Données!$AQ$4:$AQ$923)=MONTH(I$2))) -> 0 | J4: =SUMPRODUCT(--(Données!$CD$4:$CD$923<=99%)*(YEAR(Données!$AQ$4:$AQ$923)=YEAR(J$2))*(MONTH(Données!$AQ$4:$AQ$923)=MONTH(J$2))) -> 0 | ... N4: =SUMPRODUCT(--(Données!$CD$4:$CD$923<=99%)*(YEAR(Données!$AQ$4:$AQ$923)=YEAR(N$2))*(MONTH(Données!$AQ$4:$AQ$923)=MONTH(N$2))) -> 2
B5: Risques Levés | C5: =SUMPRODUCT(--(Données!$CD$4:$CD$923<>"")*(YEAR(Données!$AQ$4:$AQ$923)=YEAR(C$2))*(MONTH(Données!$AQ$4:$AQ$923)=MONTH(C$2)))-SUM(C3:C4) -> 8 | D5: =SUMPRODUCT(--(Données!$CD$4:$CD$923<>"")*(YEAR(Données!$AQ$4:$AQ$923)=YEAR(D$2))*(MONTH(Données!$AQ$4:$AQ$923)=MONTH(D$2)))-SUM(D3:D4) -> 0 | E5: =SUMPRODUCT(--(Données!$CD$4:$CD$923<>"")*(YEAR(Données!$AQ$4:$AQ$923)=YEAR(E$2))*(MONTH(Données!$AQ$4:$AQ$923)=MONTH(E$2)))-SUM(E3:E4) -> 1 | F5: =SUMPRODUCT(--(Données!$CD$4:$CD$923<>"")*(YEAR(Données!$AQ$4:$AQ$923)=YEAR(F$2))*(MONTH(Données!$AQ$4:$AQ$923)=MONTH(F$2)))-SUM(F3:F4) -> 2 | G5: =SUMPRODUCT(--(Données!$CD$4:$CD$923<>"")*(YEAR(Données!$AQ$4:$AQ$923)=YEAR(G$2))*(MONTH(Données!$AQ$4:$AQ$923)=MONTH(G$2)))-SUM(G3:G4) -> 0 | H5: =SUMPRODUCT(--(Données!$CD$4:$CD$923<>"")*(YEAR(Données!$AQ$4:$AQ$923)=YEAR(H$2))*(MONTH(Données!$AQ$4:$AQ$923)=MONTH(H$2)))-SUM(H3:H4) -> 1 | I5: =SUMPRODUCT(--(Données!$CD$4:$CD$923<>"")*(YEAR(Données!$AQ$4:$AQ$923)=YEAR(I$2))*(MONTH(Données!$AQ$4:$AQ$923)=MONTH(I$2)))-SUM(I3:I4) -> 0 | J5: =SUMPRODUCT(--(Données!$CD$4:$CD$923<>"")*(YEAR(Données!$AQ$4:$AQ$923)=YEAR(J$2))*(MONTH(Données!$AQ$4:$AQ$923)=MONTH(J$2)))-SUM(J3:J4) -> 0 | ... N5: =SUMPRODUCT(--(Données!$CD$4:$CD$923<>"")*(YEAR(Données!$AQ$4:$AQ$923)=YEAR(N$2))*(MONTH(Données!$AQ$4:$AQ$923)=MONTH(N$2)))-SUM(N3:N4) -> 0
B6: TOTAL | C6: =SUM(C3:C5) -> 10 | D6: =SUM(D3:D5) -> 0 | E6: =SUM(E3:E5) -> 3 | F6: =SUM(F3:F5) -> 4 | G6: =SUM(G3:G5) -> 0 | H6: =SUM(H3:H5) -> 1 | I6: =SUM(I3:I5) -> 0 | J6: =SUM(J3:J5) -> 0 | ... N6: =SUM(N3:N5) -> 2
B13: TCD issu du tableau en feuille Données
B14: Count of Risk levé avant PSA | D14: Years | E14: PSA - Date fin
D15: 2014 | J15: 2015 | M15: Grand Total
B16: Risk levé avant PSA2 | C16: Risk levé avant PSA | D16: févr | E16: avr | F16: juin | G16: juil | H16: sept | I16: déc | J16: janv | K16: févr | L16: mars
B17: Risques non levés | D17: 1 | E17: 2 | G17: 1 | I17: 1 | J17: 1 | K17: 1 | L17: 2 | M17: 9
B18: 1 | E18: 4 | F18: 1 | G18: 2 | J18: 1 | K18: 1 | M18: 9
B19: 1.5 | H19: 1 | M19: 1
B20: Pas de risque | D20: 1 | E20: 4 | F20: 2 | G20: 1 | M20: 8
B21: Grand Total | D21: 2 | E21: 10 | F21: 3 | G21: 4 | H21: 1 | I21: 1 | J21: 2 | K21: 2 | L21: 2 | M21: 27
