Workbook

Sheet Feuil3
D1: LE 9 JUIN 2013
B2: BLE TENDRE | D2: Plan de stockage collecte 2013
B3: BLE CAPHORN POUR FARINE LABEL ROUGE | D3: mot de passe fichier atc | F3: JMD
B4: BLE DE FORCE SIALA
B5: BLE DE FORCE VALBONA
B6: BLE APACHE
B7: BLE AREZZO POUR FARINE LABEL ROUGE
B8: 0
B9: 0
B10: BLE DUR
B12: ORGE BRAS. HIVER ETINCEL
B13: ORGE FOURRAGERE
B14: ORGE BRAS. HIVER ARTURIO
B15: 0
B16: AVOINE BLANCHE
B17: AVOINE NOIRE
B18: TRITICALE
B19: SEIGLE
B20: 0
B21: Orge Printemps
B22: ORGE BRAS. PRINTEMPS TRAVELER
B23: ORGE BRAS. PRINTEMPS SUNSHINE
B24: POIS FOURRAGER
B25: POIS JAUNE
B26: 0
B27: COLZA
B28: 0
B29: FEVEROLE
B30: LUPIN
B31: Soja
B32: MAIS WAXY
B33: MAIS CLASSE A
B34: Maïs classe B
B35: Maïs Gavage
B36: TOURNESOL CLASSIQUE
B37: TOURNESOL OLEIQUE
B38: SORGHO
B41: Maïs POP CORN
B42: Multiplication
... B58: trsol oleique

Sheet Collecte Charente Alliance 17
F3: Prévisions de collecte 2007
B8: =Feuil3!D1 -> LE 9 JUIN 2013
A10: Collecte 2013 | B10: TOTAL | C10: CHARENTE MARITIME | F10: Silo | I10: Silo | L10: Silo | O10: Silo | R10: Silo | U10: Silo | X10: Silo | AA10: Silo | AD10: Silo | AG10: Silo | AJ10: Silo | AM10: Silo | AP10: Silo | AS10: Silo | AV10: Silo | AY10: Silo | BB10: Silo | BE10: Silo | BH10: Silo | BK10: Silo | BN10: Silo | BQ10: Silo | BT10: Silo | BW10: Silo | BZ10: Silo | CC10: Silo | CF10: Silo | CI10: Silo | CL10: Silo | CO10: Silo | CR10: Silo | CU10: Silo | CX10: Silo | DA10: Silo | DD10: Silo | DG10: Silo | DJ10: Silo | DM10: Silo | DP10: Silo | DS10: Silo | DV10: Silo | DY10: Silo | EB10: Silo | EE10: Silo | EH10: Silo | EK10: Silo | EN10: Silo | EQ10: Silo | ET10: Silo | EW10: Silo | EZ10: Silo | FC10: Silo | FF10: Silo | FI10: Silo | FL10: Silo | FO10: Silo | FR10: Silo | FU10: Silo | FX10: Silo | GA10: Silo | GD10: Silo | GG10: Silo | GJ10: Silo | GM10: Silo | GP10: Silo | GS10: Silo | GV10: Silo | GY10: Silo | HB10: Silo | HE10: Silo | HH10: Silo | HK10: Silo | HN10: Silo | HQ10: Silo | HT10: Silo | HW10: Silo | HZ10: Silo | IC10: Silo
F11: Chtes-All chez TONNAY-BOUTONNE | I11: ARCHIAC | L11: ARS | O11: ARTHENAC | R11: AULNAY | U11: BAIGNES | X11: BEAUVAIS | AA11: BERNAY | AD11: BORDS | AG11: BREUILLET | AJ11: BRIZAMBOURG | AM11: CORME ECLUSE | AP11: CORME ROYAL | AS11: Charentes-Alliance chez CARC | AV11: CHAMBON | AY11: CHAMPAGNOLLES | BB11: CHANIERS | BE11: CLAVETTE | BH11: COULONGES | BK11: COZES | BN11: FONTAINES | BQ11: GERMIGNAC | BT11: GUIMPS | BW11: JARNAC CHGNE BETON | BZ11: JARNAC CHGNE METAL | CC11: JONZAC | CF11: LA BROUSSE | CI11: LA JARD | CL11: LE GUA | CO11: LEOVILLE | CR11: LORIGNAC | CU11: Charentes-Alliance chez LOULAY | CX11: MARIGNAC | DA11: MATHA | DD11: MAUZE | DG11: Chtes-All chezTERRE ATLANTIQUE | DJ11: MERIGNAC | DM11: MONTILS | DP11: MONTLIEU-LA-GARDE | DS11: MONTPELLIER | DV11: MOSNAC | DY11: NIEUL LE VIROUIL | EB11: PERIGNAC 17 | EE11: PONS | EH11: PUYRAVAULT | EK11: RIOUX | EN11: ROUFFIGNAC | EQ11: SABLONCEAUX | ET11: SALLES DE BARBEZIEUX | EW11: SEMUSSAC | EZ11: ST GENIS SILOSPHERE | FC11: ST ANDRE DE LIDON | FF11: ST CIERS CHAMPAGNE | FI11: ST CIERS DU TAILLON | FL11: ST GENIS SILO | FO11: ST GEORGES DES AGOUTS | FR11: ST GEORGES DES COTEAUX | FU11: ST JUST | FX11: ST PORCHAIRE | GA11: ST SAUVEUR | GD11: ST SURIN | GG11: STS VIVIEN | GJ11: STE GEMME | GM11: STE SEVERE | GP11: TANZAC | GS11: THAIRE | GV11: THEZAC | GY11: TONNAY CHARENTE SILO COOP | HB11: TOUVENT | HE11: GRENIER DU ROY | HH11: SICA Pallice | HK11: TAA Pallice | HN11: AMR Rochefort SICA TONNAY | HQ11: BLAYE | HT11: INVIVO BRDX | HW11: THENAC | HZ11: STOCKAGE FERME | IC11: ROCHEFORT SEMENCES
A12: Espèce | B12: total COOP | F12: Ha | G12: Rdt en | H12: collecte | I12: Ha | J12: Rdt en | K12: collecte | L12: Ha | M12: Rdt en | N12: collecte | O12: Ha | P12: Rdt en | Q12: collecte | R12: Ha | S12: Rdt en | T12: collecte | U12: Ha | V12: Rdt en | W12: collecte | X12: Ha | Y12: Rdt en | Z12: collecte | AA12: Ha | AB12: Rdt en | AC12: collecte | AD12: Ha | AE12: Rdt en | AF12: collecte | AG12: Ha | AH12: Rdt en | AI12: collecte | AJ12: Ha | AK12: Rdt en | AL12: collecte | AM12: Ha | AN12: Rdt en | AO12: collecte | AP12: Ha | AQ12: Rdt en | AR12: collecte | AS12: Ha | AT12: Rdt en | AU12: collecte | AV12: Ha | AW12: Rdt en | AX12: collecte | AY12: Ha | AZ12: Rdt en | BA12: collecte | BB12: Ha | BC12: Rdt en | BD12: collecte | BE12: Ha | BF12: Rdt en | BG12: collecte | BH12: Ha | BI12: Rdt en | BJ12: collecte | BK12: Ha | BL12: Rdt en | BM12: collecte | BN12: Ha | BO12: Rdt en | BP12: collecte | BQ12: Ha | BR12: Rdt en | BS12: collecte | BT12: Ha | BU12: Rdt en | BV12: collecte | BW12: Ha | BX12: Rdt en | BY12: collecte | BZ12: Ha | CA12: Rdt en | CB12: collecte | CC12: Ha | CD12: Rdt en | CE12: collecte | CF12: Ha | CG12: Rdt en | CH12: collecte | CI12: Ha | CJ12: Rdt en | CK12: collecte | CL12: Ha | CM12: Rdt en | CN12: collecte | CO12: Ha | CP12: Rdt en | CQ12: collecte | CR12: Ha | CS12: Rdt en | CT12: collecte | CU12: Ha | CV12: Rdt en | CW12: collecte | CX12: Ha | CY12: Rdt en | CZ12: collecte | DA12: Ha | DB12: Rdt en | DC12: collecte | DD12: Ha | DE12: Rdt en | DF12: collecte | DG12: Ha | DH12: Rdt en | DI12: collecte | DJ12: Ha | DK12: Rdt en | DL12: collecte | DM12: Ha | DN12: Rdt en | DO12: collecte | DP12: Ha | DQ12: Rdt en | DR12: collecte | DS12: Ha | DT12: Rdt en | DU12: collecte | DV12: Ha | DW12: Rdt en | DX12: collecte | DY12: Ha | DZ12: Rdt en | EA12: collecte | EB12: Ha | EC12: Rdt en | ED12: collecte | EE12: Ha | EF12: Rdt en | EG12: collecte | EH12: Ha | EI12: Rdt en | EJ12: collecte | EK12: Ha | EL12: Rdt en | EM12: collecte | EN12: Ha | EO12: Rdt en | EP12: collecte | EQ12: Ha | ER12: Rdt en | ES12: collecte | ET12: Ha | EU12: Rdt en | EV12: collecte | EW12: Ha | EX12: Rdt en | EY12: collecte | EZ12: Ha | FA12: Rdt en | FB12: collecte | FC12: Ha | FD12: Rdt en | FE12: collecte | FF12: Ha | FG12: Rdt en | FH12: collecte | FI12: Ha | FJ12: Rdt en | FK12: collecte | FL12: Ha | FM12: Rdt en | FN12: collecte | FO12: Ha | FP12: Rdt en | FQ12: collecte | FR12: Ha | FS12: Rdt en | FT12: collecte | FU12: Ha | FV12: Rdt en | FW12: collecte | FX12: Ha | FY12: Rdt en | FZ12: collecte | GA12: Ha | GB12: Rdt en | GC12: collecte | GD12: Ha | GE12: Rdt en | GF12: collecte | GG12: Ha | GH12: Rdt en | GI12: collecte | GJ12: Ha | GK12: Rdt en | GL12: collecte | GM12: Ha | GN12: Rdt en | GO12: collecte | GP12: Ha | GQ12: Rdt en | GR12: collecte | GS12: Ha | GT12: Rdt en | GU12: collecte | GV12: Ha | GW12: Rdt en | GX12: collecte | GY12: Ha | GZ12: Rdt en | HA12: collecte | HB12: Ha | HC12: Rdt en | HD12: collecte | HE12: Ha | HF12: Rdt en | HG12: collecte | HH12: Ha | HI12: Rdt en | HJ12: collecte | HK12: Ha | HL12: Rdt en | HM12: collecte | HN12: Ha | HO12: Rdt en | HP12: collecte | HQ12: Ha | HR12: Rdt en | HS12: collecte | HT12: Ha | HU12: Rdt en | HV12: collecte | HW12: Ha | HX12: Rdt en | HY12: collecte | HZ12: Ha | IA12: Rdt en | IB12: collecte | IC12: Ha | ID12: Rdt en | IE12: collecte
B13: ha | C13: Rdt/moy | D13: en T | F13: collectés | G13: T/ ha | H13: en T | I13: collectés | J13: T/ ha | K13: en T | L13: collectés | M13: T/ ha | N13: en T | O13: collectés | P13: T/ ha | Q13: en T | R13: collectés | S13: T/ ha | T13: en T | U13: collectés | V13: T/ ha | W13: en T | X13: collectés | Y13: T/ ha | Z13: en T | AA13: collectés | AB13: T/ ha | AC13: en T | AD13: collectés | AE13: T/ ha | AF13: en T | AG13: collectés | AH13: T/ ha | AI13: en T | AJ13: collectés | AK13: T/ ha | AL13: en T | AM13: collectés | AN13: T/ ha | AO13: en T | AP13: collectés | AQ13: T/ ha | AR13: en T | AS13: collectés | AT13: T/ ha | AU13: en T | AV13: collectés | AW13: T/ ha | AX13: en T | AY13: collectés | AZ13: T/ ha | BA13: en T | BB13: collectés | BC13: T/ ha | BD13: en T | BE13: collectés | BF13: T/ ha | BG13: en T | BH13: collectés | BI13: T/ ha | BJ13: en T | BK13: collectés | BL13: T/ ha | BM13: en T | BN13: collectés | BO13: T/ ha | BP13: en T | BQ13: collectés | BR13: T/ ha | BS13: en T | BT13: collectés | BU13: T/ ha | BV13: en T | BW13: collectés | BX13: T/ ha | BY13: en T | BZ13: collectés | CA13: T/ ha | CB13: en T | CC13: collectés | CD13: T/ ha | CE13: en T | CF13: collectés | CG13: T/ ha | CH13: en T | CI13: collectés | CJ13: T/ ha | CK13: en T | CL13: collectés | CM13: T/ ha | CN13: en T | CO13: collectés | CP13: T/ ha | CQ13: en T | CR13: collectés | CS13: T/ ha | CT13: en T | CU13: collectés | CV13: T/ ha | CW13: en T | CX13: collectés | CY13: T/ ha | CZ13: en T | DA13: collectés | DB13: T/ ha | DC13: en T | DD13: collectés | DE13: T/ ha | DF13: en T | DG13: collectés | DH13: T/ ha | DI13: en T | DJ13: collectés | DK13: T/ ha | DL13: en T | DM13: collectés | DN13: T/ ha | DO13: en T | DP13: collectés | DQ13: T/ ha | DR13: en T | DS13: collectés | DT13: T/ ha | DU13: en T | DV13: collectés | DW13: T/ ha | DX13: en T | DY13: collectés | DZ13: T/ ha | EA13: en T | EB13: collectés | EC13: T/ ha | ED13: en T | EE13: collectés | EF13: T/ ha | EG13: en T | EH13: collectés | EI13: T/ ha | EJ13: en T | EK13: collectés | EL13: T/ ha | EM13: en T | EN13: collectés | EO13: T/ ha | EP13: en T | EQ13: collectés | ER13: T/ ha | ES13: en T | ET13: collectés | EU13: T/ ha | EV13: en T | EW13: collectés | EX13: T/ ha | EY13: en T | EZ13: collectés | FA13: T/ ha | FB13: en T | FC13: collectés | FD13: T/ ha | FE13: en T | FF13: collectés | FG13: T/ ha | FH13: en T | FI13: collectés | FJ13: T/ ha | FK13: en T | FL13: collectés | FM13: T/ ha | FN13: en T | FO13: collectés | FP13: T/ ha | FQ13: en T | FR13: collectés | FS13: T/ ha | FT13: en T | FU13: collectés | FV13: T/ ha | FW13: en T | FX13: collectés | FY13: T/ ha | FZ13: en T | GA13: collectés | GB13: T/ ha | GC13: en T | GD13: collectés | GE13: T/ ha | GF13: en T | GG13: collectés | GH13: T/ ha | GI13: en T | GJ13: collectés | GK13: T/ ha | GL13: en T | GM13: collectés | GN13: T/ ha | GO13: en T | GP13: collectés | GQ13: T/ ha | GR13: en T | GS13: collectés | GT13: T/ ha | GU13: en T | GV13: collectés | GW13: T/ ha | GX13: en T | GY13: collectés | GZ13: T/ ha | HA13: en T | HB13: collectés | HC13: T/ ha | HD13: en T | HE13: collectés | HF13: T/ ha | HG13: en T | HH13: collectés | HI13: T/ ha | HJ13: en T | HK13: collectés | HL13: T/ ha | HM13: en T | HN13: collectés | HO13: T/ ha | HP13: en T | HQ13: collectés | HR13: T/ ha | HS13: en T | HT13: collectés | HU13: T/ ha | HV13: en T | HW13: collectés | HX13: T/ ha | HY13: en T | HZ13: collectés | IA13: T/ ha | IB13: en T | IC13: collectés | ID13: T/ ha | IE13: en T
A15: =Feuil3!B2 -> BLE TENDRE | B15: =F15+I15+L15+O15+R15+U15+X15+AA15+AD15+AG15+AJ15+AM15+AP15+AS15+AV15+AY15+BB15+BE15+BH15+BK15+BN15+BQ15+BT15+BW15+BZ15+CC15+CF15+CI15+CL15+CO15+CR15+CU15+CX15+DA15+DD15+DG15+DJ15+DM15+DP15+DS15+DV15+DY15+EB15+EE15+EH15+EK15+EN15+EQ15+ET15+EW15+EZ15+FC15+FF15+FI15+FL15+FO15+FR15+FU15+FX15+GA15+GD15+GG15+GJ15+GM15+GP15+GS15+GV15+GY15+HB15+HE15+HH15+HK15+HN15+HQ15+HT15+HW15+HZ15+IC15 -> 3883.88 | C15: =IF(B15=0,"",D15/B15) -> 6.5 | D15: =H15+K15+N15+Q15+T15+W15+Z15+AC15+AF15+AI15+AL15+AO15+AR15+AU15+AX15+BA15+BD15+BG15+BJ15+BM15+BP15+BS15+BV15+BY15+CB15+CE15+CH15+CK15+CN15+CQ15+CT15+CW15+CZ15+DC15+DF15+DI15+DL15+DO15+DR15+DU15+DX15+EA15+ED15+EG15+EJ15+EM15+EP15+ES15+EV15+EY15+FB15+FE15+FH15+FK15+FN15+FQ15+FT15+FW15+FZ15+GC15+GF15+GI15+GL15+GO15+GR15+GU15+GX15+HA15+HD15+HG15+HJ15+HM15+HP15+HS15+HV15+HY15+IB15+IE15 -> 25245.22 | F15: =IFERROR(GETPIVOTDATA("Ha Tot collecte",'[1]Feuil1 (2)'!$A$3,"Silo",F$11,"Lib. variété",$A15),0) -> 0 | G15: 6.5 | H15: =F15*G15 -> 0 | I15: =IFERROR(GETPIVOTDATA("Ha Tot collecte",'[1]Feuil1 (2)'!$A$3,"Silo",I$11,"Lib. variété",$A15),0) -> 74.56 | J15: 6.5 | K15: =I15*J15 -> 484.64 | L15: =IFERROR(GETPIVOTDATA("Ha Tot collecte",'[1]Feuil1 (2)'!$A$3,"Silo",L$11,"Lib. variété",$A15),0) -> 251.25 | M15: 6.5 | N15: =L15*M15 -> 1633.125 | O15: =IFERROR(GETPIVOTDATA("Ha Tot collecte",'[1]Feuil1 (2)'!$A$3,"Silo",O$11,"Lib. variété",$A15),0) -> 62 | P15: 6.5 | Q15: =O15*P15 -> 403 | R15: =IFERROR(GETPIVOTDATA("Ha Tot collecte",'[1]Feuil1 (2)'!$A$3,"Silo",R$11,"Lib. variété",$A15),0) -> 0 | S15: 6.5 | T15: =R15*S15 -> 0 | U15: =IFERROR(GETPIVOTDATA("Ha Tot collecte",'[1]Feuil1 (2)'!$A$3,"Silo",U$11,"Lib. variété",$A15),0) -> 571.75 | V15: 6.5 | W15: =U15*V15 -> 3716.375 | X15: =IFERROR(GETPIVOTDATA("Ha Tot collecte",'[1]Feuil1 (2)'!$A$3,"Silo",X$11,"Lib. variété",$A15),0) -> 0 | Y15: 6.5 | Z15: =X15*Y15 -> 0 | AA15: =IFERROR(GETPIVOTDATA("Ha Tot collecte",'[1]Feuil1 (2)'!$A$3,"Silo",AA$11,"Lib. variété",$A15),0) -> 93.84 | AB15: 6.5 | AC15: =AA15*AB15 -> 609.96 | AD15: =IFERROR(GETPIVOTDATA("Ha Tot collecte",'[1]Feuil1 (2)'!$A$3,"Silo",AD$11,"Lib. variété",$A15),0) -> 174.56 | AE15: 6.5 | AF15: =AD15*AE15 -> 1134.64 | AG15: =IFERROR(GETPIVOTDATA("Ha Tot collecte",'[1]Feuil1 (2)'!$A$3,"Silo",AG$11,"Lib. variété",$A15),0) -> 0 | AH15: 6.5 | AI15: =AG15*AH15 -> 0 | AJ15: =IFERROR(GETPIVOTDATA("Ha Tot collecte",'[1]Feuil1 (2)'!$A$3,"Silo",AJ$11,"Lib. variété",$A15),0) -> 0 | AK15: 6.5 | AL15: =AJ15*AK15 -> 0 | AM15: =IFERROR(GETPIVOTDATA("Ha Tot collecte",'[1]Feuil1 (2)'!$A$3,"Silo",AM$11,"Lib. variété",$A15),0) -> 204.37 | AN15: 6.5 | AO15: =AM15*AN15 -> 1328.405 | AP15: =IFERROR(GETPIVOTDATA("Ha Tot collecte",'[1]Feuil1 (2)'!$A$3,"Silo",AP$11,"Lib. variété",$A15),0) -> 0 | AQ15: 6.5 | AR15: =AP15*AQ15 -> 0 | AS15: =IFERROR(GETPIVOTDATA("Ha Tot collecte",'[1]Feuil1 (2)'!$A$3,"Silo",AS$11,"Lib. variété",$A15),0) -> 19.6 | AT15: 6.5 | AU15: =AS15*AT15 -> 127.4 | AV15: =IFERROR(GETPIVOTDATA("Ha Tot collecte",'[1]Feuil1 (2)'!$A$3,"Silo",AV$11,"Lib. variété",$A15),0) -> 111.33 | AW15: 6.5 | AX15: =AV15*AW15 -> 723.645 | AY15: =IFERROR(GETPIVOTDATA("Ha Tot collecte",'[1]Feuil1 (2)'!$A$3,"Silo",AY$11,"Lib. variété",$A15),0) -> 16.22 | AZ15: 6.5 | BA15: =AY15*AZ15 -> 105.43 | BB15: =IFERROR(GETPIVOTDATA("Ha Tot collecte",'[1]Feuil1 (2)'!$A$3,"Silo",BB$11,"Lib. variété",$A15),0) -> 11 | BC15: 6.5 | BD15: =BB15*BC15 -> 71.5 | BE15: =IFERROR(GETPIVOTDATA("Ha Tot collecte",'[1]Feuil1 (2)'!$A$3,"Silo",BE$11,"Lib. variété",$A15),0) -> 130 | BF15: 6.5 | BG15: =BE15*BF15 -> 845 | BH15: =IFERROR(GETPIVOTDATA("Ha Tot collecte",'[1]Feuil1 (2)'!$A$3,"Silo",BH$11,"Lib. variété",$A15),0) -> 66.81 | BI15: 6.5 | BJ15: =BH15*BI15 -> 434.265 | BK15: =IFERROR(GETPIVOTDATA("Ha Tot collecte",'[1]Feuil1 (2)'!$A$3,"Silo",BK$11,"Lib. variété",$A15),0) -> 282.2 | BL15: 6.5 | BM15: =BK15*BL15 -> 1834.3 | BN15: =IFERROR(GETPIVOTDATA("Ha Tot collecte",'[1]Feuil1 (2)'!$A$3,"Silo",BN$11,"Lib. variété",$A15),0) -> 350.88 | BO15: 6.5 | BP15: =BN15*BO15 -> 2280.72 | BQ15: =IFERROR(GETPIVOTDATA("Ha Tot collecte",'[1]Feuil1 (2)'!$A$3,"Silo",BQ$11,"Lib. variété",$A15),0) -> 232.46 | BR15: 6.5 | BS15: =BQ15*BR15 -> 1510.99 | BT15: =IFERROR(GETPIVOTDATA("Ha Tot collecte",'[1]Feuil1 (2)'!$A$3,"Silo",BT$11,"Lib. variété",$A15),0) -> 380.39 | BU15: 6.5 | BV15: =BT15*BU15 -> 2472.535 | BW15: =IFERROR(GETPIVOTDATA("Ha Tot collecte",'[1]Feuil1 (2)'!$A$3,"Silo",BW$11,"Lib. variété",$A15),0) -> 15.37 | BX15: 6.5 | BY15: =BW15*BX15 -> 99.905 | BZ15: =IFERROR(GETPIVOTDATA("Ha Tot collecte",'[1]Feuil1 (2)'!$A$3,"Silo",BZ$11,"Lib. variété",$A15),0) -> 240.59 | CA15: 6.5 | CB15: =BZ15*CA15 -> 1563.835 | CC15: =IFERROR(GETPIVOTDATA("Ha Tot collecte",'[1]Feuil1 (2)'!$A$3,"Silo",CC$11,"Lib. variété",$A15),0) -> 594.7 | CD15: 6.5 | CE15: =CC15*CD15 -> 3865.55 | CF15: =IFERROR(GETPIVOTDATA("Ha Tot collecte",'[1]Feuil1 (2)'!$A$3,"Silo",CF$11,"Lib. variété",$A15),0) -> 0 | CG15: 6.5 | CH15: =CF15*CG15 -> 0 | CJ15: 6.5 | CK15: =CI15*CJ15 -> 0 | CM15: 6.5 | CN15: =CL15*CM15 -> 0 | CP15: 6.5 | CQ15: =CO15*CP15 -> 0 | CS15: 6.5 | CT15: =CR15*CS15 -> 0 | CV15: 6.5 | CW15: =CU15*CV15 -> 0 | CY15: 6.5 | CZ15: =CX15*CY15 -> 0 | DB15: 6.5 | DC15: =DA15*DB15 -> 0 | DE15: 6.5 | DF15: =DD15*DE15 -> 0 | DH15: 6.5 | DI15: =DG15*DH15 -> 0 | DK15: 6.5 | DL15: =DJ15*DK15 -> 0 | DN15: 6.5 | DO15: =DM15*DN15 -> 0 | DQ15: 6.5 | DR15: =DP15*DQ15 -> 0 | DT15: 6.5 | DU15: =DS15*DT15 -> 0 | DW15: 6.5 | DX15: =DV15*DW15 -> 0 | DZ15: 6.5 | EA15: =DY15*DZ15 -> 0 | EC15: 6.5 | ED15: =EB15*EC15 -> 0 | EF15: 6.5 | EG15: =EE15*EF15 -> 0 | EI15: 6.5 | EJ15: =EH15*EI15 -> 0 | EL15: 6.5 | EM15: =EK15*EL15 -> 0 | EO15: 6.5 | EP15: =EN15*EO15 -> 0 | ER15: 6.5 | ES15: =EQ15*ER15 -> 0 | EU15: 6.5 | EV15: =ET15*EU15 -> 0 | EX15: 6.5 | EY15: =EW15*EX15 -> 0 | FA15: 6.5 | FB15: =EZ15*FA15 -> 0 | FD15: 6.5 | FE15: =FC15*FD15 -> 0 | FG15: 6.5 | FH15: =FF15*FG15 -> 0 | FJ15: 6.5 | FK15: =FI15*FJ15 -> 0 | FM15: 6.5 | FN15: =FL15*FM15 -> 0 | FP15: 6.5 | FQ15: =FO15*FP15 -> 0 | FS15: 6.5 | FT15: =FR15*FS15 -> 0 | FV15: 6.5 | FW15: =FU15*FV15 -> 0 | FY15: 6.5 | FZ15: =FX15*FY15 -> 0 | GB15: 6.5 | GC15: =GA15*GB15 -> 0 | GE15: 6.5 | GF15: =GD15*GE15 -> 0 | GH15: 6.5 | GI15: =GG15*GH15 -> 0 | GK15: 6.5 | GL15: =GJ15*GK15 -> 0 | GN15: 6.5 | GO15: =GM15*GN15 -> 0 | GQ15: 6.5 | GR15: =GP15*GQ15 -> 0 | GT15: 6.5 | GU15: =GS15*GT15 -> 0 | GW15: 6.5 | GX15: =GV15*GW15 -> 0 | GZ15: 6.5 | HA15: =GY15*GZ15 -> 0 | HC15: 6.5 | HD15: =HB15*HC15 -> 0 | HF15: 6.5 | HG15: =HE15*HF15 -> 0 | HI15: 6.5 | HJ15: =HH15*HI15 -> 0 | HL15: 6.5 | HM15: =HK15*HL15 -> 0 | HO15: 6.5 | HP15: =HN15*HO15 -> 0 | HR15: 6.5 | HS15: =HQ15*HR15 -> 0 | HU15: 6.5 | HV15: =HT15*HU15 -> 0 | HX15: 6.5 | HY15: =HW15*HX15 -> 0 | IA15: 6.5 | IB15: =HZ15*IA15 -> 0 | ID15: 6.5 | IE15: =IC15*ID15 -> 0
A16: =Feuil3!B3 -> BLE CAPHORN POUR FARINE LABEL ROUGE | B16: =F16+I16+L16+O16+R16+U16+X16+AA16+AD16+AG16+AJ16+AM16+AP16+AS16+AV16+AY16+BB16+BE16+BH16+BK16+BN16+BQ16+BT16+BW16+BZ16+CC16+CF16+CI16+CL16+CO16+CR16+CU16+CX16+DA16+DD16+DG16+DJ16+DM16+DP16+DS16+DV16+DY16+EB16+EE16+EH16+EK16+EN16+EQ16+ET16+EW16+EZ16+FC16+FF16+FI16+FL16+FO16+FR16+FU16+FX16+GA16+GD16+GG16+GJ16+GM16+GP16+GS16+GV16+GY16+HB16+HE16+HH16+HK16+HN16+HQ16+HT16+HW16+HZ16+IC16 -> 0 | C16: =IF(B16=0,"",D16/B16) | D16: =H16+K16+N16+Q16+T16+W16+Z16+AC16+AF16+AI16+AL16+AO16+AR16+AU16+AX16+BA16+BD16+BG16+BJ16+BM16+BP16+BS16+BV16+BY16+CB16+CE16+CH16+CK16+CN16+CQ16+CT16+CW16+CZ16+DC16+DF16+DI16+DL16+DO16+DR16+DU16+DX16+EA16+ED16+EG16+EJ16+EM16+EP16+ES16+EV16+EY16+FB16+FE16+FH16+FK16+FN16+FQ16+FT16+FW16+FZ16+GC16+GF16+GI16+GL16+GO16+GR16+GU16+GX16+HA16+HD16+HG16+HJ16+HM16+HP16+HS16+HV16+HY16+IB16+IE16 -> 0 | F16: =IFERROR(GETPIVOTDATA("Ha Tot collecte",'[1]Feuil1 (2)'!$A$3,"Silo",F$11,"Lib. variété",$A16),0) -> 0 | G16: 6.5 | H16: =F16*G16 -> 0 | I16: =IFERROR(GETPIVOTDATA("Ha Tot collecte",'[1]Feuil1 (2)'!$A$3,"Silo",I$11,"Lib. variété",$A16),0) -> 0 | J16: 6.5 | K16: =I16*J16 -> 0 | L16: =IFERROR(GETPIVOTDATA("Ha Tot collecte",'[1]Feuil1 (2)'!$A$3,"Silo",L$11,"Lib. variété",$A16),0) -> 0 | M16: 6.5 | N16: =L16*M16 -> 0 | O16: =IFERROR(GETPIVOTDATA("Ha Tot collecte",'[1]Feuil1 (2)'!$A$3,"Silo",O$11,"Lib. variété",$A16),0) -> 0 | P16: 6.5 | Q16: =O16*P16 -> 0 | R16: =IFERROR(GETPIVOTDATA("Ha Tot collecte",'[1]Feuil1 (2)'!$A$3,"Silo",R$11,"Lib. variété",$A16),0) -> 0 | S16: 6.5 | T16: =R16*S16 -> 0 | U16: =IFERROR(GETPIVOTDATA("Ha Tot collecte",'[1]Feuil1 (2)'!$A$3,"Silo",U$11,"Lib. variété",$A16),0) -> 0 | V16: 6.5 | W16: =U16*V16 -> 0 | X16: =IFERROR(GETPIVOTDATA("Ha Tot collecte",'[1]Feuil1 (2)'!$A$3,"Silo",X$11,"Lib. variété",$A16),0) -> 0 | Y16: 6.5 | Z16: =X16*Y16 -> 0 | AA16: =IFERROR(GETPIVOTDATA("Ha Tot collecte",'[1]Feuil1 (2)'!$A$3,"Silo",AA$11,"Lib. variété",$A16),0) -> 0 | AB16: 6.5 | AC16: =AA16*AB16 -> 0 | AD16: =IFERROR(GETPIVOTDATA("Ha Tot collecte",'[1]Feuil1 (2)'!$A$3,"Silo",AD$11,"Lib. variété",$A16),0) -> 0 | AE16: 6.5 | AF16: =AD16*AE16 -> 0 | AG16: =IFERROR(GETPIVOTDATA("Ha Tot collecte",'[1]Feuil1 (2)'!$A$3,"Silo",AG$11,"Lib. variété",$A16),0) -> 0 | AH16: 6.5 | AI16: =AG16*AH16 -> 0 | AJ16: =IFERROR(GETPIVOTDATA("Ha Tot collecte",'[1]Feuil1 (2)'!$A$3,"Silo",AJ$11,"Lib. variété",$A16),0) -> 0 | AK16: 6.5 | AL16: =AJ16*AK16 -> 0 | AM16: =IFERROR(GETPIVOTDATA("Ha Tot collecte",'[1]Feuil1 (2)'!$A$3,"Silo",AM$11,"Lib. variété",$A16),0) -> 0 | AN16: 6.5 | AO16: =AM16*AN16 -> 0 | AP16: =IFERROR(GETPIVOTDATA("Ha Tot collecte",'[1]Feuil1 (2)'!$A$3,"Silo",AP$11,"Lib. variété",$A16),0) -> 0 | AQ16: 6.5 | AR16: =AP16*AQ16 -> 0 | AS16: =IFERROR(GETPIVOTDATA("Ha Tot collecte",'[1]Feuil1 (2)'!$A$3,"Silo",AS$11,"Lib. variété",$A16),0) -> 0 | AT16: 6.5 | AU16: =AS16*AT16 -> 0 | AV16: =IFERROR(GETPIVOTDATA("Ha Tot collecte",'[1]Feuil1 (2)'!$A$3,"Silo",AV$11,"Lib. variété",$A16),0) -> 0 | AW16: 6.5 | AX16: =AV16*AW16 -> 0 | AY16: =IFERROR(GETPIVOTDATA("Ha Tot collecte",'[1]Feuil1 (2)'!$A$3,"Silo",AY$11,"Lib. variété",$A16),0) -> 0 | AZ16: 6.5 | BA16: =AY16*AZ16 -> 0 | BB16: =IFERROR(GETPIVOTDATA("Ha Tot collecte",'[1]Feuil1 (2)'!$A$3,"Silo",BB$11,"Lib. variété",$A16),0) -> 0 | BC16: 6.5 | BD16: =BB16*BC16 -> 0 | BE16: =IFERROR(GETPIVOTDATA("Ha Tot collecte",'[1]Feuil1 (2)'!$A$3,"Silo",BE$11,"Lib. variété",$A16),0) -> 0 | BF16: 6.5 | BG16: =BE16*BF16 -> 0 | BH16: =IFERROR(GETPIVOTDATA("Ha Tot collecte",'[1]Feuil1 (2)'!$A$3,"Silo",BH$11,"Lib. variété",$A16),0) -> 0 | BI16: 6.5 | BJ16: =BH16*BI16 -> 0 | BK16: =IFERROR(GETPIVOTDATA("Ha Tot collecte",'[1]Feuil1 (2)'!$A$3,"Silo",BK$11,"Lib. variété",$A16),0) -> 0 | BL16: 6.5 | BM16: =BK16*BL16 -> 0 | BN16: =IFERROR(GETPIVOTDATA("Ha Tot collecte",'[1]Feuil1 (2)'!$A$3,"Silo",BN$11,"Lib. variété",$A16),0) -> 0 | BO16: 6.5 | BP16: =BN16*BO16 -> 0 | BQ16: =IFERROR(GETPIVOTDATA("Ha Tot collecte",'[1]Feuil1 (2)'!$A$3,"Silo",BQ$11,"Lib. variété",$A16),0) -> 0 | BR16: 6.5 | BS16: =BQ16*BR16 -> 0 | BT16: =IFERROR(GETPIVOTDATA("Ha Tot collecte",'[1]Feuil1 (2)'!$A$3,"Silo",BT$11,"Lib. variété",$A16),0) -> 0 | BU16: 6.5 | BV16: =BT16*BU16 -> 0 | BW16: =IFERROR(GETPIVOTDATA("Ha Tot collecte",'[1]Feuil1 (2)'!$A$3,"Silo",BW$11,"Lib. variété",$A16),0) -> 0 | BX16: 6.5 | BY16: =BW16*BX16 -> 0 | BZ16: =IFERROR(GETPIVOTDATA("Ha Tot collecte",'[1]Feuil1 (2)'!$A$3,"Silo",BZ$11,"Lib. variété",$A16),0) -> 0 | CA16: 6.5 | CB16: =BZ16*CA16 -> 0 | CC16: =IFERROR(GETPIVOTDATA("Ha Tot collecte",'[1]Feuil1 (2)'!$A$3,"Silo",CC$11,"Lib. variété",$A16),0) -> 0 | CD16: 6.5 | CE16: =CC16*CD16 -> 0 | CF16: =IFERROR(GETPIVOTDATA("Ha Tot collecte",'[1]Feuil1 (2)'!$A$3,"Silo",CF$11,"Lib. variété",$A16),0) -> 0 | CG16: 6.5 | CH16: =CF16*CG16 -> 0 | CJ16: 6.5 | CK16: =CI16*CJ16 -> 0 | CM16: 6.5 | CN16: =CL16*CM16 -> 0 | CP16: 6.5 | CQ16: =CO16*CP16 -> 0 | CS16: 6.5 | CT16: =CR16*CS16 -> 0 | CV16: 6.5 | CW16: =CU16*CV16 -> 0 | CY16: 6.5 | CZ16: =CX16*CY16 -> 0 | DB16: 6.5 | DC16: =DA16*DB16 -> 0 | DE16: 6.5 | DF16: =DD16*DE16 -> 0 | DH16: 6.5 | DI16: =DG16*DH16 -> 0 | DK16: 6.5 | DL16: =DJ16*DK16 -> 0 | DN16: 6.5 | DO16: =DM16*DN16 -> 0 | DQ16: 6.5 | DR16: =DP16*DQ16 -> 0 | DT16: 6.5 | DU16: =DS16*DT16 -> 0 | DW16: 6.5 | DX16: =DV16*DW16 -> 0 | DZ16: 6.5 | EA16: =DY16*DZ16 -> 0 | EC16: 6.5 | ED16: =EB16*EC16 -> 0 | EF16: 6.5 | EG16: =EE16*EF16 -> 0 | EI16: 6.5 | EJ16: =EH16*EI16 -> 0 | EL16: 6.5 | EM16: =EK16*EL16 -> 0 | EO16: 6.5 | EP16: =EN16*EO16 -> 0 | ER16: 6.5 | ES16: =EQ16*ER16 -> 0 | EU16: 6.5 | EV16: =ET16*EU16 -> 0 | EX16: 6.5 | EY16: =EW16*EX16 -> 0 | FA16: 6.5 | FB16: =EZ16*FA16 -> 0 | FD16: 6.5 | FE16: =FC16*FD16 -> 0 | FG16: 6.5 | FH16: =FF16*FG16 -> 0 | FJ16: 6.5 | FK16: =FI16*FJ16 -> 0 | FM16: 6.5 | FN16: =FL16*FM16 -> 0 | FP16: 6.5 | FQ16: =FO16*FP16 -> 0 | FS16: 6.5 | FT16: =FR16*FS16 -> 0 | FV16: 6.5 | FW16: =FU16*FV16 -> 0 | FY16: 6.5 | FZ16: =FX16*FY16 -> 0 | GB16: 6.5 | GC16: =GA16*GB16 -> 0 | GE16: 6.5 | GF16: =GD16*GE16 -> 0 | GH16: 6.5 | GI16: =GG16*GH16 -> 0 | GK16: 6.5 | GL16: =GJ16*GK16 -> 0 | GN16: 6.5 | GO16: =GM16*GN16 -> 0 | GQ16: 6.5 | GR16: =GP16*GQ16 -> 0 | GT16: 6.5 | GU16: =GS16*GT16 -> 0 | GW16: 6.5 | GX16: =GV16*GW16 -> 0 | GZ16: 6.5 | HA16: =GY16*GZ16 -> 0 | HC16: 6.5 | HD16: =HB16*HC16 -> 0 | HF16: 6.5 | HG16: =HE16*HF16 -> 0 | HI16: 6.5 | HJ16: =HH16*HI16 -> 0 | HL16: 6.5 | HM16: =HK16*HL16 -> 0 | HO16: 6.5 | HP16: =HN16*HO16 -> 0 | HR16: 6.5 | HS16: =HQ16*HR16 -> 0 | HU16: 6.5 | HV16: =HT16*HU16 -> 0 | HX16: 6.5 | HY16: =HW16*HX16 -> 0 | IA16: 6.5 | IB16: =HZ16*IA16 -> 0 | ID16: 6.5 | IE16: =IC16*ID16 -> 0
A17: =Feuil3!B4 -> BLE DE FORCE SIALA | B17: =F17+I17+L17+O17+R17+U17+X17+AA17+AD17+AG17+AJ17+AM17+AP17+AS17+AV17+AY17+BB17+BE17+BH17+BK17+BN17+BQ17+BT17+BW17+BZ17+CC17+CF17+CI17+CL17+CO17+CR17+CU17+CX17+DA17+DD17+DG17+DJ17+DM17+DP17+DS17+DV17+DY17+EB17+EE17+EH17+EK17+EN17+EQ17+ET17+EW17+EZ17+FC17+FF17+FI17+FL17+FO17+FR17+FU17+FX17+GA17+GD17+GG17+GJ17+GM17+GP17+GS17+GV17+GY17+HB17+HE17+HH17+HK17+HN17+HQ17+HT17+HW17+HZ17+IC17 -> 0 | C17: =IF(B17=0,"",D17/B17) | D17: =H17+K17+N17+Q17+T17+W17+Z17+AC17+AF17+AI17+AL17+AO17+AR17+AU17+AX17+BA17+BD17+BG17+BJ17+BM17+BP17+BS17+BV17+BY17+CB17+CE17+CH17+CK17+CN17+CQ17+CT17+CW17+CZ17+DC17+DF17+DI17+DL17+DO17+DR17+DU17+DX17+EA17+ED17+EG17+EJ17+EM17+EP17+ES17+EV17+EY17+FB17+FE17+FH17+FK17+FN17+FQ17+FT17+FW17+FZ17+GC17+GF17+GI17+GL17+GO17+GR17+GU17+GX17+HA17+HD17+HG17+HJ17+HM17+HP17+HS17+HV17+HY17+IB17+IE17 -> 0 | F17: =IFERROR(GETPIVOTDATA("Ha Tot collecte",'[1]Feuil1 (2)'!$A$3,"Silo",F$11,"Lib. variété",$A17),0) -> 0 | G17: 6.5 | H17: =F17*G17 -> 0 | I17: =IFERROR(GETPIVOTDATA("Ha Tot collecte",'[1]Feuil1 (2)'!$A$3,"Silo",I$11,"Lib. variété",$A17),0) -> 0 | J17: 6.5 | K17: =I17*J17 -> 0 | L17: =IFERROR(GETPIVOTDATA("Ha Tot collecte",'[1]Feuil1 (2)'!$A$3,"Silo",L$11,"Lib. variété",$A17),0) -> 0 | M17: 6.5 | N17: =L17*M17 -> 0 | O17: =IFERROR(GETPIVOTDATA("Ha Tot collecte",'[1]Feuil1 (2)'!$A$3,"Silo",O$11,"Lib. variété",$A17),0) -> 0 | P17: 6.5 | Q17: =O17*P17 -> 0 | R17: =IFERROR(GETPIVOTDATA("Ha Tot collecte",'[1]Feuil1 (2)'!$A$3,"Silo",R$11,"Lib. variété",$A17),0) -> 0 | S17: 6.5 | T17: =R17*S17 -> 0 | U17: =IFERROR(GETPIVOTDATA("Ha Tot collecte",'[1]Feuil1 (2)'!$A$3,"Silo",U$11,"Lib. variété",$A17),0) -> 0 | V17: 6.5 | W17: =U17*V17 -> 0 | X17: =IFERROR(GETPIVOTDATA("Ha Tot collecte",'[1]Feuil1 (2)'!$A$3,"Silo",X$11,"Lib. variété",$A17),0) -> 0 | Y17: 6.5 | Z17: =X17*Y17 -> 0 | AA17: =IFERROR(GETPIVOTDATA("Ha Tot collecte",'[1]Feuil1 (2)'!$A$3,"Silo",AA$11,"Lib. variété",$A17),0) -> 0 | AB17: 6.5 | AC17: =AA17*AB17 -> 0 | AD17: =IFERROR(GETPIVOTDATA("Ha Tot collecte",'[1]Feuil1 (2)'!$A$3,"Silo",AD$11,"Lib. variété",$A17),0) -> 0 | AE17: 6.5 | AF17: =AD17*AE17 -> 0 | AG17: =IFERROR(GETPIVOTDATA("Ha Tot collecte",'[1]Feuil1 (2)'!$A$3,"Silo",AG$11,"Lib. variété",$A17),0) -> 0 | AH17: 6.5 | AI17: =AG17*AH17 -> 0 | AJ17: =IFERROR(GETPIVOTDATA("Ha Tot collecte",'[1]Feuil1 (2)'!$A$3,"Silo",AJ$11,"Lib. variété",$A17),0) -> 0 | AK17: 6.5 | AL17: =AJ17*AK17 -> 0 | AM17: =IFERROR(GETPIVOTDATA("Ha Tot collecte",'[1]Feuil1 (2)'!$A$3,"Silo",AM$11,"Lib. variété",$A17),0) -> 0 | AN17: 6.5 | AO17: =AM17*AN17 -> 0 | AP17: =IFERROR(GETPIVOTDATA("Ha Tot collecte",'[1]Feuil1 (2)'!$A$3,"Silo",AP$11,"Lib. variété",$A17),0) -> 0 | AQ17: 6.5 | AR17: =AP17*AQ17 -> 0 | AS17: =IFERROR(GETPIVOTDATA("Ha Tot collecte",'[1]Feuil1 (2)'!$A$3,"Silo",AS$11,"Lib. variété",$A17),0) -> 0 | AT17: 6.5 | AU17: =AS17*AT17 -> 0 | AV17: =IFERROR(GETPIVOTDATA("Ha Tot collecte",'[1]Feuil1 (2)'!$A$3,"Silo",AV$11,"Lib. variété",$A17),0) -> 0 | AW17: 6.5 | AX17: =AV17*AW17 -> 0 | AY17: =IFERROR(GETPIVOTDATA("Ha Tot collecte",'[1]Feuil1 (2)'!$A$3,"Silo",AY$11,"Lib. variété",$A17),0) -> 0 | AZ17: 6.5 | BA17: =AY17*AZ17 -> 0 | BB17: =IFERROR(GETPIVOTDATA("Ha Tot collecte",'[1]Feuil1 (2)'!$A$3,"Silo",BB$11,"Lib. variété",$A17),0) -> 0 | BC17: 6.5 | BD17: =BB17*BC17 -> 0 | BE17: =IFERROR(GETPIVOTDATA("Ha Tot collecte",'[1]Feuil1 (2)'!$A$3,"Silo",BE$11,"Lib. variété",$A17),0) -> 0 | BF17: 6.5 | BG17: =BE17*BF17 -> 0 | BH17: =IFERROR(GETPIVOTDATA("Ha Tot collecte",'[1]Feuil1 (2)'!$A$3,"Silo",BH$11,"Lib. variété",$A17),0) -> 0 | BI17: 6.5 | BJ17: =BH17*BI17 -> 0 | BK17: =IFERROR(GETPIVOTDATA("Ha Tot collecte",'[1]Feuil1 (2)'!$A$3,"Silo",BK$11,"Lib. variété",$A17),0) -> 0 | BL17: 6.5 | BM17: =BK17*BL17 -> 0 | BN17: =IFERROR(GETPIVOTDATA("Ha Tot collecte",'[1]Feuil1 (2)'!$A$3,"Silo",BN$11,"Lib. variété",$A17),0) -> 0 | BO17: 6.5 | BP17: =BN17*BO17 -> 0 | BQ17: =IFERROR(GETPIVOTDATA("Ha Tot collecte",'[1]Feuil1 (2)'!$A$3,"Silo",BQ$11,"Lib. variété",$A17),0) -> 0 | BR17: 6.5 | BS17: =BQ17*BR17 -> 0 | BT17: =IFERROR(GETPIVOTDATA("Ha Tot collecte",'[1]Feuil1 (2)'!$A$3,"Silo",BT$11,"Lib. variété",$A17),0) -> 0 | BU17: 6.5 | BV17: =BT17*BU17 -> 0 | BW17: =IFERROR(GETPIVOTDATA("Ha Tot collecte",'[1]Feuil1 (2)'!$A$3,"Silo",BW$11,"Lib. variété",$A17),0) -> 0 | BX17: 6.5 | BY17: =BW17*BX17 -> 0 | BZ17: =IFERROR(GETPIVOTDATA("Ha Tot collecte",'[1]Feuil1 (2)'!$A$3,"Silo",BZ$11,"Lib. variété",$A17),0) -> 0 | CA17: 6.5 | CB17: =BZ17*CA17 -> 0 | CC17: =IFERROR(GETPIVOTDATA("Ha Tot collecte",'[1]Feuil1 (2)'!$A$3,"Silo",CC$11,"Lib. variété",$A17),0) -> 0 | CD17: 6.5 | CE17: =CC17*CD17 -> 0 | CF17: =IFERROR(GETPIVOTDATA("Ha Tot collecte",'[1]Feuil1 (2)'!$A$3,"Silo",CF$11,"Lib. variété",$A17),0) -> 0 | CG17: 6.5 | CH17: =CF17*CG17 -> 0 | CJ17: 6.5 | CK17: =CI17*CJ17 -> 0 | CM17: 6.5 | CN17: =CL17*CM17 -> 0 | CP17: 6.5 | CQ17: =CO17*CP17 -> 0 | CS17: 6.5 | CT17: =CR17*CS17 -> 0 | CV17: 6.5 | CW17: =CU17*CV17 -> 0 | CY17: 6.5 | CZ17: =CX17*CY17 -> 0 | DB17: 6.5 | DC17: =DA17*DB17 -> 0 | DE17: 6.5 | DF17: =DD17*DE17 -> 0 | DH17: 6.5 | DI17: =DG17*DH17 -> 0 | DK17: 6.5 | DL17: =DJ17*DK17 -> 0 | DN17: 6.5 | DO17: =DM17*DN17 -> 0 | DQ17: 6.5 | DR17: =DP17*DQ17 -> 0 | DT17: 6.5 | DU17: =DS17*DT17 -> 0 | DW17: 6.5 | DX17: =DV17*DW17 -> 0 | DZ17: 6.5 | EA17: =DY17*DZ17 -> 0 | EC17: 6.5 | ED17: =EB17*EC17 -> 0 | EF17: 6.5 | EG17: =EE17*EF17 -> 0 | EI17: 6.5 | EJ17: =EH17*EI17 -> 0 | EL17: 6.5 | EM17: =EK17*EL17 -> 0 | EO17: 6.5 | EP17: =EN17*EO17 -> 0 | ER17: 6.5 | ES17: =EQ17*ER17 -> 0 | EU17: 6.5 | EV17: =ET17*EU17 -> 0 | EX17: 6.5 | EY17: =EW17*EX17 -> 0 | FA17: 6.5 | FB17: =EZ17*FA17 -> 0 | FD17: 6.5 | FE17: =FC17*FD17 -> 0 | FG17: 6.5 | FH17: =FF17*FG17 -> 0 | FJ17: 6.5 | FK17: =FI17*FJ17 -> 0 | FM17: 6.5 | FN17: =FL17*FM17 -> 0 | FP17: 6.5 | FQ17: =FO17*FP17 -> 0 | FS17: 6.5 | FT17: =FR17*FS17 -> 0 | FV17: 6.5 | FW17: =FU17*FV17 -> 0 | FY17: 6.5 | FZ17: =FX17*FY17 -> 0 | GB17: 6.5 | GC17: =GA17*GB17 -> 0 | GE17: 6.5 | GF17: =GD17*GE17 -> 0 | GH17: 6.5 | GI17: =GG17*GH17 -> 0 | GK17: 6.5 | GL17: =GJ17*GK17 -> 0 | GN17: 6.5 | GO17: =GM17*GN17 -> 0 | GQ17: 6.5 | GR17: =GP17*GQ17 -> 0 | GT17: 6.5 | GU17: =GS17*GT17 -> 0 | GW17: 6.5 | GX17: =GV17*GW17 -> 0 | GZ17: 6.5 | HA17: =GY17*GZ17 -> 0 | HC17: 6.5 | HD17: =HB17*HC17 -> 0 | HF17: 6.5 | HG17: =HE17*HF17 -> 0 | HI17: 6.5 | HJ17: =HH17*HI17 -> 0 | HL17: 6.5 | HM17: =HK17*HL17 -> 0 | HO17: 6.5 | HP17: =HN17*HO17 -> 0 | HR17: 6.5 | HS17: =HQ17*HR17 -> 0 | HU17: 6.5 | HV17: =HT17*HU17 -> 0 | HX17: 6.5 | HY17: =HW17*HX17 -> 0 | IA17: 6.5 | IB17: =HZ17*IA17 -> 0 | ID17: 6.5 | IE17: =IC17*ID17 -> 0
A18: =Feuil3!B5 -> BLE DE FORCE VALBONA | B18: =F18+I18+L18+O18+R18+U18+X18+AA18+AD18+AG18+AJ18+AM18+AP18+AS18+AV18+AY18+BB18+BE18+BH18+BK18+BN18+BQ18+BT18+BW18+BZ18+CC18+CF18+CI18+CL18+CO18+CR18+CU18+CX18+DA18+DD18+DG18+DJ18+DM18+DP18+DS18+DV18+DY18+EB18+EE18+EH18+EK18+EN18+EQ18+ET18+EW18+EZ18+FC18+FF18+FI18+FL18+FO18+FR18+FU18+FX18+GA18+GD18+GG18+GJ18+GM18+GP18+GS18+GV18+GY18+HB18+HE18+HH18+HK18+HN18+HQ18+HT18+HW18+HZ18+IC18 -> 0 | C18: =IF(B18=0,"",D18/B18) | D18: =H18+K18+N18+Q18+T18+W18+Z18+AC18+AF18+AI18+AL18+AO18+AR18+AU18+AX18+BA18+BD18+BG18+BJ18+BM18+BP18+BS18+BV18+BY18+CB18+CE18+CH18+CK18+CN18+CQ18+CT18+CW18+CZ18+DC18+DF18+DI18+DL18+DO18+DR18+DU18+DX18+EA18+ED18+EG18+EJ18+EM18+EP18+ES18+EV18+EY18+FB18+FE18+FH18+FK18+FN18+FQ18+FT18+FW18+FZ18+GC18+GF18+GI18+GL18+GO18+GR18+GU18+GX18+HA18+HD18+HG18+HJ18+HM18+HP18+HS18+HV18+HY18+IB18+IE18 -> 0 | F18: =IFERROR(GETPIVOTDATA("Ha Tot collecte",'[1]Feuil1 (2)'!$A$3,"Silo",F$11,"Lib. variété",$A18),0) -> 0 | G18: 6.5 | H18: =F18*G18 -> 0 | I18: =IFERROR(GETPIVOTDATA("Ha Tot collecte",'[1]Feuil1 (2)'!$A$3,"Silo",I$11,"Lib. variété",$A18),0) -> 0 | J18: 6.5 | K18: =I18*J18 -> 0 | L18: =IFERROR(GETPIVOTDATA("Ha Tot collecte",'[1]Feuil1 (2)'!$A$3,"Silo",L$11,"Lib. variété",$A18),0) -> 0 | M18: 6.5 | N18: =L18*M18 -> 0 | O18: =IFERROR(GETPIVOTDATA("Ha Tot collecte",'[1]Feuil1 (2)'!$A$3,"Silo",O$11,"Lib. variété",$A18),0) -> 0 | P18: 6.5 | Q18: =O18*P18 -> 0 | R18: =IFERROR(GETPIVOTDATA("Ha Tot collecte",'[1]Feuil1 (2)'!$A$3,"Silo",R$11,"Lib. variété",$A18),0) -> 0 | S18: 6.5 | T18: =R18*S18 -> 0 | U18: =IFERROR(GETPIVOTDATA("Ha Tot collecte",'[1]Feuil1 (2)'!$A$3,"Silo",U$11,"Lib. variété",$A18),0) -> 0 | V18: 6.5 | W18: =U18*V18 -> 0 | X18: =IFERROR(GETPIVOTDATA("Ha Tot collecte",'[1]Feuil1 (2)'!$A$3,"Silo",X$11,"Lib. variété",$A18),0) -> 0 | Y18: 6.5 | Z18: =X18*Y18 -> 0 | AA18: =IFERROR(GETPIVOTDATA("Ha Tot collecte",'[1]Feuil1 (2)'!$A$3,"Silo",AA$11,"Lib. variété",$A18),0) -> 0 | AB18: 6.5 | AC18: =AA18*AB18 -> 0 | AD18: =IFERROR(GETPIVOTDATA("Ha Tot collecte",'[1]Feuil1 (2)'!$A$3,"Silo",AD$11,"Lib. variété",$A18),0) -> 0 | AE18: 6.5 | AF18: =AD18*AE18 -> 0 | AG18: =IFERROR(GETPIVOTDATA("Ha Tot collecte",'[1]Feuil1 (2)'!$A$3,"Silo",AG$11,"Lib. variété",$A18),0) -> 0 | AH18: 6.5 | AI18: =AG18*AH18 -> 0 | AJ18: =IFERROR(GETPIVOTDATA("Ha Tot collecte",'[1]Feuil1 (2)'!$A$3,"Silo",AJ$11,"Lib. variété",$A18),0) -> 0 | AK18: 6.5 | AL18: =AJ18*AK18 -> 0 | AM18: =IFERROR(GETPIVOTDATA("Ha Tot collecte",'[1]Feuil1 (2)'!$A$3,"Silo",AM$11,"Lib. variété",$A18),0) -> 0 | AN18: 6.5 | AO18: =AM18*AN18 -> 0 | AP18: =IFERROR(GETPIVOTDATA("Ha Tot collecte",'[1]Feuil1 (2)'!$A$3,"Silo",AP$11,"Lib. variété",$A18),0) -> 0 | AQ18: 6.5 | AR18: =AP18*AQ18 -> 0 | AS18: =IFERROR(GETPIVOTDATA("Ha Tot collecte",'[1]Feuil1 (2)'!$A$3,"Silo",AS$11,"Lib. variété",$A18),0) -> 0 | AT18: 6.5 | AU18: =AS18*AT18 -> 0 | AV18: =IFERROR(GETPIVOTDATA("Ha Tot collecte",'[1]Feuil1 (2)'!$A$3,"Silo",AV$11,"Lib. variété",$A18),0) -> 0 | AW18: 6.5 | AX18: =AV18*AW18 -> 0 | AY18: =IFERROR(GETPIVOTDATA("Ha Tot collecte",'[1]Feuil1 (2)'!$A$3,"Silo",AY$11,"Lib. variété",$A18),0) -> 0 | AZ18: 6.5 | BA18: =AY18*AZ18 -> 0 | BB18: =IFERROR(GETPIVOTDATA("Ha Tot collecte",'[1]Feuil1 (2)'!$A$3,"Silo",BB$11,"Lib. variété",$A18),0) -> 0 | BC18: 6.5 | BD18: =BB18*BC18 -> 0 | BE18: =IFERROR(GETPIVOTDATA("Ha Tot collecte",'[1]Feuil1 (2)'!$A$3,"Silo",BE$11,"Lib. variété",$A18),0) -> 0 | BF18: 6.5 | BG18: =BE18*BF18 -> 0 | BH18: =IFERROR(GETPIVOTDATA("Ha Tot collecte",'[1]Feuil1 (2)'!$A$3,"Silo",BH$11,"Lib. variété",$A18),0) -> 0 | BI18: 6.5 | BJ18: =BH18*BI18 -> 0 | BK18: =IFERROR(GETPIVOTDATA("Ha Tot collecte",'[1]Feuil1 (2)'!$A$3,"Silo",BK$11,"Lib. variété",$A18),0) -> 0 | BL18: 6.5 | BM18: =BK18*BL18 -> 0 | BN18: =IFERROR(GETPIVOTDATA("Ha Tot collecte",'[1]Feuil1 (2)'!$A$3,"Silo",BN$11,"Lib. variété",$A18),0) -> 0 | BO18: 6.5 | BP18: =BN18*BO18 -> 0 | BQ18: =IFERROR(GETPIVOTDATA("Ha Tot collecte",'[1]Feuil1 (2)'!$A$3,"Silo",BQ$11,"Lib. variété",$A18),0) -> 0 | BR18: 6.5 | BS18: =BQ18*BR18 -> 0 | BT18: =IFERROR(GETPIVOTDATA("Ha Tot collecte",'[1]Feuil1 (2)'!$A$3,"Silo",BT$11,"Lib. variété",$A18),0) -> 0 | BU18: 6.5 | BV18: =BT18*BU18 -> 0 | BW18: =IFERROR(GETPIVOTDATA("Ha Tot collecte",'[1]Feuil1 (2)'!$A$3,"Silo",BW$11,"Lib. variété",$A18),0) -> 0 | BX18: 6.5 | BY18: =BW18*BX18 -> 0 | BZ18: =IFERROR(GETPIVOTDATA("Ha Tot collecte",'[1]Feuil1 (2)'!$A$3,"Silo",BZ$11,"Lib. variété",$A18),0) -> 0 | CA18: 6.5 | CB18: =BZ18*CA18 -> 0 | CC18: =IFERROR(GETPIVOTDATA("Ha Tot collecte",'[1]Feuil1 (2)'!$A$3,"Silo",CC$11,"Lib. variété",$A18),0) -> 0 | CD18: 6.5 | CE18: =CC18*CD18 -> 0 | CF18: =IFERROR(GETPIVOTDATA("Ha Tot collecte",'[1]Feuil1 (2)'!$A$3,"Silo",CF$11,"Lib. variété",$A18),0) -> 0 | CG18: 6.5 | CH18: =CF18*CG18 -> 0 | CJ18: 6.5 | CK18: =CI18*CJ18 -> 0 | CM18: 6.5 | CN18: =CL18*CM18 -> 0 | CP18: 6.5 | CQ18: =CO18*CP18 -> 0 | CS18: 6.5 | CT18: =CR18*CS18 -> 0 | CV18: 6.5 | CW18: =CU18*CV18 -> 0 | CY18: 6.5 | CZ18: =CX18*CY18 -> 0 | DB18: 6.5 | DC18: =DA18*DB18 -> 0 | DE18: 6.5 | DF18: =DD18*DE18 -> 0 | DH18: 6.5 | DI18: =DG18*DH18 -> 0 | DK18: 6.5 | DL18: =DJ18*DK18 -> 0 | DN18: 6.5 | DO18: =DM18*DN18 -> 0 | DQ18: 6.5 | DR18: =DP18*DQ18 -> 0 | DT18: 6.5 | DU18: =DS18*DT18 -> 0 | DW18: 6.5 | DX18: =DV18*DW18 -> 0 | DZ18: 6.5 | EA18: =DY18*DZ18 -> 0 | EC18: 6.5 | ED18: =EB18*EC18 -> 0 | EF18: 6.5 | EG18: =EE18*EF18 -> 0 | EI18: 6.5 | EJ18: =EH18*EI18 -> 0 | EL18: 6.5 | EM18: =EK18*EL18 -> 0 | EO18: 6.5 | EP18: =EN18*EO18 -> 0 | ER18: 6.5 | ES18: =EQ18*ER18 -> 0 | EU18: 6.5 | EV18: =ET18*EU18 -> 0 | EX18: 6.5 | EY18: =EW18*EX18 -> 0 | FA18: 6.5 | FB18: =EZ18*FA18 -> 0 | FD18: 6.5 | FE18: =FC18*FD18 -> 0 | FG18: 6.5 | FH18: =FF18*FG18 -> 0 | FJ18: 6.5 | FK18: =FI18*FJ18 -> 0 | FM18: 6.5 | FN18: =FL18*FM18 -> 0 | FP18: 6.5 | FQ18: =FO18*FP18 -> 0 | FS18: 6.5 | FT18: =FR18*FS18 -> 0 | FV18: 6.5 | FW18: =FU18*FV18 -> 0 | FY18: 6.5 | FZ18: =FX18*FY18 -> 0 | GB18: 6.5 | GC18: =GA18*GB18 -> 0 | GE18: 6.5 | GF18: =GD18*GE18 -> 0 | GH18: 6.5 | GI18: =GG18*GH18 -> 0 | GK18: 6.5 | GL18: =GJ18*GK18 -> 0 | GN18: 6.5 | GO18: =GM18*GN18 -> 0 | GQ18: 6.5 | GR18: =GP18*GQ18 -> 0 | GT18: 6.5 | GU18: =GS18*GT18 -> 0 | GW18: 6.5 | GX18: =GV18*GW18 -> 0 | GZ18: 6.5 | HA18: =GY18*GZ18 -> 0 | HC18: 6.5 | HD18: =HB18*HC18 -> 0 | HF18: 6.5 | HG18: =HE18*HF18 -> 0 | HI18: 6.5 | HJ18: =HH18*HI18 -> 0 | HL18: 6.5 | HM18: =HK18*HL18 -> 0 | HO18: 6.5 | HP18: =HN18*HO18 -> 0 | HR18: 6.5 | HS18: =HQ18*HR18 -> 0 | HU18: 6.5 | HV18: =HT18*HU18 -> 0 | HX18: 6.5 | HY18: =HW18*HX18 -> 0 | IA18: 6.5 | IB18: =HZ18*IA18 -> 0 | ID18: 6.5 | IE18: =IC18*ID18 -> 0
A19: =Feuil3!B6 -> BLE APACHE | B19: =F19+I19+L19+O19+R19+U19+X19+AA19+AD19+AG19+AJ19+AM19+AP19+AS19+AV19+AY19+BB19+BE19+BH19+BK19+BN19+BQ19+BT19+BW19+BZ19+CC19+CF19+CI19+CL19+CO19+CR19+CU19+CX19+DA19+DD19+DG19+DJ19+DM19+DP19+DS19+DV19+DY19+EB19+EE19+EH19+EK19+EN19+EQ19+ET19+EW19+EZ19+FC19+FF19+FI19+FL19+FO19+FR19+FU19+FX19+GA19+GD19+GG19+GJ19+GM19+GP19+GS19+GV19+GY19+HB19+HE19+HH19+HK19+HN19+HQ19+HT19+HW19+HZ19+IC19 -> 0 | C19: =IF(B19=0,"",D19/B19) | D19: =H19+K19+N19+Q19+T19+W19+Z19+AC19+AF19+AI19+AL19+AO19+AR19+AU19+AX19+BA19+BD19+BG19+BJ19+BM19+BP19+BS19+BV19+BY19+CB19+CE19+CH19+CK19+CN19+CQ19+CT19+CW19+CZ19+DC19+DF19+DI19+DL19+DO19+DR19+DU19+DX19+EA19+ED19+EG19+EJ19+EM19+EP19+ES19+EV19+EY19+FB19+FE19+FH19+FK19+FN19+FQ19+FT19+FW19+FZ19+GC19+GF19+GI19+GL19+GO19+GR19+GU19+GX19+HA19+HD19+HG19+HJ19+HM19+HP19+HS19+HV19+HY19+IB19+IE19 -> 0 | F19: =IFERROR(GETPIVOTDATA("Ha Tot collecte",'[1]Feuil1 (2)'!$A$3,"Silo",F$11,"Lib. variété",$A19),0) -> 0 | G19: 6.5 | H19: =F19*G19 -> 0 | I19: =IFERROR(GETPIVOTDATA("Ha Tot collecte",'[1]Feuil1 (2)'!$A$3,"Silo",I$11,"Lib. variété",$A19),0) -> 0 | J19: 6.5 | K19: =I19*J19 -> 0 | L19: =IFERROR(GETPIVOTDATA("Ha Tot collecte",'[1]Feuil1 (2)'!$A$3,"Silo",L$11,"Lib. variété",$A19),0) -> 0 | M19: 6.5 | N19: =L19*M19 -> 0 | O19: =IFERROR(GETPIVOTDATA("Ha Tot collecte",'[1]Feuil1 (2)'!$A$3,"Silo",O$11,"Lib. variété",$A19),0) -> 0 | P19: 6.5 | Q19: =O19*P19 -> 0 | R19: =IFERROR(GETPIVOTDATA("Ha Tot collecte",'[1]Feuil1 (2)'!$A$3,"Silo",R$11,"Lib. variété",$A19),0) -> 0 | S19: 6.5 | T19: =R19*S19 -> 0 | U19: =IFERROR(GETPIVOTDATA("Ha Tot collecte",'[1]Feuil1 (2)'!$A$3,"Silo",U$11,"Lib. variété",$A19),0) -> 0 | V19: 6.5 | W19: =U19*V19 -> 0 | X19: =IFERROR(GETPIVOTDATA("Ha Tot collecte",'[1]Feuil1 (2)'!$A$3,"Silo",X$11,"Lib. variété",$A19),0) -> 0 | Y19: 6.5 | Z19: =X19*Y19 -> 0 | AA19: =IFERROR(GETPIVOTDATA("Ha Tot collecte",'[1]Feuil1 (2)'!$A$3,"Silo",AA$11,"Lib. variété",$A19),0) -> 0 | AB19: 6.5 | AC19: =AA19*AB19 -> 0 | AD19: =IFERROR(GETPIVOTDATA("Ha Tot collecte",'[1]Feuil1 (2)'!$A$3,"Silo",AD$11,"Lib. variété",$A19),0) -> 0 | AE19: 6.5 | AF19: =AD19*AE19 -> 0 | AG19: =IFERROR(GETPIVOTDATA("Ha Tot collecte",'[1]Feuil1 (2)'!$A$3,"Silo",AG$11,"Lib. variété",$A19),0) -> 0 | AH19: 6.5 | AI19: =AG19*AH19 -> 0 | AJ19: =IFERROR(GETPIVOTDATA("Ha Tot collecte",'[1]Feuil1 (2)'!$A$3,"Silo",AJ$11,"Lib. variété",$A19),0) -> 0 | AK19: 6.5 | AL19: =AJ19*AK19 -> 0 | AM19: =IFERROR(GETPIVOTDATA("Ha Tot collecte",'[1]Feuil1 (2)'!$A$3,"Silo",AM$11,"Lib. variété",$A19),0) -> 0 | AN19: 6.5 | AO19: =AM19*AN19 -> 0 | AP19: =IFERROR(GETPIVOTDATA("Ha Tot collecte",'[1]Feuil1 (2)'!$A$3,"Silo",AP$11,"Lib. variété",$A19),0) -> 0 | AQ19: 6.5 | AR19: =AP19*AQ19 -> 0 | AS19: =IFERROR(GETPIVOTDATA("Ha Tot collecte",'[1]Feuil1 (2)'!$A$3,"Silo",AS$11,"Lib. variété",$A19),0) -> 0 | AT19: 6.5 | AU19: =AS19*AT19 -> 0 | AV19: =IFERROR(GETPIVOTDATA("Ha Tot collecte",'[1]Feuil1 (2)'!$A$3,"Silo",AV$11,"Lib. variété",$A19),0) -> 0 | AW19: 6.5 | AX19: =AV19*AW19 -> 0 | AY19: =IFERROR(GETPIVOTDATA("Ha Tot collecte",'[1]Feuil1 (2)'!$A$3,"Silo",AY$11,"Lib. variété",$A19),0) -> 0 | AZ19: 6.5 | BA19: =AY19*AZ19 -> 0 | BB19: =IFERROR(GETPIVOTDATA("Ha Tot collecte",'[1]Feuil1 (2)'!$A$3,"Silo",BB$11,"Lib. variété",$A19),0) -> 0 | BC19: 6.5 | BD19: =BB19*BC19 -> 0 | BE19: =IFERROR(GETPIVOTDATA("Ha Tot collecte",'[1]Feuil1 (2)'!$A$3,"Silo",BE$11,"Lib. variété",$A19),0) -> 0 | BF19: 6.5 | BG19: =BE19*BF19 -> 0 | BH19: =IFERROR(GETPIVOTDATA("Ha Tot collecte",'[1]Feuil1 (2)'!$A$3,"Silo",BH$11,"Lib. variété",$A19),0) -> 0 | BI19: 6.5 | BJ19: =BH19*BI19 -> 0 | BK19: =IFERROR(GETPIVOTDATA("Ha Tot collecte",'[1]Feuil1 (2)'!$A$3,"Silo",BK$11,"Lib. variété",$A19),0) -> 0 | BL19: 6.5 | BM19: =BK19*BL19 -> 0 | BN19: =IFERROR(GETPIVOTDATA("Ha Tot collecte",'[1]Feuil1 (2)'!$A$3,"Silo",BN$11,"Lib. variété",$A19),0) -> 0 | BO19: 6.5 | BP19: =BN19*BO19 -> 0 | BQ19: =IFERROR(GETPIVOTDATA("Ha Tot collecte",'[1]Feuil1 (2)'!$A$3,"Silo",BQ$11,"Lib. variété",$A19),0) -> 0 | BR19: 6.5 | BS19: =BQ19*BR19 -> 0 | BT19: =IFERROR(GETPIVOTDATA("Ha Tot collecte",'[1]Feuil1 (2)'!$A$3,"Silo",BT$11,"Lib. variété",$A19),0) -> 0 | BU19: 6.5 | BV19: =BT19*BU19 -> 0 | BW19: =IFERROR(GETPIVOTDATA("Ha Tot collecte",'[1]Feuil1 (2)'!$A$3,"Silo",BW$11,"Lib. variété",$A19),0) -> 0 | BX19: 6.5 | BY19: =BW19*BX19 -> 0 | BZ19: =IFERROR(GETPIVOTDATA("Ha Tot collecte",'[1]Feuil1 (2)'!$A$3,"Silo",BZ$11,"Lib. variété",$A19),0) -> 0 | CA19: 6.5 | CB19: =BZ19*CA19 -> 0 | CC19: =IFERROR(GETPIVOTDATA("Ha Tot collecte",'[1]Feuil1 (2)'!$A$3,"Silo",CC$11,"Lib. variété",$A19),0) -> 0 | CD19: 6.5 | CE19: =CC19*CD19 -> 0 | CF19: =IFERROR(GETPIVOTDATA("Ha Tot collecte",'[1]Feuil1 (2)'!$A$3,"Silo",CF$11,"Lib. variété",$A19),0) -> 0 | CG19: 6.5 | CH19: =CF19*CG19 -> 0 | CJ19: 6.5 | CK19: =CI19*CJ19 -> 0 | CM19: 6.5 | CN19: =CL19*CM19 -> 0 | CP19: 6.5 | CQ19: =CO19*CP19 -> 0 | CS19: 6.5 | CT19: =CR19*CS19 -> 0 | CV19: 6.5 | CW19: =CU19*CV19 -> 0 | CY19: 6.5 | CZ19: =CX19*CY19 -> 0 | DB19: 6.5 | DC19: =DA19*DB19 -> 0 | DE19: 6.5 | DF19: =DD19*DE19 -> 0 | DH19: 6.5 | DI19: =DG19*DH19 -> 0 | DK19: 6.5 | DL19: =DJ19*DK19 -> 0 | DN19: 6.5 | DO19: =DM19*DN19 -> 0 | DQ19: 6.5 | DR19: =DP19*DQ19 -> 0 | DT19: 6.5 | DU19: =DS19*DT19 -> 0 | DW19: 6.5 | DX19: =DV19*DW19 -> 0 | DZ19: 6.5 | EA19: =DY19*DZ19 -> 0 | EC19: 6.5 | ED19: =EB19*EC19 -> 0 | EF19: 6.5 | EG19: =EE19*EF19 -> 0 | EI19: 6.5 | EJ19: =EH19*EI19 -> 0 | EL19: 6.5 | EM19: =EK19*EL19 -> 0 | EO19: 6.5 | EP19: =EN19*EO19 -> 0 | ER19: 6.5 | ES19: =EQ19*ER19 -> 0 | EU19: 6.5 | EV19: =ET19*EU19 -> 0 | EX19: 6.5 | EY19: =EW19*EX19 -> 0 | FA19: 6.5 | FB19: =EZ19*FA19 -> 0 | FD19: 6.5 | FE19: =FC19*FD19 -> 0 | FG19: 6.5 | FH19: =FF19*FG19 -> 0 | FJ19: 6.5 | FK19: =FI19*FJ19 -> 0 | FM19: 6.5 | FN19: =FL19*FM19 -> 0 | FP19: 6.5 | FQ19: =FO19*FP19 -> 0 | FS19: 6.5 | FT19: =FR19*FS19 -> 0 | FV19: 6.5 | FW19: =FU19*FV19 -> 0 | FY19: 6.5 | FZ19: =FX19*FY19 -> 0 | GB19: 6.5 | GC19: =GA19*GB19 -> 0 | GE19: 6.5 | GF19: =GD19*GE19 -> 0 | GH19: 6.5 | GI19: =GG19*GH19 -> 0 | GK19: 6.5 | GL19: =GJ19*GK19 -> 0 | GN19: 6.5 | GO19: =GM19*GN19 -> 0 | GQ19: 6.5 | GR19: =GP19*GQ19 -> 0 | GT19: 6.5 | GU19: =GS19*GT19 -> 0 | GW19: 6.5 | GX19: =GV19*GW19 -> 0 | GZ19: 6.5 | HA19: =GY19*GZ19 -> 0 | HC19: 6.5 | HD19: =HB19*HC19 -> 0 | HF19: 6.5 | HG19: =HE19*HF19 -> 0 | HI19: 6.5 | HJ19: =HH19*HI19 -> 0 | HL19: 6.5 | HM19: =HK19*HL19 -> 0 | HO19: 6.5 | HP19: =HN19*HO19 -> 0 | HR19: 6.5 | HS19: =HQ19*HR19 -> 0 | HU19: 6.5 | HV19: =HT19*HU19 -> 0 | HX19: 6.5 | HY19: =HW19*HX19 -> 0 | IA19: 6.5 | IB19: =HZ19*IA19 -> 0 | ID19: 6.5 | IE19: =IC19*ID19 -> 0
A20: =Feuil3!B7 -> BLE AREZZO POUR FARINE LABEL ROUGE | B20: =F20+I20+L20+O20+R20+U20+X20+AA20+AD20+AG20+AJ20+AM20+AP20+AS20+AV20+AY20+BB20+BE20+BH20+BK20+BN20+BQ20+BT20+BW20+BZ20+CC20+CF20+CI20+CL20+CO20+CR20+CU20+CX20+DA20+DD20+DG20+DJ20+DM20+DP20+DS20+DV20+DY20+EB20+EE20+EH20+EK20+EN20+EQ20+ET20+EW20+EZ20+FC20+FF20+FI20+FL20+FO20+FR20+FU20+FX20+GA20+GD20+GG20+GJ20+GM20+GP20+GS20+GV20+GY20+HB20+HE20+HH20+HK20+HN20+HQ20+HT20+HW20+HZ20+IC20 -> 0 | C20: =IF(B20=0,"",D20/B20) | D20: =H20+K20+N20+Q20+T20+W20+Z20+AC20+AF20+AI20+AL20+AO20+AR20+AU20+AX20+BA20+BD20+BG20+BJ20+BM20+BP20+BS20+BV20+BY20+CB20+CE20+CH20+CK20+CN20+CQ20+CT20+CW20+CZ20+DC20+DF20+DI20+DL20+DO20+DR20+DU20+DX20+EA20+ED20+EG20+EJ20+EM20+EP20+ES20+EV20+EY20+FB20+FE20+FH20+FK20+FN20+FQ20+FT20+FW20+FZ20+GC20+GF20+GI20+GL20+GO20+GR20+GU20+GX20+HA20+HD20+HG20+HJ20+HM20+HP20+HS20+HV20+HY20+IB20+IE20 -> 0 | F20: =IFERROR(GETPIVOTDATA("Ha Tot collecte",'[1]Feuil1 (2)'!$A$3,"Silo",F$11,"Lib. variété",$A20),0) -> 0 | G20: 6.5 | H20: =F20*G20 -> 0 | I20: =IFERROR(GETPIVOTDATA("Ha Tot collecte",'[1]Feuil1 (2)'!$A$3,"Silo",I$11,"Lib. variété",$A20),0) -> 0 | J20: 6.5 | K20: =I20*J20 -> 0 | L20: =IFERROR(GETPIVOTDATA("Ha Tot collecte",'[1]Feuil1 (2)'!$A$3,"Silo",L$11,"Lib. variété",$A20),0) -> 0 | M20: 6.5 | N20: =L20*M20 -> 0 | O20: =IFERROR(GETPIVOTDATA("Ha Tot collecte",'[1]Feuil1 (2)'!$A$3,"Silo",O$11,"Lib. variété",$A20),0) -> 0 | P20: 6.5 | Q20: =O20*P20 -> 0 | R20: =IFERROR(GETPIVOTDATA("Ha Tot collecte",'[1]Feuil1 (2)'!$A$3,"Silo",R$11,"Lib. variété",$A20),0) -> 0 | S20: 6.5 | T20: =R20*S20 -> 0 | U20: =IFERROR(GETPIVOTDATA("Ha Tot collecte",'[1]Feuil1 (2)'!$A$3,"Silo",U$11,"Lib. variété",$A20),0) -> 0 | V20: 6.5 | W20: =U20*V20 -> 0 | X20: =IFERROR(GETPIVOTDATA("Ha Tot collecte",'[1]Feuil1 (2)'!$A$3,"Silo",X$11,"Lib. variété",$A20),0) -> 0 | Y20: 6.5 | Z20: =X20*Y20 -> 0 | AA20: =IFERROR(GETPIVOTDATA("Ha Tot collecte",'[1]Feuil1 (2)'!$A$3,"Silo",AA$11,"Lib. variété",$A20),0) -> 0 | AB20: 6.5 | AC20: =AA20*AB20 -> 0 | AD20: =IFERROR(GETPIVOTDATA("Ha Tot collecte",'[1]Feuil1 (2)'!$A$3,"Silo",AD$11,"Lib. variété",$A20),0) -> 0 | AE20: 6.5 | AF20: =AD20*AE20 -> 0 | AG20: =IFERROR(GETPIVOTDATA("Ha Tot collecte",'[1]Feuil1 (2)'!$A$3,"Silo",AG$11,"Lib. variété",$A20),0) -> 0 | AH20: 6.5 | AI20: =AG20*AH20 -> 0 | AJ20: =IFERROR(GETPIVOTDATA("Ha Tot collecte",'[1]Feuil1 (2)'!$A$3,"Silo",AJ$11,"Lib. variété",$A20),0) -> 0 | AK20: 6.5 | AL20: =AJ20*AK20 -> 0 | AM20: =IFERROR(GETPIVOTDATA("Ha Tot collecte",'[1]Feuil1 (2)'!$A$3,"Silo",AM$11,"Lib. variété",$A20),0) -> 0 | AN20: 6.5 | AO20: =AM20*AN20 -> 0 | AP20: =IFERROR(GETPIVOTDATA("Ha Tot collecte",'[1]Feuil1 (2)'!$A$3,"Silo",AP$11,"Lib. variété",$A20),0) -> 0 | AQ20: 6.5 | AR20: =AP20*AQ20 -> 0 | AS20: =IFERROR(GETPIVOTDATA("Ha Tot collecte",'[1]Feuil1 (2)'!$A$3,"Silo",AS$11,"Lib. variété",$A20),0) -> 0 | AT20: 6.5 | AU20: =AS20*AT20 -> 0 | AV20: =IFERROR(GETPIVOTDATA("Ha Tot collecte",'[1]Feuil1 (2)'!$A$3,"Silo",AV$11,"Lib. variété",$A20),0) -> 0 | AW20: 6.5 | AX20: =AV20*AW20 -> 0 | AY20: =IFERROR(GETPIVOTDATA("Ha Tot collecte",'[1]Feuil1 (2)'!$A$3,"Silo",AY$11,"Lib. variété",$A20),0) -> 0 | AZ20: 6.5 | BA20: =AY20*AZ20 -> 0 | BB20: =IFERROR(GETPIVOTDATA("Ha Tot collecte",'[1]Feuil1 (2)'!$A$3,"Silo",BB$11,"Lib. variété",$A20),0) -> 0 | BC20: 6.5 | BD20: =BB20*BC20 -> 0 | BE20: =IFERROR(GETPIVOTDATA("Ha Tot collecte",'[1]Feuil1 (2)'!$A$3,"Silo",BE$11,"Lib. variété",$A20),0) -> 0 | BF20: 6.5 | BG20: =BE20*BF20 -> 0 | BH20: =IFERROR(GETPIVOTDATA("Ha Tot collecte",'[1]Feuil1 (2)'!$A$3,"Silo",BH$11,"Lib. variété",$A20),0) -> 0 | BI20: 6.5 | BJ20: =BH20*BI20 -> 0 | BK20: =IFERROR(GETPIVOTDATA("Ha Tot collecte",'[1]Feuil1 (2)'!$A$3,"Silo",BK$11,"Lib. variété",$A20),0) -> 0 | BL20: 6.5 | BM20: =BK20*BL20 -> 0 | BN20: =IFERROR(GETPIVOTDATA("Ha Tot collecte",'[1]Feuil1 (2)'!$A$3,"Silo",BN$11,"Lib. variété",$A20),0) -> 0 | BO20: 6.5 | BP20: =BN20*BO20 -> 0 | BQ20: =IFERROR(GETPIVOTDATA("Ha Tot collecte",'[1]Feuil1 (2)'!$A$3,"Silo",BQ$11,"Lib. variété",$A20),0) -> 0 | BR20: 6.5 | BS20: =BQ20*BR20 -> 0 | BT20: =IFERROR(GETPIVOTDATA("Ha Tot collecte",'[1]Feuil1 (2)'!$A$3,"Silo",BT$11,"Lib. variété",$A20),0) -> 0 | BU20: 6.5 | BV20: =BT20*BU20 -> 0 | BW20: =IFERROR(GETPIVOTDATA("Ha Tot collecte",'[1]Feuil1 (2)'!$A$3,"Silo",BW$11,"Lib. variété",$A20),0) -> 0 | BX20: 6.5 | BY20: =BW20*BX20 -> 0 | BZ20: =IFERROR(GETPIVOTDATA("Ha Tot collecte",'[1]Feuil1 (2)'!$A$3,"Silo",BZ$11,"Lib. variété",$A20),0) -> 0 | CA20: 6.5 | CB20: =BZ20*CA20 -> 0 | CC20: =IFERROR(GETPIVOTDATA("Ha Tot collecte",'[1]Feuil1 (2)'!$A$3,"Silo",CC$11,"Lib. variété",$A20),0) -> 0 | CD20: 6.5 | CE20: =CC20*CD20 -> 0 | CF20: =IFERROR(GETPIVOTDATA("Ha Tot collecte",'[1]Feuil1 (2)'!$A$3,"Silo",CF$11,"Lib. variété",$A20),0) -> 0 | CG20: 6.5 | CH20: =CF20*CG20 -> 0 | CJ20: 6.5 | CK20: =CI20*CJ20 -> 0 | CM20: 6.5 | CN20: =CL20*CM20 -> 0 | CP20: 6.5 | CQ20: =CO20*CP20 -> 0 | CS20: 6.5 | CT20: =CR20*CS20 -> 0 | CV20: 6.5 | CW20: =CU20*CV20 -> 0 | CY20: 6.5 | CZ20: =CX20*CY20 -> 0 | DB20: 6.5 | DC20: =DA20*DB20 -> 0 | DE20: 6.5 | DF20: =DD20*DE20 -> 0 | DH20: 6.5 | DI20: =DG20*DH20 -> 0 | DK20: 6.5 | DL20: =DJ20*DK20 -> 0 | DN20: 6.5 | DO20: =DM20*DN20 -> 0 | DQ20: 6.5 | DR20: =DP20*DQ20 -> 0 | DT20: 6.5 | DU20: =DS20*DT20 -> 0 | DW20: 6.5 | DX20: =DV20*DW20 -> 0 | DZ20: 6.5 | EA20: =DY20*DZ20 -> 0 | EC20: 6.5 | ED20: =EB20*EC20 -> 0 | EF20: 6.5 | EG20: =EE20*EF20 -> 0 | EI20: 6.5 | EJ20: =EH20*EI20 -> 0 | EL20: 6.5 | EM20: =EK20*EL20 -> 0 | EO20: 6.5 | EP20: =EN20*EO20 -> 0 | ER20: 6.5 | ES20: =EQ20*ER20 -> 0 | EU20: 6.5 | EV20: =ET20*EU20 -> 0 | EX20: 6.5 | EY20: =EW20*EX20 -> 0 | FA20: 6.5 | FB20: =EZ20*FA20 -> 0 | FD20: 6.5 | FE20: =FC20*FD20 -> 0 | FG20: 6.5 | FH20: =FF20*FG20 -> 0 | FJ20: 6.5 | FK20: =FI20*FJ20 -> 0 | FM20: 6.5 | FN20: =FL20*FM20 -> 0 | FP20: 6.5 | FQ20: =FO20*FP20 -> 0 | FS20: 6.5 | FT20: =FR20*FS20 -> 0 | FV20: 6.5 | FW20: =FU20*FV20 -> 0 | FY20: 6.5 | FZ20: =FX20*FY20 -> 0 | GB20: 6.5 | GC20: =GA20*GB20 -> 0 | GE20: 6.5 | GF20: =GD20*GE20 -> 0 | GH20: 6.5 | GI20: =GG20*GH20 -> 0 | GK20: 6.5 | GL20: =GJ20*GK20 -> 0 | GN20: 6.5 | GO20: =GM20*GN20 -> 0 | GQ20: 6.5 | GR20: =GP20*GQ20 -> 0 | GT20: 6.5 | GU20: =GS20*GT20 -> 0 | GW20: 6.5 | GX20: =GV20*GW20 -> 0 | GZ20: 6.5 | HA20: =GY20*GZ20 -> 0 | HC20: 6.5 | HD20: =HB20*HC20 -> 0 | HF20: 6.5 | HG20: =HE20*HF20 -> 0 | HI20: 6.5 | HJ20: =HH20*HI20 -> 0 | HL20: 6.5 | HM20: =HK20*HL20 -> 0 | HO20: 6.5 | HP20: =HN20*HO20 -> 0 | HR20: 6.5 | HS20: =HQ20*HR20 -> 0 | HU20: 6.5 | HV20: =HT20*HU20 -> 0 | HX20: 6.5 | HY20: =HW20*HX20 -> 0 | IA20: 6.5 | IB20: =HZ20*IA20 -> 0 | ID20: 6.5 | IE20: =IC20*ID20 -> 0
A21: =Feuil3!B8 -> 0 | B21: =F21+I21+L21+O21+R21+U21+X21+AA21+AD21+AG21+AJ21+AM21+AP21+AS21+AV21+AY21+BB21+BE21+BH21+BK21+BN21+BQ21+BT21+BW21+BZ21+CC21+CF21+CI21+CL21+CO21+CR21+CU21+CX21+DA21+DD21+DG21+DJ21+DM21+DP21+DS21+DV21+DY21+EB21+EE21+EH21+EK21+EN21+EQ21+ET21+EW21+EZ21+FC21+FF21+FI21+FL21+FO21+FR21+FU21+FX21+GA21+GD21+GG21+GJ21+GM21+GP21+GS21+GV21+GY21+HB21+HE21+HH21+HK21+HN21+HQ21+HT21+HW21+HZ21+IC21 -> 0 | C21: =IF(B21=0,"",D21/B21) | D21: =H21+K21+N21+Q21+T21+W21+Z21+AC21+AF21+AI21+AL21+AO21+AR21+AU21+AX21+BA21+BD21+BG21+BJ21+BM21+BP21+BS21+BV21+BY21+CB21+CE21+CH21+CK21+CN21+CQ21+CT21+CW21+CZ21+DC21+DF21+DI21+DL21+DO21+DR21+DU21+DX21+EA21+ED21+EG21+EJ21+EM21+EP21+ES21+EV21+EY21+FB21+FE21+FH21+FK21+FN21+FQ21+FT21+FW21+FZ21+GC21+GF21+GI21+GL21+GO21+GR21+GU21+GX21+HA21+HD21+HG21+HJ21+HM21+HP21+HS21+HV21+HY21+IB21+IE21 -> 0 | F21: =IFERROR(GETPIVOTDATA("Ha Tot collecte",'[1]Feuil1 (2)'!$A$3,"Silo",F$11,"Lib. variété",$A21),0) -> 0 | G21: 6.5 | H21: =F21*G21 -> 0 | I21: =IFERROR(GETPIVOTDATA("Ha Tot collecte",'[1]Feuil1 (2)'!$A$3,"Silo",I$11,"Lib. variété",$A21),0) -> 0 | J21: 6.5 | K21: =I21*J21 -> 0 | L21: =IFERROR(GETPIVOTDATA("Ha Tot collecte",'[1]Feuil1 (2)'!$A$3,"Silo",L$11,"Lib. variété",$A21),0) -> 0 | M21: 6.5 | N21: =L21*M21 -> 0 | O21: =IFERROR(GETPIVOTDATA("Ha Tot collecte",'[1]Feuil1 (2)'!$A$3,"Silo",O$11,"Lib. variété",$A21),0) -> 0 | P21: 6.5 | Q21: =O21*P21 -> 0 | R21: =IFERROR(GETPIVOTDATA("Ha Tot collecte",'[1]Feuil1 (2)'!$A$3,"Silo",R$11,"Lib. variété",$A21),0) -> 0 | S21: 6.5 | T21: =R21*S21 -> 0 | U21: =IFERROR(GETPIVOTDATA("Ha Tot collecte",'[1]Feuil1 (2)'!$A$3,"Silo",U$11,"Lib. variété",$A21),0) -> 0 | V21: 6.5 | W21: =U21*V21 -> 0 | X21: =IFERROR(GETPIVOTDATA("Ha Tot collecte",'[1]Feuil1 (2)'!$A$3,"Silo",X$11,"Lib. variété",$A21),0) -> 0 | Y21: 6.5 | Z21: =X21*Y21 -> 0 | AA21: =IFERROR(GETPIVOTDATA("Ha Tot collecte",'[1]Feuil1 (2)'!$A$3,"Silo",AA$11,"Lib. variété",$A21),0) -> 0 | AB21: 6.5 | AC21: =AA21*AB21 -> 0 | AD21: =IFERROR(GETPIVOTDATA("Ha Tot collecte",'[1]Feuil1 (2)'!$A$3,"Silo",AD$11,"Lib. variété",$A21),0) -> 0 | AE21: 6.5 | AF21: =AD21*AE21 -> 0 | AG21: =IFERROR(GETPIVOTDATA("Ha Tot collecte",'[1]Feuil1 (2)'!$A$3,"Silo",AG$11,"Lib. variété",$A21),0) -> 0 | AH21: 6.5 | AI21: =AG21*AH21 -> 0 | AJ21: =IFERROR(GETPIVOTDATA("Ha Tot collecte",'[1]Feuil1 (2)'!$A$3,"Silo",AJ$11,"Lib. variété",$A21),0) -> 0 | AK21: 6.5 | AL21: =AJ21*AK21 -> 0 | AM21: =IFERROR(GETPIVOTDATA("Ha Tot collecte",'[1]Feuil1 (2)'!$A$3,"Silo",AM$11,"Lib. variété",$A21),0) -> 0 | AN21: 6.5 | AO21: =AM21*AN21 -> 0 | AP21: =IFERROR(GETPIVOTDATA("Ha Tot collecte",'[1]Feuil1 (2)'!$A$3,"Silo",AP$11,"Lib. variété",$A21),0) -> 0 | AQ21: 6.5 | AR21: =AP21*AQ21 -> 0 | AS21: =IFERROR(GETPIVOTDATA("Ha Tot collecte",'[1]Feuil1 (2)'!$A$3,"Silo",AS$11,"Lib. variété",$A21),0) -> 0 | AT21: 6.5 | AU21: =AS21*AT21 -> 0 | AV21: =IFERROR(GETPIVOTDATA("Ha Tot collecte",'[1]Feuil1 (2)'!$A$3,"Silo",AV$11,"Lib. variété",$A21),0) -> 0 | AW21: 6.5 | AX21: =AV21*AW21 -> 0 | AY21: =IFERROR(GETPIVOTDATA("Ha Tot collecte",'[1]Feuil1 (2)'!$A$3,"Silo",AY$11,"Lib. variété",$A21),0) -> 0 | AZ21: 6.5 | BA21: =AY21*AZ21 -> 0 | BB21: =IFERROR(GETPIVOTDATA("Ha Tot collecte",'[1]Feuil1 (2)'!$A$3,"Silo",BB$11,"Lib. variété",$A21),0) -> 0 | BC21: 6.5 | BD21: =BB21*BC21 -> 0 | BE21: =IFERROR(GETPIVOTDATA("Ha Tot collecte",'[1]Feuil1 (2)'!$A$3,"Silo",BE$11,"Lib. variété",$A21),0) -> 0 | BF21: 6.5 | BG21: =BE21*BF21 -> 0 | BH21: =IFERROR(GETPIVOTDATA("Ha Tot collecte",'[1]Feuil1 (2)'!$A$3,"Silo",BH$11,"Lib. variété",$A21),0) -> 0 | BI21: 6.5 | BJ21: =BH21*BI21 -> 0 | BK21: =IFERROR(GETPIVOTDATA("Ha Tot collecte",'[1]Feuil1 (2)'!$A$3,"Silo",BK$11,"Lib. variété",$A21),0) -> 0 | BL21: 6.5 | BM21: =BK21*BL21 -> 0 | BN21: =IFERROR(GETPIVOTDATA("Ha Tot collecte",'[1]Feuil1 (2)'!$A$3,"Silo",BN$11,"Lib. variété",$A21),0) -> 0 | BO21: 6.5 | BP21: =BN21*BO21 -> 0 | BQ21: =IFERROR(GETPIVOTDATA("Ha Tot collecte",'[1]Feuil1 (2)'!$A$3,"Silo",BQ$11,"Lib. variété",$A21),0) -> 0 | BR21: 6.5 | BS21: =BQ21*BR21 -> 0 | BT21: =IFERROR(GETPIVOTDATA("Ha Tot collecte",'[1]Feuil1 (2)'!$A$3,"Silo",BT$11,"Lib. variété",$A21),0) -> 0 | BU21: 6.5 | BV21: =BT21*BU21 -> 0 | BW21: =IFERROR(GETPIVOTDATA("Ha Tot collecte",'[1]Feuil1 (2)'!$A$3,"Silo",BW$11,"Lib. variété",$A21),0) -> 0 | BX21: 6.5 | BY21: =BW21*BX21 -> 0 | BZ21: =IFERROR(GETPIVOTDATA("Ha Tot collecte",'[1]Feuil1 (2)'!$A$3,"Silo",BZ$11,"Lib. variété",$A21),0) -> 0 | CA21: 6.5 | CB21: =BZ21*CA21 -> 0 | CC21: =IFERROR(GETPIVOTDATA("Ha Tot collecte",'[1]Feuil1 (2)'!$A$3,"Silo",CC$11,"Lib. variété",$A21),0) -> 0 | CD21: 6.5 | CE21: =CC21*CD21 -> 0 | CF21: =IFERROR(GETPIVOTDATA("Ha Tot collecte",'[1]Feuil1 (2)'!$A$3,"Silo",CF$11,"Lib. variété",$A21),0) -> 0 | CG21: 6.5 | CH21: =CF21*CG21 -> 0 | CJ21: 6.5 | CK21: =CI21*CJ21 -> 0 | CM21: 6.5 | CN21: =CL21*CM21 -> 0 | CP21: 6.5 | CQ21: =CO21*CP21 -> 0 | CS21: 6.5 | CT21: =CR21*CS21 -> 0 | CV21: 6.5 | CW21: =CU21*CV21 -> 0 | CY21: 6.5 | CZ21: =CX21*CY21 -> 0 | DB21: 6.5 | DC21: =DA21*DB21 -> 0 | DE21: 6.5 | DF21: =DD21*DE21 -> 0 | DH21: 6.5 | DI21: =DG21*DH21 -> 0 | DK21: 6.5 | DL21: =DJ21*DK21 -> 0 | DN21: 6.5 | DO21: =DM21*DN21 -> 0 | DQ21: 6.5 | DR21: =DP21*DQ21 -> 0 | DT21: 6.5 | DU21: =DS21*DT21 -> 0 | DW21: 6.5 | DX21: =DV21*DW21 -> 0 | DZ21: 6.5 | EA21: =DY21*DZ21 -> 0 | EC21: 6.5 | ED21: =EB21*EC21 -> 0 | EF21: 6.5 | EG21: =EE21*EF21 -> 0 | EI21: 6.5 | EJ21: =EH21*EI21 -> 0 | EL21: 6.5 | EM21: =EK21*EL21 -> 0 | EO21: 6.5 | EP21: =EN21*EO21 -> 0 | ER21: 6.5 | ES21: =EQ21*ER21 -> 0 | EU21: 6.5 | EV21: =ET21*EU21 -> 0 | EX21: 6.5 | EY21: =EW21*EX21 -> 0 | FA21: 6.5 | FB21: =EZ21*FA21 -> 0 | FD21: 6.5 | FE21: =FC21*FD21 -> 0 | FG21: 6.5 | FH21: =FF21*FG21 -> 0 | FJ21: 6.5 | FK21: =FI21*FJ21 -> 0 | FM21: 6.5 | FN21: =FL21*FM21 -> 0 | FP21: 6.5 | FQ21: =FO21*FP21 -> 0 | FS21: 6.5 | FT21: =FR21*FS21 -> 0 | FV21: 6.5 | FW21: =FU21*FV21 -> 0 | FY21: 6.5 | FZ21: =FX21*FY21 -> 0 | GB21: 6.5 | GC21: =GA21*GB21 -> 0 | GE21: 6.5 | GF21: =GD21*GE21 -> 0 | GH21: 6.5 | GI21: =GG21*GH21 -> 0 | GK21: 6.5 | GL21: =GJ21*GK21 -> 0 | GN21: 6.5 | GO21: =GM21*GN21 -> 0 | GQ21: 6.5 | GR21: =GP21*GQ21 -> 0 | GT21: 6.5 | GU21: =GS21*GT21 -> 0 | GW21: 6.5 | GX21: =GV21*GW21 -> 0 | GZ21: 6.5 | HA21: =GY21*GZ21 -> 0 | HC21: 6.5 | HD21: =HB21*HC21 -> 0 | HF21: 6.5 | HG21: =HE21*HF21 -> 0 | HI21: 6.5 | HJ21: =HH21*HI21 -> 0 | HL21: 6.5 | HM21: =HK21*HL21 -> 0 | HO21: 6.5 | HP21: =HN21*HO21 -> 0 | HR21: 6.5 | HS21: =HQ21*HR21 -> 0 | HU21: 6.5 | HV21: =HT21*HU21 -> 0 | HX21: 6.5 | HY21: =HW21*HX21 -> 0 | IA21: 6.5 | IB21: =HZ21*IA21 -> 0 | ID21: 6.5 | IE21: =IC21*ID21 -> 0
A22: =Feuil3!B9 -> 0 | B22: =F22+I22+L22+O22+R22+U22+X22+AA22+AD22+AG22+AJ22+AM22+AP22+AS22+AV22+AY22+BB22+BE22+BH22+BK22+BN22+BQ22+BT22+BW22+BZ22+CC22+CF22+CI22+CL22+CO22+CR22+CU22+CX22+DA22+DD22+DG22+DJ22+DM22+DP22+DS22+DV22+DY22+EB22+EE22+EH22+EK22+EN22+EQ22+ET22+EW22+EZ22+FC22+FF22+FI22+FL22+FO22+FR22+FU22+FX22+GA22+GD22+GG22+GJ22+GM22+GP22+GS22+GV22+GY22+HB22+HE22+HH22+HK22+HN22+HQ22+HT22+HW22+HZ22+IC22 -> 0 | C22: =IF(B22=0,"",D22/B22) | D22: =H22+K22+N22+Q22+T22+W22+Z22+AC22+AF22+AI22+AL22+AO22+AR22+AU22+AX22+BA22+BD22+BG22+BJ22+BM22+BP22+BS22+BV22+BY22+CB22+CE22+CH22+CK22+CN22+CQ22+CT22+CW22+CZ22+DC22+DF22+DI22+DL22+DO22+DR22+DU22+DX22+EA22+ED22+EG22+EJ22+EM22+EP22+ES22+EV22+EY22+FB22+FE22+FH22+FK22+FN22+FQ22+FT22+FW22+FZ22+GC22+GF22+GI22+GL22+GO22+GR22+GU22+GX22+HA22+HD22+HG22+HJ22+HM22+HP22+HS22+HV22+HY22+IB22+IE22 -> 0 | F22: =IFERROR(GETPIVOTDATA("Ha Tot collecte",'[1]Feuil1 (2)'!$A$3,"Silo",F$11,"Lib. variété",$A22),0) -> 0 | H22: =F22*G22 -> 0 | I22: =IFERROR(GETPIVOTDATA("Ha Tot collecte",'[1]Feuil1 (2)'!$A$3,"Silo",I$11,"Lib. variété",$A22),0) -> 0 | K22: =I22*J22 -> 0 | L22: =IFERROR(GETPIVOTDATA("Ha Tot collecte",'[1]Feuil1 (2)'!$A$3,"Silo",L$11,"Lib. variété",$A22),0) -> 0 | N22: =L22*M22 -> 0 | O22: =IFERROR(GETPIVOTDATA("Ha Tot collecte",'[1]Feuil1 (2)'!$A$3,"Silo",O$11,"Lib. variété",$A22),0) -> 0 | Q22: =O22*P22 -> 0 | R22: =IFERROR(GETPIVOTDATA("Ha Tot collecte",'[1]Feuil1 (2)'!$A$3,"Silo",R$11,"Lib. variété",$A22),0) -> 0 | T22: =R22*S22 -> 0 | U22: =IFERROR(GETPIVOTDATA("Ha Tot collecte",'[1]Feuil1 (2)'!$A$3,"Silo",U$11,"Lib. variété",$A22),0) -> 0 | W22: =U22*V22 -> 0 | X22: =IFERROR(GETPIVOTDATA("Ha Tot collecte",'[1]Feuil1 (2)'!$A$3,"Silo",X$11,"Lib. variété",$A22),0) -> 0 | Z22: =X22*Y22 -> 0 | AA22: =IFERROR(GETPIVOTDATA("Ha Tot collecte",'[1]Feuil1 (2)'!$A$3,"Silo",AA$11,"Lib. variété",$A22),0) -> 0 | AC22: =AA22*AB22 -> 0 | AD22: =IFERROR(GETPIVOTDATA("Ha Tot collecte",'[1]Feuil1 (2)'!$A$3,"Silo",AD$11,"Lib. variété",$A22),0) -> 0 | AF22: =AD22*AE22 -> 0 | AG22: =IFERROR(GETPIVOTDATA("Ha Tot collecte",'[1]Feuil1 (2)'!$A$3,"Silo",AG$11,"Lib. variété",$A22),0) -> 0 | AI22: =AG22*AH22 -> 0 | AJ22: =IFERROR(GETPIVOTDATA("Ha Tot collecte",'[1]Feuil1 (2)'!$A$3,"Silo",AJ$11,"Lib. variété",$A22),0) -> 0 | AL22: =AJ22*AK22 -> 0 | AM22: =IFERROR(GETPIVOTDATA("Ha Tot collecte",'[1]Feuil1 (2)'!$A$3,"Silo",AM$11,"Lib. variété",$A22),0) -> 0 | AO22: =AM22*AN22 -> 0 | AP22: =IFERROR(GETPIVOTDATA("Ha Tot collecte",'[1]Feuil1 (2)'!$A$3,"Silo",AP$11,"Lib. variété",$A22),0) -> 0 | AR22: =AP22*AQ22 -> 0 | AS22: =IFERROR(GETPIVOTDATA("Ha Tot collecte",'[1]Feuil1 (2)'!$A$3,"Silo",AS$11,"Lib. variété",$A22),0) -> 0 | AU22: =AS22*AT22 -> 0 | AV22: =IFERROR(GETPIVOTDATA("Ha Tot collecte",'[1]Feuil1 (2)'!$A$3,"Silo",AV$11,"Lib. variété",$A22),0) -> 0 | AX22: =AV22*AW22 -> 0 | AY22: =IFERROR(GETPIVOTDATA("Ha Tot collecte",'[1]Feuil1 (2)'!$A$3,"Silo",AY$11,"Lib. variété",$A22),0) -> 0 | BA22: =AY22*AZ22 -> 0 | BB22: =IFERROR(GETPIVOTDATA("Ha Tot collecte",'[1]Feuil1 (2)'!$A$3,"Silo",BB$11,"Lib. variété",$A22),0) -> 0 | BD22: =BB22*BC22 -> 0 | BE22: =IFERROR(GETPIVOTDATA("Ha Tot collecte",'[1]Feuil1 (2)'!$A$3,"Silo",BE$11,"Lib. variété",$A22),0) -> 0 | BG22: =BE22*BF22 -> 0 | BH22: =IFERROR(GETPIVOTDATA("Ha Tot collecte",'[1]Feuil1 (2)'!$A$3,"Silo",BH$11,"Lib. variété",$A22),0) -> 0 | BJ22: =BH22*BI22 -> 0 | BK22: =IFERROR(GETPIVOTDATA("Ha Tot collecte",'[1]Feuil1 (2)'!$A$3,"Silo",BK$11,"Lib. variété",$A22),0) -> 0 | BM22: =BK22*BL22 -> 0 | BN22: =IFERROR(GETPIVOTDATA("Ha Tot collecte",'[1]Feuil1 (2)'!$A$3,"Silo",BN$11,"Lib. variété",$A22),0) -> 0 | BP22: =BN22*BO22 -> 0 | BQ22: =IFERROR(GETPIVOTDATA("Ha Tot collecte",'[1]Feuil1 (2)'!$A$3,"Silo",BQ$11,"Lib. variété",$A22),0) -> 0 | BS22: =BQ22*BR22 -> 0 | BT22: =IFERROR(GETPIVOTDATA("Ha Tot collecte",'[1]Feuil1 (2)'!$A$3,"Silo",BT$11,"Lib. variété",$A22),0) -> 0 | BV22: =BT22*BU22 -> 0 | BW22: =IFERROR(GETPIVOTDATA("Ha Tot collecte",'[1]Feuil1 (2)'!$A$3,"Silo",BW$11,"Lib. variété",$A22),0) -> 0 | BY22: =BW22*BX22 -> 0 | BZ22: =IFERROR(GETPIVOTDATA("Ha Tot collecte",'[1]Feuil1 (2)'!$A$3,"Silo",BZ$11,"Lib. variété",$A22),0) -> 0 | CB22: =BZ22*CA22 -> 0 | CC22: =IFERROR(GETPIVOTDATA("Ha Tot collecte",'[1]Feuil1 (2)'!$A$3,"Silo",CC$11,"Lib. variété",$A22),0) -> 0 | CE22: =CC22*CD22 -> 0 | CF22: =IFERROR(GETPIVOTDATA("Ha Tot collecte",'[1]Feuil1 (2)'!$A$3,"Silo",CF$11,"Lib. variété",$A22),0) -> 0 | CH22: =CF22*CG22 -> 0 | CK22: =CI22*CJ22 -> 0 | CN22: =CL22*CM22 -> 0 | CQ22: =CO22*CP22 -> 0 | CT22: =CR22*CS22 -> 0 | CW22: =CU22*CV22 -> 0 | CZ22: =CX22*CY22 -> 0 | DC22: =DA22*DB22 -> 0 | DF22: =DD22*DE22 -> 0 | DI22: =DG22*DH22 -> 0 | DL22: =DJ22*DK22 -> 0 | DO22: =DM22*DN22 -> 0 | DR22: =DP22*DQ22 -> 0 | DU22: =DS22*DT22 -> 0 | DX22: =DV22*DW22 -> 0 | EA22: =DY22*DZ22 -> 0 | ED22: =EB22*EC22 -> 0 | EG22: =EE22*EF22 -> 0 | EJ22: =EH22*EI22 -> 0 | EM22: =EK22*EL22 -> 0 | EP22: =EN22*EO22 -> 0 | ES22: =EQ22*ER22 -> 0 | EV22: =ET22*EU22 -> 0 | EY22: =EW22*EX22 -> 0 | FB22: =EZ22*FA22 -> 0 | FE22: =FC22*FD22 -> 0 | FH22: =FF22*FG22 -> 0 | FK22: =FI22*FJ22 -> 0 | FN22: =FL22*FM22 -> 0 | FQ22: =FO22*FP22 -> 0 | FT22: =FR22*FS22 -> 0 | FW22: =FU22*FV22 -> 0 | FZ22: =FX22*FY22 -> 0 | GC22: =GA22*GB22 -> 0 | GF22: =GD22*GE22 -> 0 | GI22: =GG22*GH22 -> 0 | GL22: =GJ22*GK22 -> 0 | GO22: =GM22*GN22 -> 0 | GR22: =GP22*GQ22 -> 0 | GU22: =GS22*GT22 -> 0 | GX22: =GV22*GW22 -> 0 | HA22: =GY22*GZ22 -> 0 | HD22: =HB22*HC22 -> 0 | HG22: =HE22*HF22 -> 0 | HJ22: =HH22*HI22 -> 0 | HM22: =HK22*HL22 -> 0 | HP22: =HN22*HO22 -> 0 | HS22: =HQ22*HR22 -> 0 | HV22: =HT22*HU22 -> 0 | HY22: =HW22*HX22 -> 0 | IB22: =HZ22*IA22 -> 0 | IE22: =IC22*ID22 -> 0
A23: =Feuil3!B10 -> BLE DUR | B23: =F23+I23+L23+O23+R23+U23+X23+AA23+AD23+AG23+AJ23+AM23+AP23+AS23+AV23+AY23+BB23+BE23+BH23+BK23+BN23+BQ23+BT23+BW23+BZ23+CC23+CF23+CI23+CL23+CO23+CR23+CU23+CX23+DA23+DD23+DG23+DJ23+DM23+DP23+DS23+DV23+DY23+EB23+EE23+EH23+EK23+EN23+EQ23+ET23+EW23+EZ23+FC23+FF23+FI23+FL23+FO23+FR23+FU23+FX23+GA23+GD23+GG23+GJ23+GM23+GP23+GS23+GV23+GY23+HB23+HE23+HH23+HK23+HN23+HQ23+HT23+HW23+HZ23+IC23 -> 725.69 | C23: =IF(B23=0,"",D23/B23) -> 5.8 | D23: =H23+K23+N23+Q23+T23+W23+Z23+AC23+AF23+AI23+AL23+AO23+AR23+AU23+AX23+BA23+BD23+BG23+BJ23+BM23+BP23+BS23+BV23+BY23+CB23+CE23+CH23+CK23+CN23+CQ23+CT23+CW23+CZ23+DC23+DF23+DI23+DL23+DO23+DR23+DU23+DX23+EA23+ED23+EG23+EJ23+EM23+EP23+ES23+EV23+EY23+FB23+FE23+FH23+FK23+FN23+FQ23+FT23+FW23+FZ23+GC23+GF23+GI23+GL23+GO23+GR23+GU23+GX23+HA23+HD23+HG23+HJ23+HM23+HP23+HS23+HV23+HY23+IB23+IE23 -> 4209.002 | F23: =IFERROR(GETPIVOTDATA("Ha Tot collecte",'[1]Feuil1 (2)'!$A$3,"Silo",F$11,"Lib. variété",$A23),0) -> 0 | G23: 5.8 | H23: =F23*G23 -> 0 | I23: =IFERROR(GETPIVOTDATA("Ha Tot collecte",'[1]Feuil1 (2)'!$A$3,"Silo",I$11,"Lib. variété",$A23),0) -> 0 | J23: 5.8 | K23: =I23*J23 -> 0 | L23: =IFERROR(GETPIVOTDATA("Ha Tot collecte",'[1]Feuil1 (2)'!$A$3,"Silo",L$11,"Lib. variété",$A23),0) -> 44.3 | M23: 5.8 | N23: =L23*M23 -> 256.94 | O23: =IFERROR(GETPIVOTDATA("Ha Tot collecte",'[1]Feuil1 (2)'!$A$3,"Silo",O$11,"Lib. variété",$A23),0) -> 7 | P23: 5.8 | Q23: =O23*P23 -> 40.6 | R23: =IFERROR(GETPIVOTDATA("Ha Tot collecte",'[1]Feuil1 (2)'!$A$3,"Silo",R$11,"Lib. variété",$A23),0) -> 0 | S23: 5.8 | T23: =R23*S23 -> 0 | U23: =IFERROR(GETPIVOTDATA("Ha Tot collecte",'[1]Feuil1 (2)'!$A$3,"Silo",U$11,"Lib. variété",$A23),0) -> 128.64 | V23: 5.8 | W23: =U23*V23 -> 746.112 | X23: =IFERROR(GETPIVOTDATA("Ha Tot collecte",'[1]Feuil1 (2)'!$A$3,"Silo",X$11,"Lib. variété",$A23),0) -> 0 | Y23: 5.8 | Z23: =X23*Y23 -> 0 | AA23: =IFERROR(GETPIVOTDATA("Ha Tot collecte",'[1]Feuil1 (2)'!$A$3,"Silo",AA$11,"Lib. variété",$A23),0) -> 0 | AB23: 5.8 | AC23: =AA23*AB23 -> 0 | AD23: =IFERROR(GETPIVOTDATA("Ha Tot collecte",'[1]Feuil1 (2)'!$A$3,"Silo",AD$11,"Lib. variété",$A23),0) -> 16.32 | AE23: 5.8 | AF23: =AD23*AE23 -> 94.656 | AG23: =IFERROR(GETPIVOTDATA("Ha Tot collecte",'[1]Feuil1 (2)'!$A$3,"Silo",AG$11,"Lib. variété",$A23),0) -> 0 | AH23: 5.8 | AI23: =AG23*AH23 -> 0 | AJ23: =IFERROR(GETPIVOTDATA("Ha Tot collecte",'[1]Feuil1 (2)'!$A$3,"Silo",AJ$11,"Lib. variété",$A23),0) -> 0 | AK23: 5.8 | AL23: =AJ23*AK23 -> 0 | AM23: =IFERROR(GETPIVOTDATA("Ha Tot collecte",'[1]Feuil1 (2)'!$A$3,"Silo",AM$11,"Lib. variété",$A23),0) -> 18.73 | AN23: 5.8 | AO23: =AM23*AN23 -> 108.634 | AP23: =IFERROR(GETPIVOTDATA("Ha Tot collecte",'[1]Feuil1 (2)'!$A$3,"Silo",AP$11,"Lib. variété",$A23),0) -> 0 | AQ23: 5.8 | AR23: =AP23*AQ23 -> 0 | AS23: =IFERROR(GETPIVOTDATA("Ha Tot collecte",'[1]Feuil1 (2)'!$A$3,"Silo",AS$11,"Lib. variété",$A23),0) -> 0 | AT23: 5.8 | AU23: =AS23*AT23 -> 0 | AV23: =IFERROR(GETPIVOTDATA("Ha Tot collecte",'[1]Feuil1 (2)'!$A$3,"Silo",AV$11,"Lib. variété",$A23),0) -> 92.79 | AW23: 5.8 | AX23: =AV23*AW23 -> 538.182 | AY23: =IFERROR(GETPIVOTDATA("Ha Tot collecte",'[1]Feuil1 (2)'!$A$3,"Silo",AY$11,"Lib. variété",$A23),0) -> 0 | AZ23: 5.8 | BA23: =AY23*AZ23 -> 0 | BB23: =IFERROR(GETPIVOTDATA("Ha Tot collecte",'[1]Feuil1 (2)'!$A$3,"Silo",BB$11,"Lib. variété",$A23),0) -> 0 | BC23: 5.8 | BD23: =BB23*BC23 -> 0 | BE23: =IFERROR(GETPIVOTDATA("Ha Tot collecte",'[1]Feuil1 (2)'!$A$3,"Silo",BE$11,"Lib. variété",$A23),0) -> 0 | BF23: 5.8 | BG23: =BE23*BF23 -> 0 | BH23: =IFERROR(GETPIVOTDATA("Ha Tot collecte",'[1]Feuil1 (2)'!$A$3,"Silo",BH$11,"Lib. variété",$A23),0) -> 19.31 | BI23: 5.8 | BJ23: =BH23*BI23 -> 111.998 | BK23: =IFERROR(GETPIVOTDATA("Ha Tot collecte",'[1]Feuil1 (2)'!$A$3,"Silo",BK$11,"Lib. variété",$A23),0) -> 33.06 | BL23: 5.8 | BM23: =BK23*BL23 -> 191.748 | BN23: =IFERROR(GETPIVOTDATA("Ha Tot collecte",'[1]Feuil1 (2)'!$A$3,"Silo",BN$11,"Lib. variété",$A23),0) -> 49.36 | BO23: 5.8 | BP23: =BN23*BO23 -> 286.288 | BQ23: =IFERROR(GETPIVOTDATA("Ha Tot collecte",'[1]Feuil1 (2)'!$A$3,"Silo",BQ$11,"Lib. variété",$A23),0) -> 42.19 | BR23: 5.8 | BS23: =BQ23*BR23 -> 244.702 | BT23: =IFERROR(GETPIVOTDATA("Ha Tot collecte",'[1]Feuil1 (2)'!$A$3,"Silo",BT$11,"Lib. variété",$A23),0) -> 11.1 | BU23: 5.8 | BV23: =BT23*BU23 -> 64.38 | BW23: =IFERROR(GETPIVOTDATA("Ha Tot collecte",'[1]Feuil1 (2)'!$A$3,"Silo",BW$11,"Lib. variété",$A23),0) -> 7.5 | BX23: 5.8 | BY23: =BW23*BX23 -> 43.5 | BZ23: =IFERROR(GETPIVOTDATA("Ha Tot collecte",'[1]Feuil1 (2)'!$A$3,"Silo",BZ$11,"Lib. variété",$A23),0) -> 189.5 | CA23: 5.8 | CB23: =BZ23*CA23 -> 1099.1 | CC23: =IFERROR(GETPIVOTDATA("Ha Tot collecte",'[1]Feuil1 (2)'!$A$3,"Silo",CC$11,"Lib. variété",$A23),0) -> 65.89 | CD23: 5.8 | CE23: =CC23*CD23 -> 382.162 | CF23: =IFERROR(GETPIVOTDATA("Ha Tot collecte",'[1]Feuil1 (2)'!$A$3,"Silo",CF$11,"Lib. variété",$A23),0) -> 0 | CG23: 5.8 | CH23: =CF23*CG23 -> 0 | CJ23: 5.8 | CK23: =CI23*CJ23 -> 0 | CM23: 5.8 | CN23: =CL23*CM23 -> 0 | CP23: 5.8 | CQ23: =CO23*CP23 -> 0 | CS23: 5.8 | CT23: =CR23*CS23 -> 0 | CV23: 5.8 | CW23: =CU23*CV23 -> 0 | CY23: 5.8 | CZ23: =CX23*CY23 -> 0 | DB23: 5.8 | DC23: =DA23*DB23 -> 0 | DE23: 5.8 | DF23: =DD23*DE23 -> 0 | DH23: 5.8 | DI23: =DG23*DH23 -> 0 | DK23: 5.8 | DL23: =DJ23*DK23 -> 0 | DN23: 5.8 | DO23: =DM23*DN23 -> 0 | DQ23: 5.8 | DR23: =DP23*DQ23 -> 0 | DT23: 5.8 | DU23: =DS23*DT23 -> 0 | DW23: 5.8 | DX23: =DV23*DW23 -> 0 | DZ23: 5.8 | EA23: =DY23*DZ23 -> 0 | EC23: 5.8 | ED23: =EB23*EC23 -> 0 | EF23: 5.8 | EG23: =EE23*EF23 -> 0 | EI23: 5.8 | EJ23: =EH23*EI23 -> 0 | EL23: 5.8 | EM23: =EK23*EL23 -> 0 | EO23: 5.8 | EP23: =EN23*EO23 -> 0 | ER23: 5.8 | ES23: =EQ23*ER23 -> 0 | EU23: 5.8 | EV23: =ET23*EU23 -> 0 | EX23: 5.8 | EY23: =EW23*EX23 -> 0 | FA23: 5.8 | FB23: =EZ23*FA23 -> 0 | FD23: 5.8 | FE23: =FC23*FD23 -> 0 | FG23: 5.8 | FH23: =FF23*FG23 -> 0 | FJ23: 5.8 | FK23: =FI23*FJ23 -> 0 | FM23: 5.8 | FN23: =FL23*FM23 -> 0 | FP23: 5.8 | FQ23: =FO23*FP23 -> 0 | FS23: 5.8 | FT23: =FR23*FS23 -> 0 | FV23: 5.8 | FW23: =FU23*FV23 -> 0 | FY23: 5.8 | FZ23: =FX23*FY23 -> 0 | GB23: 5.8 | GC23: =GA23*GB23 -> 0 | GE23: 5.8 | GF23: =GD23*GE23 -> 0 | GH23: 5.8 | GI23: =GG23*GH23 -> 0 | GK23: 5.8 | GL23: =GJ23*GK23 -> 0 | GN23: 5.8 | GO23: =GM23*GN23 -> 0 | GQ23: 5.8 | GR23: =GP23*GQ23 -> 0 | GT23: 5.8 | GU23: =GS23*GT23 -> 0 | GW23: 5.8 | GX23: =GV23*GW23 -> 0 | GZ23: 5.8 | HA23: =GY23*GZ23 -> 0 | HC23: 5.8 | HD23: =HB23*HC23 -> 0 | HF23: 5.8 | HG23: =HE23*HF23 -> 0 | HI23: 5.8 | HJ23: =HH23*HI23 -> 0 | HL23: 5.8 | HM23: =HK23*HL23 -> 0 | HO23: 5.8 | HP23: =HN23*HO23 -> 0 | HR23: 5.8 | HS23: =HQ23*HR23 -> 0 | HU23: 5.8 | HV23: =HT23*HU23 -> 0 | HX23: 5.8 | HY23: =HW23*HX23 -> 0 | IA23: 5.8 | IB23: =HZ23*IA23 -> 0 | ID23: 5.8 | IE23: =IC23*ID23 -> 0
A24: =Feuil3!B11 -> 0 | B24: =F24+I24+L24+O24+R24+U24+X24+AA24+AD24+AG24+AJ24+AM24+AP24+AS24+AV24+AY24+BB24+BE24+BH24+BK24+BN24+BQ24+BT24+BW24+BZ24+CC24+CF24+CI24+CL24+CO24+CR24+CU24+CX24+DA24+DD24+DG24+DJ24+DM24+DP24+DS24+DV24+DY24+EB24+EE24+EH24+EK24+EN24+EQ24+ET24+EW24+EZ24+FC24+FF24+FI24+FL24+FO24+FR24+FU24+FX24+GA24+GD24+GG24+GJ24+GM24+GP24+GS24+GV24+GY24+HB24+HE24+HH24+HK24+HN24+HQ24+HT24+HW24+HZ24+IC24 -> 0 | C24: =IF(B24=0,"",D24/B24) | D24: =H24+K24+N24+Q24+T24+W24+Z24+AC24+AF24+AI24+AL24+AO24+AR24+AU24+AX24+BA24+BD24+BG24+BJ24+BM24+BP24+BS24+BV24+BY24+CB24+CE24+CH24+CK24+CN24+CQ24+CT24+CW24+CZ24+DC24+DF24+DI24+DL24+DO24+DR24+DU24+DX24+EA24+ED24+EG24+EJ24+EM24+EP24+ES24+EV24+EY24+FB24+FE24+FH24+FK24+FN24+FQ24+FT24+FW24+FZ24+GC24+GF24+GI24+GL24+GO24+GR24+GU24+GX24+HA24+HD24+HG24+HJ24+HM24+HP24+HS24+HV24+HY24+IB24+IE24 -> 0 | F24: =IFERROR(GETPIVOTDATA("Ha Tot collecte",'[1]Feuil1 (2)'!$A$3,"Silo",F$11,"Lib. variété",$A24),0) -> 0 | H24: =F24*G24 -> 0 | I24: =IFERROR(GETPIVOTDATA("Ha Tot collecte",'[1]Feuil1 (2)'!$A$3,"Silo",I$11,"Lib. variété",$A24),0) -> 0 | K24: =I24*J24 -> 0 | L24: =IFERROR(GETPIVOTDATA("Ha Tot collecte",'[1]Feuil1 (2)'!$A$3,"Silo",L$11,"Lib. variété",$A24),0) -> 0 | N24: =L24*M24 -> 0 | O24: =IFERROR(GETPIVOTDATA("Ha Tot collecte",'[1]Feuil1 (2)'!$A$3,"Silo",O$11,"Lib. variété",$A24),0) -> 0 | Q24: =O24*P24 -> 0 | R24: =IFERROR(GETPIVOTDATA("Ha Tot collecte",'[1]Feuil1 (2)'!$A$3,"Silo",R$11,"Lib. variété",$A24),0) -> 0 | T24: =R24*S24 -> 0 | U24: =IFERROR(GETPIVOTDATA("Ha Tot collecte",'[1]Feuil1 (2)'!$A$3,"Silo",U$11,"Lib. variété",$A24),0) -> 0 | W24: =U24*V24 -> 0 | X24: =IFERROR(GETPIVOTDATA("Ha Tot collecte",'[1]Feuil1 (2)'!$A$3,"Silo",X$11,"Lib. variété",$A24),0) -> 0 | Z24: =X24*Y24 -> 0 | AA24: =IFERROR(GETPIVOTDATA("Ha Tot collecte",'[1]Feuil1 (2)'!$A$3,"Silo",AA$11,"Lib. variété",$A24),0) -> 0 | AC24: =AA24*AB24 -> 0 | AD24: =IFERROR(GETPIVOTDATA("Ha Tot collecte",'[1]Feuil1 (2)'!$A$3,"Silo",AD$11,"Lib. variété",$A24),0) -> 0 | AF24: =AD24*AE24 -> 0 | AG24: =IFERROR(GETPIVOTDATA("Ha Tot collecte",'[1]Feuil1 (2)'!$A$3,"Silo",AG$11,"Lib. variété",$A24),0) -> 0 | AI24: =AG24*AH24 -> 0 | AJ24: =IFERROR(GETPIVOTDATA("Ha Tot collecte",'[1]Feuil1 (2)'!$A$3,"Silo",AJ$11,"Lib. variété",$A24),0) -> 0 | AL24: =AJ24*AK24 -> 0 | AM24: =IFERROR(GETPIVOTDATA("Ha Tot collecte",'[1]Feuil1 (2)'!$A$3,"Silo",AM$11,"Lib. variété",$A24),0) -> 0 | AO24: =AM24*AN24 -> 0 | AP24: =IFERROR(GETPIVOTDATA("Ha Tot collecte",'[1]Feuil1 (2)'!$A$3,"Silo",AP$11,"Lib. variété",$A24),0) -> 0 | AR24: =AP24*AQ24 -> 0 | AS24: =IFERROR(GETPIVOTDATA("Ha Tot collecte",'[1]Feuil1 (2)'!$A$3,"Silo",AS$11,"Lib. variété",$A24),0) -> 0 | AU24: =AS24*AT24 -> 0 | AV24: =IFERROR(GETPIVOTDATA("Ha Tot collecte",'[1]Feuil1 (2)'!$A$3,"Silo",AV$11,"Lib. variété",$A24),0) -> 0 | AX24: =AV24*AW24 -> 0 | AY24: =IFERROR(GETPIVOTDATA("Ha Tot collecte",'[1]Feuil1 (2)'!$A$3,"Silo",AY$11,"Lib. variété",$A24),0) -> 0 | BA24: =AY24*AZ24 -> 0 | BB24: =IFERROR(GETPIVOTDATA("Ha Tot collecte",'[1]Feuil1 (2)'!$A$3,"Silo",BB$11,"Lib. variété",$A24),0) -> 0 | BD24: =BB24*BC24 -> 0 | BE24: =IFERROR(GETPIVOTDATA("Ha Tot collecte",'[1]Feuil1 (2)'!$A$3,"Silo",BE$11,"Lib. variété",$A24),0) -> 0 | BG24: =BE24*BF24 -> 0 | BH24: =IFERROR(GETPIVOTDATA("Ha Tot collecte",'[1]Feuil1 (2)'!$A$3,"Silo",BH$11,"Lib. variété",$A24),0) -> 0 | BJ24: =BH24*BI24 -> 0 | BK24: =IFERROR(GETPIVOTDATA("Ha Tot collecte",'[1]Feuil1 (2)'!$A$3,"Silo",BK$11,"Lib. variété",$A24),0) -> 0 | BM24: =BK24*BL24 -> 0 | BN24: =IFERROR(GETPIVOTDATA("Ha Tot collecte",'[1]Feuil1 (2)'!$A$3,"Silo",BN$11,"Lib. variété",$A24),0) -> 0 | BP24: =BN24*BO24 -> 0 | BQ24: =IFERROR(GETPIVOTDATA("Ha Tot collecte",'[1]Feuil1 (2)'!$A$3,"Silo",BQ$11,"Lib. variété",$A24),0) -> 0 | BS24: =BQ24*BR24 -> 0 | BT24: =IFERROR(GETPIVOTDATA("Ha Tot collecte",'[1]Feuil1 (2)'!$A$3,"Silo",BT$11,"Lib. variété",$A24),0) -> 0 | BV24: =BT24*BU24 -> 0 | BW24: =IFERROR(GETPIVOTDATA("Ha Tot collecte",'[1]Feuil1 (2)'!$A$3,"Silo",BW$11,"Lib. variété",$A24),0) -> 0 | BY24: =BW24*BX24 -> 0 | BZ24: =IFERROR(GETPIVOTDATA("Ha Tot collecte",'[1]Feuil1 (2)'!$A$3,"Silo",BZ$11,"Lib. variété",$A24),0) -> 0 | CB24: =BZ24*CA24 -> 0 | CC24: =IFERROR(GETPIVOTDATA("Ha Tot collecte",'[1]Feuil1 (2)'!$A$3,"Silo",CC$11,"Lib. variété",$A24),0) -> 0 | CE24: =CC24*CD24 -> 0 | CF24: =IFERROR(GETPIVOTDATA("Ha Tot collecte",'[1]Feuil1 (2)'!$A$3,"Silo",CF$11,"Lib. variété",$A24),0) -> 0 | CH24: =CF24*CG24 -> 0 | CK24: =CI24*CJ24 -> 0 | CN24: =CL24*CM24 -> 0 | CQ24: =CO24*CP24 -> 0 | CT24: =CR24*CS24 -> 0 | CW24: =CU24*CV24 -> 0 | CZ24: =CX24*CY24 -> 0 | DC24: =DA24*DB24 -> 0 | DF24: =DD24*DE24 -> 0 | DI24: =DG24*DH24 -> 0 | DL24: =DJ24*DK24 -> 0 | DO24: =DM24*DN24 -> 0 | DR24: =DP24*DQ24 -> 0 | DU24: =DS24*DT24 -> 0 | DX24: =DV24*DW24 -> 0 | EA24: =DY24*DZ24 -> 0 | ED24: =EB24*EC24 -> 0 | EG24: =EE24*EF24 -> 0 | EJ24: =EH24*EI24 -> 0 | EM24: =EK24*EL24 -> 0 | EP24: =EN24*EO24 -> 0 | ES24: =EQ24*ER24 -> 0 | EV24: =ET24*EU24 -> 0 | EY24: =EW24*EX24 -> 0 | FB24: =EZ24*FA24 -> 0 | FE24: =FC24*FD24 -> 0 | FH24: =FF24*FG24 -> 0 | FK24: =FI24*FJ24 -> 0 | FN24: =FL24*FM24 -> 0 | FQ24: =FO24*FP24 -> 0 | FT24: =FR24*FS24 -> 0 | FW24: =FU24*FV24 -> 0 | FZ24: =FX24*FY24 -> 0 | GC24: =GA24*GB24 -> 0 | GF24: =GD24*GE24 -> 0 | GI24: =GG24*GH24 -> 0 | GL24: =GJ24*GK24 -> 0 | GO24: =GM24*GN24 -> 0 | GR24: =GP24*GQ24 -> 0 | GU24: =GS24*GT24 -> 0 | GX24: =GV24*GW24 -> 0 | HA24: =GY24*GZ24 -> 0 | HD24: =HB24*HC24 -> 0 | HG24: =HE24*HF24 -> 0 | HJ24: =HH24*HI24 -> 0 | HM24: =HK24*HL24 -> 0 | HP24: =HN24*HO24 -> 0 | HS24: =HQ24*HR24 -> 0 | HV24: =HT24*HU24 -> 0 | HY24: =HW24*HX24 -> 0 | IB24: =HZ24*IA24 -> 0 | IE24: =IC24*ID24 -> 0
A25: =Feuil3!B12 -> ORGE BRAS. HIVER ETINCEL | B25: =F25+I25+L25+O25+R25+U25+X25+AA25+AD25+AG25+AJ25+AM25+AP25+AS25+AV25+AY25+BB25+BE25+BH25+BK25+BN25+BQ25+BT25+BW25+BZ25+CC25+CF25+CI25+CL25+CO25+CR25+CU25+CX25+DA25+DD25+DG25+DJ25+DM25+DP25+DS25+DV25+DY25+EB25+EE25+EH25+EK25+EN25+EQ25+ET25+EW25+EZ25+FC25+FF25+FI25+FL25+FO25+FR25+FU25+FX25+GA25+GD25+GG25+GJ25+GM25+GP25+GS25+GV25+GY25+HB25+HE25+HH25+HK25+HN25+HQ25+HT25+HW25+HZ25+IC25 -> 721.85 | C25: =IF(B25=0,"",D25/B25) -> 6.3 | D25: =H25+K25+N25+Q25+T25+W25+Z25+AC25+AF25+AI25+AL25+AO25+AR25+AU25+AX25+BA25+BD25+BG25+BJ25+BM25+BP25+BS25+BV25+BY25+CB25+CE25+CH25+CK25+CN25+CQ25+CT25+CW25+CZ25+DC25+DF25+DI25+DL25+DO25+DR25+DU25+DX25+EA25+ED25+EG25+EJ25+EM25+EP25+ES25+EV25+EY25+FB25+FE25+FH25+FK25+FN25+FQ25+FT25+FW25+FZ25+GC25+GF25+GI25+GL25+GO25+GR25+GU25+GX25+HA25+HD25+HG25+HJ25+HM25+HP25+HS25+HV25+HY25+IB25+IE25 -> 4547.655 | F25: =IFERROR(GETPIVOTDATA("Ha Tot collecte",'[1]Feuil1 (2)'!$A$3,"Silo",F$11,"Lib. variété",$A25),0) -> 0 | G25: 6.3 | H25: =F25*G25 -> 0 | I25: =IFERROR(GETPIVOTDATA("Ha Tot collecte",'[1]Feuil1 (2)'!$A$3,"Silo",I$11,"Lib. variété",$A25),0) -> 0 | J25: 6.3 | K25: =I25*J25 -> 0 | L25: =IFERROR(GETPIVOTDATA("Ha Tot collecte",'[1]Feuil1 (2)'!$A$3,"Silo",L$11,"Lib. variété",$A25),0) -> 89.8 | M25: 6.3 | N25: =L25*M25 -> 565.74 | O25: =IFERROR(GETPIVOTDATA("Ha Tot collecte",'[1]Feuil1 (2)'!$A$3,"Silo",O$11,"Lib. variété",$A25),0) -> 16 | P25: 6.3 | Q25: =O25*P25 -> 100.8 | R25: =IFERROR(GETPIVOTDATA("Ha Tot collecte",'[1]Feuil1 (2)'!$A$3,"Silo",R$11,"Lib. variété",$A25),0) -> 0 | S25: 6.3 | T25: =R25*S25 -> 0 | U25: =IFERROR(GETPIVOTDATA("Ha Tot collecte",'[1]Feuil1 (2)'!$A$3,"Silo",U$11,"Lib. variété",$A25),0) -> 6 | V25: 6.3 | W25: =U25*V25 -> 37.8 | X25: =IFERROR(GETPIVOTDATA("Ha Tot collecte",'[1]Feuil1 (2)'!$A$3,"Silo",X$11,"Lib. variété",$A25),0) -> 0 | Y25: 6.3 | Z25: =X25*Y25 -> 0 | AA25: =IFERROR(GETPIVOTDATA("Ha Tot collecte",'[1]Feuil1 (2)'!$A$3,"Silo",AA$11,"Lib. variété",$A25),0) -> 7.17 | AB25: 6.3 | AC25: =AA25*AB25 -> 45.171 | AD25: =IFERROR(GETPIVOTDATA("Ha Tot collecte",'[1]Feuil1 (2)'!$A$3,"Silo",AD$11,"Lib. variété",$A25),0) -> 26.28 | AE25: 6.3 | AF25: =AD25*AE25 -> 165.564 | AG25: =IFERROR(GETPIVOTDATA("Ha Tot collecte",'[1]Feuil1 (2)'!$A$3,"Silo",AG$11,"Lib. variété",$A25),0) -> 0 | AH25: 6.3 | AI25: =AG25*AH25 -> 0 | AJ25: =IFERROR(GETPIVOTDATA("Ha Tot collecte",'[1]Feuil1 (2)'!$A$3,"Silo",AJ$11,"Lib. variété",$A25),0) -> 0 | AK25: 6.3 | AL25: =AJ25*AK25 -> 0 | AM25: =IFERROR(GETPIVOTDATA("Ha Tot collecte",'[1]Feuil1 (2)'!$A$3,"Silo",AM$11,"Lib. variété",$A25),0) -> 43.89 | AN25: 6.3 | AO25: =AM25*AN25 -> 276.507 | AP25: =IFERROR(GETPIVOTDATA("Ha Tot collecte",'[1]Feuil1 (2)'!$A$3,"Silo",AP$11,"Lib. variété",$A25),0) -> 0 | AQ25: 6.3 | AR25: =AP25*AQ25 -> 0 | AS25: =IFERROR(GETPIVOTDATA("Ha Tot collecte",'[1]Feuil1 (2)'!$A$3,"Silo",AS$11,"Lib. variété",$A25),0) -> 0 | AT25: 6.3 | AU25: =AS25*AT25 -> 0 | AV25: =IFERROR(GETPIVOTDATA("Ha Tot collecte",'[1]Feuil1 (2)'!$A$3,"Silo",AV$11,"Lib. variété",$A25),0) -> 0 | AW25: 6.3 | AX25: =AV25*AW25 -> 0 | AY25: =IFERROR(GETPIVOTDATA("Ha Tot collecte",'[1]Feuil1 (2)'!$A$3,"Silo",AY$11,"Lib. variété",$A25),0) -> 0 | AZ25: 6.3 | BA25: =AY25*AZ25 -> 0 | BB25: =IFERROR(GETPIVOTDATA("Ha Tot collecte",'[1]Feuil1 (2)'!$A$3,"Silo",BB$11,"Lib. variété",$A25),0) -> 0 | BC25: 6.3 | BD25: =BB25*BC25 -> 0 | BE25: =IFERROR(GETPIVOTDATA("Ha Tot collecte",'[1]Feuil1 (2)'!$A$3,"Silo",BE$11,"Lib. variété",$A25),0) -> 32.4 | BF25: 6.3 | BG25: =BE25*BF25 -> 204.12 | BH25: =IFERROR(GETPIVOTDATA("Ha Tot collecte",'[1]Feuil1 (2)'!$A$3,"Silo",BH$11,"Lib. variété",$A25),0) -> 1.5 | BI25: 6.3 | BJ25: =BH25*BI25 -> 9.45 | BK25: =IFERROR(GETPIVOTDATA("Ha Tot collecte",'[1]Feuil1 (2)'!$A$3,"Silo",BK$11,"Lib. variété",$A25),0) -> 13.02 | BL25: 6.3 | BM25: =BK25*BL25 -> 82.026 | BN25: =IFERROR(GETPIVOTDATA("Ha Tot collecte",'[1]Feuil1 (2)'!$A$3,"Silo",BN$11,"Lib. variété",$A25),0) -> 90.26 | BO25: 6.3 | BP25: =BN25*BO25 -> 568.638 | BQ25: =IFERROR(GETPIVOTDATA("Ha Tot collecte",'[1]Feuil1 (2)'!$A$3,"Silo",BQ$11,"Lib. variété",$A25),0) -> 46.32 | BR25: 6.3 | BS25: =BQ25*BR25 -> 291.816 | BT25: =IFERROR(GETPIVOTDATA("Ha Tot collecte",'[1]Feuil1 (2)'!$A$3,"Silo",BT$11,"Lib. variété",$A25),0) -> 87.01 | BU25: 6.3 | BV25: =BT25*BU25 -> 548.163 | BW25: =IFERROR(GETPIVOTDATA("Ha Tot collecte",'[1]Feuil1 (2)'!$A$3,"Silo",BW$11,"Lib. variété",$A25),0) -> 0 | BX25: 6.3 | BY25: =BW25*BX25 -> 0 | BZ25: =IFERROR(GETPIVOTDATA("Ha Tot collecte",'[1]Feuil1 (2)'!$A$3,"Silo",BZ$11,"Lib. variété",$A25),0) -> 91.2 | CA25: 6.3 | CB25: =BZ25*CA25 -> 574.56 | CC25: =IFERROR(GETPIVOTDATA("Ha Tot collecte",'[1]Feuil1 (2)'!$A$3,"Silo",CC$11,"Lib. variété",$A25),0) -> 171 | CD25: 6.3 | CE25: =CC25*CD25 -> 1077.3 | CF25: =IFERROR(GETPIVOTDATA("Ha Tot collecte",'[1]Feuil1 (2)'!$A$3,"Silo",CF$11,"Lib. variété",$A25),0) -> 0 | CG25: 6.3 | CH25: =CF25*CG25 -> 0 | CJ25: 6.3 | CK25: =CI25*CJ25 -> 0 | CM25: 6.3 | CN25: =CL25*CM25 -> 0 | CP25: 6.3 | CQ25: =CO25*CP25 -> 0 | CS25: 6.3 | CT25: =CR25*CS25 -> 0 | CV25: 6.3 | CW25: =CU25*CV25 -> 0 | CY25: 6.3 | CZ25: =CX25*CY25 -> 0 | DB25: 6.3 | DC25: =DA25*DB25 -> 0 | DE25: 6.3 | DF25: =DD25*DE25 -> 0 | DH25: 6.3 | DI25: =DG25*DH25 -> 0 | DK25: 6.3 | DL25: =DJ25*DK25 -> 0 | DN25: 6.3 | DO25: =DM25*DN25 -> 0 | DQ25: 6.3 | DR25: =DP25*DQ25 -> 0 | DT25: 6.3 | DU25: =DS25*DT25 -> 0 | DW25: 6.3 | DX25: =DV25*DW25 -> 0 | DZ25: 6.3 | EA25: =DY25*DZ25 -> 0 | EC25: 6.3 | ED25: =EB25*EC25 -> 0 | EF25: 6.3 | EG25: =EE25*EF25 -> 0 | EI25: 6.3 | EJ25: =EH25*EI25 -> 0 | EL25: 6.3 | EM25: =EK25*EL25 -> 0 | EO25: 6.3 | EP25: =EN25*EO25 -> 0 | ER25: 6.3 | ES25: =EQ25*ER25 -> 0 | EU25: 6.3 | EV25: =ET25*EU25 -> 0 | EX25: 6.3 | EY25: =EW25*EX25 -> 0 | FA25: 6.3 | FB25: =EZ25*FA25 -> 0 | FD25: 6.3 | FE25: =FC25*FD25 -> 0 | FG25: 6.3 | FH25: =FF25*FG25 -> 0 | FJ25: 6.3 | FK25: =FI25*FJ25 -> 0 | FM25: 6.3 | FN25: =FL25*FM25 -> 0 | FP25: 6.3 | FQ25: =FO25*FP25 -> 0 | FS25: 6.3 | FT25: =FR25*FS25 -> 0 | FV25: 6.3 | FW25: =FU25*FV25 -> 0 | FY25: 6.3 | FZ25: =FX25*FY25 -> 0 | GB25: 6.3 | GC25: =GA25*GB25 -> 0 | GE25: 6.3 | GF25: =GD25*GE25 -> 0 | GH25: 6.3 | GI25: =GG25*GH25 -> 0 | GK25: 6.3 | GL25: =GJ25*GK25 -> 0 | GN25: 6.3 | GO25: =GM25*GN25 -> 0 | GQ25: 6.3 | GR25: =GP25*GQ25 -> 0 | GT25: 6.3 | GU25: =GS25*GT25 -> 0 | GW25: 6.3 | GX25: =GV25*GW25 -> 0 | GZ25: 6.3 | HA25: =GY25*GZ25 -> 0 | HC25: 6.3 | HD25: =HB25*HC25 -> 0 | HF25: 6.3 | HG25: =HE25*HF25 -> 0 | HI25: 6.3 | HJ25: =HH25*HI25 -> 0 | HL25: 6.3 | HM25: =HK25*HL25 -> 0 | HO25: 6.3 | HP25: =HN25*HO25 -> 0 | HR25: 6.3 | HS25: =HQ25*HR25 -> 0 | HU25: 6.3 | HV25: =HT25*HU25 -> 0 | HX25: 6.3 | HY25: =HW25*HX25 -> 0 | IA25: 6.3 | IB25: =HZ25*IA25 -> 0 | ID25: 6.3 | IE25: =IC25*ID25 -> 0
A26: =Feuil3!B13 -> ORGE FOURRAGERE | B26: =F26+I26+L26+O26+R26+U26+X26+AA26+AD26+AG26+AJ26+AM26+AP26+AS26+AV26+AY26+BB26+BE26+BH26+BK26+BN26+BQ26+BT26+BW26+BZ26+CC26+CF26+CI26+CL26+CO26+CR26+CU26+CX26+DA26+DD26+DG26+DJ26+DM26+DP26+DS26+DV26+DY26+EB26+EE26+EH26+EK26+EN26+EQ26+ET26+EW26+EZ26+FC26+FF26+FI26+FL26+FO26+FR26+FU26+FX26+GA26+GD26+GG26+GJ26+GM26+GP26+GS26+GV26+GY26+HB26+HE26+HH26+HK26+HN26+HQ26+HT26+HW26+HZ26+IC26 -> 125.73 | C26: =IF(B26=0,"",D26/B26) -> 6.3 | D26: =H26+K26+N26+Q26+T26+W26+Z26+AC26+AF26+AI26+AL26+AO26+AR26+AU26+AX26+BA26+BD26+BG26+BJ26+BM26+BP26+BS26+BV26+BY26+CB26+CE26+CH26+CK26+CN26+CQ26+CT26+CW26+CZ26+DC26+DF26+DI26+DL26+DO26+DR26+DU26+DX26+EA26+ED26+EG26+EJ26+EM26+EP26+ES26+EV26+EY26+FB26+FE26+FH26+FK26+FN26+FQ26+FT26+FW26+FZ26+GC26+GF26+GI26+GL26+GO26+GR26+GU26+GX26+HA26+HD26+HG26+HJ26+HM26+HP26+HS26+HV26+HY26+IB26+IE26 -> 792.099 | F26: =IFERROR(GETPIVOTDATA("Ha Tot collecte",'[1]Feuil1 (2)'!$A$3,"Silo",F$11,"Lib. variété",$A26),0) -> 0 | G26: 6.3 | H26: =F26*G26 -> 0 | I26: =IFERROR(GETPIVOTDATA("Ha Tot collecte",'[1]Feuil1 (2)'!$A$3,"Silo",I$11,"Lib. variété",$A26),0) -> 0 | J26: 6.3 | K26: =I26*J26 -> 0 | L26: =IFERROR(GETPIVOTDATA("Ha Tot collecte",'[1]Feuil1 (2)'!$A$3,"Silo",L$11,"Lib. variété",$A26),0) -> 0 | M26: 6.3 | N26: =L26*M26 -> 0 | O26: =IFERROR(GETPIVOTDATA("Ha Tot collecte",'[1]Feuil1 (2)'!$A$3,"Silo",O$11,"Lib. variété",$A26),0) -> 0 | P26: 6.3 | Q26: =O26*P26 -> 0 | R26: =IFERROR(GETPIVOTDATA("Ha Tot collecte",'[1]Feuil1 (2)'!$A$3,"Silo",R$11,"Lib. variété",$A26),0) -> 0 | S26: 6.3 | T26: =R26*S26 -> 0 | U26: =IFERROR(GETPIVOTDATA("Ha Tot collecte",'[1]Feuil1 (2)'!$A$3,"Silo",U$11,"Lib. variété",$A26),0) -> 16 | V26: 6.3 | W26: =U26*V26 -> 100.8 | X26: =IFERROR(GETPIVOTDATA("Ha Tot collecte",'[1]Feuil1 (2)'!$A$3,"Silo",X$11,"Lib. variété",$A26),0) -> 0 | Y26: 6.3 | Z26: =X26*Y26 -> 0 | AA26: =IFERROR(GETPIVOTDATA("Ha Tot collecte",'[1]Feuil1 (2)'!$A$3,"Silo",AA$11,"Lib. variété",$A26),0) -> 0 | AB26: 6.3 | AC26: =AA26*AB26 -> 0 | AD26: =IFERROR(GETPIVOTDATA("Ha Tot collecte",'[1]Feuil1 (2)'!$A$3,"Silo",AD$11,"Lib. variété",$A26),0) -> 9.43 | AE26: 6.3 | AF26: =AD26*AE26 -> 59.409 | AG26: =IFERROR(GETPIVOTDATA("Ha Tot collecte",'[1]Feuil1 (2)'!$A$3,"Silo",AG$11,"Lib. variété",$A26),0) -> 0 | AH26: 6.3 | AI26: =AG26*AH26 -> 0 | AJ26: =IFERROR(GETPIVOTDATA("Ha Tot collecte",'[1]Feuil1 (2)'!$A$3,"Silo",AJ$11,"Lib. variété",$A26),0) -> 0 | AK26: 6.3 | AL26: =AJ26*AK26 -> 0 | AM26: =IFERROR(GETPIVOTDATA("Ha Tot collecte",'[1]Feuil1 (2)'!$A$3,"Silo",AM$11,"Lib. variété",$A26),0) -> 0 | AN26: 6.3 | AO26: =AM26*AN26 -> 0 | AP26: =IFERROR(GETPIVOTDATA("Ha Tot collecte",'[1]Feuil1 (2)'!$A$3,"Silo",AP$11,"Lib. variété",$A26),0) -> 0 | AQ26: 6.3 | AR26: =AP26*AQ26 -> 0 | AS26: =IFERROR(GETPIVOTDATA("Ha Tot collecte",'[1]Feuil1 (2)'!$A$3,"Silo",AS$11,"Lib. variété",$A26),0) -> 0 | AT26: 6.3 | AU26: =AS26*AT26 -> 0 | AV26: =IFERROR(GETPIVOTDATA("Ha Tot collecte",'[1]Feuil1 (2)'!$A$3,"Silo",AV$11,"Lib. variété",$A26),0) -> 0 | AW26: 6.3 | AX26: =AV26*AW26 -> 0 | AY26: =IFERROR(GETPIVOTDATA("Ha Tot collecte",'[1]Feuil1 (2)'!$A$3,"Silo",AY$11,"Lib. variété",$A26),0) -> 0 | AZ26: 6.3 | BA26: =AY26*AZ26 -> 0 | BB26: =IFERROR(GETPIVOTDATA("Ha Tot collecte",'[1]Feuil1 (2)'!$A$3,"Silo",BB$11,"Lib. variété",$A26),0) -> 0 | BC26: 6.3 | BD26: =BB26*BC26 -> 0 | BE26: =IFERROR(GETPIVOTDATA("Ha Tot collecte",'[1]Feuil1 (2)'!$A$3,"Silo",BE$11,"Lib. variété",$A26),0) -> 52 | BF26: 6.3 | BG26: =BE26*BF26 -> 327.6 | BH26: =IFERROR(GETPIVOTDATA("Ha Tot collecte",'[1]Feuil1 (2)'!$A$3,"Silo",BH$11,"Lib. variété",$A26),0) -> 0 | BI26: 6.3 | BJ26: =BH26*BI26 -> 0 | BK26: =IFERROR(GETPIVOTDATA("Ha Tot collecte",'[1]Feuil1 (2)'!$A$3,"Silo",BK$11,"Lib. variété",$A26),0) -> 0 | BL26: 6.3 | BM26: =BK26*BL26 -> 0 | BN26: =IFERROR(GETPIVOTDATA("Ha Tot collecte",'[1]Feuil1 (2)'!$A$3,"Silo",BN$11,"Lib. variété",$A26),0) -> 0 | BO26: 6.3 | BP26: =BN26*BO26 -> 0 | BQ26: =IFERROR(GETPIVOTDATA("Ha Tot collecte",'[1]Feuil1 (2)'!$A$3,"Silo",BQ$11,"Lib. variété",$A26),0) -> 0 | BR26: 6.3 | BS26: =BQ26*BR26 -> 0 | BT26: =IFERROR(GETPIVOTDATA("Ha Tot collecte",'[1]Feuil1 (2)'!$A$3,"Silo",BT$11,"Lib. variété",$A26),0) -> 9 | BU26: 6.3 | BV26: =BT26*BU26 -> 56.7 | BW26: =IFERROR(GETPIVOTDATA("Ha Tot collecte",'[1]Feuil1 (2)'!$A$3,"Silo",BW$11,"Lib. variété",$A26),0) -> 0 | BX26: 6.3 | BY26: =BW26*BX26 -> 0 | BZ26: =IFERROR(GETPIVOTDATA("Ha Tot collecte",'[1]Feuil1 (2)'!$A$3,"Silo",BZ$11,"Lib. variété",$A26),0) -> 13.3 | CA26: 6.3 | CB26: =BZ26*CA26 -> 83.79 | CC26: =IFERROR(GETPIVOTDATA("Ha Tot collecte",'[1]Feuil1 (2)'!$A$3,"Silo",CC$11,"Lib. variété",$A26),0) -> 26 | CD26: 6.3 | CE26: =CC26*CD26 -> 163.8 | CF26: =IFERROR(GETPIVOTDATA("Ha Tot collecte",'[1]Feuil1 (2)'!$A$3,"Silo",CF$11,"Lib. variété",$A26),0) -> 0 | CG26: 6.3 | CH26: =CF26*CG26 -> 0 | CJ26: 6.3 | CK26: =CI26*CJ26 -> 0 | CM26: 6.3 | CN26: =CL26*CM26 -> 0 | CP26: 6.3 | CQ26: =CO26*CP26 -> 0 | CS26: 6.3 | CT26: =CR26*CS26 -> 0 | CV26: 6.3 | CW26: =CU26*CV26 -> 0 | CY26: 6.3 | CZ26: =CX26*CY26 -> 0 | DB26: 6.3 | DC26: =DA26*DB26 -> 0 | DE26: 6.3 | DF26: =DD26*DE26 -> 0 | DH26: 6.3 | DI26: =DG26*DH26 -> 0 | DK26: 6.3 | DL26: =DJ26*DK26 -> 0 | DN26: 6.3 | DO26: =DM26*DN26 -> 0 | DQ26: 6.3 | DR26: =DP26*DQ26 -> 0 | DT26: 6.3 | DU26: =DS26*DT26 -> 0 | DW26: 6.3 | DX26: =DV26*DW26 -> 0 | DZ26: 6.3 | EA26: =DY26*DZ26 -> 0 | EC26: 6.3 | ED26: =EB26*EC26 -> 0 | EF26: 6.3 | EG26: =EE26*EF26 -> 0 | EI26: 6.3 | EJ26: =EH26*EI26 -> 0 | EL26: 6.3 | EM26: =EK26*EL26 -> 0 | EO26: 6.3 | EP26: =EN26*EO26 -> 0 | ER26: 6.3 | ES26: =EQ26*ER26 -> 0 | EU26: 6.3 | EV26: =ET26*EU26 -> 0 | EX26: 6.3 | EY26: =EW26*EX26 -> 0 | FA26: 6.3 | FB26: =EZ26*FA26 -> 0 | FD26: 6.3 | FE26: =FC26*FD26 -> 0 | FG26: 6.3 | FH26: =FF26*FG26 -> 0 | FJ26: 6.3 | FK26: =FI26*FJ26 -> 0 | FM26: 6.3 | FN26: =FL26*FM26 -> 0 | FP26: 6.3 | FQ26: =FO26*FP26 -> 0 | FS26: 6.3 | FT26: =FR26*FS26 -> 0 | FV26: 6.3 | FW26: =FU26*FV26 -> 0 | FY26: 6.3 | FZ26: =FX26*FY26 -> 0 | GB26: 6.3 | GC26: =GA26*GB26 -> 0 | GE26: 6.3 | GF26: =GD26*GE26 -> 0 | GH26: 6.3 | GI26: =GG26*GH26 -> 0 | GK26: 6.3 | GL26: =GJ26*GK26 -> 0 | GN26: 6.3 | GO26: =GM26*GN26 -> 0 | GQ26: 6.3 | GR26: =GP26*GQ26 -> 0 | GT26: 6.3 | GU26: =GS26*GT26 -> 0 | GW26: 6.3 | GX26: =GV26*GW26 -> 0 | GZ26: 6.3 | HA26: =GY26*GZ26 -> 0 | HC26: 6.3 | HD26: =HB26*HC26 -> 0 | HF26: 6.3 | HG26: =HE26*HF26 -> 0 | HI26: 6.3 | HJ26: =HH26*HI26 -> 0 | HL26: 6.3 | HM26: =HK26*HL26 -> 0 | HO26: 6.3 | HP26: =HN26*HO26 -> 0 | HR26: 6.3 | HS26: =HQ26*HR26 -> 0 | HU26: 6.3 | HV26: =HT26*HU26 -> 0 | HX26: 6.3 | HY26: =HW26*HX26 -> 0 | IA26: 6.3 | IB26: =HZ26*IA26 -> 0 | ID26: 6.3 | IE26: =IC26*ID26 -> 0
A27: =Feuil3!B14 -> ORGE BRAS. HIVER ARTURIO | B27: =F27+I27+L27+O27+R27+U27+X27+AA27+AD27+AG27+AJ27+AM27+AP27+AS27+AV27+AY27+BB27+BE27+BH27+BK27+BN27+BQ27+BT27+BW27+BZ27+CC27+CF27+CI27+CL27+CO27+CR27+CU27+CX27+DA27+DD27+DG27+DJ27+DM27+DP27+DS27+DV27+DY27+EB27+EE27+EH27+EK27+EN27+EQ27+ET27+EW27+EZ27+FC27+FF27+FI27+FL27+FO27+FR27+FU27+FX27+GA27+GD27+GG27+GJ27+GM27+GP27+GS27+GV27+GY27+HB27+HE27+HH27+HK27+HN27+HQ27+HT27+HW27+HZ27+IC27 -> 0 | C27: =IF(B27=0,"",D27/B27) | D27: =H27+K27+N27+Q27+T27+W27+Z27+AC27+AF27+AI27+AL27+AO27+AR27+AU27+AX27+BA27+BD27+BG27+BJ27+BM27+BP27+BS27+BV27+BY27+CB27+CE27+CH27+CK27+CN27+CQ27+CT27+CW27+CZ27+DC27+DF27+DI27+DL27+DO27+DR27+DU27+DX27+EA27+ED27+EG27+EJ27+EM27+EP27+ES27+EV27+EY27+FB27+FE27+FH27+FK27+FN27+FQ27+FT27+FW27+FZ27+GC27+GF27+GI27+GL27+GO27+GR27+GU27+GX27+HA27+HD27+HG27+HJ27+HM27+HP27+HS27+HV27+HY27+IB27+IE27 -> 0 | F27: =IFERROR(GETPIVOTDATA("Ha Tot collecte",'[1]Feuil1 (2)'!$A$3,"Silo",F$11,"Lib. variété",$A27),0) -> 0 | G27: 6.3 | H27: =F27*G27 -> 0 | I27: =IFERROR(GETPIVOTDATA("Ha Tot collecte",'[1]Feuil1 (2)'!$A$3,"Silo",I$11,"Lib. variété",$A27),0) -> 0 | J27: 6.3 | K27: =I27*J27 -> 0 | L27: =IFERROR(GETPIVOTDATA("Ha Tot collecte",'[1]Feuil1 (2)'!$A$3,"Silo",L$11,"Lib. variété",$A27),0) -> 0 | M27: 6.3 | N27: =L27*M27 -> 0 | O27: =IFERROR(GETPIVOTDATA("Ha Tot collecte",'[1]Feuil1 (2)'!$A$3,"Silo",O$11,"Lib. variété",$A27),0) -> 0 | P27: 6.3 | Q27: =O27*P27 -> 0 | R27: =IFERROR(GETPIVOTDATA("Ha Tot collecte",'[1]Feuil1 (2)'!$A$3,"Silo",R$11,"Lib. variété",$A27),0) -> 0 | S27: 6.3 | T27: =R27*S27 -> 0 | U27: =IFERROR(GETPIVOTDATA("Ha Tot collecte",'[1]Feuil1 (2)'!$A$3,"Silo",U$11,"Lib. variété",$A27),0) -> 0 | V27: 6.3 | W27: =U27*V27 -> 0 | X27: =IFERROR(GETPIVOTDATA("Ha Tot collecte",'[1]Feuil1 (2)'!$A$3,"Silo",X$11,"Lib. variété",$A27),0) -> 0 | Y27: 6.3 | Z27: =X27*Y27 -> 0 | AA27: =IFERROR(GETPIVOTDATA("Ha Tot collecte",'[1]Feuil1 (2)'!$A$3,"Silo",AA$11,"Lib. variété",$A27),0) -> 0 | AB27: 6.3 | AC27: =AA27*AB27 -> 0 | AD27: =IFERROR(GETPIVOTDATA("Ha Tot collecte",'[1]Feuil1 (2)'!$A$3,"Silo",AD$11,"Lib. variété",$A27),0) -> 0 | AE27: 6.3 | AF27: =AD27*AE27 -> 0 | AG27: =IFERROR(GETPIVOTDATA("Ha Tot collecte",'[1]Feuil1 (2)'!$A$3,"Silo",AG$11,"Lib. variété",$A27),0) -> 0 | AH27: 6.3 | AI27: =AG27*AH27 -> 0 | AJ27: =IFERROR(GETPIVOTDATA("Ha Tot collecte",'[1]Feuil1 (2)'!$A$3,"Silo",AJ$11,"Lib. variété",$A27),0) -> 0 | AK27: 6.3 | AL27: =AJ27*AK27 -> 0 | AM27: =IFERROR(GETPIVOTDATA("Ha Tot collecte",'[1]Feuil1 (2)'!$A$3,"Silo",AM$11,"Lib. variété",$A27),0) -> 0 | AN27: 6.3 | AO27: =AM27*AN27 -> 0 | AP27: =IFERROR(GETPIVOTDATA("Ha Tot collecte",'[1]Feuil1 (2)'!$A$3,"Silo",AP$11,"Lib. variété",$A27),0) -> 0 | AQ27: 6.3 | AR27: =AP27*AQ27 -> 0 | AS27: =IFERROR(GETPIVOTDATA("Ha Tot collecte",'[1]Feuil1 (2)'!$A$3,"Silo",AS$11,"Lib. variété",$A27),0) -> 0 | AT27: 6.3 | AU27: =AS27*AT27 -> 0 | AV27: =IFERROR(GETPIVOTDATA("Ha Tot collecte",'[1]Feuil1 (2)'!$A$3,"Silo",AV$11,"Lib. variété",$A27),0) -> 0 | AW27: 6.3 | AX27: =AV27*AW27 -> 0 | AY27: =IFERROR(GETPIVOTDATA("Ha Tot collecte",'[1]Feuil1 (2)'!$A$3,"Silo",AY$11,"Lib. variété",$A27),0) -> 0 | AZ27: 6.3 | BA27: =AY27*AZ27 -> 0 | BB27: =IFERROR(GETPIVOTDATA("Ha Tot collecte",'[1]Feuil1 (2)'!$A$3,"Silo",BB$11,"Lib. variété",$A27),0) -> 0 | BC27: 6.3 | BD27: =BB27*BC27 -> 0 | BE27: =IFERROR(GETPIVOTDATA("Ha Tot collecte",'[1]Feuil1 (2)'!$A$3,"Silo",BE$11,"Lib. variété",$A27),0) -> 0 | BF27: 6.3 | BG27: =BE27*BF27 -> 0 | BH27: =IFERROR(GETPIVOTDATA("Ha Tot collecte",'[1]Feuil1 (2)'!$A$3,"Silo",BH$11,"Lib. variété",$A27),0) -> 0 | BI27: 6.3 | BJ27: =BH27*BI27 -> 0 | BK27: =IFERROR(GETPIVOTDATA("Ha Tot collecte",'[1]Feuil1 (2)'!$A$3,"Silo",BK$11,"Lib. variété",$A27),0) -> 0 | BL27: 6.3 | BM27: =BK27*BL27 -> 0 | BN27: =IFERROR(GETPIVOTDATA("Ha Tot collecte",'[1]Feuil1 (2)'!$A$3,"Silo",BN$11,"Lib. variété",$A27),0) -> 0 | BO27: 6.3 | BP27: =BN27*BO27 -> 0 | BQ27: =IFERROR(GETPIVOTDATA("Ha Tot collecte",'[1]Feuil1 (2)'!$A$3,"Silo",BQ$11,"Lib. variété",$A27),0) -> 0 | BR27: 6.3 | BS27: =BQ27*BR27 -> 0 | BT27: =IFERROR(GETPIVOTDATA("Ha Tot collecte",'[1]Feuil1 (2)'!$A$3,"Silo",BT$11,"Lib. variété",$A27),0) -> 0 | BU27: 6.3 | BV27: =BT27*BU27 -> 0 | BW27: =IFERROR(GETPIVOTDATA("Ha Tot collecte",'[1]Feuil1 (2)'!$A$3,"Silo",BW$11,"Lib. variété",$A27),0) -> 0 | BX27: 6.3 | BY27: =BW27*BX27 -> 0 | BZ27: =IFERROR(GETPIVOTDATA("Ha Tot collecte",'[1]Feuil1 (2)'!$A$3,"Silo",BZ$11,"Lib. variété",$A27),0) -> 0 | CA27: 6.3 | CB27: =BZ27*CA27 -> 0 | CC27: =IFERROR(GETPIVOTDATA("Ha Tot collecte",'[1]Feuil1 (2)'!$A$3,"Silo",CC$11,"Lib. variété",$A27),0) -> 0 | CD27: 6.3 | CE27: =CC27*CD27 -> 0 | CF27: =IFERROR(GETPIVOTDATA("Ha Tot collecte",'[1]Feuil1 (2)'!$A$3,"Silo",CF$11,"Lib. variété",$A27),0) -> 0 | CG27: 6.3 | CH27: =CF27*CG27 -> 0 | CJ27: 6.3 | CK27: =CI27*CJ27 -> 0 | CM27: 6.3 | CN27: =CL27*CM27 -> 0 | CP27: 6.3 | CQ27: =CO27*CP27 -> 0 | CS27: 6.3 | CT27: =CR27*CS27 -> 0 | CV27: 6.3 | CW27: =CU27*CV27 -> 0 | CY27: 6.3 | CZ27: =CX27*CY27 -> 0 | DB27: 6.3 | DC27: =DA27*DB27 -> 0 | DE27: 6.3 | DF27: =DD27*DE27 -> 0 | DH27: 6.3 | DI27: =DG27*DH27 -> 0 | DK27: 6.3 | DL27: =DJ27*DK27 -> 0 | DN27: 6.3 | DO27: =DM27*DN27 -> 0 | DQ27: 6.3 | DR27: =DP27*DQ27 -> 0 | DT27: 6.3 | DU27: =DS27*DT27 -> 0 | DW27: 6.3 | DX27: =DV27*DW27 -> 0 | DZ27: 6.3 | EA27: =DY27*DZ27 -> 0 | EC27: 6.3 | ED27: =EB27*EC27 -> 0 | EF27: 6.3 | EG27: =EE27*EF27 -> 0 | EI27: 6.3 | EJ27: =EH27*EI27 -> 0 | EL27: 6.3 | EM27: =EK27*EL27 -> 0 | EO27: 6.3 | EP27: =EN27*EO27 -> 0 | ER27: 6.3 | ES27: =EQ27*ER27 -> 0 | EU27: 6.3 | EV27: =ET27*EU27 -> 0 | EX27: 6.3 | EY27: =EW27*EX27 -> 0 | FA27: 6.3 | FB27: =EZ27*FA27 -> 0 | FD27: 6.3 | FE27: =FC27*FD27 -> 0 | FG27: 6.3 | FH27: =FF27*FG27 -> 0 | FJ27: 6.3 | FK27: =FI27*FJ27 -> 0 | FM27: 6.3 | FN27: =FL27*FM27 -> 0 | FP27: 6.3 | FQ27: =FO27*FP27 -> 0 | FS27: 6.3 | FT27: =FR27*FS27 -> 0 | FV27: 6.3 | FW27: =FU27*FV27 -> 0 | FY27: 6.3 | FZ27: =FX27*FY27 -> 0 | GB27: 6.3 | GC27: =GA27*GB27 -> 0 | GE27: 6.3 | GF27: =GD27*GE27 -> 0 | GH27: 6.3 | GI27: =GG27*GH27 -> 0 | GK27: 6.3 | GL27: =GJ27*GK27 -> 0 | GN27: 6.3 | GO27: =GM27*GN27 -> 0 | GQ27: 6.3 | GR27: =GP27*GQ27 -> 0 | GT27: 6.3 | GU27: =GS27*GT27 -> 0 | GW27: 6.3 | GX27: =GV27*GW27 -> 0 | GZ27: 6.3 | HA27: =GY27*GZ27 -> 0 | HC27: 6.3 | HD27: =HB27*HC27 -> 0 | HF27: 6.3 | HG27: =HE27*HF27 -> 0 | HI27: 6.3 | HJ27: =HH27*HI27 -> 0 | HL27: 6.3 | HM27: =HK27*HL27 -> 0 | HO27: 6.3 | HP27: =HN27*HO27 -> 0 | HR27: 6.3 | HS27: =HQ27*HR27 -> 0 | HU27: 6.3 | HV27: =HT27*HU27 -> 0 | HX27: 6.3 | HY27: =HW27*HX27 -> 0 | IA27: 6.3 | IB27: =HZ27*IA27 -> 0 | ID27: 6.3 | IE27: =IC27*ID27 -> 0
A28: =Feuil3!B15 -> 0 | B28: =F28+I28+L28+O28+R28+U28+X28+AA28+AD28+AG28+AJ28+AM28+AP28+AS28+AV28+AY28+BB28+BE28+BH28+BK28+BN28+BQ28+BT28+BW28+BZ28+CC28+CF28+CI28+CL28+CO28+CR28+CU28+CX28+DA28+DD28+DG28+DJ28+DM28+DP28+DS28+DV28+DY28+EB28+EE28+EH28+EK28+EN28+EQ28+ET28+EW28+EZ28+FC28+FF28+FI28+FL28+FO28+FR28+FU28+FX28+GA28+GD28+GG28+GJ28+GM28+GP28+GS28+GV28+GY28+HB28+HE28+HH28+HK28+HN28+HQ28+HT28+HW28+HZ28+IC28 -> 0 | C28: =IF(B28=0,"",D28/B28) | D28: =H28+K28+N28+Q28+T28+W28+Z28+AC28+AF28+AI28+AL28+AO28+AR28+AU28+AX28+BA28+BD28+BG28+BJ28+BM28+BP28+BS28+BV28+BY28+CB28+CE28+CH28+CK28+CN28+CQ28+CT28+CW28+CZ28+DC28+DF28+DI28+DL28+DO28+DR28+DU28+DX28+EA28+ED28+EG28+EJ28+EM28+EP28+ES28+EV28+EY28+FB28+FE28+FH28+FK28+FN28+FQ28+FT28+FW28+FZ28+GC28+GF28+GI28+GL28+GO28+GR28+GU28+GX28+HA28+HD28+HG28+HJ28+HM28+HP28+HS28+HV28+HY28+IB28+IE28 -> 0 | F28: =IFERROR(GETPIVOTDATA("Ha Tot collecte",'[1]Feuil1 (2)'!$A$3,"Silo",F$11,"Lib. variété",$A28),0) -> 0 | G28: 6.3 | H28: =F28*G28 -> 0 | I28: =IFERROR(GETPIVOTDATA("Ha Tot collecte",'[1]Feuil1 (2)'!$A$3,"Silo",I$11,"Lib. variété",$A28),0) -> 0 | J28: 6.3 | K28: =I28*J28 -> 0 | L28: =IFERROR(GETPIVOTDATA("Ha Tot collecte",'[1]Feuil1 (2)'!$A$3,"Silo",L$11,"Lib. variété",$A28),0) -> 0 | M28: 6.3 | N28: =L28*M28 -> 0 | O28: =IFERROR(GETPIVOTDATA("Ha Tot collecte",'[1]Feuil1 (2)'!$A$3,"Silo",O$11,"Lib. variété",$A28),0) -> 0 | P28: 6.3 | Q28: =O28*P28 -> 0 | R28: =IFERROR(GETPIVOTDATA("Ha Tot collecte",'[1]Feuil1 (2)'!$A$3,"Silo",R$11,"Lib. variété",$A28),0) -> 0 | S28: 6.3 | T28: =R28*S28 -> 0 | U28: =IFERROR(GETPIVOTDATA("Ha Tot collecte",'[1]Feuil1 (2)'!$A$3,"Silo",U$11,"Lib. variété",$A28),0) -> 0 | V28: 6.3 | W28: =U28*V28 -> 0 | X28: =IFERROR(GETPIVOTDATA("Ha Tot collecte",'[1]Feuil1 (2)'!$A$3,"Silo",X$11,"Lib. variété",$A28),0) -> 0 | Y28: 6.3 | Z28: =X28*Y28 -> 0 | AA28: =IFERROR(GETPIVOTDATA("Ha Tot collecte",'[1]Feuil1 (2)'!$A$3,"Silo",AA$11,"Lib. variété",$A28),0) -> 0 | AB28: 6.3 | AC28: =AA28*AB28 -> 0 | AD28: =IFERROR(GETPIVOTDATA("Ha Tot collecte",'[1]Feuil1 (2)'!$A$3,"Silo",AD$11,"Lib. variété",$A28),0) -> 0 | AE28: 6.3 | AF28: =AD28*AE28 -> 0 | AG28: =IFERROR(GETPIVOTDATA("Ha Tot collecte",'[1]Feuil1 (2)'!$A$3,"Silo",AG$11,"Lib. variété",$A28),0) -> 0 | AH28: 6.3 | AI28: =AG28*AH28 -> 0 | AJ28: =IFERROR(GETPIVOTDATA("Ha Tot collecte",'[1]Feuil1 (2)'!$A$3,"Silo",AJ$11,"Lib. variété",$A28),0) -> 0 | AK28: 6.3 | AL28: =AJ28*AK28 -> 0 | AM28: =IFERROR(GETPIVOTDATA("Ha Tot collecte",'[1]Feuil1 (2)'!$A$3,"Silo",AM$11,"Lib. variété",$A28),0) -> 0 | AN28: 6.3 | AO28: =AM28*AN28 -> 0 | AP28: =IFERROR(GETPIVOTDATA("Ha Tot collecte",'[1]Feuil1 (2)'!$A$3,"Silo",AP$11,"Lib. variété",$A28),0) -> 0 | AQ28: 6.3 | AR28: =AP28*AQ28 -> 0 | AS28: =IFERROR(GETPIVOTDATA("Ha Tot collecte",'[1]Feuil1 (2)'!$A$3,"Silo",AS$11,"Lib. variété",$A28),0) -> 0 | AT28: 6.3 | AU28: =AS28*AT28 -> 0 | AV28: =IFERROR(GETPIVOTDATA("Ha Tot collecte",'[1]Feuil1 (2)'!$A$3,"Silo",AV$11,"Lib. variété",$A28),0) -> 0 | AW28: 6.3 | AX28: =AV28*AW28 -> 0 | AY28: =IFERROR(GETPIVOTDATA("Ha Tot collecte",'[1]Feuil1 (2)'!$A$3,"Silo",AY$11,"Lib. variété",$A28),0) -> 0 | AZ28: 6.3 | BA28: =AY28*AZ28 -> 0 | BB28: =IFERROR(GETPIVOTDATA("Ha Tot collecte",'[1]Feuil1 (2)'!$A$3,"Silo",BB$11,"Lib. variété",$A28),0) -> 0 | BC28: 6.3 | BD28: =BB28*BC28 -> 0 | BE28: =IFERROR(GETPIVOTDATA("Ha Tot collecte",'[1]Feuil1 (2)'!$A$3,"Silo",BE$11,"Lib. variété",$A28),0) -> 0 | BF28: 6.3 | BG28: =BE28*BF28 -> 0 | BH28: =IFERROR(GETPIVOTDATA("Ha Tot collecte",'[1]Feuil1 (2)'!$A$3,"Silo",BH$11,"Lib. variété",$A28),0) -> 0 | BI28: 6.3 | BJ28: =BH28*BI28 -> 0 | BK28: =IFERROR(GETPIVOTDATA("Ha Tot collecte",'[1]Feuil1 (2)'!$A$3,"Silo",BK$11,"Lib. variété",$A28),0) -> 0 | BL28: 6.3 | BM28: =BK28*BL28 -> 0 | BN28: =IFERROR(GETPIVOTDATA("Ha Tot collecte",'[1]Feuil1 (2)'!$A$3,"Silo",BN$11,"Lib. variété",$A28),0) -> 0 | BO28: 6.3 | BP28: =BN28*BO28 -> 0 | BQ28: =IFERROR(GETPIVOTDATA("Ha Tot collecte",'[1]Feuil1 (2)'!$A$3,"Silo",BQ$11,"Lib. variété",$A28),0) -> 0 | BR28: 6.3 | BS28: =BQ28*BR28 -> 0 | BT28: =IFERROR(GETPIVOTDATA("Ha Tot collecte",'[1]Feuil1 (2)'!$A$3,"Silo",BT$11,"Lib. variété",$A28),0) -> 0 | BU28: 6.3 | BV28: =BT28*BU28 -> 0 | BW28: =IFERROR(GETPIVOTDATA("Ha Tot collecte",'[1]Feuil1 (2)'!$A$3,"Silo",BW$11,"Lib. variété",$A28),0) -> 0 | BX28: 6.3 | BY28: =BW28*BX28 -> 0 | BZ28: =IFERROR(GETPIVOTDATA("Ha Tot collecte",'[1]Feuil1 (2)'!$A$3,"Silo",BZ$11,"Lib. variété",$A28),0) -> 0 | CA28: 6.3 | CB28: =BZ28*CA28 -> 0 | CC28: =IFERROR(GETPIVOTDATA("Ha Tot collecte",'[1]Feuil1 (2)'!$A$3,"Silo",CC$11,"Lib. variété",$A28),0) -> 0 | CD28: 6.3 | CE28: =CC28*CD28 -> 0 | CF28: =IFERROR(GETPIVOTDATA("Ha Tot collecte",'[1]Feuil1 (2)'!$A$3,"Silo",CF$11,"Lib. variété",$A28),0) -> 0 | CG28: 6.3 | CH28: =CF28*CG28 -> 0 | CJ28: 6.3 | CK28: =CI28*CJ28 -> 0 | CM28: 6.3 | CN28: =CL28*CM28 -> 0 | CP28: 6.3 | CQ28: =CO28*CP28 -> 0 | CS28: 6.3 | CT28: =CR28*CS28 -> 0 | CV28: 6.3 | CW28: =CU28*CV28 -> 0 | CY28: 6.3 | CZ28: =CX28*CY28 -> 0 | DB28: 6.3 | DC28: =DA28*DB28 -> 0 | DE28: 6.3 | DF28: =DD28*DE28 -> 0 | DH28: 6.3 | DI28: =DG28*DH28 -> 0 | DK28: 6.3 | DL28: =DJ28*DK28 -> 0 | DN28: 6.3 | DO28: =DM28*DN28 -> 0 | DQ28: 6.3 | DR28: =DP28*DQ28 -> 0 | DT28: 6.3 | DU28: =DS28*DT28 -> 0 | DW28: 6.3 | DX28: =DV28*DW28 -> 0 | DZ28: 6.3 | EA28: =DY28*DZ28 -> 0 | EC28: 6.3 | ED28: =EB28*EC28 -> 0 | EF28: 6.3 | EG28: =EE28*EF28 -> 0 | EI28: 6.3 | EJ28: =EH28*EI28 -> 0 | EL28: 6.3 | EM28: =EK28*EL28 -> 0 | EO28: 6.3 | EP28: =EN28*EO28 -> 0 | ER28: 6.3 | ES28: =EQ28*ER28 -> 0 | EU28: 6.3 | EV28: =ET28*EU28 -> 0 | EX28: 6.3 | EY28: =EW28*EX28 -> 0 | FA28: 6.3 | FB28: =EZ28*FA28 -> 0 | FD28: 6.3 | FE28: =FC28*FD28 -> 0 | FG28: 6.3 | FH28: =FF28*FG28 -> 0 | FJ28: 6.3 | FK28: =FI28*FJ28 -> 0 | FM28: 6.3 | FN28: =FL28*FM28 -> 0 | FP28: 6.3 | FQ28: =FO28*FP28 -> 0 | FS28: 6.3 | FT28: =FR28*FS28 -> 0 | FV28: 6.3 | FW28: =FU28*FV28 -> 0 | FY28: 6.3 | FZ28: =FX28*FY28 -> 0 | GB28: 6.3 | GC28: =GA28*GB28 -> 0 | GE28: 6.3 | GF28: =GD28*GE28 -> 0 | GH28: 6.3 | GI28: =GG28*GH28 -> 0 | GK28: 6.3 | GL28: =GJ28*GK28 -> 0 | GN28: 6.3 | GO28: =GM28*GN28 -> 0 | GQ28: 6.3 | GR28: =GP28*GQ28 -> 0 | GT28: 6.3 | GU28: =GS28*GT28 -> 0 | GW28: 6.3 | GX28: =GV28*GW28 -> 0 | GZ28: 6.3 | HA28: =GY28*GZ28 -> 0 | HC28: 6.3 | HD28: =HB28*HC28 -> 0 | HF28: 6.3 | HG28: =HE28*HF28 -> 0 | HI28: 6.3 | HJ28: =HH28*HI28 -> 0 | HL28: 6.3 | HM28: =HK28*HL28 -> 0 | HO28: 6.3 | HP28: =HN28*HO28 -> 0 | HR28: 6.3 | HS28: =HQ28*HR28 -> 0 | HU28: 6.3 | HV28: =HT28*HU28 -> 0 | HX28: 6.3 | HY28: =HW28*HX28 -> 0 | IA28: 6.3 | IB28: =HZ28*IA28 -> 0 | ID28: 6.3 | IE28: =IC28*ID28 -> 0
A29: =Feuil3!B16 -> AVOINE BLANCHE | B29: =F29+I29+L29+O29+R29+U29+X29+AA29+AD29+AG29+AJ29+AM29+AP29+AS29+AV29+AY29+BB29+BE29+BH29+BK29+BN29+BQ29+BT29+BW29+BZ29+CC29+CF29+CI29+CL29+CO29+CR29+CU29+CX29+DA29+DD29+DG29+DJ29+DM29+DP29+DS29+DV29+DY29+EB29+EE29+EH29+EK29+EN29+EQ29+ET29+EW29+EZ29+FC29+FF29+FI29+FL29+FO29+FR29+FU29+FX29+GA29+GD29+GG29+GJ29+GM29+GP29+GS29+GV29+GY29+HB29+HE29+HH29+HK29+HN29+HQ29+HT29+HW29+HZ29+IC29 -> 0 | C29: =IF(B29=0,"",D29/B29) | D29: =H29+K29+N29+Q29+T29+W29+Z29+AC29+AF29+AI29+AL29+AO29+AR29+AU29+AX29+BA29+BD29+BG29+BJ29+BM29+BP29+BS29+BV29+BY29+CB29+CE29+CH29+CK29+CN29+CQ29+CT29+CW29+CZ29+DC29+DF29+DI29+DL29+DO29+DR29+DU29+DX29+EA29+ED29+EG29+EJ29+EM29+EP29+ES29+EV29+EY29+FB29+FE29+FH29+FK29+FN29+FQ29+FT29+FW29+FZ29+GC29+GF29+GI29+GL29+GO29+GR29+GU29+GX29+HA29+HD29+HG29+HJ29+HM29+HP29+HS29+HV29+HY29+IB29+IE29 -> 0 | F29: =IFERROR(GETPIVOTDATA("Ha Tot collecte",'[1]Feuil1 (2)'!$A$3,"Silo",F$11,"Lib. variété",$A29),0) -> 0 | G29: 4 | H29: =F29*G29 -> 0 | I29: =IFERROR(GETPIVOTDATA("Ha Tot collecte",'[1]Feuil1 (2)'!$A$3,"Silo",I$11,"Lib. variété",$A29),0) -> 0 | J29: 4 | K29: =I29*J29 -> 0 | L29: =IFERROR(GETPIVOTDATA("Ha Tot collecte",'[1]Feuil1 (2)'!$A$3,"Silo",L$11,"Lib. variété",$A29),0) -> 0 | M29: 4 | N29: =L29*M29 -> 0 | O29: =IFERROR(GETPIVOTDATA("Ha Tot collecte",'[1]Feuil1 (2)'!$A$3,"Silo",O$11,"Lib. variété",$A29),0) -> 0 | P29: 4 | Q29: =O29*P29 -> 0 | R29: =IFERROR(GETPIVOTDATA("Ha Tot collecte",'[1]Feuil1 (2)'!$A$3,"Silo",R$11,"Lib. variété",$A29),0) -> 0 | S29: 4 | T29: =R29*S29 -> 0 | U29: =IFERROR(GETPIVOTDATA("Ha Tot collecte",'[1]Feuil1 (2)'!$A$3,"Silo",U$11,"Lib. variété",$A29),0) -> 0 | V29: 4 | W29: =U29*V29 -> 0 | X29: =IFERROR(GETPIVOTDATA("Ha Tot collecte",'[1]Feuil1 (2)'!$A$3,"Silo",X$11,"Lib. variété",$A29),0) -> 0 | Y29: 4 | Z29: =X29*Y29 -> 0 | AA29: =IFERROR(GETPIVOTDATA("Ha Tot collecte",'[1]Feuil1 (2)'!$A$3,"Silo",AA$11,"Lib. variété",$A29),0) -> 0 | AB29: 4 | AC29: =AA29*AB29 -> 0 | AD29: =IFERROR(GETPIVOTDATA("Ha Tot collecte",'[1]Feuil1 (2)'!$A$3,"Silo",AD$11,"Lib. variété",$A29),0) -> 0 | AE29: 4 | AF29: =AD29*AE29 -> 0 | AG29: =IFERROR(GETPIVOTDATA("Ha Tot collecte",'[1]Feuil1 (2)'!$A$3,"Silo",AG$11,"Lib. variété",$A29),0) -> 0 | AH29: 4 | AI29: =AG29*AH29 -> 0 | AJ29: =IFERROR(GETPIVOTDATA("Ha Tot collecte",'[1]Feuil1 (2)'!$A$3,"Silo",AJ$11,"Lib. variété",$A29),0) -> 0 | AK29: 4 | AL29: =AJ29*AK29 -> 0 | AM29: =IFERROR(GETPIVOTDATA("Ha Tot collecte",'[1]Feuil1 (2)'!$A$3,"Silo",AM$11,"Lib. variété",$A29),0) -> 0 | AN29: 4 | AO29: =AM29*AN29 -> 0 | AP29: =IFERROR(GETPIVOTDATA("Ha Tot collecte",'[1]Feuil1 (2)'!$A$3,"Silo",AP$11,"Lib. variété",$A29),0) -> 0 | AQ29: 4 | AR29: =AP29*AQ29 -> 0 | AS29: =IFERROR(GETPIVOTDATA("Ha Tot collecte",'[1]Feuil1 (2)'!$A$3,"Silo",AS$11,"Lib. variété",$A29),0) -> 0 | AT29: 4 | AU29: =AS29*AT29 -> 0 | AV29: =IFERROR(GETPIVOTDATA("Ha Tot collecte",'[1]Feuil1 (2)'!$A$3,"Silo",AV$11,"Lib. variété",$A29),0) -> 0 | AW29: 4 | AX29: =AV29*AW29 -> 0 | AY29: =IFERROR(GETPIVOTDATA("Ha Tot collecte",'[1]Feuil1 (2)'!$A$3,"Silo",AY$11,"Lib. variété",$A29),0) -> 0 | AZ29: 4 | BA29: =AY29*AZ29 -> 0 | BB29: =IFERROR(GETPIVOTDATA("Ha Tot collecte",'[1]Feuil1 (2)'!$A$3,"Silo",BB$11,"Lib. variété",$A29),0) -> 0 | BC29: 4 | BD29: =BB29*BC29 -> 0 | BE29: =IFERROR(GETPIVOTDATA("Ha Tot collecte",'[1]Feuil1 (2)'!$A$3,"Silo",BE$11,"Lib. variété",$A29),0) -> 0 | BF29: 4 | BG29: =BE29*BF29 -> 0 | BH29: =IFERROR(GETPIVOTDATA("Ha Tot collecte",'[1]Feuil1 (2)'!$A$3,"Silo",BH$11,"Lib. variété",$A29),0) -> 0 | BI29: 4 | BJ29: =BH29*BI29 -> 0 | BK29: =IFERROR(GETPIVOTDATA("Ha Tot collecte",'[1]Feuil1 (2)'!$A$3,"Silo",BK$11,"Lib. variété",$A29),0) -> 0 | BL29: 4 | BM29: =BK29*BL29 -> 0 | BN29: =IFERROR(GETPIVOTDATA("Ha Tot collecte",'[1]Feuil1 (2)'!$A$3,"Silo",BN$11,"Lib. variété",$A29),0) -> 0 | BO29: 4 | BP29: =BN29*BO29 -> 0 | BQ29: =IFERROR(GETPIVOTDATA("Ha Tot collecte",'[1]Feuil1 (2)'!$A$3,"Silo",BQ$11,"Lib. variété",$A29),0) -> 0 | BR29: 4 | BS29: =BQ29*BR29 -> 0 | BT29: =IFERROR(GETPIVOTDATA("Ha Tot collecte",'[1]Feuil1 (2)'!$A$3,"Silo",BT$11,"Lib. variété",$A29),0) -> 0 | BU29: 4 | BV29: =BT29*BU29 -> 0 | BW29: =IFERROR(GETPIVOTDATA("Ha Tot collecte",'[1]Feuil1 (2)'!$A$3,"Silo",BW$11,"Lib. variété",$A29),0) -> 0 | BX29: 4 | BY29: =BW29*BX29 -> 0 | BZ29: =IFERROR(GETPIVOTDATA("Ha Tot collecte",'[1]Feuil1 (2)'!$A$3,"Silo",BZ$11,"Lib. variété",$A29),0) -> 0 | CA29: 4 | CB29: =BZ29*CA29 -> 0 | CC29: =IFERROR(GETPIVOTDATA("Ha Tot collecte",'[1]Feuil1 (2)'!$A$3,"Silo",CC$11,"Lib. variété",$A29),0) -> 0 | CD29: 4 | CE29: =CC29*CD29 -> 0 | CF29: =IFERROR(GETPIVOTDATA("Ha Tot collecte",'[1]Feuil1 (2)'!$A$3,"Silo",CF$11,"Lib. variété",$A29),0) -> 0 | CG29: 4 | CH29: =CF29*CG29 -> 0 | CJ29: 4 | CK29: =CI29*CJ29 -> 0 | CM29: 4 | CN29: =CL29*CM29 -> 0 | CP29: 4 | CQ29: =CO29*CP29 -> 0 | CS29: 4 | CT29: =CR29*CS29 -> 0 | CV29: 4 | CW29: =CU29*CV29 -> 0 | CY29: 4 | CZ29: =CX29*CY29 -> 0 | DB29: 4 | DC29: =DA29*DB29 -> 0 | DE29: 4 | DF29: =DD29*DE29 -> 0 | DH29: 4 | DI29: =DG29*DH29 -> 0 | DK29: 4 | DL29: =DJ29*DK29 -> 0 | DN29: 4 | DO29: =DM29*DN29 -> 0 | DQ29: 4 | DR29: =DP29*DQ29 -> 0 | DT29: 4 | DU29: =DS29*DT29 -> 0 | DW29: 4 | DX29: =DV29*DW29 -> 0 | DZ29: 4 | EA29: =DY29*DZ29 -> 0 | EC29: 4 | ED29: =EB29*EC29 -> 0 | EF29: 4 | EG29: =EE29*EF29 -> 0 | EI29: 4 | EJ29: =EH29*EI29 -> 0 | EL29: 4 | EM29: =EK29*EL29 -> 0 | EO29: 4 | EP29: =EN29*EO29 -> 0 | ER29: 4 | ES29: =EQ29*ER29 -> 0 | EU29: 4 | EV29: =ET29*EU29 -> 0 | EX29: 4 | EY29: =EW29*EX29 -> 0 | FA29: 4 | FB29: =EZ29*FA29 -> 0 | FD29: 4 | FE29: =FC29*FD29 -> 0 | FG29: 4 | FH29: =FF29*FG29 -> 0 | FJ29: 4 | FK29: =FI29*FJ29 -> 0 | FM29: 4 | FN29: =FL29*FM29 -> 0 | FP29: 4 | FQ29: =FO29*FP29 -> 0 | FS29: 4 | FT29: =FR29*FS29 -> 0 | FV29: 4 | FW29: =FU29*FV29 -> 0 | FY29: 4 | FZ29: =FX29*FY29 -> 0 | GB29: 4 | GC29: =GA29*GB29 -> 0 | GE29: 4 | GF29: =GD29*GE29 -> 0 | GH29: 4 | GI29: =GG29*GH29 -> 0 | GK29: 4 | GL29: =GJ29*GK29 -> 0 | GN29: 4 | GO29: =GM29*GN29 -> 0 | GQ29: 4 | GR29: =GP29*GQ29 -> 0 | GT29: 4 | GU29: =GS29*GT29 -> 0 | GW29: 4 | GX29: =GV29*GW29 -> 0 | GZ29: 4 | HA29: =GY29*GZ29 -> 0 | HC29: 4 | HD29: =HB29*HC29 -> 0 | HF29: 4 | HG29: =HE29*HF29 -> 0 | HI29: 4 | HJ29: =HH29*HI29 -> 0 | HL29: 4 | HM29: =HK29*HL29 -> 0 | HO29: 4 | HP29: =HN29*HO29 -> 0 | HR29: 4 | HS29: =HQ29*HR29 -> 0 | HU29: 4 | HV29: =HT29*HU29 -> 0 | HX29: 4 | HY29: =HW29*HX29 -> 0 | IA29: 4 | IB29: =HZ29*IA29 -> 0 | ID29: 4 | IE29: =IC29*ID29 -> 0
A30: =Feuil3!B17 -> AVOINE NOIRE | B30: =F30+I30+L30+O30+R30+U30+X30+AA30+AD30+AG30+AJ30+AM30+AP30+AS30+AV30+AY30+BB30+BE30+BH30+BK30+BN30+BQ30+BT30+BW30+BZ30+CC30+CF30+CI30+CL30+CO30+CR30+CU30+CX30+DA30+DD30+DG30+DJ30+DM30+DP30+DS30+DV30+DY30+EB30+EE30+EH30+EK30+EN30+EQ30+ET30+EW30+EZ30+FC30+FF30+FI30+FL30+FO30+FR30+FU30+FX30+GA30+GD30+GG30+GJ30+GM30+GP30+GS30+GV30+GY30+HB30+HE30+HH30+HK30+HN30+HQ30+HT30+HW30+HZ30+IC30 -> 12.5 | C30: =IF(B30=0,"",D30/B30) -> 4 | D30: =H30+K30+N30+Q30+T30+W30+Z30+AC30+AF30+AI30+AL30+AO30+AR30+AU30+AX30+BA30+BD30+BG30+BJ30+BM30+BP30+BS30+BV30+BY30+CB30+CE30+CH30+CK30+CN30+CQ30+CT30+CW30+CZ30+DC30+DF30+DI30+DL30+DO30+DR30+DU30+DX30+EA30+ED30+EG30+EJ30+EM30+EP30+ES30+EV30+EY30+FB30+FE30+FH30+FK30+FN30+FQ30+FT30+FW30+FZ30+GC30+GF30+GI30+GL30+GO30+GR30+GU30+GX30+HA30+HD30+HG30+HJ30+HM30+HP30+HS30+HV30+HY30+IB30+IE30 -> 50 | F30: =IFERROR(GETPIVOTDATA("Ha Tot collecte",'[1]Feuil1 (2)'!$A$3,"Silo",F$11,"Lib. variété",$A30),0) -> 0 | G30: 4 | H30: =F30*G30 -> 0 | I30: =IFERROR(GETPIVOTDATA("Ha Tot collecte",'[1]Feuil1 (2)'!$A$3,"Silo",I$11,"Lib. variété",$A30),0) -> 0 | J30: 4 | K30: =I30*J30 -> 0 | L30: =IFERROR(GETPIVOTDATA("Ha Tot collecte",'[1]Feuil1 (2)'!$A$3,"Silo",L$11,"Lib. variété",$A30),0) -> 0 | M30: 4 | N30: =L30*M30 -> 0 | O30: =IFERROR(GETPIVOTDATA("Ha Tot collecte",'[1]Feuil1 (2)'!$A$3,"Silo",O$11,"Lib. variété",$A30),0) -> 0 | P30: 4 | Q30: =O30*P30 -> 0 | R30: =IFERROR(GETPIVOTDATA("Ha Tot collecte",'[1]Feuil1 (2)'!$A$3,"Silo",R$11,"Lib. variété",$A30),0) -> 0 | S30: 4 | T30: =R30*S30 -> 0 | U30: =IFERROR(GETPIVOTDATA("Ha Tot collecte",'[1]Feuil1 (2)'!$A$3,"Silo",U$11,"Lib. variété",$A30),0) -> 0 | V30: 4 | W30: =U30*V30 -> 0 | X30: =IFERROR(GETPIVOTDATA("Ha Tot collecte",'[1]Feuil1 (2)'!$A$3,"Silo",X$11,"Lib. variété",$A30),0) -> 0 | Y30: 4 | Z30: =X30*Y30 -> 0 | AA30: =IFERROR(GETPIVOTDATA("Ha Tot collecte",'[1]Feuil1 (2)'!$A$3,"Silo",AA$11,"Lib. variété",$A30),0) -> 0 | AB30: 4 | AC30: =AA30*AB30 -> 0 | AD30: =IFERROR(GETPIVOTDATA("Ha Tot collecte",'[1]Feuil1 (2)'!$A$3,"Silo",AD$11,"Lib. variété",$A30),0) -> 0 | AE30: 4 | AF30: =AD30*AE30 -> 0 | AG30: =IFERROR(GETPIVOTDATA("Ha Tot collecte",'[1]Feuil1 (2)'!$A$3,"Silo",AG$11,"Lib. variété",$A30),0) -> 0 | AH30: 4 | AI30: =AG30*AH30 -> 0 | AJ30: =IFERROR(GETPIVOTDATA("Ha Tot collecte",'[1]Feuil1 (2)'!$A$3,"Silo",AJ$11,"Lib. variété",$A30),0) -> 0 | AK30: 4 | AL30: =AJ30*AK30 -> 0 | AM30: =IFERROR(GETPIVOTDATA("Ha Tot collecte",'[1]Feuil1 (2)'!$A$3,"Silo",AM$11,"Lib. variété",$A30),0) -> 0 | AN30: 4 | AO30: =AM30*AN30 -> 0 | AP30: =IFERROR(GETPIVOTDATA("Ha Tot collecte",'[1]Feuil1 (2)'!$A$3,"Silo",AP$11,"Lib. variété",$A30),0) -> 0 | AQ30: 4 | AR30: =AP30*AQ30 -> 0 | AS30: =IFERROR(GETPIVOTDATA("Ha Tot collecte",'[1]Feuil1 (2)'!$A$3,"Silo",AS$11,"Lib. variété",$A30),0) -> 0 | AT30: 4 | AU30: =AS30*AT30 -> 0 | AV30: =IFERROR(GETPIVOTDATA("Ha Tot collecte",'[1]Feuil1 (2)'!$A$3,"Silo",AV$11,"Lib. variété",$A30),0) -> 0 | AW30: 4 | AX30: =AV30*AW30 -> 0 | AY30: =IFERROR(GETPIVOTDATA("Ha Tot collecte",'[1]Feuil1 (2)'!$A$3,"Silo",AY$11,"Lib. variété",$A30),0) -> 0 | AZ30: 4 | BA30: =AY30*AZ30 -> 0 | BB30: =IFERROR(GETPIVOTDATA("Ha Tot collecte",'[1]Feuil1 (2)'!$A$3,"Silo",BB$11,"Lib. variété",$A30),0) -> 0 | BC30: 4 | BD30: =BB30*BC30 -> 0 | BE30: =IFERROR(GETPIVOTDATA("Ha Tot collecte",'[1]Feuil1 (2)'!$A$3,"Silo",BE$11,"Lib. variété",$A30),0) -> 0 | BF30: 4 | BG30: =BE30*BF30 -> 0 | BH30: =IFERROR(GETPIVOTDATA("Ha Tot collecte",'[1]Feuil1 (2)'!$A$3,"Silo",BH$11,"Lib. variété",$A30),0) -> 0 | BI30: 4 | BJ30: =BH30*BI30 -> 0 | BK30: =IFERROR(GETPIVOTDATA("Ha Tot collecte",'[1]Feuil1 (2)'!$A$3,"Silo",BK$11,"Lib. variété",$A30),0) -> 0 | BL30: 4 | BM30: =BK30*BL30 -> 0 | BN30: =IFERROR(GETPIVOTDATA("Ha Tot collecte",'[1]Feuil1 (2)'!$A$3,"Silo",BN$11,"Lib. variété",$A30),0) -> 0 | BO30: 4 | BP30: =BN30*BO30 -> 0 | BQ30: =IFERROR(GETPIVOTDATA("Ha Tot collecte",'[1]Feuil1 (2)'!$A$3,"Silo",BQ$11,"Lib. variété",$A30),0) -> 6.5 | BR30: 4 | BS30: =BQ30*BR30 -> 26 | BT30: =IFERROR(GETPIVOTDATA("Ha Tot collecte",'[1]Feuil1 (2)'!$A$3,"Silo",BT$11,"Lib. variété",$A30),0) -> 1 | BU30: 4 | BV30: =BT30*BU30 -> 4 | BW30: =IFERROR(GETPIVOTDATA("Ha Tot collecte",'[1]Feuil1 (2)'!$A$3,"Silo",BW$11,"Lib. variété",$A30),0) -> 0 | BX30: 4 | BY30: =BW30*BX30 -> 0 | BZ30: =IFERROR(GETPIVOTDATA("Ha Tot collecte",'[1]Feuil1 (2)'!$A$3,"Silo",BZ$11,"Lib. variété",$A30),0) -> 0 | CA30: 4 | CB30: =BZ30*CA30 -> 0 | CC30: =IFERROR(GETPIVOTDATA("Ha Tot collecte",'[1]Feuil1 (2)'!$A$3,"Silo",CC$11,"Lib. variété",$A30),0) -> 5 | CD30: 4 | CE30: =CC30*CD30 -> 20 | CF30: =IFERROR(GETPIVOTDATA("Ha Tot collecte",'[1]Feuil1 (2)'!$A$3,"Silo",CF$11,"Lib. variété",$A30),0) -> 0 | CG30: 4 | CH30: =CF30*CG30 -> 0 | CJ30: 4 | CK30: =CI30*CJ30 -> 0 | CM30: 4 | CN30: =CL30*CM30 -> 0 | CP30: 4 | CQ30: =CO30*CP30 -> 0 | CS30: 4 | CT30: =CR30*CS30 -> 0 | CV30: 4 | CW30: =CU30*CV30 -> 0 | CY30: 4 | CZ30: =CX30*CY30 -> 0 | DB30: 4 | DC30: =DA30*DB30 -> 0 | DE30: 4 | DF30: =DD30*DE30 -> 0 | DH30: 4 | DI30: =DG30*DH30 -> 0 | DK30: 4 | DL30: =DJ30*DK30 -> 0 | DN30: 4 | DO30: =DM30*DN30 -> 0 | DQ30: 4 | DR30: =DP30*DQ30 -> 0 | DT30: 4 | DU30: =DS30*DT30 -> 0 | DW30: 4 | DX30: =DV30*DW30 -> 0 | DZ30: 4 | EA30: =DY30*DZ30 -> 0 | EC30: 4 | ED30: =EB30*EC30 -> 0 | EF30: 4 | EG30: =EE30*EF30 -> 0 | EI30: 4 | EJ30: =EH30*EI30 -> 0 | EL30: 4 | EM30: =EK30*EL30 -> 0 | EO30: 4 | EP30: =EN30*EO30 -> 0 | ER30: 4 | ES30: =EQ30*ER30 -> 0 | EU30: 4 | EV30: =ET30*EU30 -> 0 | EX30: 4 | EY30: =EW30*EX30 -> 0 | FA30: 4 | FB30: =EZ30*FA30 -> 0 | FD30: 4 | FE30: =FC30*FD30 -> 0 | FG30: 4 | FH30: =FF30*FG30 -> 0 | FJ30: 4 | FK30: =FI30*FJ30 -> 0 | FM30: 4 | FN30: =FL30*FM30 -> 0 | FP30: 4 | FQ30: =FO30*FP30 -> 0 | FS30: 4 | FT30: =FR30*FS30 -> 0 | FV30: 4 | FW30: =FU30*FV30 -> 0 | FY30: 4 | FZ30: =FX30*FY30 -> 0 | GB30: 4 | GC30: =GA30*GB30 -> 0 | GE30: 4 | GF30: =GD30*GE30 -> 0 | GH30: 4 | GI30: =GG30*GH30 -> 0 | GK30: 4 | GL30: =GJ30*GK30 -> 0 | GN30: 4 | GO30: =GM30*GN30 -> 0 | GQ30: 4 | GR30: =GP30*GQ30 -> 0 | GT30: 4 | GU30: =GS30*GT30 -> 0 | GW30: 4 | GX30: =GV30*GW30 -> 0 | GZ30: 4 | HA30: =GY30*GZ30 -> 0 | HC30: 4 | HD30: =HB30*HC30 -> 0 | HF30: 4 | HG30: =HE30*HF30 -> 0 | HI30: 4 | HJ30: =HH30*HI30 -> 0 | HL30: 4 | HM30: =HK30*HL30 -> 0 | HO30: 4 | HP30: =HN30*HO30 -> 0 | HR30: 4 | HS30: =HQ30*HR30 -> 0 | HU30: 4 | HV30: =HT30*HU30 -> 0 | HX30: 4 | HY30: =HW30*HX30 -> 0 | IA30: 4 | IB30: =HZ30*IA30 -> 0 | ID30: 4 | IE30: =IC30*ID30 -> 0
A31: =Feuil3!B18 -> TRITICALE | B31: =F31+I31+L31+O31+R31+U31+X31+AA31+AD31+AG31+AJ31+AM31+AP31+AS31+AV31+AY31+BB31+BE31+BH31+BK31+BN31+BQ31+BT31+BW31+BZ31+CC31+CF31+CI31+CL31+CO31+CR31+CU31+CX31+DA31+DD31+DG31+DJ31+DM31+DP31+DS31+DV31+DY31+EB31+EE31+EH31+EK31+EN31+EQ31+ET31+EW31+EZ31+FC31+FF31+FI31+FL31+FO31+FR31+FU31+FX31+GA31+GD31+GG31+GJ31+GM31+GP31+GS31+GV31+GY31+HB31+HE31+HH31+HK31+HN31+HQ31+HT31+HW31+HZ31+IC31 -> 96.75 | C31: =IF(B31=0,"",D31/B31) -> 6 | D31: =H31+K31+N31+Q31+T31+W31+Z31+AC31+AF31+AI31+AL31+AO31+AR31+AU31+AX31+BA31+BD31+BG31+BJ31+BM31+BP31+BS31+BV31+BY31+CB31+CE31+CH31+CK31+CN31+CQ31+CT31+CW31+CZ31+DC31+DF31+DI31+DL31+DO31+DR31+DU31+DX31+EA31+ED31+EG31+EJ31+EM31+EP31+ES31+EV31+EY31+FB31+FE31+FH31+FK31+FN31+FQ31+FT31+FW31+FZ31+GC31+GF31+GI31+GL31+GO31+GR31+GU31+GX31+HA31+HD31+HG31+HJ31+HM31+HP31+HS31+HV31+HY31+IB31+IE31 -> 580.5 | F31: =IFERROR(GETPIVOTDATA("Ha Tot collecte",'[1]Feuil1 (2)'!$A$3,"Silo",F$11,"Lib. variété",$A31),0) -> 0 | G31: 6 | H31: =F31*G31 -> 0 | I31: =IFERROR(GETPIVOTDATA("Ha Tot collecte",'[1]Feuil1 (2)'!$A$3,"Silo",I$11,"Lib. variété",$A31),0) -> 0 | J31: 6 | K31: =I31*J31 -> 0 | L31: =IFERROR(GETPIVOTDATA("Ha Tot collecte",'[1]Feuil1 (2)'!$A$3,"Silo",L$11,"Lib. variété",$A31),0) -> 0 | M31: 6 | N31: =L31*M31 -> 0 | O31: =IFERROR(GETPIVOTDATA("Ha Tot collecte",'[1]Feuil1 (2)'!$A$3,"Silo",O$11,"Lib. variété",$A31),0) -> 0 | P31: 6 | Q31: =O31*P31 -> 0 | R31: =IFERROR(GETPIVOTDATA("Ha Tot collecte",'[1]Feuil1 (2)'!$A$3,"Silo",R$11,"Lib. variété",$A31),0) -> 0 | S31: 6 | T31: =R31*S31 -> 0 | U31: =IFERROR(GETPIVOTDATA("Ha Tot collecte",'[1]Feuil1 (2)'!$A$3,"Silo",U$11,"Lib. variété",$A31),0) -> 2 | V31: 6 | W31: =U31*V31 -> 12 | X31: =IFERROR(GETPIVOTDATA("Ha Tot collecte",'[1]Feuil1 (2)'!$A$3,"Silo",X$11,"Lib. variété",$A31),0) -> 0 | Y31: 6 | Z31: =X31*Y31 -> 0 | AA31: =IFERROR(GETPIVOTDATA("Ha Tot collecte",'[1]Feuil1 (2)'!$A$3,"Silo",AA$11,"Lib. variété",$A31),0) -> 0 | AB31: 6 | AC31: =AA31*AB31 -> 0 | AD31: =IFERROR(GETPIVOTDATA("Ha Tot collecte",'[1]Feuil1 (2)'!$A$3,"Silo",AD$11,"Lib. variété",$A31),0) -> 0 | AE31: 6 | AF31: =AD31*AE31 -> 0 | AG31: =IFERROR(GETPIVOTDATA("Ha Tot collecte",'[1]Feuil1 (2)'!$A$3,"Silo",AG$11,"Lib. variété",$A31),0) -> 0 | AH31: 6 | AI31: =AG31*AH31 -> 0 | AJ31: =IFERROR(GETPIVOTDATA("Ha Tot collecte",'[1]Feuil1 (2)'!$A$3,"Silo",AJ$11,"Lib. variété",$A31),0) -> 0 | AK31: 6 | AL31: =AJ31*AK31 -> 0 | AM31: =IFERROR(GETPIVOTDATA("Ha Tot collecte",'[1]Feuil1 (2)'!$A$3,"Silo",AM$11,"Lib. variété",$A31),0) -> 0 | AN31: 6 | AO31: =AM31*AN31 -> 0 | AP31: =IFERROR(GETPIVOTDATA("Ha Tot collecte",'[1]Feuil1 (2)'!$A$3,"Silo",AP$11,"Lib. variété",$A31),0) -> 0 | AQ31: 6 | AR31: =AP31*AQ31 -> 0 | AS31: =IFERROR(GETPIVOTDATA("Ha Tot collecte",'[1]Feuil1 (2)'!$A$3,"Silo",AS$11,"Lib. variété",$A31),0) -> 0 | AT31: 6 | AU31: =AS31*AT31 -> 0 | AV31: =IFERROR(GETPIVOTDATA("Ha Tot collecte",'[1]Feuil1 (2)'!$A$3,"Silo",AV$11,"Lib. variété",$A31),0) -> 0 | AW31: 6 | AX31: =AV31*AW31 -> 0 | AY31: =IFERROR(GETPIVOTDATA("Ha Tot collecte",'[1]Feuil1 (2)'!$A$3,"Silo",AY$11,"Lib. variété",$A31),0) -> 0 | AZ31: 6 | BA31: =AY31*AZ31 -> 0 | BB31: =IFERROR(GETPIVOTDATA("Ha Tot collecte",'[1]Feuil1 (2)'!$A$3,"Silo",BB$11,"Lib. variété",$A31),0) -> 0 | BC31: 6 | BD31: =BB31*BC31 -> 0 | BE31: =IFERROR(GETPIVOTDATA("Ha Tot collecte",'[1]Feuil1 (2)'!$A$3,"Silo",BE$11,"Lib. variété",$A31),0) -> 0 | BF31: 6 | BG31: =BE31*BF31 -> 0 | BH31: =IFERROR(GETPIVOTDATA("Ha Tot collecte",'[1]Feuil1 (2)'!$A$3,"Silo",BH$11,"Lib. variété",$A31),0) -> 0 | BI31: 6 | BJ31: =BH31*BI31 -> 0 | BK31: =IFERROR(GETPIVOTDATA("Ha Tot collecte",'[1]Feuil1 (2)'!$A$3,"Silo",BK$11,"Lib. variété",$A31),0) -> 0 | BL31: 6 | BM31: =BK31*BL31 -> 0 | BN31: =IFERROR(GETPIVOTDATA("Ha Tot collecte",'[1]Feuil1 (2)'!$A$3,"Silo",BN$11,"Lib. variété",$A31),0) -> 25 | BO31: 6 | BP31: =BN31*BO31 -> 150 | BQ31: =IFERROR(GETPIVOTDATA("Ha Tot collecte",'[1]Feuil1 (2)'!$A$3,"Silo",BQ$11,"Lib. variété",$A31),0) -> 0 | BR31: 6 | BS31: =BQ31*BR31 -> 0 | BT31: =IFERROR(GETPIVOTDATA("Ha Tot collecte",'[1]Feuil1 (2)'!$A$3,"Silo",BT$11,"Lib. variété",$A31),0) -> 12 | BU31: 6 | BV31: =BT31*BU31 -> 72 | BW31: =IFERROR(GETPIVOTDATA("Ha Tot collecte",'[1]Feuil1 (2)'!$A$3,"Silo",BW$11,"Lib. variété",$A31),0) -> 0 | BX31: 6 | BY31: =BW31*BX31 -> 0 | BZ31: =IFERROR(GETPIVOTDATA("Ha Tot collecte",'[1]Feuil1 (2)'!$A$3,"Silo",BZ$11,"Lib. variété",$A31),0) -> 57.75 | CA31: 6 | CB31: =BZ31*CA31 -> 346.5 | CC31: =IFERROR(GETPIVOTDATA("Ha Tot collecte",'[1]Feuil1 (2)'!$A$3,"Silo",CC$11,"Lib. variété",$A31),0) -> 0 | CD31: 6 | CE31: =CC31*CD31 -> 0 | CF31: =IFERROR(GETPIVOTDATA("Ha Tot collecte",'[1]Feuil1 (2)'!$A$3,"Silo",CF$11,"Lib. variété",$A31),0) -> 0 | CG31: 6 | CH31: =CF31*CG31 -> 0 | CJ31: 6 | CK31: =CI31*CJ31 -> 0 | CM31: 6 | CN31: =CL31*CM31 -> 0 | CP31: 6 | CQ31: =CO31*CP31 -> 0 | CS31: 6 | CT31: =CR31*CS31 -> 0 | CV31: 6 | CW31: =CU31*CV31 -> 0 | CY31: 6 | CZ31: =CX31*CY31 -> 0 | DB31: 6 | DC31: =DA31*DB31 -> 0 | DE31: 6 | DF31: =DD31*DE31 -> 0 | DH31: 6 | DI31: =DG31*DH31 -> 0 | DK31: 6 | DL31: =DJ31*DK31 -> 0 | DN31: 6 | DO31: =DM31*DN31 -> 0 | DQ31: 6 | DR31: =DP31*DQ31 -> 0 | DT31: 6 | DU31: =DS31*DT31 -> 0 | DW31: 6 | DX31: =DV31*DW31 -> 0 | DZ31: 6 | EA31: =DY31*DZ31 -> 0 | EC31: 6 | ED31: =EB31*EC31 -> 0 | EF31: 6 | EG31: =EE31*EF31 -> 0 | EI31: 6 | EJ31: =EH31*EI31 -> 0 | EL31: 6 | EM31: =EK31*EL31 -> 0 | EO31: 6 | EP31: =EN31*EO31 -> 0 | ER31: 6 | ES31: =EQ31*ER31 -> 0 | EU31: 6 | EV31: =ET31*EU31 -> 0 | EX31: 6 | EY31: =EW31*EX31 -> 0 | FA31: 6 | FB31: =EZ31*FA31 -> 0 | FD31: 6 | FE31: =FC31*FD31 -> 0 | FG31: 6 | FH31: =FF31*FG31 -> 0 | FJ31: 6 | FK31: =FI31*FJ31 -> 0 | FM31: 6 | FN31: =FL31*FM31 -> 0 | FP31: 6 | FQ31: =FO31*FP31 -> 0 | FS31: 6 | FT31: =FR31*FS31 -> 0 | FV31: 6 | FW31: =FU31*FV31 -> 0 | FY31: 6 | FZ31: =FX31*FY31 -> 0 | GB31: 6 | GC31: =GA31*GB31 -> 0 | GE31: 6 | GF31: =GD31*GE31 -> 0 | GH31: 6 | GI31: =GG31*GH31 -> 0 | GK31: 6 | GL31: =GJ31*GK31 -> 0 | GN31: 6 | GO31: =GM31*GN31 -> 0 | GQ31: 6 | GR31: =GP31*GQ31 -> 0 | GT31: 6 | GU31: =GS31*GT31 -> 0 | GW31: 6 | GX31: =GV31*GW31 -> 0 | GZ31: 6 | HA31: =GY31*GZ31 -> 0 | HC31: 6 | HD31: =HB31*HC31 -> 0 | HF31: 6 | HG31: =HE31*HF31 -> 0 | HI31: 6 | HJ31: =HH31*HI31 -> 0 | HL31: 6 | HM31: =HK31*HL31 -> 0 | HO31: 6 | HP31: =HN31*HO31 -> 0 | HR31: 6 | HS31: =HQ31*HR31 -> 0 | HU31: 6 | HV31: =HT31*HU31 -> 0 | HX31: 6 | HY31: =HW31*HX31 -> 0 | IA31: 6 | IB31: =HZ31*IA31 -> 0 | ID31: 6 | IE31: =IC31*ID31 -> 0
A32: =Feuil3!B19 -> SEIGLE | B32: =F32+I32+L32+O32+R32+U32+X32+AA32+AD32+AG32+AJ32+AM32+AP32+AS32+AV32+AY32+BB32+BE32+BH32+BK32+BN32+BQ32+BT32+BW32+BZ32+CC32+CF32+CI32+CL32+CO32+CR32+CU32+CX32+DA32+DD32+DG32+DJ32+DM32+DP32+DS32+DV32+DY32+EB32+EE32+EH32+EK32+EN32+EQ32+ET32+EW32+EZ32+FC32+FF32+FI32+FL32+FO32+FR32+FU32+FX32+GA32+GD32+GG32+GJ32+GM32+GP32+GS32+GV32+GY32+HB32+HE32+HH32+HK32+HN32+HQ32+HT32+HW32+HZ32+IC32 -> 0 | C32: =IF(B32=0,"",D32/B32) | D32: =H32+K32+N32+Q32+T32+W32+Z32+AC32+AF32+AI32+AL32+AO32+AR32+AU32+AX32+BA32+BD32+BG32+BJ32+BM32+BP32+BS32+BV32+BY32+CB32+CE32+CH32+CK32+CN32+CQ32+CT32+CW32+CZ32+DC32+DF32+DI32+DL32+DO32+DR32+DU32+DX32+EA32+ED32+EG32+EJ32+EM32+EP32+ES32+EV32+EY32+FB32+FE32+FH32+FK32+FN32+FQ32+FT32+FW32+FZ32+GC32+GF32+GI32+GL32+GO32+GR32+GU32+GX32+HA32+HD32+HG32+HJ32+HM32+HP32+HS32+HV32+HY32+IB32+IE32 -> 0 | F32: =IFERROR(GETPIVOTDATA("Ha Tot collecte",'[1]Feuil1 (2)'!$A$3,"Silo",F$11,"Lib. variété",$A32),0) -> 0 | G32: 5 | H32: =F32*G32 -> 0 | I32: =IFERROR(GETPIVOTDATA("Ha Tot collecte",'[1]Feuil1 (2)'!$A$3,"Silo",I$11,"Lib. variété",$A32),0) -> 0 | J32: 5 | K32: =I32*J32 -> 0 | L32: =IFERROR(GETPIVOTDATA("Ha Tot collecte",'[1]Feuil1 (2)'!$A$3,"Silo",L$11,"Lib. variété",$A32),0) -> 0 | M32: 5 | N32: =L32*M32 -> 0 | O32: =IFERROR(GETPIVOTDATA("Ha Tot collecte",'[1]Feuil1 (2)'!$A$3,"Silo",O$11,"Lib. variété",$A32),0) -> 0 | P32: 5 | Q32: =O32*P32 -> 0 | R32: =IFERROR(GETPIVOTDATA("Ha Tot collecte",'[1]Feuil1 (2)'!$A$3,"Silo",R$11,"Lib. variété",$A32),0) -> 0 | S32: 5 | T32: =R32*S32 -> 0 | U32: =IFERROR(GETPIVOTDATA("Ha Tot collecte",'[1]Feuil1 (2)'!$A$3,"Silo",U$11,"Lib. variété",$A32),0) -> 0 | V32: 5 | W32: =U32*V32 -> 0 | X32: =IFERROR(GETPIVOTDATA("Ha Tot collecte",'[1]Feuil1 (2)'!$A$3,"Silo",X$11,"Lib. variété",$A32),0) -> 0 | Y32: 5 | Z32: =X32*Y32 -> 0 | AA32: =IFERROR(GETPIVOTDATA("Ha Tot collecte",'[1]Feuil1 (2)'!$A$3,"Silo",AA$11,"Lib. variété",$A32),0) -> 0 | AB32: 5 | AC32: =AA32*AB32 -> 0 | AD32: =IFERROR(GETPIVOTDATA("Ha Tot collecte",'[1]Feuil1 (2)'!$A$3,"Silo",AD$11,"Lib. variété",$A32),0) -> 0 | AE32: 5 | AF32: =AD32*AE32 -> 0 | AG32: =IFERROR(GETPIVOTDATA("Ha Tot collecte",'[1]Feuil1 (2)'!$A$3,"Silo",AG$11,"Lib. variété",$A32),0) -> 0 | AH32: 5 | AI32: =AG32*AH32 -> 0 | AJ32: =IFERROR(GETPIVOTDATA("Ha Tot collecte",'[1]Feuil1 (2)'!$A$3,"Silo",AJ$11,"Lib. variété",$A32),0) -> 0 | AK32: 5 | AL32: =AJ32*AK32 -> 0 | AM32: =IFERROR(GETPIVOTDATA("Ha Tot collecte",'[1]Feuil1 (2)'!$A$3,"Silo",AM$11,"Lib. variété",$A32),0) -> 0 | AN32: 5 | AO32: =AM32*AN32 -> 0 | AP32: =IFERROR(GETPIVOTDATA("Ha Tot collecte",'[1]Feuil1 (2)'!$A$3,"Silo",AP$11,"Lib. variété",$A32),0) -> 0 | AQ32: 5 | AR32: =AP32*AQ32 -> 0 | AS32: =IFERROR(GETPIVOTDATA("Ha Tot collecte",'[1]Feuil1 (2)'!$A$3,"Silo",AS$11,"Lib. variété",$A32),0) -> 0 | AT32: 5 | AU32: =AS32*AT32 -> 0 | AV32: =IFERROR(GETPIVOTDATA("Ha Tot collecte",'[1]Feuil1 (2)'!$A$3,"Silo",AV$11,"Lib. variété",$A32),0) -> 0 | AW32: 5 | AX32: =AV32*AW32 -> 0 | AY32: =IFERROR(GETPIVOTDATA("Ha Tot collecte",'[1]Feuil1 (2)'!$A$3,"Silo",AY$11,"Lib. variété",$A32),0) -> 0 | AZ32: 5 | BA32: =AY32*AZ32 -> 0 | BB32: =IFERROR(GETPIVOTDATA("Ha Tot collecte",'[1]Feuil1 (2)'!$A$3,"Silo",BB$11,"Lib. variété",$A32),0) -> 0 | BC32: 5 | BD32: =BB32*BC32 -> 0 | BE32: =IFERROR(GETPIVOTDATA("Ha Tot collecte",'[1]Feuil1 (2)'!$A$3,"Silo",BE$11,"Lib. variété",$A32),0) -> 0 | BF32: 5 | BG32: =BE32*BF32 -> 0 | BH32: =IFERROR(GETPIVOTDATA("Ha Tot collecte",'[1]Feuil1 (2)'!$A$3,"Silo",BH$11,"Lib. variété",$A32),0) -> 0 | BI32: 5 | BJ32: =BH32*BI32 -> 0 | BK32: =IFERROR(GETPIVOTDATA("Ha Tot collecte",'[1]Feuil1 (2)'!$A$3,"Silo",BK$11,"Lib. variété",$A32),0) -> 0 | BL32: 5 | BM32: =BK32*BL32 -> 0 | BN32: =IFERROR(GETPIVOTDATA("Ha Tot collecte",'[1]Feuil1 (2)'!$A$3,"Silo",BN$11,"Lib. variété",$A32),0) -> 0 | BO32: 5 | BP32: =BN32*BO32 -> 0 | BQ32: =IFERROR(GETPIVOTDATA("Ha Tot collecte",'[1]Feuil1 (2)'!$A$3,"Silo",BQ$11,"Lib. variété",$A32),0) -> 0 | BR32: 5 | BS32: =BQ32*BR32 -> 0 | BT32: =IFERROR(GETPIVOTDATA("Ha Tot collecte",'[1]Feuil1 (2)'!$A$3,"Silo",BT$11,"Lib. variété",$A32),0) -> 0 | BU32: 5 | BV32: =BT32*BU32 -> 0 | BW32: =IFERROR(GETPIVOTDATA("Ha Tot collecte",'[1]Feuil1 (2)'!$A$3,"Silo",BW$11,"Lib. variété",$A32),0) -> 0 | BX32: 5 | BY32: =BW32*BX32 -> 0 | BZ32: =IFERROR(GETPIVOTDATA("Ha Tot collecte",'[1]Feuil1 (2)'!$A$3,"Silo",BZ$11,"Lib. variété",$A32),0) -> 0 | CA32: 5 | CB32: =BZ32*CA32 -> 0 | CC32: =IFERROR(GETPIVOTDATA("Ha Tot collecte",'[1]Feuil1 (2)'!$A$3,"Silo",CC$11,"Lib. variété",$A32),0) -> 0 | CD32: 5 | CE32: =CC32*CD32 -> 0 | CF32: =IFERROR(GETPIVOTDATA("Ha Tot collecte",'[1]Feuil1 (2)'!$A$3,"Silo",CF$11,"Lib. variété",$A32),0) -> 0 | CG32: 5 | CH32: =CF32*CG32 -> 0 | CJ32: 5 | CK32: =CI32*CJ32 -> 0 | CM32: 5 | CN32: =CL32*CM32 -> 0 | CP32: 5 | CQ32: =CO32*CP32 -> 0 | CS32: 5 | CT32: =CR32*CS32 -> 0 | CV32: 5 | CW32: =CU32*CV32 -> 0 | CY32: 5 | CZ32: =CX32*CY32 -> 0 | DB32: 5 | DC32: =DA32*DB32 -> 0 | DE32: 5 | DF32: =DD32*DE32 -> 0 | DH32: 5 | DI32: =DG32*DH32 -> 0 | DK32: 5 | DL32: =DJ32*DK32 -> 0 | DN32: 5 | DO32: =DM32*DN32 -> 0 | DQ32: 5 | DR32: =DP32*DQ32 -> 0 | DT32: 5 | DU32: =DS32*DT32 -> 0 | DW32: 5 | DX32: =DV32*DW32 -> 0 | DZ32: 5 | EA32: =DY32*DZ32 -> 0 | EC32: 5 | ED32: =EB32*EC32 -> 0 | EF32: 5 | EG32: =EE32*EF32 -> 0 | EI32: 5 | EJ32: =EH32*EI32 -> 0 | EL32: 5 | EM32: =EK32*EL32 -> 0 | EO32: 5 | EP32: =EN32*EO32 -> 0 | ER32: 5 | ES32: =EQ32*ER32 -> 0 | EU32: 5 | EV32: =ET32*EU32 -> 0 | EX32: 5 | EY32: =EW32*EX32 -> 0 | FA32: 5 | FB32: =EZ32*FA32 -> 0 | FD32: 5 | FE32: =FC32*FD32 -> 0 | FG32: 5 | FH32: =FF32*FG32 -> 0 | FJ32: 5 | FK32: =FI32*FJ32 -> 0 | FM32: 5 | FN32: =FL32*FM32 -> 0 | FP32: 5 | FQ32: =FO32*FP32 -> 0 | FS32: 5 | FT32: =FR32*FS32 -> 0 | FV32: 5 | FW32: =FU32*FV32 -> 0 | FY32: 5 | FZ32: =FX32*FY32 -> 0 | GB32: 5 | GC32: =GA32*GB32 -> 0 | GE32: 5 | GF32: =GD32*GE32 -> 0 | GH32: 5 | GI32: =GG32*GH32 -> 0 | GK32: 5 | GL32: =GJ32*GK32 -> 0 | GN32: 5 | GO32: =GM32*GN32 -> 0 | GQ32: 5 | GR32: =GP32*GQ32 -> 0 | GT32: 5 | GU32: =GS32*GT32 -> 0 | GW32: 5 | GX32: =GV32*GW32 -> 0 | GZ32: 5 | HA32: =GY32*GZ32 -> 0 | HC32: 5 | HD32: =HB32*HC32 -> 0 | HF32: 5 | HG32: =HE32*HF32 -> 0 | HI32: 5 | HJ32: =HH32*HI32 -> 0 | HL32: 5 | HM32: =HK32*HL32 -> 0 | HO32: 5 | HP32: =HN32*HO32 -> 0 | HR32: 5 | HS32: =HQ32*HR32 -> 0 | HU32: 5 | HV32: =HT32*HU32 -> 0 | HX32: 5 | HY32: =HW32*HX32 -> 0 | IA32: 5 | IB32: =HZ32*IA32 -> 0 | ID32: 5 | IE32: =IC32*ID32 -> 0
A33: =Feuil3!B20 -> 0 | B33: =F33+I33+L33+O33+R33+U33+X33+AA33+AD33+AG33+AJ33+AM33+AP33+AS33+AV33+AY33+BB33+BE33+BH33+BK33+BN33+BQ33+BT33+BW33+BZ33+CC33+CF33+CI33+CL33+CO33+CR33+CU33+CX33+DA33+DD33+DG33+DJ33+DM33+DP33+DS33+DV33+DY33+EB33+EE33+EH33+EK33+EN33+EQ33+ET33+EW33+EZ33+FC33+FF33+FI33+FL33+FO33+FR33+FU33+FX33+GA33+GD33+GG33+GJ33+GM33+GP33+GS33+GV33+GY33+HB33+HE33+HH33+HK33+HN33+HQ33+HT33+HW33+HZ33+IC33 -> 0 | C33: =IF(B33=0,"",D33/B33) | D33: =H33+K33+N33+Q33+T33+W33+Z33+AC33+AF33+AI33+AL33+AO33+AR33+AU33+AX33+BA33+BD33+BG33+BJ33+BM33+BP33+BS33+BV33+BY33+CB33+CE33+CH33+CK33+CN33+CQ33+CT33+CW33+CZ33+DC33+DF33+DI33+DL33+DO33+DR33+DU33+DX33+EA33+ED33+EG33+EJ33+EM33+EP33+ES33+EV33+EY33+FB33+FE33+FH33+FK33+FN33+FQ33+FT33+FW33+FZ33+GC33+GF33+GI33+GL33+GO33+GR33+GU33+GX33+HA33+HD33+HG33+HJ33+HM33+HP33+HS33+HV33+HY33+IB33+IE33 -> 0 | F33: =IFERROR(GETPIVOTDATA("Ha Tot collecte",'[1]Feuil1 (2)'!$A$3,"Silo",F$11,"Lib. variété",$A33),0) -> 0 | G33: 4.8 | H33: =F33*G33 -> 0 | I33: =IFERROR(GETPIVOTDATA("Ha Tot collecte",'[1]Feuil1 (2)'!$A$3,"Silo",I$11,"Lib. variété",$A33),0) -> 0 | J33: 4.8 | K33: =I33*J33 -> 0 | L33: =IFERROR(GETPIVOTDATA("Ha Tot collecte",'[1]Feuil1 (2)'!$A$3,"Silo",L$11,"Lib. variété",$A33),0) -> 0 | M33: 4.8 | N33: =L33*M33 -> 0 | O33: =IFERROR(GETPIVOTDATA("Ha Tot collecte",'[1]Feuil1 (2)'!$A$3,"Silo",O$11,"Lib. variété",$A33),0) -> 0 | P33: 4.8 | Q33: =O33*P33 -> 0 | R33: =IFERROR(GETPIVOTDATA("Ha Tot collecte",'[1]Feuil1 (2)'!$A$3,"Silo",R$11,"Lib. variété",$A33),0) -> 0 | S33: 4.8 | T33: =R33*S33 -> 0 | U33: =IFERROR(GETPIVOTDATA("Ha Tot collecte",'[1]Feuil1 (2)'!$A$3,"Silo",U$11,"Lib. variété",$A33),0) -> 0 | V33: 4.8 | W33: =U33*V33 -> 0 | X33: =IFERROR(GETPIVOTDATA("Ha Tot collecte",'[1]Feuil1 (2)'!$A$3,"Silo",X$11,"Lib. variété",$A33),0) -> 0 | Y33: 4.8 | Z33: =X33*Y33 -> 0 | AA33: =IFERROR(GETPIVOTDATA("Ha Tot collecte",'[1]Feuil1 (2)'!$A$3,"Silo",AA$11,"Lib. variété",$A33),0) -> 0 | AB33: 4.8 | AC33: =AA33*AB33 -> 0 | AD33: =IFERROR(GETPIVOTDATA("Ha Tot collecte",'[1]Feuil1 (2)'!$A$3,"Silo",AD$11,"Lib. variété",$A33),0) -> 0 | AE33: 4.8 | AF33: =AD33*AE33 -> 0 | AG33: =IFERROR(GETPIVOTDATA("Ha Tot collecte",'[1]Feuil1 (2)'!$A$3,"Silo",AG$11,"Lib. variété",$A33),0) -> 0 | AH33: 4.8 | AI33: =AG33*AH33 -> 0 | AJ33: =IFERROR(GETPIVOTDATA("Ha Tot collecte",'[1]Feuil1 (2)'!$A$3,"Silo",AJ$11,"Lib. variété",$A33),0) -> 0 | AK33: 4.8 | AL33: =AJ33*AK33 -> 0 | AM33: =IFERROR(GETPIVOTDATA("Ha Tot collecte",'[1]Feuil1 (2)'!$A$3,"Silo",AM$11,"Lib. variété",$A33),0) -> 0 | AN33: 4.8 | AO33: =AM33*AN33 -> 0 | AP33: =IFERROR(GETPIVOTDATA("Ha Tot collecte",'[1]Feuil1 (2)'!$A$3,"Silo",AP$11,"Lib. variété",$A33),0) -> 0 | AQ33: 4.8 | AR33: =AP33*AQ33 -> 0 | AS33: =IFERROR(GETPIVOTDATA("Ha Tot collecte",'[1]Feuil1 (2)'!$A$3,"Silo",AS$11,"Lib. variété",$A33),0) -> 0 | AT33: 4.8 | AU33: =AS33*AT33 -> 0 | AV33: =IFERROR(GETPIVOTDATA("Ha Tot collecte",'[1]Feuil1 (2)'!$A$3,"Silo",AV$11,"Lib. variété",$A33),0) -> 0 | AW33: 4.8 | AX33: =AV33*AW33 -> 0 | AY33: =IFERROR(GETPIVOTDATA("Ha Tot collecte",'[1]Feuil1 (2)'!$A$3,"Silo",AY$11,"Lib. variété",$A33),0) -> 0 | AZ33: 4.8 | BA33: =AY33*AZ33 -> 0 | BB33: =IFERROR(GETPIVOTDATA("Ha Tot collecte",'[1]Feuil1 (2)'!$A$3,"Silo",BB$11,"Lib. variété",$A33),0) -> 0 | BC33: 4.8 | BD33: =BB33*BC33 -> 0 | BE33: =IFERROR(GETPIVOTDATA("Ha Tot collecte",'[1]Feuil1 (2)'!$A$3,"Silo",BE$11,"Lib. variété",$A33),0) -> 0 | BF33: 4.8 | BG33: =BE33*BF33 -> 0 | BH33: =IFERROR(GETPIVOTDATA("Ha Tot collecte",'[1]Feuil1 (2)'!$A$3,"Silo",BH$11,"Lib. variété",$A33),0) -> 0 | BI33: 4.8 | BJ33: =BH33*BI33 -> 0 | BK33: =IFERROR(GETPIVOTDATA("Ha Tot collecte",'[1]Feuil1 (2)'!$A$3,"Silo",BK$11,"Lib. variété",$A33),0) -> 0 | BL33: 4.8 | BM33: =BK33*BL33 -> 0 | BN33: =IFERROR(GETPIVOTDATA("Ha Tot collecte",'[1]Feuil1 (2)'!$A$3,"Silo",BN$11,"Lib. variété",$A33),0) -> 0 | BO33: 4.8 | BP33: =BN33*BO33 -> 0 | BQ33: =IFERROR(GETPIVOTDATA("Ha Tot collecte",'[1]Feuil1 (2)'!$A$3,"Silo",BQ$11,"Lib. variété",$A33),0) -> 0 | BR33: 4.8 | BS33: =BQ33*BR33 -> 0 | BT33: =IFERROR(GETPIVOTDATA("Ha Tot collecte",'[1]Feuil1 (2)'!$A$3,"Silo",BT$11,"Lib. variété",$A33),0) -> 0 | BU33: 4.8 | BV33: =BT33*BU33 -> 0 | BW33: =IFERROR(GETPIVOTDATA("Ha Tot collecte",'[1]Feuil1 (2)'!$A$3,"Silo",BW$11,"Lib. variété",$A33),0) -> 0 | BX33: 4.8 | BY33: =BW33*BX33 -> 0 | BZ33: =IFERROR(GETPIVOTDATA("Ha Tot collecte",'[1]Feuil1 (2)'!$A$3,"Silo",BZ$11,"Lib. variété",$A33),0) -> 0 | CA33: 4.8 | CB33: =BZ33*CA33 -> 0 | CC33: =IFERROR(GETPIVOTDATA("Ha Tot collecte",'[1]Feuil1 (2)'!$A$3,"Silo",CC$11,"Lib. variété",$A33),0) -> 0 | CD33: 4.8 | CE33: =CC33*CD33 -> 0 | CF33: =IFERROR(GETPIVOTDATA("Ha Tot collecte",'[1]Feuil1 (2)'!$A$3,"Silo",CF$11,"Lib. variété",$A33),0) -> 0 | CG33: 4.8 | CH33: =CF33*CG33 -> 0 | CJ33: 4.8 | CK33: =CI33*CJ33 -> 0 | CM33: 4.8 | CN33: =CL33*CM33 -> 0 | CP33: 4.8 | CQ33: =CO33*CP33 -> 0 | CS33: 4.8 | CT33: =CR33*CS33 -> 0 | CV33: 4.8 | CW33: =CU33*CV33 -> 0 | CY33: 4.8 | CZ33: =CX33*CY33 -> 0 | DB33: 4.8 | DC33: =DA33*DB33 -> 0 | DE33: 4.8 | DF33: =DD33*DE33 -> 0 | DH33: 4.8 | DI33: =DG33*DH33 -> 0 | DK33: 4.8 | DL33: =DJ33*DK33 -> 0 | DN33: 4.8 | DO33: =DM33*DN33 -> 0 | DQ33: 4.8 | DR33: =DP33*DQ33 -> 0 | DT33: 4.8 | DU33: =DS33*DT33 -> 0 | DW33: 4.8 | DX33: =DV33*DW33 -> 0 | DZ33: 4.8 | EA33: =DY33*DZ33 -> 0 | EC33: 4.8 | ED33: =EB33*EC33 -> 0 | EF33: 4.8 | EG33: =EE33*EF33 -> 0 | EI33: 4.8 | EJ33: =EH33*EI33 -> 0 | EL33: 4.8 | EM33: =EK33*EL33 -> 0 | EO33: 4.8 | EP33: =EN33*EO33 -> 0 | ER33: 4.8 | ES33: =EQ33*ER33 -> 0 | EU33: 4.8 | EV33: =ET33*EU33 -> 0 | EX33: 4.8 | EY33: =EW33*EX33 -> 0 | FA33: 4.8 | FB33: =EZ33*FA33 -> 0 | FD33: 4.8 | FE33: =FC33*FD33 -> 0 | FG33: 4.8 | FH33: =FF33*FG33 -> 0 | FJ33: 4.8 | FK33: =FI33*FJ33 -> 0 | FM33: 4.8 | FN33: =FL33*FM33 -> 0 | FP33: 4.8 | FQ33: =FO33*FP33 -> 0 | FS33: 4.8 | FT33: =FR33*FS33 -> 0 | FV33: 4.8 | FW33: =FU33*FV33 -> 0 | FY33: 4.8 | FZ33: =FX33*FY33 -> 0 | GB33: 4.8 | GC33: =GA33*GB33 -> 0 | GE33: 4.8 | GF33: =GD33*GE33 -> 0 | GH33: 4.8 | GI33: =GG33*GH33 -> 0 | GK33: 4.8 | GL33: =GJ33*GK33 -> 0 | GN33: 4.8 | GO33: =GM33*GN33 -> 0 | GQ33: 4.8 | GR33: =GP33*GQ33 -> 0 | GT33: 4.8 | GU33: =GS33*GT33 -> 0 | GW33: 4.8 | GX33: =GV33*GW33 -> 0 | GZ33: 4.8 | HA33: =GY33*GZ33 -> 0 | HC33: 4.8 | HD33: =HB33*HC33 -> 0 | HF33: 4.8 | HG33: =HE33*HF33 -> 0 | HI33: 4.8 | HJ33: =HH33*HI33 -> 0 | HL33: 4.8 | HM33: =HK33*HL33 -> 0 | HO33: 4.8 | HP33: =HN33*HO33 -> 0 | HR33: 4.8 | HS33: =HQ33*HR33 -> 0 | HU33: 4.8 | HV33: =HT33*HU33 -> 0 | HX33: 4.8 | HY33: =HW33*HX33 -> 0 | IA33: 4.8 | IB33: =HZ33*IA33 -> 0 | ID33: 4.8 | IE33: =IC33*ID33 -> 0
A34: =Feuil3!B21 -> Orge Printemps | B34: =F34+I34+L34+O34+R34+U34+X34+AA34+AD34+AG34+AJ34+AM34+AP34+AS34+AV34+AY34+BB34+BE34+BH34+BK34+BN34+BQ34+BT34+BW34+BZ34+CC34+CF34+CI34+CL34+CO34+CR34+CU34+CX34+DA34+DD34+DG34+DJ34+DM34+DP34+DS34+DV34+DY34+EB34+EE34+EH34+EK34+EN34+EQ34+ET34+EW34+EZ34+FC34+FF34+FI34+FL34+FO34+FR34+FU34+FX34+GA34+GD34+GG34+GJ34+GM34+GP34+GS34+GV34+GY34+HB34+HE34+HH34+HK34+HN34+HQ34+HT34+HW34+HZ34+IC34 -> 0 | C34: =IF(B34=0,"",D34/B34) | D34: =H34+K34+N34+Q34+T34+W34+Z34+AC34+AF34+AI34+AL34+AO34+AR34+AU34+AX34+BA34+BD34+BG34+BJ34+BM34+BP34+BS34+BV34+BY34+CB34+CE34+CH34+CK34+CN34+CQ34+CT34+CW34+CZ34+DC34+DF34+DI34+DL34+DO34+DR34+DU34+DX34+EA34+ED34+EG34+EJ34+EM34+EP34+ES34+EV34+EY34+FB34+FE34+FH34+FK34+FN34+FQ34+FT34+FW34+FZ34+GC34+GF34+GI34+GL34+GO34+GR34+GU34+GX34+HA34+HD34+HG34+HJ34+HM34+HP34+HS34+HV34+HY34+IB34+IE34 -> 0 | F34: =IFERROR(GETPIVOTDATA("Ha Tot collecte",'[1]Feuil1 (2)'!$A$3,"Silo",F$11,"Lib. variété",$A34),0) -> 0 | G34: 4.8 | H34: =F34*G34 -> 0 | I34: =IFERROR(GETPIVOTDATA("Ha Tot collecte",'[1]Feuil1 (2)'!$A$3,"Silo",I$11,"Lib. variété",$A34),0) -> 0 | J34: 4.8 | K34: =I34*J34 -> 0 | L34: =IFERROR(GETPIVOTDATA("Ha Tot collecte",'[1]Feuil1 (2)'!$A$3,"Silo",L$11,"Lib. variété",$A34),0) -> 0 | M34: 4.8 | N34: =L34*M34 -> 0 | O34: =IFERROR(GETPIVOTDATA("Ha Tot collecte",'[1]Feuil1 (2)'!$A$3,"Silo",O$11,"Lib. variété",$A34),0) -> 0 | P34: 4.8 | Q34: =O34*P34 -> 0 | R34: =IFERROR(GETPIVOTDATA("Ha Tot collecte",'[1]Feuil1 (2)'!$A$3,"Silo",R$11,"Lib. variété",$A34),0) -> 0 | S34: 4.8 | T34: =R34*S34 -> 0 | U34: =IFERROR(GETPIVOTDATA("Ha Tot collecte",'[1]Feuil1 (2)'!$A$3,"Silo",U$11,"Lib. variété",$A34),0) -> 0 | V34: 4.8 | W34: =U34*V34 -> 0 | X34: =IFERROR(GETPIVOTDATA("Ha Tot collecte",'[1]Feuil1 (2)'!$A$3,"Silo",X$11,"Lib. variété",$A34),0) -> 0 | Y34: 4.8 | Z34: =X34*Y34 -> 0 | AA34: =IFERROR(GETPIVOTDATA("Ha Tot collecte",'[1]Feuil1 (2)'!$A$3,"Silo",AA$11,"Lib. variété",$A34),0) -> 0 | AB34: 4.8 | AC34: =AA34*AB34 -> 0 | AD34: =IFERROR(GETPIVOTDATA("Ha Tot collecte",'[1]Feuil1 (2)'!$A$3,"Silo",AD$11,"Lib. variété",$A34),0) -> 0 | AE34: 4.8 | AF34: =AD34*AE34 -> 0 | AG34: =IFERROR(GETPIVOTDATA("Ha Tot collecte",'[1]Feuil1 (2)'!$A$3,"Silo",AG$11,"Lib. variété",$A34),0) -> 0 | AH34: 4.8 | AI34: =AG34*AH34 -> 0 | AJ34: =IFERROR(GETPIVOTDATA("Ha Tot collecte",'[1]Feuil1 (2)'!$A$3,"Silo",AJ$11,"Lib. variété",$A34),0) -> 0 | AK34: 4.8 | AL34: =AJ34*AK34 -> 0 | AM34: =IFERROR(GETPIVOTDATA("Ha Tot collecte",'[1]Feuil1 (2)'!$A$3,"Silo",AM$11,"Lib. variété",$A34),0) -> 0 | AN34: 4.8 | AO34: =AM34*AN34 -> 0 | AP34: =IFERROR(GETPIVOTDATA("Ha Tot collecte",'[1]Feuil1 (2)'!$A$3,"Silo",AP$11,"Lib. variété",$A34),0) -> 0 | AQ34: 4.8 | AR34: =AP34*AQ34 -> 0 | AS34: =IFERROR(GETPIVOTDATA("Ha Tot collecte",'[1]Feuil1 (2)'!$A$3,"Silo",AS$11,"Lib. variété",$A34),0) -> 0 | AT34: 4.8 | AU34: =AS34*AT34 -> 0 | AV34: =IFERROR(GETPIVOTDATA("Ha Tot collecte",'[1]Feuil1 (2)'!$A$3,"Silo",AV$11,"Lib. variété",$A34),0) -> 0 | AW34: 4.8 | AX34: =AV34*AW34 -> 0 | AY34: =IFERROR(GETPIVOTDATA("Ha Tot collecte",'[1]Feuil1 (2)'!$A$3,"Silo",AY$11,"Lib. variété",$A34),0) -> 0 | AZ34: 4.8 | BA34: =AY34*AZ34 -> 0 | BB34: =IFERROR(GETPIVOTDATA("Ha Tot collecte",'[1]Feuil1 (2)'!$A$3,"Silo",BB$11,"Lib. variété",$A34),0) -> 0 | BC34: 4.8 | BD34: =BB34*BC34 -> 0 | BE34: =IFERROR(GETPIVOTDATA("Ha Tot collecte",'[1]Feuil1 (2)'!$A$3,"Silo",BE$11,"Lib. variété",$A34),0) -> 0 | BF34: 4.8 | BG34: =BE34*BF34 -> 0 | BH34: =IFERROR(GETPIVOTDATA("Ha Tot collecte",'[1]Feuil1 (2)'!$A$3,"Silo",BH$11,"Lib. variété",$A34),0) -> 0 | BI34: 4.8 | BJ34: =BH34*BI34 -> 0 | BK34: =IFERROR(GETPIVOTDATA("Ha Tot collecte",'[1]Feuil1 (2)'!$A$3,"Silo",BK$11,"Lib. variété",$A34),0) -> 0 | BL34: 4.8 | BM34: =BK34*BL34 -> 0 | BN34: =IFERROR(GETPIVOTDATA("Ha Tot collecte",'[1]Feuil1 (2)'!$A$3,"Silo",BN$11,"Lib. variété",$A34),0) -> 0 | BO34: 4.8 | BP34: =BN34*BO34 -> 0 | BQ34: =IFERROR(GETPIVOTDATA("Ha Tot collecte",'[1]Feuil1 (2)'!$A$3,"Silo",BQ$11,"Lib. variété",$A34),0) -> 0 | BR34: 4.8 | BS34: =BQ34*BR34 -> 0 | BT34: =IFERROR(GETPIVOTDATA("Ha Tot collecte",'[1]Feuil1 (2)'!$A$3,"Silo",BT$11,"Lib. variété",$A34),0) -> 0 | BU34: 4.8 | BV34: =BT34*BU34 -> 0 | BW34: =IFERROR(GETPIVOTDATA("Ha Tot collecte",'[1]Feuil1 (2)'!$A$3,"Silo",BW$11,"Lib. variété",$A34),0) -> 0 | BX34: 4.8 | BY34: =BW34*BX34 -> 0 | BZ34: =IFERROR(GETPIVOTDATA("Ha Tot collecte",'[1]Feuil1 (2)'!$A$3,"Silo",BZ$11,"Lib. variété",$A34),0) -> 0 | CA34: 4.8 | CB34: =BZ34*CA34 -> 0 | CC34: =IFERROR(GETPIVOTDATA("Ha Tot collecte",'[1]Feuil1 (2)'!$A$3,"Silo",CC$11,"Lib. variété",$A34),0) -> 0 | CD34: 4.8 | CE34: =CC34*CD34 -> 0 | CF34: =IFERROR(GETPIVOTDATA("Ha Tot collecte",'[1]Feuil1 (2)'!$A$3,"Silo",CF$11,"Lib. variété",$A34),0) -> 0 | CG34: 4.8 | CH34: =CF34*CG34 -> 0 | CJ34: 4.8 | CK34: =CI34*CJ34 -> 0 | CM34: 4.8 | CN34: =CL34*CM34 -> 0 | CP34: 4.8 | CQ34: =CO34*CP34 -> 0 | CS34: 4.8 | CT34: =CR34*CS34 -> 0 | CV34: 4.8 | CW34: =CU34*CV34 -> 0 | CY34: 4.8 | CZ34: =CX34*CY34 -> 0 | DB34: 4.8 | DC34: =DA34*DB34 -> 0 | DE34: 4.8 | DF34: =DD34*DE34 -> 0 | DH34: 4.8 | DI34: =DG34*DH34 -> 0 | DK34: 4.8 | DL34: =DJ34*DK34 -> 0 | DN34: 4.8 | DO34: =DM34*DN34 -> 0 | DQ34: 4.8 | DR34: =DP34*DQ34 -> 0 | DT34: 4.8 | DU34: =DS34*DT34 -> 0 | DW34: 4.8 | DX34: =DV34*DW34 -> 0 | DZ34: 4.8 | EA34: =DY34*DZ34 -> 0 | EC34: 4.8 | ED34: =EB34*EC34 -> 0 | EF34: 4.8 | EG34: =EE34*EF34 -> 0 | EI34: 4.8 | EJ34: =EH34*EI34 -> 0 | EL34: 4.8 | EM34: =EK34*EL34 -> 0 | EO34: 4.8 | EP34: =EN34*EO34 -> 0 | ER34: 4.8 | ES34: =EQ34*ER34 -> 0 | EU34: 4.8 | EV34: =ET34*EU34 -> 0 | EX34: 4.8 | EY34: =EW34*EX34 -> 0 | FA34: 4.8 | FB34: =EZ34*FA34 -> 0 | FD34: 4.8 | FE34: =FC34*FD34 -> 0 | FG34: 4.8 | FH34: =FF34*FG34 -> 0 | FJ34: 4.8 | FK34: =FI34*FJ34 -> 0 | FM34: 4.8 | FN34: =FL34*FM34 -> 0 | FP34: 4.8 | FQ34: =FO34*FP34 -> 0 | FS34: 4.8 | FT34: =FR34*FS34 -> 0 | FV34: 4.8 | FW34: =FU34*FV34 -> 0 | FY34: 4.8 | FZ34: =FX34*FY34 -> 0 | GB34: 4.8 | GC34: =GA34*GB34 -> 0 | GE34: 4.8 | GF34: =GD34*GE34 -> 0 | GH34: 4.8 | GI34: =GG34*GH34 -> 0 | GK34: 4.8 | GL34: =GJ34*GK34 -> 0 | GN34: 4.8 | GO34: =GM34*GN34 -> 0 | GQ34: 4.8 | GR34: =GP34*GQ34 -> 0 | GT34: 4.8 | GU34: =GS34*GT34 -> 0 | GW34: 4.8 | GX34: =GV34*GW34 -> 0 | GZ34: 4.8 | HA34: =GY34*GZ34 -> 0 | HC34: 4.8 | HD34: =HB34*HC34 -> 0 | HF34: 4.8 | HG34: =HE34*HF34 -> 0 | HI34: 4.8 | HJ34: =HH34*HI34 -> 0 | HL34: 4.8 | HM34: =HK34*HL34 -> 0 | HO34: 4.8 | HP34: =HN34*HO34 -> 0 | HR34: 4.8 | HS34: =HQ34*HR34 -> 0 | HU34: 4.8 | HV34: =HT34*HU34 -> 0 | HX34: 4.8 | HY34: =HW34*HX34 -> 0 | IA34: 4.8 | IB34: =HZ34*IA34 -> 0 | ID34: 4.8 | IE34: =IC34*ID34 -> 0
A35: =Feuil3!B22 -> ORGE BRAS. PRINTEMPS TRAVELER | B35: =F35+I35+L35+O35+R35+U35+X35+AA35+AD35+AG35+AJ35+AM35+AP35+AS35+AV35+AY35+BB35+BE35+BH35+BK35+BN35+BQ35+BT35+BW35+BZ35+CC35+CF35+CI35+CL35+CO35+CR35+CU35+CX35+DA35+DD35+DG35+DJ35+DM35+DP35+DS35+DV35+DY35+EB35+EE35+EH35+EK35+EN35+EQ35+ET35+EW35+EZ35+FC35+FF35+FI35+FL35+FO35+FR35+FU35+FX35+GA35+GD35+GG35+GJ35+GM35+GP35+GS35+GV35+GY35+HB35+HE35+HH35+HK35+HN35+HQ35+HT35+HW35+HZ35+IC35 -> 0 | C35: =IF(B35=0,"",D35/B35) | D35: =H35+K35+N35+Q35+T35+W35+Z35+AC35+AF35+AI35+AL35+AO35+AR35+AU35+AX35+BA35+BD35+BG35+BJ35+BM35+BP35+BS35+BV35+BY35+CB35+CE35+CH35+CK35+CN35+CQ35+CT35+CW35+CZ35+DC35+DF35+DI35+DL35+DO35+DR35+DU35+DX35+EA35+ED35+EG35+EJ35+EM35+EP35+ES35+EV35+EY35+FB35+FE35+FH35+FK35+FN35+FQ35+FT35+FW35+FZ35+GC35+GF35+GI35+GL35+GO35+GR35+GU35+GX35+HA35+HD35+HG35+HJ35+HM35+HP35+HS35+HV35+HY35+IB35+IE35 -> 0 | F35: =IFERROR(GETPIVOTDATA("Ha Tot collecte",'[1]Feuil1 (2)'!$A$3,"Silo",F$11,"Lib. variété",$A35),0) -> 0 | G35: 4.8 | H35: =F35*G35 -> 0 | I35: =IFERROR(GETPIVOTDATA("Ha Tot collecte",'[1]Feuil1 (2)'!$A$3,"Silo",I$11,"Lib. variété",$A35),0) -> 0 | J35: 4.8 | K35: =I35*J35 -> 0 | L35: =IFERROR(GETPIVOTDATA("Ha Tot collecte",'[1]Feuil1 (2)'!$A$3,"Silo",L$11,"Lib. variété",$A35),0) -> 0 | M35: 4.8 | N35: =L35*M35 -> 0 | O35: =IFERROR(GETPIVOTDATA("Ha Tot collecte",'[1]Feuil1 (2)'!$A$3,"Silo",O$11,"Lib. variété",$A35),0) -> 0 | P35: 4.8 | Q35: =O35*P35 -> 0 | R35: =IFERROR(GETPIVOTDATA("Ha Tot collecte",'[1]Feuil1 (2)'!$A$3,"Silo",R$11,"Lib. variété",$A35),0) -> 0 | S35: 4.8 | T35: =R35*S35 -> 0 | U35: =IFERROR(GETPIVOTDATA("Ha Tot collecte",'[1]Feuil1 (2)'!$A$3,"Silo",U$11,"Lib. variété",$A35),0) -> 0 | V35: 4.8 | W35: =U35*V35 -> 0 | X35: =IFERROR(GETPIVOTDATA("Ha Tot collecte",'[1]Feuil1 (2)'!$A$3,"Silo",X$11,"Lib. variété",$A35),0) -> 0 | Y35: 4.8 | Z35: =X35*Y35 -> 0 | AA35: =IFERROR(GETPIVOTDATA("Ha Tot collecte",'[1]Feuil1 (2)'!$A$3,"Silo",AA$11,"Lib. variété",$A35),0) -> 0 | AB35: 4.8 | AC35: =AA35*AB35 -> 0 | AD35: =IFERROR(GETPIVOTDATA("Ha Tot collecte",'[1]Feuil1 (2)'!$A$3,"Silo",AD$11,"Lib. variété",$A35),0) -> 0 | AE35: 4.8 | AF35: =AD35*AE35 -> 0 | AG35: =IFERROR(GETPIVOTDATA("Ha Tot collecte",'[1]Feuil1 (2)'!$A$3,"Silo",AG$11,"Lib. variété",$A35),0) -> 0 | AH35: 4.8 | AI35: =AG35*AH35 -> 0 | AJ35: =IFERROR(GETPIVOTDATA("Ha Tot collecte",'[1]Feuil1 (2)'!$A$3,"Silo",AJ$11,"Lib. variété",$A35),0) -> 0 | AK35: 4.8 | AL35: =AJ35*AK35 -> 0 | AM35: =IFERROR(GETPIVOTDATA("Ha Tot collecte",'[1]Feuil1 (2)'!$A$3,"Silo",AM$11,"Lib. variété",$A35),0) -> 0 | AN35: 4.8 | AO35: =AM35*AN35 -> 0 | AP35: =IFERROR(GETPIVOTDATA("Ha Tot collecte",'[1]Feuil1 (2)'!$A$3,"Silo",AP$11,"Lib. variété",$A35),0) -> 0 | AQ35: 4.8 | AR35: =AP35*AQ35 -> 0 | AS35: =IFERROR(GETPIVOTDATA("Ha Tot collecte",'[1]Feuil1 (2)'!$A$3,"Silo",AS$11,"Lib. variété",$A35),0) -> 0 | AT35: 4.8 | AU35: =AS35*AT35 -> 0 | AV35: =IFERROR(GETPIVOTDATA("Ha Tot collecte",'[1]Feuil1 (2)'!$A$3,"Silo",AV$11,"Lib. variété",$A35),0) -> 0 | AW35: 4.8 | AX35: =AV35*AW35 -> 0 | AY35: =IFERROR(GETPIVOTDATA("Ha Tot collecte",'[1]Feuil1 (2)'!$A$3,"Silo",AY$11,"Lib. variété",$A35),0) -> 0 | AZ35: 4.8 | BA35: =AY35*AZ35 -> 0 | BB35: =IFERROR(GETPIVOTDATA("Ha Tot collecte",'[1]Feuil1 (2)'!$A$3,"Silo",BB$11,"Lib. variété",$A35),0) -> 0 | BC35: 4.8 | BD35: =BB35*BC35 -> 0 | BE35: =IFERROR(GETPIVOTDATA("Ha Tot collecte",'[1]Feuil1 (2)'!$A$3,"Silo",BE$11,"Lib. variété",$A35),0) -> 0 | BF35: 4.8 | BG35: =BE35*BF35 -> 0 | BH35: =IFERROR(GETPIVOTDATA("Ha Tot collecte",'[1]Feuil1 (2)'!$A$3,"Silo",BH$11,"Lib. variété",$A35),0) -> 0 | BI35: 4.8 | BJ35: =BH35*BI35 -> 0 | BK35: =IFERROR(GETPIVOTDATA("Ha Tot collecte",'[1]Feuil1 (2)'!$A$3,"Silo",BK$11,"Lib. variété",$A35),0) -> 0 | BL35: 4.8 | BM35: =BK35*BL35 -> 0 | BN35: =IFERROR(GETPIVOTDATA("Ha Tot collecte",'[1]Feuil1 (2)'!$A$3,"Silo",BN$11,"Lib. variété",$A35),0) -> 0 | BO35: 4.8 | BP35: =BN35*BO35 -> 0 | BQ35: =IFERROR(GETPIVOTDATA("Ha Tot collecte",'[1]Feuil1 (2)'!$A$3,"Silo",BQ$11,"Lib. variété",$A35),0) -> 0 | BR35: 4.8 | BS35: =BQ35*BR35 -> 0 | BT35: =IFERROR(GETPIVOTDATA("Ha Tot collecte",'[1]Feuil1 (2)'!$A$3,"Silo",BT$11,"Lib. variété",$A35),0) -> 0 | BU35: 4.8 | BV35: =BT35*BU35 -> 0 | BW35: =IFERROR(GETPIVOTDATA("Ha Tot collecte",'[1]Feuil1 (2)'!$A$3,"Silo",BW$11,"Lib. variété",$A35),0) -> 0 | BX35: 4.8 | BY35: =BW35*BX35 -> 0 | BZ35: =IFERROR(GETPIVOTDATA("Ha Tot collecte",'[1]Feuil1 (2)'!$A$3,"Silo",BZ$11,"Lib. variété",$A35),0) -> 0 | CA35: 4.8 | CB35: =BZ35*CA35 -> 0 | CC35: =IFERROR(GETPIVOTDATA("Ha Tot collecte",'[1]Feuil1 (2)'!$A$3,"Silo",CC$11,"Lib. variété",$A35),0) -> 0 | CD35: 4.8 | CE35: =CC35*CD35 -> 0 | CF35: =IFERROR(GETPIVOTDATA("Ha Tot collecte",'[1]Feuil1 (2)'!$A$3,"Silo",CF$11,"Lib. variété",$A35),0) -> 0 | CG35: 4.8 | CH35: =CF35*CG35 -> 0 | CJ35: 4.8 | CK35: =CI35*CJ35 -> 0 | CM35: 4.8 | CN35: =CL35*CM35 -> 0 | CP35: 4.8 | CQ35: =CO35*CP35 -> 0 | CS35: 4.8 | CT35: =CR35*CS35 -> 0 | CV35: 4.8 | CW35: =CU35*CV35 -> 0 | CY35: 4.8 | CZ35: =CX35*CY35 -> 0 | DB35: 4.8 | DC35: =DA35*DB35 -> 0 | DE35: 4.8 | DF35: =DD35*DE35 -> 0 | DH35: 4.8 | DI35: =DG35*DH35 -> 0 | DK35: 4.8 | DL35: =DJ35*DK35 -> 0 | DN35: 4.8 | DO35: =DM35*DN35 -> 0 | DQ35: 4.8 | DR35: =DP35*DQ35 -> 0 | DT35: 4.8 | DU35: =DS35*DT35 -> 0 | DW35: 4.8 | DX35: =DV35*DW35 -> 0 | DZ35: 4.8 | EA35: =DY35*DZ35 -> 0 | EC35: 4.8 | ED35: =EB35*EC35 -> 0 | EF35: 4.8 | EG35: =EE35*EF35 -> 0 | EI35: 4.8 | EJ35: =EH35*EI35 -> 0 | EL35: 4.8 | EM35: =EK35*EL35 -> 0 | EO35: 4.8 | EP35: =EN35*EO35 -> 0 | ER35: 4.8 | ES35: =EQ35*ER35 -> 0 | EU35: 4.8 | EV35: =ET35*EU35 -> 0 | EX35: 4.8 | EY35: =EW35*EX35 -> 0 | FA35: 4.8 | FB35: =EZ35*FA35 -> 0 | FD35: 4.8 | FE35: =FC35*FD35 -> 0 | FG35: 4.8 | FH35: =FF35*FG35 -> 0 | FJ35: 4.8 | FK35: =FI35*FJ35 -> 0 | FM35: 4.8 | FN35: =FL35*FM35 -> 0 | FP35: 4.8 | FQ35: =FO35*FP35 -> 0 | FS35: 4.8 | FT35: =FR35*FS35 -> 0 | FV35: 4.8 | FW35: =FU35*FV35 -> 0 | FY35: 4.8 | FZ35: =FX35*FY35 -> 0 | GB35: 4.8 | GC35: =GA35*GB35 -> 0 | GE35: 4.8 | GF35: =GD35*GE35 -> 0 | GH35: 4.8 | GI35: =GG35*GH35 -> 0 | GK35: 4.8 | GL35: =GJ35*GK35 -> 0 | GN35: 4.8 | GO35: =GM35*GN35 -> 0 | GQ35: 4.8 | GR35: =GP35*GQ35 -> 0 | GT35: 4.8 | GU35: =GS35*GT35 -> 0 | GW35: 4.8 | GX35: =GV35*GW35 -> 0 | GZ35: 4.8 | HA35: =GY35*GZ35 -> 0 | HC35: 4.8 | HD35: =HB35*HC35 -> 0 | HF35: 4.8 | HG35: =HE35*HF35 -> 0 | HI35: 4.8 | HJ35: =HH35*HI35 -> 0 | HL35: 4.8 | HM35: =HK35*HL35 -> 0 | HO35: 4.8 | HP35: =HN35*HO35 -> 0 | HR35: 4.8 | HS35: =HQ35*HR35 -> 0 | HU35: 4.8 | HV35: =HT35*HU35 -> 0 | HX35: 4.8 | HY35: =HW35*HX35 -> 0 | IA35: 4.8 | IB35: =HZ35*IA35 -> 0 | ID35: 4.8 | IE35: =IC35*ID35 -> 0
A36: =Feuil3!B23 -> ORGE BRAS. PRINTEMPS SUNSHINE | B36: =F36+I36+L36+O36+R36+U36+X36+AA36+AD36+AG36+AJ36+AM36+AP36+AS36+AV36+AY36+BB36+BE36+BH36+BK36+BN36+BQ36+BT36+BW36+BZ36+CC36+CF36+CI36+CL36+CO36+CR36+CU36+CX36+DA36+DD36+DG36+DJ36+DM36+DP36+DS36+DV36+DY36+EB36+EE36+EH36+EK36+EN36+EQ36+ET36+EW36+EZ36+FC36+FF36+FI36+FL36+FO36+FR36+FU36+FX36+GA36+GD36+GG36+GJ36+GM36+GP36+GS36+GV36+GY36+HB36+HE36+HH36+HK36+HN36+HQ36+HT36+HW36+HZ36+IC36 -> 0 | C36: =IF(B36=0,"",D36/B36) | D36: =H36+K36+N36+Q36+T36+W36+Z36+AC36+AF36+AI36+AL36+AO36+AR36+AU36+AX36+BA36+BD36+BG36+BJ36+BM36+BP36+BS36+BV36+BY36+CB36+CE36+CH36+CK36+CN36+CQ36+CT36+CW36+CZ36+DC36+DF36+DI36+DL36+DO36+DR36+DU36+DX36+EA36+ED36+EG36+EJ36+EM36+EP36+ES36+EV36+EY36+FB36+FE36+FH36+FK36+FN36+FQ36+FT36+FW36+FZ36+GC36+GF36+GI36+GL36+GO36+GR36+GU36+GX36+HA36+HD36+HG36+HJ36+HM36+HP36+HS36+HV36+HY36+IB36+IE36 -> 0 | F36: =IFERROR(GETPIVOTDATA("Ha Tot collecte",'[1]Feuil1 (2)'!$A$3,"Silo",F$11,"Lib. variété",$A36),0) -> 0 | G36: 4.8 | H36: =F36*G36 -> 0 | I36: =IFERROR(GETPIVOTDATA("Ha Tot collecte",'[1]Feuil1 (2)'!$A$3,"Silo",I$11,"Lib. variété",$A36),0) -> 0 | J36: 4.8 | K36: =I36*J36 -> 0 | L36: =IFERROR(GETPIVOTDATA("Ha Tot collecte",'[1]Feuil1 (2)'!$A$3,"Silo",L$11,"Lib. variété",$A36),0) -> 0 | M36: 4.8 | N36: =L36*M36 -> 0 | O36: =IFERROR(GETPIVOTDATA("Ha Tot collecte",'[1]Feuil1 (2)'!$A$3,"Silo",O$11,"Lib. variété",$A36),0) -> 0 | P36: 4.8 | Q36: =O36*P36 -> 0 | R36: =IFERROR(GETPIVOTDATA("Ha Tot collecte",'[1]Feuil1 (2)'!$A$3,"Silo",R$11,"Lib. variété",$A36),0) -> 0 | S36: 4.8 | T36: =R36*S36 -> 0 | U36: =IFERROR(GETPIVOTDATA("Ha Tot collecte",'[1]Feuil1 (2)'!$A$3,"Silo",U$11,"Lib. variété",$A36),0) -> 0 | V36: 4.8 | W36: =U36*V36 -> 0 | X36: =IFERROR(GETPIVOTDATA("Ha Tot collecte",'[1]Feuil1 (2)'!$A$3,"Silo",X$11,"Lib. variété",$A36),0) -> 0 | Y36: 4.8 | Z36: =X36*Y36 -> 0 | AA36: =IFERROR(GETPIVOTDATA("Ha Tot collecte",'[1]Feuil1 (2)'!$A$3,"Silo",AA$11,"Lib. variété",$A36),0) -> 0 | AB36: 4.8 | AC36: =AA36*AB36 -> 0 | AD36: =IFERROR(GETPIVOTDATA("Ha Tot collecte",'[1]Feuil1 (2)'!$A$3,"Silo",AD$11,"Lib. variété",$A36),0) -> 0 | AE36: 4.8 | AF36: =AD36*AE36 -> 0 | AG36: =IFERROR(GETPIVOTDATA("Ha Tot collecte",'[1]Feuil1 (2)'!$A$3,"Silo",AG$11,"Lib. variété",$A36),0) -> 0 | AH36: 4.8 | AI36: =AG36*AH36 -> 0 | AJ36: =IFERROR(GETPIVOTDATA("Ha Tot collecte",'[1]Feuil1 (2)'!$A$3,"Silo",AJ$11,"Lib. variété",$A36),0) -> 0 | AK36: 4.8 | AL36: =AJ36*AK36 -> 0 | AM36: =IFERROR(GETPIVOTDATA("Ha Tot collecte",'[1]Feuil1 (2)'!$A$3,"Silo",AM$11,"Lib. variété",$A36),0) -> 0 | AN36: 4.8 | AO36: =AM36*AN36 -> 0 | AP36: =IFERROR(GETPIVOTDATA("Ha Tot collecte",'[1]Feuil1 (2)'!$A$3,"Silo",AP$11,"Lib. variété",$A36),0) -> 0 | AQ36: 4.8 | AR36: =AP36*AQ36 -> 0 | AS36: =IFERROR(GETPIVOTDATA("Ha Tot collecte",'[1]Feuil1 (2)'!$A$3,"Silo",AS$11,"Lib. variété",$A36),0) -> 0 | AT36: 4.8 | AU36: =AS36*AT36 -> 0 | AV36: =IFERROR(GETPIVOTDATA("Ha Tot collecte",'[1]Feuil1 (2)'!$A$3,"Silo",AV$11,"Lib. variété",$A36),0) -> 0 | AW36: 4.8 | AX36: =AV36*AW36 -> 0 | AY36: =IFERROR(GETPIVOTDATA("Ha Tot collecte",'[1]Feuil1 (2)'!$A$3,"Silo",AY$11,"Lib. variété",$A36),0) -> 0 | AZ36: 4.8 | BA36: =AY36*AZ36 -> 0 | BB36: =IFERROR(GETPIVOTDATA("Ha Tot collecte",'[1]Feuil1 (2)'!$A$3,"Silo",BB$11,"Lib. variété",$A36),0) -> 0 | BC36: 4.8 | BD36: =BB36*BC36 -> 0 | BE36: =IFERROR(GETPIVOTDATA("Ha Tot collecte",'[1]Feuil1 (2)'!$A$3,"Silo",BE$11,"Lib. variété",$A36),0) -> 0 | BF36: 4.8 | BG36: =BE36*BF36 -> 0 | BH36: =IFERROR(GETPIVOTDATA("Ha Tot collecte",'[1]Feuil1 (2)'!$A$3,"Silo",BH$11,"Lib. variété",$A36),0) -> 0 | BI36: 4.8 | BJ36: =BH36*BI36 -> 0 | BK36: =IFERROR(GETPIVOTDATA("Ha Tot collecte",'[1]Feuil1 (2)'!$A$3,"Silo",BK$11,"Lib. variété",$A36),0) -> 0 | BL36: 4.8 | BM36: =BK36*BL36 -> 0 | BN36: =IFERROR(GETPIVOTDATA("Ha Tot collecte",'[1]Feuil1 (2)'!$A$3,"Silo",BN$11,"Lib. variété",$A36),0) -> 0 | BO36: 4.8 | BP36: =BN36*BO36 -> 0 | BQ36: =IFERROR(GETPIVOTDATA("Ha Tot collecte",'[1]Feuil1 (2)'!$A$3,"Silo",BQ$11,"Lib. variété",$A36),0) -> 0 | BR36: 4.8 | BS36: =BQ36*BR36 -> 0 | BT36: =IFERROR(GETPIVOTDATA("Ha Tot collecte",'[1]Feuil1 (2)'!$A$3,"Silo",BT$11,"Lib. variété",$A36),0) -> 0 | BU36: 4.8 | BV36: =BT36*BU36 -> 0 | BW36: =IFERROR(GETPIVOTDATA("Ha Tot collecte",'[1]Feuil1 (2)'!$A$3,"Silo",BW$11,"Lib. variété",$A36),0) -> 0 | BX36: 4.8 | BY36: =BW36*BX36 -> 0 | BZ36: =IFERROR(GETPIVOTDATA("Ha Tot collecte",'[1]Feuil1 (2)'!$A$3,"Silo",BZ$11,"Lib. variété",$A36),0) -> 0 | CA36: 4.8 | CB36: =BZ36*CA36 -> 0 | CC36: =IFERROR(GETPIVOTDATA("Ha Tot collecte",'[1]Feuil1 (2)'!$A$3,"Silo",CC$11,"Lib. variété",$A36),0) -> 0 | CD36: 4.8 | CE36: =CC36*CD36 -> 0 | CF36: =IFERROR(GETPIVOTDATA("Ha Tot collecte",'[1]Feuil1 (2)'!$A$3,"Silo",CF$11,"Lib. variété",$A36),0) -> 0 | CG36: 4.8 | CH36: =CF36*CG36 -> 0 | CJ36: 4.8 | CK36: =CI36*CJ36 -> 0 | CM36: 4.8 | CN36: =CL36*CM36 -> 0 | CP36: 4.8 | CQ36: =CO36*CP36 -> 0 | CS36: 4.8 | CT36: =CR36*CS36 -> 0 | CV36: 4.8 | CW36: =CU36*CV36 -> 0 | CY36: 4.8 | CZ36: =CX36*CY36 -> 0 | DB36: 4.8 | DC36: =DA36*DB36 -> 0 | DE36: 4.8 | DF36: =DD36*DE36 -> 0 | DH36: 4.8 | DI36: =DG36*DH36 -> 0 | DK36: 4.8 | DL36: =DJ36*DK36 -> 0 | DN36: 4.8 | DO36: =DM36*DN36 -> 0 | DQ36: 4.8 | DR36: =DP36*DQ36 -> 0 | DT36: 4.8 | DU36: =DS36*DT36 -> 0 | DW36: 4.8 | DX36: =DV36*DW36 -> 0 | DZ36: 4.8 | EA36: =DY36*DZ36 -> 0 | EC36: 4.8 | ED36: =EB36*EC36 -> 0 | EF36: 4.8 | EG36: =EE36*EF36 -> 0 | EI36: 4.8 | EJ36: =EH36*EI36 -> 0 | EL36: 4.8 | EM36: =EK36*EL36 -> 0 | EO36: 4.8 | EP36: =EN36*EO36 -> 0 | ER36: 4.8 | ES36: =EQ36*ER36 -> 0 | EU36: 4.8 | EV36: =ET36*EU36 -> 0 | EX36: 4.8 | EY36: =EW36*EX36 -> 0 | FA36: 4.8 | FB36: =EZ36*FA36 -> 0 | FD36: 4.8 | FE36: =FC36*FD36 -> 0 | FG36: 4.8 | FH36: =FF36*FG36 -> 0 | FJ36: 4.8 | FK36: =FI36*FJ36 -> 0 | FM36: 4.8 | FN36: =FL36*FM36 -> 0 | FP36: 4.8 | FQ36: =FO36*FP36 -> 0 | FS36: 4.8 | FT36: =FR36*FS36 -> 0 | FV36: 4.8 | FW36: =FU36*FV36 -> 0 | FY36: 4.8 | FZ36: =FX36*FY36 -> 0 | GB36: 4.8 | GC36: =GA36*GB36 -> 0 | GE36: 4.8 | GF36: =GD36*GE36 -> 0 | GH36: 4.8 | GI36: =GG36*GH36 -> 0 | GK36: 4.8 | GL36: =GJ36*GK36 -> 0 | GN36: 4.8 | GO36: =GM36*GN36 -> 0 | GQ36: 4.8 | GR36: =GP36*GQ36 -> 0 | GT36: 4.8 | GU36: =GS36*GT36 -> 0 | GW36: 4.8 | GX36: =GV36*GW36 -> 0 | GZ36: 4.8 | HA36: =GY36*GZ36 -> 0 | HC36: 4.8 | HD36: =HB36*HC36 -> 0 | HF36: 4.8 | HG36: =HE36*HF36 -> 0 | HI36: 4.8 | HJ36: =HH36*HI36 -> 0 | HL36: 4.8 | HM36: =HK36*HL36 -> 0 | HO36: 4.8 | HP36: =HN36*HO36 -> 0 | HR36: 4.8 | HS36: =HQ36*HR36 -> 0 | HU36: 4.8 | HV36: =HT36*HU36 -> 0 | HX36: 4.8 | HY36: =HW36*HX36 -> 0 | IA36: 4.8 | IB36: =HZ36*IA36 -> 0 | ID36: 4.8 | IE36: =IC36*ID36 -> 0
... A38: =Feuil3!B25 -> POIS JAUNE | B38: =F38+I38+L38+O38+R38+U38+X38+AA38+AD38+AG38+AJ38+AM38+AP38+AS38+AV38+AY38+BB38+BE38+BH38+BK38+BN38+BQ38+BT38+BW38+BZ38+CC38+CF38+CI38+CL38+CO38+CR38+CU38+CX38+DA38+DD38+DG38+DJ38+DM38+DP38+DS38+DV38+DY38+EB38+EE38+EH38+EK38+EN38+EQ38+ET38+EW38+EZ38+FC38+FF38+FI38+FL38+FO38+FR38+FU38+FX38+GA38+GD38+GG38+GJ38+GM38+GP38+GS38+GV38+GY38+HB38+HE38+HH38+HK38+HN38+HQ38+HT38+HW38+HZ38+IC38 -> 75.41 | C38: =IF(B38=0,"",D38/B38) -> 4.5 | D38: =H38+K38+N38+Q38+T38+W38+Z38+AC38+AF38+AI38+AL38+AO38+AR38+AU38+AX38+BA38+BD38+BG38+BJ38+BM38+BP38+BS38+BV38+BY38+CB38+CE38+CH38+CK38+CN38+CQ38+CT38+CW38+CZ38+DC38+DF38+DI38+DL38+DO38+DR38+DU38+DX38+EA38+ED38+EG38+EJ38+EM38+EP38+ES38+EV38+EY38+FB38+FE38+FH38+FK38+FN38+FQ38+FT38+FW38+FZ38+GC38+GF38+GI38+GL38+GO38+GR38+GU38+GX38+HA38+HD38+HG38+HJ38+HM38+HP38+HS38+HV38+HY38+IB38+IE38 -> 339.345 | F38: =IFERROR(GETPIVOTDATA("Ha Tot collecte",'[1]Feuil1 (2)'!$A$3,"Silo",F$11,"Lib. variété",$A38),0) -> 0 | G38: 4.5 | H38: =F38*G38 -> 0 | I38: =IFERROR(GETPIVOTDATA("Ha Tot collecte",'[1]Feuil1 (2)'!$A$3,"Silo",I$11,"Lib. variété",$A38),0) -> 0 | J38: 4.5 | K38: =I38*J38 -> 0 | L38: =IFERROR(GETPIVOTDATA("Ha Tot collecte",'[1]Feuil1 (2)'!$A$3,"Silo",L$11,"Lib. variété",$A38),0) -> 0 | M38: 4.5 | N38: =L38*M38 -> 0 | O38: =IFERROR(GETPIVOTDATA("Ha Tot collecte",'[1]Feuil1 (2)'!$A$3,"Silo",O$11,"Lib. variété",$A38),0) -> 0 | P38: 4.5 | Q38: =O38*P38 -> 0 | R38: =IFERROR(GETPIVOTDATA("Ha Tot collecte",'[1]Feuil1 (2)'!$A$3,"Silo",R$11,"Lib. variété",$A38),0) -> 0 | S38: 4.5 | T38: =R38*S38 -> 0 | U38: =IFERROR(GETPIVOTDATA("Ha Tot collecte",'[1]Feuil1 (2)'!$A$3,"Silo",U$11,"Lib. variété",$A38),0) -> 0 | V38: 4.5 | W38: =U38*V38 -> 0 | X38: =IFERROR(GETPIVOTDATA("Ha Tot collecte",'[1]Feuil1 (2)'!$A$3,"Silo",X$11,"Lib. variété",$A38),0) -> 0 | Y38: 4.5 | Z38: =X38*Y38 -> 0 | AA38: =IFERROR(GETPIVOTDATA("Ha Tot collecte",'[1]Feuil1 (2)'!$A$3,"Silo",AA$11,"Lib. variété",$A38),0) -> 0 | AB38: 4.5 | AC38: =AA38*AB38 -> 0 | AD38: =IFERROR(GETPIVOTDATA("Ha Tot collecte",'[1]Feuil1 (2)'!$A$3,"Silo",AD$11,"Lib. variété",$A38),0) -> 10.14 | AE38: 4.5 | AF38: =AD38*AE38 -> 45.63 | AG38: =IFERROR(GETPIVOTDATA("Ha Tot collecte",'[1]Feuil1 (2)'!$A$3,"Silo",AG$11,"Lib. variété",$A38),0) -> 0 | AH38: 4.5 | AI38: =AG38*AH38 -> 0 | AJ38: =IFERROR(GETPIVOTDATA("Ha Tot collecte",'[1]Feuil1 (2)'!$A$3,"Silo",AJ$11,"Lib. variété",$A38),0) -> 0 | AK38: 4.5 | AL38: =AJ38*AK38 -> 0 | AM38: =IFERROR(GETPIVOTDATA("Ha Tot collecte",'[1]Feuil1 (2)'!$A$3,"Silo",AM$11,"Lib. variété",$A38),0) -> 0 | AN38: 4.5 | AO38: =AM38*AN38 -> 0 | AP38: =IFERROR(GETPIVOTDATA("Ha Tot collecte",'[1]Feuil1 (2)'!$A$3,"Silo",AP$11,"Lib. variété",$A38),0) -> 0 | AQ38: 4.5 | AR38: =AP38*AQ38 -> 0 | AS38: =IFERROR(GETPIVOTDATA("Ha Tot collecte",'[1]Feuil1 (2)'!$A$3,"Silo",AS$11,"Lib. variété",$A38),0) -> 0 | AT38: 4.5 | AU38: =AS38*AT38 -> 0 | AV38: =IFERROR(GETPIVOTDATA("Ha Tot collecte",'[1]Feuil1 (2)'!$A$3,"Silo",AV$11,"Lib. variété",$A38),0) -> 12.35 | AW38: 4.5 | AX38: =AV38*AW38 -> 55.575 | AY38: =IFERROR(GETPIVOTDATA("Ha Tot collecte",'[1]Feuil1 (2)'!$A$3,"Silo",AY$11,"Lib. variété",$A38),0) -> 0 | AZ38: 4.5 | BA38: =AY38*AZ38 -> 0 | BB38: =IFERROR(GETPIVOTDATA("Ha Tot collecte",'[1]Feuil1 (2)'!$A$3,"Silo",BB$11,"Lib. variété",$A38),0) -> 0 | BC38: 4.5 | BD38: =BB38*BC38 -> 0 | BE38: =IFERROR(GETPIVOTDATA("Ha Tot collecte",'[1]Feuil1 (2)'!$A$3,"Silo",BE$11,"Lib. variété",$A38),0) -> 33.06 | BF38: 4.5 | BG38: =BE38*BF38 -> 148.77 | BH38: =IFERROR(GETPIVOTDATA("Ha Tot collecte",'[1]Feuil1 (2)'!$A$3,"Silo",BH$11,"Lib. variété",$A38),0) -> 0 | BI38: 4.5 | BJ38: =BH38*BI38 -> 0 | BK38: =IFERROR(GETPIVOTDATA("Ha Tot collecte",'[1]Feuil1 (2)'!$A$3,"Silo",BK$11,"Lib. variété",$A38),0) -> 0 | BL38: 4.5 | BM38: =BK38*BL38 -> 0 | BN38: =IFERROR(GETPIVOTDATA("Ha Tot collecte",'[1]Feuil1 (2)'!$A$3,"Silo",BN$11,"Lib. variété",$A38),0) -> 19.86 | BO38: 4.5 | BP38: =BN38*BO38 -> 89.37 | BQ38: =IFERROR(GETPIVOTDATA("Ha Tot collecte",'[1]Feuil1 (2)'!$A$3,"Silo",BQ$11,"Lib. variété",$A38),0) -> 0 | BR38: 4.5 | BS38: =BQ38*BR38 -> 0 | BT38: =IFERROR(GETPIVOTDATA("Ha Tot collecte",'[1]Feuil1 (2)'!$A$3,"Silo",BT$11,"Lib. variété",$A38),0) -> 0 | BU38: 4.5 | BV38: =BT38*BU38 -> 0 | BW38: =IFERROR(GETPIVOTDATA("Ha Tot collecte",'[1]Feuil1 (2)'!$A$3,"Silo",BW$11,"Lib. variété",$A38),0) -> 0 | BX38: 4.5 | BY38: =BW38*BX38 -> 0 | BZ38: =IFERROR(GETPIVOTDATA("Ha Tot collecte",'[1]Feuil1 (2)'!$A$3,"Silo",BZ$11,"Lib. variété",$A38),0) -> 0 | CA38: 4.5 | CB38: =BZ38*CA38 -> 0 | CC38: =IFERROR(GETPIVOTDATA("Ha Tot collecte",'[1]Feuil1 (2)'!$A$3,"Silo",CC$11,"Lib. variété",$A38),0) -> 0 | CD38: 4.5 | CE38: =CC38*CD38 -> 0 | CF38: =IFERROR(GETPIVOTDATA("Ha Tot collecte",'[1]Feuil1 (2)'!$A$3,"Silo",CF$11,"Lib. variété",$A38),0) -> 0 | CG38: 4.5 | CH38: =CF38*CG38 -> 0 | CJ38: 4.5 | CK38: =CI38*CJ38 -> 0 | CM38: 4.5 | CN38: =CL38*CM38 -> 0 | CP38: 4.5 | CQ38: =CO38*CP38 -> 0 | CS38: 4.5 | CT38: =CR38*CS38 -> 0 | CV38: 4.5 | CW38: =CU38*CV38 -> 0 | CY38: 4.5 | CZ38: =CX38*CY38 -> 0 | DB38: 4.5 | DC38: =DA38*DB38 -> 0 | DE38: 4.5 | DF38: =DD38*DE38 -> 0 | DH38: 4.5 | DI38: =DG38*DH38 -> 0 | DK38: 4.5 | DL38: =DJ38*DK38 -> 0 | DN38: 4.5 | DO38: =DM38*DN38 -> 0 | DQ38: 4.5 | DR38: =DP38*DQ38 -> 0 | DT38: 4.5 | DU38: =DS38*DT38 -> 0 | DW38: 4.5 | DX38: =DV38*DW38 -> 0 | DZ38: 4.5 | EA38: =DY38*DZ38 -> 0 | EC38: 4.5 | ED38: =EB38*EC38 -> 0 | EF38: 4.5 | EG38: =EE38*EF38 -> 0 | EI38: 4.5 | EJ38: =EH38*EI38 -> 0 | EL38: 4.5 | EM38: =EK38*EL38 -> 0 | EO38: 4.5 | EP38: =EN38*EO38 -> 0 | ER38: 4.5 | ES38: =EQ38*ER38 -> 0 | EU38: 4.5 | EV38: =ET38*EU38 -> 0 | EX38: 4.5 | EY38: =EW38*EX38 -> 0 | FA38: 4.5 | FB38: =EZ38*FA38 -> 0 | FD38: 4.5 | FE38: =FC38*FD38 -> 0 | FG38: 4.5 | FH38: =FF38*FG38 -> 0 | FJ38: 4.5 | FK38: =FI38*FJ38 -> 0 | FM38: 4.5 | FN38: =FL38*FM38 -> 0 | FP38: 4.5 | FQ38: =FO38*FP38 -> 0 | FS38: 4.5 | FT38: =FR38*FS38 -> 0 | FV38: 4.5 | FW38: =FU38*FV38 -> 0 | FY38: 4.5 | FZ38: =FX38*FY38 -> 0 | GB38: 4.5 | GC38: =GA38*GB38 -> 0 | GE38: 4.5 | GF38: =GD38*GE38 -> 0 | GH38: 4.5 | GI38: =GG38*GH38 -> 0 | GK38: 4.5 | GL38: =GJ38*GK38 -> 0 | GN38: 4.5 | GO38: =GM38*GN38 -> 0 | GQ38: 4.5 | GR38: =GP38*GQ38 -> 0 | GT38: 4.5 | GU38: =GS38*GT38 -> 0 | GW38: 4.5 | GX38: =GV38*GW38 -> 0 | GZ38: 4.5 | HA38: =GY38*GZ38 -> 0 | HC38: 4.5 | HD38: =HB38*HC38 -> 0 | HF38: 4.5 | HG38: =HE38*HF38 -> 0 | HI38: 4.5 | HJ38: =HH38*HI38 -> 0 | HL38: 4.5 | HM38: =HK38*HL38 -> 0 | HO38: 4.5 | HP38: =HN38*HO38 -> 0 | HR38: 4.5 | HS38: =HQ38*HR38 -> 0 | HU38: 4.5 | HV38: =HT38*HU38 -> 0 | HX38: 4.5 | HY38: =HW38*HX38 -> 0 | IA38: 4.5 | IB38: =HZ38*IA38 -> 0 | ID38: 4.5 | IE38: =IC38*ID38 -> 0
A39: =Feuil3!B26 -> 0 | B39: =F39+I39+L39+O39+R39+U39+X39+AA39+AD39+AG39+AJ39+AM39+AP39+AS39+AV39+AY39+BB39+BE39+BH39+BK39+BN39+BQ39+BT39+BW39+BZ39+CC39+CF39+CI39+CL39+CO39+CR39+CU39+CX39+DA39+DD39+DG39+DJ39+DM39+DP39+DS39+DV39+DY39+EB39+EE39+EH39+EK39+EN39+EQ39+ET39+EW39+EZ39+FC39+FF39+FI39+FL39+FO39+FR39+FU39+FX39+GA39+GD39+GG39+GJ39+GM39+GP39+GS39+GV39+GY39+HB39+HE39+HH39+HK39+HN39+HQ39+HT39+HW39+HZ39+IC39 -> 0 | C39: =IF(B39=0,"",D39/B39) | D39: =H39+K39+N39+Q39+T39+W39+Z39+AC39+AF39+AI39+AL39+AO39+AR39+AU39+AX39+BA39+BD39+BG39+BJ39+BM39+BP39+BS39+BV39+BY39+CB39+CE39+CH39+CK39+CN39+CQ39+CT39+CW39+CZ39+DC39+DF39+DI39+DL39+DO39+DR39+DU39+DX39+EA39+ED39+EG39+EJ39+EM39+EP39+ES39+EV39+EY39+FB39+FE39+FH39+FK39+FN39+FQ39+FT39+FW39+FZ39+GC39+GF39+GI39+GL39+GO39+GR39+GU39+GX39+HA39+HD39+HG39+HJ39+HM39+HP39+HS39+HV39+HY39+IB39+IE39 -> 0 | F39: =IFERROR(GETPIVOTDATA("Ha Tot collecte",'[1]Feuil1 (2)'!$A$3,"Silo",F$11,"Lib. variété",$A39),0) -> 0 | H39: =F39*G39 -> 0 | I39: =IFERROR(GETPIVOTDATA("Ha Tot collecte",'[1]Feuil1 (2)'!$A$3,"Silo",I$11,"Lib. variété",$A39),0) -> 0 | K39: =I39*J39 -> 0 | L39: =IFERROR(GETPIVOTDATA("Ha Tot collecte",'[1]Feuil1 (2)'!$A$3,"Silo",L$11,"Lib. variété",$A39),0) -> 0 | N39: =L39*M39 -> 0 | O39: =IFERROR(GETPIVOTDATA("Ha Tot collecte",'[1]Feuil1 (2)'!$A$3,"Silo",O$11,"Lib. variété",$A39),0) -> 0 | Q39: =O39*P39 -> 0 | R39: =IFERROR(GETPIVOTDATA("Ha Tot collecte",'[1]Feuil1 (2)'!$A$3,"Silo",R$11,"Lib. variété",$A39),0) -> 0 | T39: =R39*S39 -> 0 | U39: =IFERROR(GETPIVOTDATA("Ha Tot collecte",'[1]Feuil1 (2)'!$A$3,"Silo",U$11,"Lib. variété",$A39),0) -> 0 | W39: =U39*V39 -> 0 | X39: =IFERROR(GETPIVOTDATA("Ha Tot collecte",'[1]Feuil1 (2)'!$A$3,"Silo",X$11,"Lib. variété",$A39),0) -> 0 | Z39: =X39*Y39 -> 0 | AA39: =IFERROR(GETPIVOTDATA("Ha Tot collecte",'[1]Feuil1 (2)'!$A$3,"Silo",AA$11,"Lib. variété",$A39),0) -> 0 | AC39: =AA39*AB39 -> 0 | AD39: =IFERROR(GETPIVOTDATA("Ha Tot collecte",'[1]Feuil1 (2)'!$A$3,"Silo",AD$11,"Lib. variété",$A39),0) -> 0 | AF39: =AD39*AE39 -> 0 | AG39: =IFERROR(GETPIVOTDATA("Ha Tot collecte",'[1]Feuil1 (2)'!$A$3,"Silo",AG$11,"Lib. variété",$A39),0) -> 0 | AI39: =AG39*AH39 -> 0 | AJ39: =IFERROR(GETPIVOTDATA("Ha Tot collecte",'[1]Feuil1 (2)'!$A$3,"Silo",AJ$11,"Lib. variété",$A39),0) -> 0 | AL39: =AJ39*AK39 -> 0 | AM39: =IFERROR(GETPIVOTDATA("Ha Tot collecte",'[1]Feuil1 (2)'!$A$3,"Silo",AM$11,"Lib. variété",$A39),0) -> 0 | AO39: =AM39*AN39 -> 0 | AP39: =IFERROR(GETPIVOTDATA("Ha Tot collecte",'[1]Feuil1 (2)'!$A$3,"Silo",AP$11,"Lib. variété",$A39),0) -> 0 | AR39: =AP39*AQ39 -> 0 | AS39: =IFERROR(GETPIVOTDATA("Ha Tot collecte",'[1]Feuil1 (2)'!$A$3,"Silo",AS$11,"Lib. variété",$A39),0) -> 0 | AU39: =AS39*AT39 -> 0 | AV39: =IFERROR(GETPIVOTDATA("Ha Tot collecte",'[1]Feuil1 (2)'!$A$3,"Silo",AV$11,"Lib. variété",$A39),0) -> 0 | AX39: =AV39*AW39 -> 0 | AY39: =IFERROR(GETPIVOTDATA("Ha Tot collecte",'[1]Feuil1 (2)'!$A$3,"Silo",AY$11,"Lib. variété",$A39),0) -> 0 | BA39: =AY39*AZ39 -> 0 | BB39: =IFERROR(GETPIVOTDATA("Ha Tot collecte",'[1]Feuil1 (2)'!$A$3,"Silo",BB$11,"Lib. variété",$A39),0) -> 0 | BD39: =BB39*BC39 -> 0 | BE39: =IFERROR(GETPIVOTDATA("Ha Tot collecte",'[1]Feuil1 (2)'!$A$3,"Silo",BE$11,"Lib. variété",$A39),0) -> 0 | BG39: =BE39*BF39 -> 0 | BH39: =IFERROR(GETPIVOTDATA("Ha Tot collecte",'[1]Feuil1 (2)'!$A$3,"Silo",BH$11,"Lib. variété",$A39),0) -> 0 | BJ39: =BH39*BI39 -> 0 | BK39: =IFERROR(GETPIVOTDATA("Ha Tot collecte",'[1]Feuil1 (2)'!$A$3,"Silo",BK$11,"Lib. variété",$A39),0) -> 0 | BM39: =BK39*BL39 -> 0 | BN39: =IFERROR(GETPIVOTDATA("Ha Tot collecte",'[1]Feuil1 (2)'!$A$3,"Silo",BN$11,"Lib. variété",$A39),0) -> 0 | BP39: =BN39*BO39 -> 0 | BQ39: =IFERROR(GETPIVOTDATA("Ha Tot collecte",'[1]Feuil1 (2)'!$A$3,"Silo",BQ$11,"Lib. variété",$A39),0) -> 0 | BS39: =BQ39*BR39 -> 0 | BT39: =IFERROR(GETPIVOTDATA("Ha Tot collecte",'[1]Feuil1 (2)'!$A$3,"Silo",BT$11,"Lib. variété",$A39),0) -> 0 | BV39: =BT39*BU39 -> 0 | BW39: =IFERROR(GETPIVOTDATA("Ha Tot collecte",'[1]Feuil1 (2)'!$A$3,"Silo",BW$11,"Lib. variété",$A39),0) -> 0 | BY39: =BW39*BX39 -> 0 | BZ39: =IFERROR(GETPIVOTDATA("Ha Tot collecte",'[1]Feuil1 (2)'!$A$3,"Silo",BZ$11,"Lib. variété",$A39),0) -> 0 | CB39: =BZ39*CA39 -> 0 | CC39: =IFERROR(GETPIVOTDATA("Ha Tot collecte",'[1]Feuil1 (2)'!$A$3,"Silo",CC$11,"Lib. variété",$A39),0) -> 0 | CE39: =CC39*CD39 -> 0 | CF39: =IFERROR(GETPIVOTDATA("Ha Tot collecte",'[1]Feuil1 (2)'!$A$3,"Silo",CF$11,"Lib. variété",$A39),0) -> 0 | CH39: =CF39*CG39 -> 0 | CK39: =CI39*CJ39 -> 0 | CN39: =CL39*CM39 -> 0 | CQ39: =CO39*CP39 -> 0 | CT39: =CR39*CS39 -> 0 | CW39: =CU39*CV39 -> 0 | CZ39: =CX39*CY39 -> 0 | DC39: =DA39*DB39 -> 0 | DF39: =DD39*DE39 -> 0 | DI39: =DG39*DH39 -> 0 | DL39: =DJ39*DK39 -> 0 | DO39: =DM39*DN39 -> 0 | DR39: =DP39*DQ39 -> 0 | DU39: =DS39*DT39 -> 0 | DX39: =DV39*DW39 -> 0 | EA39: =DY39*DZ39 -> 0 | ED39: =EB39*EC39 -> 0 | EG39: =EE39*EF39 -> 0 | EJ39: =EH39*EI39 -> 0 | EM39: =EK39*EL39 -> 0 | EP39: =EN39*EO39 -> 0 | ES39: =EQ39*ER39 -> 0 | EV39: =ET39*EU39 -> 0 | EY39: =EW39*EX39 -> 0 | FB39: =EZ39*FA39 -> 0 | FE39: =FC39*FD39 -> 0 | FH39: =FF39*FG39 -> 0 | FK39: =FI39*FJ39 -> 0 | FN39: =FL39*FM39 -> 0 | FQ39: =FO39*FP39 -> 0 | FT39: =FR39*FS39 -> 0 | FW39: =FU39*FV39 -> 0 | FZ39: =FX39*FY39 -> 0 | GC39: =GA39*GB39 -> 0 | GF39: =GD39*GE39 -> 0 | GI39: =GG39*GH39 -> 0 | GL39: =GJ39*GK39 -> 0 | GO39: =GM39*GN39 -> 0 | GR39: =GP39*GQ39 -> 0 | GU39: =GS39*GT39 -> 0 | GX39: =GV39*GW39 -> 0 | HA39: =GY39*GZ39 -> 0 | HD39: =HB39*HC39 -> 0 | HG39: =HE39*HF39 -> 0 | HJ39: =HH39*HI39 -> 0 | HM39: =HK39*HL39 -> 0 | HP39: =HN39*HO39 -> 0 | HS39: =HQ39*HR39 -> 0 | HV39: =HT39*HU39 -> 0 | HY39: =HW39*HX39 -> 0 | IB39: =HZ39*IA39 -> 0 | IE39: =IC39*ID39 -> 0
A40: =Feuil3!B27 -> COLZA | B40: =F40+I40+L40+O40+R40+U40+X40+AA40+AD40+AG40+AJ40+AM40+AP40+AS40+AV40+AY40+BB40+BE40+BH40+BK40+BN40+BQ40+BT40+BW40+BZ40+CC40+CF40+CI40+CL40+CO40+CR40+CU40+CX40+DA40+DD40+DG40+DJ40+DM40+DP40+DS40+DV40+DY40+EB40+EE40+EH40+EK40+EN40+EQ40+ET40+EW40+EZ40+FC40+FF40+FI40+FL40+FO40+FR40+FU40+FX40+GA40+GD40+GG40+GJ40+GM40+GP40+GS40+GV40+GY40+HB40+HE40+HH40+HK40+HN40+HQ40+HT40+HW40+HZ40+IC40 -> 943.59 | C40: =IF(B40=0,"",D40/B40) -> 3.3 | D40: =H40+K40+N40+Q40+T40+W40+Z40+AC40+AF40+AI40+AL40+AO40+AR40+AU40+AX40+BA40+BD40+BG40+BJ40+BM40+BP40+BS40+BV40+BY40+CB40+CE40+CH40+CK40+CN40+CQ40+CT40+CW40+CZ40+DC40+DF40+DI40+DL40+DO40+DR40+DU40+DX40+EA40+ED40+EG40+EJ40+EM40+EP40+ES40+EV40+EY40+FB40+FE40+FH40+FK40+FN40+FQ40+FT40+FW40+FZ40+GC40+GF40+GI40+GL40+GO40+GR40+GU40+GX40+HA40+HD40+HG40+HJ40+HM40+HP40+HS40+HV40+HY40+IB40+IE40 -> 3113.847 | F40: =IFERROR(GETPIVOTDATA("Ha Tot collecte",'[1]Feuil1 (2)'!$A$3,"Silo",F$11,"Lib. variété",$A40),0) -> 0 | G40: 3.3 | H40: =F40*G40 -> 0 | I40: =IFERROR(GETPIVOTDATA("Ha Tot collecte",'[1]Feuil1 (2)'!$A$3,"Silo",I$11,"Lib. variété",$A40),0) -> 0 | J40: 3.3 | K40: =I40*J40 -> 0 | L40: =IFERROR(GETPIVOTDATA("Ha Tot collecte",'[1]Feuil1 (2)'!$A$3,"Silo",L$11,"Lib. variété",$A40),0) -> 9.13 | M40: 3.3 | N40: =L40*M40 -> 30.129 | O40: =IFERROR(GETPIVOTDATA("Ha Tot collecte",'[1]Feuil1 (2)'!$A$3,"Silo",O$11,"Lib. variété",$A40),0) -> 0 | P40: 3.3 | Q40: =O40*P40 -> 0 | R40: =IFERROR(GETPIVOTDATA("Ha Tot collecte",'[1]Feuil1 (2)'!$A$3,"Silo",R$11,"Lib. variété",$A40),0) -> 41.16 | S40: 3.3 | T40: =R40*S40 -> 135.828 | U40: =IFERROR(GETPIVOTDATA("Ha Tot collecte",'[1]Feuil1 (2)'!$A$3,"Silo",U$11,"Lib. variété",$A40),0) -> 74.8 | V40: 3.3 | W40: =U40*V40 -> 246.84 | X40: =IFERROR(GETPIVOTDATA("Ha Tot collecte",'[1]Feuil1 (2)'!$A$3,"Silo",X$11,"Lib. variété",$A40),0) -> 77.61 | Y40: 3.3 | Z40: =X40*Y40 -> 256.113 | AA40: =IFERROR(GETPIVOTDATA("Ha Tot collecte",'[1]Feuil1 (2)'!$A$3,"Silo",AA$11,"Lib. variété",$A40),0) -> 100.22 | AB40: 3.3 | AC40: =AA40*AB40 -> 330.726 | AD40: =IFERROR(GETPIVOTDATA("Ha Tot collecte",'[1]Feuil1 (2)'!$A$3,"Silo",AD$11,"Lib. variété",$A40),0) -> 44.77 | AE40: 3.3 | AF40: =AD40*AE40 -> 147.741 | AG40: =IFERROR(GETPIVOTDATA("Ha Tot collecte",'[1]Feuil1 (2)'!$A$3,"Silo",AG$11,"Lib. variété",$A40),0) -> 0 | AH40: 3.3 | AI40: =AG40*AH40 -> 0 | AJ40: =IFERROR(GETPIVOTDATA("Ha Tot collecte",'[1]Feuil1 (2)'!$A$3,"Silo",AJ$11,"Lib. variété",$A40),0) -> 0 | AK40: 3.3 | AL40: =AJ40*AK40 -> 0 | AM40: =IFERROR(GETPIVOTDATA("Ha Tot collecte",'[1]Feuil1 (2)'!$A$3,"Silo",AM$11,"Lib. variété",$A40),0) -> 52.35 | AN40: 3.3 | AO40: =AM40*AN40 -> 172.755 | AP40: =IFERROR(GETPIVOTDATA("Ha Tot collecte",'[1]Feuil1 (2)'!$A$3,"Silo",AP$11,"Lib. variété",$A40),0) -> 8.8 | AQ40: 3.3 | AR40: =AP40*AQ40 -> 29.04 | AS40: =IFERROR(GETPIVOTDATA("Ha Tot collecte",'[1]Feuil1 (2)'!$A$3,"Silo",AS$11,"Lib. variété",$A40),0) -> 0 | AT40: 3.3 | AU40: =AS40*AT40 -> 0 | AV40: =IFERROR(GETPIVOTDATA("Ha Tot collecte",'[1]Feuil1 (2)'!$A$3,"Silo",AV$11,"Lib. variété",$A40),0) -> 42.5 | AW40: 3.3 | AX40: =AV40*AW40 -> 140.25 | AY40: =IFERROR(GETPIVOTDATA("Ha Tot collecte",'[1]Feuil1 (2)'!$A$3,"Silo",AY$11,"Lib. variété",$A40),0) -> 0 | AZ40: 3.3 | BA40: =AY40*AZ40 -> 0 | BB40: =IFERROR(GETPIVOTDATA("Ha Tot collecte",'[1]Feuil1 (2)'!$A$3,"Silo",BB$11,"Lib. variété",$A40),0) -> 0 | BC40: 3.3 | BD40: =BB40*BC40 -> 0 | BE40: =IFERROR(GETPIVOTDATA("Ha Tot collecte",'[1]Feuil1 (2)'!$A$3,"Silo",BE$11,"Lib. variété",$A40),0) -> 94 | BF40: 3.3 | BG40: =BE40*BF40 -> 310.2 | BH40: =IFERROR(GETPIVOTDATA("Ha Tot collecte",'[1]Feuil1 (2)'!$A$3,"Silo",BH$11,"Lib. variété",$A40),0) -> 0 | BI40: 3.3 | BJ40: =BH40*BI40 -> 0 | BK40: =IFERROR(GETPIVOTDATA("Ha Tot collecte",'[1]Feuil1 (2)'!$A$3,"Silo",BK$11,"Lib. variété",$A40),0) -> 79.01 | BL40: 3.3 | BM40: =BK40*BL40 -> 260.733 | BN40: =IFERROR(GETPIVOTDATA("Ha Tot collecte",'[1]Feuil1 (2)'!$A$3,"Silo",BN$11,"Lib. variété",$A40),0) -> 46.04 | BO40: 3.3 | BP40: =BN40*BO40 -> 151.932 | BQ40: =IFERROR(GETPIVOTDATA("Ha Tot collecte",'[1]Feuil1 (2)'!$A$3,"Silo",BQ$11,"Lib. variété",$A40),0) -> 55.11 | BR40: 3.3 | BS40: =BQ40*BR40 -> 181.863 | BT40: =IFERROR(GETPIVOTDATA("Ha Tot collecte",'[1]Feuil1 (2)'!$A$3,"Silo",BT$11,"Lib. variété",$A40),0) -> 23.5 | BU40: 3.3 | BV40: =BT40*BU40 -> 77.55 | BW40: =IFERROR(GETPIVOTDATA("Ha Tot collecte",'[1]Feuil1 (2)'!$A$3,"Silo",BW$11,"Lib. variété",$A40),0) -> 9.68 | BX40: 3.3 | BY40: =BW40*BX40 -> 31.944 | BZ40: =IFERROR(GETPIVOTDATA("Ha Tot collecte",'[1]Feuil1 (2)'!$A$3,"Silo",BZ$11,"Lib. variété",$A40),0) -> 69.04 | CA40: 3.3 | CB40: =BZ40*CA40 -> 227.832 | CC40: =IFERROR(GETPIVOTDATA("Ha Tot collecte",'[1]Feuil1 (2)'!$A$3,"Silo",CC$11,"Lib. variété",$A40),0) -> 115.87 | CD40: 3.3 | CE40: =CC40*CD40 -> 382.371 | CF40: =IFERROR(GETPIVOTDATA("Ha Tot collecte",'[1]Feuil1 (2)'!$A$3,"Silo",CF$11,"Lib. variété",$A40),0) -> 0 | CG40: 3.3 | CH40: =CF40*CG40 -> 0 | CJ40: 3.3 | CK40: =CI40*CJ40 -> 0 | CM40: 3.3 | CN40: =CL40*CM40 -> 0 | CP40: 3.3 | CQ40: =CO40*CP40 -> 0 | CS40: 3.3 | CT40: =CR40*CS40 -> 0 | CV40: 3.3 | CW40: =CU40*CV40 -> 0 | CY40: 3.3 | CZ40: =CX40*CY40 -> 0 | DB40: 3.3 | DC40: =DA40*DB40 -> 0 | DE40: 3.3 | DF40: =DD40*DE40 -> 0 | DH40: 3.3 | DI40: =DG40*DH40 -> 0 | DK40: 3.3 | DL40: =DJ40*DK40 -> 0 | DN40: 3.3 | DO40: =DM40*DN40 -> 0 | DQ40: 3.3 | DR40: =DP40*DQ40 -> 0 | DT40: 3.3 | DU40: =DS40*DT40 -> 0 | DW40: 3.3 | DX40: =DV40*DW40 -> 0 | DZ40: 3.3 | EA40: =DY40*DZ40 -> 0 | EC40: 3.3 | ED40: =EB40*EC40 -> 0 | EF40: 3.3 | EG40: =EE40*EF40 -> 0 | EI40: 3.3 | EJ40: =EH40*EI40 -> 0 | EL40: 3.3 | EM40: =EK40*EL40 -> 0 | EO40: 3.3 | EP40: =EN40*EO40 -> 0 | ER40: 3.3 | ES40: =EQ40*ER40 -> 0 | EU40: 3.3 | EV40: =ET40*EU40 -> 0 | EX40: 3.3 | EY40: =EW40*EX40 -> 0 | FA40: 3.3 | FB40: =EZ40*FA40 -> 0 | FD40: 3.3 | FE40: =FC40*FD40 -> 0 | FG40: 3.3 | FH40: =FF40*FG40 -> 0 | FJ40: 3.3 | FK40: =FI40*FJ40 -> 0 | FM40: 3.3 | FN40: =FL40*FM40 -> 0 | FP40: 3.3 | FQ40: =FO40*FP40 -> 0 | FS40: 3.3 | FT40: =FR40*FS40 -> 0 | FV40: 3.3 | FW40: =FU40*FV40 -> 0 | FY40: 3.3 | FZ40: =FX40*FY40 -> 0 | GB40: 3.3 | GC40: =GA40*GB40 -> 0 | GE40: 3.3 | GF40: =GD40*GE40 -> 0 | GH40: 3.3 | GI40: =GG40*GH40 -> 0 | GK40: 3.3 | GL40: =GJ40*GK40 -> 0 | GN40: 3.3 | GO40: =GM40*GN40 -> 0 | GQ40: 3.3 | GR40: =GP40*GQ40 -> 0 | GT40: 3.3 | GU40: =GS40*GT40 -> 0 | GW40: 3.3 | GX40: =GV40*GW40 -> 0 | GZ40: 3.3 | HA40: =GY40*GZ40 -> 0 | HC40: 3.3 | HD40: =HB40*HC40 -> 0 | HF40: 3.3 | HG40: =HE40*HF40 -> 0 | HI40: 3.3 | HJ40: =HH40*HI40 -> 0 | HL40: 3.3 | HM40: =HK40*HL40 -> 0 | HO40: 3.3 | HP40: =HN40*HO40 -> 0 | HR40: 3.3 | HS40: =HQ40*HR40 -> 0 | HU40: 3.3 | HV40: =HT40*HU40 -> 0 | HX40: 3.3 | HY40: =HW40*HX40 -> 0 | IA40: 3.3 | IB40: =HZ40*IA40 -> 0 | ID40: 3.3 | IE40: =IC40*ID40 -> 0
A41: =Feuil3!B28 -> 0 | B41: =F41+I41+L41+O41+R41+U41+X41+AA41+AD41+AG41+AJ41+AM41+AP41+AS41+AV41+AY41+BB41+BE41+BH41+BK41+BN41+BQ41+BT41+BW41+BZ41+CC41+CF41+CI41+CL41+CO41+CR41+CU41+CX41+DA41+DD41+DG41+DJ41+DM41+DP41+DS41+DV41+DY41+EB41+EE41+EH41+EK41+EN41+EQ41+ET41+EW41+EZ41+FC41+FF41+FI41+FL41+FO41+FR41+FU41+FX41+GA41+GD41+GG41+GJ41+GM41+GP41+GS41+GV41+GY41+HB41+HE41+HH41+HK41+HN41+HQ41+HT41+HW41+HZ41+IC41 -> 0 | C41: =IF(B41=0,"",D41/B41) | D41: =H41+K41+N41+Q41+T41+W41+Z41+AC41+AF41+AI41+AL41+AO41+AR41+AU41+AX41+BA41+BD41+BG41+BJ41+BM41+BP41+BS41+BV41+BY41+CB41+CE41+CH41+CK41+CN41+CQ41+CT41+CW41+CZ41+DC41+DF41+DI41+DL41+DO41+DR41+DU41+DX41+EA41+ED41+EG41+EJ41+EM41+EP41+ES41+EV41+EY41+FB41+FE41+FH41+FK41+FN41+FQ41+FT41+FW41+FZ41+GC41+GF41+GI41+GL41+GO41+GR41+GU41+GX41+HA41+HD41+HG41+HJ41+HM41+HP41+HS41+HV41+HY41+IB41+IE41 -> 0 | F41: =IFERROR(GETPIVOTDATA("Ha Tot collecte",'[1]Feuil1 (2)'!$A$3,"Silo",F$11,"Lib. variété",$A41),0) -> 0 | H41: =F41*G41 -> 0 | I41: =IFERROR(GETPIVOTDATA("Ha Tot collecte",'[1]Feuil1 (2)'!$A$3,"Silo",I$11,"Lib. variété",$A41),0) -> 0 | K41: =I41*J41 -> 0 | L41: =IFERROR(GETPIVOTDATA("Ha Tot collecte",'[1]Feuil1 (2)'!$A$3,"Silo",L$11,"Lib. variété",$A41),0) -> 0 | N41: =L41*M41 -> 0 | O41: =IFERROR(GETPIVOTDATA("Ha Tot collecte",'[1]Feuil1 (2)'!$A$3,"Silo",O$11,"Lib. variété",$A41),0) -> 0 | Q41: =O41*P41 -> 0 | R41: =IFERROR(GETPIVOTDATA("Ha Tot collecte",'[1]Feuil1 (2)'!$A$3,"Silo",R$11,"Lib. variété",$A41),0) -> 0 | T41: =R41*S41 -> 0 | U41: =IFERROR(GETPIVOTDATA("Ha Tot collecte",'[1]Feuil1 (2)'!$A$3,"Silo",U$11,"Lib. variété",$A41),0) -> 0 | W41: =U41*V41 -> 0 | X41: =IFERROR(GETPIVOTDATA("Ha Tot collecte",'[1]Feuil1 (2)'!$A$3,"Silo",X$11,"Lib. variété",$A41),0) -> 0 | Z41: =X41*Y41 -> 0 | AA41: =IFERROR(GETPIVOTDATA("Ha Tot collecte",'[1]Feuil1 (2)'!$A$3,"Silo",AA$11,"Lib. variété",$A41),0) -> 0 | AC41: =AA41*AB41 -> 0 | AD41: =IFERROR(GETPIVOTDATA("Ha Tot collecte",'[1]Feuil1 (2)'!$A$3,"Silo",AD$11,"Lib. variété",$A41),0) -> 0 | AF41: =AD41*AE41 -> 0 | AG41: =IFERROR(GETPIVOTDATA("Ha Tot collecte",'[1]Feuil1 (2)'!$A$3,"Silo",AG$11,"Lib. variété",$A41),0) -> 0 | AI41: =AG41*AH41 -> 0 | AJ41: =IFERROR(GETPIVOTDATA("Ha Tot collecte",'[1]Feuil1 (2)'!$A$3,"Silo",AJ$11,"Lib. variété",$A41),0) -> 0 | AL41: =AJ41*AK41 -> 0 | AM41: =IFERROR(GETPIVOTDATA("Ha Tot collecte",'[1]Feuil1 (2)'!$A$3,"Silo",AM$11,"Lib. variété",$A41),0) -> 0 | AO41: =AM41*AN41 -> 0 | AP41: =IFERROR(GETPIVOTDATA("Ha Tot collecte",'[1]Feuil1 (2)'!$A$3,"Silo",AP$11,"Lib. variété",$A41),0) -> 0 | AR41: =AP41*AQ41 -> 0 | AS41: =IFERROR(GETPIVOTDATA("Ha Tot collecte",'[1]Feuil1 (2)'!$A$3,"Silo",AS$11,"Lib. variété",$A41),0) -> 0 | AU41: =AS41*AT41 -> 0 | AV41: =IFERROR(GETPIVOTDATA("Ha Tot collecte",'[1]Feuil1 (2)'!$A$3,"Silo",AV$11,"Lib. variété",$A41),0) -> 0 | AX41: =AV41*AW41 -> 0 | AY41: =IFERROR(GETPIVOTDATA("Ha Tot collecte",'[1]Feuil1 (2)'!$A$3,"Silo",AY$11,"Lib. variété",$A41),0) -> 0 | BA41: =AY41*AZ41 -> 0 | BB41: =IFERROR(GETPIVOTDATA("Ha Tot collecte",'[1]Feuil1 (2)'!$A$3,"Silo",BB$11,"Lib. variété",$A41),0) -> 0 | BD41: =BB41*BC41 -> 0 | BE41: =IFERROR(GETPIVOTDATA("Ha Tot collecte",'[1]Feuil1 (2)'!$A$3,"Silo",BE$11,"Lib. variété",$A41),0) -> 0 | BG41: =BE41*BF41 -> 0 | BH41: =IFERROR(GETPIVOTDATA("Ha Tot collecte",'[1]Feuil1 (2)'!$A$3,"Silo",BH$11,"Lib. variété",$A41),0) -> 0 | BJ41: =BH41*BI41 -> 0 | BK41: =IFERROR(GETPIVOTDATA("Ha Tot collecte",'[1]Feuil1 (2)'!$A$3,"Silo",BK$11,"Lib. variété",$A41),0) -> 0 | BM41: =BK41*BL41 -> 0 | BN41: =IFERROR(GETPIVOTDATA("Ha Tot collecte",'[1]Feuil1 (2)'!$A$3,"Silo",BN$11,"Lib. variété",$A41),0) -> 0 | BP41: =BN41*BO41 -> 0 | BQ41: =IFERROR(GETPIVOTDATA("Ha Tot collecte",'[1]Feuil1 (2)'!$A$3,"Silo",BQ$11,"Lib. variété",$A41),0) -> 0 | BS41: =BQ41*BR41 -> 0 | BT41: =IFERROR(GETPIVOTDATA("Ha Tot collecte",'[1]Feuil1 (2)'!$A$3,"Silo",BT$11,"Lib. variété",$A41),0) -> 0 | BV41: =BT41*BU41 -> 0 | BW41: =IFERROR(GETPIVOTDATA("Ha Tot collecte",'[1]Feuil1 (2)'!$A$3,"Silo",BW$11,"Lib. variété",$A41),0) -> 0 | BY41: =BW41*BX41 -> 0 | BZ41: =IFERROR(GETPIVOTDATA("Ha Tot collecte",'[1]Feuil1 (2)'!$A$3,"Silo",BZ$11,"Lib. variété",$A41),0) -> 0 | CB41: =BZ41*CA41 -> 0 | CC41: =IFERROR(GETPIVOTDATA("Ha Tot collecte",'[1]Feuil1 (2)'!$A$3,"Silo",CC$11,"Lib. variété",$A41),0) -> 0 | CE41: =CC41*CD41 -> 0 | CF41: =IFERROR(GETPIVOTDATA("Ha Tot collecte",'[1]Feuil1 (2)'!$A$3,"Silo",CF$11,"Lib. variété",$A41),0) -> 0 | CH41: =CF41*CG41 -> 0 | CK41: =CI41*CJ41 -> 0 | CN41: =CL41*CM41 -> 0 | CQ41: =CO41*CP41 -> 0 | CT41: =CR41*CS41 -> 0 | CW41: =CU41*CV41 -> 0 | CZ41: =CX41*CY41 -> 0 | DC41: =DA41*DB41 -> 0 | DF41: =DD41*DE41 -> 0 | DI41: =DG41*DH41 -> 0 | DL41: =DJ41*DK41 -> 0 | DO41: =DM41*DN41 -> 0 | DR41: =DP41*DQ41 -> 0 | DU41: =DS41*DT41 -> 0 | DX41: =DV41*DW41 -> 0 | EA41: =DY41*DZ41 -> 0 | ED41: =EB41*EC41 -> 0 | EG41: =EE41*EF41 -> 0 | EJ41: =EH41*EI41 -> 0 | EM41: =EK41*EL41 -> 0 | EP41: =EN41*EO41 -> 0 | ES41: =EQ41*ER41 -> 0 | EV41: =ET41*EU41 -> 0 | EY41: =EW41*EX41 -> 0 | FB41: =EZ41*FA41 -> 0 | FE41: =FC41*FD41 -> 0 | FH41: =FF41*FG41 -> 0 | FK41: =FI41*FJ41 -> 0 | FN41: =FL41*FM41 -> 0 | FQ41: =FO41*FP41 -> 0 | FT41: =FR41*FS41 -> 0 | FW41: =FU41*FV41 -> 0 | FZ41: =FX41*FY41 -> 0 | GC41: =GA41*GB41 -> 0 | GF41: =GD41*GE41 -> 0 | GI41: =GG41*GH41 -> 0 | GL41: =GJ41*GK41 -> 0 | GO41: =GM41*GN41 -> 0 | GR41: =GP41*GQ41 -> 0 | GU41: =GS41*GT41 -> 0 | GX41: =GV41*GW41 -> 0 | HA41: =GY41*GZ41 -> 0 | HD41: =HB41*HC41 -> 0 | HG41: =HE41*HF41 -> 0 | HJ41: =HH41*HI41 -> 0 | HM41: =HK41*HL41 -> 0 | HP41: =HN41*HO41 -> 0 | HS41: =HQ41*HR41 -> 0 | HV41: =HT41*HU41 -> 0 | HY41: =HW41*HX41 -> 0 | IB41: =HZ41*IA41 -> 0 | IE41: =IC41*ID41 -> 0
A42: =Feuil3!B29 -> FEVEROLE | B42: =F42+I42+L42+O42+R42+U42+X42+AA42+AD42+AG42+AJ42+AM42+AP42+AS42+AV42+AY42+BB42+BE42+BH42+BK42+BN42+BQ42+BT42+BW42+BZ42+CC42+CF42+CI42+CL42+CO42+CR42+CU42+CX42+DA42+DD42+DG42+DJ42+DM42+DP42+DS42+DV42+DY42+EB42+EE42+EH42+EK42+EN42+EQ42+ET42+EW42+EZ42+FC42+FF42+FI42+FL42+FO42+FR42+FU42+FX42+GA42+GD42+GG42+GJ42+GM42+GP42+GS42+GV42+GY42+HB42+HE42+HH42+HK42+HN42+HQ42+HT42+HW42+HZ42+IC42 -> 0 | C42: =IF(B42=0,"",D42/B42) | D42: =H42+K42+N42+Q42+T42+W42+Z42+AC42+AF42+AI42+AL42+AO42+AR42+AU42+AX42+BA42+BD42+BG42+BJ42+BM42+BP42+BS42+BV42+BY42+CB42+CE42+CH42+CK42+CN42+CQ42+CT42+CW42+CZ42+DC42+DF42+DI42+DL42+DO42+DR42+DU42+DX42+EA42+ED42+EG42+EJ42+EM42+EP42+ES42+EV42+EY42+FB42+FE42+FH42+FK42+FN42+FQ42+FT42+FW42+FZ42+GC42+GF42+GI42+GL42+GO42+GR42+GU42+GX42+HA42+HD42+HG42+HJ42+HM42+HP42+HS42+HV42+HY42+IB42+IE42 -> 0 | F42: =IFERROR(GETPIVOTDATA("Ha Tot collecte",'[1]Feuil1 (2)'!$A$3,"Silo",F$11,"Lib. variété",$A42),0) -> 0 | G42: 4.5 | H42: =F42*G42 -> 0 | I42: =IFERROR(GETPIVOTDATA("Ha Tot collecte",'[1]Feuil1 (2)'!$A$3,"Silo",I$11,"Lib. variété",$A42),0) -> 0 | J42: 4.5 | K42: =I42*J42 -> 0 | L42: =IFERROR(GETPIVOTDATA("Ha Tot collecte",'[1]Feuil1 (2)'!$A$3,"Silo",L$11,"Lib. variété",$A42),0) -> 0 | M42: 4.5 | N42: =L42*M42 -> 0 | O42: =IFERROR(GETPIVOTDATA("Ha Tot collecte",'[1]Feuil1 (2)'!$A$3,"Silo",O$11,"Lib. variété",$A42),0) -> 0 | P42: 4.5 | Q42: =O42*P42 -> 0 | R42: =IFERROR(GETPIVOTDATA("Ha Tot collecte",'[1]Feuil1 (2)'!$A$3,"Silo",R$11,"Lib. variété",$A42),0) -> 0 | S42: 4.5 | T42: =R42*S42 -> 0 | U42: =IFERROR(GETPIVOTDATA("Ha Tot collecte",'[1]Feuil1 (2)'!$A$3,"Silo",U$11,"Lib. variété",$A42),0) -> 0 | V42: 4.5 | W42: =U42*V42 -> 0 | X42: =IFERROR(GETPIVOTDATA("Ha Tot collecte",'[1]Feuil1 (2)'!$A$3,"Silo",X$11,"Lib. variété",$A42),0) -> 0 | Y42: 4.5 | Z42: =X42*Y42 -> 0 | AA42: =IFERROR(GETPIVOTDATA("Ha Tot collecte",'[1]Feuil1 (2)'!$A$3,"Silo",AA$11,"Lib. variété",$A42),0) -> 0 | AB42: 4.5 | AC42: =AA42*AB42 -> 0 | AD42: =IFERROR(GETPIVOTDATA("Ha Tot collecte",'[1]Feuil1 (2)'!$A$3,"Silo",AD$11,"Lib. variété",$A42),0) -> 0 | AE42: 4.5 | AF42: =AD42*AE42 -> 0 | AG42: =IFERROR(GETPIVOTDATA("Ha Tot collecte",'[1]Feuil1 (2)'!$A$3,"Silo",AG$11,"Lib. variété",$A42),0) -> 0 | AH42: 4.5 | AI42: =AG42*AH42 -> 0 | AJ42: =IFERROR(GETPIVOTDATA("Ha Tot collecte",'[1]Feuil1 (2)'!$A$3,"Silo",AJ$11,"Lib. variété",$A42),0) -> 0 | AK42: 4.5 | AL42: =AJ42*AK42 -> 0 | AM42: =IFERROR(GETPIVOTDATA("Ha Tot collecte",'[1]Feuil1 (2)'!$A$3,"Silo",AM$11,"Lib. variété",$A42),0) -> 0 | AN42: 4.5 | AO42: =AM42*AN42 -> 0 | AP42: =IFERROR(GETPIVOTDATA("Ha Tot collecte",'[1]Feuil1 (2)'!$A$3,"Silo",AP$11,"Lib. variété",$A42),0) -> 0 | AQ42: 4.5 | AR42: =AP42*AQ42 -> 0 | AS42: =IFERROR(GETPIVOTDATA("Ha Tot collecte",'[1]Feuil1 (2)'!$A$3,"Silo",AS$11,"Lib. variété",$A42),0) -> 0 | AT42: 4.5 | AU42: =AS42*AT42 -> 0 | AV42: =IFERROR(GETPIVOTDATA("Ha Tot collecte",'[1]Feuil1 (2)'!$A$3,"Silo",AV$11,"Lib. variété",$A42),0) -> 0 | AW42: 4.5 | AX42: =AV42*AW42 -> 0 | AY42: =IFERROR(GETPIVOTDATA("Ha Tot collecte",'[1]Feuil1 (2)'!$A$3,"Silo",AY$11,"Lib. variété",$A42),0) -> 0 | AZ42: 4.5 | BA42: =AY42*AZ42 -> 0 | BB42: =IFERROR(GETPIVOTDATA("Ha Tot collecte",'[1]Feuil1 (2)'!$A$3,"Silo",BB$11,"Lib. variété",$A42),0) -> 0 | BC42: 4.5 | BD42: =BB42*BC42 -> 0 | BE42: =IFERROR(GETPIVOTDATA("Ha Tot collecte",'[1]Feuil1 (2)'!$A$3,"Silo",BE$11,"Lib. variété",$A42),0) -> 0 | BF42: 4.5 | BG42: =BE42*BF42 -> 0 | BH42: =IFERROR(GETPIVOTDATA("Ha Tot collecte",'[1]Feuil1 (2)'!$A$3,"Silo",BH$11,"Lib. variété",$A42),0) -> 0 | BI42: 4.5 | BJ42: =BH42*BI42 -> 0 | BK42: =IFERROR(GETPIVOTDATA("Ha Tot collecte",'[1]Feuil1 (2)'!$A$3,"Silo",BK$11,"Lib. variété",$A42),0) -> 0 | BL42: 4.5 | BM42: =BK42*BL42 -> 0 | BN42: =IFERROR(GETPIVOTDATA("Ha Tot collecte",'[1]Feuil1 (2)'!$A$3,"Silo",BN$11,"Lib. variété",$A42),0) -> 0 | BO42: 4.5 | BP42: =BN42*BO42 -> 0 | BQ42: =IFERROR(GETPIVOTDATA("Ha Tot collecte",'[1]Feuil1 (2)'!$A$3,"Silo",BQ$11,"Lib. variété",$A42),0) -> 0 | BR42: 4.5 | BS42: =BQ42*BR42 -> 0 | BT42: =IFERROR(GETPIVOTDATA("Ha Tot collecte",'[1]Feuil1 (2)'!$A$3,"Silo",BT$11,"Lib. variété",$A42),0) -> 0 | BU42: 4.5 | BV42: =BT42*BU42 -> 0 | BW42: =IFERROR(GETPIVOTDATA("Ha Tot collecte",'[1]Feuil1 (2)'!$A$3,"Silo",BW$11,"Lib. variété",$A42),0) -> 0 | BX42: 4.5 | BY42: =BW42*BX42 -> 0 | BZ42: =IFERROR(GETPIVOTDATA("Ha Tot collecte",'[1]Feuil1 (2)'!$A$3,"Silo",BZ$11,"Lib. variété",$A42),0) -> 0 | CA42: 4.5 | CB42: =BZ42*CA42 -> 0 | CC42: =IFERROR(GETPIVOTDATA("Ha Tot collecte",'[1]Feuil1 (2)'!$A$3,"Silo",CC$11,"Lib. variété",$A42),0) -> 0 | CD42: 4.5 | CE42: =CC42*CD42 -> 0 | CF42: =IFERROR(GETPIVOTDATA("Ha Tot collecte",'[1]Feuil1 (2)'!$A$3,"Silo",CF$11,"Lib. variété",$A42),0) -> 0 | CG42: 4.5 | CH42: =CF42*CG42 -> 0 | CJ42: 4.5 | CK42: =CI42*CJ42 -> 0 | CM42: 4.5 | CN42: =CL42*CM42 -> 0 | CP42: 4.5 | CQ42: =CO42*CP42 -> 0 | CS42: 4.5 | CT42: =CR42*CS42 -> 0 | CV42: 4.5 | CW42: =CU42*CV42 -> 0 | CY42: 4.5 | CZ42: =CX42*CY42 -> 0 | DB42: 4.5 | DC42: =DA42*DB42 -> 0 | DE42: 4.5 | DF42: =DD42*DE42 -> 0 | DH42: 4.5 | DI42: =DG42*DH42 -> 0 | DK42: 4.5 | DL42: =DJ42*DK42 -> 0 | DN42: 4.5 | DO42: =DM42*DN42 -> 0 | DQ42: 4.5 | DR42: =DP42*DQ42 -> 0 | DT42: 4.5 | DU42: =DS42*DT42 -> 0 | DW42: 4.5 | DX42: =DV42*DW42 -> 0 | DZ42: 4.5 | EA42: =DY42*DZ42 -> 0 | EC42: 4.5 | ED42: =EB42*EC42 -> 0 | EF42: 4.5 | EG42: =EE42*EF42 -> 0 | EI42: 4.5 | EJ42: =EH42*EI42 -> 0 | EL42: 4.5 | EM42: =EK42*EL42 -> 0 | EO42: 4.5 | EP42: =EN42*EO42 -> 0 | ER42: 4.5 | ES42: =EQ42*ER42 -> 0 | EU42: 4.5 | EV42: =ET42*EU42 -> 0 | EX42: 4.5 | EY42: =EW42*EX42 -> 0 | FA42: 4.5 | FB42: =EZ42*FA42 -> 0 | FD42: 4.5 | FE42: =FC42*FD42 -> 0 | FG42: 4.5 | FH42: =FF42*FG42 -> 0 | FJ42: 4.5 | FK42: =FI42*FJ42 -> 0 | FM42: 4.5 | FN42: =FL42*FM42 -> 0 | FP42: 4.5 | FQ42: =FO42*FP42 -> 0 | FS42: 4.5 | FT42: =FR42*FS42 -> 0 | FV42: 4.5 | FW42: =FU42*FV42 -> 0 | FY42: 4.5 | FZ42: =FX42*FY42 -> 0 | GB42: 4.5 | GC42: =GA42*GB42 -> 0 | GE42: 4.5 | GF42: =GD42*GE42 -> 0 | GH42: 4.5 | GI42: =GG42*GH42 -> 0 | GK42: 4.5 | GL42: =GJ42*GK42 -> 0 | GN42: 4.5 | GO42: =GM42*GN42 -> 0 | GQ42: 4.5 | GR42: =GP42*GQ42 -> 0 | GT42: 4.5 | GU42: =GS42*GT42 -> 0 | GW42: 4.5 | GX42: =GV42*GW42 -> 0 | GZ42: 4.5 | HA42: =GY42*GZ42 -> 0 | HC42: 4.5 | HD42: =HB42*HC42 -> 0 | HF42: 4.5 | HG42: =HE42*HF42 -> 0 | HI42: 4.5 | HJ42: =HH42*HI42 -> 0 | HL42: 4.5 | HM42: =HK42*HL42 -> 0 | HO42: 4.5 | HP42: =HN42*HO42 -> 0 | HR42: 4.5 | HS42: =HQ42*HR42 -> 0 | HU42: 4.5 | HV42: =HT42*HU42 -> 0 | HX42: 4.5 | HY42: =HW42*HX42 -> 0 | IA42: 4.5 | IB42: =HZ42*IA42 -> 0 | ID42: 4.5 | IE42: =IC42*ID42 -> 0
A43: =Feuil3!B30 -> LUPIN | B43: =F43+I43+L43+O43+R43+U43+X43+AA43+AD43+AG43+AJ43+AM43+AP43+AS43+AV43+AY43+BB43+BE43+BH43+BK43+BN43+BQ43+BT43+BW43+BZ43+CC43+CF43+CI43+CL43+CO43+CR43+CU43+CX43+DA43+DD43+DG43+DJ43+DM43+DP43+DS43+DV43+DY43+EB43+EE43+EH43+EK43+EN43+EQ43+ET43+EW43+EZ43+FC43+FF43+FI43+FL43+FO43+FR43+FU43+FX43+GA43+GD43+GG43+GJ43+GM43+GP43+GS43+GV43+GY43+HB43+HE43+HH43+HK43+HN43+HQ43+HT43+HW43+HZ43+IC43 -> 0 | C43: =IF(B43=0,"",D43/B43) | D43: =H43+K43+N43+Q43+T43+W43+Z43+AC43+AF43+AI43+AL43+AO43+AR43+AU43+AX43+BA43+BD43+BG43+BJ43+BM43+BP43+BS43+BV43+BY43+CB43+CE43+CH43+CK43+CN43+CQ43+CT43+CW43+CZ43+DC43+DF43+DI43+DL43+DO43+DR43+DU43+DX43+EA43+ED43+EG43+EJ43+EM43+EP43+ES43+EV43+EY43+FB43+FE43+FH43+FK43+FN43+FQ43+FT43+FW43+FZ43+GC43+GF43+GI43+GL43+GO43+GR43+GU43+GX43+HA43+HD43+HG43+HJ43+HM43+HP43+HS43+HV43+HY43+IB43+IE43 -> 0 | F43: =IFERROR(GETPIVOTDATA("Ha Tot collecte",'[1]Feuil1 (2)'!$A$3,"Silo",F$11,"Lib. variété",$A43),0) -> 0 | G43: 2.5 | H43: =F43*G43 -> 0 | I43: =IFERROR(GETPIVOTDATA("Ha Tot collecte",'[1]Feuil1 (2)'!$A$3,"Silo",I$11,"Lib. variété",$A43),0) -> 0 | J43: 2.5 | K43: =I43*J43 -> 0 | L43: =IFERROR(GETPIVOTDATA("Ha Tot collecte",'[1]Feuil1 (2)'!$A$3,"Silo",L$11,"Lib. variété",$A43),0) -> 0 | M43: 2.5 | N43: =L43*M43 -> 0 | O43: =IFERROR(GETPIVOTDATA("Ha Tot collecte",'[1]Feuil1 (2)'!$A$3,"Silo",O$11,"Lib. variété",$A43),0) -> 0 | P43: 2.5 | Q43: =O43*P43 -> 0 | R43: =IFERROR(GETPIVOTDATA("Ha Tot collecte",'[1]Feuil1 (2)'!$A$3,"Silo",R$11,"Lib. variété",$A43),0) -> 0 | S43: 2.5 | T43: =R43*S43 -> 0 | U43: =IFERROR(GETPIVOTDATA("Ha Tot collecte",'[1]Feuil1 (2)'!$A$3,"Silo",U$11,"Lib. variété",$A43),0) -> 0 | V43: 2.5 | W43: =U43*V43 -> 0 | X43: =IFERROR(GETPIVOTDATA("Ha Tot collecte",'[1]Feuil1 (2)'!$A$3,"Silo",X$11,"Lib. variété",$A43),0) -> 0 | Y43: 2.5 | Z43: =X43*Y43 -> 0 | AA43: =IFERROR(GETPIVOTDATA("Ha Tot collecte",'[1]Feuil1 (2)'!$A$3,"Silo",AA$11,"Lib. variété",$A43),0) -> 0 | AB43: 2.5 | AC43: =AA43*AB43 -> 0 | AD43: =IFERROR(GETPIVOTDATA("Ha Tot collecte",'[1]Feuil1 (2)'!$A$3,"Silo",AD$11,"Lib. variété",$A43),0) -> 0 | AE43: 2.5 | AF43: =AD43*AE43 -> 0 | AG43: =IFERROR(GETPIVOTDATA("Ha Tot collecte",'[1]Feuil1 (2)'!$A$3,"Silo",AG$11,"Lib. variété",$A43),0) -> 0 | AH43: 2.5 | AI43: =AG43*AH43 -> 0 | AJ43: =IFERROR(GETPIVOTDATA("Ha Tot collecte",'[1]Feuil1 (2)'!$A$3,"Silo",AJ$11,"Lib. variété",$A43),0) -> 0 | AK43: 2.5 | AL43: =AJ43*AK43 -> 0 | AM43: =IFERROR(GETPIVOTDATA("Ha Tot collecte",'[1]Feuil1 (2)'!$A$3,"Silo",AM$11,"Lib. variété",$A43),0) -> 0 | AN43: 2.5 | AO43: =AM43*AN43 -> 0 | AP43: =IFERROR(GETPIVOTDATA("Ha Tot collecte",'[1]Feuil1 (2)'!$A$3,"Silo",AP$11,"Lib. variété",$A43),0) -> 0 | AQ43: 2.5 | AR43: =AP43*AQ43 -> 0 | AS43: =IFERROR(GETPIVOTDATA("Ha Tot collecte",'[1]Feuil1 (2)'!$A$3,"Silo",AS$11,"Lib. variété",$A43),0) -> 0 | AT43: 2.5 | AU43: =AS43*AT43 -> 0 | AV43: =IFERROR(GETPIVOTDATA("Ha Tot collecte",'[1]Feuil1 (2)'!$A$3,"Silo",AV$11,"Lib. variété",$A43),0) -> 0 | AW43: 2.5 | AX43: =AV43*AW43 -> 0 | AY43: =IFERROR(GETPIVOTDATA("Ha Tot collecte",'[1]Feuil1 (2)'!$A$3,"Silo",AY$11,"Lib. variété",$A43),0) -> 0 | AZ43: 2.5 | BA43: =AY43*AZ43 -> 0 | BB43: =IFERROR(GETPIVOTDATA("Ha Tot collecte",'[1]Feuil1 (2)'!$A$3,"Silo",BB$11,"Lib. variété",$A43),0) -> 0 | BC43: 2.5 | BD43: =BB43*BC43 -> 0 | BE43: =IFERROR(GETPIVOTDATA("Ha Tot collecte",'[1]Feuil1 (2)'!$A$3,"Silo",BE$11,"Lib. variété",$A43),0) -> 0 | BF43: 2.5 | BG43: =BE43*BF43 -> 0 | BH43: =IFERROR(GETPIVOTDATA("Ha Tot collecte",'[1]Feuil1 (2)'!$A$3,"Silo",BH$11,"Lib. variété",$A43),0) -> 0 | BI43: 2.5 | BJ43: =BH43*BI43 -> 0 | BK43: =IFERROR(GETPIVOTDATA("Ha Tot collecte",'[1]Feuil1 (2)'!$A$3,"Silo",BK$11,"Lib. variété",$A43),0) -> 0 | BL43: 2.5 | BM43: =BK43*BL43 -> 0 | BN43: =IFERROR(GETPIVOTDATA("Ha Tot collecte",'[1]Feuil1 (2)'!$A$3,"Silo",BN$11,"Lib. variété",$A43),0) -> 0 | BO43: 2.5 | BP43: =BN43*BO43 -> 0 | BQ43: =IFERROR(GETPIVOTDATA("Ha Tot collecte",'[1]Feuil1 (2)'!$A$3,"Silo",BQ$11,"Lib. variété",$A43),0) -> 0 | BR43: 2.5 | BS43: =BQ43*BR43 -> 0 | BT43: =IFERROR(GETPIVOTDATA("Ha Tot collecte",'[1]Feuil1 (2)'!$A$3,"Silo",BT$11,"Lib. variété",$A43),0) -> 0 | BU43: 2.5 | BV43: =BT43*BU43 -> 0 | BW43: =IFERROR(GETPIVOTDATA("Ha Tot collecte",'[1]Feuil1 (2)'!$A$3,"Silo",BW$11,"Lib. variété",$A43),0) -> 0 | BX43: 2.5 | BY43: =BW43*BX43 -> 0 | BZ43: =IFERROR(GETPIVOTDATA("Ha Tot collecte",'[1]Feuil1 (2)'!$A$3,"Silo",BZ$11,"Lib. variété",$A43),0) -> 0 | CA43: 2.5 | CB43: =BZ43*CA43 -> 0 | CC43: =IFERROR(GETPIVOTDATA("Ha Tot collecte",'[1]Feuil1 (2)'!$A$3,"Silo",CC$11,"Lib. variété",$A43),0) -> 0 | CD43: 2.5 | CE43: =CC43*CD43 -> 0 | CF43: =IFERROR(GETPIVOTDATA("Ha Tot collecte",'[1]Feuil1 (2)'!$A$3,"Silo",CF$11,"Lib. variété",$A43),0) -> 0 | CG43: 2.5 | CH43: =CF43*CG43 -> 0 | CJ43: 2.5 | CK43: =CI43*CJ43 -> 0 | CM43: 2.5 | CN43: =CL43*CM43 -> 0 | CP43: 2.5 | CQ43: =CO43*CP43 -> 0 | CS43: 2.5 | CT43: =CR43*CS43 -> 0 | CV43: 2.5 | CW43: =CU43*CV43 -> 0 | CY43: 2.5 | CZ43: =CX43*CY43 -> 0 | DB43: 2.5 | DC43: =DA43*DB43 -> 0 | DE43: 2.5 | DF43: =DD43*DE43 -> 0 | DH43: 2.5 | DI43: =DG43*DH43 -> 0 | DK43: 2.5 | DL43: =DJ43*DK43 -> 0 | DN43: 2.5 | DO43: =DM43*DN43 -> 0 | DQ43: 2.5 | DR43: =DP43*DQ43 -> 0 | DT43: 2.5 | DU43: =DS43*DT43 -> 0 | DW43: 2.5 | DX43: =DV43*DW43 -> 0 | DZ43: 2.5 | EA43: =DY43*DZ43 -> 0 | EC43: 2.5 | ED43: =EB43*EC43 -> 0 | EF43: 2.5 | EG43: =EE43*EF43 -> 0 | EI43: 2.5 | EJ43: =EH43*EI43 -> 0 | EL43: 2.5 | EM43: =EK43*EL43 -> 0 | EO43: 2.5 | EP43: =EN43*EO43 -> 0 | ER43: 2.5 | ES43: =EQ43*ER43 -> 0 | EU43: 2.5 | EV43: =ET43*EU43 -> 0 | EX43: 2.5 | EY43: =EW43*EX43 -> 0 | FA43: 2.5 | FB43: =EZ43*FA43 -> 0 | FD43: 2.5 | FE43: =FC43*FD43 -> 0 | FG43: 2.5 | FH43: =FF43*FG43 -> 0 | FJ43: 2.5 | FK43: =FI43*FJ43 -> 0 | FM43: 2.5 | FN43: =FL43*FM43 -> 0 | FP43: 2.5 | FQ43: =FO43*FP43 -> 0 | FS43: 2.5 | FT43: =FR43*FS43 -> 0 | FV43: 2.5 | FW43: =FU43*FV43 -> 0 | FY43: 2.5 | FZ43: =FX43*FY43 -> 0 | GB43: 2.5 | GC43: =GA43*GB43 -> 0 | GE43: 2.5 | GF43: =GD43*GE43 -> 0 | GH43: 2.5 | GI43: =GG43*GH43 -> 0 | GK43: 2.5 | GL43: =GJ43*GK43 -> 0 | GN43: 2.5 | GO43: =GM43*GN43 -> 0 | GQ43: 2.5 | GR43: =GP43*GQ43 -> 0 | GT43: 2.5 | GU43: =GS43*GT43 -> 0 | GW43: 2.5 | GX43: =GV43*GW43 -> 0 | GZ43: 2.5 | HA43: =GY43*GZ43 -> 0 | HC43: 2.5 | HD43: =HB43*HC43 -> 0 | HF43: 2.5 | HG43: =HE43*HF43 -> 0 | HI43: 2.5 | HJ43: =HH43*HI43 -> 0 | HL43: 2.5 | HM43: =HK43*HL43 -> 0 | HO43: 2.5 | HP43: =HN43*HO43 -> 0 | HR43: 2.5 | HS43: =HQ43*HR43 -> 0 | HU43: 2.5 | HV43: =HT43*HU43 -> 0 | HX43: 2.5 | HY43: =HW43*HX43 -> 0 | IA43: 2.5 | IB43: =HZ43*IA43 -> 0 | ID43: 2.5 | IE43: =IC43*ID43 -> 0
A44: =Feuil3!B31 -> Soja | B44: =F44+I44+L44+O44+R44+U44+X44+AA44+AD44+AG44+AJ44+AM44+AP44+AS44+AV44+AY44+BB44+BE44+BH44+BK44+BN44+BQ44+BT44+BW44+BZ44+CC44+CF44+CI44+CL44+CO44+CR44+CU44+CX44+DA44+DD44+DG44+DJ44+DM44+DP44+DS44+DV44+DY44+EB44+EE44+EH44+EK44+EN44+EQ44+ET44+EW44+EZ44+FC44+FF44+FI44+FL44+FO44+FR44+FU44+FX44+GA44+GD44+GG44+GJ44+GM44+GP44+GS44+GV44+GY44+HB44+HE44+HH44+HK44+HN44+HQ44+HT44+HW44+HZ44+IC44 -> 0 | C44: =IF(B44=0,"",D44/B44) | D44: =H44+K44+N44+Q44+T44+W44+Z44+AC44+AF44+AI44+AL44+AO44+AR44+AU44+AX44+BA44+BD44+BG44+BJ44+BM44+BP44+BS44+BV44+BY44+CB44+CE44+CH44+CK44+CN44+CQ44+CT44+CW44+CZ44+DC44+DF44+DI44+DL44+DO44+DR44+DU44+DX44+EA44+ED44+EG44+EJ44+EM44+EP44+ES44+EV44+EY44+FB44+FE44+FH44+FK44+FN44+FQ44+FT44+FW44+FZ44+GC44+GF44+GI44+GL44+GO44+GR44+GU44+GX44+HA44+HD44+HG44+HJ44+HM44+HP44+HS44+HV44+HY44+IB44+IE44 -> 0 | F44: =IFERROR(GETPIVOTDATA("Ha Tot collecte",'[1]Feuil1 (2)'!$A$3,"Silo",F$11,"Lib. variété",$A44),0) -> 0 | H44: =F44*G44 -> 0 | I44: =IFERROR(GETPIVOTDATA("Ha Tot collecte",'[1]Feuil1 (2)'!$A$3,"Silo",I$11,"Lib. variété",$A44),0) -> 0 | K44: =I44*J44 -> 0 | L44: =IFERROR(GETPIVOTDATA("Ha Tot collecte",'[1]Feuil1 (2)'!$A$3,"Silo",L$11,"Lib. variété",$A44),0) -> 0 | N44: =L44*M44 -> 0 | O44: =IFERROR(GETPIVOTDATA("Ha Tot collecte",'[1]Feuil1 (2)'!$A$3,"Silo",O$11,"Lib. variété",$A44),0) -> 0 | Q44: =O44*P44 -> 0 | R44: =IFERROR(GETPIVOTDATA("Ha Tot collecte",'[1]Feuil1 (2)'!$A$3,"Silo",R$11,"Lib. variété",$A44),0) -> 0 | T44: =R44*S44 -> 0 | U44: =IFERROR(GETPIVOTDATA("Ha Tot collecte",'[1]Feuil1 (2)'!$A$3,"Silo",U$11,"Lib. variété",$A44),0) -> 0 | W44: =U44*V44 -> 0 | X44: =IFERROR(GETPIVOTDATA("Ha Tot collecte",'[1]Feuil1 (2)'!$A$3,"Silo",X$11,"Lib. variété",$A44),0) -> 0 | Z44: =X44*Y44 -> 0 | AA44: =IFERROR(GETPIVOTDATA("Ha Tot collecte",'[1]Feuil1 (2)'!$A$3,"Silo",AA$11,"Lib. variété",$A44),0) -> 0 | AC44: =AA44*AB44 -> 0 | AD44: =IFERROR(GETPIVOTDATA("Ha Tot collecte",'[1]Feuil1 (2)'!$A$3,"Silo",AD$11,"Lib. variété",$A44),0) -> 0 | AF44: =AD44*AE44 -> 0 | AG44: =IFERROR(GETPIVOTDATA("Ha Tot collecte",'[1]Feuil1 (2)'!$A$3,"Silo",AG$11,"Lib. variété",$A44),0) -> 0 | AI44: =AG44*AH44 -> 0 | AJ44: =IFERROR(GETPIVOTDATA("Ha Tot collecte",'[1]Feuil1 (2)'!$A$3,"Silo",AJ$11,"Lib. variété",$A44),0) -> 0 | AL44: =AJ44*AK44 -> 0 | AM44: =IFERROR(GETPIVOTDATA("Ha Tot collecte",'[1]Feuil1 (2)'!$A$3,"Silo",AM$11,"Lib. variété",$A44),0) -> 0 | AO44: =AM44*AN44 -> 0 | AP44: =IFERROR(GETPIVOTDATA("Ha Tot collecte",'[1]Feuil1 (2)'!$A$3,"Silo",AP$11,"Lib. variété",$A44),0) -> 0 | AR44: =AP44*AQ44 -> 0 | AS44: =IFERROR(GETPIVOTDATA("Ha Tot collecte",'[1]Feuil1 (2)'!$A$3,"Silo",AS$11,"Lib. variété",$A44),0) -> 0 | AU44: =AS44*AT44 -> 0 | AV44: =IFERROR(GETPIVOTDATA("Ha Tot collecte",'[1]Feuil1 (2)'!$A$3,"Silo",AV$11,"Lib. variété",$A44),0) -> 0 | AX44: =AV44*AW44 -> 0 | AY44: =IFERROR(GETPIVOTDATA("Ha Tot collecte",'[1]Feuil1 (2)'!$A$3,"Silo",AY$11,"Lib. variété",$A44),0) -> 0 | BA44: =AY44*AZ44 -> 0 | BB44: =IFERROR(GETPIVOTDATA("Ha Tot collecte",'[1]Feuil1 (2)'!$A$3,"Silo",BB$11,"Lib. variété",$A44),0) -> 0 | BD44: =BB44*BC44 -> 0 | BE44: =IFERROR(GETPIVOTDATA("Ha Tot collecte",'[1]Feuil1 (2)'!$A$3,"Silo",BE$11,"Lib. variété",$A44),0) -> 0 | BG44: =BE44*BF44 -> 0 | BH44: =IFERROR(GETPIVOTDATA("Ha Tot collecte",'[1]Feuil1 (2)'!$A$3,"Silo",BH$11,"Lib. variété",$A44),0) -> 0 | BJ44: =BH44*BI44 -> 0 | BK44: =IFERROR(GETPIVOTDATA("Ha Tot collecte",'[1]Feuil1 (2)'!$A$3,"Silo",BK$11,"Lib. variété",$A44),0) -> 0 | BM44: =BK44*BL44 -> 0 | BN44: =IFERROR(GETPIVOTDATA("Ha Tot collecte",'[1]Feuil1 (2)'!$A$3,"Silo",BN$11,"Lib. variété",$A44),0) -> 0 | BP44: =BN44*BO44 -> 0 | BQ44: =IFERROR(GETPIVOTDATA("Ha Tot collecte",'[1]Feuil1 (2)'!$A$3,"Silo",BQ$11,"Lib. variété",$A44),0) -> 0 | BS44: =BQ44*BR44 -> 0 | BT44: =IFERROR(GETPIVOTDATA("Ha Tot collecte",'[1]Feuil1 (2)'!$A$3,"Silo",BT$11,"Lib. variété",$A44),0) -> 0 | BV44: =BT44*BU44 -> 0 | BW44: =IFERROR(GETPIVOTDATA("Ha Tot collecte",'[1]Feuil1 (2)'!$A$3,"Silo",BW$11,"Lib. variété",$A44),0) -> 0 | BY44: =BW44*BX44 -> 0 | BZ44: =IFERROR(GETPIVOTDATA("Ha Tot collecte",'[1]Feuil1 (2)'!$A$3,"Silo",BZ$11,"Lib. variété",$A44),0) -> 0 | CB44: =BZ44*CA44 -> 0 | CC44: =IFERROR(GETPIVOTDATA("Ha Tot collecte",'[1]Feuil1 (2)'!$A$3,"Silo",CC$11,"Lib. variété",$A44),0) -> 0 | CE44: =CC44*CD44 -> 0 | CF44: =IFERROR(GETPIVOTDATA("Ha Tot collecte",'[1]Feuil1 (2)'!$A$3,"Silo",CF$11,"Lib. variété",$A44),0) -> 0 | CH44: =CF44*CG44 -> 0 | CK44: =CI44*CJ44 -> 0 | CN44: =CL44*CM44 -> 0 | CQ44: =CO44*CP44 -> 0 | CT44: =CR44*CS44 -> 0 | CW44: =CU44*CV44 -> 0 | CZ44: =CX44*CY44 -> 0 | DC44: =DA44*DB44 -> 0 | DF44: =DD44*DE44 -> 0 | DI44: =DG44*DH44 -> 0 | DL44: =DJ44*DK44 -> 0 | DO44: =DM44*DN44 -> 0 | DR44: =DP44*DQ44 -> 0 | DU44: =DS44*DT44 -> 0 | DX44: =DV44*DW44 -> 0 | EA44: =DY44*DZ44 -> 0 | ED44: =EB44*EC44 -> 0 | EG44: =EE44*EF44 -> 0 | EJ44: =EH44*EI44 -> 0 | EM44: =EK44*EL44 -> 0 | EP44: =EN44*EO44 -> 0 | ES44: =EQ44*ER44 -> 0 | EV44: =ET44*EU44 -> 0 | EY44: =EW44*EX44 -> 0 | FB44: =EZ44*FA44 -> 0 | FE44: =FC44*FD44 -> 0 | FH44: =FF44*FG44 -> 0 | FK44: =FI44*FJ44 -> 0 | FN44: =FL44*FM44 -> 0 | FQ44: =FO44*FP44 -> 0 | FT44: =FR44*FS44 -> 0 | FW44: =FU44*FV44 -> 0 | FZ44: =FX44*FY44 -> 0 | GC44: =GA44*GB44 -> 0 | GF44: =GD44*GE44 -> 0 | GI44: =GG44*GH44 -> 0 | GL44: =GJ44*GK44 -> 0 | GO44: =GM44*GN44 -> 0 | GR44: =GP44*GQ44 -> 0 | GU44: =GS44*GT44 -> 0 | GX44: =GV44*GW44 -> 0 | HA44: =GY44*GZ44 -> 0 | HD44: =HB44*HC44 -> 0 | HG44: =HE44*HF44 -> 0 | HJ44: =HH44*HI44 -> 0 | HM44: =HK44*HL44 -> 0 | HP44: =HN44*HO44 -> 0 | HS44: =HQ44*HR44 -> 0 | HV44: =HT44*HU44 -> 0 | HY44: =HW44*HX44 -> 0 | IB44: =HZ44*IA44 -> 0 | IE44: =IC44*ID44 -> 0
