Workbook

Sheet Feuil3
D1: LE 9 JUIN 2013
B2: BLE TENDRE | D2: Plan de stockage collecte 2013
B3: BLE CAPHORN POUR FARINE LABEL ROUGE | D3: mot de passe fichier atc | F3: JMD
B4: BLE DE FORCE SIALA
B5: BLE DE FORCE VALBONA
B6: BLE APACHE
B7: BLE AREZZO POUR FARINE LABEL ROUGE
B8: 0
B9: 0
B10: BLE DUR
B12: ORGE BRAS. HIVER ETINCEL
B13: ORGE FOURRAGERE
B14: ORGE BRAS. HIVER ARTURIO
B15: 0
B16: AVOINE BLANCHE
B17: AVOINE NOIRE
B18: TRITICALE
B19: SEIGLE
B20: 0
B21: Orge Printemps
B22: ORGE BRAS. PRINTEMPS TRAVELER
B23: ORGE BRAS. PRINTEMPS SUNSHINE
B24: POIS FOURRAGER
B25: POIS JAUNE
B26: 0
B27: COLZA
B28: 0
B29: FEVEROLE
B30: LUPIN
B31: Soja
B32: MAIS WAXY
B33: MAIS CLASSE A
B34: Maïs classe B
B35: Maïs Gavage
B36: TOURNESOL CLASSIQUE
B37: TOURNESOL OLEIQUE
B38: SORGHO
B41: Maïs POP CORN
B42: Multiplication
... B58: trsol oleique

Sheet Collecte Charente Alliance 17
F3: Prévisions de collecte 2007
B8: =Feuil3!D1 -> LE 9 JUIN 2013
A10: Collecte 2013 | B10: TOTAL | C10: CHARENTE MARITIME | F10: Silo | I10: Silo | L10: Silo | O10: Silo | R10: Silo | U10: Silo | X10: Silo | AA10: Silo | AD10: Silo | AG10: Silo | AJ10: Silo | AM10: Silo | AP10: Silo | AS10: Silo | AV10: Silo | AY10: Silo | BB10: Silo | BE10: Silo | BH10: Silo | BK10: Silo | BN10: Silo | BQ10: Silo | BT10: Silo | BW10: Silo | BZ10: Silo | CC10: Silo | CF10: Silo | CI10: Silo | CL10: Silo | CO10: Silo | CR10: Silo | CU10: Silo | CX10: Silo | DA10: Silo | DD10: Silo | DG10: Silo | DJ10: Silo | DM10: Silo | DP10: Silo | DS10: Silo | DV10: Silo | DY10: Silo | EB10: Silo | EE10: Silo | EH10: Silo | EK10: Silo | EN10: Silo | EQ10: Silo | ET10: Silo | EW10: Silo | EZ10: Silo | FC10: Silo | FF10: Silo | FI10: Silo | FL10: Silo | FO10: Silo | FR10: Silo | FU10: Silo | FX10: Silo | GA10: Silo | GD10: Silo | GG10: Silo | GJ10: Silo | GM10: Silo | GP10: Silo | GS10: Silo | GV10: Silo | GY10: Silo | HB10: Silo | HE10: Silo | HH10: Silo | HK10: Silo | HN10: Silo | HQ10: Silo | HT10: Silo | HW10: Silo | HZ10: Silo | IC10: Silo
F11: Chtes-All chez TONNAY-BOUTONNE | I11: ARCHIAC | L11: ARS | O11: ARTHENAC | R11: AULNAY | U11: BAIGNES | X11: BEAUVAIS | AA11: BERNAY | AD11: BORDS | AG11: BREUILLET | AJ11: BRIZAMBOURG | AM11: CORME ECLUSE | AP11: CORME ROYAL | AS11: Charentes-Alliance chez CARC | AV11: CHAMBON | AY11: CHAMPAGNOLLES | BB11: CHANIERS | BE11: CLAVETTE | BH11: COULONGES | BK11: COZES | BN11: FONTAINES | BQ11: GERMIGNAC | BT11: GUIMPS | BW11: JARNAC CHGNE BETON | BZ11: JARNAC CHGNE METAL | CC11: JONZAC | CF11: LA BROUSSE | CI11: LA JARD | CL11: LE GUA | CO11: LEOVILLE | CR11: LORIGNAC | CU11: Charentes-Alliance chez LOULAY | CX11: MARIGNAC | DA11: MATHA | DD11: MAUZE | DG11: Chtes-All chezTERRE ATLANTIQUE | DJ11: MERIGNAC | DM11: MONTILS | DP11: MONTLIEU-LA-GARDE | DS11: MONTPELLIER | DV11: MOSNAC | DY11: NIEUL LE VIROUIL | EB11: PERIGNAC 17 | EE11: PONS | EH11: PUYRAVAULT | EK11: RIOUX | EN11: ROUFFIGNAC | EQ11: SABLONCEAUX | ET11: SALLES DE BARBEZIEUX | EW11: SEMUSSAC | EZ11: ST GENIS SILOSPHERE | FC11: ST ANDRE DE LIDON | FF11: ST CIERS CHAMPAGNE | FI11: ST CIERS DU TAILLON | FL11: ST GENIS SILO | FO11: ST GEORGES DES AGOUTS | FR11: ST GEORGES DES COTEAUX | FU11: ST JUST | FX11: ST PORCHAIRE | GA11: ST SAUVEUR | GD11: ST SURIN | GG11: STS VIVIEN | GJ11: STE GEMME | GM11: STE SEVERE | GP11: TANZAC | GS11: THAIRE | GV11: THEZAC | GY11: TONNAY CHARENTE SILO COOP | HB11: TOUVENT | HE11: GRENIER DU ROY | HH11: SICA Pallice | HK11: TAA Pallice | HN11: AMR Rochefort SICA TONNAY | HQ11: BLAYE | HT11: INVIVO BRDX | HW11: THENAC | HZ11: STOCKAGE FERME | IC11: ROCHEFORT SEMENCES
A12: Espèce | B12: total COOP | F12: Ha | G12: Rdt en | H12: collecte | I12: Ha | J12: Rdt en | K12: collecte | L12: Ha | M12: Rdt en | N12: collecte | O12: Ha | P12: Rdt en | Q12: collecte | R12: Ha | S12: Rdt en | T12: collecte | U12: Ha | V12: Rdt en | W12: collecte | X12: Ha | Y12: Rdt en | Z12: collecte | AA12: Ha | AB12: Rdt en | AC12: collecte | AD12: Ha | AE12: Rdt en | AF12: collecte | AG12: Ha | AH12: Rdt en | AI12: collecte | AJ12: Ha | AK12: Rdt en | AL12: collecte | AM12: Ha | AN12: Rdt en | AO12: collecte | AP12: Ha | AQ12: Rdt en | AR12: collecte | AS12: Ha | AT12: Rdt en | AU12: collecte | AV12: Ha | AW12: Rdt en | AX12: collecte | AY12: Ha | AZ12: Rdt en | BA12: collecte | BB12: Ha | BC12: Rdt en | BD12: collecte | BE12: Ha | BF12: Rdt en | BG12: collecte | BH12: Ha | BI12: Rdt en | BJ12: collecte | BK12: Ha | BL12: Rdt en | BM12: collecte | BN12: Ha | BO12: Rdt en | BP12: collecte | BQ12: Ha | BR12: Rdt en | BS12: collecte | BT12: Ha | BU12: Rdt en | BV12: collecte | BW12: Ha | BX12: Rdt en | BY12: collecte | BZ12: Ha | CA12: Rdt en | CB12: collecte | CC12: Ha | CD12: Rdt en | CE12: collecte | CF12: Ha | CG12: Rdt en | CH12: collecte | CI12: Ha | CJ12: Rdt en | CK12: collecte | CL12: Ha | CM12: Rdt en | CN12: collecte | CO12: Ha | CP12: Rdt en | CQ12: collecte | CR12: Ha | CS12: Rdt en | CT12: collecte | CU12: Ha | CV12: Rdt en | CW12: collecte | CX12: Ha | CY12: Rdt en | CZ12: collecte | DA12: Ha | DB12: Rdt en | DC12: collecte | DD12: Ha | DE12: Rdt en | DF12: collecte | DG12: Ha | DH12: Rdt en | DI12: collecte | DJ12: Ha | DK12: Rdt en | DL12: collecte | DM12: Ha | DN12: Rdt en | DO12: collecte | DP12: Ha | DQ12: Rdt en | DR12: collecte | DS12: Ha | DT12: Rdt en | DU12: collecte | DV12: Ha | DW12: Rdt en | DX12: collecte | DY12: Ha | DZ12: Rdt en | EA12: collecte | EB12: Ha | EC12: Rdt en | ED12: collecte | EE12: Ha | EF12: Rdt en | EG12: collecte | EH12: Ha | EI12: Rdt en | EJ12: collecte | EK12: Ha | EL12: Rdt en | EM12: collecte | EN12: Ha | EO12: Rdt en | EP12: collecte | EQ12: Ha | ER12: Rdt en | ES12: collecte | ET12: Ha | EU12: Rdt en | EV12: collecte | EW12: Ha | EX12: Rdt en | EY12: collecte | EZ12: Ha | FA12: Rdt en | FB12: collecte | FC12: Ha | FD12: Rdt en | FE12: collecte | FF12: Ha | FG12: Rdt en | FH12: collecte | FI12: Ha | FJ12: Rdt en | FK12: collecte | FL12: Ha | FM12: Rdt en | FN12: collecte | FO12: Ha | FP12: Rdt en | FQ12: collecte | FR12: Ha | FS12: Rdt en | FT12: collecte | FU12: Ha | FV12: Rdt en | FW12: collecte | FX12: Ha | FY12: Rdt en | FZ12: collecte | GA12: Ha | GB12: Rdt en | GC12: collecte | GD12: Ha | GE12: Rdt en | GF12: collecte | GG12: Ha | GH12: Rdt en | GI12: collecte | GJ12: Ha | GK12: Rdt en | GL12: collecte | GM12: Ha | GN12: Rdt en | GO12: collecte | GP12: Ha | GQ12: Rdt en | GR12: collecte | GS12: Ha | GT12: Rdt en | GU12: collecte | GV12: Ha | GW12: Rdt en | GX12: collecte | GY12: Ha | GZ12: Rdt en | HA12: collecte | HB12: Ha | HC12: Rdt en | HD12: collecte | HE12: Ha | HF12: Rdt en | HG12: collecte | HH12: Ha | HI12: Rdt en | HJ12: collecte | HK12: Ha | HL12: Rdt en | HM12: collecte | HN12: Ha | HO12: Rdt en | HP12: collecte | HQ12: Ha | HR12: Rdt en | HS12: collecte | HT12: Ha | HU12: Rdt en | HV12: collecte | HW12: Ha | HX12: Rdt en | HY12: collecte | HZ12: Ha | IA12: Rdt en | IB12: collecte | IC12: Ha | ID12: Rdt en | IE12: collecte
B13: ha | C13: Rdt/moy | D13: en T | F13: collectés | G13: T/ ha | H13: en T | I13: collectés | J13: T/ ha | K13: en T | L13: collectés | M13: T/ ha | N13: en T | O13: collectés | P13: T/ ha | Q13: en T | R13: collectés | S13: T/ ha | T13: en T | U13: collectés | V13: T/ ha | W13: en T | X13: collectés | Y13: T/ ha | Z13: en T | AA13: collectés | AB13: T/ ha | AC13: en T | AD13: collectés | AE13: T/ ha | AF13: en T | AG13: collectés | AH13: T/ ha | AI13: en T | AJ13: collectés | AK13: T/ ha | AL13: en T | AM13: collectés | AN13: T/ ha | AO13: en T | AP13: collectés | AQ13: T/ ha | AR13: en T | AS13: collectés | AT13: T/ ha | AU13: en T | AV13: collectés | AW13: T/ ha | AX13: en T | AY13: collectés | AZ13: T/ ha | BA13: en T | BB13: collectés | BC13: T/ ha | BD13: en T | BE13: collectés | BF13: T/ ha | BG13: en T | BH13: collectés | BI13: T/ ha | BJ13: en T | BK13: collectés | BL13: T/ ha | BM13: en T | BN13: collectés | BO13: T/ ha | BP13: en T | BQ13: collectés | BR13: T/ ha | BS13: en T | BT13: collectés | BU13: T/ ha | BV13: en T | BW13: collectés | BX13: T/ ha | BY13: en T | BZ13: collectés | CA13: T/ ha | CB13: en T | CC13: collectés | CD13: T/ ha | CE13: en T | CF13: collectés | CG13: T/ ha | CH13: en T | CI13: collectés | CJ13: T/ ha | CK13: en T | CL13: collectés | CM13: T/ ha | CN13: en T | CO13: collectés | CP13: T/ ha | CQ13: en T | CR13: collectés | CS13: T/ ha | CT13: en T | CU13: collectés | CV13: T/ ha | CW13: en T | CX13: collectés | CY13: T/ ha | CZ13: en T | DA13: collectés | DB13: T/ ha | DC13: en T | DD13: collectés | DE13: T/ ha | DF13: en T | DG13: collectés | DH13: T/ ha | DI13: en T | DJ13: collectés | DK13: T/ ha | DL13: en T | DM13: collectés | DN13: T/ ha | DO13: en T | DP13: collectés | DQ13: T/ ha | DR13: en T | DS13: collectés | DT13: T/ ha | DU13: en T | DV13: collectés | DW13: T/ ha | DX13: en T | DY13: collectés | DZ13: T/ ha | EA13: en T | EB13: collectés | EC13: T/ ha | ED13: en T | EE13: collectés | EF13: T/ ha | EG13: en T | EH13: collectés | EI13: T/ ha | EJ13: en T | EK13: collectés | EL13: T/ ha | EM13: en T | EN13: collectés | EO13: T/ ha | EP13: en T | EQ13: collectés | ER13: T/ ha | ES13: en T | ET13: collectés | EU13: T/ ha | EV13: en T | EW13: collectés | EX13: T/ ha | EY13: en T | EZ13: collectés | FA13: T/ ha | FB13: en T | FC13: collectés | FD13: T/ ha | FE13: en T | FF13: collectés | FG13: T/ ha | FH13: en T | FI13: collectés | FJ13: T/ ha | FK13: en T | FL13: collectés | FM13: T/ ha | FN13: en T | FO13: collectés | FP13: T/ ha | FQ13: en T | FR13: collectés | FS13: T/ ha | FT13: en T | FU13: collectés | FV13: T/ ha | FW13: en T | FX13: collectés | FY13: T/ ha | FZ13: en T | GA13: collectés | GB13: T/ ha | GC13: en T | GD13: collectés | GE13: T/ ha | GF13: en T | GG13: collectés | GH13: T/ ha | GI13: en T | GJ13: collectés | GK13: T/ ha | GL13: en T | GM13: collectés | GN13: T/ ha | GO13: en T | GP13: collectés | GQ13: T/ ha | GR13: en T | GS13: collectés | GT13: T/ ha | GU13: en T | GV13: collectés | GW13: T/ ha | GX13: en T | GY13: collectés | GZ13: T/ ha | HA13: en T | HB13: collectés | HC13: T/ ha | HD13: en T | HE13: collectés | HF13: T/ ha | HG13: en T | HH13: collectés | HI13: T/ ha | HJ13: en T | HK13: collectés | HL13: T/ ha | HM13: en T | HN13: collectés | HO13: T/ ha | HP13: en T | HQ13: collectés | HR13: T/ ha | HS13: en T | HT13: collectés | HU13: T/ ha | HV13: en T | HW13: collectés | HX13: T/ ha | HY13: en T | HZ13: collectés | IA13: T/ ha | IB13: en T | IC13: collectés | ID13: T/ ha | IE13: en T
A15: =Feuil3!B2 -> BLE TENDRE | B15: =F15+I15+L15+O15+R15+U15+X15+AA15+AD15+AG15+AJ15+AM15+AP15+AS15+AV15+AY15+BB15+BE15+BH15+BK15+BN15+BQ15+BT15+BW15+BZ15+CC15+CF15+CI15+CL15+CO15+CR15+CU15+CX15+DA15+DD15+DG15+DJ15+DM15+DP15+DS15+DV15+DY15+EB15+EE15+EH15+EK15+EN15+EQ15+ET15+EW15+EZ15+FC15+FF15+FI15+FL15+FO15+FR15+FU15+FX15+GA15+GD15+GG15+GJ15+GM15+GP15+GS15+GV15+GY15+HB15+HE15+HH15+HK15+HN15+HQ15+HT15+HW15+HZ15+IC15 -> 3883.88 | C15: =IF(B15=0,"",D15/B15) -> 6.5 | D15: =H15+K15+N15+Q15+T15+W15+Z15+AC15+AF15+AI15+AL15+AO15+AR15+AU15+AX15+BA15+BD15+BG15+BJ15+BM15+BP15+BS15+BV15+BY15+CB15+CE15+CH15+CK15+CN15+CQ15+CT15+CW15+CZ15+DC15+DF15+DI15+DL15+DO15+DR15+DU15+DX15+EA15+ED15+EG15+EJ15+EM15+EP15+ES15+EV15+EY15+FB15+FE15+FH15+FK15+FN15+FQ15+FT15+FW15+FZ15+GC15+GF15+GI15+GL15+GO15+GR15+GU15+GX15+HA15+HD15+HG15+HJ15+HM15+HP15+HS15+HV15+HY15+IB15+IE15 -> 25245.22 | F15: =IFERROR(GETPIVOTDATA("Ha Tot collecte",'[1]Feuil1 (2)'!$A$3,"Silo",F$11,"Lib. variété",$A15),0) -> 0 | G15: 6.5 | H15: =F15*G15 -> 0 | I15: =IFERROR(GETPIVOTDATA("Ha Tot collecte",'[1]Feuil1 (2)'!$A$3,"Silo",I$11,"Lib. variété",$A15),0) -> 74.56 | J15: 6.5 | K15: =I15*J15 -> 484.64 | L15: =IFERROR(GETPIVOTDATA("Ha Tot collecte",'[1]Feuil1 (2)'!$A$3,"Silo",L$11,"Lib. variété",$A15),0) -> 251.25 | M15: 6.5 | N15: =L15*M15 -> 1633.125 | O15: =IFERROR(GETPIVOTDATA("Ha Tot collecte",'[1]Feuil1 (2)'!$A$3,"Silo",O$11,"Lib. variété",$A15),0) -> 62 | P15: 6.5 | Q15: =O15*P15 -> 403 | R15: =IFERROR(GETPIVOTDATA("Ha Tot collecte",'[1]Feuil1 (2)'!$A$3,"Silo",R$11,"Lib. variété",$A15),0) -> 0 | S15: 6.5 | T15: =R15*S15 -> 0 | U15: =IFERROR(GETPIVOTDATA("Ha Tot collecte",'[1]Feuil1 (2)'!$A$3,"Silo",U$11,"Lib. variété",$A15),0) -> 571.75 | V15: 6.5 | W15: =U15*V15 -> 3716.375 | X15: =IFERROR(GETPIVOTDATA("Ha Tot collecte",'[1]Feuil1 (2)'!$A$3,"Silo",X$11,"Lib. variété",$A15),0) -> 0 | Y15: 6.5 | Z15: =X15*Y15 -> 0 | AA15: =IFERROR(GETPIVOTDATA("Ha Tot collecte",'[1]Feuil1 (2)'!$A$3,"Silo",AA$11,"Lib. variété",$A15),0) -> 93.84 | AB15: 6.5 | AC15: =AA15*AB15 -> 609.96 | AD15: =IFERROR(GETPIVOTDATA("Ha Tot collecte",'[1]Feuil1 (2)'!$A$3,"Silo",AD$11,"Lib. variété",$A15),0) -> 174.56 | AE15: 6.5 | AF15: =AD15*AE15 -> 1134.64 | AG15: =IFERROR(GETPIVOTDATA("Ha Tot collecte",'[1]Feuil1 (2)'!$A$3,"Silo",AG$11,"Lib. variété",$A15),0) -> 0 | AH15: 6.5 | AI15: =AG15*AH15 -> 0 | AJ15: =IFERROR(GETPIVOTDATA("Ha Tot collecte",'[1]Feuil1 (2)'!$A$3,"Silo",AJ$11,"Lib. variété",$A15),0) -> 0 | AK15: 6.5 | AL15: =AJ15*AK15 -> 0 | AM15: =IFERROR(GETPIVOTDATA("Ha Tot collecte",'[1]Feuil1 (2)'!$A$3,"Silo",AM$11,"Lib. variété",$A15),0) -> 204.37 | AN15: 6.5 | AO15: =AM15*AN15 -> 1328.405 | AP15: =IFERROR(GETPIVOTDATA("Ha Tot collecte",'[1]Feuil1 (2)'!$A$3,"Silo",AP$11,"Lib. variété",$A15),0) -> 0 | AQ15: 6.5 | AR15: =AP15*AQ15 -> 0 | AS15: =IFERROR(GETPIVOTDATA("Ha Tot collecte",'[1]Feuil1 (2)'!$A$3,"Silo",AS$11,"Lib. variété",$A15),0) -> 19.6 | AT15: 6.5 | AU15: =AS15*AT15 -> 127.4 | AV15: =IFERROR(GETPIVOTDATA("Ha Tot collecte",'[1]Feuil1 (2)'!$A$3,"Silo",AV$11,"Lib. variété",$A15),0) -> 111.33 | AW15: 6.5 | AX15: =AV15*AW15 -> 723.645 | AY15: =IFERROR(GETPIVOTDATA("Ha Tot collecte",'[1]Feuil1 (2)'!$A$3,"Silo",AY$11,"Lib. variété",$A15),0) -> 16.22 | AZ15: 6.5 | BA15: =AY15*AZ15 -> 105.43 | BB15: =IFERROR(GETPIVOTDATA("Ha Tot collecte",'[1]Feuil1 (2)'!$A$3,"Silo",BB$11,"Lib. variété",$A15),0) -> 11 | BC15: 6.5 | BD15: =BB15*BC15 -> 71.5 | BE15: =IFERROR(GETPIVOTDATA("Ha Tot collecte",'[1]Feuil1 (2)'!$A$3,"Silo",BE$11,"Lib. variété",$A15),0) -> 130 | BF15: 6.5 | BG15: =BE15*BF15 -> 845 | BH15: =IFERROR(GETPIVOTDATA("Ha Tot collecte",'[1]Feuil1 (2)'!$A$3,"Silo",BH$11,"Lib. variété",$A15),0) -> 66.81 | BI15: 6.5 | BJ15: =BH15*BI15 -> 434.265 | BK15: =IFERROR(GETPIVOTDATA("Ha Tot collecte",'[1]Feuil1 (2)'!$A$3,"Silo",BK$11,"Lib. variété",$A15),0) -> 282.2 | BL15: 6.5 | BM15: =BK15*BL15 -> 1834.3 | BN15: =IFERROR(GETPIVOTDATA("Ha Tot collecte",'[1]Feuil1 (2)'!$A$3,"Silo",BN$11,"Lib. variété",$A15),0) -> 350.88 | BO15: 6.5 | BP15: =BN15*BO15 -> 2280.72 | BQ15: =IFERROR(GETPIVOTDATA("Ha Tot collecte",'[1]Feuil1 (2)'!$A$3,"Silo",BQ$11,"Lib. variété",$A15),0) -> 232.46 | BR15: 6.5 | BS15: =BQ15*BR15 -> 1510.99 | BT15: =IFERROR(GETPIVOTDATA("Ha Tot collecte",'[1]Feuil1 (2)'!$A$3,"Silo",BT$11,"Lib. variété",$A15),0) -> 380.39 | BU15: 6.5 | BV15: =BT15*BU15 -> 2472.535 | BW15: =IFERROR(GETPIVOTDATA("Ha Tot collecte",'[1]Feuil1 (2)'!$A$3,"Silo",BW$11,"Lib. variété",$A15),0) -> 15.37 | BX15: 6.5 | BY15: =BW15*BX15 -> 99.905 | BZ15: =IFERROR(GETPIVOTDATA("Ha Tot collecte",'[1]Feuil1 (2)'!$A$3,"Silo",BZ$11,"Lib. variété",$A15),0) -> 240.59 | CA15: 6.5 | CB15: =BZ15*CA15 -> 1563.835 | CC15: =IFERROR(GETPIVOTDATA("Ha Tot collecte",'[1]Feuil1 (2)'!$A$3,"Silo",CC$11,"Lib. variété",$A15),0) -> 594.7 | CD15: 6.5 | CE15: =CC15*CD15 -> 3865.55 | CF15: =IFERROR(GETPIVOTDATA("Ha Tot collecte",'[1]Feuil1 (2)'!$A$3,"Silo",CF$11,"Lib. variété",$A15),0) -> 0 | CG15: 6.5 | CH15: =CF15*CG15 -> 0 | CJ15: 6.5 | CK15: =CI15*CJ15 -> 0 | CM15: 6.5 | CN15: =CL15*CM15 -> 0 | CP15: 6.5 | CQ15: =CO15*CP15 -> 0 | CS15: 6.5 | CT15: =CR15*CS15 -> 0 | CV15: 6.5 | CW15: =CU15*CV15 -> 0 | CY15: 6.5 | CZ15: =CX15*CY15 -> 0 | DB15: 6.5 | DC15: =DA15*DB15 -> 0 | DE15: 6.5 | DF15: =DD15*DE15 -> 0 | DH15: 6.5 | DI15: =DG15*DH15 -> 0 | DK15: 6.5 | DL15: =DJ15*DK15 -> 0 | DN15: 6.5 | DO15: =DM15*DN15 -> 0 | DQ15: 6.5 | DR15: =DP15*DQ15 -> 0 | DT15: 6.5 | DU15: =DS15*DT15 -> 0 | DW15: 6.5 | DX15: =DV15*DW15 -> 0 | DZ15: 6.5 | EA15: =DY15*DZ15 -> 0 | EC15: 6.5 | ED15: =EB15*EC15 -> 0 | EF15: 6.5 | EG15: =EE15*EF15 -> 0 | EI15: 6.5 | EJ15: =EH15*EI15 -> 0 | EL15: 6.5 | EM15: =EK15*EL15 -> 0 | EO15: 6.5 | EP15: =EN15*EO15 -> 0 | ER15: 6.5 | ES15: =EQ15*ER15 -> 0 | EU15: 6.5 | EV15: =ET15*EU15 -> 0 | EX15: 6.5 | EY15: =EW15*EX15 -> 0 | FA15: 6.5 | FB15: =EZ15*FA15 -> 0 | FD15: 6.5 | FE15: =FC15*FD15 -> 0 | FG15: 6.5 | FH15: =FF15*FG15 -> 0 | FJ15: 6.5 | FK15: =FI15*FJ15 -> 0 | FM15: 6.5 | FN15: =FL15*FM15 -> 0 | FP15: 6.5 | FQ15: =FO15*FP15 -> 0 | FS15: 6.5 | FT15: =FR15*FS15 -> 0 | FV15: 6.5 | FW15: =FU15*FV15 -> 0 | FY15: 6.5 | FZ15: =FX15*FY15 -> 0 | GB15: 6.5 | GC15: =GA15*GB15 -> 0 | GE15: 6.5 | GF15: =GD15*GE15 -> 0 | GH15: 6.5 | GI15: =GG15*GH15 -> 0 | GK15: 6.5 | GL15: =GJ15*GK15 -> 0 | GN15: 6.5 | GO15: =GM15*GN15 -> 0 | GQ15: 6.5 | GR15: =GP15*GQ15 -> 0 | GT15: 6.5 | GU15: =GS15*GT15 -> 0 | GW15: 6.5 | GX15: =GV15*GW15 -> 0 | GZ15: 6.5 | HA15: =GY15*GZ15 -> 0 | HC15: 6.5 | HD15: =HB15*HC15 -> 0 | HF15: 6.5 | HG15: =HE15*HF15 -> 0 | HI15: 6.5 | HJ15: =HH15*HI15 -> 0 | HL15: 6.5 | HM15: =HK15*HL15 -> 0 | HO15: 6.5 | HP15: =HN15*HO15 -> 0 | HR15: 6.5 | HS15: =HQ15*HR15 -> 0 | HU15: 6.5 | HV15: =HT15*HU15 -> 0 | HX15: 6.5 | HY15: =HW15*HX15 -> 0 | IA15: 6.5 | IB15: =HZ15*IA15 -> 0 | ID15: 6.5 | IE15: =IC15*ID15 -> 0
A16: =Feuil3!B3 -> BLE CAPHORN POUR FARINE LABEL ROUGE | B16: =F16+I16+L16+O16+R16+U16+X16+AA16+AD16+AG16+AJ16+AM16+AP16+AS16+AV16+AY16+BB16+BE16+BH16+BK16+BN16+BQ16+BT16+BW16+BZ16+CC16+CF16+CI16+CL16+CO16+CR16+CU16+CX16+DA16+DD16+DG16+DJ16+DM16+DP16+DS16+DV16+DY16+EB16+EE16+EH16+EK16+EN16+EQ16+ET16+EW16+EZ16+FC16+FF16+FI16+FL16+FO16+FR16+FU16+FX16+GA16+GD16+GG16+GJ16+GM16+GP16+GS16+GV16+GY16+HB16+HE16+HH16+HK16+HN16+HQ16+HT16+HW16+HZ16+IC16 -> 0 | C16: =IF(B16=0,"",D16/B16) | D16: =H16+K16+N16+Q16+T16+W16+Z16+AC16+AF16+AI16+AL16+AO16+AR16+AU16+AX16+BA16+BD16+BG16+BJ16+BM16+BP16+BS16+BV16+BY16+CB16+CE16+CH16+CK16+CN16+CQ16+CT16+CW16+CZ16+DC16+DF16+DI16+DL16+DO16+DR16+DU16+DX16+EA16+ED16+EG16+EJ16+EM16+EP16+ES16+EV16+EY16+FB16+FE16+FH16+FK16+FN16+FQ16+FT16+FW16+FZ16+GC16+GF16+GI16+GL16+GO16+GR16+GU16+GX16+HA16+HD16+HG16+HJ16+HM16+HP16+HS16+HV16+HY16+IB16+IE16 -> 0 | F16: =IFERROR(GETPIVOTDATA("Ha Tot collecte",'[1]Feuil1 (2)'!$A$3,"Silo",F$11,"Lib. variété",$A16),0) -> 0 | G16: 6.5 | H16: =F16*G16 -> 0 | I16: =IFERROR(GETPIVOTDATA("Ha Tot collecte",'[1]Feuil1 (2)'!$A$3,"Silo",I$11,"Lib. variété",$A16),0) -> 0 | J16: 6.5 | K16: =I16*J16 -> 0 | L16: =IFERROR(GETPIVOTDATA("Ha Tot collecte",'[1]Feuil1 (2)'!$A$3,"Silo",L$11,"Lib. variété",$A16),0) -> 0 | M16: 6.5 | N16: =L16*M16 -> 0 | O16: =IFERROR(GETPIVOTDATA("Ha Tot collecte",'[1]Feuil1 (2)'!$A$3,"Silo",O$11,"Lib. variété",$A16),0) -> 0 | P16: 6.5 | Q16: =O16*P16 -> 0 | R16: =IFERROR(GETPIVOTDATA("Ha Tot collecte",'[1]Feuil1 (2)'!$A$3,"Silo",R$11,"Lib. variété",$A16),0) -> 0 | S16: 6.5 | T16: =R16*S16 -> 0 | U16: =IFERROR(GETPIVOTDATA("Ha Tot collecte",'[1]Feuil1 (2)'!$A$3,"Silo",U$11,"Lib. variété",$A16),0) -> 0 | V16: 6.5 | W16: =U16*V16 -> 0 | X16: =IFERROR(GETPIVOTDATA("Ha Tot collecte",'[1]Feuil1 (2)'!$A$3,"Silo",X$11,"Lib. variété",$A16),0) -> 0 | Y16: 6.5 | Z16: =X16*Y16 -> 0 | AA16: =IFERROR(GETPIVOTDATA("Ha Tot collecte",'[1]Feuil1 (2)'!$A$3,"Silo",AA$11,"Lib. variété",$A16),0) -> 0 | AB16: 6.5 | AC16: =AA16*AB16 -> 0 | AD16: =IFERROR(GETPIVOTDATA("Ha Tot collecte",'[1]Feuil1 (2)'!$A$3,"Silo",AD$11,"Lib. variété",$A16),0) -> 0 | AE16: 6.5 | AF16: =AD16*AE16 -> 0 | AG16: =IFERROR(GETPIVOTDATA("Ha Tot collecte",'[1]Feuil1 (2)'!$A$3,"Silo",AG$11,"Lib. variété",$A16),0) -> 0 | AH16: 6.5 | AI16: =AG16*AH16 -> 0 | AJ16: =IFERROR(GETPIVOTDATA("Ha Tot collecte",'[1]Feuil1 (2)'!$A$3,"Silo",AJ$11,"Lib. variété",$A16),0) -> 0 | AK16: 6.5 | AL16: =AJ16*AK16 -> 0 | AM16: =IFERROR(GETPIVOTDATA("Ha Tot collecte",'[1]Feuil1 (2)'!$A$3,"Silo",AM$11,"Lib. variété",$A16),0) -> 0 | AN16: 6.5 | AO16: =AM16*AN16 -> 0 | AP16: =IFERROR(GETPIVOTDATA("Ha Tot collecte",'[1]Feuil1 (2)'!$A$3,"Silo",AP$11,"Lib. variété",$A16),0) -> 0 | AQ16: 6.5 | AR16: =AP16*AQ16 -> 0 | AS16: =IFERROR(GETPIVOTDATA("Ha Tot collecte",'[1]Feuil1 (2)'!$A$3,"Silo",AS$11,"Lib. variété",$A16),0) -> 0 | AT16: 6.5 | AU16: =AS16*AT16 -> 0 | AV16: =IFERROR(GETPIVOTDATA("Ha Tot collecte",'[1]Feuil1 (2)'!$A$3,"Silo",AV$11,"Lib. variété",$A16),0) -> 0 | AW16: 6.5 | AX16: =AV16*AW16 -> 0 | AY16: =IFERROR(GETPIVOTDATA("Ha Tot collecte",'[1]Feuil1 (2)'!$A$3,"Silo",AY$11,"Lib. variété",$A16),0) -> 0 | AZ16: 6.5 | BA16: =AY16*AZ16 -> 0 | BB16: =IFERROR(GETPIVOTDATA("Ha Tot collecte",'[1]Feuil1 (2)'!$A$3,"Silo",BB$11,"Lib. variété",$A16),0) -> 0 | BC16: 6.5 | BD16: =BB16*BC16 -> 0 | BE16: =IFERROR(GETPIVOTDATA("Ha Tot collecte",'[1]Feuil1 (2)'!$A$3,"Silo",BE$11,"Lib. variété",$A16),0) -> 0 | BF16: 6.5 | BG16: =BE16*BF16 -> 0 | BH16: =IFERROR(GETPIVOTDATA("Ha Tot collecte",'[1]Feuil1 (2)'!$A$3,"Silo",BH$11,"Lib. variété",$A16),0) -> 0 | BI16: 6.5 | BJ16: =BH16*BI16 -> 0 | BK16: =IFERROR(GETPIVOTDATA("Ha Tot collecte",'[1]Feuil1 (2)'!$A$3,"Silo",BK$11,"Lib. variété",$A16),0) -> 0 | BL16: 6.5 | BM16: =BK16*BL16 -> 0 | BN16: =IFERROR(GETPIVOTDATA("Ha Tot collecte",'[1]Feuil1 (2)'!$A$3,"Silo",BN$11,"Lib. variété",$A16),0) -> 0 | BO16: 6.5 | BP16: =BN16*BO16 -> 0 | BQ16: =IFERROR(GETPIVOTDATA("Ha Tot collecte",'[1]Feuil1 (2)'!$A$3,"Silo",BQ$11,"Lib. variété",$A16),0) -> 0 | BR16: 6.5 | BS16: =BQ16*BR16 -> 0 | BT16: =IFERROR(GETPIVOTDATA("Ha Tot collecte",'[1]Feuil1 (2)'!$A$3,"Silo",BT$11,"Lib. variété",$A16),0) -> 0 | BU16: 6.5 | BV16: =BT16*BU16 -> 0 | BW16: =IFERROR(GETPIVOTDATA("Ha Tot collecte",'[1]Feuil1 (2)'!$A$3,"Silo",BW$11,"Lib. variété",$A16),0) -> 0 | BX16: 6.5 | BY16: =BW16*BX16 -> 0 | BZ16: =IFERROR(GETPIVOTDATA("Ha Tot collecte",'[1]Feuil1 (2)'!$A$3,"Silo",BZ$11,"Lib. variété",$A16),0) -> 0 | CA16: 6.5 | CB16: =BZ16*CA16 -> 0 | CC16: =IFERROR(GETPIVOTDATA("Ha Tot collecte",'[1]Feuil1 (2)'!$A$3,"Silo",CC$11,"Lib. variété",$A16),0) -> 0 | CD16: 6.5 | CE16: =CC16*CD16 -> 0 | CF16: =IFERROR(GETPIVOTDATA("Ha Tot collecte",'[1]Feuil1 (2)'!$A$3,"Silo",CF$11,"Lib. variété",$A16),0) -> 0 | CG16: 6.5 | CH16: =CF16*CG16 -> 0 | CJ16: 6.5 | CK16: =CI16*CJ16 -> 0 | CM16: 6.5 | CN16: =CL16*CM16 -> 0 | CP16: 6.5 | CQ16: =CO16*CP16 -> 0 | CS16: 6.5 | CT16: =CR16*CS16 -> 0 | CV16: 6.5 | CW16: =CU16*CV16 -> 0 | CY16: 6.5 | CZ16: =CX16*CY16 -> 0 | DB16: 6.5 | DC16: =DA16*DB16 -> 0 | DE16: 6.5 | DF16: =DD16*DE16 -> 0 | DH16: 6.5 | DI16: =DG16*DH16 -> 0 | DK16: 6.5 | DL16: =DJ16*DK16 -> 0 | DN16: 6.5 | DO16: =DM16*DN16 -> 0 | DQ16: 6.5 | DR16: =DP16*DQ16 -> 0 | DT16: 6.5 | DU16: =DS16*DT16 -> 0 | DW16: 6.5 | DX16: =DV16*DW16 -> 0 | DZ16: 6.5 | EA16: =DY16*DZ16 -> 0 | EC16: 6.5 | ED16: =EB16*EC16 -> 0 | EF16: 6.5 | EG16: =EE16*EF16 -> 0 | EI16: 6.5 | EJ16: =EH16*EI16 -> 0 | EL16: 6.5 | EM16: =EK16*EL16 -> 0 | EO16: 6.5 | EP16: =EN16*EO16 -> 0 | ER16: 6.5 | ES16: =EQ16*ER16 -> 0 | EU16: 6.5 | EV16: =ET16*EU16 -> 0 | EX16: 6.5 | EY16: =EW16*EX16 -> 0 | FA16: 6.5 | FB16: =EZ16*FA16 -> 0 | FD16: 6.5 | FE16: =FC16*FD16 -> 0 | FG16: 6.5 | FH16: =FF16*FG16 -> 0 | FJ16: 6.5 | FK16: =FI16*FJ16 -> 0 | FM16: 6.5 | FN16: =FL16*FM16 -> 0 | FP16: 6.5 | FQ16: =FO16*FP16 -> 0 | FS16: 6.5 | FT16: =FR16*FS16 -> 0 | FV16: 6.5 | FW16: =FU16*FV16 -> 0 | FY16: 6.5 | FZ16: =FX16*FY16 -> 0 | GB16: 6.5 | GC16: =GA16*GB16 -> 0 | GE16: 6.5 | GF16: =GD16*GE16 -> 0 | GH16: 6.5 | GI16: =GG16*GH16 -> 0 | GK16: 6.5 | GL16: =GJ16*GK16 -> 0 | GN16: 6.5 | GO16: =GM16*GN16 -> 0 | GQ16: 6.5 | GR16: =GP16*GQ16 -> 0 | GT16: 6.5 | GU16: =GS16*GT16 -> 0 | GW16: 6.5 | GX16: =GV16*GW16 -> 0 | GZ16: 6.5 | HA16: =GY16*GZ16 -> 0 | HC16: 6.5 | HD16: =HB16*HC16 -> 0 | HF16: 6.5 | HG16: =HE16*HF16 -> 0 | HI16: 6.5 | HJ16: =HH16*HI16 -> 0 | HL16: 6.5 | HM16: =HK16*HL16 -> 0 | HO16: 6.5 | HP16: =HN16*HO16 -> 0 | HR16: 6.5 | HS16: =HQ16*HR16 -> 0 | HU16: 6.5 | HV16: =HT16*HU16 -> 0 | HX16: 6.5 | HY16: =HW16*HX16 -> 0 | IA16: 6.5 | IB16: =HZ16*IA16 -> 0 | ID16: 6.5 | IE16: =IC16*ID16 -> 0
A17: =Feuil3!B4 -> BLE DE FORCE SIALA | B17: =F17+I17+L17+O17+R17+U17+X17+AA17+AD17+AG17+AJ17+AM17+AP17+AS17+AV17+AY17+BB17+BE17+BH17+BK17+BN17+BQ17+BT17+BW17+BZ17+CC17+CF17+CI17+CL17+CO17+CR17+CU17+CX17+DA17+DD17+DG17+DJ17+DM17+DP17+DS17+DV17+DY17+EB17+EE17+EH17+EK17+EN17+EQ17+ET17+EW17+EZ17+FC17+FF17+FI17+FL17+FO17+FR17+FU17+FX17+GA17+GD17+GG17+GJ17+GM17+GP17+GS17+GV17+GY17+HB17+HE17+HH17+HK17+HN17+HQ17+HT17+HW17+HZ17+IC17 -> 0 | C17: =IF(B17=0,"",D17/B17) | D17: =H17+K17+N17+Q17+T17+W17+Z17+AC17+AF17+AI17+AL17+AO17+AR17+AU17+AX17+BA17+BD17+BG17+BJ17+BM17+BP17+BS17+BV17+BY17+CB17+CE17+CH17+CK17+CN17+CQ17+CT17+CW17+CZ17+DC17+DF17+DI17+DL17+DO17+DR17+DU17+DX17+EA17+ED17+EG17+EJ17+EM17+EP17+ES17+EV17+EY17+FB17+FE17+FH17+FK17+FN17+FQ17+FT17+FW17+FZ17+GC17+GF17+GI17+GL17+GO17+GR17+GU17+GX17+HA17+HD17+HG17+HJ17+HM17+HP17+HS17+HV17+HY17+IB17+IE17 -> 0 | F17: =IFERROR(GETPIVOTDATA("Ha Tot collecte",'[1]Feuil1 (2)'!$A$3,"Silo",F$11,"Lib. variété",$A17),0) -> 0 | G17: 6.5 | H17: =F17*G17 -> 0 | I17: =IFERROR(GETPIVOTDATA("Ha Tot collecte",'[1]Feuil1 (2)'!$A$3,"Silo",I$11,"Lib. variété",$A17),0) -> 0 | J17: 6.5 | K17: =I17*J17 -> 0 | L17: =IFERROR(GETPIVOTDATA("Ha Tot collecte",'[1]Feuil1 (2)'!$A$3,"Silo",L$11,"Lib. variété",$A17),0) -> 0 | M17: 6.5 | N17: =L17*M17 -> 0 | O17: =IFERROR(GETPIVOTDATA("Ha Tot collecte",'[1]Feuil1 (2)'!$A$3,"Silo",O$11,"Lib. variété",$A17),0) -> 0 | P17: 6.5 | Q17: =O17*P17 -> 0 | R17: =IFERROR(GETPIVOTDATA("Ha Tot collecte",'[1]Feuil1 (2)'!$A$3,"Silo",R$11,"Lib. variété",$A17),0) -> 0 | S17: 6.5 | T17: =R17*S17 -> 0 | U17: =IFERROR(GETPIVOTDATA("Ha Tot collecte",'[1]Feuil1 (2)'!$A$3,"Silo",U$11,"Lib. variété",$A17),0) -> 0 | V17: 6.5 | W17: =U17*V17 -> 0 | X17: =IFERROR(GETPIVOTDATA("Ha Tot collecte",'[1]Feuil1 (2)'!$A$3,"Silo",X$11,"Lib. variété",$A17),0) -> 0 | Y17: 6.5 | Z17: =X17*Y17 -> 0 | AA17: =IFERROR(GETPIVOTDATA("Ha Tot collecte",'[1]Feuil1 (2)'!$A$3,"Silo",AA$11,"Lib. variété",$A17),0) -> 0 | AB17: 6.5 | AC17: =AA17*AB17 -> 0 | AD17: =IFERROR(GETPIVOTDATA("Ha Tot collecte",'[1]Feuil1 (2)'!$A$3,"Silo",AD$11,"Lib. variété",$A17),0) -> 0 | AE17: 6.5 | AF17: =AD17*AE17 -> 0 | AG17: =IFERROR(GETPIVOTDATA("Ha Tot collecte",'[1]Feuil1 (2)'!$A$3,"Silo",AG$11,"Lib. variété",$A17),0) -> 0 | AH17: 6.5 | AI17: =AG17*AH17 -> 0 | AJ17: =IFERROR(GETPIVOTDATA("Ha Tot collecte",'[1]Feuil1 (2)'!$A$3,"Silo",AJ$11,"Lib. variété",$A17),0) -> 0 | AK17: 6.5 | AL17: =AJ17*AK17 -> 0 | AM17: =IFERROR(GETPIVOTDATA("Ha Tot collecte",'[1]Feuil1 (2)'!$A$3,"Silo",AM$11,"Lib. variété",$A17),0) -> 0 | AN17: 6.5 | AO17: =AM17*AN17 -> 0 | AP17: =IFERROR(GETPIVOTDATA("Ha Tot collecte",'[1]Feuil1 (2)'!$A$3,"Silo",AP$11,"Lib. variété",$A17),0) -> 0 | AQ17: 6.5 | AR17: =AP17*AQ17 -> 0 | AS17: =IFERROR(GETPIVOTDATA("Ha Tot collecte",'[1]Feuil1 (2)'!$A$3,"Silo",AS$11,"Lib. variété",$A17),0) -> 0 | AT17: 6.5 | AU17: =AS17*AT17 -> 0 | AV17: =IFERROR(GETPIVOTDATA("Ha Tot collecte",'[1]Feuil1 (2)'!$A$3,"Silo",AV$11,"Lib. variété",$A17),0) -> 0 | AW17: 6.5 | AX17: =AV17*AW17 -> 0 | AY17: =IFERROR(GETPIVOTDATA("Ha Tot collecte",'[1]Feuil1 (2)'!$A$3,"Silo",AY$11,"Lib. variété",$A17),0) -> 0 | AZ17: 6.5 | BA17: =AY17*AZ17 -> 0 | BB17: =IFERROR(GETPIVOTDATA("Ha Tot collecte",'[1]Feuil1 (2)'!$A$3,"Silo",BB$11,"Lib. variété",$A17),0) -> 0 | BC17: 6.5 | BD17: =BB17*BC17 -> 0 | BE17: =IFERROR(GETPIVOTDATA("Ha Tot collecte",'[1]Feuil1 (2)'!$A$3,"Silo",BE$11,"Lib. variété",$A17),0) -> 0 | BF17: 6.5 | BG17: =BE17*BF17 -> 0 | BH17: =IFERROR(GETPIVOTDATA("Ha Tot collecte",'[1]Feuil1 (2)'!$A$3,"Silo",BH$11,"Lib. variété",$A17),0) -> 0 | BI17: 6.5 | BJ17: =BH17*BI17 -> 0 | BK17: =IFERROR(GETPIVOTDATA("Ha Tot collecte",'[1]Feuil1 (2)'!$A$3,"Silo",BK$11,"Lib. variété",$A17),0) -> 0 | BL17: 6.5 | BM17: =BK17*BL17 -> 0 | BN17: =IFERROR(GETPIVOTDATA("Ha Tot collecte",'[1]Feuil1 (2)'!$A$3,"Silo",BN$11,"Lib. variété",$A17),0) -> 0 | BO17: 6.5 | BP17: =BN17*BO17 -> 0 | BQ17: =IFERROR(GETPIVOTDATA("Ha Tot collecte",'[1]Feuil1 (2)'!$A$3,"Silo",BQ$11,"Lib. variété",$A17),0) -> 0 | BR17: 6.5 | BS17: =BQ17*BR17 -> 0 | BT17: =IFERROR(GETPIVOTDATA("Ha Tot collecte",'[1]Feuil1 (2)'!$A$3,"Silo",BT$11,"Lib. variété",$A17),0) -> 0 | BU17: 6.5 | BV17: =BT17*BU17 -> 0 | BW17: =IFERROR(GETPIVOTDATA("Ha Tot collecte",'[1]Feuil1 (2)'!$A$3,"Silo",BW$11,"Lib. variété",$A17),0) -> 0 | BX17: 6.5 | BY17: =BW17*BX17 -> 0 | BZ17: =IFERROR(GETPIVOTDATA("Ha Tot collecte",'[1]Feuil1 (2)'!$A$3,"Silo",BZ$11,"Lib. variété",$A17),0) -> 0 | CA17: 6.5 | CB17: =BZ17*CA17 -> 0 | CC17: =IFERROR(GETPIVOTDATA("Ha Tot collecte",'[1]Feuil1 (2)'!$A$3,"Silo",CC$11,"Lib. variété",$A17),0) -> 0 | CD17: 6.5 | CE17: =CC17*CD17 -> 0 | CF17: =IFERROR(GETPIVOTDATA("Ha Tot collecte",'[1]Feuil1 (2)'!$A$3,"Silo",CF$11,"Lib. variété",$A17),0) -> 0 | CG17: 6.5 | CH17: =CF17*CG17 -> 0 | CJ17: 6.5 | CK17: =CI17*CJ17 -> 0 | CM17: 6.5 | CN17: =CL17*CM17 -> 0 | CP17: 6.5 | CQ17: =CO17*CP17 -> 0 | CS17: 6.5 | CT17: =CR17*CS17 -> 0 | CV17: 6.5 | CW17: =CU17*CV17 -> 0 | CY17: 6.5 | CZ17: =CX17*CY17 -> 0 | DB17: 6.5 | DC17: =DA17*DB17 -> 0 | DE17: 6.5 | DF17: =DD17*DE17 -> 0 | DH17: 6.5 | DI17: =DG17*DH17 -> 0 | DK17: 6.5 | DL17: =DJ17*DK17 -> 0 | DN17: 6.5 | DO17: =DM17*DN17 -> 0 | DQ17: 6.5 | DR17: =DP17*DQ17 -> 0 | DT17: 6.5 | DU17: =DS17*DT17 -> 0 | DW17: 6.5 | DX17: =DV17*DW17 -> 0 | DZ17: 6.5 | EA17: =DY17*DZ17 -> 0 | EC17: 6.5 | ED17: =EB17*EC17 -> 0 | EF17: 6.5 | EG17: =EE17*EF17 -> 0 | EI17: 6.5 | EJ17: =EH17*EI17 -> 0 | EL17: 6.5 | EM17: =EK17*EL17 -> 0 | EO17: 6.5 | EP17: =EN17*EO17 -> 0 | ER17: 6.5 | ES17: =EQ17*ER17 -> 0 | EU17: 6.5 | EV17: =ET17*EU17 -> 0 | EX17: 6.5 | EY17: =EW17*EX17 -> 0 | FA17: 6.5 | FB17: =EZ17*FA17 -> 0 | FD17: 6.5 | FE17: =FC17*FD17 -> 0 | FG17: 6.5 | FH17: =FF17*FG17 -> 0 | FJ17: 6.5 | FK17: =FI17*FJ17 -> 0 | FM17: 6.5 | FN17: =FL17*FM17 -> 0 | FP17: 6.5 | FQ17: =FO17*FP17 -> 0 | FS17: 6.5 | FT17: =FR17*FS17 -> 0 | FV17: 6.5 | FW17: =FU17*FV17 -> 0 | FY17: 6.5 | FZ17: =FX17*FY17 -> 0 | GB17: 6.5 | GC17: =GA17*GB17 -> 0 | GE17: 6.5 | GF17: =GD17*GE17 -> 0 | GH17: 6.5 | GI17: =GG17*GH17 -> 0 | GK17: 6.5 | GL17: =GJ17*GK17 -> 0 | GN17: 6.5 | GO17: =GM17*GN17 -> 0 | GQ17: 6.5 | GR17: =GP17*GQ17 -> 0 | GT17: 6.5 | GU17: =GS17*GT17 -> 0 | GW17: 6.5 | GX17: =GV17*GW17 -> 0 | GZ17: 6.5 | HA17: =GY17*GZ17 -> 0 | HC17: 6.5 | HD17: =HB17*HC17 -> 0 | HF17: 6.5 | HG17: =HE17*HF17 -> 0 | HI17: 6.5 | HJ17: =HH17*HI17 -> 0 | HL17: 6.5 | HM17: =HK17*HL17 -> 0 | HO17: 6.5 | HP17: =HN17*HO17 -> 0 | HR17: 6.5 | HS17: =HQ17*HR17 -> 0 | HU17: 6.5 | HV17: =HT17*HU17 -> 0 | HX17: 6.5 | HY17: =HW17*HX17 -> 0 | IA17: 6.5 | IB17: =HZ17*IA17 -> 0 | ID17: 6.5 | IE17: =IC17*ID17 -> 0
A18: =Feuil3!B5 -> BLE DE FORCE VALBONA | B18: =F18+I18+L18+O18+R18+U18+X18+AA18+AD18+AG18+AJ18+AM18+AP18+AS18+AV18+AY18+BB18+BE18+BH18+BK18+BN18+BQ18+BT18+BW18+BZ18+CC18+CF18+CI18+CL18+CO18+CR18+CU18+CX18+DA18+DD18+DG18+DJ18+DM18+DP18+DS18+DV18+DY18+EB18+EE18+EH18+EK18+EN18+EQ18+ET18+EW18+EZ18+FC18+FF18+FI18+FL18+FO18+FR18+FU18+FX18+GA18+GD18+GG18+GJ18+GM18+GP18+GS18+GV18+GY18+HB18+HE18+HH18+HK18+HN18+HQ18+HT18+HW18+HZ18+IC18 -> 0 | C18: =IF(B18=0,"",D18/B18) | D18: =H18+K18+N18+Q18+T18+W18+Z18+AC18+AF18+AI18+AL18+AO18+AR18+AU18+AX18+BA18+BD18+BG18+BJ18+BM18+BP18+BS18+BV18+BY18+CB18+CE18+CH18+CK18+CN18+CQ18+CT18+CW18+CZ18+DC18+DF18+DI18+DL18+DO18+DR18+DU18+DX18+EA18+ED18+EG18+EJ18+EM18+EP18+ES18+EV18+EY18+FB18+FE18+FH18+FK18+FN18+FQ18+FT18+FW18+FZ18+GC18+GF18+GI18+GL18+GO18+GR18+GU18+GX18+HA18+HD18+HG18+HJ18+HM18+HP18+HS18+HV18+HY18+IB18+IE18 -> 0 | F18: =IFERROR(GETPIVOTDATA("Ha Tot collecte",'[1]Feuil1 (2)'!$A$3,"Silo",F$11,"Lib. variété",$A18),0) -> 0 | G18: 6.5 | H18: =F18*G18 -> 0 | I18: =IFERROR(GETPIVOTDATA("Ha Tot collecte",'[1]Feuil1 (2)'!$A$3,"Silo",I$11,"Lib. variété",$A18),0) -> 0 | J18: 6.5 | K18: =I18*J18 -> 0 | L18: =IFERROR(GETPIVOTDATA("Ha Tot collecte",'[1]Feuil1 (2)'!$A$3,"Silo",L$11,"Lib. variété",$A18),0) -> 0 | M18: 6.5 | N18: =L18*M18 -> 0 | O18: =IFERROR(GETPIVOTDATA("Ha Tot collecte",'[1]Feuil1 (2)'!$A$3,"Silo",O$11,"Lib. variété",$A18),0) -> 0 | P18: 6.5 | Q18: =O18*P18 -> 0 | R18: =IFERROR(GETPIVOTDATA("Ha Tot collecte",'[1]Feuil1 (2)'!$A$3,"Silo",R$11,"Lib. variété",$A18),0) -> 0 | S18: 6.5 | T18: =R18*S18 -> 0 | U18: =IFERROR(GETPIVOTDATA("Ha Tot collecte",'[1]Feuil1 (2)'!$A$3,"Silo",U$11,"Lib. variété",$A18),0) -> 0 | V18: 6.5 | W18: =U18*V18 -> 0 | X18: =IFERROR(GETPIVOTDATA("Ha Tot collecte",'[1]Feuil1 (2)'!$A$3,"Silo",X$11,"Lib. variété",$A18),0) -> 0 | Y18: 6.5 | Z18: =X18*Y18 -> 0 | AA18: =IFERROR(GETPIVOTDATA("Ha Tot collecte",'[1]Feuil1 (2)'!$A$3,"Silo",AA$11,"Lib. variété",$A18),0) -> 0 | AB18: 6.5 | AC18: =AA18*AB18 -> 0 | AD18: =IFERROR(GETPIVOTDATA("Ha Tot collecte",'[1]Feuil1 (2)'!$A$3,"Silo",AD$11,"Lib. variété",$A18),0) -> 0 | AE18: 6.5 | AF18: =AD18*AE18 -> 0 | AG18: =IFERROR(GETPIVOTDATA("Ha Tot collecte",'[1]Feuil1 (2)'!$A$3,"Silo",AG$11,"Lib. variété",$A18),0) -> 0 | AH18: 6.5 | AI18: =AG18*AH18 -> 0 | AJ18: =IFERROR(GETPIVOTDATA("Ha Tot collecte",'[1]Feuil1 (2)'!$A$3,"Silo",AJ$11,"Lib. variété",$A18),0) -> 0 | AK18: 6.5 | AL18: =AJ18*AK18 -> 0 | AM18: =IFERROR(GETPIVOTDATA("Ha Tot collecte",'[1]Feuil1 (2)'!$A$3,"Silo",AM$11,"Lib. variété",$A18),0) -> 0 | AN18: 6.5 | AO18: =AM18*AN18 -> 0 | AP18: =IFERROR(GETPIVOTDATA("Ha Tot collecte",'[1]Feuil1 (2)'!$A$3,"Silo",AP$11,"Lib. variété",$A18),0) -> 0 | AQ18: 6.5 | AR18: =AP18*AQ18 -> 0 | AS18: =IFERROR(GETPIVOTDATA("Ha Tot collecte",'[1]Feuil1 (2)'!$A$3,"Silo",AS$11,"Lib. variété",$A18),0) -> 0 | AT18: 6.5 | AU18: =AS18*AT18 -> 0 | AV18: =IFERROR(GETPIVOTDATA("Ha Tot collecte",'[1]Feuil1 (2)'!$A$3,"Silo",AV$11,"Lib. variété",$A18),0) -> 0 | AW18: 6.5 | AX18: =AV18*AW18 -> 0 | AY18: =IFERROR(GETPIVOTDATA("Ha Tot collecte",'[1]Feuil1 (2)'!$A$3,"Silo",AY$11,"Lib. variété",$A18),0) -> 0 | AZ18: 6.5 | BA18: =AY18*AZ18 -> 0 | BB18: =IFERROR(GETPIVOTDATA("Ha Tot collecte",'[1]Feuil1 (2)'!$A$3,"Silo",BB$11,"Lib. variété",$A18),0) -> 0 | BC18: 6.5 | BD18: =BB18*BC18 -> 0 | BE18: =IFERROR(GETPIVOTDATA("Ha Tot collecte",'[1]Feuil1 (2)'!$A$3,"Silo",BE$11,"Lib. variété",$A18),0) -> 0 | BF18: 6.5 | BG18: =BE18*BF18 -> 0 | BH18: =IFERROR(GETPIVOTDATA("Ha Tot collecte",'[1]Feuil1 (2)'!$A$3,"Silo",BH$11,"Lib. variété",$A18),0) -> 0 | BI18: 6.5 | BJ18: =BH18*BI18 -> 0 | BK18: =IFERROR(GETPIVOTDATA("Ha Tot collecte",'[1]Feuil1 (2)'!$A$3,"Silo",BK$11,"Lib. variété",$A18),0) -> 0 | BL18: 6.5 | BM18: =BK18*BL18 -> 0 | BN18: =IFERROR(GETPIVOTDATA("Ha Tot collecte",'[1]Feuil1 (2)'!$A$3,"Silo",BN$11,"Lib. variété",$A18),0) -> 0 | BO18: 6.5 | BP18: =BN18*BO18 -> 0 | BQ18: =IFERROR(GETPIVOTDATA("Ha Tot collecte",'[1]Feuil1 (2)'!$A$3,"Silo",BQ$11,"Lib. variété",$A18),0) -> 0 | BR18: 6.5 | BS18: =BQ18*BR18 -> 0 | BT18: =IFERROR(GETPIVOTDATA("Ha Tot collecte",'[1]Feuil1 (2)'!$A$3,"Silo",BT$11,"Lib. variété",$A18),0) -> 0 | BU18: 6.5 | BV18: =BT18*BU18 -> 0 | BW18: =IFERROR(GETPIVOTDATA("Ha Tot collecte",'[1]Feuil1 (2)'!$A$3,"Silo",BW$11,"Lib. variété",$A18),0) -> 0 | BX18: 6.5 | BY18: =BW18*BX18 -> 0 | BZ18: =IFERROR(GETPIVOTDATA("Ha Tot collecte",'[1]Feuil1 (2)'!$A$3,"Silo",BZ$11,"Lib. variété",$A18),0) -> 0 | CA18: 6.5 | CB18: =BZ18*CA18 -> 0 | CC18: =IFERROR(GETPIVOTDATA("Ha Tot collecte",'[1]Feuil1 (2)'!$A$3,"Silo",CC$11,"Lib. variété",$A18),0) -> 0 | CD18: 6.5 | CE18: =CC18*CD18 -> 0 | CF18: =IFERROR(GETPIVOTDATA("Ha Tot collecte",'[1]Feuil1 (2)'!$A$3,"Silo",CF$11,"Lib. variété",$A18),0) -> 0 | CG18: 6.5 | CH18: =CF18*CG18 -> 0 | CJ18: 6.5 | CK18: =CI18*CJ18 -> 0 | CM18: 6.5 | CN18: =CL18*CM18 -> 0 | CP18: 6.5 | CQ18: =CO18*CP18 -> 0 | CS18: 6.5 | CT18: =CR18*CS18 -> 0 | CV18: 6.5 | CW18: =CU18*CV18 -> 0 | CY18: 6.5 | CZ18: =CX18*CY18 -> 0 | DB18: 6.5 | DC18: =DA18*DB18 -> 0 | DE18: 6.5 | DF18: =DD18*DE18 -> 0 | DH18: 6.5 | DI18: =DG18*DH18 -> 0 | DK18: 6.5 | DL18: =DJ18*DK18 -> 0 | DN18: 6.5 | DO18: =DM18*DN18 -> 0 | DQ18: 6.5 | DR18: =DP18*DQ18 -> 0 | DT18: 6.5 | DU18: =DS18*DT18 -> 0 | DW18: 6.5 | DX18: =DV18*DW18 -> 0 | DZ18: 6.5 | EA18: =DY18*DZ18 -> 0 | EC18: 6.5 | ED18: =EB18*EC18 -> 0 | EF18: 6.5 | EG18: =EE18*EF18 -> 0 | EI18: 6.5 | EJ18: =EH18*EI18 -> 0 | EL18: 6.5 | EM18: =EK18*EL18 -> 0 | EO18: 6.5 | EP18: =EN18*EO18 -> 0 | ER18: 6.5 | ES18: =EQ18*ER18 -> 0 | EU18: 6.5 | EV18: =ET18*EU18 -> 0 | EX18: 6.5 | EY18: =EW18*EX18 -> 0 | FA18: 6.5 | FB18: =EZ18*FA18 -> 0 | FD18: 6.5 | FE18: =FC18*FD18 -> 0 | FG18: 6.5 | FH18: =FF18*FG18 -> 0 | FJ18: 6.5 | FK18: =FI18*FJ18 -> 0 | FM18: 6.5 | FN18: =FL18*FM18 -> 0 | FP18: 6.5 | FQ18: =FO18*FP18 -> 0 | FS18: 6.5 | FT18: =FR18*FS18 -> 0 | FV18: 6.5 | FW18: =FU18*FV18 -> 0 | FY18: 6.5 | FZ18: =FX18*FY18 -> 0 | GB18: 6.5 | GC18: =GA18*GB18 -> 0 | GE18: 6.5 | GF18: =GD18*GE18 -> 0 | GH18: 6.5 | GI18: =GG18*GH18 -> 0 | GK18: 6.5 | GL18: =GJ18*GK18 -> 0 | GN18: 6.5 | GO18: =GM18*GN18 -> 0 | GQ18: 6.5 | GR18: =GP18*GQ18 -> 0 | GT18: 6.5 | GU18: =GS18*GT18 -> 0 | GW18: 6.5 | GX18: =GV18*GW18 -> 0 | GZ18: 6.5 | HA18: =GY18*GZ18 -> 0 | HC18: 6.5 | HD18: =HB18*HC18 -> 0 | HF18: 6.5 | HG18: =HE18*HF18 -> 0 | HI18: 6.5 | HJ18: =HH18*HI18 -> 0 | HL18: 6.5 | HM18: =HK18*HL18 -> 0 | HO18: 6.5 | HP18: =HN18*HO18 -> 0 | HR18: 6.5 | HS18: =HQ18*HR18 -> 0 | HU18: 6.5 | HV18: =HT18*HU18 -> 0 | HX18: 6.5 | HY18: =HW18*HX18 -> 0 | IA18: 6.5 | IB18: =HZ18*IA18 -> 0 | ID18: 6.5 | IE18: =IC18*ID18 -> 0
A19: =Feuil3!B6 -> BLE APACHE | B19: =F19+I19+L19+O19+R19+U19+X19+AA19+AD19+AG19+AJ19+AM19+AP19+AS19+AV19+AY19+BB19+BE19+BH19+BK19+BN19+BQ19+BT19+BW19+BZ19+CC19+CF19+CI19+CL19+CO19+CR19+CU19+CX19+DA19+DD19+DG19+DJ19+DM19+DP19+DS19+DV19+DY19+EB19+EE19+EH19+EK19+EN19+EQ19+ET19+EW19+EZ19+FC19+FF19+FI19+FL19+FO19+FR19+FU19+FX19+GA19+GD19+GG19+GJ19+GM19+GP19+GS19+GV19+GY19+HB19+HE19+HH19+HK19+HN19+HQ19+HT19+HW19+HZ19+IC19 -> 0 | C19: =IF(B19=0,"",D19/B19) | D19: =H19+K19+N19+Q19+T19+W19+Z19+AC19+AF19+AI19+AL19+AO19+AR19+AU19+AX19+BA19+BD19+BG19+BJ19+BM19+BP19+BS19+BV19+BY19+CB19+CE19+CH19+CK19+CN19+CQ19+CT19+CW19+CZ19+DC19+DF19+DI19+DL19+DO19+DR19+DU19+DX19+EA19+ED19+EG19+EJ19+EM19+EP19+ES19+EV19+EY19+FB19+FE19+FH19+FK19+FN19+FQ19+FT19+FW19+FZ19+GC19+GF19+GI19+GL19+GO19+GR19+GU19+GX19+HA19+HD19+HG19+HJ19+HM19+HP19+HS19+HV19+HY19+IB19+IE19 -> 0 | F19: =IFERROR(GETPIVOTDATA("Ha Tot collecte",'[1]Feuil1 (2)'!$A$3,"Silo",F$11,"Lib. variété",$A19),0) -> 0 | G19: 6.5 | H19: =F19*G19 -> 0 | I19: =IFERROR(GETPIVOTDATA("Ha Tot collecte",'[1]Feuil1 (2)'!$A$3,"Silo",I$11,"Lib. variété",$A19),0) -> 0 | J19: 6.5 | K19: =I19*J19 -> 0 | L19: =IFERROR(GETPIVOTDATA("Ha Tot collecte",'[1]Feuil1 (2)'!$A$3,"Silo",L$11,"Lib. variété",$A19),0) -> 0 | M19: 6.5 | N19: =L19*M19 -> 0 | O19: =IFERROR(GETPIVOTDATA("Ha Tot collecte",'[1]Feuil1 (2)'!$A$3,"Silo",O$11,"Lib. variété",$A19),0) -> 0 | P19: 6.5 | Q19: =O19*P19 -> 0 | R19: =IFERROR(GETPIVOTDATA("Ha Tot collecte",'[1]Feuil1 (2)'!$A$3,"Silo",R$11,"Lib. variété",$A19),0) -> 0 | S19: 6.5 | T19: =R19*S19 -> 0 | U19: =IFERROR(GETPIVOTDATA("Ha Tot collecte",'[1]Feuil1 (2)'!$A$3,"Silo",U$11,"Lib. variété",$A19),0) -> 0 | V19: 6.5 | W19: =U19*V19 -> 0 | X19: =IFERROR(GETPIVOTDATA("Ha Tot collecte",'[1]Feuil1 (2)'!$A$3,"Silo",X$11,"Lib. variété",$A19),0) -> 0 | Y19: 6.5 | Z19: =X19*Y19 -> 0 | AA19: =IFERROR(GETPIVOTDATA("Ha Tot collecte",'[1]Feuil1 (2)'!$A$3,"Silo",AA$11,"Lib. variété",$A19),0) -> 0 | AB19: 6.5 | AC19: =AA19*AB19 -> 0 | AD19: =IFERROR(GETPIVOTDATA("Ha Tot collecte",'[1]Feuil1 (2)'!$A$3,"Silo",AD$11,"Lib. variété",$A19),0) -> 0 | AE19: 6.5 | AF19: =AD19*AE19 -> 0 | AG19: =IFERROR(GETPIVOTDATA("Ha Tot collecte",'[1]Feuil1 (2)'!$A$3,"Silo",AG$11,"Lib. variété",$A19),0) -> 0 | AH19: 6.5 | AI19: =AG19*AH19 -> 0 | AJ19: =IFERROR(GETPIVOTDATA("Ha Tot collecte",'[1]Feuil1 (2)'!$A$3,"Silo",AJ$11,"Lib. variété",$A19),0) -> 0 | AK19: 6.5 | AL19: =AJ19*AK19 -> 0 | AM19: =IFERROR(GETPIVOTDATA("Ha Tot collecte",'[1]Feuil1 (2)'!$A$3,"Silo",AM$11,"Lib. variété",$A19),0) -> 0 | AN19: 6.5 | AO19: =AM19*AN19 -> 0 | AP19: =IFERROR(GETPIVOTDATA("Ha Tot collecte",'[1]Feuil1 (2)'!$A$3,"Silo",AP$11,"Lib. variété",$A19),0) -> 0 | AQ19: 6.5 | AR19: =AP19*AQ19 -> 0 | AS19: =IFERROR(GETPIVOTDATA("Ha Tot collecte",'[1]Feuil1 (2)'!$A$3,"Silo",AS$11,"Lib. variété",$A19),0) -> 0 | AT19: 6.5 | AU19: =AS19*AT19 -> 0 | AV19: =IFERROR(GETPIVOTDATA("Ha Tot collecte",'[1]Feuil1 (2)'!$A$3,"Silo",AV$11,"Lib. variété",$A19),0) -> 0 | AW19: 6.5 | AX19: =AV19*AW19 -> 0 | AY19: =IFERROR(GETPIVOTDATA("Ha Tot collecte",'[1]Feuil1 (2)'!$A$3,"Silo",AY$11,"Lib. variété",$A19),0) -> 0 | AZ19: 6.5 | BA19: =AY19*AZ19 -> 0 | BB19: =IFERROR(GETPIVOTDATA("Ha Tot collecte",'[1]Feuil1 (2)'!$A$3,"Silo",BB$11,"Lib. variété",$A19),0) -> 0 | BC19: 6.5 | BD19: =BB19*BC19 -> 0 | BE19: =IFERROR(GETPIVOTDATA("Ha Tot collecte",'[1]Feuil1 (2)'!$A$3,"Silo",BE$11,"Lib. variété",$A19),0) -> 0 | BF19: 6.5 | BG19: =BE19*BF19 -> 0 | BH19: =IFERROR(GETPIVOTDATA("Ha Tot collecte",'[1]Feuil1 (2)'!$A$3,"Silo",BH$11,"Lib. variété",$A19),0) -> 0 | BI19: 6.5 | BJ19: =BH19*BI19 -> 0 | BK19: =IFERROR(GETPIVOTDATA("Ha Tot collecte",'[1]Feuil1 (2)'!$A$3,"Silo",BK$11,"Lib. variété",$A19),0) -> 0 | BL19: 6.5 | BM19: =BK19*BL19 -> 0 | BN19: =IFERROR(GETPIVOTDATA("Ha Tot collecte",'[1]Feuil1 (2)'!$A$3,"Silo",BN$11,"Lib. variété",$A19),0) -> 0 | BO19: 6.5 | BP19: =BN19*BO19 -> 0 | BQ19: =IFERROR(GETPIVOTDATA("Ha Tot collecte",'[1]Feuil1 (2)'!$A$3,"Silo",BQ$11,"Lib. variété",$A19),0) -> 0 | BR19: 6.5 | BS19: =BQ19*BR19 -> 0 | BT19: =IFERROR(GETPIVOTDATA("Ha Tot collecte",'[1]Feuil1 (2)'!$A$3,"Silo",BT$11,"Lib. variété",$A19),0) -> 0 | BU19: 6.5 | BV19: =BT19*BU19 -> 0 | BW19: =IFERROR(GETPIVOTDATA("Ha Tot collecte",'[1]Feuil1 (2)'!$A$3,"Silo",BW$11,"Lib. variété",$A19),0) -> 0 | BX19: 6.5 | BY19: =BW19*BX19 -> 0 | BZ19: =IFERROR(GETPIVOTDATA("Ha Tot collecte",'[1]Feuil1 (2)'!$A$3,"Silo",BZ$11,"Lib. variété",$A19),0) -> 0 | CA19: 6.5 | CB19: =BZ19*CA19 -> 0 | CC19: =IFERROR(GETPIVOTDATA("Ha Tot collecte",'[1]Feuil1 (2)'!$A$3,"Silo",CC$11,"Lib. variété",$A19),0) -> 0 | CD19: 6.5 | CE19: =CC19*CD19 -> 0 | CF19: =IFERROR(GETPIVOTDATA("Ha Tot collecte",'[1]Feuil1 (2)'!$A$3,"Silo",CF$11,"Lib. variété",$A19),0) -> 0 | CG19: 6.5 | CH19: =CF19*CG19 -> 0 | CJ19: 6.5 | CK19: =CI19*CJ19 -> 0 | CM19: 6.5 | CN19: =CL19*CM19 -> 0 | CP19: 6.5 | CQ19: =CO19*CP19 -> 0 | CS19: 6.5 | CT19: =CR19*CS19 -> 0 | CV19: 6.5 | CW19: =CU19*CV19 -> 0 | CY19: 6.5 | CZ19: =CX19*CY19 -> 0 | DB19: 6.5 | DC19: =DA19*DB19 -> 0 | DE19: 6.5 | DF19: =DD19*DE19 -> 0 | DH19: 6.5 | DI19: =DG19*DH19 -> 0 | DK19: 6.5 | DL19: =DJ19*DK19 -> 0 | DN19: 6.5 | DO19: =DM19*DN19 -> 0 | DQ19: 6.5 | DR19: =DP19*DQ19 -> 0 | DT19: 6.5 | DU19: =DS19*DT19 -> 0 | DW19: 6.5 | DX19: =DV19*DW19 -> 0 | DZ19: 6.5 | EA19: =DY19*DZ19 -> 0 | EC19: 6.5 | ED19: =EB19*EC19 -> 0 | EF19: 6.5 | EG19: =EE19*EF19 -> 0 | EI19: 6.5 | EJ19: =EH19*EI19 -> 0 | EL19: 6.5 | EM19: =EK19*EL19 -> 0 | EO19: 6.5 | EP19: =EN19*EO19 -> 0 | ER19: 6.5 | ES19: =EQ19*ER19 -> 0 | EU19: 6.5 | EV19: =ET19*EU19 -> 0 | EX19: 6.5 | EY19: =EW19*EX19 -> 0 | FA19: 6.5 | FB19: =EZ19*FA19 -> 0 | FD19: 6.5 | FE19: =FC19*FD19 -> 0 | FG19: 6.5 | FH19: =FF19*FG19 -> 0 | FJ19: 6.5 | FK19: =FI19*FJ19 -> 0 | FM19: 6.5 | FN19: =FL19*FM19 -> 0 | FP19: 6.5 | FQ19: =FO19*FP19 -> 0 | FS19: 6.5 | FT19: =FR19*FS19 -> 0 | FV19: 6.5 | FW19: =FU19*FV19 -> 0 | FY19: 6.5 | FZ19: =FX19*FY19 -> 0 | GB19: 6.5 | GC19: =GA19*GB19 -> 0 | GE19: 6.5 | GF19: =GD19*GE19 -> 0 | GH19: 6.5 | GI19: =GG19*GH19 -> 0 | GK19: 6.5 | GL19: =GJ19*GK19 -> 0 | GN19: 6.5 | GO19: =GM19*GN19 -> 0 | GQ19: 6.5 | GR19: =GP19*GQ19 -> 0 | GT19: 6.5 | GU19: =GS19*GT19 -> 0 | GW19: 6.5 | GX19: =GV19*GW19 -> 0 | GZ19: 6.5 | HA19: =GY19*GZ19 -> 0 | HC19: 6.5 | HD19: =HB19*HC19 -> 0 | HF19: 6.5 | HG19: =HE19*HF19 -> 0 | HI19: 6.5 | HJ19: =HH19*HI19 -> 0 | HL19: 6.5 | HM19: =HK19*HL19 -> 0 | HO19: 6.5 | HP19: =HN19*HO19 -> 0 | HR19: 6.5 | HS19: =HQ19*HR19 -> 0 | HU19: 6.5 | HV19: =HT19*HU19 -> 0 | HX19: 6.5 | HY19: =HW19*HX19 -> 0 | IA19: 6.5 | IB19: =HZ19*IA19 -> 0 | ID19: 6.5 | IE19: =IC19*ID19 -> 0
A20: =Feuil3!B7 -> BLE AREZZO POUR FARINE LABEL ROUGE | B20: =F20+I20+L20+O20+R20+U20+X20+AA20+AD20+AG20+AJ20+AM20+AP20+AS20+AV20+AY20+BB20+BE20+BH20+BK20+BN20+BQ20+BT20+BW20+BZ20+CC20+CF20+CI20+CL20+CO20+CR20+CU20+CX20+DA20+DD20+DG20+DJ20+DM20+DP20+DS20+DV20+DY20+EB20+EE20+EH20+EK20+EN20+EQ20+ET20+EW20+EZ20+FC20+FF20+FI20+FL20+FO20+FR20+FU20+FX20+GA20+GD20+GG20+GJ20+GM20+GP20+GS20+GV20+GY20+HB20+HE20+HH20+HK20+HN20+HQ20+HT20+HW20+HZ20+IC20 -> 0 | C20: =IF(B20=0,"",D20/B20) | D20: =H20+K20+N20+Q20+T20+W20+Z20+AC20+AF20+AI20+AL20+AO20+AR20+AU20+AX20+BA20+BD20+BG20+BJ20+BM20+BP20+BS20+BV20+BY20+CB20+CE20+CH20+CK20+CN20+CQ20+CT20+CW20+CZ20+DC20+DF20+DI20+DL20+DO20+DR20+DU20+DX20+EA20+ED20+EG20+EJ20+EM20+EP20+ES20+EV20+EY20+FB20+FE20+FH20+FK20+FN20+FQ20+FT20+FW20+FZ20+GC20+GF20+GI20+GL20+GO20+GR20+GU20+GX20+HA20+HD20+HG20+HJ20+HM20+HP20+HS20+HV20+HY20+IB20+IE20 -> 0 | F20: =IFERROR(GETPIVOTDATA("Ha Tot collecte",'[1]Feuil1 (2)'!$A$3,"Silo",F$11,"Lib. variété",$A20),0) -> 0 | G20: 6.5 | H20: =F20*G20 -> 0 | I20: =IFERROR(GETPIVOTDATA("Ha Tot collecte",'[1]Feuil1 (2)'!$A$3,"Silo",I$11,"Lib. variété",$A20),0) -> 0 | J20: 6.5 | K20: =I20*J20 -> 0 | L20: =IFERROR(GETPIVOTDATA("Ha Tot collecte",'[1]Feuil1 (2)'!$A$3,"Silo",L$11,"Lib. variété",$A20),0) -> 0 | M20: 6.5 | N20: =L20*M20 -> 0 | O20: =IFERROR(GETPIVOTDATA("Ha Tot collecte",'[1]Feuil1 (2)'!$A$3,"Silo",O$11,"Lib. variété",$A20),0) -> 0 | P20: 6.5 | Q20: =O20*P20 -> 0 | R20: =IFERROR(GETPIVOTDATA("Ha Tot collecte",'[1]Feuil1 (2)'!$A$3,"Silo",R$11,"Lib. variété",$A20),0) -> 0 | S20: 6.5 | T20: =R20*S20 -> 0 | U20: =IFERROR(GETPIVOTDATA("Ha Tot collecte",'[1]Feuil1 (2)'!$A$3,"Silo",U$11,"Lib. variété",$A20),0) -> 0 | V20: 6.5 | W20: =U20*V20 -> 0 | X20: =IFERROR(GETPIVOTDATA("Ha Tot collecte",'[1]Feuil1 (2)'!$A$3,"Silo",X$11,"Lib. variété",$A20),0) -> 0 | Y20: 6.5 | Z20: =X20*Y20 -> 0 | AA20: =IFERROR(GETPIVOTDATA("Ha Tot collecte",'[1]Feuil1 (2)'!$A$3,"Silo",AA$11,"Lib. variété",$A20),0) -> 0 | AB20: 6.5 | AC20: =AA20*AB20 -> 0 | AD20: =IFERROR(GETPIVOTDATA("Ha Tot collecte",'[1]Feuil1 (2)'!$A$3,"Silo",AD$11,"Lib. variété",$A20),0) -> 0 | AE20: 6.5 | AF20: =AD20*AE20 -> 0 | AG20: =IFERROR(GETPIVOTDATA("Ha Tot collecte",'[1]Feuil1 (2)'!$A$3,"Silo",AG$11,"Lib. variété",$A20),0) -> 0 | AH20: 6.5 | AI20: =AG20*AH20 -> 0 | AJ20: =IFERROR(GETPIVOTDATA("Ha Tot collecte",'[1]Feuil1 (2)'!$A$3,"Silo",AJ$11,"Lib. variété",$A20),0) -> 0 | AK20: 6.5 | AL20: =AJ20*AK20 -> 0 | AM20: =IFERROR(GETPIVOTDATA("Ha Tot collecte",'[1]Feuil1 (2)'!$A$3,"Silo",AM$11,"Lib. variété",$A20),0) -> 0 | AN20: 6.5 | AO20: =AM20*AN20 -> 0 | AP20: =IFERROR(GETPIVOTDATA("Ha Tot collecte",'[1]Feuil1 (2)'!$A$3,"Silo",AP$11,"Lib. variété",$A20),0) -> 0 | AQ20: 6.5 | AR20: =AP20*AQ20 -> 0 | AS20: =IFERROR(GETPIVOTDATA("Ha Tot collecte",'[1]Feuil1 (2)'!$A$3,"Silo",AS$11,"Lib. variété",$A20),0) -> 0 | AT20: 6.5 | AU20: =AS20*AT20 -> 0 | AV20: =IFERROR(GETPIVOTDATA("Ha Tot collecte",'[1]Feuil1 (2)'!$A$3,"Silo",AV$11,"Lib. variété",$A20),0) -> 0 | AW20: 6.5 | AX20: =AV20*AW20 -> 0 | AY20: =IFERROR(GETPIVOTDATA("Ha Tot collecte",'[1]Feuil1 (2)'!$A$3,"Silo",AY$11,"Lib. variété",$A20),0) -> 0 | AZ20: 6.5 | BA20: =AY20*AZ20 -> 0 | BB20: =IFERROR(GETPIVOTDATA("Ha Tot collecte",'[1]Feuil1 (2)'!$A$3,"Silo",BB$11,"Lib. variété",$A20),0) -> 0 | BC20: 6.5 | BD20: =BB20*BC20 -> 0 | BE20: =IFERROR(GETPIVOTDATA("Ha Tot collecte",'[1]Feuil1 (2)'!$A$3,"Silo",BE$11,"Lib. variété",$A20),0) -> 0 | BF20: 6.5 | BG20: =BE20*BF20 -> 0 | BH20: =IFERROR(GETPIVOTDATA("Ha Tot collecte",'[1]Feuil1 (2)'!$A$3,"Silo",BH$11,"Lib. variété",$A20),0) -> 0 | BI20: 6.5 | BJ20: =BH20*BI20 -> 0 | BK20: =IFERROR(GETPIVOTDATA("Ha Tot collecte",'[1]Feuil1 (2)'!$A$3,"Silo",BK$11,"Lib. variété",$A20),0) -> 0 | BL20: 6.5 | BM20: =BK20*BL20 -> 0 | BN20: =IFERROR(GETPIVOTDATA("Ha Tot collecte",'[1]Feuil1 (2)'!$A$3,"Silo",BN$11,"Lib. variété",$A20),0) -> 0 | BO20: 6.5 | BP20: =BN20*BO20 -> 0 | BQ20: =IFERROR(GETPIVOTDATA("Ha Tot collecte",'[1]Feuil1 (2)'!$A$3,"Silo",BQ$11,"Lib. variété",$A20),0) -> 0 | BR20: 6.5 | BS20: =BQ20*BR20 -> 0 | BT20: =IFERROR(GETPIVOTDATA("Ha Tot collecte",'[1]Feuil1 (2)'!$A$3,"Silo",BT$11,"Lib. variété",$A20),0) -> 0 | BU20: 6.5 | BV20: =BT20*BU20 -> 0 | BW20: =IFERROR(GETPIVOTDATA("Ha Tot collecte",'[1]Feuil1 (2)'!$A$3,"Silo",BW$11,"Lib. variété",$A20),0) -> 0 | BX20: 6.5 | BY20: =BW20*BX20 -> 0 | BZ20: =IFERROR(GETPIVOTDATA("Ha Tot collecte",'[1]Feuil1 (2)'!$A$3,"Silo",BZ$11,"Lib. variété",$A20),0) -> 0 | CA20: 6.5 | CB20: =BZ20*CA20 -> 0 | CC20: =IFERROR(GETPIVOTDATA("Ha Tot collecte",'[1]Feuil1 (2)'!$A$3,"Silo",CC$11,"Lib. variété",$A20),0) -> 0 | CD20: 6.5 | CE20: =CC20*CD20 -> 0 | CF20: =IFERROR(GETPIVOTDATA("Ha Tot collecte",'[1]Feuil1 (2)'!$A$3,"Silo",CF$11,"Lib. variété",$A20),0) -> 0 | CG20: 6.5 | CH20: =CF20*CG20 -> 0 | CJ20: 6.5 | CK20: =CI20*CJ20 -> 0 | CM20: 6.5 | CN20: =CL20*CM20 -> 0 | CP20: 6.5 | CQ20: =CO20*CP20 -> 0 | CS20: 6.5 | CT20: =CR20*CS20 -> 0 | CV20: 6.5 | CW20: =CU20*CV20 -> 0 | CY20: 6.5 | CZ20: =CX20*CY20 -> 0 | DB20: 6.5 | DC20: =DA20*DB20 -> 0 | DE20: 6.5 | DF20: =DD20*DE20 -> 0 | DH20: 6.5 | DI20: =DG20*DH20 -> 0 | DK20: 6.5 | DL20: =DJ20*DK20 -> 0 | DN20: 6.5 | DO20: =DM20*DN20 -> 0 | DQ20: 6.5 | DR20: =DP20*DQ20 -> 0 | DT20: 6.5 | DU20: =DS20*DT20 -> 0 | DW20: 6.5 | DX20: =DV20*DW20 -> 0 | DZ20: 6.5 | EA20: =DY20*DZ20 -> 0 | EC20: 6.5 | ED20: =EB20*EC20 -> 0 | EF20: 6.5 | EG20: =EE20*EF20 -> 0 | EI20: 6.5 | EJ20: =EH20*EI20 -> 0 | EL20: 6.5 | EM20: =EK20*EL20 -> 0 | EO20: 6.5 | EP20: =EN20*EO20 -> 0 | ER20: 6.5 | ES20: =EQ20*ER20 -> 0 | EU20: 6.5 | EV20: =ET20*EU20 -> 0 | EX20: 6.5 | EY20: =EW20*EX20 -> 0 | FA20: 6.5 | FB20: =EZ20*FA20 -> 0 | FD20: 6.5 | FE20: =FC20*FD20 -> 0 | FG20: 6.5 | FH20: =FF20*FG20 -> 0 | FJ20: 6.5 | FK20: =FI20*FJ20 -> 0 | FM20: 6.5 | FN20: =FL20*FM20 -> 0 | FP20: 6.5 | FQ20: =FO20*FP20 -> 0 | FS20: 6.5 | FT20: =FR20*FS20 -> 0 | FV20: 6.5 | FW20: =FU20*FV20 -> 0 | FY20: 6.5 | FZ20: =FX20*FY20 -> 0 | GB20: 6.5 | GC20: =GA20*GB20 -> 0 | GE20: 6.5 | GF20: =GD20*GE20 -> 0 | GH20: 6.5 | GI20: =GG20*GH20 -> 0 | GK20: 6.5 | GL20: =GJ20*GK20 -> 0 | GN20: 6.5 | GO20: =GM20*GN20 -> 0 | GQ20: 6.5 | GR20: =GP20*GQ20 -> 0 | GT20: 6.5 | GU20: =GS20*GT20 -> 0 | GW20: 6.5 | GX20: =GV20*GW20 -> 0 | GZ20: 6.5 | HA20: =GY20*GZ20 -> 0 | HC20: 6.5 | HD20: =HB20*HC20 -> 0 | HF20: 6.5 | HG20: =HE20*HF20 -> 0 | HI20: 6.5 | HJ20: =HH20*HI20 -> 0 | HL20: 6.5 | HM20: =HK20*HL20 -> 0 | HO20: 6.5 | HP20: =HN20*HO20 -> 0 | HR20: 6.5 | HS20: =HQ20*HR20 -> 0 | HU20: 6.5 | HV20: =HT20*HU20 -> 0 | HX20: 6.5 | HY20: =HW20*HX20 -> 0 | IA20: 6.5 | IB20: =HZ20*IA20 -> 0 | ID20: 6.5 | IE20: =IC20*ID20 -> 0
A21: =Feuil3!B8 -> 0 | B21: =F21+I21+L21+O21+R21+U21+X21+AA21+AD21+AG21+AJ21+AM21+AP21+AS21+AV21+AY21+BB21+BE21+BH21+BK21+BN21+BQ21+BT21+BW21+BZ21+CC21+CF21+CI21+CL21+CO21+CR21+CU21+CX21+DA21+DD21+DG21+DJ21+DM21+DP21+DS21+DV21+DY21+EB21+EE21+EH21+EK21+EN21+EQ21+ET21+EW21+EZ21+FC21+FF21+FI21+FL21+FO21+FR21+FU21+FX21+GA21+GD21+GG21+GJ21+GM21+GP21+GS21+GV21+GY21+HB21+HE21+HH21+HK21+HN21+HQ21+HT21+HW21+HZ21+IC21 -> 0 | C21: =IF(B21=0,"",D21/B21) | D21: =H21+K21+N21+Q21+T21+W21+Z21+AC21+AF21+AI21+AL21+AO21+AR21+AU21+AX21+BA21+BD21+BG21+BJ21+BM21+BP21+BS21+BV21+BY21+CB21+CE21+CH21+CK21+CN21+CQ21+CT21+CW21+CZ21+DC21+DF21+DI21+DL21+DO21+DR21+DU21+DX21+EA21+ED21+EG21+EJ21+EM21+EP21+ES21+EV21+EY21+FB21+FE21+FH21+FK21+FN21+FQ21+FT21+FW21+FZ21+GC21+GF21+GI21+GL21+GO21+GR21+GU21+GX21+HA21+HD21+HG21+HJ21+HM21+HP21+HS21+HV21+HY21+IB21+IE21 -> 0 | F21: =IFERROR(GETPIVOTDATA("Ha Tot collecte",'[1]Feuil1 (2)'!$A$3,"Silo",F$11,"Lib. variété",$A21),0) -> 0 | G21: 6.5 | H21: =F21*G21 -> 0 | I21: =IFERROR(GETPIVOTDATA("Ha Tot collecte",'[1]Feuil1 (2)'!$A$3,"Silo",I$11,"Lib. variété",$A21),0) -> 0 | J21: 6.5 | K21: =I21*J21 -> 0 | L21: =IFERROR(GETPIVOTDATA("Ha Tot collecte",'[1]Feuil1 (2)'!$A$3,"Silo",L$11,"Lib. variété",$A21),0) -> 0 | M21: 6.5 | N21: =L21*M21 -> 0 | O21: =IFERROR(GETPIVOTDATA("Ha Tot collecte",'[1]Feuil1 (2)'!$A$3,"Silo",O$11,"Lib. variété",$A21),0) -> 0 | P21: 6.5 | Q21: =O21*P21 -> 0 | R21: =IFERROR(GETPIVOTDATA("Ha Tot collecte",'[1]Feuil1 (2)'!$A$3,"Silo",R$11,"Lib. variété",$A21),0) -> 0 | S21: 6.5 | T21: =R21*S21 -> 0 | U21: =IFERROR(GETPIVOTDATA("Ha Tot collecte",'[1]Feuil1 (2)'!$A$3,"Silo",U$11,"Lib. variété",$A21),0) -> 0 | V21: 6.5 | W21: =U21*V21 -> 0 | X21: =IFERROR(GETPIVOTDATA("Ha Tot collecte",'[1]Feuil1 (2)'!$A$3,"Silo",X$11,"Lib. variété",$A21),0) -> 0 | Y21: 6.5 | Z21: =X21*Y21 -> 0 | AA21: =IFERROR(GETPIVOTDATA("Ha Tot collecte",'[1]Feuil1 (2)'!$A$3,"Silo",AA$11,"Lib. variété",$A21),0) -> 0 | AB21: 6.5 | AC21: =AA21*AB21 -> 0 | AD21: =IFERROR(GETPIVOTDATA("Ha Tot collecte",'[1]Feuil1 (2)'!$A$3,"Silo",AD$11,"Lib. variété",$A21),0) -> 0 | AE21: 6.5 | AF21: =AD21*AE21 -> 0 | AG21: =IFERROR(GETPIVOTDATA("Ha Tot collecte",'[1]Feuil1 (2)'!$A$3,"Silo",AG$11,"Lib. variété",$A21),0) -> 0 | AH21: 6.5 | AI21: =AG21*AH21 -> 0 | AJ21: =IFERROR(GETPIVOTDATA("Ha Tot collecte",'[1]Feuil1 (2)'!$A$3,"Silo",AJ$11,"Lib. variété",$A21),0) -> 0 | AK21: 6.5 | AL21: =AJ21*AK21 -> 0 | AM21: =IFERROR(GETPIVOTDATA("Ha Tot collecte",'[1]Feuil1 (2)'!$A$3,"Silo",AM$11,"Lib. variété",$A21),0) -> 0 | AN21: 6.5 | AO21: =AM21*AN21 -> 0 | AP21: =IFERROR(GETPIVOTDATA("Ha Tot collecte",'[1]Feuil1 (2)'!$A$3,"Silo",AP$11,"Lib. variété",$A21),0) -> 0 | AQ21: 6.5 | AR21: =AP21*AQ21 -> 0 | AS21: =IFERROR(GETPIVOTDATA("Ha Tot collecte",'[1]Feuil1 (2)'!$A$3,"Silo",AS$11,"Lib. variété",$A21),0) -> 0 | AT21: 6.5 | AU21: =AS21*AT21 -> 0 | AV21: =IFERROR(GETPIVOTDATA("Ha Tot collecte",'[1]Feuil1 (2)'!$A$3,"Silo",AV$11,"Lib. variété",$A21),0) -> 0 | AW21: 6.5 | AX21: =AV21*AW21 -> 0 | AY21: =IFERROR(GETPIVOTDATA("Ha Tot collecte",'[1]Feuil1 (2)'!$A$3,"Silo",AY$11,"Lib. variété",$A21),0) -> 0 | AZ21: 6.5 | BA21: =AY21*AZ21 -> 0 | BB21: =IFERROR(GETPIVOTDATA("Ha Tot collecte",'[1]Feuil1 (2)'!$A$3,"Silo",BB$11,"Lib. variété",$A21),0) -> 0 | BC21: 6.5 | BD21: =BB21*BC21 -> 0 | BE21: =IFERROR(GETPIVOTDATA("Ha Tot collecte",'[1]Feuil1 (2)'!$A$3,"Silo",BE$11,"Lib. variété",$A21),0) -> 0 | BF21: 6.5 | BG21: =BE21*BF21 -> 0 | BH21: =IFERROR(GETPIVOTDATA("Ha Tot collecte",'[1]Feuil1 (2)'!$A$3,"Silo",BH$11,"Lib. variété",$A21),0) -> 0 | BI21: 6.5 | BJ21: =BH21*BI21 -> 0 | BK21: =IFERROR(GETPIVOTDATA("Ha Tot collecte",'[1]Feuil1 (2)'!$A$3,"Silo",BK$11,"Lib. variété",$A21),0) -> 0 | BL21: 6.5 | BM21: =BK21*BL21 -> 0 | BN21: =IFERROR(GETPIVOTDATA("Ha Tot collecte",'[1]Feuil1 (2)'!$A$3,"Silo",BN$11,"Lib. variété",$A21),0) -> 0 | BO21: 6.5 | BP21: =BN21*BO21 -> 0 | BQ21: =IFERROR(GETPIVOTDATA("Ha Tot collecte",'[1]Feuil1 (2)'!$A$3,"Silo",BQ$11,"Lib. variété",$A21),0) -> 0 | BR21: 6.5 | BS21: =BQ21*BR21 -> 0 | BT21: =IFERROR(GETPIVOTDATA("Ha Tot collecte",'[1]Feuil1 (2)'!$A$3,"Silo",BT$11,"Lib. variété",$A21),0) -> 0 | BU21: 6.5 | BV21: =BT21*BU21 -> 0 | BW21: =IFERROR(GETPIVOTDATA("Ha Tot collecte",'[1]Feuil1 (2)'!$A$3,"Silo",BW$11,"Lib. variété",$A21),0) -> 0 | BX21: 6.5 | BY21: =BW21*BX21 -> 0 | BZ21: =IFERROR(GETPIVOTDATA("Ha Tot collecte",'[1]Feuil1 (2)'!$A$3,"Silo",BZ$11,"Lib. variété",$A21),0) -> 0 | CA21: 6.5 | CB21: =BZ21*CA21 -> 0 | CC21: =IFERROR(GETPIVOTDATA("Ha Tot collecte",'[1]Feuil1 (2)'!$A$3,"Silo",CC$11,"Lib. variété",$A21),0) -> 0 | CD21: 6.5 | CE21: =CC21*CD21 -> 0 | CF21: =IFERROR(GETPIVOTDATA("Ha Tot collecte",'[1]Feuil1 (2)'!$A$3,"Silo",CF$11,"Lib. variété",$A21),0) -> 0 | CG21: 6.5 | CH21: =CF21*CG21 -> 0 | CJ21: 6.5 | CK21: =CI21*CJ21 -> 0 | CM21: 6.5 | CN21: =CL21*CM21 -> 0 | CP21: 6.5 | CQ21: =CO21*CP21 -> 0 | CS21: 6.5 | CT21: =CR21*CS21 -> 0 | CV21: 6.5 | CW21: =CU21*CV21 -> 0 | CY21: 6.5 | CZ21: =CX21*CY21 -> 0 | DB21: 6.5 | DC21: =DA21*DB21 -> 0 | DE21: 6.5 | DF21: =DD21*DE21 -> 0 | DH21: 6.5 | DI21: =DG21*DH21 -> 0 | DK21: 6.5 | DL21: =DJ21*DK21 -> 0 | DN21: 6.5 | DO21: =DM21*DN21 -> 0 | DQ21: 6.5 | DR21: =DP21*DQ21 -> 0 | DT21: 6.5 | DU21: =DS21*DT21 -> 0 | DW21: 6.5 | DX21: =DV21*DW21 -> 0 | DZ21: 6.5 | EA21: =DY21*DZ21 -> 0 | EC21: 6.5 | ED21: =EB21*EC21 -> 0 | EF21: 6.5 | EG21: =EE21*EF21 -> 0 | EI21: 6.5 | EJ21: =EH21*EI21 -> 0 | EL21: 6.5 | EM21: =EK21*EL21 -> 0 | EO21: 6.5 | EP21: =EN21*EO21 -> 0 | ER21: 6.5 | ES21: =EQ21*ER21 -> 0 | EU21: 6.5 | EV21: =ET21*EU21 -> 0 | EX21: 6.5 | EY21: =EW21*EX21 -> 0 | FA21: 6.5 | FB21: =EZ21*FA21 -> 0 | FD21: 6.5 | FE21: =FC21*FD21 -> 0 | FG21: 6.5 | FH21: =FF21*FG21 -> 0 | FJ21: 6.5 | FK21: =FI21*FJ21 -> 0 | FM21: 6.5 | FN21: =FL21*FM21 -> 0 | FP21: 6.5 | FQ21: =FO21*FP21 -> 0 | FS21: 6.5 | FT21: =FR21*FS21 -> 0 | FV21: 6.5 | FW21: =FU21*FV21 -> 0 | FY21: 6.5 | FZ21: =FX21*FY21 -> 0 | GB21: 6.5 | GC21: =GA21*GB21 -> 0 | GE21: 6.5 | GF21: =GD21*GE21 -> 0 | GH21: 6.5 | GI21: =GG21*GH21 -> 0 | GK21: 6.5 | GL21: =GJ21*GK21 -> 0 | GN21: 6.5 | GO21: =GM21*GN21 -> 0 | GQ21: 6.5 | GR21: =GP21*GQ21 -> 0 | GT21: 6.5 | GU21: =GS21*GT21 -> 0 | GW21: 6.5 | GX21: =GV21*GW21 -> 0 | GZ21: 6.5 | HA21: =GY21*GZ21 -> 0 | HC21: 6.5 | HD21: =HB21*HC21 -> 0 | HF21: 6.5 | HG21: =HE21*HF21 -> 0 | HI21: 6.5 | HJ21: =HH21*HI21 -> 0 | HL21: 6.5 | HM21: =HK21*HL21 -> 0 | HO21: 6.5 | HP21: =HN21*HO21 -> 0 | HR21: 6.5 | HS21: =HQ21*HR21 -> 0 | HU21: 6.5 | HV21: =HT21*HU21 -> 0 | HX21: 6.5 | HY21: =HW21*HX21 -> 0 | IA21: 6.5 | IB21: =HZ21*IA21 -> 0 | ID21: 6.5 | IE21: =IC21*ID21 -> 0
