Workbook

Sheet Programme
E1: AFFAIRE
E2: =+'Tableau Récapitulatif'!J1 -> Icade Promotion
E3: =+'Tableau Récapitulatif'!J2 -> Magny le Hongre
E4: =+'Tableau Récapitulatif'!J3 -> "Le Hameau des Etangs"
E5: =+'Tableau Récapitulatif'!J4 -> tranche 1
A7: ENTREPRISE | B7: DESIGNATION | C7: NUMERO DU DOCUMENT | D7: DATE DU DOC | E7: MONTANT | F7: Date d'envoi au MO | G7: Date validation du MO | H7: Type | I7: N°OS | J7: Date d'envoi de l'OS | K7: Date de signature de l'OS | L7: Mt Validé du TS | M7: Montant validé du TSHM | N7: REMARQUES | O7: Entreprise & OS
D8: 41654 | I8: 1 | O8: =A8&I8 -> 1
A9: STRADANOVA | O9: =A9&I9 -> STRADANOVA
A10: DE SOUSA | O10: =A10&I10 -> DE SOUSA
A11: CFPB | O11: =A11&I11 -> CFPB
A12: Basile boli | O12: =A12&I12 -> Basile boli
A13: DE SOUSA | I13: 2 | O13: =A13&I13 -> DE SOUSA2
A14: STRADANOVA | O14: =A14&I14 -> STRADANOVA
A15: STRADANOVA | H15: TS | O15: =A15&I15 -> STRADANOVA
A16: STRADANOVA | I16: 2 | O16: =A16&I16 -> STRADANOVA 2
I17: 5 | O17: =A17&I17 -> 5
A18: DE SOUSA | I18: 2 | O18: =A18&I18 -> DE SOUSA2
O19: =A19&I19
A20: STRADANOVA | O20: =A20&I20 -> STRADANOVA
O21: =A21&I21
A22: Basile boli | H22: TMA | O22: =A22&I22 -> Basile boli
O23: =A23&I23
I24: 3 | O24: =A24&I24 -> 3
A25: STRADANOVA | B25: Béton sur porte d'entrée maisons | E25: 100 | I25: 4 | O25: =A25&I25 -> STRADANOVA4
A26: CFPB | B26: Modification fondation lot 27 | O26: =A26&I26 -> CFPB
A27: De Sousa | O27: =A27&I27 -> De Sousa
A28: De Sousa | O28: =A28&I28 -> De Sousa
A29: De Sousa | O29: =A29&I29 -> De Sousa
A30: De Sousa | O30: =A30&I30 -> De Sousa
A31: De Sousa | O31: =A31&I31 -> De Sousa
A32: De Sousa | O32: =A32&I32 -> De Sousa
A33: De Sousa | O33: =A33&I33 -> De Sousa
A34: LE JOSSEC | B34: Mise en place de 7 cabines de douches (Pb NFC 15-100) | C34: D14-0401 | D34: 41746 | F34: 41746 | N34: Refusé - Le MO souhaite des cabines moins cher (4784,00€) | O34: =A34&I34 -> LE JOSSEC
A35: LE JOSSEC | B35: Mise en place de 7 cabines de douches (Pb NFC 15-100) | C35: D14-0401 | D35: 41746 | E35: 3976 | F35: 41772 | O35: =A35&I35 -> LE JOSSEC
A36: STRADANOVA | B36: Scarification sol pour les blocs de meulières | C36: DEVIS JAR 14-047 | D36: 41724 | F36: 41744 | G36: Cf reponse du 23/04/14 et envoi a l'entreprise | N36: Vu avec le MO en RDV le 03/04/14 (17655€) | O36: =A36&I36 -> STRADANOVA
A37: STRADANOVA | B37: Suppression cloture + portail du marché car déjà réglé sur facture avant signature du marché | C37: - | D37: - | E37: -14235 | N37: A faire avec le DGD | O37: =A37&I37 -> STRADANOVA
A38: STRADANOVA | B38: clôture de chantier + portail (14235€) | C38: Facture n°JAR 14.01.07 | D38: - | E38: 14235 | F38: - | G38: 41660 | H38: TS | I38: 1 | J38: 41661 | K38: 41663 | M38: =13035+1200 -> 14235 | O38: =A38&I38 -> STRADANOVA1
A39: STRADANOVA | B39: Clôture type autoroute sur parcelle | C39: DEVIS JAR 14-052 | D39: 41744 | E39: 3400 | F39: 41744 | G39: 41752 | H39: TS | I39: 2 | O39: =A39&I39 -> STRADANOVA2
A40: STRADANOVA | E40: 100 | I40: 3 | O40: =A40&I40 -> STRADANOVA3
O41: =A41&I41
O42: =A42&I42
A43: TOTAL | E43: =SUM(E8:E42) -> 7576 | L43: =SUM(L8:L42) -> 0 | M43: =SUM(M8:M42) -> 14235
B44: DELTA

Sheet Tableau Récapitulatif
A1: ENTREPRISE | B1: Lot | D1: Marché de Base | E1: CB ou RG | I1: Promoteur | J1: Icade Promotion
A2: STRADANOVA | B2: VRD | D2: 500000 | E2: X | I2: Ville | J2: Magny le Hongre
A3: DE SOUSA | I3: Nom du prg | J3: "Le Hameau des Etangs"
A4: CFPB | J4: tranche 1
E7: X
D35: =SUM(D2:D34) -> 500000

Sheet Stradonava
E1: AFFAIRE
E2: =+'Tableau Récapitulatif'!J1 -> Icade Promotion
E3: =+'Tableau Récapitulatif'!J2 -> Magny le Hongre
E4: =+'Tableau Récapitulatif'!J3 -> "Le Hameau des Etangs"
E5: =+'Tableau Récapitulatif'!J4 -> tranche 1
A9: Entreprise : | C9: STRADANOVA
A10: Lot: | C10: N°1
A13: DECOMPTE GENERAL DEFINITIF
A15: Entreprise et OS | B15: Marché de base | E15: 200000
A16: =$C$9&C16 -> STRADANOVA1 | B16: Os n° | C16: 1 | E16: =IFERROR(VLOOKUP(A16,CHOOSE({1,2},Programme!O:O,Programme!E:E),2,FALSE),0) -> 14235 | G16: =SIERREUR(RECHERCHEV(A16;CHOISIR({1.2};Programme!O:O;Programme!E:E);2;FAUX);0)
A17: =$C$9&C17 -> STRADANOVA2 | B17: Os n° | C17: 2 | E17: =IFERROR(VLOOKUP(A17,CHOOSE({1,2},Programme!O:O,Programme!E:E),2,FALSE),0) -> 3400
A18: =$C$9&C18 -> STRADANOVA3 | B18: Os n° | C18: 3 | E18: =IFERROR(VLOOKUP(A18,CHOOSE({1,2},Programme!O:O,Programme!E:E),2,FALSE),0) -> 100
A19: =$C$9&C19 -> STRADANOVA4 | B19: Os n° | C19: 4 | E19: =IFERROR(VLOOKUP(A19,CHOOSE({1,2},Programme!O:O,Programme!E:E),2,FALSE),0) -> 100
A20: =$C$9&C20 -> STRADANOVA5 | B20: Os n° | C20: 5 | E20: =IFERROR(VLOOKUP(A20,CHOOSE({1,2},Programme!O:O,Programme!E:E),2,FALSE),0) -> 0
A21: =$C$9&C21 -> STRADANOVA6 | B21: Os n° | C21: 6 | E21: =IFERROR(VLOOKUP(A21,CHOOSE({1,2},Programme!O:O,Programme!E:E),2,FALSE),0) -> 0
A22: =$C$9&C22 -> STRADANOVA7 | B22: Os n° | C22: 7 | E22: =IFERROR(VLOOKUP(A22,CHOOSE({1,2},Programme!O:O,Programme!E:E),2,FALSE),0) -> 0
A23: =$C$9&C23 -> STRADANOVA8 | B23: Os n° | C23: 8 | E23: =IFERROR(VLOOKUP(A23,CHOOSE({1,2},Programme!O:O,Programme!E:E),2,FALSE),0) -> 0
A24: =$C$9&C24 -> STRADANOVA9 | B24: Os n° | C24: 9 | E24: =IFERROR(VLOOKUP(A24,CHOOSE({1,2},Programme!O:O,Programme!E:E),2,FALSE),0) -> 0
A25: =$C$9&C25 -> STRADANOVA10 | B25: Os n° | C25: 10 | E25: =IFERROR(VLOOKUP(A25,CHOOSE({1,2},Programme!O:O,Programme!E:E),2,FALSE),0) -> 0
A26: =$C$9&C26 -> STRADANOVA11 | B26: Os n° | C26: 11 | E26: =IFERROR(VLOOKUP(A26,CHOOSE({1,2},Programme!O:O,Programme!E:E),2,FALSE),0) -> 0
A27: =$C$9&C27 -> STRADANOVA12 | B27: Os n° | C27: 12 | E27: =IFERROR(VLOOKUP(A27,CHOOSE({1,2},Programme!O:O,Programme!E:E),2,FALSE),0) -> 0
B28: Total des OS + CIE | E28: =SUM(E15:E27) -> 217835
B29: Total des OS + CIE + Marché | E29: =E28+E15 -> 417835
B30: Prorata 2% | E30: =E29*2/100 -> 8356.7
B31: Retenue de garantie 0% | E31: =E29*5/100-15100 -> 5791.75
B32: (caution bancaire : 15 100 € HT)
B33: Imputations compte inter entreprises | E33: 1440.31
B34: TOTAL HT | E34: =E29-E30-E31-E33 -> 402246.24
B35: TVA 19,6% | E35: =E34*19.6/100 -> 78840.263
B36: TOTAL TTC | E36: =E34+E35 -> 481086.5

Sheet Entreprise  (2)
E1: AFFAIRE
E2: =+'Tableau Récapitulatif'!J1 -> Icade Promotion
E3: =+'Tableau Récapitulatif'!J2 -> Magny le Hongre
E4: =+'Tableau Récapitulatif'!J3 -> "Le Hameau des Etangs"
E5: =+'Tableau Récapitulatif'!J4 -> tranche 1
A9: Entreprise : | C9: STRADANOVA
A10: Lot: | C10: N°1
A13: DECOMPTE GENERAL DEFINITIF
A15: Entreprise et OS | B15: Marché de base | E15: 200000
A16: =$C$9&C16 -> STRADANOVA1 | B16: Os n° | C16: 1 | E16: =LOOKUP(A16,Programme!O:O,Programme!E:E) -> 14235
A17: =$C$9&C17 -> STRADANOVA2 | B17: Os n° | C17: 2 | E17: =LOOKUP(A17,Programme!O:O,Programme!E:E) -> 3400
A18: =$C$9&C18 -> STRADANOVA3 | B18: Os n° | C18: 3 | E18: =LOOKUP(A18,Programme!O:O,Programme!E:E) -> 100
A19: =$C$9&C19 -> STRADANOVA4 | B19: Os n° | C19: 4 | E19: =LOOKUP(A19,Programme!O:O,Programme!E:E) -> 0
A20: =$C$9&C20 -> STRADANOVA5 | B20: Os n° | C20: 5 | E20: =LOOKUP(A20,Programme!O:O,Programme!E:E) -> 0
A21: =$C$9&C21 -> STRADANOVA6 | B21: Os n° | C21: 6 | E21: =LOOKUP(A21,Programme!O:O,Programme!E:E) -> 0
A22: =$C$9&C22 -> STRADANOVA7 | B22: Os n° | C22: 7 | E22: =LOOKUP(A22,Programme!O:O,Programme!E:E) -> 0
A23: =$C$9&C23 -> STRADANOVA8 | B23: Os n° | C23: 8 | E23: =LOOKUP(A23,Programme!O:O,Programme!E:E) -> 0
A24: =$C$9&C24 -> STRADANOVA9 | B24: Os n° | C24: 9 | E24: =LOOKUP(A24,Programme!O:O,Programme!E:E) -> 0
A25: =$C$9&C25 -> STRADANOVA10 | B25: Os n° | C25: 10
A26: =$C$9&C26 -> STRADANOVA11 | B26: Os n° | C26: 11
A27: =$C$9&C27 -> STRADANOVA12 | B27: Os n° | C27: 12
B28: Total des OS + CIE | E28: =SUM(E15:E27) -> 217735
B29: Total des OS + CIE + Marché | E29: =E28+E15 -> 417735
B30: Prorata 2% | E30: =E29*2/100 -> 8354.7
B31: Retenue de garantie 0% | E31: =E29*5/100-15100 -> 5786.75
B32: (caution bancaire : 15 100 € HT)
B33: Imputations compte inter entreprises | E33: 1440.31
B34: TOTAL HT | E34: =E29-E30-E31-E33 -> 402153.24
B35: TVA 19,6% | E35: =E34*19.6/100 -> 78822.035
B36: TOTAL TTC | E36: =E34+E35 -> 480975.28

Sheet Entreprise (3)
E1: AFFAIRE
E2: =+'Tableau Récapitulatif'!J1 -> Icade Promotion
E3: =+'Tableau Récapitulatif'!J2 -> Magny le Hongre
E4: =+'Tableau Récapitulatif'!J3 -> "Le Hameau des Etangs"
E5: =+'Tableau Récapitulatif'!J4 -> tranche 1
A9: Entreprise : | C9: STRADANOVA
A10: Lot: | C10: N°1
A13: DECOMPTE GENERAL DEFINITIF
A15: Entreprise et OS | B15: Marché de base | E15: 200000
A16: =$C$9&C16 -> STRADANOVA1 | B16: Os n° | C16: 1 | E16: =LOOKUP(A16,Programme!O:O,Programme!E:E) -> 14235
A17: =$C$9&C17 -> STRADANOVA2 | B17: Os n° | C17: 2 | E17: =LOOKUP(A17,Programme!O:O,Programme!E:E) -> 3400
A18: =$C$9&C18 -> STRADANOVA3 | B18: Os n° | C18: 3 | E18: =LOOKUP(A18,Programme!O:O,Programme!E:E) -> 100
A19: =$C$9&C19 -> STRADANOVA4 | B19: Os n° | C19: 4 | E19: =LOOKUP(A19,Programme!O:O,Programme!E:E) -> 0
A20: =$C$9&C20 -> STRADANOVA5 | B20: Os n° | C20: 5 | E20: =LOOKUP(A20,Programme!O:O,Programme!E:E) -> 0
A21: =$C$9&C21 -> STRADANOVA6 | B21: Os n° | C21: 6 | E21: =LOOKUP(A21,Programme!O:O,Programme!E:E) -> 0
A22: =$C$9&C22 -> STRADANOVA7 | B22: Os n° | C22: 7 | E22: =LOOKUP(A22,Programme!O:O,Programme!E:E) -> 0
A23: =$C$9&C23 -> STRADANOVA8 | B23: Os n° | C23: 8 | E23: =LOOKUP(A23,Programme!O:O,Programme!E:E) -> 0
A24: =$C$9&C24 -> STRADANOVA9 | B24: Os n° | C24: 9 | E24: =LOOKUP(A24,Programme!O:O,Programme!E:E) -> 0
A25: =$C$9&C25 -> STRADANOVA10 | B25: Os n° | C25: 10
A26: =$C$9&C26 -> STRADANOVA11 | B26: Os n° | C26: 11
A27: =$C$9&C27 -> STRADANOVA12 | B27: Os n° | C27: 12
B28: Total des OS + CIE | E28: =SUM(E15:E27) -> 217735
B29: Total des OS + CIE + Marché | E29: =E28+E15 -> 417735
B30: Prorata 2% | E30: =E29*2/100 -> 8354.7
B31: Retenue de garantie 0% | E31: =E29*5/100-15100 -> 5786.75
B32: (caution bancaire : 15 100 € HT)
B33: Imputations compte inter entreprises | E33: 1440.31
B34: TOTAL HT | E34: =E29-E30-E31-E33 -> 402153.24
B35: TVA 19,6% | E35: =E34*19.6/100 -> 78822.035
B36: TOTAL TTC | E36: =E34+E35 -> 480975.28

Sheet Entreprise  (4)
E1: AFFAIRE
E2: =+'Tableau Récapitulatif'!J1 -> Icade Promotion
E3: =+'Tableau Récapitulatif'!J2 -> Magny le Hongre
E4: =+'Tableau Récapitulatif'!J3 -> "Le Hameau des Etangs"
E5: =+'Tableau Récapitulatif'!J4 -> tranche 1
A9: Entreprise : | C9: STRADANOVA
A10: Lot: | C10: N°1
A13: DECOMPTE GENERAL DEFINITIF
A15: Entreprise et OS | B15: Marché de base | E15: 200000
A16: =$C$9&C16 -> STRADANOVA1 | B16: Os n° | C16: 1 | E16: =LOOKUP(A16,Programme!O:O,Programme!E:E) -> 14235
A17: =$C$9&C17 -> STRADANOVA2 | B17: Os n° | C17: 2 | E17: =LOOKUP(A17,Programme!O:O,Programme!E:E) -> 3400
A18: =$C$9&C18 -> STRADANOVA3 | B18: Os n° | C18: 3 | E18: =LOOKUP(A18,Programme!O:O,Programme!E:E) -> 100
A19: =$C$9&C19 -> STRADANOVA4 | B19: Os n° | C19: 4 | E19: =LOOKUP(A19,Programme!O:O,Programme!E:E) -> 0
A20: =$C$9&C20 -> STRADANOVA5 | B20: Os n° | C20: 5 | E20: =LOOKUP(A20,Programme!O:O,Programme!E:E) -> 0
A21: =$C$9&C21 -> STRADANOVA6 | B21: Os n° | C21: 6 | E21: =LOOKUP(A21,Programme!O:O,Programme!E:E) -> 0
A22: =$C$9&C22 -> STRADANOVA7 | B22: Os n° | C22: 7 | E22: =LOOKUP(A22,Programme!O:O,Programme!E:E) -> 0
A23: =$C$9&C23 -> STRADANOVA8 | B23: Os n° | C23: 8 | E23: =LOOKUP(A23,Programme!O:O,Programme!E:E) -> 0
A24: =$C$9&C24 -> STRADANOVA9 | B24: Os n° | C24: 9 | E24: =LOOKUP(A24,Programme!O:O,Programme!E:E) -> 0
A25: =$C$9&C25 -> STRADANOVA10 | B25: Os n° | C25: 10
A26: =$C$9&C26 -> STRADANOVA11 | B26: Os n° | C26: 11
A27: =$C$9&C27 -> STRADANOVA12 | B27: Os n° | C27: 12
B28: Total des OS + CIE | E28: =SUM(E15:E27) -> 217735
B29: Total des OS + CIE + Marché | E29: =E28+E15 -> 417735
B30: Prorata 2% | E30: =E29*2/100 -> 8354.7
B31: Retenue de garantie 0% | E31: =E29*5/100-15100 -> 5786.75
B32: (caution bancaire : 15 100 € HT)
B33: Imputations compte inter entreprises | E33: 1440.31
B34: TOTAL HT | E34: =E29-E30-E31-E33 -> 402153.24
B35: TVA 19,6% | E35: =E34*19.6/100 -> 78822.035
B36: TOTAL TTC | E36: =E34+E35 -> 480975.28

Sheet Entreprise (5)
E1: AFFAIRE
E2: =+'Tableau Récapitulatif'!J1 -> Icade Promotion
E3: =+'Tableau Récapitulatif'!J2 -> Magny le Hongre
E4: =+'Tableau Récapitulatif'!J3 -> "Le Hameau des Etangs"
E5: =+'Tableau Récapitulatif'!J4 -> tranche 1
A9: Entreprise : | C9: STRADANOVA
A10: Lot: | C10: N°1
A13: DECOMPTE GENERAL DEFINITIF
A15: Entreprise et OS | B15: Marché de base | E15: 200000
A16: =$C$9&C16 -> STRADANOVA1 | B16: Os n° | C16: 1 | E16: =LOOKUP(A16,Programme!O:O,Programme!E:E) -> 14235
A17: =$C$9&C17 -> STRADANOVA2 | B17: Os n° | C17: 2 | E17: =LOOKUP(A17,Programme!O:O,Programme!E:E) -> 3400
A18: =$C$9&C18 -> STRADANOVA3 | B18: Os n° | C18: 3 | E18: =LOOKUP(A18,Programme!O:O,Programme!E:E) -> 100
A19: =$C$9&C19 -> STRADANOVA4 | B19: Os n° | C19: 4 | E19: =LOOKUP(A19,Programme!O:O,Programme!E:E) -> 0
A20: =$C$9&C20 -> STRADANOVA5 | B20: Os n° | C20: 5 | E20: =LOOKUP(A20,Programme!O:O,Programme!E:E) -> 0
A21: =$C$9&C21 -> STRADANOVA6 | B21: Os n° | C21: 6 | E21: =LOOKUP(A21,Programme!O:O,Programme!E:E) -> 0
A22: =$C$9&C22 -> STRADANOVA7 | B22: Os n° | C22: 7 | E22: =LOOKUP(A22,Programme!O:O,Programme!E:E) -> 0
A23: =$C$9&C23 -> STRADANOVA8 | B23: Os n° | C23: 8 | E23: =LOOKUP(A23,Programme!O:O,Programme!E:E) -> 0
A24: =$C$9&C24 -> STRADANOVA9 | B24: Os n° | C24: 9 | E24: =LOOKUP(A24,Programme!O:O,Programme!E:E) -> 0
A25: =$C$9&C25 -> STRADANOVA10 | B25: Os n° | C25: 10
A26: =$C$9&C26 -> STRADANOVA11 | B26: Os n° | C26: 11
A27: =$C$9&C27 -> STRADANOVA12 | B27: Os n° | C27: 12
B28: Total des OS + CIE | E28: =SUM(E15:E27) -> 217735
B29: Total des OS + CIE + Marché | E29: =E28+E15 -> 417735
B30: Prorata 2% | E30: =E29*2/100 -> 8354.7
B31: Retenue de garantie 0% | E31: =E29*5/100-15100 -> 5786.75
B32: (caution bancaire : 15 100 € HT)
B33: Imputations compte inter entreprises | E33: 1440.31
B34: TOTAL HT | E34: =E29-E30-E31-E33 -> 402153.24
B35: TVA 19,6% | E35: =E34*19.6/100 -> 78822.035
B36: TOTAL TTC | E36: =E34+E35 -> 480975.28

Sheet Entreprise (6)
E1: AFFAIRE
E2: =+'Tableau Récapitulatif'!J1 -> Icade Promotion
E3: =+'Tableau Récapitulatif'!J2 -> Magny le Hongre
E4: =+'Tableau Récapitulatif'!J3 -> "Le Hameau des Etangs"
E5: =+'Tableau Récapitulatif'!J4 -> tranche 1
A9: Entreprise : | C9: STRADANOVA
A10: Lot: | C10: N°1
A13: DECOMPTE GENERAL DEFINITIF
A15: Entreprise et OS | B15: Marché de base | E15: 200000
A16: =$C$9&C16 -> STRADANOVA1 | B16: Os n° | C16: 1 | E16: =LOOKUP(A16,Programme!O:O,Programme!E:E) -> 14235
A17: =$C$9&C17 -> STRADANOVA2 | B17: Os n° | C17: 2 | E17: =LOOKUP(A17,Programme!O:O,Programme!E:E) -> 3400
A18: =$C$9&C18 -> STRADANOVA3 | B18: Os n° | C18: 3 | E18: =LOOKUP(A18,Programme!O:O,Programme!E:E) -> 100
A19: =$C$9&C19 -> STRADANOVA4 | B19: Os n° | C19: 4 | E19: =LOOKUP(A19,Programme!O:O,Programme!E:E) -> 0
A20: =$C$9&C20 -> STRADANOVA5 | B20: Os n° | C20: 5 | E20: =LOOKUP(A20,Programme!O:O,Programme!E:E) -> 0
A21: =$C$9&C21 -> STRADANOVA6 | B21: Os n° | C21: 6 | E21: =LOOKUP(A21,Programme!O:O,Programme!E:E) -> 0
A22: =$C$9&C22 -> STRADANOVA7 | B22: Os n° | C22: 7 | E22: =LOOKUP(A22,Programme!O:O,Programme!E:E) -> 0
A23: =$C$9&C23 -> STRADANOVA8 | B23: Os n° | C23: 8 | E23: =LOOKUP(A23,Programme!O:O,Programme!E:E) -> 0
A24: =$C$9&C24 -> STRADANOVA9 | B24: Os n° | C24: 9 | E24: =LOOKUP(A24,Programme!O:O,Programme!E:E) -> 0
A25: =$C$9&C25 -> STRADANOVA10 | B25: Os n° | C25: 10
A26: =$C$9&C26 -> STRADANOVA11 | B26: Os n° | C26: 11
A27: =$C$9&C27 -> STRADANOVA12 | B27: Os n° | C27: 12
B28: Total des OS + CIE | E28: =SUM(E15:E27) -> 217735
B29: Total des OS + CIE + Marché | E29: =E28+E15 -> 417735
B30: Prorata 2% | E30: =E29*2/100 -> 8354.7
B31: Retenue de garantie 0% | E31: =E29*5/100-15100 -> 5786.75
B32: (caution bancaire : 15 100 € HT)
B33: Imputations compte inter entreprises | E33: 1440.31
B34: TOTAL HT | E34: =E29-E30-E31-E33 -> 402153.24
B35: TVA 19,6% | E35: =E34*19.6/100 -> 78822.035
B36: TOTAL TTC | E36: =E34+E35 -> 480975.28
