Workbook

Sheet Total
B2: Ressources Totales | D2: Ressources Tailleur | F2: Ressources Bijoutier | H2: Ressources Cordonnier | J2: Ressources Forgeron | L2: Ressources Sculpteur | N2: Ressources Bricoleur | P2: Ressources Façonneur
D3: {=_xlfn._xlws.SORT(_xlfn.UNIQUE(_xlfn._xlws.FILTER(Tailleur!$E$4:$E$54,(Tailleur!$E$4:$E$54<>""))))} -> Aile de moskito | E3: {=IF(D3="",0,SUM(_xlfn._xlws.FILTER(Tailleur!$G$4:$G$54,Tailleur!$E$4:$E$54=Total!$D3,0)))} -> 4 | F3: {=_xlfn._xlws.SORT(_xlfn.UNIQUE(_xlfn._xlws.FILTER(Bijoutier!$E$4:$E$58,Bijoutier!$E$4:$E$58<>"",0)))} -> Bave de bouftou | G3: {=IF(F3="",0,SUM(_xlfn._xlws.FILTER(Bijoutier!$G$4:$G$58,Bijoutier!$E$4:$E$58=Total!F3,0)))} -> 12
D4: Bave de bouftou | E4: {=IF(D4="",0,SUM(_xlfn._xlws.FILTER(Tailleur!$G$4:$G$54,Tailleur!$E$4:$E$54=Total!$D4,0)))} -> 3 | F4: Blé | G4: {=IF(F4="",0,SUM(_xlfn._xlws.FILTER(Bijoutier!$G$4:$G$58,Bijoutier!$E$4:$E$58=Total!F4,0)))} -> 2
D5: Bave de rose démoniaque | E5: {=IF(D5="",0,SUM(_xlfn._xlws.FILTER(Tailleur!$G$4:$G$54,Tailleur!$E$4:$E$54=Total!$D5,0)))} -> 2 | F5: Defense du Sanglier | G5: {=IF(F5="",0,SUM(_xlfn._xlws.FILTER(Bijoutier!$G$4:$G$58,Bijoutier!$E$4:$E$58=Total!F5,0)))} -> 4
D6: Cendres éternelles | E6: {=IF(D6="",0,SUM(_xlfn._xlws.FILTER(Tailleur!$G$4:$G$54,Tailleur!$E$4:$E$54=Total!$D6,0)))} -> 3 | F6: Engrais | G6: {=IF(F6="",0,SUM(_xlfn._xlws.FILTER(Bijoutier!$G$4:$G$58,Bijoutier!$E$4:$E$58=Total!F6,0)))} -> 3
D7: Coton ancestral | E7: {=IF(D7="",0,SUM(_xlfn._xlws.FILTER(Tailleur!$G$4:$G$54,Tailleur!$E$4:$E$54=Total!$D7,0)))} -> 2 | F7: Epine du Champ Champ | G7: {=IF(F7="",0,SUM(_xlfn._xlws.FILTER(Bijoutier!$G$4:$G$58,Bijoutier!$E$4:$E$58=Total!F7,0)))} -> 6
D8: Croc de rat | E8: {=IF(D8="",0,SUM(_xlfn._xlws.FILTER(Tailleur!$G$4:$G$54,Tailleur!$E$4:$E$54=Total!$D8,0)))} -> 3 | F8: Etoffe écurouille | G8: {=IF(F8="",0,SUM(_xlfn._xlws.FILTER(Bijoutier!$G$4:$G$58,Bijoutier!$E$4:$E$58=Total!F8,0)))} -> 1
D9: Eau | E9: {=IF(D9="",0,SUM(_xlfn._xlws.FILTER(Tailleur!$G$4:$G$54,Tailleur!$E$4:$E$54=Total!$D9,0)))} -> 3 | F9: Fer | G9: {=IF(F9="",0,SUM(_xlfn._xlws.FILTER(Bijoutier!$G$4:$G$58,Bijoutier!$E$4:$E$58=Total!F9,0)))} -> 3
D10: Epine champchamp | E10: {=IF(D10="",0,SUM(_xlfn._xlws.FILTER(Tailleur!$G$4:$G$54,Tailleur!$E$4:$E$54=Total!$D10,0)))} -> 3 | F10: Feu intérieur | G10: {=IF(F10="",0,SUM(_xlfn._xlws.FILTER(Bijoutier!$G$4:$G$58,Bijoutier!$E$4:$E$58=Total!F10,0)))} -> 5
D11: Feu intérieur | E11: {=IF(D11="",0,SUM(_xlfn._xlws.FILTER(Tailleur!$G$4:$G$54,Tailleur!$E$4:$E$54=Total!$D11,0)))} -> 7 | F11: Fleur de Pissenlit | G11: {=IF(F11="",0,SUM(_xlfn._xlws.FILTER(Bijoutier!$G$4:$G$58,Bijoutier!$E$4:$E$58=Total!F11,0)))} -> 3
D12: Feuille de tournesol | E12: {=IF(D12="",0,SUM(_xlfn._xlws.FILTER(Tailleur!$G$4:$G$54,Tailleur!$E$4:$E$54=Total!$D12,0)))} -> 1 | F12: Fluide Glacial | G12: {=IF(F12="",0,SUM(_xlfn._xlws.FILTER(Bijoutier!$G$4:$G$58,Bijoutier!$E$4:$E$58=Total!F12,0)))} -> 1
D13: Fluide glacial | E13: {=IF(D13="",0,SUM(_xlfn._xlws.FILTER(Tailleur!$G$4:$G$54,Tailleur!$E$4:$E$54=Total!$D13,0)))} -> 1 | F13: Laine céleste | G13: {=IF(F13="",0,SUM(_xlfn._xlws.FILTER(Bijoutier!$G$4:$G$58,Bijoutier!$E$4:$E$58=Total!F13,0)))} -> 6
D14: Laine céleste | E14: {=IF(D14="",0,SUM(_xlfn._xlws.FILTER(Tailleur!$G$4:$G$54,Tailleur!$E$4:$E$54=Total!$D14,0)))} -> 5 | F14: Oeil d'Arakmuté | G14: {=IF(F14="",0,SUM(_xlfn._xlws.FILTER(Bijoutier!$G$4:$G$58,Bijoutier!$E$4:$E$58=Total!F14,0)))} -> 6
D15: Langue d'épouvanteur | E15: {=IF(D15="",0,SUM(_xlfn._xlws.FILTER(Tailleur!$G$4:$G$54,Tailleur!$E$4:$E$54=Total!$D15,0)))} -> 8 | F15: Os de chafer | G15: {=IF(F15="",0,SUM(_xlfn._xlws.FILTER(Bijoutier!$G$4:$G$58,Bijoutier!$E$4:$E$58=Total!F15,0)))} -> 3
... D25: Plume Piou Violet | E25: {=IF(D25="",0,SUM(_xlfn._xlws.FILTER(Tailleur!$G$4:$G$54,Tailleur!$E$4:$E$54=Total!$D25,0)))} -> 3 | F25: Volve d'Aminite | G25: {=IF(F25="",0,SUM(_xlfn._xlws.FILTER(Bijoutier!$G$4:$G$58,Bijoutier!$E$4:$E$58=Total!F25,0)))} -> 7
D26: Poudre de perlinpainpain | E26: {=IF(D26="",0,SUM(_xlfn._xlws.FILTER(Tailleur!$G$4:$G$54,Tailleur!$E$4:$E$54=Total!$D26,0)))} -> 3 | G26: {=IF(F26="",0,SUM(_xlfn._xlws.FILTER(Bijoutier!$G$4:$G$58,Bijoutier!$E$4:$E$58=Total!F26,0)))} -> 0
D27: Sourcil de moskito | E27: {=IF(D27="",0,SUM(_xlfn._xlws.FILTER(Tailleur!$G$4:$G$54,Tailleur!$E$4:$E$54=Total!$D27,0)))} -> 1 | G27: {=IF(F27="",0,SUM(_xlfn._xlws.FILTER(Bijoutier!$G$4:$G$58,Bijoutier!$E$4:$E$58=Total!F27,0)))} -> 0
D28: Volve d'amanite | E28: {=IF(D28="",0,SUM(_xlfn._xlws.FILTER(Tailleur!$G$4:$G$54,Tailleur!$E$4:$E$54=Total!$D28,0)))} -> 3 | G28: {=IF(F28="",0,SUM(_xlfn._xlws.FILTER(Bijoutier!$G$4:$G$58,Bijoutier!$E$4:$E$58=Total!F28,0)))} -> 0
E29: {=IF(D29="",0,SUM(_xlfn._xlws.FILTER(Tailleur!$G$4:$G$54,Tailleur!$E$4:$E$54=Total!$D29,0)))} -> 0 | G29: {=IF(F29="",0,SUM(_xlfn._xlws.FILTER(Bijoutier!$G$4:$G$58,Bijoutier!$E$4:$E$58=Total!F29,0)))} -> 0
E30: {=IF(D30="",0,SUM(_xlfn._xlws.FILTER(Tailleur!$G$4:$G$54,Tailleur!$E$4:$E$54=Total!$D30,0)))} -> 0 | G30: {=IF(F30="",0,SUM(_xlfn._xlws.FILTER(Bijoutier!$G$4:$G$58,Bijoutier!$E$4:$E$58=Total!F30,0)))} -> 0
E31: {=IF(D31="",0,SUM(_xlfn._xlws.FILTER(Tailleur!$G$4:$G$54,Tailleur!$E$4:$E$54=Total!$D31,0)))} -> 0 | G31: {=IF(F31="",0,SUM(_xlfn._xlws.FILTER(Bijoutier!$G$4:$G$58,Bijoutier!$E$4:$E$58=Total!F31,0)))} -> 0
E32: {=IF(D32="",0,SUM(_xlfn._xlws.FILTER(Tailleur!$G$4:$G$54,Tailleur!$E$4:$E$54=Total!$D32,0)))} -> 0 | G32: {=IF(F32="",0,SUM(_xlfn._xlws.FILTER(Bijoutier!$G$4:$G$58,Bijoutier!$E$4:$E$58=Total!F32,0)))} -> 0
E33: {=IF(D33="",0,SUM(_xlfn._xlws.FILTER(Tailleur!$G$4:$G$54,Tailleur!$E$4:$E$54=Total!$D33,0)))} -> 0 | G33: {=IF(F33="",0,SUM(_xlfn._xlws.FILTER(Bijoutier!$G$4:$G$58,Bijoutier!$E$4:$E$58=Total!F33,0)))} -> 0
E34: {=IF(D34="",0,SUM(_xlfn._xlws.FILTER(Tailleur!$G$4:$G$54,Tailleur!$E$4:$E$54=Total!$D34,0)))} -> 0 | G34: {=IF(F34="",0,SUM(_xlfn._xlws.FILTER(Bijoutier!$G$4:$G$58,Bijoutier!$E$4:$E$58=Total!F34,0)))} -> 0
E35: {=IF(D35="",0,SUM(_xlfn._xlws.FILTER(Tailleur!$G$4:$G$54,Tailleur!$E$4:$E$54=Total!$D35,0)))} -> 0 | G35: {=IF(F35="",0,SUM(_xlfn._xlws.FILTER(Bijoutier!$G$4:$G$58,Bijoutier!$E$4:$E$58=Total!F35,0)))} -> 0
E36: {=IF(D36="",0,SUM(_xlfn._xlws.FILTER(Tailleur!$G$4:$G$54,Tailleur!$E$4:$E$54=Total!$D36,0)))} -> 0 | G36: {=IF(F36="",0,SUM(_xlfn._xlws.FILTER(Bijoutier!$G$4:$G$58,Bijoutier!$E$4:$E$58=Total!F36,0)))} -> 0
E37: {=IF(D37="",0,SUM(_xlfn._xlws.FILTER(Tailleur!$G$4:$G$54,Tailleur!$E$4:$E$54=Total!$D37,0)))} -> 0 | G37: {=IF(F37="",0,SUM(_xlfn._xlws.FILTER(Bijoutier!$G$4:$G$58,Bijoutier!$E$4:$E$58=Total!F37,0)))} -> 0
E38: {=IF(D38="",0,SUM(_xlfn._xlws.FILTER(Tailleur!$G$4:$G$54,Tailleur!$E$4:$E$54=Total!$D38,0)))} -> 0 | G38: {=IF(F38="",0,SUM(_xlfn._xlws.FILTER(Bijoutier!$G$4:$G$58,Bijoutier!$E$4:$E$58=Total!F38,0)))} -> 0
E39: {=IF(D39="",0,SUM(_xlfn._xlws.FILTER(Tailleur!$G$4:$G$54,Tailleur!$E$4:$E$54=Total!$D39,0)))} -> 0 | G39: {=IF(F39="",0,SUM(_xlfn._xlws.FILTER(Bijoutier!$G$4:$G$58,Bijoutier!$E$4:$E$58=Total!F39,0)))} -> 0
E40: {=IF(D40="",0,SUM(_xlfn._xlws.FILTER(Tailleur!$G$4:$G$54,Tailleur!$E$4:$E$54=Total!$D40,0)))} -> 0 | G40: {=IF(F40="",0,SUM(_xlfn._xlws.FILTER(Bijoutier!$G$4:$G$58,Bijoutier!$E$4:$E$58=Total!F40,0)))} -> 0
... E101: {=IF(D101="",0,SUM(_xlfn._xlws.FILTER(Tailleur!$G$4:$G$54,Tailleur!$E$4:$E$54=Total!$D101,0)))} -> 0 | G101: {=IF(F101="",0,SUM(_xlfn._xlws.FILTER(Bijoutier!$G$4:$G$58,Bijoutier!$E$4:$E$58=Total!F101,0)))} -> 0

Sheet Tailleur
B2: RUSH TAILLEUR
C3: Item craft | D3: Q | E3: Recettes | F3: Q | G3: Quantité total
B4: LVL 1 à 10
B5: LVL 1 | C5: Le Floude | D5: 1 | E5: Laine céleste | F5: 2 | G5: =F5*$D$5 -> 2
E6: Orties | F6: 2 | G6: =F6*$D$5 -> 2
B8: LVL 2 | C8: Lisseur | D8: 1 | E8: Poudre de perlinpainpain | F8: 3 | G8: =$D$8*F8 -> 3
E9: Cendres éternelles | F9: 3 | G9: =$D$8*F9 -> 3
B11: LVL 3 | C11: Bandeau de vitalité | D11: 1 | E11: Feu intérieur | F11: 3 | G11: =$D$11*F11 -> 3
E12: Eau | F12: 3 | G12: =$D$11*F12 -> 3
B14: LVL 4 | C14: Bandeau Pandawushu | D14: 3 | E14: Pétale Diaphane | F14: 3 | G14: =$D$14*F14 -> 9
E15: Peau de Gloot | F15: 3 | G15: =$D$14*F15 -> 9
B17: LVL 6 | C17: Sac du Petit Récolteur | D17: 1 | E17: Plume chimérique | F17: 4 | G17: =$D$17*F17 -> 4
E18: Laine céleste | F18: 3 | G18: =$D$17*F18 -> 3
B20: LVL 7 | C20: Cape Bleutée | D20: 1 | E20: Volve d'amanite | F20: 3 | G20: =$D$20*F20 -> 3
E21: Plume chimérique | F21: 3 | G21: =$D$20*F21 -> 3
B23: LVL 8 | C23: Coiffe Antôme | D23: 2 | E23: Pétale Diaphane | F23: 4 | G23: =$D$23*F23 -> 8
E24: Feu intérieur | F24: 2 | G24: =$D$23*F24 -> 4
B25: LVL 10 à 20
B26: LVL 10 | C26: Cape du Piou Vert | D26: 1 | E26: Plume Piou vert | F26: 3 | G26: =F26*D26 -> 3
E27: Os chafer | F27: 3 | G27: =F27*D26 -> 3
B29: LVL 11 | C29: Cape Pandawushu | D29: 1 | E29: Feuille de tournesol | F29: 1 | G29: =F29*D29 -> 1
E30: Epine champchamp | F30: 3 | G30: =F30*D29 -> 3
B32: LVL 12 | C32: Cape du Piou Violet | D32: 1 | E32: Plume Piou Violet | F32: 3 | G32: =F32*D32 -> 3
E33: Bave de bouftou | F33: 3 | G33: =F33*D32 -> 3
B35: LVL 13 | C35: Capouze des Champs | D35: 1 | E35: Langue d'épouvanteur | F35: 4 | G35: =F35*D35 -> 4
E36: Bave de rose démoniaque | F36: 1 | G36: =F36*D35 -> 1
B38: LVL 14 | C38: Cape Ellinie | D38: 1 | E38: Plume de piou jaune | F38: 3 | G38: =F38*D38 -> 3
E39: Fluide glacial | F39: 1 | G39: =F39*D38 -> 1
B41: LVL 15 | C41: Moskitogalurette | D41: 1 | E41: Aile de moskito | F41: 4 | G41: =F41*D41 -> 4
E42: Sourcil de moskito | F42: 1 | G42: =F42*D41 -> 1
B44: LVL 16 | C44: Cape de Rougeur | D44: 1 | E44: Coton ancestral | F44: 1 | G44: =F44*D44 -> 1
E45: Plume de piou jaune | F45: 3 | G45: =F45*D44 -> 3
B47: LVL 17 | C47: Cape Abilité | D47: 1 | E47: Bave de rose démoniaque | F47: 1 | G47: =F47*D47 -> 1
E48: Pétale de rose démoniaque | F48: 3 | G48: =F48*D47 -> 3
B50: LVL 18 | C50: Cape Sombre | D50: 1 | E50: Coton ancestral | F50: 1 | G50: =F50*D50 -> 1
E51: Croc de rat | F51: 3 | G51: =F51*D50 -> 3
B53: LVL 19 | C53: Bob du Paysan | D53: 1 | E53: Langue d'épouvanteur | F53: 4 | G53: =F53*D53 -> 4
E54: Pétale magique de Tournesol affamé | F54: 1 | G54: =F54*D53 -> 1

Sheet Bijoutier
B2: RUSH BIJOUTIER
C3: Item craft | D3: Q | E3: Recettes | F3: Q | G3: Quantité total
B4: LVL 1 à 10
B5: LVL 1 | C5: Le Plussain | D5: 1 | E5: Feu intérieur | F5: 2 | G5: =D5*F5 -> 2
E6: Blé | F6: 2 | G6: =D5*F6 -> 2
B8: LVL 2 | C8: Anneau Forcesque | D8: 1 | E8: Peau de Gloot | F8: 3 | G8: =D8*F8 -> 3
E9: Queue de Chapardam | F9: 3 | G9: =D8*F9 -> 3
B11: LVL 3 | C11: Pendentif du Hibou Chétif | D11: 1 | E11: Pétale Diaphane | F11: 3 | G11: =D11*F11 -> 3
E12: Poudre de Perlinpainpain | F12: 3 | G12: =D11*F12 -> 3
B14: LVL 4 | C14: Camaïneux | D14: 1 | E14: Laine céleste | F14: 3 | G14: =D14*F14 -> 3
E15: Fer | F15: 1 | G15: =D14*F15 -> 1
B17: LVL 5 | C17: La larme du Bouftou | D17: 1 | E17: Feu intérieur | F17: 3 | G17: =D17*F17 -> 3
E18: Bave de bouftou | F18: 3 | G18: =D17*F18 -> 3
B20: LVL 6 | C20: Gantie Royal | D20: 1 | E20: Bave de bouftou | F20: 3 | G20: =D20*F20 -> 3
E21: Fer | F21: 1 | G21: =D20*F21 -> 1
B23: LVL 7 | C23: Amulette du Sram | D23: 1 | E23: Volve d'Aminite | F23: 3 | G23: =D23*F23 -> 3
E24: Poudre de Perlinpainpain | F24: 3 | G24: =D23*F24 -> 3
B26: LVL 8 | C26: Amulette du Hibou | D26: 1 | E26: Relique Incarnam | F26: 3 | G26: =D26*F26 -> 3
E27: Bave de bouftou | F27: 3 | G27: =D26*F27 -> 3
B29: LVL 9 | C29: Amulette de Krokette | D29: 1 | E29: Os de chafer | F29: 3 | G29: =D29*F29 -> 3
E30: Laine céleste | F30: 3 | G30: =D29*F30 -> 3
B32: LVL 10 à 20
B33: LVL 10 | C33: Amulette Tétriste | D33: 1 | E33: Volve d'Aminite | F33: 4 | G33: =D33*F33 -> 4
E34: Fer | F34: 1 | G34: =D33*F34 -> 1
B36: LVL 11 | C36: Alliance du Champ Champ | D36: 1 | E36: Epine du Champ Champ | F36: 3 | G36: =D36*F36 -> 3
E37: Pétale Diaphane | F37: 3 | G37: =D36*F37 -> 3
B39: LVL 12 | C39: L'Anneau de Valeur | D39: 1 | E39: Peau de Larve Verte | F39: 3 | G39: =D39*F39 -> 3
E40: Oeil d'Arakmuté | F40: 3 | G40: =D39*F40 -> 3
B42: LVL 13 | C42: Anneau du Champ Champ | D42: 1 | E42: Epine du Champ Champ | F42: 3 | G42: =D42*F42 -> 3
E43: Bave de Bouftou | F43: 3 | G43: =D42*F43 -> 3
B45: LVL 14 | C45: Anneau du Mental | D45: 1 | E45: Serviette de plage | F45: 3 | G45: =D45*F45 -> 3
E46: Oeil d'Arakmuté | F46: 3 | G46: =D45*F46 -> 3
B48: LVL 15 | C48: Anneau Champêtre | D48: 3 | E48: Pétale de Rose démoniaque | F48: 4 | G48: =D48*F48 -> 12
E49: Engrais | F49: 1 | G49: =D48*F49 -> 3
B51: LVL 17 | C51: Anneau du Bandit | D51: 1 | E51: Fluide Glacial | F51: 1 | G51: =D51*F51 -> 1
E52: Peau de Larve Verte | F52: 4 | G52: =D51*F52 -> 4
B54: LVL 18 | C54: Anneau Vice | D54: 1 | E54: Plume de Piou Violet | F54: 3 | G54: =D54*F54 -> 3
E55: Fleur de Pissenlit | F55: 3 | G55: =D54*F55 -> 3
B57: LVL 19 | C57: Anneau du Sanglier | D57: 1 | E57: Defense du Sanglier | F57: 4 | G57: =D57*F57 -> 4
E58: Etoffe écurouille | F58: 1 | G58: =D57*F58 -> 1

Sheet Cordonnier
B2: RUSH CORDONNIER
C3: Item craft | D3: Q | E3: Recettes | F3: Q | G3: Quantité total
B4: LVL 1 à 10 | I4: Liste ingrédients
B5: LVL 1 | C5: Bottes de Force | D5: 1 | E5: Queue de chapardam | F5: 3 | G5: =F5*D5 -> 3 | I5: Queue de chapardam | J5: =SUMIF($E$5:$E$59,I5,$G$5:$G$59) -> 15
E6: Pétale Diaphane | F6: 3 | G6: =F6*D5 -> 3 | I6: Pétale Diaphane | J6: =SUMIF($E$5:$E$59,I6,$G$5:$G$59) -> 6
I7: Plume chimérique | J7: =SUMIF($E$5:$E$59,I7,$G$5:$G$59) -> 12
B8: LVL 2 | C8: Fecaflip | D8: 1 | E8: Plume chimérique | F8: 3 | G8: =F8*D8 -> 3 | I8: Orties | J8: =SUMIF($E$5:$E$59,I8,$G$5:$G$59) -> 6
E9: Pétale Diaphane | F9: 3 | G9: =F9*D8 -> 3 | I9: Laine céleste | J9: =SUMIF($E$5:$E$59,I9,$G$5:$G$59) -> 3
I10: Cendres éternelles | J10: =SUMIF($E$5:$E$59,I10,$G$5:$G$59) -> 6
B11: LVL 3 | C11: Sandales Tofuesques | D11: 1 | E11: Queue de chapardam | F11: 3 | G11: =F11*D11 -> 3 | I11: Peau de Gloot | J11: =SUMIF($E$5:$E$59,I11,$G$5:$G$59) -> 3
E12: Orties | F12: 3 | G12: =F12*D11 -> 3 | I12: Os chafer | J12: =SUMIF($E$5:$E$59,I12,$G$5:$G$59) -> 5
I13: Relique incarnam | J13: =SUMIF($E$5:$E$59,I13,$G$5:$G$59) -> 6
B14: LVL 4 | C14: Bottes du Bouftou | D14: 1 | E14: Queue de chapardam | F14: 3 | G14: =F14*D14 -> 3 | I14: Volve d'Aminite | J14: =SUMIF($E$5:$E$59,I14,$G$5:$G$59) -> 3
E15: Plume chimérique | F15: 3 | G15: =F15*D14 -> 3 | I15: Orties | J15: =SUMIF($E$5:$E$59,I15,$G$5:$G$59) -> 6
I16: Plume de piou vert | J16: =SUMIF($E$5:$E$59,I16,$G$5:$G$59) -> 3
B17: LVL 5 | C17: Einekeineux | D17: 1 | E17: Laine céleste | F17: 3 | G17: =F17*D17 -> 3 | I17: Plume de piou bleu | J17: =SUMIF($E$5:$E$59,I17,$G$5:$G$59) -> 3
E18: Queue de chapardam | F18: 3 | G18: =F18*D17 -> 3 | I18: Intestin d'Araknosé | J18: =SUMIF($E$5:$E$59,I18,$G$5:$G$59) -> 12
I19: Aile de moskito | J19: =SUMIF($E$5:$E$59,I19,$G$5:$G$59) -> 9
B20: LVL 6 | C20: Sandales d'intelligence | D20: 1 | E20: Plume chimérique | F20: 3 | G20: =F20*D20 -> 3 | I20: Poils d'Arakne malade | J20: =SUMIF($E$5:$E$59,I20,$G$5:$G$59) -> 3
E21: Cendres éternelles | F21: 3 | G21: =F21*D20 -> 3 | I21: Peau de larve jaune | J21: =SUMIF($E$5:$E$59,I21,$G$5:$G$59) -> 7
I22: Patte d'Arakne magique | J22: =SUMIF($E$5:$E$59,I22,$G$5:$G$59) -> 1
B23: LVL 7 | C23: Ceinture du Kwabe | D23: 1 | E23: Peau de Gloot | F23: 3 | G23: =F23*D23 -> 3 | I23: Langue d'épouvanteur | J23: =SUMIF($E$5:$E$59,I23,$G$5:$G$59) -> 3
E24: Os chafer | F24: 2 | G24: =F24*D23 -> 2 | I24: Défense du sanglier | J24: =SUMIF($E$5:$E$59,I24,$G$5:$G$59) -> 4
I25: Poils de Darit | J25: =SUMIF($E$5:$E$59,I25,$G$5:$G$59) -> 1
B26: LVL 8 | C26: Bottes de Nexus | D26: 1 | E26: Plume chimérique | F26: 3 | G26: =F26*D26 -> 3 | I26: Coton ancestral | J26: =SUMIF($E$5:$E$59,I26,$G$5:$G$59) -> 3
E27: Relique incarnam | F27: 3 | G27: =F27*D26 -> 3 | I27: Feuille magique du tournesol affamé | J27: =SUMIF($E$5:$E$59,I27,$G$5:$G$59) -> 1
B29: LVL 9 | C29: Ceinture Vitalesque | D29: 1 | E29: Relique incarnam | F29: 3 | G29: =F29*D29 -> 3
E30: Volve d'Aminite | F30: 3 | G30: =F30*D29 -> 3
B32: LVL 10 à 20
B33: LVL 10 | C33: Pacmabottes | D33: 1 | E33: Os chafer | F33: 3 | G33: =F33*D33 -> 3
E34: Orties | F34: 3 | G34: =F34*D33 -> 3
B36: LVL 11 | C36: Sandales Piou vert | D36: 1 | E36: Plume de piou vert | F36: 3 | G36: =F36*D36 -> 3
E37: Queue de chapardam | F37: 3 | G37: =F37*D36 -> 3
B39: LVL 12 | C39: Ceinture Piou bleu | D39: 1 | E39: Plume de piou bleu | F39: 3 | G39: =F39*D39 -> 3
E40: Cendres éternelles | F40: 3 | G40: =F40*D39 -> 3
B42: LVL 13 | C42: Ceinture de poche | D42: 3 | E42: Intestin d'Araknosé | F42: 3 | G42: =F42*D42 -> 9
E43: Aile de moskito | F43: 3 | G43: =F43*D42 -> 9
B45: LVL 15 | C45: Ceinture du bandit | D45: 1 | E45: Poils d'Arakne malade | F45: 3 | G45: =F45*D45 -> 3
E46: Peau de larve jaune | F46: 4 | G46: =F46*D45 -> 4
B48: LVL 16 | C48: Bottes de puissance | D48: 1 | E48: Patte d'Arakne magique | F48: 1 | G48: =F48*D48 -> 1
E49: Langue d'épouvanteur | F49: 3 | G49: =F49*D48 -> 3
B51: LVL 17 | C51: Ceinture de sécurité | D51: 1 | E51: Intestin d'Araknosé | F51: 3 | G51: =F51*D51 -> 3
E52: Peau de larve jaune | F52: 3 | G52: =F52*D51 -> 3
B54: LVL 18 | C54: Sanglature | D54: 1 | E54: Défense du sanglier | F54: 4 | G54: =F54*D54 -> 4
E55: Poils de Darit | F55: 1 | G55: =F55*D54 -> 1
B57: LVL 19 | C57: Bottes paysannes | D57: 1 | E57: Coton ancestral | F57: 3 | G57: =F57*D57 -> 3
E58: Feuille magique du tournesol affamé | F58: 1 | G58: =F58*D57 -> 1

Sheet Forgeron
B2: RUSH FORGERON
C3: Item craft | D3: Q | E3: Recettes | F3: Q | G3: Quantité total
B4: LVL 1 à 10 | I4: Liste ingrédients
B5: LVL 1 | C5: Couteau de chasse | D5: 13 | E5: Poudre de perlinpainpain | F5: 3 | G5: =D5*F5 -> 39 | I5: Poudre de perlinpainpain | J5: =SUMIF($E$5:$E$38,I5,$G$5:$G$38) -> 39
E6: Laine céleste | F6: 3 | G6: =D5*F6 -> 39 | I6: Laine céleste | J6: =SUMIF($E$5:$E$38,I6,$G$5:$G$38) -> 39
I7: Ferrite | J7: =SUMIF($E$5:$E$38,I7,$G$5:$G$38) -> 3
B8: LVL 5 | C8: Hachette Hévlalav | D8: 1 | E8: Ferrite | F8: 1 | G8: =F8*D8 -> 1 | I8: Cendres éternelles | J8: =SUMIF($E$5:$E$38,I8,$G$5:$G$38) -> 3
E9: Cendres éternelles | F9: 3 | G9: =F9*D8 -> 3 | I9: Os de chafer | J9: =SUMIF($E$5:$E$38,I9,$G$5:$G$38) -> 3
I10: Fer | J10: =SUMIF($E$5:$E$38,I10,$G$5:$G$38) -> 1
B11: LVL 6 | C11: Marteau de Boisaille | D11: 1 | E11: Os de chafer | F11: 3 | G11: =F11*D11 -> 3 | I11: Plume chimérique | J11: =SUMIF($E$5:$E$38,I11,$G$5:$G$38) -> 30
E12: Fer | F12: 1 | G12: =F12*D11 -> 1 | I12: Bois de Frene | J12: =SUMIF($E$5:$E$38,I12,$G$5:$G$38) -> 30
I13: Bave de rose démoniaque | J13: =SUMIF($E$5:$E$38,I13,$G$5:$G$38) -> 2
B14: LVL 7 | C14: Epee de Boisaille | D14: 10 | E14: Plume chimérique | F14: 3 | G14: =F14*D14 -> 30 | I14: Plume de piou rose | J14: =SUMIF($E$5:$E$38,I14,$G$5:$G$38) -> 6
E15: Bois de Frene | F15: 3 | G15: =F15*D14 -> 30 | I15: Ecaille poisseuse | J15: =SUMIF($E$5:$E$38,I15,$G$5:$G$38) -> 2
I16: Petale de Tournesol sauvage | J16: =SUMIF($E$5:$E$38,I16,$G$5:$G$38) -> 9
B17: LVL 10 à 20 | I17: Crème à bronzer | J17: =SUMIF($E$5:$E$38,I17,$G$5:$G$38) -> 3
B18: LVL 12 | C18: Leurnettes | D18: 1 | E18: Bave de rose démoniaque | F18: 1 | G18: =F18*D18 -> 1 | I18: Fleur de pissenlit diabolique | J18: =SUMIF($E$5:$E$38,I18,$G$5:$G$38) -> 3
E19: Plume de piou rose | F19: 3 | G19: =F19*D18 -> 3 | I19: Patte d'Arakne magique | J19: =SUMIF($E$5:$E$38,I19,$G$5:$G$38) -> 1
I20: Bec du tofu | J20: =SUMIF($E$5:$E$38,I20,$G$5:$G$38) -> 3
B21: LVL 13 | C21: La queue | D21: 2 | E21: Ecaille poisseuse | F21: 1 | G21: =F21*D21 -> 2 | I21: Plume piou vert | J21: =SUMIF($E$5:$E$38,I21,$G$5:$G$38) -> 3
E22: Petale de Tournesol sauvage | F22: 3 | G22: =F22*D21 -> 6 | I22: Plume de piou rouge | J22: =SUMIF($E$5:$E$38,I22,$G$5:$G$38) -> 3
B24: LVL 15 | C24: Maillet Aclou | D24: 1 | E24: Ferrite | F24: 2 | G24: =F24*D24 -> 2
E25: Crème à bronzer | F25: 3 | G25: =F25*D24 -> 3
B27: LVL 16 | C27: Cerberus | D27: 1 | E27: Fleur de pissenlit diabolique | F27: 3 | G27: =F27*D27 -> 3
E28: Plume de piou rose | F28: 3 | G28: =F28*D27 -> 3
B30: LVL 17 | C30: Epee d'Ha | D30: 1 | E30: Patte d'Arakne magique | F30: 1 | G30: =F30*D30 -> 1
E31: Bec du tofu | F31: 3 | G31: =F31*D30 -> 3
B33: LVL 18 | C33: Koupe-koupe | D33: 1 | E33: Plume piou vert | F33: 3 | G33: =F33*D33 -> 3
E34: Petale de Tournesol sauvage | F34: 3 | G34: =F34*D33 -> 3
B36: LVL 19 | C36: Marteau d'Ivoire | D36: 1 | E36: Bave de rose démoniaque | F36: 1 | G36: =F36*D36 -> 1
E37: Plume de piou rouge | F37: 3 | G37: =F37*D36 -> 3

Sheet Sculpteur
B2: RUSH SCULPTEUR
C3: Item craft | D3: Q | E3: Recettes | F3: Q | G3: Quantité total
B4: LVL 1 à 10 | I4: Liste ingrédients
B5: LVL 1 | C5: Demi-baguette | D5: 4 | E5: Pétale Diaphane | F5: 3 | G5: =D5*F5 -> 12 | I5: Pétale Diaphane | J5: =SUMIF($E$5:$E$44,I5,$G$5:$G$44) -> 12
E6: Laine céleste | F6: 3 | G6: =D5*F6 -> 12 | I6: Laine céleste | J6: =SUMIF($E$5:$E$44,I6,$G$5:$G$44) -> 12
I7: Queue de chapardam | J7: =SUMIF($E$5:$E$44,I7,$G$5:$G$44) -> 9
B8: LVL 3 | C8: Baguette de boisaille | D8: 3 | E8: Queue de chapardam | F8: 3 | G8: =D8*F8 -> 9 | I8: Fer | J8: =SUMIF($E$5:$E$44,I8,$G$5:$G$44) -> 4
E9: Fer | F9: 1 | G9: =D8*F9 -> 3 | I9: Bave de bouftou | J9: =SUMIF($E$5:$E$44,I9,$G$5:$G$44) -> 6
I10: Orties | J10: =SUMIF($E$5:$E$44,I10,$G$5:$G$44) -> 9
B11: LVL 5 | C11: Arc Hade | D11: 2 | E11: Bave de bouftou | F11: 3 | G11: =D11*F11 -> 6 | I11: Peau de Gloot | J11: =SUMIF($E$5:$E$44,I11,$G$5:$G$44) -> 3
E12: Orties | F12: 3 | G12: =D11*F12 -> 6 | I12: Cendres éternelles | J12: =SUMIF($E$5:$E$44,I12,$G$5:$G$44) -> 3
I13: Feu intérieur | J13: =SUMIF($E$5:$E$44,I13,$G$5:$G$44) -> 6
B14: LVL 7 | C14: Arc de boisaille | D14: 1 | E14: Peau de Gloot | F14: 3 | G14: =D14*F14 -> 3 | I14: Os de chafer | J14: =SUMIF($E$5:$E$44,I14,$G$5:$G$44) -> 3
E15: Orties | F15: 3 | G15: =D14*F15 -> 3 | I15: Volve d'Aminite | J15: =SUMIF($E$5:$E$44,I15,$G$5:$G$44) -> 3
I16: Oeil d'Arakmuté | J16: =SUMIF($E$5:$E$44,I16,$G$5:$G$44) -> 3
B17: LVL 8 | C17: Baton Kouyu | D17: 1 | E17: Cendres éternelles | F17: 3 | G17: =D17*F17 -> 3 | I17: Peau de larve jaune | J17: =SUMIF($E$5:$E$44,I17,$G$5:$G$44) -> 12
E18: Fer | F18: 1 | G18: =D17*F18 -> 1 | I18: Bois vermoulu | J18: =SUMIF($E$5:$E$44,I18,$G$5:$G$44) -> 1
I19: Poils d'arakne malade | J19: =SUMIF($E$5:$E$44,I19,$G$5:$G$44) -> 3
B20: LVL 9 | C20: Baton de boisaille | D20: 1 | E20: Feu intérieur | F20: 3 | G20: =D20*F20 -> 3 | I20: Bave de rose démoniaque | J20: =SUMIF($E$5:$E$44,I20,$G$5:$G$44) -> 3
E21: Os de chafer | F21: 3 | G21: =D20*F21 -> 3 | I21: Graine de tournesol | J21: =SUMIF($E$5:$E$44,I21,$G$5:$G$44) -> 1
I22: Feuille de tournesol sauvage | J22: =SUMIF($E$5:$E$44,I22,$G$5:$G$44) -> 1
B23: LVL 10 à 20 | I23: Pattes d'arakne | J23: =SUMIF($E$5:$E$44,I23,$G$5:$G$44) -> 9
B24: LVL 10 | C24: Baguette de Feu Follesque | D24: 1 | E24: Feu intérieur | F24: 3 | G24: =D24*F24 -> 3 | I24: Plume de piou jaune | J24: =SUMIF($E$5:$E$44,I24,$G$5:$G$44) -> 9
E25: Volve d'Aminite | F25: 3 | G25: =D24*F25 -> 3 | I25: Crème à bronzer | J25: =SUMIF($E$5:$E$44,I25,$G$5:$G$44) -> 3
I26: Langue d'épouvanteur | J26: =SUMIF($E$5:$E$44,I26,$G$5:$G$44) -> 3
B27: LVL 11 | C27: Baguette de Glace | D27: 1 | E27: Oeil d'Arakmuté | F27: 3 | G27: =D27*F27 -> 3
E28: Peau de larve jaune | F28: 3 | G28: =D27*F28 -> 3
B30: LVL 12 | C30: Baton Feuillu | D30: 1 | E30: Bois vermoulu | F30: 1 | G30: =D30*F30 -> 1
E31: Poils d'arakne malade | F31: 3 | G31: =D30*F31 -> 3
B33: LVL 13 | C33: Arc Holic | D33: 3 | E33: Bave de rose démoniaque | F33: 1 | G33: =D33*F33 -> 3
E34: Peau de larve jaune | F34: 3 | G34: =D33*F34 -> 9
B36: LVL 15 | C36: La plantouze des champs | D36: 1 | E36: Graine de tournesol | F36: 1 | G36: =D36*F36 -> 1
E37: Feuille de tournesol sauvage | F37: 1 | G37: =D36*F37 -> 1
E38: , | I38: ,
B39: LVL 16 | C39: Baton spirituel | D39: 3 | E39: Pattes d'arakne | F39: 3 | G39: =D39*F39 -> 9
E40: Plume de piou jaune | F40: 3 | G40: =D39*F40 -> 9
B42: LVL 19 | C42: Arc déroutant | D42: 1 | E42: Crème à bronzer | F42: 3 | G42: =D42*F42 -> 3
E43: Langue d'épouvanteur | F43: 3 | G43: =D42*F43 -> 3

Sheet Façonneur
B2: RUSH FACONNEUR
C3: Item craft | D3: Q | E3: Recettes | F3: Q | G3: Quantité total
B4: LVL 1 à 200 | I4: Liste ingrédients
B5: LVL 1-5 | C5: Bouclier du bucheron | D5: 13 | E5: Planche aglomérée | F5: 1 | G5: =F5*$D$5 -> 13 | I5: Planche aglomérée | J5: =SUMIF($E$5:$E$13,I5,$G$5:$G$13) -> 45
E6: Eau ferrugineuse | F6: 1 | G6: =F6*$D$5 -> 13 | I6: Eau ferrugineuse | J6: =SUMIF($E$5:$E$13,I6,$G$5:$G$13) -> 13
I7: Pétale Diaphane | J7: =SUMIF($E$5:$E$13,I7,$G$5:$G$13) -> 18
B8: LVL 5-10 | C8: Bouclier du tournesol sauvage | D8: 9 | E8: Planche aglomérée | F8: 1 | G8: =F8*$D$8 -> 9 | I8: Poils d'arakne malade | J8: =SUMIF($E$5:$E$13,I8,$G$5:$G$13) -> 92
E9: Pétale Diaphane | F9: 2 | G9: =F9*$D$8 -> 18
B11: LVL 10-20 | C11: Bouclier Volant | D11: 23 | E11: Planche aglomérée | F11: 1 | G11: =F11*$D$11 -> 23
E12: Poils d'arakne malade | F12: 4 | G12: =F12*$D$11 -> 92

Sheet Bricoleur
B2: RUSH BRICOLEUR
C3: Item craft | D3: Q | E3: Recettes | F3: Q | G3: Quantité total | I3: Liste ingrédients
B4: LVL 1 à 10 | I4: Lvl 1 à 10
B5: LVL 1 | C5: Clef de la Crypte de Kardorim | D5: 50 | E5: Relique Incarnam | F5: 3 | G5: 150 | I5: Relique Incarnam | J5: =SUMIF($E$5:$E$7,I5,$G$5:$G$7) -> 150
E6: Cendres eternelles | F6: 5 | G6: 250 | I6: Cendres eternelles | J6: =SUMIF($E$5:$E$7,I6,$G$5:$G$7) -> 250
B8: LVL 10 à 20 | I8: Lvl 10 à 20
B9: LVL 10
B12: LVL 11
B15: LVL 12
B18: LVL 13
B21: LVL 14
B24: LVL 15
B27: LVL 16
B30: LVL 17
B33: LVL 18
B36: LVL 19

Sheet Chasseur
B2: RUSH CHASSEUR
C3: Item craft | D3: Q | E3: Recettes | F3: Q | G3: Quantité total
B4: LVL 1 à 200
B5: LVL 1 à 10 | C5: Bouillon de Chair | D5: 77 | E5: Chair intangible | F5: 1 | G5: 77
B8: LVL 10 à 20 | C8: Boulette de Viande | D8: 244 | E8: Boulettes de viandes | F8: 1 | G8: 244
B11: LVL 20 à 30 | C11: Beignet Astrubien | D11: 198 | E11: Viandes faisandées | F11: 1 | G11: 198
E12: Blé | F12: 1 | G12: 198
B14: LVL 30 à 40 | C14: Roulade de Carne | D14: 182 | E14: Viandes Frelaté | F14: 1 | G14: 182
E15: Blé | F15: 1 | G15: 182
B17: LVL 40 à 50 | C17: Papillote au Citron | D17: 176 | E17: Viande minérales | F17: 1 | G17: 176
E18: Orges | F18: 1 | G18: 176
E19: Citron | F19: 1 | G19: 176
B21: LVL 50 à 60 | C21: Salade Sufokienne | D21: 171 | E21: Viandes Tendres | F21: 1 | G21: 171
E22: orges | F22: 1 | G22: 171
E23: Citron | F23: 1 | G23: 171
B25: LVL 60 à 70 | C25: Friture Amaknéenne | D25: 168 | E25: Viandes ladre | F25: 1 | G25: 168
E26: Avoine | F26: 1 | G26: 168
E27: Huiles a frire | F27: 1 | G27: 168
B29: LVL 70 à 80 | C29: Parmentier à l'Oignon | D29: 166 | E29: Viande avarié | F29: 1 | G29: 166
E30: Avoine | F30: 1 | G30: 166
E31: oignon | F31: 1 | G31: 166
B33: LVL 80 à 90 | C33: Terrine Bontarienne | D33: 164 | E33: Viande sanguinolente | F33: 1 | G33: 164
E34: Houblon | F34: 1 | G34: 164
E35: Graisses gelatineuse | F35: 1 | G35: 164
B37: LVL 90 à 100 | C37: Pot-au-feu Goûteux | D37: 163 | E37: Viandes Rassies | F37: 1 | G37: 163
E38: Houblon | F38: 1 | G38: 163
E39: Dose de jus Goutu | F39: 1 | G39: 163
B41: LVL 100 à 110 | C41: Poêlée Paysanne | D41: 162 | E41: Viandes Exsudatives | F41: 1 | G41: 162
E42: Lin | F42: 1 | G42: 162
E43: Aubergines | F43: 1 | G43: 162
B45: LVL 110 à 120 | C45: Pemmican aux Haricots | D45: 162 | E45: Viande Sechées | F45: 1 | G45: 162
E46: Lin | F46: 1 | G46: 162
E47: Haricot | F47: 1 | G47: 162
B49: LVL 120 à 130 | C49: Grillade Brâkmarienne | D49: 161 | E49: Viande saignante | F49: 1 | G49: 161
E50: Seigle | F50: 1 | G50: 161
E51: Cendres eternelles | F51: 1 | G51: 161
B53: LVL 130 à 140 | C53: Marinade Sucrée-Salée | D53: 160 | E53: Viandes persillés | F53: 1 | G53: 160
E54: Seigle | F54: 1 | G54: 160
E55: Cerise | F55: 1 | G55: 160
B57: LVL 140 à 150 | C57: Boudin Noir | D57: 160 | E57: Viandes macérée | F57: 1 | G57: 160
E58: Malt | F58: 1 | G58: 160
E59: Sang de scorbute | F59: 1 | G59: 160
B61: LVL 150 à 160 | C61: Daube aux Épices | D61: 159 | E61: Viande Brousse | F61: 1 | G61: 159
E62: Malt | F62: 1 | G62: 159
E63: Epices | F63: 1 | G63: 159
B65: LVL 160 à 170 | C65: Mijoté Récréatif | D65: 159 | E65: Viande Fraiche | F65: 1 | G65: 159
E66: Chanvres | F66: 2 | G66: 318
E67: Eau potable | F67: 1 | G67: 159
B69: LVL 170 à 180 | C69: Filet Mignon | D69: 159 | E69: Viande Maigre | F69: 1 | G69: 159
E70: Chanvres | F70: 2 | G70: 318
E71: Poudre de perlinpainpain | F71: 1 | G71: 159
B73: LVL 180 à 190 | C73: Quenelle Tijan | D73: 158 | E73: Viande Gâtée | F73: 1 | G73: 158
E74: Maïs | F74: 2 | G74: 316
E75: Poudre de perlinpainpain | F75: 1 | G75: 158
B77: LVL 190 à 200 | C77: Andouillette de Gibier | D77: 158 | E77: Viandes Noires | F77: 1 | G77: 158
E78: Maïs | F78: 2 | G78: 316
E79: Résine | F79: 1 | G79: 158

Sheet Alchi
B2: RUSH Alchi
C3: Item craft | D3: Q | E3: Recettes | F3: Q | G3: Quantité total
B4: LVL 1 à 200
B5: LVL 1 à 10 | C5: Récolte de 595 Orties
B8: LVL 10 à 20 | C8: Potion de rappel | D8: 119 | E8: Orties | F8: 5 | G8: 595
E9: Eau | F9: 1 | G9: 119
B11: LVL 20 à 30 | C11: Récolte Sauge et Orties
B14: LVL 30 à 40 | C14: Potion de souvenirs | D14: XXX | E14: Sauges | F14: 10
E15: Orties | F15: 20
B17: LVL 40 à 50
B21: LVL 50 à 60
B25: LVL 60 à 70

Sheet Paysan
B2: RUSH Paysan
C3: Item craft | D3: Q | E3: Recettes | F3: Q | G3: Quantité total
B4: LVL 1 à 200
B5: LVL 1 à 10 | C5: Récolte de Blé
B8: LVL 10 à 20 | C8: Michettes | D8: 507 | E8: Blé | F8: 5 | G8: =D8*F8 -> 2535
B11: LVL 20 à 30 | C11: Récolte Orge
B14: LVL 30 à 40 | C14: Fougasse | D14: 367 | E14: Orges | F14: 5 | G14: =F14*D14 -> 1835
E15: Orties | F15: 1 | G15: =F15*D14 -> 367
B17: LVL 40 à 50 | C17: Récolte Avoine
B21: LVL 50 à 60
B25: LVL 60 à 70

Sheet Mineur
B2: RUSH Mineur
C3: Item craft | D3: Q | E3: Recettes | F3: Q | G3: Quantité total
B4: LVL 1 à 200
B5: LVL 1 à 10 | C5: Récolte de Fer
B8: LVL 10 à 20 | C8: Eau Ferrugineuse | D8: 24 | E8: Fer | F8: 10 | G8: =D8*F8 -> 240
E9: Eau | F9: 10 | G9: =D8*F9 -> 240
B11: LVL 20 à 30 | C11: Récolte Fer+Cuivre
B14: LVL 30 à 40 | C14: Aluminite | D14: 171 | E14: Fer | F14: 10 | G14: =F14*D14 -> 1710
E15: Cuivre | F15: 10 | G15: =F15*D14 -> 1710
B17: LVL 40 à 50 | C17: Récolte Fer + Cuivre + Bronze
B21: LVL 50 à 60 | C21: Ebonite | D21: 134 | E21: Fer | F21: 10 | G21: =$D$21*F21 -> 1340
E22: Cuivre | F22: 10 | G22: =$D$21*F22 -> 1340
E23: Bronze | F23: 10 | G23: =$D$21*F23 -> 1340
B25: LVL 60 à 70

Sheet Bucheron
B2: RUSH Bucheron
C3: Item craft | D3: Q | E3: Recettes | F3: Q | G3: Quantité total
B4: LVL 1 à 200
B5: LVL 1 à 20 | C5: Récolte de Frene | H5: } | I5: Récolter 1270 Frene et chataignier au minimum
B8: LVL 20 à 30 | C8: Récolte de Chataignier
B11: LVL 30-35 | C11: Planche contreplaquée | D11: 127 | E11: Frene | F11: 10 | G11: =D11*F11 -> 1270
E12: Chataignier | F12: 10 | G12: =D11*F12 -> 1270
B13: LVL 35-40 | C13: Substrat de buisson | D13: 127 | E13: Planche contreplaquée | F13: 1 | G13: =F13*D13 -> 127
E14: Potion de souvenir | F14: 1 | G14: =F14*D13 -> 127
B15: LVL 20 à 30
B18: LVL 30 à 40 | G18: =F18*D18 -> 0
G19: =F19*D18 -> 0
B21: LVL 40 à 50 | C21: Récolte Fer + Cuivre + Bronze
B25: LVL 50 à 60 | C25: Ebonite | D25: 134 | E25: Fer | F25: 10 | G25: =$D$25*F25 -> 1340
E26: Cuivre | F26: 10 | G26: =$D$25*F26 -> 1340
E27: Bronze | F27: 10 | G27: =$D$25*F27 -> 1340
B29: LVL 60 à 70

Sheet Pecheur
B2: RUSH Pecheur
C3: Item craft | D3: Q | E3: Recettes | F3: Q | G3: Quantité total
B4: LVL 1 à 200
B5: Plus facile pour up, Pecher et puis craft la récolte
D18: Garder tous les poissons rares, servira pour créer des jus de poissons (pouvant rapporter gros )
