Workbook
Name d.liste: OFFSET(INDEX(t_joueurs[Liste validation],1),,,COUNTIF(t_joueurs[Liste validation],"><"))

Sheet Vierge
C2: BORDEREAU D'ÉQUIPE
A4: Date : ??/??/23 | B4: Lieu : ? | C4: Heure : ? | D4: H | E4: Compétition | G4: Championnat | L4: Coupe | N4: Amical | P4: L. Magnus
D5: F | E5: excel. | F5: elite | G5: D1 | H5: D2 | I5: D3 | J5: Loisir | L5: u20 | M5: u17 | N5: u15 | O5: u13 | P5: u11 | Q5: u9 | R5: aut
A6: Équipe : | L6: Lignes
A7: Année | B7: NOM | C7: Prénom | D7: N° | E7: Pos. | F7: C.A. | H7: Gardiens
A8: =IFERROR(VLOOKUP(B8,Joueurs!$C$2:$D$6,2,FALSE),"") | E8: =IFERROR(VLOOKUP(B8,Joueurs!$C$2:$E$6,3,FALSE)&"","")
A9: =IFERROR(VLOOKUP(B9,Joueurs!$C$2:$D$6,2,FALSE),"") | E9: =IFERROR(VLOOKUP(B9,Joueurs!$C$2:$E$6,3,FALSE)&"","")
A10: =IFERROR(VLOOKUP(B10,Joueurs!$C$2:$D$6,2,FALSE),"") | E10: =IFERROR(VLOOKUP(B10,Joueurs!$C$2:$E$6,3,FALSE)&"","")
A11: =IFERROR(VLOOKUP(B11,Joueurs!$C$2:$D$6,2,FALSE),"") | E11: =IFERROR(VLOOKUP(B11,Joueurs!$C$2:$E$6,3,FALSE)&"","")
A12: =IFERROR(VLOOKUP(B12,Joueurs!$C$2:$D$6,2,FALSE),"") | E12: =IFERROR(VLOOKUP(B12,Joueurs!$C$2:$E$6,3,FALSE)&"","") | H12: 1ère
A13: =IFERROR(VLOOKUP(B13,Joueurs!$C$2:$D$6,2,FALSE),"") | E13: =IFERROR(VLOOKUP(B13,Joueurs!$C$2:$E$6,3,FALSE)&"","")
A14: =IFERROR(VLOOKUP(B14,Joueurs!$C$2:$D$6,2,FALSE),"") | E14: =IFERROR(VLOOKUP(B14,Joueurs!$C$2:$E$6,3,FALSE)&"","")
A15: =IFERROR(VLOOKUP(B15,Joueurs!$C$2:$D$6,2,FALSE),"") | E15: =IFERROR(VLOOKUP(B15,Joueurs!$C$2:$E$6,3,FALSE)&"","")
A16: =IFERROR(VLOOKUP(B16,Joueurs!$C$2:$D$6,2,FALSE),"") | E16: =IFERROR(VLOOKUP(B16,Joueurs!$C$2:$E$6,3,FALSE)&"","")
A17: =IFERROR(VLOOKUP(B17,Joueurs!$C$2:$D$6,2,FALSE),"") | E17: =IFERROR(VLOOKUP(B17,Joueurs!$C$2:$E$6,3,FALSE)&"","") | H17: 2ème
A18: =IFERROR(VLOOKUP(B18,Joueurs!$C$2:$D$6,2,FALSE),"") | E18: =IFERROR(VLOOKUP(B18,Joueurs!$C$2:$E$6,3,FALSE)&"","")
A19: =IFERROR(VLOOKUP(B19,Joueurs!$C$2:$D$6,2,FALSE),"") | E19: =IFERROR(VLOOKUP(B19,Joueurs!$C$2:$E$6,3,FALSE)&"","")
A20: =IFERROR(VLOOKUP(B20,Joueurs!$C$2:$D$6,2,FALSE),"") | E20: =IFERROR(VLOOKUP(B20,Joueurs!$C$2:$E$6,3,FALSE)&"","")
A21: =IFERROR(VLOOKUP(B21,Joueurs!$C$2:$D$6,2,FALSE),"") | E21: =IFERROR(VLOOKUP(B21,Joueurs!$C$2:$E$6,3,FALSE)&"","")
A22: =IFERROR(VLOOKUP(B22,Joueurs!$C$2:$D$6,2,FALSE),"") | E22: =IFERROR(VLOOKUP(B22,Joueurs!$C$2:$E$6,3,FALSE)&"","") | H22: 3ème
A23: =IFERROR(VLOOKUP(B23,Joueurs!$C$2:$D$6,2,FALSE),"") | E23: =IFERROR(VLOOKUP(B23,Joueurs!$C$2:$E$6,3,FALSE)&"","")
A24: =IFERROR(VLOOKUP(B24,Joueurs!$C$2:$D$6,2,FALSE),"") | E24: =IFERROR(VLOOKUP(B24,Joueurs!$C$2:$E$6,3,FALSE)&"","")
A25: =IFERROR(VLOOKUP(B25,Joueurs!$C$2:$D$6,2,FALSE),"") | E25: =IFERROR(VLOOKUP(B25,Joueurs!$C$2:$E$6,3,FALSE)&"","")
A26: =IFERROR(VLOOKUP(B26,Joueurs!$C$2:$D$6,2,FALSE),"") | E26: =IFERROR(VLOOKUP(B26,Joueurs!$C$2:$E$6,3,FALSE)&"","")
A27: =IFERROR(VLOOKUP(B27,Joueurs!$C$2:$D$6,2,FALSE),"") | E27: =IFERROR(VLOOKUP(B27,Joueurs!$C$2:$E$6,3,FALSE)&"","") | H27: 4ème
A28: =IFERROR(VLOOKUP(B28,Joueurs!$C$2:$D$6,2,FALSE),"") | E28: =IFERROR(VLOOKUP(B28,Joueurs!$C$2:$E$6,3,FALSE)&"","")
A29: =IFERROR(VLOOKUP(B29,Joueurs!$C$2:$D$6,2,FALSE),"") | E29: =IFERROR(VLOOKUP(B29,Joueurs!$C$2:$E$6,3,FALSE)&"","")
A30: =IFERROR(VLOOKUP(B30,Joueurs!$C$2:$D$6,2,FALSE),"") | E30: =IFERROR(VLOOKUP(B30,Joueurs!$C$2:$E$6,3,FALSE)&"","")
A31: =IFERROR(VLOOKUP(B31,Joueurs!$C$2:$D$6,2,FALSE),"") | E31: =IFERROR(VLOOKUP(B31,Joueurs!$C$2:$E$6,3,FALSE)&"","") | H31: Signature du coach : (obligatoire)
A33: Coach :
A34: N°licence | B34: Nom et Prénom
A35: =IFERROR(VLOOKUP(B35,Tableau4[[Nom famille]:[Licence]],2,FALSE),"")
A36: Officiels d'équipe : | I36: Une équipe doit comprendre au début du match, au minimum 9 joueurs et 1 coach. Elle devra comprendre au début de la 2ème période au moins 10 joueurs dont 1 gardien, et 1 coach, faute de quoi elle sera déclarée forfait. Une équipe comprend au maximum 22 joueurs dont 2 gardien de but. Un joueur arrivant au cours du match peut prendre part au jeu au plus tard à l'engagement du 2ème tiers-temps s'il a été porté sur la feuille de match avant le coup d'envoi, et s'il figurait sur la liste des joueurs remise préalablement au secrétaire de match (art 1-5.1).
A37: N°licence | B37: Nom et Prénom | D37: Fonction
A38: =IFERROR(VLOOKUP(B38,RE!$C$2:$D$4,2,FALSE),"") | D38: =IFERROR(VLOOKUP(Vierge!B38,RE!C$2:E$4,3,FALSE),"")
A39: =IFERROR(VLOOKUP(B39,RE!$C$2:$D$4,2,FALSE),"") | D39: =IFERROR(VLOOKUP(Vierge!B39,RE!C$2:E$4,3,FALSE),"")
A40: =IFERROR(VLOOKUP(B40,RE!$C$2:$D$4,2,FALSE),"") | D40: =IFERROR(VLOOKUP(Vierge!B40,RE!C$2:E$4,3,FALSE),"")
A41: =IFERROR(VLOOKUP(B41,RE!$C$2:$D$4,2,FALSE),"") | D41: =IFERROR(VLOOKUP(Vierge!B41,RE!C$2:E$4,3,FALSE),"")
A43: Mode d'emploi :
A44: Année | B44: Mettre les deux derniers chiffres de l'année de naissance du joueur
...

Sheet Joueurs
A1: Nom | B1: Prénom | C1: Nom famille | D1: DDN | E1: Poste | F1: Liste validation
A2: aaaaa | B2: ssss | C2: =A2&" "&B2 -> aaaaa ssss | D2: 12 | F2: {=IFERROR(INDEX(t_joueurs[Nom famille],SMALL(IF(COUNTIF(Vierge!$B$8:$B$31,t_joueurs[Nom famille])=1,"",ROW(t_joueurs[Nom famille])-1),ROW(1:1))),"")} -> aaaaa ssss
A3: zzzzz | B3: dddd | C3: =A3&" "&B3 -> zzzzz dddd | D3: 12 | F3: {=IFERROR(INDEX(t_joueurs[Nom famille],SMALL(IF(COUNTIF(Vierge!$B$8:$B$31,t_joueurs[Nom famille])=1,"",ROW(t_joueurs[Nom famille])-1),ROW(2:2))),"")} -> zzzzz dddd
A4: eeee | B4: fffff | C4: =A4&" "&B4 -> eeee fffff | D4: 11 | F4: {=IFERROR(INDEX(t_joueurs[Nom famille],SMALL(IF(COUNTIF(Vierge!$B$8:$B$31,t_joueurs[Nom famille])=1,"",ROW(t_joueurs[Nom famille])-1),ROW(3:3))),"")} -> eeee fffff
A5: rrrrrr | B5: ggggg | C5: =A5&" "&B5 -> rrrrrr ggggg | D5: 11 | F5: {=IFERROR(INDEX(t_joueurs[Nom famille],SMALL(IF(COUNTIF(Vierge!$B$8:$B$31,t_joueurs[Nom famille])=1,"",ROW(t_joueurs[Nom famille])-1),ROW(4:4))),"")} -> rrrrrr ggggg
A6: qqqqq | B6: hhhhh | C6: =A6&" "&B6 -> qqqqq hhhhh | D6: 12 | F6: {=IFERROR(INDEX(t_joueurs[Nom famille],SMALL(IF(COUNTIF(Vierge!$B$8:$B$31,t_joueurs[Nom famille])=1,"",ROW(t_joueurs[Nom famille])-1),ROW(5:5))),"")} -> qqqqq hhhhh

Sheet Coachs
A1: Nom | B1: Prénom | C1: Nom famille | D1: Licence
A2: aa | B2: gfdgdf | C2: =A2&" "&B2 -> aa gfdgdf | D2: 222
A3: zzzz | B3: bbbbb | C3: =A3&" "&B3 -> zzzz bbbbb | D3: 333
A4: rrr | B4: nnnnn | C4: =A4&" "&B4 -> rrr nnnnn | D4: 444

Sheet RE
A1: Nom | B1: Prénom | C1: Nom famille | D1: Licence | E1: Fonctions
A2: fdsfsd | B2: ghghgf | C2: =A2&" "&B2 -> fdsfsd ghghgf | D2: 0 | E2: Responsable d'équipe
A3: dddd | B3: fffff | C3: =A3&" "&B3 -> dddd fffff | D3: 2 | E3: Responsable d'équipe
A4: hhhh | B4: jjjj | C4: =A4&" "&B4 -> hhhh jjjj | D4: 3 | E4: Responsable d'équipe
