Workbook
Name DGRC: 'REF LIST'!$J$6:$J$9
Name GD: 'REF LIST'!$L$6:$L$7
Name MP: 'REF LIST'!$G$6:$G$15
Name PM: 'REF LIST'!$K$6:$K$7
Name vh: 'REF LIST'!$M$6:$M$7

Sheet Profilage - Consolidation
K4: Date :
E5: ETOILE-CAROUGE FOOTBALL CLUB | J5: Remarque | K5: Présent | L5: Profil Action | M5: MP1 | N5: MP2 | O5: Droitier / Gaucher | P5: Pied Appel D/G | Q5: MH/MB | R5: PMH/PMB | S5: V/H | T5: Radar D/G
E6: GARDIENS | F6: 1 | G6: Damien | H6: CHAPPOT
F7: 18 | G7: Mussa | H7: DIALLO
F8: 26 | G8: Emils | H8: EMULOVS
E10: DEFENSEURS | F10: 15 | G10: Babacar | H10: MBAYE
F11: 22 | G11: Damien | H11: VANZO
F12: 19 | G12: Loïc | H12: OMBALA
F13: 23 | G13: Daniel | H13: TITIE
F14: 24 | G14: Romain | H14: KURSNER
F15: 29 | G15: Noah | H15: HENCHOZ
F16: 2 | G16: Pedro | H16: FAUSTINO
F17: 4 | G17: Mathis | H17: MAGNIN | I17: Latéral Gauche
F18: 25 | G18: Vincent | H18: FELDER | I18: Libéro
F19: 29 | G19: Cameron | H19: PRATS BARBARAN | I19: Latéral Gauche
E21: MILIEUX | F21: 5 | G21: Bleron | H21: MULLIQI
F22: 10 | G22: Bruno | H22: CASLEI
F23: 17 | G23: Maxen | H23: KAPO
G24: Samuel | H24: GOMIS
F25: 8 | G25: Aurélien | H25: CHAPPUIS
F26: 14 | G26: Sacha | H26: GUEVARA | I26: Ailier Droit
F27: 6 | G27: M. | H27: EL JAOUHARI | I27: Milieu Droit
F28: 21 | G28: R. | H28: FERNANDEZ | I28: Milieu Droit
E30: ATTAQUANTS | F30: 7 | G30: Oscar | H30: CORREIA | I30: Ailier Droit
F31: 11 | G31: Matheus | H31: VIEIRA
F32: 99 | G32: Luca | H32: SESTITO
F33: 78 | G33: Emmanuel | H33: SAMBA
G34: Mamadou | H34: USMAN
F35: 27 | G35: H. | H35: MUNISHI
F36: 9 | G36: A. | H36: ELEOUET
E38: EQUIPE TECHNIQUE | F38: Entraîneur Adjoint | G38: Sally | H38: SARR
F39: Directeur Sportif | G39: Fabrice | H39: SANCHEZ
F40: Entraîneur | G40: Adrian | H40: URSEA | L40: R2 | M40: Ui | Q40: MH | R40: PMH | S40: H | T40: G
F41: Entraîneur Gardien | G41: Salvatore | H41: PISCITELLI
F42: Intendant | G42: Stéphane | H42: TERRETTAZ
F43: Concierge | G43: Walter | H43: PICCOLI
F44: Analyste Vidéo | G44: Claude | H44: OGGIER
E46: EQUIPE MEDICALE | F46: Responsable Pôle Médical | G46: Olivier | H46: TRIFIRO
F47: Médecin | G47: Jean-Luc | H47: ZILTENER
F48: Pyhsio | G48: German | H48: GARCIA
F49: Pyhsio | G49: Yilma | H49: BELETE
F50: Pyhsio | G50: Kévin | H50: JERONIMO

Sheet Profil Personnel
E2: =CONCATENATE(F5," ",K5) -> Toto Titi
E3: =CONCATENATE(E9," - ",E12) -> C3 - ENTJ | I3: =CONCATENATE(F9," - ",F12) -> G2 - ISFP | O3: MOTIVATIONS PROFONDES FEU INTÉRIEUR
E5: Nom | F5: Toto | I5: Prénom | K5: Titi | O5: =IF(H9="","",IF(H9="Ui",CONCATENATE("Analyser, Détails / ",T5),IF(H9="Ue",CONCATENATE("Organiser, Cadrer / ",T5),IF(H9="Ai",CONCATENATE("s'Appuyer, se Souvenir / ",T5),IF(H9="Ae",CONCATENATE("Tenter, Faire / ",T5),IF(H9="Ri",CONCATENATE("Ressentir, Valoriser / ",T5),IF(H9="Re",CONCATENATE("Concilier, Harmoniser / ",T5),IF(H9="Ci",CONCATENATE("s'Imposer, Progresser / ",T5),IF(H9="Ce",CONCATENATE("Imposer, Vaincre / ",T5),IF(H9="Pi",CONCATENATE("Imaginer, Prévoir / ",T5),IF(H9="Pe",CONCATENATE("Explorer, Improviser / ",T5),"Erreur"))))))))))) | T5: =IF(H9="","",IF(H9="Ui",'REF LIST'!H6,IF(H9="Ue",'REF LIST'!H7,IF(H9="Ai",'REF LIST'!H8,IF(H9="Ae",'REF LIST'!H9,IF(H9="Ri",'REF LIST'!H10,IF(H9="Re",'REF LIST'!H11,IF(H9="Ci",'REF LIST'!H12,IF(H9="Ce",'REF LIST'!H13,IF(H9="Pi",'REF LIST'!H14,IF(H9="Pe",'REF LIST'!H15,"Erreur")))))))))))
E6: Numéro | I6: Poste | O6: =IF(I9="","",IF(I9="Ui",CONCATENATE("Analyser, Détails / ",T6),IF(I9="Ue",CONCATENATE("Organiser, Cadrer / ",T6),IF(I9="Ai",CONCATENATE("s'Appuyer, se Souvenir / ",T6),IF(I9="Ae",CONCATENATE("Tenter, Faire / ",T6),IF(I9="Ri",CONCATENATE("Ressentir, Valoriser / ",T6),IF(I9="Re",CONCATENATE("Concilier, Harmoniser / ",T6),IF(I9="Ci",CONCATENATE("s'Imposer, Progresser / ",T6),IF(I9="Ce",CONCATENATE("Imposer, Vaincre / ",T6),IF(I9="Pi",CONCATENATE("Imaginer, Prévoir / ",T6),IF(I9="Pe",CONCATENATE("Explorer, Improviser / ",T6),"Erreur"))))))))))) -> Ressentir, Valoriser / L2 - Type 4 | T6: =IF(I9="","",IF(I9="Ui",'REF LIST'!H6,IF(I9="Ue",'REF LIST'!H7,IF(I9="Ai",'REF LIST'!H8,IF(I9="Ae",'REF LIST'!H9,IF(I9="Ri",'REF LIST'!H10,IF(I9="Re",'REF LIST'!H11,IF(I9="Ci",'REF LIST'!H12,IF(I9="Ce",'REF LIST'!H13,IF(I9="Pi",'REF LIST'!H14,IF(I9="Pe",'REF LIST'!H15,"Erreur"))))))))))) -> L2 - Type 4
E8: Profil d'Action Principal | F8: Profil d'Action Complémentaire | H8: MP1 | I8: MP2 | K8: PIED D/G | L8: MAIN D/G | M8: Pied Appel D/G | O8: Motricité D/G/R/C | P8: PMH/PMB | Q8: V/H | R8: Radar D/G
E9: =IF(AND(O9="",P9="",Q9="",R9=""),"",IF(AND(O9="D",P9="PMH",Q9="V",R9="D"),"D4",IF(AND(O9="D",P9="PMH",Q9="H",R9="G"),"D2",IF(AND(O9="D",P9="PMH",Q9="V",R9="G"),"D1",IF(AND(O9="D",P9="PMH",Q9="H",R9="D"),"D3",IF(AND(O9="G",P9="PMB",Q9="V",R9="D"),"G4",IF(AND(O9="G",P9="PMB",Q9="H",R9="G"),"G2",IF(AND(O9="G",P9="PMB",Q9="V",R9="G"),"G1",IF(AND(O9="G",P9="PMB",Q9="H",R9="D"),"G3",IF(AND(O9="R",P9="PMH",Q9="V",R9="D"),"R4",IF(AND(O9="R",P9="PMH",Q9="H",R9="G"),"R2",IF(AND(O9="R",P9="PMH",Q9="V",R9="G"),"R1",IF(AND(O9="R",P9="PMH",Q9="H",R9="D"),"R3",IF(AND(O9="C",P9="PMB",Q9="V",R9="D"),"C4",IF(AND(O9="C",P9="PMB",Q9="H",R9="G"),"C2",IF(AND(O9="C",P9="PMB",Q9="V",R9="G"),"C1",IF(AND(O9="C",P9="PMB",Q9="H",R9="D"),"C3","Erreur"))))))))))))))))) -> C3 | F9: =IF(E9="","",IF(E9='REF LIST'!B6,'REF LIST'!D6,IF(E9='REF LIST'!B7,'REF LIST'!D7,IF(E9='REF LIST'!B8,'REF LIST'!D8,IF(E9='REF LIST'!B9,'REF LIST'!D9,IF(E9='REF LIST'!B10,'REF LIST'!D10,IF(E9='REF LIST'!B11,'REF LIST'!D11,IF(E9='REF LIST'!B12,'REF LIST'!D12,IF(E9='REF LIST'!B13,'REF LIST'!D13,IF(E9='REF LIST'!B14,'REF LIST'!D14,IF(E9='REF LIST'!B15,'REF LIST'!D15,IF(E9='REF LIST'!B16,'REF LIST'!D16,IF(E9='REF LIST'!B17,'REF LIST'!D17,IF(E9='REF LIST'!B18,'REF LIST'!D18,IF(E9='REF LIST'!B19,'REF LIST'!D19,IF(E9='REF LIST'!B20,'REF LIST'!D20,IF(E9='REF LIST'!B21,'REF LIST'!D21,"Erreur"))))))))))))))))) -> G2 | G9: Pi | I9: Ri | O9: C | P9: PMb | Q9: h | R9: D
E11: Profil MBTI Principal | F11: Profil MBTI Complémentaire | K11: =E11 -> Profil MBTI Principal | M11: =F11 -> Profil MBTI Complémentaire
E12: =IF(E9="","",IF(E9='REF LIST'!B6,'REF LIST'!C6,IF(E9='REF LIST'!B7,'REF LIST'!C7,IF(E9='REF LIST'!B8,'REF LIST'!C8,IF(E9='REF LIST'!B9,'REF LIST'!C9,IF(E9='REF LIST'!B10,'REF LIST'!C10,IF(E9='REF LIST'!B11,'REF LIST'!C11,IF(E9='REF LIST'!B12,'REF LIST'!C12,IF(E9='REF LIST'!B13,'REF LIST'!C13,IF(E9='REF LIST'!B14,'REF LIST'!C14,IF(E9='REF LIST'!B15,'REF LIST'!C15,IF(E9='REF LIST'!B16,'REF LIST'!C16,IF(E9='REF LIST'!B17,'REF LIST'!C17,IF(E9='REF LIST'!B18,'REF LIST'!C18,IF(E9='REF LIST'!B19,'REF LIST'!C19,IF(E9='REF LIST'!B20,'REF LIST'!C20,IF(E9='REF LIST'!B21,'REF LIST'!C21,"Erreur"))))))))))))))))) -> ENTJ | F12: =IF(E9="","",IF(E9='REF LIST'!B6,'REF LIST'!E6,IF(E9='REF LIST'!B7,'REF LIST'!E7,IF(E9='REF LIST'!B8,'REF LIST'!E8,IF(E9='REF LIST'!B9,'REF LIST'!E9,IF(E9='REF LIST'!B10,'REF LIST'!E10,IF(E9='REF LIST'!B11,'REF LIST'!E11,IF(E9='REF LIST'!B12,'REF LIST'!E12,IF(E9='REF LIST'!B13,'REF LIST'!E13,IF(E9='REF LIST'!B14,'REF LIST'!E14,IF(E9='REF LIST'!B15,'REF LIST'!E15,IF(E9='REF LIST'!B16,'REF LIST'!E16,IF(E9='REF LIST'!B17,'REF LIST'!E17,IF(E9='REF LIST'!B18,'REF LIST'!E18,IF(E9='REF LIST'!B19,'REF LIST'!E19,IF(E9='REF LIST'!B20,'REF LIST'!E20,IF(E9='REF LIST'!B21,'REF LIST'!E21,"Erreur"))))))))))))))))) -> ISFP | K12: =E12 -> ENTJ | M12: =F12 -> ISFP
B14: =INDEX('REF LIST'!$O$5:$S$20,MATCH('Profil Personnel'!E$12,'REF LIST'!$O$5:$O$20,0),2) -> Te | C14: =INDEX('REF LIST'!$O$5:$S$20,MATCH('Profil Personnel'!F$12,'REF LIST'!$O$5:$O$20,0),2) -> Fi | E14: =IF(E$12="","",IF(E$12='REF LIST'!O5,'REF LIST'!P5,IF(E$12='REF LIST'!O6,'REF LIST'!P6,IF(E$12='REF LIST'!O7,'REF LIST'!P7,IF(E$12='REF LIST'!O8,'REF LIST'!P8,IF(E$12='REF LIST'!O9,'REF LIST'!P9,IF(E$12='REF LIST'!O10,'REF LIST'!P10,IF(E$12='REF LIST'!O11,'REF LIST'!P11,IF(E$12='REF LIST'!O12,'REF LIST'!P12,IF(E$12='REF LIST'!O13,'REF LIST'!P13,IF(E$12='REF LIST'!O14,'REF LIST'!P14,IF(E$12='REF LIST'!O15,'REF LIST'!P15,IF(E$12='REF LIST'!O16,'REF LIST'!P16,IF(E$12='REF LIST'!O17,'REF LIST'!P17,IF(E$12='REF LIST'!O18,'REF LIST'!P18,IF(E$12='REF LIST'!O19,'REF LIST'!P19,IF(E$12='REF LIST'!O20,'REF LIST'!P20,"Erreur"))))))))))))))))) -> Te | F14: =IF(F$12="","",IF(F$12='REF LIST'!O5,'REF LIST'!P5,IF(F$12='REF LIST'!O6,'REF LIST'!P6,IF(F$12='REF LIST'!O7,'REF LIST'!P7,IF(F$12='REF LIST'!O8,'REF LIST'!P8,IF(F$12='REF LIST'!O9,'REF LIST'!P9,IF(F$12='REF LIST'!O10,'REF LIST'!P10,IF(F$12='REF LIST'!O11,'REF LIST'!P11,IF(F$12='REF LIST'!O12,'REF LIST'!P12,IF(F$12='REF LIST'!O13,'REF LIST'!P13,IF(F$12='REF LIST'!O14,'REF LIST'!P14,IF(F$12='REF LIST'!O15,'REF LIST'!P15,IF(F$12='REF LIST'!O16,'REF LIST'!P16,IF(F$12='REF LIST'!O17,'REF LIST'!P17,IF(F$12='REF LIST'!O18,'REF LIST'!P18,IF(F$12='REF LIST'!O19,'REF LIST'!P19,IF(F$12='REF LIST'!O20,'REF LIST'!P20,"Erreur"))))))))))))))))) -> Fi | H14: Énergise | K14: =IF(E14="","",IF(E14='REF LIST'!U$6,'REF LIST'!V$6,IF(E14='REF LIST'!U$7,'REF LIST'!V$7,IF(E14='REF LIST'!U$8,'REF LIST'!V$8,IF(E14='REF LIST'!U$9,'REF LIST'!V$9,IF(E14='REF LIST'!U$10,'REF LIST'!V$10,IF(E14='REF LIST'!U$11,'REF LIST'!V$11,IF(E14='REF LIST'!U$12,'REF LIST'!V$12,IF(E14='REF LIST'!U$13,'REF LIST'!V$13,"Erreur"))))))))) -> Organiser | M14: =IF(F14="","",IF(F14='REF LIST'!U$6,'REF LIST'!V$6,(IF(F14='REF LIST'!U$7,'REF LIST'!V$7,IF(F14='REF LIST'!U$8,'REF LIST'!V$8,IF(F14='REF LIST'!U$9,'REF LIST'!V$9,IF(F14='REF LIST'!U$10,'REF LIST'!V$10,IF(F14='REF LIST'!U$11,'REF LIST'!V$11,IF(F14='REF LIST'!U$12,'REF LIST'!V$12,IF(F14='REF LIST'!U$13,'REF LIST'!V$13,"Erreur")))))))))) -> Valoriser | Q14: =INDEX('REF LIST'!$U$6:$V$13,MATCH('Profil Personnel'!B14,'REF LIST'!$U$6:$U$13,0),2) -> Organiser | R14: =INDEX('REF LIST'!$U$6:$V$13,MATCH('Profil Personnel'!C14,'REF LIST'!$U$6:$U$13,0),2) -> Valoriser
B15: =INDEX('REF LIST'!$O$5:$S$20,MATCH('Profil Personnel'!E$12,'REF LIST'!$O$5:$O$20,0),3) -> Ni | C15: =INDEX('REF LIST'!$O$5:$S$20,MATCH('Profil Personnel'!F$12,'REF LIST'!$O$5:$O$20,0),3) -> Se | E15: =IF(E$12="","",IF(E$12='REF LIST'!O5,'REF LIST'!Q5,IF(E$12='REF LIST'!O6,'REF LIST'!Q6,IF(E$12='REF LIST'!O7,'REF LIST'!Q7,IF(E$12='REF LIST'!O8,'REF LIST'!Q8,IF(E$12='REF LIST'!O9,'REF LIST'!Q9,IF(E$12='REF LIST'!O10,'REF LIST'!Q10,IF(E$12='REF LIST'!O11,'REF LIST'!Q11,IF(E$12='REF LIST'!O12,'REF LIST'!Q12,IF(E$12='REF LIST'!O13,'REF LIST'!Q13,IF(E$12='REF LIST'!O14,'REF LIST'!Q14,IF(E$12='REF LIST'!O15,'REF LIST'!Q15,IF(E$12='REF LIST'!O16,'REF LIST'!Q16,IF(E$12='REF LIST'!O17,'REF LIST'!Q17,IF(E$12='REF LIST'!O18,'REF LIST'!Q18,IF(E$12='REF LIST'!O19,'REF LIST'!Q19,IF(E$12='REF LIST'!O20,'REF LIST'!Q20,"Erreur"))))))))))))))))) -> Ni | F15: =IF(F$12="","",IF(F$12='REF LIST'!O5,'REF LIST'!Q5,IF(F$12='REF LIST'!O6,'REF LIST'!Q6,IF(F$12='REF LIST'!O7,'REF LIST'!Q7,IF(F$12='REF LIST'!O8,'REF LIST'!Q8,IF(F$12='REF LIST'!O9,'REF LIST'!Q9,IF(F$12='REF LIST'!O10,'REF LIST'!Q10,IF(F$12='REF LIST'!O11,'REF LIST'!Q11,IF(F$12='REF LIST'!O12,'REF LIST'!Q12,IF(F$12='REF LIST'!O13,'REF LIST'!Q13,IF(F$12='REF LIST'!O14,'REF LIST'!Q14,IF(F$12='REF LIST'!O15,'REF LIST'!Q15,IF(F$12='REF LIST'!O16,'REF LIST'!Q16,IF(F$12='REF LIST'!O17,'REF LIST'!Q17,IF(F$12='REF LIST'!O18,'REF LIST'!Q18,IF(F$12='REF LIST'!O19,'REF LIST'!Q19,IF(F$12='REF LIST'!O20,'REF LIST'!Q20,"Erreur"))))))))))))))))) -> Se | H15: Dynamise | K15: =IF(E15="","",IF(E15='REF LIST'!U$6,'REF LIST'!V$6,IF(E15='REF LIST'!U$7,'REF LIST'!V$7,IF(E15='REF LIST'!U$8,'REF LIST'!V$8,IF(E15='REF LIST'!U$9,'REF LIST'!V$9,IF(E15='REF LIST'!U$10,'REF LIST'!V$10,IF(E15='REF LIST'!U$11,'REF LIST'!V$11,IF(E15='REF LIST'!U$12,'REF LIST'!V$12,IF(E15='REF LIST'!U$13,'REF LIST'!V$13,"Erreur"))))))))) -> Imaginer | M15: =IF(F15="","",IF(F15='REF LIST'!U$6,'REF LIST'!V$6,(IF(F15='REF LIST'!U$7,'REF LIST'!V$7,IF(F15='REF LIST'!U$8,'REF LIST'!V$8,IF(F15='REF LIST'!U$9,'REF LIST'!V$9,IF(F15='REF LIST'!U$10,'REF LIST'!V$10,IF(F15='REF LIST'!U$11,'REF LIST'!V$11,IF(F15='REF LIST'!U$12,'REF LIST'!V$12,IF(F15='REF LIST'!U$13,'REF LIST'!V$13,"Erreur")))))))))) -> Expérimenter | Q15: =INDEX('REF LIST'!$U$6:$V$13,MATCH('Profil Personnel'!B15,'REF LIST'!$U$6:$U$13,0),2) -> Imaginer | R15: =INDEX('REF LIST'!$U$6:$V$13,MATCH('Profil Personnel'!C15,'REF LIST'!$U$6:$U$13,0),2) -> Expérimenter
B16: =INDEX('REF LIST'!$O$5:$S$20,MATCH('Profil Personnel'!E$12,'REF LIST'!$O$5:$O$20,0),4) -> Se | C16: =INDEX('REF LIST'!$O$5:$S$20,MATCH('Profil Personnel'!F$12,'REF LIST'!$O$5:$O$20,0),4) -> Ni | E16: =IF(E12="","",IF(E12='REF LIST'!O5,'REF LIST'!R5,IF(E12='REF LIST'!O6,'REF LIST'!R6,IF(E12='REF LIST'!O7,'REF LIST'!R7,IF(E12='REF LIST'!O8,'REF LIST'!R8,IF(E12='REF LIST'!O9,'REF LIST'!R9,IF(E12='REF LIST'!O10,'REF LIST'!R10,IF(E12='REF LIST'!O11,'REF LIST'!R11,IF(E12='REF LIST'!O12,'REF LIST'!R12,IF(E12='REF LIST'!O13,'REF LIST'!R13,IF(E12='REF LIST'!O14,'REF LIST'!R14,IF(E12='REF LIST'!O15,'REF LIST'!R15,IF(E12='REF LIST'!O16,'REF LIST'!R16,IF(E12='REF LIST'!O17,'REF LIST'!R17,IF(E12='REF LIST'!O18,'REF LIST'!R18,IF(E12='REF LIST'!O19,'REF LIST'!R19,IF(E12='REF LIST'!O20,'REF LIST'!R20,"Erreur"))))))))))))))))) -> Se | F16: =IF(F$12="","",IF(F$12='REF LIST'!O5,'REF LIST'!R5,IF(F$12='REF LIST'!O6,'REF LIST'!R6,IF(F$12='REF LIST'!O7,'REF LIST'!R7,IF(F$12='REF LIST'!O8,'REF LIST'!R8,IF(F$12='REF LIST'!O9,'REF LIST'!R9,IF(F$12='REF LIST'!O10,'REF LIST'!R10,IF(F$12='REF LIST'!O11,'REF LIST'!R11,IF(F$12='REF LIST'!O12,'REF LIST'!R12,IF(F$12='REF LIST'!O13,'REF LIST'!R13,IF(F$12='REF LIST'!O14,'REF LIST'!R14,IF(F$12='REF LIST'!O15,'REF LIST'!R15,IF(F$12='REF LIST'!O16,'REF LIST'!R16,IF(F$12='REF LIST'!O17,'REF LIST'!R17,IF(F$12='REF LIST'!O18,'REF LIST'!R18,IF(F$12='REF LIST'!O19,'REF LIST'!R19,IF(F$12='REF LIST'!O20,'REF LIST'!R20,"Erreur"))))))))))))))))) -> Ni | H16: Équilibre | K16: =IF(E16="","",IF(E16='REF LIST'!U$6,'REF LIST'!V$6,IF(E16='REF LIST'!U$7,'REF LIST'!V$7,IF(E16='REF LIST'!U$8,'REF LIST'!V$8,IF(E16='REF LIST'!U$9,'REF LIST'!V$9,IF(E16='REF LIST'!U$10,'REF LIST'!V$10,IF(E16='REF LIST'!U$11,'REF LIST'!V$11,IF(E16='REF LIST'!U$12,'REF LIST'!V$12,IF(E16='REF LIST'!U$13,'REF LIST'!V$13,"Erreur"))))))))) -> Expérimenter | M16: =IF(F16="","",IF(F16='REF LIST'!U$6,'REF LIST'!V$6,(IF(F16='REF LIST'!U$7,'REF LIST'!V$7,IF(F16='REF LIST'!U$8,'REF LIST'!V$8,IF(F16='REF LIST'!U$9,'REF LIST'!V$9,IF(F16='REF LIST'!U$10,'REF LIST'!V$10,IF(F16='REF LIST'!U$11,'REF LIST'!V$11,IF(F16='REF LIST'!U$12,'REF LIST'!V$12,IF(F16='REF LIST'!U$13,'REF LIST'!V$13,"Erreur")))))))))) -> Imaginer | Q16: =INDEX('REF LIST'!$U$6:$V$13,MATCH('Profil Personnel'!B16,'REF LIST'!$U$6:$U$13,0),2) -> Expérimenter | R16: =INDEX('REF LIST'!$U$6:$V$13,MATCH('Profil Personnel'!C16,'REF LIST'!$U$6:$U$13,0),2) -> Imaginer
B17: =INDEX('REF LIST'!$O$5:$S$20,MATCH('Profil Personnel'!E$12,'REF LIST'!$O$5:$O$20,0),5) -> Fi | C17: =INDEX('REF LIST'!$O$5:$S$20,MATCH('Profil Personnel'!F$12,'REF LIST'!$O$5:$O$20,0),5) -> Te | E17: =IF(E12="","",IF(E12='REF LIST'!O5,'REF LIST'!S5,IF(E12='REF LIST'!O6,'REF LIST'!S6,IF(E12='REF LIST'!O7,'REF LIST'!S7,IF(E12='REF LIST'!O8,'REF LIST'!S8,IF(E12='REF LIST'!O9,'REF LIST'!S9,IF(E12='REF LIST'!O10,'REF LIST'!S10,IF(E12='REF LIST'!O11,'REF LIST'!S11,IF(E12='REF LIST'!O12,'REF LIST'!S12,IF(E12='REF LIST'!O13,'REF LIST'!S13,IF(E12='REF LIST'!O14,'REF LIST'!S14,IF(E12='REF LIST'!O15,'REF LIST'!S15,IF(E12='REF LIST'!O16,'REF LIST'!S16,IF(E12='REF LIST'!O17,'REF LIST'!S17,IF(E12='REF LIST'!O18,'REF LIST'!S18,IF(E12='REF LIST'!O19,'REF LIST'!S19,IF(E12='REF LIST'!O20,'REF LIST'!S20,"Erreur"))))))))))))))))) -> Fi | F17: =IF(F$12="","",IF(F$12='REF LIST'!O5,'REF LIST'!S5,IF(F$12='REF LIST'!O6,'REF LIST'!S6,IF(F$12='REF LIST'!O7,'REF LIST'!S7,IF(F$12='REF LIST'!O8,'REF LIST'!S8,IF(F$12='REF LIST'!O9,'REF LIST'!S9,IF(F$12='REF LIST'!O10,'REF LIST'!S10,IF(F$12='REF LIST'!O11,'REF LIST'!S11,IF(F$12='REF LIST'!O12,'REF LIST'!S12,IF(F$12='REF LIST'!O13,'REF LIST'!S13,IF(F$12='REF LIST'!O14,'REF LIST'!S14,IF(F$12='REF LIST'!O15,'REF LIST'!S15,IF(F$12='REF LIST'!O16,'REF LIST'!S16,IF(F$12='REF LIST'!O17,'REF LIST'!S17,IF(F$12='REF LIST'!O18,'REF LIST'!S18,IF(F$12='REF LIST'!O19,'REF LIST'!S19,IF(F$12='REF LIST'!O20,'REF LIST'!S20,"Erreur"))))))))))))))))) -> Te | H17: Crée | K17: =IF(E17="","",IF(E17='REF LIST'!U$6,'REF LIST'!V$6,IF(E17='REF LIST'!U$7,'REF LIST'!V$7,IF(E17='REF LIST'!U$8,'REF LIST'!V$8,IF(E17='REF LIST'!U$9,'REF LIST'!V$9,IF(E17='REF LIST'!U$10,'REF LIST'!V$10,IF(E17='REF LIST'!U$11,'REF LIST'!V$11,IF(E17='REF LIST'!U$12,'REF LIST'!V$12,IF(E17='REF LIST'!U$13,'REF LIST'!V$13,"Erreur"))))))))) -> Valoriser | M17: =IF(F17="","",IF(F17='REF LIST'!U$6,'REF LIST'!V$6,(IF(F17='REF LIST'!U$7,'REF LIST'!V$7,IF(F17='REF LIST'!U$8,'REF LIST'!V$8,IF(F17='REF LIST'!U$9,'REF LIST'!V$9,IF(F17='REF LIST'!U$10,'REF LIST'!V$10,IF(F17='REF LIST'!U$11,'REF LIST'!V$11,IF(F17='REF LIST'!U$12,'REF LIST'!V$12,IF(F17='REF LIST'!U$13,'REF LIST'!V$13,"Erreur")))))))))) -> Organiser | Q17: =INDEX('REF LIST'!$U$6:$V$13,MATCH('Profil Personnel'!B17,'REF LIST'!$U$6:$U$13,0),2) -> Valoriser | R17: =INDEX('REF LIST'!$U$6:$V$13,MATCH('Profil Personnel'!C17,'REF LIST'!$U$6:$U$13,0),2) -> Organiser
E19: Observations
E21: SI(E14="";"";SI(E14='REF LIST'!U$6;'REF LIST'!V$6;SI(E14='REF LIST'!U$7;'REF LIST'!V$7;SI(E14='REF LIST'!U$8;'REF LIST'!V$8;SI(E14='REF LIST'!U$9;'REF LIST'!V$9;SI(E14='REF LIST'!U$10;'REF LIST'!V$10;SI(E14='REF LIST'!U$11;'REF LIST'!V$11;SI(E14='REF LIST'!U$12;'REF LIST'!V$12;SI(E14='REF LIST'!U$13;'REF LIST'!V$13;"Erreur")))))))))
E22: SI(E15="";"";SI(E15='REF LIST'!U$6;'REF LIST'!V$6;SI(E15='REF LIST'!U$7;'REF LIST'!V$7;SI(E15='REF LIST'!U$8;'REF LIST'!V$8;SI(E15='REF LIST'!U$9;'REF LIST'!V$9;SI(E15='REF LIST'!U$10;'REF LIST'!V$10;SI(E15='REF LIST'!U$11;'REF LIST'!V$11;SI(E15='REF LIST'!U$12;'REF LIST'!V$12;SI(E15='REF LIST'!U$13;'REF LIST'!V$13;"Erreur")))))))))

Sheet REF LIST
B4: Liste Référence
G5: MP | J5: DGRC | K5: PM | L5: GD | M5: VH | O5: ISTJ | P5: Si | Q5: Te | R5: Fi | S5: Ne | U5: Fonctions | V5: VERBES
B6: D4 | C6: ISTJ | D6: R1 | E6: ENFP | G6: Ui | H6: L1 - Type 2 | J6: D | K6: PMH | L6: G | M6: V | O6: ISTP | P6: Ti | Q6: Se | R6: Ni | S6: Fe | U6: Ni | V6: Imaginer
B7: D2 | C7: ISTP | D7: R3 | E7: ENFJ | G7: Ue | H7: L1 - Type 1 | J7: G | K7: PMB | L7: D | M7: H | O7: ESTP | P7: Se | Q7: Ti | R7: Fe | S7: Ni | U7: Ne | V7: Explorer
B8: D1 | C8: ESTP | D8: R4 | E8: INFJ | G8: Ai | H8: L4 - Type 10 | J8: R | O8: ESTJ | P8: Te | Q8: Si | R8: Ne | S8: Fi | U8: Fi | V8: Valoriser
B9: D3 | C9: ESTJ | D9: R2 | E9: INFP | G9: Ae | H9: L4 - Type 9 | J9: C | O9: ISFJ | P9: Si | Q9: Fe | R9: Ti | S9: Ne | U9: Fe | V9: Harmoniser
B10: G4 | C10: ISFJ | D10: C1 | E10: ENTP | G10: Ri | H10: L2 - Type 4 | O10: ISFP | P10: Fi | Q10: Se | R10: Ni | S10: Te | U10: Si | V10: Se Remémorer
B11: G2 | C11: ISFP | D11: C3 | E11: ENTJ | G11: Re | H11: L2 - Type 3 | O11: ESFP | P11: Se | Q11: Fi | R11: Te | S11: Ni | U11: Se | V11: Expérimenter
B12: G1 | C12: ESFP | D12: C4 | E12: INTJ | G12: Ci | H12: L3 - Type 8 | O12: ESFJ | P12: Fe | Q12: Si | R12: Ne | S12: Ti | U12: Ti | V12: Analyser
B13: G3 | C13: ESFJ | D13: C2 | E13: INTP | G13: Ce | H13: L3 - Type 7 | O13: INFJ | P13: Ni | Q13: Fe | R13: Ti | S13: Se | U13: Te | V13: Organiser
B14: R4 | C14: INFJ | D14: D1 | E14: ESTP | G14: Pi | H14: L5 - Type 6 | O14: INFP | P14: Fi | Q14: Ne | R14: Si | S14: Te
B15: R2 | C15: INFP | D15: D3 | E15: ESTJ | G15: Pe | H15: L5 - Type 5 | O15: ENFP | P15: Ne | Q15: Fi | R15: Te | S15: Si
B16: R1 | C16: ENFP | D16: D4 | E16: ISTJ | O16: ENFJ | P16: Fe | Q16: Ni | R16: Se | S16: Ti
B17: R3 | C17: ENFJ | D17: D2 | E17: ISTP | O17: INTJ | P17: Ni | Q17: Te | R17: Fi | S17: Se
B18: C4 | C18: INTJ | D18: G1 | E18: ESFP | O18: INTP | P18: Ti | Q18: Ne | R18: Si | S18: Fe
B19: C2 | C19: INTP | D19: G3 | E19: ESFJ | O19: ENTP | P19: Ne | Q19: Ti | R19: Fe | S19: Si
B20: C1 | C20: ENTP | D20: G4 | E20: ISFJ | O20: ENTJ | P20: Te | Q20: Ni | R20: Se | S20: Fi
B21: C3 | C21: ENTJ | D21: G2 | E21: ISFP
