Workbook
Name t_data: 'Rslt 2'!$A$1:INDEX('Rslt 2'!$1:$1048576,_xludf.counta('Rslt 2'!$A:$A),_xludf.counta('Rslt 2'!$1:$1))

Sheet Data
A1: Num | B1: Mouvements | C1: Date | D1: Demande | E1: ValeurCoûtsM$ | F1: Date2
A2: P150101 | B2: Dépôt | C2: 44910 | D2: P | E2: 0 | F2: =TEXT(Tableau2[[#This Row],[Date]],"AAAA-MM") -> 2022-12
A3: P060101 | B3: Dépôt | C3: 44910 | D3: P | E3: 191.04602 | F3: =TEXT(Tableau2[[#This Row],[Date]],"AAAA-MM") -> 2022-12
A4: P060102 | B4: Dépôt | C4: 44910 | D4: P | E4: 98.388702 | F4: =TEXT(Tableau2[[#This Row],[Date]],"AAAA-MM") -> 2022-12
A5: P060103 | B5: Dépôt | C5: 44910 | D5: P | E5: 96.998843 | F5: =TEXT(Tableau2[[#This Row],[Date]],"AAAA-MM") -> 2022-12
A6: P060104 | B6: Dépôt | C6: 44910 | D6: P | E6: 96.977995 | F6: =TEXT(Tableau2[[#This Row],[Date]],"AAAA-MM") -> 2022-12
A7: P060105 | B7: Dépôt | C7: 44910 | D7: P | E7: 96.977682 | F7: =TEXT(Tableau2[[#This Row],[Date]],"AAAA-MM") -> 2022-12
A8: P060401 | B8: Dépôt | C8: 44910 | D8: P | E8: 95.523012 | F8: =TEXT(Tableau2[[#This Row],[Date]],"AAAA-MM") -> 2022-12
A9: P050601 | B9: Dépôt | C9: 44910 | D9: P | E9: 0 | F9: =TEXT(Tableau2[[#This Row],[Date]],"AAAA-MM") -> 2022-12
A10: P060301 | B10: Dépôt | C10: 44910 | D10: P | E10: 0 | F10: =TEXT(Tableau2[[#This Row],[Date]],"AAAA-MM") -> 2022-12
A11: P050101 | B11: Dépôt | C11: 44910 | D11: P | E11: 0 | F11: =TEXT(Tableau2[[#This Row],[Date]],"AAAA-MM") -> 2022-12
A12: P050102 | B12: Dépôt | C12: 44910 | D12: P | E12: 0 | F12: =TEXT(Tableau2[[#This Row],[Date]],"AAAA-MM") -> 2022-12
A13: P070401 | B13: Dépôt | C13: 44910 | D13: P | E13: 0 | F13: =TEXT(Tableau2[[#This Row],[Date]],"AAAA-MM") -> 2022-12
... A154: P090206 | B154: Dépôt | C154: 45089 | D154: P | E154: 26.1 | F154: =TEXT(Tableau2[[#This Row],[Date]],"AAAA-MM") -> 2023-06

Sheet Rslt
B2: P
A4: 2022-10 | B4: =SUMIFS(Data!E:E,Data!D:D,B$2,Data!F:F,A4) -> 0 | C4: 0 | F4: Pour l'évolution des coûts:
A5: 2022-11 | B5: =SUMIFS(Data!E:E,Data!D:D,B$2,Data!F:F,A5) -> 0 | C5: 0
A6: 2022-12 | B6: =SUMIFS(Data!E:E,Data!D:D,B$2,Data!F:F,A6) -> 675.91226 | C6: 675.91226 | F6: Sommer les éléments différents d'une période à l'autre
A7: 2023-01 | B7: =SUMIFS(Data!E:E,Data!D:D,B$2,Data!F:F,A7) -> 0 | C7: 675.91226
A8: 2023-02 | B8: =SUMIFS(Data!E:E,Data!D:D,B$2,Data!F:F,A8) -> 0 | C8: 675.91226 | F8: Si dans une même période, deux éléments sont identiques, il faut en conserver seulement un
A9: 2023-03 | B9: =SUMIFS(Data!E:E,Data!D:D,B$2,Data!F:F,A9) -> 1399.2722 | C9: 699.64 | D9: +23,72 (Nouveau)
A10: 2023-04 | B10: =SUMIFS(Data!E:E,Data!D:D,B$2,Data!F:F,A10) -> 0 | C10: 699.64 | F10: Exclure les retraits
A11: 2023-05 | B11: =SUMIFS(Data!E:E,Data!D:D,B$2,Data!F:F,A11) -> 0 | C11: 699.64
A12: 2023-06 | B12: =SUMIFS(Data!E:E,Data!D:D,B$2,Data!F:F,A12) -> 39.69 | C12: 739.33 | D12: +39,69 (Nouveau)
A13: 2023-07 | B13: =SUMIFS(Data!E:E,Data!D:D,B$2,Data!F:F,A13) -> 0 | C13: 739.33
A17: P060101 | B17: 191.04602 | C17: 2022-12
A18: P060102 | B18: 98.388702 | C18: 2022-12
A19: P060103 | B19: 96.998843 | C19: 2022-12 | F19: Doit donner 675,91$
A20: P060104 | B20: 96.977995 | C20: 2022-12
A21: P060105 | B21: 96.977682 | C21: 2022-12
A22: P060401 | B22: 95.523012 | C22: 2022-12
A24: P060101 | B24: 191.04602 | C24: 2023-03
A25: P060102 | B25: 98.388702 | C25: 2023-03
A26: P060103 | B26: 96.998843 | C26: 2023-03 | F26: Doit donner 99,94$
A27: P060104 | B27: 96.977995 | C27: 2023-03
A28: P060105 | B28: 96.977682 | C28: 2023-03
A29: P060401 | B29: 95.523012 | C29: 2023-03
A30: P060301 | B30: 23.72382 | C30: 2023-03
A31: P060101 | B31: 191.04602 | C31: 2023-03
A32: P060102 | B32: 98.388702 | C32: 2023-03
A33: P060103 | B33: 96.998843 | C33: 2023-03
A34: P060104 | B34: 96.977995 | C34: 2023-03
A35: P060105 | B35: 96.977682 | C35: 2023-03
A36: P060401 | B36: 95.523012 | C36: 2023-03
A37: P060301 | B37: 23.72382 | C37: 2023-03
A39: P090204 | B39: 12.8 | C39: 2023-06
A40: P090205 | B40: 0.79 | C40: 2023-06 | F40: Doit donner 39,69
A41: P090206 | B41: 26.1 | C41: 2023-06

Sheet Rslt 2
A1: Num | B1: Mouvement | C1: Date | D1: Demande | E1: ValeurCoûtsM$ | F1: Période | I1: ValeurCoûtsM$ | J1: Cumul ValeurCoûtsM$2
A2: {=_xlfn.UNIQUE(_xlfn._xlws.FILTER(Tableau2[],(Tableau2[Mouvements]<>"Retrait")*(Tableau2[ValeurCoûtsM$]<>0)*(Tableau2[Demande]="P")))} -> P060101 | B2: Dépôt | C2: 44910 | D2: P | E2: 191.04602 | F2: 2022-12 | H2: 2022-12 | I2: 675.91226 | J2: 675.91226
A3: P060102 | B3: Dépôt | C3: 44910 | D3: P | E3: 98.388702 | F3: 2022-12 | H3: 2023-03 | I3: 699.63608 | J3: 1375.5483
A4: P060103 | B4: Dépôt | C4: 44910 | D4: P | E4: 96.998843 | F4: 2022-12 | H4: 2023-06 | I4: 39.69 | J4: 1415.2383
A5: P060104 | B5: Dépôt | C5: 44910 | D5: P | E5: 96.977995 | F5: 2022-12 | H5: Total général | I5: 1415.2383
A6: P060105 | B6: Dépôt | C6: 44910 | D6: P | E6: 96.977682 | F6: 2022-12
A7: P060401 | B7: Dépôt | C7: 44910 | D7: P | E7: 95.523012 | F7: 2022-12
A8: P060101 | B8: Dépôt | C8: 45012 | D8: P | E8: 191.04602 | F8: 2023-03
A9: P060102 | B9: Dépôt | C9: 45012 | D9: P | E9: 98.388702 | F9: 2023-03
A10: P060103 | B10: Dépôt | C10: 45012 | D10: P | E10: 96.998843 | F10: 2023-03
A11: P060104 | B11: Dépôt | C11: 45012 | D11: P | E11: 96.977995 | F11: 2023-03
A12: P060105 | B12: Dépôt | C12: 45012 | D12: P | E12: 96.977682 | F12: 2023-03
A13: P060401 | B13: Dépôt | C13: 45012 | D13: P | E13: 95.523012 | F13: 2023-03
A14: P060301 | B14: Dépôt | C14: 45012 | D14: P | E14: 23.72382 | F14: 2023-03
A15: P090204 | B15: Dépôt | C15: 45089 | D15: P | E15: 12.8 | F15: 2023-06
A16: P090205 | B16: Dépôt | C16: 45089 | D16: P | E16: 0.79 | F16: 2023-06
A17: P090206 | B17: Dépôt | C17: 45089 | D17: P | E17: 26.1 | F17: 2023-06
