Workbook

Sheet Feuille1
A1: CODE_ENTREPRISE | B1: ENTREPRISE
A2: 1 | B2: LECLERC
A3: 2 | B3: AUCHAN
A4: 3 | B4: MICROSOFT
A5: 4 | B5: THALES
A6: 5 | B6: NASA
A7: 6 | B7: SPACEX

Sheet Feuille2
A1: CODE_ENTREPRISE | B1: ENTREPRISE
A2: =_xlfn.XLOOKUP(Table2[[#This Row],[ENTREPRISE]],Table1[ENTREPRISE],Table1[CODE_ENTREPRISE],"inconnu") -> inconnu | B2: MICHELIN | D2: =_xlfn.IFNA(INDEX(Table1[CODE_ENTREPRISE],MATCH(Feuille2!B2,Table1[ENTREPRISE],0)),"inconnu") -> inconnu | F2: =ADDRESS(ROW(A2),COLUMN(A2),4)&" : "&_xlfn.FORMULATEXT(A2) -> A2 : =XLOOKUP([@ENTREPRISE];Table1[ENTREPRISE];Table1[CODE_ENTREPRISE];"inconnu")
A3: =_xlfn.XLOOKUP(Table2[[#This Row],[ENTREPRISE]],Table1[ENTREPRISE],Table1[CODE_ENTREPRISE],"inconnu") -> inconnu | B3: CAREFOUR | D3: =_xlfn.IFNA(INDEX(Table1[CODE_ENTREPRISE],MATCH(Feuille2!B3,Table1[ENTREPRISE],0)),"inconnu") -> inconnu | F3: =ADDRESS(ROW(D2),COLUMN(D2),4)&" : "&_xlfn.FORMULATEXT(D2) -> D2 : =IFNA(INDEX(Table1[CODE_ENTREPRISE];MATCH(Feuille2!B2;Table1[ENTREPRISE];0));"inconnu")
A4: =_xlfn.XLOOKUP(Table2[[#This Row],[ENTREPRISE]],Table1[ENTREPRISE],Table1[CODE_ENTREPRISE],"inconnu") -> inconnu | B4: SONY | D4: =_xlfn.IFNA(INDEX(Table1[CODE_ENTREPRISE],MATCH(Feuille2!B4,Table1[ENTREPRISE],0)),"inconnu") -> inconnu
A5: =_xlfn.XLOOKUP(Table2[[#This Row],[ENTREPRISE]],Table1[ENTREPRISE],Table1[CODE_ENTREPRISE],"inconnu") -> inconnu | B5: SAMSUNG | D5: =_xlfn.IFNA(INDEX(Table1[CODE_ENTREPRISE],MATCH(Feuille2!B5,Table1[ENTREPRISE],0)),"inconnu") -> inconnu
A6: =_xlfn.XLOOKUP(Table2[[#This Row],[ENTREPRISE]],Table1[ENTREPRISE],Table1[CODE_ENTREPRISE],"inconnu") -> 1 | B6: LECLERC | D6: =_xlfn.IFNA(INDEX(Table1[CODE_ENTREPRISE],MATCH(Feuille2!B6,Table1[ENTREPRISE],0)),"inconnu") -> 1
A7: =_xlfn.XLOOKUP(Table2[[#This Row],[ENTREPRISE]],Table1[ENTREPRISE],Table1[CODE_ENTREPRISE],"inconnu") -> 4 | B7: THALES | D7: =_xlfn.IFNA(INDEX(Table1[CODE_ENTREPRISE],MATCH(Feuille2!B7,Table1[ENTREPRISE],0)),"inconnu") -> 4
A8: =_xlfn.XLOOKUP(Table2[[#This Row],[ENTREPRISE]],Table1[ENTREPRISE],Table1[CODE_ENTREPRISE],"inconnu") -> inconnu | B8: TOTAL | D8: =_xlfn.IFNA(INDEX(Table1[CODE_ENTREPRISE],MATCH(Feuille2!B8,Table1[ENTREPRISE],0)),"inconnu") -> inconnu
A9: =_xlfn.XLOOKUP(Table2[[#This Row],[ENTREPRISE]],Table1[ENTREPRISE],Table1[CODE_ENTREPRISE],"inconnu") -> inconnu | B9: ECT | D9: =_xlfn.IFNA(INDEX(Table1[CODE_ENTREPRISE],MATCH(Feuille2!B9,Table1[ENTREPRISE],0)),"inconnu") -> inconnu
A10: =_xlfn.XLOOKUP(Table2[[#This Row],[ENTREPRISE]],Table1[ENTREPRISE],Table1[CODE_ENTREPRISE],"inconnu") -> inconnu | B10: ECT | D10: =_xlfn.IFNA(INDEX(Table1[CODE_ENTREPRISE],MATCH(Feuille2!B10,Table1[ENTREPRISE],0)),"inconnu") -> inconnu
A11: =_xlfn.XLOOKUP(Table2[[#This Row],[ENTREPRISE]],Table1[ENTREPRISE],Table1[CODE_ENTREPRISE],"inconnu") -> 5 | B11: NASA | D11: =_xlfn.IFNA(INDEX(Table1[CODE_ENTREPRISE],MATCH(Feuille2!B11,Table1[ENTREPRISE],0)),"inconnu") -> 5
A12: =_xlfn.XLOOKUP(Table2[[#This Row],[ENTREPRISE]],Table1[ENTREPRISE],Table1[CODE_ENTREPRISE],"inconnu") -> inconnu | B12: ECT | D12: =_xlfn.IFNA(INDEX(Table1[CODE_ENTREPRISE],MATCH(Feuille2!B12,Table1[ENTREPRISE],0)),"inconnu") -> inconnu
A13: =_xlfn.XLOOKUP(Table2[[#This Row],[ENTREPRISE]],Table1[ENTREPRISE],Table1[CODE_ENTREPRISE],"inconnu") -> inconnu | B13: ECT | D13: =_xlfn.IFNA(INDEX(Table1[CODE_ENTREPRISE],MATCH(Feuille2!B13,Table1[ENTREPRISE],0)),"inconnu") -> inconnu
