Workbook

Sheet POINTS
A2: TYPE | B2: Or | C2: Argent | D2: Bronze | E2: Cinq | F2: Sept
A3: TLA & CR | B3: 60 | C3: 30 | D3: 15 | E3: 7 | F3: 2
A4: TLE | B4: 80 | C4: 45 | D4: 30 | E4: 10 | F4: 4
A5: TSE | B5: 100 | C5: 60 | D5: 40 | E5: 20 | F5: 16
A6: CF1D | B6: 200 | C6: 120 | D6: 80 | E6: 40 | F6: 32
A7: EC | B7: 100 | C7: 60 | D7: 40 | E7: 20 | F7: 16
A8: ECC | B8: 200 | C8: 120 | D8: 80 | E8: 40 | F8: 32
A9: WJC | B9: 500 | C9: 300 | D9: 200 | E9: 100 | F9: 80
A10: TLA & CR_N-1 | B10: 30 | C10: 15 | D10: 7.5 | E10: 3.5 | F10: 1
A11: TLE_N-1 | B11: 40 | C11: 22.5 | D11: 15 | E11: 5 | F11: 2
A12: TSE_N-1 | B12: 50 | C12: 30 | D12: 20 | E12: 10 | F12: 8
A13: CF1D_N-1 | B13: 100 | C13: 60 | D13: 40 | E13: 20 | F13: 16
A14: EC_N-1 | B14: 50 | C14: 30 | D14: 20 | E14: 10 | F14: 8
... A16: WJC_N-1 | B16: 250 | C16: 150 | D16: 100 | E16: 50 | F16: 40

Sheet TOURNOIS
H1: TLE | J1: WJC
H3: NOM TOURNOI 1 | J3: NOM TOURNOI 2
H4: DATE 1 | J4: DATE 2
B5: CATEGORIE | C5: CLASSEMENT | D5: N° INSCRIPTION | E5: NOM | F5: EQUIPE | G5: TOTAL POINT | H5: LIEU 1 | J5: LIEU 2
B6: CAT1 | C6: =RANK(G6,$G$6:$G$17,0) -> 3 | D6: XXX_1 | E6: NOM1 | F6: EQUIPE1 | G6: =SUM(I6,K6) -> 0 | I6: =IFERROR(INDEX(Table1[],MATCH(TOURNOIS!H$1,Table1[TYPE],0),MATCH(TOURNOIS!H6,Table1[#Headers],0)),0) -> 0 | K6: =IFERROR(INDEX(Table1[],MATCH(TOURNOIS!J$1,Table1[TYPE],0),MATCH(TOURNOIS!J6,Table1[#Headers],0)),0) -> 0 | M6: Dans les colonnes I et K (pour cet exemple), je souhaiterais automatiser mes formules de calculs en fonction de 2 paramètres : - Le classement (colonnes annexes H et J) - Le type de tournoi (cellule en haut) Ainsi je souhaiterais obtenir les points attribués en fonction de ces 2 conditions. Actuellement j'utilise la simple formule : =SI(H6="Or";80;SI(H6="Argent";45;SI(H6="Bronze";30;SI(H6="Cinq";10;SI(H6="Sept";4;0))))) Mais pour chaque ajout de tournoi je modifie à la main les points attribués du tournoi. Là je souhaiterais simplement choisir en haut le type de tounoir et pour chaque cellule donnant les points en fonction du classement, cela change en fonction du type de tournoi choisi.
B7: CAT1 | C7: =RANK(G7,$G$6:$G$17,0) -> 3 | D7: XXX_2 | E7: NOM2 | F7: EQUIPE2 | G7: =SUM(I7,K7) -> 0 | I7: =IFERROR(INDEX(Table1[],MATCH(TOURNOIS!H$1,Table1[TYPE],0),MATCH(TOURNOIS!H7,Table1[#Headers],0)),0) -> 0 | K7: =IFERROR(INDEX(Table1[],MATCH(TOURNOIS!J$1,Table1[TYPE],0),MATCH(TOURNOIS!J7,Table1[#Headers],0)),0) -> 0
B8: CAT1 | C8: =RANK(G8,$G$6:$G$17,0) -> 3 | D8: XXX_3 | E8: NOM3 | F8: EQUIPE3 | G8: =SUM(I8,K8) -> 0 | I8: =IFERROR(INDEX(Table1[],MATCH(TOURNOIS!H$1,Table1[TYPE],0),MATCH(TOURNOIS!H8,Table1[#Headers],0)),0) -> 0 | K8: =IFERROR(INDEX(Table1[],MATCH(TOURNOIS!J$1,Table1[TYPE],0),MATCH(TOURNOIS!J8,Table1[#Headers],0)),0) -> 0
B9: CAT1 | C9: =RANK(G9,$G$6:$G$17,0) -> 2 | D9: XXX_4 | E9: NOM4 | F9: EQUIPE3 | G9: =SUM(I9,K9) -> 30 | H9: Bronze | I9: =IFERROR(INDEX(Table1[],MATCH(TOURNOIS!H$1,Table1[TYPE],0),MATCH(TOURNOIS!H9,Table1[#Headers],0)),0) -> 30 | K9: =IFERROR(INDEX(Table1[],MATCH(TOURNOIS!J$1,Table1[TYPE],0),MATCH(TOURNOIS!J9,Table1[#Headers],0)),0) -> 0
B10: CAT1 | C10: =RANK(G10,$G$6:$G$17,0) -> 3 | D10: XXX_5 | E10: NOM5 | F10: EQUIPE2 | G10: =SUM(I10,K10) -> 0 | I10: =IFERROR(INDEX(Table1[],MATCH(TOURNOIS!H$1,Table1[TYPE],0),MATCH(TOURNOIS!H10,Table1[#Headers],0)),0) -> 0 | K10: =IFERROR(INDEX(Table1[],MATCH(TOURNOIS!J$1,Table1[TYPE],0),MATCH(TOURNOIS!J10,Table1[#Headers],0)),0) -> 0
B11: CAT1 | C11: =RANK(G11,$G$6:$G$17,0) -> 3 | D11: XXX_6 | E11: NOM6 | F11: EQUIPE2 | G11: =SUM(I11,K11) -> 0 | I11: =IFERROR(INDEX(Table1[],MATCH(TOURNOIS!H$1,Table1[TYPE],0),MATCH(TOURNOIS!H11,Table1[#Headers],0)),0) -> 0 | K11: =IFERROR(INDEX(Table1[],MATCH(TOURNOIS!J$1,Table1[TYPE],0),MATCH(TOURNOIS!J11,Table1[#Headers],0)),0) -> 0
B12: CAT1 | C12: =RANK(G12,$G$6:$G$17,0) -> 3 | D12: XXX_7 | E12: NOM7 | F12: EQUIPE2 | G12: =SUM(I12,K12) -> 0 | I12: =IFERROR(INDEX(Table1[],MATCH(TOURNOIS!H$1,Table1[TYPE],0),MATCH(TOURNOIS!H12,Table1[#Headers],0)),0) -> 0 | K12: =IFERROR(INDEX(Table1[],MATCH(TOURNOIS!J$1,Table1[TYPE],0),MATCH(TOURNOIS!J12,Table1[#Headers],0)),0) -> 0
B13: CAT1 | C13: =RANK(G13,$G$6:$G$17,0) -> 3 | D13: XXX_8 | E13: NOM8 | F13: EQUIPE3 | G13: =SUM(I13,K13) -> 0 | I13: =IFERROR(INDEX(Table1[],MATCH(TOURNOIS!H$1,Table1[TYPE],0),MATCH(TOURNOIS!H13,Table1[#Headers],0)),0) -> 0 | K13: =IFERROR(INDEX(Table1[],MATCH(TOURNOIS!J$1,Table1[TYPE],0),MATCH(TOURNOIS!J13,Table1[#Headers],0)),0) -> 0
B14: CAT1 | C14: =RANK(G14,$G$6:$G$17,0) -> 1 | D14: XXX_9 | E14: NOM9 | F14: EQUIPE1 | G14: =SUM(I14,K14) -> 300 | I14: =IFERROR(INDEX(Table1[],MATCH(TOURNOIS!H$1,Table1[TYPE],0),MATCH(TOURNOIS!H14,Table1[#Headers],0)),0) -> 0 | J14: Argent | K14: =IFERROR(INDEX(Table1[],MATCH(TOURNOIS!J$1,Table1[TYPE],0),MATCH(TOURNOIS!J14,Table1[#Headers],0)),0) -> 300
B15: CAT1 | C15: =RANK(G15,$G$6:$G$17,0) -> 3 | D15: XXX_10 | E15: NOM10 | F15: EQUIPE3 | G15: =SUM(I15,K15) -> 0 | I15: =IFERROR(INDEX(Table1[],MATCH(TOURNOIS!H$1,Table1[TYPE],0),MATCH(TOURNOIS!H15,Table1[#Headers],0)),0) -> 0 | K15: =IFERROR(INDEX(Table1[],MATCH(TOURNOIS!J$1,Table1[TYPE],0),MATCH(TOURNOIS!J15,Table1[#Headers],0)),0) -> 0
B16: CAT1 | C16: =RANK(G16,$G$6:$G$17,0) -> 3 | D16: XXX_11 | E16: NOM11 | F16: EQUIPE2 | G16: =SUM(I16,K16) -> 0 | I16: =IFERROR(INDEX(Table1[],MATCH(TOURNOIS!H$1,Table1[TYPE],0),MATCH(TOURNOIS!H16,Table1[#Headers],0)),0) -> 0 | K16: =IFERROR(INDEX(Table1[],MATCH(TOURNOIS!J$1,Table1[TYPE],0),MATCH(TOURNOIS!J16,Table1[#Headers],0)),0) -> 0
B17: CAT1 | C17: =RANK(G17,$G$6:$G$17,0) -> 3 | D17: XXX_12 | E17: NOM12 | F17: EQUIPE1 | G17: =SUM(I17,K17) -> 0 | I17: =IFERROR(INDEX(Table1[],MATCH(TOURNOIS!H$1,Table1[TYPE],0),MATCH(TOURNOIS!H17,Table1[#Headers],0)),0) -> 0 | K17: =IFERROR(INDEX(Table1[],MATCH(TOURNOIS!J$1,Table1[TYPE],0),MATCH(TOURNOIS!J17,Table1[#Headers],0)),0) -> 0
B19: CAT2 | C19: =RANK(G19,$G$19:$G$27,0) -> 1 | D19: XXX_13 | E19: NOM13 | F19: EQUIPE3 | G19: =SUM(I19,K19) -> 0 | I19: =IFERROR(INDEX(Table1[],MATCH(TOURNOIS!H$1,Table1[TYPE],0),MATCH(TOURNOIS!H19,Table1[#Headers],0)),0) -> 0 | K19: =IFERROR(INDEX(Table1[],MATCH(TOURNOIS!J$1,Table1[TYPE],0),MATCH(TOURNOIS!J19,Table1[#Headers],0)),0) -> 0
B20: CAT2 | C20: =RANK(G20,$G$19:$G$27,0) -> 1 | D20: XXX_14 | E20: NOM14 | F20: EQUIPE3 | G20: =SUM(I20,K20) -> 0 | I20: =IFERROR(INDEX(Table1[],MATCH(TOURNOIS!H$1,Table1[TYPE],0),MATCH(TOURNOIS!H20,Table1[#Headers],0)),0) -> 0 | K20: =IFERROR(INDEX(Table1[],MATCH(TOURNOIS!J$1,Table1[TYPE],0),MATCH(TOURNOIS!J20,Table1[#Headers],0)),0) -> 0
B21: CAT2 | C21: =RANK(G21,$G$19:$G$27,0) -> 1 | D21: XXX_15 | E21: NOM15 | F21: EQUIPE1 | G21: =SUM(I21,K21) -> 0 | I21: =IFERROR(INDEX(Table1[],MATCH(TOURNOIS!H$1,Table1[TYPE],0),MATCH(TOURNOIS!H21,Table1[#Headers],0)),0) -> 0 | K21: =IFERROR(INDEX(Table1[],MATCH(TOURNOIS!J$1,Table1[TYPE],0),MATCH(TOURNOIS!J21,Table1[#Headers],0)),0) -> 0
B22: CAT2 | C22: =RANK(G22,$G$19:$G$27,0) -> 1 | D22: XXX_16 | E22: NOM16 | F22: EQUIPE1 | G22: =SUM(I22,K22) -> 0 | I22: =IFERROR(INDEX(Table1[],MATCH(TOURNOIS!H$1,Table1[TYPE],0),MATCH(TOURNOIS!H22,Table1[#Headers],0)),0) -> 0 | K22: =IFERROR(INDEX(Table1[],MATCH(TOURNOIS!J$1,Table1[TYPE],0),MATCH(TOURNOIS!J22,Table1[#Headers],0)),0) -> 0
B23: CAT2 | C23: =RANK(G23,$G$19:$G$27,0) -> 1 | D23: XXX_17 | E23: NOM17 | F23: EQUIPE1 | G23: =SUM(I23,K23) -> 0 | I23: =IFERROR(INDEX(Table1[],MATCH(TOURNOIS!H$1,Table1[TYPE],0),MATCH(TOURNOIS!H23,Table1[#Headers],0)),0) -> 0 | K23: =IFERROR(INDEX(Table1[],MATCH(TOURNOIS!J$1,Table1[TYPE],0),MATCH(TOURNOIS!J23,Table1[#Headers],0)),0) -> 0
B24: CAT2 | C24: =RANK(G24,$G$19:$G$27,0) -> 1 | D24: XXX_18 | E24: NOM18 | F24: EQUIPE2 | G24: =SUM(I24,K24) -> 0 | I24: =IFERROR(INDEX(Table1[],MATCH(TOURNOIS!H$1,Table1[TYPE],0),MATCH(TOURNOIS!H24,Table1[#Headers],0)),0) -> 0 | K24: =IFERROR(INDEX(Table1[],MATCH(TOURNOIS!J$1,Table1[TYPE],0),MATCH(TOURNOIS!J24,Table1[#Headers],0)),0) -> 0
B25: CAT2 | C25: =RANK(G25,$G$19:$G$27,0) -> 1 | D25: XXX_19 | E25: NOM19 | F25: EQUIPE2 | G25: =SUM(I25,K25) -> 0 | I25: =IFERROR(INDEX(Table1[],MATCH(TOURNOIS!H$1,Table1[TYPE],0),MATCH(TOURNOIS!H25,Table1[#Headers],0)),0) -> 0 | K25: =IFERROR(INDEX(Table1[],MATCH(TOURNOIS!J$1,Table1[TYPE],0),MATCH(TOURNOIS!J25,Table1[#Headers],0)),0) -> 0
B26: CAT2 | C26: =RANK(G26,$G$19:$G$27,0) -> 1 | D26: XXX_20 | E26: NOM20 | F26: EQUIPE2 | G26: =SUM(I26,K26) -> 0 | I26: =IFERROR(INDEX(Table1[],MATCH(TOURNOIS!H$1,Table1[TYPE],0),MATCH(TOURNOIS!H26,Table1[#Headers],0)),0) -> 0 | K26: =IFERROR(INDEX(Table1[],MATCH(TOURNOIS!J$1,Table1[TYPE],0),MATCH(TOURNOIS!J26,Table1[#Headers],0)),0) -> 0
B27: CAT2 | C27: =RANK(G27,$G$19:$G$27,0) -> 1 | D27: XXX_21 | E27: NOM21 | F27: EQUIPE1 | G27: =SUM(I27,K27) -> 0 | I27: =IFERROR(INDEX(Table1[],MATCH(TOURNOIS!H$1,Table1[TYPE],0),MATCH(TOURNOIS!H27,Table1[#Headers],0)),0) -> 0 | K27: =IFERROR(INDEX(Table1[],MATCH(TOURNOIS!J$1,Table1[TYPE],0),MATCH(TOURNOIS!J27,Table1[#Headers],0)),0) -> 0
