Workbook
Name Feries: OFFSET(#REF!,1,,COUNTA(#REF!)-1)
Name Fériés: #REF!

Sheet Calendrier
D2: Choix de l'année : | N2: =IF(D3<>"","Calendrier pour l'année " & D3,"") -> Calendrier pour l'année 2022
D3: 2022
D5: 43101 | I5: 43132 | N5: 43160 | S5: 43191 | X5: 43221 | AC5: 43252 | AH5: 43282 | AM5: 43313 | AR5: 43344 | AW5: 43374 | BB5: 43405 | BG5: 43435
C6: =IF($D$3<>"",PROPER(TEXT(D5,"mmmm")),"") -> Janvier | H6: =IF($D$3<>"",PROPER(TEXT(I5,"mmmm")),"") -> Février | M6: =IF($D$3<>"",PROPER(TEXT(N5,"mmmm")),"") -> Mars | R6: =IF($D$3<>"",PROPER(TEXT(S5,"mmmm")),"") -> Avril | W6: =IF($D$3<>"",PROPER(TEXT(X5,"mmmm")),"") -> Mai | AB6: =IF($D$3<>"",PROPER(TEXT(AC5,"mmmm")),"") -> Juin | AG6: =IF($D$3<>"",PROPER(TEXT(AH5,"mmmm")),"") -> Juillet | AL6: =IF($D$3<>"",PROPER(TEXT(AM5,"mmmm")),"") -> Août | AQ6: =IF($D$3<>"",PROPER(TEXT(AR5,"mmmm")),"") -> Septembre | AV6: =IF($D$3<>"",PROPER(TEXT(AW5,"mmmm")),"") -> Octobre | BA6: =IF($D$3<>"",PROPER(TEXT(BB5,"mmmm")),"") -> Novembre | BF6: =IF($D$3<>"",PROPER(TEXT(BG5,"mmmm")),"") -> Décembre
A7: 1 | D7: =IF($D$3<>"",DATE($D$3,MONTH(D$5),$A7),"") -> 43100 | E7: =INT((D7-(DATE(YEAR(D7-WEEKDAY(D7-1)+4),1,3)-WEEKDAY(DATE(YEAR(D7 -WEEKDAY(D7-1)+4),1,3)))+5)/7) -> 52 | F7: M4 | I7: =IF($D$3<>"",DATE($D$3,MONTH(I$5),$A7),"") -> 43131 | J7: =IF( OR(DAY(I7)=1,WEEKDAY(I7,2)=1), INT((I7-SUM(MOD(DATE(YEAR(I7-MOD(I7-2,7)+3),1,2),{1E+99;7})*{1;-1})+5)/7), "") -> 5 | N7: =IF($D$3<>"",DATE($D$3,MONTH(N$5),$A7),"") -> 43159 | O7: =IF( OR(DAY(N7)=1,WEEKDAY(N7,2)=1), INT((N7-SUM(MOD(DATE(YEAR(N7-MOD(N7-2,7)+3),1,2),{1E+99;7})*{1;-1})+5)/7), "") -> 9 | S7: =IF($D$3<>"",DATE($D$3,MONTH(S$5),$A7),"") -> 43190 | T7: =IF( OR(DAY(S7)=1,WEEKDAY(S7,2)=1), INT((S7-SUM(MOD(DATE(YEAR(S7-MOD(S7-2,7)+3),1,2),{1E+99;7})*{1;-1})+5)/7), "") -> 13 | X7: =IF($D$3<>"",DATE($D$3,MONTH(X$5),$A7),"") -> 43220 | Y7: =IF( OR(DAY(X7)=1,WEEKDAY(X7,2)=1), INT((X7-SUM(MOD(DATE(YEAR(X7-MOD(X7-2,7)+3),1,2),{1E+99;7})*{1;-1})+5)/7), "") -> 18 | AC7: =IF($D$3<>"",DATE($D$3,MONTH(AC$5),$A7),"") -> 43251 | AD7: =IF( OR(DAY(AC7)=1,WEEKDAY(AC7,2)=1), INT((AC7-SUM(MOD(DATE(YEAR(AC7-MOD(AC7-2,7)+3),1,2),{1E+99;7})*{1;-1})+5)/7), "") -> 22 | AH7: =IF($D$3<>"",DATE($D$3,MONTH(AH$5),$A7),"") -> 43281 | AI7: =IF( OR(DAY(AH7)=1,WEEKDAY(AH7,2)=1), INT((AH7-SUM(MOD(DATE(YEAR(AH7-MOD(AH7-2,7)+3),1,2),{1E+99;7})*{1;-1})+5)/7), "") -> 26 | AM7: =IF($D$3<>"",DATE($D$3,MONTH(AM$5),$A7),"") -> 43312 | AN7: =IF( OR(DAY(AM7)=1,WEEKDAY(AM7,2)=1), INT((AM7-SUM(MOD(DATE(YEAR(AM7-MOD(AM7-2,7)+3),1,2),{1E+99;7})*{1;-1})+5)/7), "") -> 31 | AR7: =IF($D$3<>"",DATE($D$3,MONTH(AR$5),$A7),"") -> 43343 | AS7: =IF( OR(DAY(AR7)=1,WEEKDAY(AR7,2)=1), INT((AR7-SUM(MOD(DATE(YEAR(AR7-MOD(AR7-2,7)+3),1,2),{1E+99;7})*{1;-1})+5)/7), "") -> 35 | AW7: =IF($D$3<>"",DATE($D$3,MONTH(AW$5),$A7),"") -> 43373 | AX7: =IF( OR(DAY(AW7)=1,WEEKDAY(AW7,2)=1), INT((AW7-SUM(MOD(DATE(YEAR(AW7-MOD(AW7-2,7)+3),1,2),{1E+99;7})*{1;-1})+5)/7), "") -> 39 | BB7: =IF($D$3<>"",DATE($D$3,MONTH(BB$5),$A7),"") -> 43404 | BC7: =IF( OR(DAY(BB7)=1,WEEKDAY(BB7,2)=1), INT((BB7-SUM(MOD(DATE(YEAR(BB7-MOD(BB7-2,7)+3),1,2),{1E+99;7})*{1;-1})+5)/7), "") -> 44 | BG7: =IF($D$3<>"",DATE($D$3,MONTH(BG$5),$A7),"") -> 43434 | BH7: =IF( OR(DAY(BG7)=1,WEEKDAY(BG7,2)=1), INT((BG7-SUM(MOD(DATE(YEAR(BG7-MOD(BG7-2,7)+3),1,2),{1E+99;7})*{1;-1})+5)/7), "") -> 48
A8: 2 | D8: =IF($D$3<>"",IF(MONTH(DATE($D$3,MONTH(D$5),$A8))=MONTH(D$7),DATE($D$3,MONTH(D$5),$A8),""),"") -> 43101 | E8: =IF( OR(DAY(D8)=1,WEEKDAY(D8,2)=1), INT((D8-SUM(MOD(DATE(YEAR(D8-MOD(D8-2,7)+3),1,2),{1E+99;7})*{1;-1})+5)/7), "") | F8: M4 | I8: =IF($D$3<>"",IF(MONTH(DATE($D$3,MONTH(I$5),$A8))=MONTH(I$7),DATE($D$3,MONTH(I$5),$A8),""),"") -> 43132 | J8: =IF( OR(DAY(I8)=1,WEEKDAY(I8,2)=1), INT((I8-SUM(MOD(DATE(YEAR(I8-MOD(I8-2,7)+3),1,2),{1E+99;7})*{1;-1})+5)/7), "") | N8: =IF($D$3<>"",IF(MONTH(DATE($D$3,MONTH(N$5),$A8))=MONTH(N$7),DATE($D$3,MONTH(N$5),$A8),""),"") -> 43160 | O8: =IF( OR(DAY(N8)=1,WEEKDAY(N8,2)=1), INT((N8-SUM(MOD(DATE(YEAR(N8-MOD(N8-2,7)+3),1,2),{1E+99;7})*{1;-1})+5)/7), "") | S8: =IF($D$3<>"",IF(MONTH(DATE($D$3,MONTH(S$5),$A8))=MONTH(S$7),DATE($D$3,MONTH(S$5),$A8),""),"") -> 43191 | T8: =IF( OR(DAY(S8)=1,WEEKDAY(S8,2)=1), INT((S8-SUM(MOD(DATE(YEAR(S8-MOD(S8-2,7)+3),1,2),{1E+99;7})*{1;-1})+5)/7), "") | X8: =IF($D$3<>"",IF(MONTH(DATE($D$3,MONTH(X$5),$A8))=MONTH(X$7),DATE($D$3,MONTH(X$5),$A8),""),"") -> 43221 | Y8: =IF( OR(DAY(X8)=1,WEEKDAY(X8,2)=1), INT((X8-SUM(MOD(DATE(YEAR(X8-MOD(X8-2,7)+3),1,2),{1E+99;7})*{1;-1})+5)/7), "") -> 18 | AC8: =IF($D$3<>"",IF(MONTH(DATE($D$3,MONTH(AC$5),$A8))=MONTH(AC$7),DATE($D$3,MONTH(AC$5),$A8),""),"") -> 43252 | AD8: =IF( OR(DAY(AC8)=1,WEEKDAY(AC8,2)=1), INT((AC8-SUM(MOD(DATE(YEAR(AC8-MOD(AC8-2,7)+3),1,2),{1E+99;7})*{1;-1})+5)/7), "") | AH8: =IF($D$3<>"",IF(MONTH(DATE($D$3,MONTH(AH$5),$A8))=MONTH(AH$7),DATE($D$3,MONTH(AH$5),$A8),""),"") -> 43282 | AI8: =IF( OR(DAY(AH8)=1,WEEKDAY(AH8,2)=1), INT((AH8-SUM(MOD(DATE(YEAR(AH8-MOD(AH8-2,7)+3),1,2),{1E+99;7})*{1;-1})+5)/7), "") | AM8: =IF($D$3<>"",IF(MONTH(DATE($D$3,MONTH(AM$5),$A8))=MONTH(AM$7),DATE($D$3,MONTH(AM$5),$A8),""),"") -> 43313 | AN8: =IF( OR(DAY(AM8)=1,WEEKDAY(AM8,2)=1), INT((AM8-SUM(MOD(DATE(YEAR(AM8-MOD(AM8-2,7)+3),1,2),{1E+99;7})*{1;-1})+5)/7), "") | AR8: =IF($D$3<>"",IF(MONTH(DATE($D$3,MONTH(AR$5),$A8))=MONTH(AR$7),DATE($D$3,MONTH(AR$5),$A8),""),"") -> 43344 | AS8: =IF( OR(DAY(AR8)=1,WEEKDAY(AR8,2)=1), INT((AR8-SUM(MOD(DATE(YEAR(AR8-MOD(AR8-2,7)+3),1,2),{1E+99;7})*{1;-1})+5)/7), "") | AW8: =IF($D$3<>"",IF(MONTH(DATE($D$3,MONTH(AW$5),$A8))=MONTH(AW$7),DATE($D$3,MONTH(AW$5),$A8),""),"") -> 43374 | AX8: =IF( OR(DAY(AW8)=1,WEEKDAY(AW8,2)=1), INT((AW8-SUM(MOD(DATE(YEAR(AW8-MOD(AW8-2,7)+3),1,2),{1E+99;7})*{1;-1})+5)/7), "") | BB8: =IF($D$3<>"",IF(MONTH(DATE($D$3,MONTH(BB$5),$A8))=MONTH(BB$7),DATE($D$3,MONTH(BB$5),$A8),""),"") -> 43405 | BC8: =IF( OR(DAY(BB8)=1,WEEKDAY(BB8,2)=1), INT((BB8-SUM(MOD(DATE(YEAR(BB8-MOD(BB8-2,7)+3),1,2),{1E+99;7})*{1;-1})+5)/7), "") | BG8: =IF($D$3<>"",IF(MONTH(DATE($D$3,MONTH(BG$5),$A8))=MONTH(BG$7),DATE($D$3,MONTH(BG$5),$A8),""),"") -> 43435 | BH8: =IF( OR(DAY(BG8)=1,WEEKDAY(BG8,2)=1), INT((BG8-SUM(MOD(DATE(YEAR(BG8-MOD(BG8-2,7)+3),1,2),{1E+99;7})*{1;-1})+5)/7), "")
A9: 3 | D9: =IF($D$3<>"",IF(MONTH(DATE($D$3,MONTH(D$5),$A9))=MONTH(D$7),DATE($D$3,MONTH(D$5),$A9),""),"") -> 43102 | E9: =IF( OR(DAY(D9)=1,WEEKDAY(D9,2)=1), INT((D9-SUM(MOD(DATE(YEAR(D9-MOD(D9-2,7)+3),1,2),{1E+99;7})*{1;-1})+5)/7), "") -> 1 | F9: M6 | I9: =IF($D$3<>"",IF(MONTH(DATE($D$3,MONTH(I$5),$A9))=MONTH(I$7),DATE($D$3,MONTH(I$5),$A9),""),"") -> 43133 | J9: =IF( OR(DAY(I9)=1,WEEKDAY(I9,2)=1), INT((I9-SUM(MOD(DATE(YEAR(I9-MOD(I9-2,7)+3),1,2),{1E+99;7})*{1;-1})+5)/7), "") | N9: =IF($D$3<>"",IF(MONTH(DATE($D$3,MONTH(N$5),$A9))=MONTH(N$7),DATE($D$3,MONTH(N$5),$A9),""),"") -> 43161 | O9: =IF( OR(DAY(N9)=1,WEEKDAY(N9,2)=1), INT((N9-SUM(MOD(DATE(YEAR(N9-MOD(N9-2,7)+3),1,2),{1E+99;7})*{1;-1})+5)/7), "") | S9: =IF($D$3<>"",IF(MONTH(DATE($D$3,MONTH(S$5),$A9))=MONTH(S$7),DATE($D$3,MONTH(S$5),$A9),""),"") -> 43192 | T9: =IF( OR(DAY(S9)=1,WEEKDAY(S9,2)=1), INT((S9-SUM(MOD(DATE(YEAR(S9-MOD(S9-2,7)+3),1,2),{1E+99;7})*{1;-1})+5)/7), "") | X9: =IF($D$3<>"",IF(MONTH(DATE($D$3,MONTH(X$5),$A9))=MONTH(X$7),DATE($D$3,MONTH(X$5),$A9),""),"") -> 43222 | Y9: =IF( OR(DAY(X9)=1,WEEKDAY(X9,2)=1), INT((X9-SUM(MOD(DATE(YEAR(X9-MOD(X9-2,7)+3),1,2),{1E+99;7})*{1;-1})+5)/7), "") | AC9: =IF($D$3<>"",IF(MONTH(DATE($D$3,MONTH(AC$5),$A9))=MONTH(AC$7),DATE($D$3,MONTH(AC$5),$A9),""),"") -> 43253 | AD9: =IF( OR(DAY(AC9)=1,WEEKDAY(AC9,2)=1), INT((AC9-SUM(MOD(DATE(YEAR(AC9-MOD(AC9-2,7)+3),1,2),{1E+99;7})*{1;-1})+5)/7), "") | AH9: =IF($D$3<>"",IF(MONTH(DATE($D$3,MONTH(AH$5),$A9))=MONTH(AH$7),DATE($D$3,MONTH(AH$5),$A9),""),"") -> 43283 | AI9: =IF( OR(DAY(AH9)=1,WEEKDAY(AH9,2)=1), INT((AH9-SUM(MOD(DATE(YEAR(AH9-MOD(AH9-2,7)+3),1,2),{1E+99;7})*{1;-1})+5)/7), "") | AM9: =IF($D$3<>"",IF(MONTH(DATE($D$3,MONTH(AM$5),$A9))=MONTH(AM$7),DATE($D$3,MONTH(AM$5),$A9),""),"") -> 43314 | AN9: =IF( OR(DAY(AM9)=1,WEEKDAY(AM9,2)=1), INT((AM9-SUM(MOD(DATE(YEAR(AM9-MOD(AM9-2,7)+3),1,2),{1E+99;7})*{1;-1})+5)/7), "") | AR9: =IF($D$3<>"",IF(MONTH(DATE($D$3,MONTH(AR$5),$A9))=MONTH(AR$7),DATE($D$3,MONTH(AR$5),$A9),""),"") -> 43345 | AS9: =IF( OR(DAY(AR9)=1,WEEKDAY(AR9,2)=1), INT((AR9-SUM(MOD(DATE(YEAR(AR9-MOD(AR9-2,7)+3),1,2),{1E+99;7})*{1;-1})+5)/7), "") | AW9: =IF($D$3<>"",IF(MONTH(DATE($D$3,MONTH(AW$5),$A9))=MONTH(AW$7),DATE($D$3,MONTH(AW$5),$A9),""),"") -> 43375 | AX9: =IF( OR(DAY(AW9)=1,WEEKDAY(AW9,2)=1), INT((AW9-SUM(MOD(DATE(YEAR(AW9-MOD(AW9-2,7)+3),1,2),{1E+99;7})*{1;-1})+5)/7), "") -> 40 | BB9: =IF($D$3<>"",IF(MONTH(DATE($D$3,MONTH(BB$5),$A9))=MONTH(BB$7),DATE($D$3,MONTH(BB$5),$A9),""),"") -> 43406 | BC9: =IF( OR(DAY(BB9)=1,WEEKDAY(BB9,2)=1), INT((BB9-SUM(MOD(DATE(YEAR(BB9-MOD(BB9-2,7)+3),1,2),{1E+99;7})*{1;-1})+5)/7), "") | BG9: =IF($D$3<>"",IF(MONTH(DATE($D$3,MONTH(BG$5),$A9))=MONTH(BG$7),DATE($D$3,MONTH(BG$5),$A9),""),"") -> 43436 | BH9: =IF( OR(DAY(BG9)=1,WEEKDAY(BG9,2)=1), INT((BG9-SUM(MOD(DATE(YEAR(BG9-MOD(BG9-2,7)+3),1,2),{1E+99;7})*{1;-1})+5)/7), "")
A10: 4 | D10: =IF($D$3<>"",IF(MONTH(DATE($D$3,MONTH(D$5),$A10))=MONTH(D$7),DATE($D$3,MONTH(D$5),$A10),""),"") -> 43103 | E10: =IF( OR(DAY(D10)=1,WEEKDAY(D10,2)=1), INT((D10-SUM(MOD(DATE(YEAR(D10-MOD(D10-2,7)+3),1,2),{1E+99;7})*{1;-1})+5)/7), "") | F10: RLT | I10: =IF($D$3<>"",IF(MONTH(DATE($D$3,MONTH(I$5),$A10))=MONTH(I$7),DATE($D$3,MONTH(I$5),$A10),""),"") -> 43134 | J10: =IF( OR(DAY(I10)=1,WEEKDAY(I10,2)=1), INT((I10-SUM(MOD(DATE(YEAR(I10-MOD(I10-2,7)+3),1,2),{1E+99;7})*{1;-1})+5)/7), "") | N10: =IF($D$3<>"",IF(MONTH(DATE($D$3,MONTH(N$5),$A10))=MONTH(N$7),DATE($D$3,MONTH(N$5),$A10),""),"") -> 43162 | O10: =IF( OR(DAY(N10)=1,WEEKDAY(N10,2)=1), INT((N10-SUM(MOD(DATE(YEAR(N10-MOD(N10-2,7)+3),1,2),{1E+99;7})*{1;-1})+5)/7), "") | S10: =IF($D$3<>"",IF(MONTH(DATE($D$3,MONTH(S$5),$A10))=MONTH(S$7),DATE($D$3,MONTH(S$5),$A10),""),"") -> 43193 | T10: =IF( OR(DAY(S10)=1,WEEKDAY(S10,2)=1), INT((S10-SUM(MOD(DATE(YEAR(S10-MOD(S10-2,7)+3),1,2),{1E+99;7})*{1;-1})+5)/7), "") -> 14 | X10: =IF($D$3<>"",IF(MONTH(DATE($D$3,MONTH(X$5),$A10))=MONTH(X$7),DATE($D$3,MONTH(X$5),$A10),""),"") -> 43223 | Y10: =IF( OR(DAY(X10)=1,WEEKDAY(X10,2)=1), INT((X10-SUM(MOD(DATE(YEAR(X10-MOD(X10-2,7)+3),1,2),{1E+99;7})*{1;-1})+5)/7), "") | AC10: =IF($D$3<>"",IF(MONTH(DATE($D$3,MONTH(AC$5),$A10))=MONTH(AC$7),DATE($D$3,MONTH(AC$5),$A10),""),"") -> 43254 | AD10: =IF( OR(DAY(AC10)=1,WEEKDAY(AC10,2)=1), INT((AC10-SUM(MOD(DATE(YEAR(AC10-MOD(AC10-2,7)+3),1,2),{1E+99;7})*{1;-1})+5)/7), "") | AH10: =IF($D$3<>"",IF(MONTH(DATE($D$3,MONTH(AH$5),$A10))=MONTH(AH$7),DATE($D$3,MONTH(AH$5),$A10),""),"") -> 43284 | AI10: =IF( OR(DAY(AH10)=1,WEEKDAY(AH10,2)=1), INT((AH10-SUM(MOD(DATE(YEAR(AH10-MOD(AH10-2,7)+3),1,2),{1E+99;7})*{1;-1})+5)/7), "") -> 27 | AM10: =IF($D$3<>"",IF(MONTH(DATE($D$3,MONTH(AM$5),$A10))=MONTH(AM$7),DATE($D$3,MONTH(AM$5),$A10),""),"") -> 43315 | AN10: =IF( OR(DAY(AM10)=1,WEEKDAY(AM10,2)=1), INT((AM10-SUM(MOD(DATE(YEAR(AM10-MOD(AM10-2,7)+3),1,2),{1E+99;7})*{1;-1})+5)/7), "") | AR10: =IF($D$3<>"",IF(MONTH(DATE($D$3,MONTH(AR$5),$A10))=MONTH(AR$7),DATE($D$3,MONTH(AR$5),$A10),""),"") -> 43346 | AS10: =IF( OR(DAY(AR10)=1,WEEKDAY(AR10,2)=1), INT((AR10-SUM(MOD(DATE(YEAR(AR10-MOD(AR10-2,7)+3),1,2),{1E+99;7})*{1;-1})+5)/7), "") | AW10: =IF($D$3<>"",IF(MONTH(DATE($D$3,MONTH(AW$5),$A10))=MONTH(AW$7),DATE($D$3,MONTH(AW$5),$A10),""),"") -> 43376 | AX10: =IF( OR(DAY(AW10)=1,WEEKDAY(AW10,2)=1), INT((AW10-SUM(MOD(DATE(YEAR(AW10-MOD(AW10-2,7)+3),1,2),{1E+99;7})*{1;-1})+5)/7), "") | BB10: =IF($D$3<>"",IF(MONTH(DATE($D$3,MONTH(BB$5),$A10))=MONTH(BB$7),DATE($D$3,MONTH(BB$5),$A10),""),"") -> 43407 | BC10: =IF( OR(DAY(BB10)=1,WEEKDAY(BB10,2)=1), INT((BB10-SUM(MOD(DATE(YEAR(BB10-MOD(BB10-2,7)+3),1,2),{1E+99;7})*{1;-1})+5)/7), "") | BG10: =IF($D$3<>"",IF(MONTH(DATE($D$3,MONTH(BG$5),$A10))=MONTH(BG$7),DATE($D$3,MONTH(BG$5),$A10),""),"") -> 43437 | BH10: =IF( OR(DAY(BG10)=1,WEEKDAY(BG10,2)=1), INT((BG10-SUM(MOD(DATE(YEAR(BG10-MOD(BG10-2,7)+3),1,2),{1E+99;7})*{1;-1})+5)/7), "")
A11: 5 | D11: =IF($D$3<>"",IF(MONTH(DATE($D$3,MONTH(D$5),$A11))=MONTH(D$7),DATE($D$3,MONTH(D$5),$A11),""),"") -> 43104 | E11: =IF( OR(DAY(D11)=1,WEEKDAY(D11,2)=1), INT((D11-SUM(MOD(DATE(YEAR(D11-MOD(D11-2,7)+3),1,2),{1E+99;7})*{1;-1})+5)/7), "") | F11: A9 | I11: =IF($D$3<>"",IF(MONTH(DATE($D$3,MONTH(I$5),$A11))=MONTH(I$7),DATE($D$3,MONTH(I$5),$A11),""),"") -> 43135 | J11: =IF( OR(DAY(I11)=1,WEEKDAY(I11,2)=1), INT((I11-SUM(MOD(DATE(YEAR(I11-MOD(I11-2,7)+3),1,2),{1E+99;7})*{1;-1})+5)/7), "") | N11: =IF($D$3<>"",IF(MONTH(DATE($D$3,MONTH(N$5),$A11))=MONTH(N$7),DATE($D$3,MONTH(N$5),$A11),""),"") -> 43163 | O11: =IF( OR(DAY(N11)=1,WEEKDAY(N11,2)=1), INT((N11-SUM(MOD(DATE(YEAR(N11-MOD(N11-2,7)+3),1,2),{1E+99;7})*{1;-1})+5)/7), "") | S11: =IF($D$3<>"",IF(MONTH(DATE($D$3,MONTH(S$5),$A11))=MONTH(S$7),DATE($D$3,MONTH(S$5),$A11),""),"") -> 43194 | T11: =IF( OR(DAY(S11)=1,WEEKDAY(S11,2)=1), INT((S11-SUM(MOD(DATE(YEAR(S11-MOD(S11-2,7)+3),1,2),{1E+99;7})*{1;-1})+5)/7), "") | X11: =IF($D$3<>"",IF(MONTH(DATE($D$3,MONTH(X$5),$A11))=MONTH(X$7),DATE($D$3,MONTH(X$5),$A11),""),"") -> 43224 | Y11: =IF( OR(DAY(X11)=1,WEEKDAY(X11,2)=1), INT((X11-SUM(MOD(DATE(YEAR(X11-MOD(X11-2,7)+3),1,2),{1E+99;7})*{1;-1})+5)/7), "") | AC11: =IF($D$3<>"",IF(MONTH(DATE($D$3,MONTH(AC$5),$A11))=MONTH(AC$7),DATE($D$3,MONTH(AC$5),$A11),""),"") -> 43255 | AD11: =IF( OR(DAY(AC11)=1,WEEKDAY(AC11,2)=1), INT((AC11-SUM(MOD(DATE(YEAR(AC11-MOD(AC11-2,7)+3),1,2),{1E+99;7})*{1;-1})+5)/7), "") | AH11: =IF($D$3<>"",IF(MONTH(DATE($D$3,MONTH(AH$5),$A11))=MONTH(AH$7),DATE($D$3,MONTH(AH$5),$A11),""),"") -> 43285 | AI11: =IF( OR(DAY(AH11)=1,WEEKDAY(AH11,2)=1), INT((AH11-SUM(MOD(DATE(YEAR(AH11-MOD(AH11-2,7)+3),1,2),{1E+99;7})*{1;-1})+5)/7), "") | AM11: =IF($D$3<>"",IF(MONTH(DATE($D$3,MONTH(AM$5),$A11))=MONTH(AM$7),DATE($D$3,MONTH(AM$5),$A11),""),"") -> 43316 | AN11: =IF( OR(DAY(AM11)=1,WEEKDAY(AM11,2)=1), INT((AM11-SUM(MOD(DATE(YEAR(AM11-MOD(AM11-2,7)+3),1,2),{1E+99;7})*{1;-1})+5)/7), "") | AR11: =IF($D$3<>"",IF(MONTH(DATE($D$3,MONTH(AR$5),$A11))=MONTH(AR$7),DATE($D$3,MONTH(AR$5),$A11),""),"") -> 43347 | AS11: =IF( OR(DAY(AR11)=1,WEEKDAY(AR11,2)=1), INT((AR11-SUM(MOD(DATE(YEAR(AR11-MOD(AR11-2,7)+3),1,2),{1E+99;7})*{1;-1})+5)/7), "") -> 36 | AW11: =IF($D$3<>"",IF(MONTH(DATE($D$3,MONTH(AW$5),$A11))=MONTH(AW$7),DATE($D$3,MONTH(AW$5),$A11),""),"") -> 43377 | AX11: =IF( OR(DAY(AW11)=1,WEEKDAY(AW11,2)=1), INT((AW11-SUM(MOD(DATE(YEAR(AW11-MOD(AW11-2,7)+3),1,2),{1E+99;7})*{1;-1})+5)/7), "") | BB11: =IF($D$3<>"",IF(MONTH(DATE($D$3,MONTH(BB$5),$A11))=MONTH(BB$7),DATE($D$3,MONTH(BB$5),$A11),""),"") -> 43408 | BC11: =IF( OR(DAY(BB11)=1,WEEKDAY(BB11,2)=1), INT((BB11-SUM(MOD(DATE(YEAR(BB11-MOD(BB11-2,7)+3),1,2),{1E+99;7})*{1;-1})+5)/7), "") | BG11: =IF($D$3<>"",IF(MONTH(DATE($D$3,MONTH(BG$5),$A11))=MONTH(BG$7),DATE($D$3,MONTH(BG$5),$A11),""),"") -> 43438 | BH11: =IF( OR(DAY(BG11)=1,WEEKDAY(BG11,2)=1), INT((BG11-SUM(MOD(DATE(YEAR(BG11-MOD(BG11-2,7)+3),1,2),{1E+99;7})*{1;-1})+5)/7), "") -> 49
A12: 6 | D12: =IF($D$3<>"",IF(MONTH(DATE($D$3,MONTH(D$5),$A12))=MONTH(D$7),DATE($D$3,MONTH(D$5),$A12),""),"") -> 43105 | E12: =IF( OR(DAY(D12)=1,WEEKDAY(D12,2)=1), INT((D12-SUM(MOD(DATE(YEAR(D12-MOD(D12-2,7)+3),1,2),{1E+99;7})*{1;-1})+5)/7), "") | F12: A9 | I12: =IF($D$3<>"",IF(MONTH(DATE($D$3,MONTH(I$5),$A12))=MONTH(I$7),DATE($D$3,MONTH(I$5),$A12),""),"") -> 43136 | J12: =IF( OR(DAY(I12)=1,WEEKDAY(I12,2)=1), INT((I12-SUM(MOD(DATE(YEAR(I12-MOD(I12-2,7)+3),1,2),{1E+99;7})*{1;-1})+5)/7), "") | N12: =IF($D$3<>"",IF(MONTH(DATE($D$3,MONTH(N$5),$A12))=MONTH(N$7),DATE($D$3,MONTH(N$5),$A12),""),"") -> 43164 | O12: =IF( OR(DAY(N12)=1,WEEKDAY(N12,2)=1), INT((N12-SUM(MOD(DATE(YEAR(N12-MOD(N12-2,7)+3),1,2),{1E+99;7})*{1;-1})+5)/7), "") | S12: =IF($D$3<>"",IF(MONTH(DATE($D$3,MONTH(S$5),$A12))=MONTH(S$7),DATE($D$3,MONTH(S$5),$A12),""),"") -> 43195 | T12: =IF( OR(DAY(S12)=1,WEEKDAY(S12,2)=1), INT((S12-SUM(MOD(DATE(YEAR(S12-MOD(S12-2,7)+3),1,2),{1E+99;7})*{1;-1})+5)/7), "") | X12: =IF($D$3<>"",IF(MONTH(DATE($D$3,MONTH(X$5),$A12))=MONTH(X$7),DATE($D$3,MONTH(X$5),$A12),""),"") -> 43225 | Y12: =IF( OR(DAY(X12)=1,WEEKDAY(X12,2)=1), INT((X12-SUM(MOD(DATE(YEAR(X12-MOD(X12-2,7)+3),1,2),{1E+99;7})*{1;-1})+5)/7), "") | AC12: =IF($D$3<>"",IF(MONTH(DATE($D$3,MONTH(AC$5),$A12))=MONTH(AC$7),DATE($D$3,MONTH(AC$5),$A12),""),"") -> 43256 | AD12: =IF( OR(DAY(AC12)=1,WEEKDAY(AC12,2)=1), INT((AC12-SUM(MOD(DATE(YEAR(AC12-MOD(AC12-2,7)+3),1,2),{1E+99;7})*{1;-1})+5)/7), "") -> 23 | AH12: =IF($D$3<>"",IF(MONTH(DATE($D$3,MONTH(AH$5),$A12))=MONTH(AH$7),DATE($D$3,MONTH(AH$5),$A12),""),"") -> 43286 | AI12: =IF( OR(DAY(AH12)=1,WEEKDAY(AH12,2)=1), INT((AH12-SUM(MOD(DATE(YEAR(AH12-MOD(AH12-2,7)+3),1,2),{1E+99;7})*{1;-1})+5)/7), "") | AM12: =IF($D$3<>"",IF(MONTH(DATE($D$3,MONTH(AM$5),$A12))=MONTH(AM$7),DATE($D$3,MONTH(AM$5),$A12),""),"") -> 43317 | AN12: =IF( OR(DAY(AM12)=1,WEEKDAY(AM12,2)=1), INT((AM12-SUM(MOD(DATE(YEAR(AM12-MOD(AM12-2,7)+3),1,2),{1E+99;7})*{1;-1})+5)/7), "") | AR12: =IF($D$3<>"",IF(MONTH(DATE($D$3,MONTH(AR$5),$A12))=MONTH(AR$7),DATE($D$3,MONTH(AR$5),$A12),""),"") -> 43348 | AS12: =IF( OR(DAY(AR12)=1,WEEKDAY(AR12,2)=1), INT((AR12-SUM(MOD(DATE(YEAR(AR12-MOD(AR12-2,7)+3),1,2),{1E+99;7})*{1;-1})+5)/7), "") | AW12: =IF($D$3<>"",IF(MONTH(DATE($D$3,MONTH(AW$5),$A12))=MONTH(AW$7),DATE($D$3,MONTH(AW$5),$A12),""),"") -> 43378 | AX12: =IF( OR(DAY(AW12)=1,WEEKDAY(AW12,2)=1), INT((AW12-SUM(MOD(DATE(YEAR(AW12-MOD(AW12-2,7)+3),1,2),{1E+99;7})*{1;-1})+5)/7), "") | BB12: =IF($D$3<>"",IF(MONTH(DATE($D$3,MONTH(BB$5),$A12))=MONTH(BB$7),DATE($D$3,MONTH(BB$5),$A12),""),"") -> 43409 | BC12: =IF( OR(DAY(BB12)=1,WEEKDAY(BB12,2)=1), INT((BB12-SUM(MOD(DATE(YEAR(BB12-MOD(BB12-2,7)+3),1,2),{1E+99;7})*{1;-1})+5)/7), "") | BG12: =IF($D$3<>"",IF(MONTH(DATE($D$3,MONTH(BG$5),$A12))=MONTH(BG$7),DATE($D$3,MONTH(BG$5),$A12),""),"") -> 43439 | BH12: =IF( OR(DAY(BG12)=1,WEEKDAY(BG12,2)=1), INT((BG12-SUM(MOD(DATE(YEAR(BG12-MOD(BG12-2,7)+3),1,2),{1E+99;7})*{1;-1})+5)/7), "")
A13: 7 | D13: =IF($D$3<>"",IF(MONTH(DATE($D$3,MONTH(D$5),$A13))=MONTH(D$7),DATE($D$3,MONTH(D$5),$A13),""),"") -> 43106 | E13: =IF( OR(DAY(D13)=1,WEEKDAY(D13,2)=1), INT((D13-SUM(MOD(DATE(YEAR(D13-MOD(D13-2,7)+3),1,2),{1E+99;7})*{1;-1})+5)/7), "") | F13: R | I13: =IF($D$3<>"",IF(MONTH(DATE($D$3,MONTH(I$5),$A13))=MONTH(I$7),DATE($D$3,MONTH(I$5),$A13),""),"") -> 43137 | J13: =IF( OR(DAY(I13)=1,WEEKDAY(I13,2)=1), INT((I13-SUM(MOD(DATE(YEAR(I13-MOD(I13-2,7)+3),1,2),{1E+99;7})*{1;-1})+5)/7), "") -> 6 | N13: =IF($D$3<>"",IF(MONTH(DATE($D$3,MONTH(N$5),$A13))=MONTH(N$7),DATE($D$3,MONTH(N$5),$A13),""),"") -> 43165 | O13: =IF( OR(DAY(N13)=1,WEEKDAY(N13,2)=1), INT((N13-SUM(MOD(DATE(YEAR(N13-MOD(N13-2,7)+3),1,2),{1E+99;7})*{1;-1})+5)/7), "") -> 10 | S13: =IF($D$3<>"",IF(MONTH(DATE($D$3,MONTH(S$5),$A13))=MONTH(S$7),DATE($D$3,MONTH(S$5),$A13),""),"") -> 43196 | T13: =IF( OR(DAY(S13)=1,WEEKDAY(S13,2)=1), INT((S13-SUM(MOD(DATE(YEAR(S13-MOD(S13-2,7)+3),1,2),{1E+99;7})*{1;-1})+5)/7), "") | X13: =IF($D$3<>"",IF(MONTH(DATE($D$3,MONTH(X$5),$A13))=MONTH(X$7),DATE($D$3,MONTH(X$5),$A13),""),"") -> 43226 | Y13: =IF( OR(DAY(X13)=1,WEEKDAY(X13,2)=1), INT((X13-SUM(MOD(DATE(YEAR(X13-MOD(X13-2,7)+3),1,2),{1E+99;7})*{1;-1})+5)/7), "") | AC13: =IF($D$3<>"",IF(MONTH(DATE($D$3,MONTH(AC$5),$A13))=MONTH(AC$7),DATE($D$3,MONTH(AC$5),$A13),""),"") -> 43257 | AD13: =IF( OR(DAY(AC13)=1,WEEKDAY(AC13,2)=1), INT((AC13-SUM(MOD(DATE(YEAR(AC13-MOD(AC13-2,7)+3),1,2),{1E+99;7})*{1;-1})+5)/7), "") | AH13: =IF($D$3<>"",IF(MONTH(DATE($D$3,MONTH(AH$5),$A13))=MONTH(AH$7),DATE($D$3,MONTH(AH$5),$A13),""),"") -> 43287 | AI13: =IF( OR(DAY(AH13)=1,WEEKDAY(AH13,2)=1), INT((AH13-SUM(MOD(DATE(YEAR(AH13-MOD(AH13-2,7)+3),1,2),{1E+99;7})*{1;-1})+5)/7), "") | AM13: =IF($D$3<>"",IF(MONTH(DATE($D$3,MONTH(AM$5),$A13))=MONTH(AM$7),DATE($D$3,MONTH(AM$5),$A13),""),"") -> 43318 | AN13: =IF( OR(DAY(AM13)=1,WEEKDAY(AM13,2)=1), INT((AM13-SUM(MOD(DATE(YEAR(AM13-MOD(AM13-2,7)+3),1,2),{1E+99;7})*{1;-1})+5)/7), "") | AR13: =IF($D$3<>"",IF(MONTH(DATE($D$3,MONTH(AR$5),$A13))=MONTH(AR$7),DATE($D$3,MONTH(AR$5),$A13),""),"") -> 43349 | AS13: =IF( OR(DAY(AR13)=1,WEEKDAY(AR13,2)=1), INT((AR13-SUM(MOD(DATE(YEAR(AR13-MOD(AR13-2,7)+3),1,2),{1E+99;7})*{1;-1})+5)/7), "") | AW13: =IF($D$3<>"",IF(MONTH(DATE($D$3,MONTH(AW$5),$A13))=MONTH(AW$7),DATE($D$3,MONTH(AW$5),$A13),""),"") -> 43379 | AX13: =IF( OR(DAY(AW13)=1,WEEKDAY(AW13,2)=1), INT((AW13-SUM(MOD(DATE(YEAR(AW13-MOD(AW13-2,7)+3),1,2),{1E+99;7})*{1;-1})+5)/7), "") | BB13: =IF($D$3<>"",IF(MONTH(DATE($D$3,MONTH(BB$5),$A13))=MONTH(BB$7),DATE($D$3,MONTH(BB$5),$A13),""),"") -> 43410 | BC13: =IF( OR(DAY(BB13)=1,WEEKDAY(BB13,2)=1), INT((BB13-SUM(MOD(DATE(YEAR(BB13-MOD(BB13-2,7)+3),1,2),{1E+99;7})*{1;-1})+5)/7), "") -> 45 | BG13: =IF($D$3<>"",IF(MONTH(DATE($D$3,MONTH(BG$5),$A13))=MONTH(BG$7),DATE($D$3,MONTH(BG$5),$A13),""),"") -> 43440 | BH13: =IF( OR(DAY(BG13)=1,WEEKDAY(BG13,2)=1), INT((BG13-SUM(MOD(DATE(YEAR(BG13-MOD(BG13-2,7)+3),1,2),{1E+99;7})*{1;-1})+5)/7), "")
A14: 8 | D14: =IF($D$3<>"",IF(MONTH(DATE($D$3,MONTH(D$5),$A14))=MONTH(D$7),DATE($D$3,MONTH(D$5),$A14),""),"") -> 43107 | E14: =IF( OR(DAY(D14)=1,WEEKDAY(D14,2)=1), INT((D14-SUM(MOD(DATE(YEAR(D14-MOD(D14-2,7)+3),1,2),{1E+99;7})*{1;-1})+5)/7), "") | F14: RH | I14: =IF($D$3<>"",IF(MONTH(DATE($D$3,MONTH(I$5),$A14))=MONTH(I$7),DATE($D$3,MONTH(I$5),$A14),""),"") -> 43138 | J14: =IF( OR(DAY(I14)=1,WEEKDAY(I14,2)=1), INT((I14-SUM(MOD(DATE(YEAR(I14-MOD(I14-2,7)+3),1,2),{1E+99;7})*{1;-1})+5)/7), "") | N14: =IF($D$3<>"",IF(MONTH(DATE($D$3,MONTH(N$5),$A14))=MONTH(N$7),DATE($D$3,MONTH(N$5),$A14),""),"") -> 43166 | O14: =IF( OR(DAY(N14)=1,WEEKDAY(N14,2)=1), INT((N14-SUM(MOD(DATE(YEAR(N14-MOD(N14-2,7)+3),1,2),{1E+99;7})*{1;-1})+5)/7), "") | S14: =IF($D$3<>"",IF(MONTH(DATE($D$3,MONTH(S$5),$A14))=MONTH(S$7),DATE($D$3,MONTH(S$5),$A14),""),"") -> 43197 | T14: =IF( OR(DAY(S14)=1,WEEKDAY(S14,2)=1), INT((S14-SUM(MOD(DATE(YEAR(S14-MOD(S14-2,7)+3),1,2),{1E+99;7})*{1;-1})+5)/7), "") | X14: =IF($D$3<>"",IF(MONTH(DATE($D$3,MONTH(X$5),$A14))=MONTH(X$7),DATE($D$3,MONTH(X$5),$A14),""),"") -> 43227 | Y14: =IF( OR(DAY(X14)=1,WEEKDAY(X14,2)=1), INT((X14-SUM(MOD(DATE(YEAR(X14-MOD(X14-2,7)+3),1,2),{1E+99;7})*{1;-1})+5)/7), "") | AC14: =IF($D$3<>"",IF(MONTH(DATE($D$3,MONTH(AC$5),$A14))=MONTH(AC$7),DATE($D$3,MONTH(AC$5),$A14),""),"") -> 43258 | AD14: =IF( OR(DAY(AC14)=1,WEEKDAY(AC14,2)=1), INT((AC14-SUM(MOD(DATE(YEAR(AC14-MOD(AC14-2,7)+3),1,2),{1E+99;7})*{1;-1})+5)/7), "") | AH14: =IF($D$3<>"",IF(MONTH(DATE($D$3,MONTH(AH$5),$A14))=MONTH(AH$7),DATE($D$3,MONTH(AH$5),$A14),""),"") -> 43288 | AI14: =IF( OR(DAY(AH14)=1,WEEKDAY(AH14,2)=1), INT((AH14-SUM(MOD(DATE(YEAR(AH14-MOD(AH14-2,7)+3),1,2),{1E+99;7})*{1;-1})+5)/7), "") | AM14: =IF($D$3<>"",IF(MONTH(DATE($D$3,MONTH(AM$5),$A14))=MONTH(AM$7),DATE($D$3,MONTH(AM$5),$A14),""),"") -> 43319 | AN14: =IF( OR(DAY(AM14)=1,WEEKDAY(AM14,2)=1), INT((AM14-SUM(MOD(DATE(YEAR(AM14-MOD(AM14-2,7)+3),1,2),{1E+99;7})*{1;-1})+5)/7), "") -> 32 | AR14: =IF($D$3<>"",IF(MONTH(DATE($D$3,MONTH(AR$5),$A14))=MONTH(AR$7),DATE($D$3,MONTH(AR$5),$A14),""),"") -> 43350 | AS14: =IF( OR(DAY(AR14)=1,WEEKDAY(AR14,2)=1), INT((AR14-SUM(MOD(DATE(YEAR(AR14-MOD(AR14-2,7)+3),1,2),{1E+99;7})*{1;-1})+5)/7), "") | AW14: =IF($D$3<>"",IF(MONTH(DATE($D$3,MONTH(AW$5),$A14))=MONTH(AW$7),DATE($D$3,MONTH(AW$5),$A14),""),"") -> 43380 | AX14: =IF( OR(DAY(AW14)=1,WEEKDAY(AW14,2)=1), INT((AW14-SUM(MOD(DATE(YEAR(AW14-MOD(AW14-2,7)+3),1,2),{1E+99;7})*{1;-1})+5)/7), "") | BB14: =IF($D$3<>"",IF(MONTH(DATE($D$3,MONTH(BB$5),$A14))=MONTH(BB$7),DATE($D$3,MONTH(BB$5),$A14),""),"") -> 43411 | BC14: =IF( OR(DAY(BB14)=1,WEEKDAY(BB14,2)=1), INT((BB14-SUM(MOD(DATE(YEAR(BB14-MOD(BB14-2,7)+3),1,2),{1E+99;7})*{1;-1})+5)/7), "") | BG14: =IF($D$3<>"",IF(MONTH(DATE($D$3,MONTH(BG$5),$A14))=MONTH(BG$7),DATE($D$3,MONTH(BG$5),$A14),""),"") -> 43441 | BH14: =IF( OR(DAY(BG14)=1,WEEKDAY(BG14,2)=1), INT((BG14-SUM(MOD(DATE(YEAR(BG14-MOD(BG14-2,7)+3),1,2),{1E+99;7})*{1;-1})+5)/7), "")
A15: 9 | D15: =IF($D$3<>"",IF(MONTH(DATE($D$3,MONTH(D$5),$A15))=MONTH(D$7),DATE($D$3,MONTH(D$5),$A15),""),"") -> 43108 | E15: =IF( OR(DAY(D15)=1,WEEKDAY(D15,2)=1), INT((D15-SUM(MOD(DATE(YEAR(D15-MOD(D15-2,7)+3),1,2),{1E+99;7})*{1;-1})+5)/7), "") | F15: A2 | I15: =IF($D$3<>"",IF(MONTH(DATE($D$3,MONTH(I$5),$A15))=MONTH(I$7),DATE($D$3,MONTH(I$5),$A15),""),"") -> 43139 | J15: =IF( OR(DAY(I15)=1,WEEKDAY(I15,2)=1), INT((I15-SUM(MOD(DATE(YEAR(I15-MOD(I15-2,7)+3),1,2),{1E+99;7})*{1;-1})+5)/7), "") | N15: =IF($D$3<>"",IF(MONTH(DATE($D$3,MONTH(N$5),$A15))=MONTH(N$7),DATE($D$3,MONTH(N$5),$A15),""),"") -> 43167 | O15: =IF( OR(DAY(N15)=1,WEEKDAY(N15,2)=1), INT((N15-SUM(MOD(DATE(YEAR(N15-MOD(N15-2,7)+3),1,2),{1E+99;7})*{1;-1})+5)/7), "") | S15: =IF($D$3<>"",IF(MONTH(DATE($D$3,MONTH(S$5),$A15))=MONTH(S$7),DATE($D$3,MONTH(S$5),$A15),""),"") -> 43198 | T15: =IF( OR(DAY(S15)=1,WEEKDAY(S15,2)=1), INT((S15-SUM(MOD(DATE(YEAR(S15-MOD(S15-2,7)+3),1,2),{1E+99;7})*{1;-1})+5)/7), "") | X15: =IF($D$3<>"",IF(MONTH(DATE($D$3,MONTH(X$5),$A15))=MONTH(X$7),DATE($D$3,MONTH(X$5),$A15),""),"") -> 43228 | Y15: =IF( OR(DAY(X15)=1,WEEKDAY(X15,2)=1), INT((X15-SUM(MOD(DATE(YEAR(X15-MOD(X15-2,7)+3),1,2),{1E+99;7})*{1;-1})+5)/7), "") -> 19 | AC15: =IF($D$3<>"",IF(MONTH(DATE($D$3,MONTH(AC$5),$A15))=MONTH(AC$7),DATE($D$3,MONTH(AC$5),$A15),""),"") -> 43259 | AD15: =IF( OR(DAY(AC15)=1,WEEKDAY(AC15,2)=1), INT((AC15-SUM(MOD(DATE(YEAR(AC15-MOD(AC15-2,7)+3),1,2),{1E+99;7})*{1;-1})+5)/7), "") | AH15: =IF($D$3<>"",IF(MONTH(DATE($D$3,MONTH(AH$5),$A15))=MONTH(AH$7),DATE($D$3,MONTH(AH$5),$A15),""),"") -> 43289 | AI15: =IF( OR(DAY(AH15)=1,WEEKDAY(AH15,2)=1), INT((AH15-SUM(MOD(DATE(YEAR(AH15-MOD(AH15-2,7)+3),1,2),{1E+99;7})*{1;-1})+5)/7), "") | AM15: =IF($D$3<>"",IF(MONTH(DATE($D$3,MONTH(AM$5),$A15))=MONTH(AM$7),DATE($D$3,MONTH(AM$5),$A15),""),"") -> 43320 | AN15: =IF( OR(DAY(AM15)=1,WEEKDAY(AM15,2)=1), INT((AM15-SUM(MOD(DATE(YEAR(AM15-MOD(AM15-2,7)+3),1,2),{1E+99;7})*{1;-1})+5)/7), "") | AR15: =IF($D$3<>"",IF(MONTH(DATE($D$3,MONTH(AR$5),$A15))=MONTH(AR$7),DATE($D$3,MONTH(AR$5),$A15),""),"") -> 43351 | AS15: =IF( OR(DAY(AR15)=1,WEEKDAY(AR15,2)=1), INT((AR15-SUM(MOD(DATE(YEAR(AR15-MOD(AR15-2,7)+3),1,2),{1E+99;7})*{1;-1})+5)/7), "") | AW15: =IF($D$3<>"",IF(MONTH(DATE($D$3,MONTH(AW$5),$A15))=MONTH(AW$7),DATE($D$3,MONTH(AW$5),$A15),""),"") -> 43381 | AX15: =IF( OR(DAY(AW15)=1,WEEKDAY(AW15,2)=1), INT((AW15-SUM(MOD(DATE(YEAR(AW15-MOD(AW15-2,7)+3),1,2),{1E+99;7})*{1;-1})+5)/7), "") | BB15: =IF($D$3<>"",IF(MONTH(DATE($D$3,MONTH(BB$5),$A15))=MONTH(BB$7),DATE($D$3,MONTH(BB$5),$A15),""),"") -> 43412 | BC15: =IF( OR(DAY(BB15)=1,WEEKDAY(BB15,2)=1), INT((BB15-SUM(MOD(DATE(YEAR(BB15-MOD(BB15-2,7)+3),1,2),{1E+99;7})*{1;-1})+5)/7), "") | BG15: =IF($D$3<>"",IF(MONTH(DATE($D$3,MONTH(BG$5),$A15))=MONTH(BG$7),DATE($D$3,MONTH(BG$5),$A15),""),"") -> 43442 | BH15: =IF( OR(DAY(BG15)=1,WEEKDAY(BG15,2)=1), INT((BG15-SUM(MOD(DATE(YEAR(BG15-MOD(BG15-2,7)+3),1,2),{1E+99;7})*{1;-1})+5)/7), "")
A16: 10 | D16: =IF($D$3<>"",IF(MONTH(DATE($D$3,MONTH(D$5),$A16))=MONTH(D$7),DATE($D$3,MONTH(D$5),$A16),""),"") -> 43109 | E16: =IF( OR(DAY(D16)=1,WEEKDAY(D16,2)=1), INT((D16-SUM(MOD(DATE(YEAR(D16-MOD(D16-2,7)+3),1,2),{1E+99;7})*{1;-1})+5)/7), "") -> 2 | F16: M7 | I16: =IF($D$3<>"",IF(MONTH(DATE($D$3,MONTH(I$5),$A16))=MONTH(I$7),DATE($D$3,MONTH(I$5),$A16),""),"") -> 43140 | J16: =IF( OR(DAY(I16)=1,WEEKDAY(I16,2)=1), INT((I16-SUM(MOD(DATE(YEAR(I16-MOD(I16-2,7)+3),1,2),{1E+99;7})*{1;-1})+5)/7), "") | N16: =IF($D$3<>"",IF(MONTH(DATE($D$3,MONTH(N$5),$A16))=MONTH(N$7),DATE($D$3,MONTH(N$5),$A16),""),"") -> 43168 | O16: =IF( OR(DAY(N16)=1,WEEKDAY(N16,2)=1), INT((N16-SUM(MOD(DATE(YEAR(N16-MOD(N16-2,7)+3),1,2),{1E+99;7})*{1;-1})+5)/7), "") | S16: =IF($D$3<>"",IF(MONTH(DATE($D$3,MONTH(S$5),$A16))=MONTH(S$7),DATE($D$3,MONTH(S$5),$A16),""),"") -> 43199 | T16: =IF( OR(DAY(S16)=1,WEEKDAY(S16,2)=1), INT((S16-SUM(MOD(DATE(YEAR(S16-MOD(S16-2,7)+3),1,2),{1E+99;7})*{1;-1})+5)/7), "") | X16: =IF($D$3<>"",IF(MONTH(DATE($D$3,MONTH(X$5),$A16))=MONTH(X$7),DATE($D$3,MONTH(X$5),$A16),""),"") -> 43229 | Y16: =IF( OR(DAY(X16)=1,WEEKDAY(X16,2)=1), INT((X16-SUM(MOD(DATE(YEAR(X16-MOD(X16-2,7)+3),1,2),{1E+99;7})*{1;-1})+5)/7), "") | AC16: =IF($D$3<>"",IF(MONTH(DATE($D$3,MONTH(AC$5),$A16))=MONTH(AC$7),DATE($D$3,MONTH(AC$5),$A16),""),"") -> 43260 | AD16: =IF( OR(DAY(AC16)=1,WEEKDAY(AC16,2)=1), INT((AC16-SUM(MOD(DATE(YEAR(AC16-MOD(AC16-2,7)+3),1,2),{1E+99;7})*{1;-1})+5)/7), "") | AH16: =IF($D$3<>"",IF(MONTH(DATE($D$3,MONTH(AH$5),$A16))=MONTH(AH$7),DATE($D$3,MONTH(AH$5),$A16),""),"") -> 43290 | AI16: =IF( OR(DAY(AH16)=1,WEEKDAY(AH16,2)=1), INT((AH16-SUM(MOD(DATE(YEAR(AH16-MOD(AH16-2,7)+3),1,2),{1E+99;7})*{1;-1})+5)/7), "") | AM16: =IF($D$3<>"",IF(MONTH(DATE($D$3,MONTH(AM$5),$A16))=MONTH(AM$7),DATE($D$3,MONTH(AM$5),$A16),""),"") -> 43321 | AN16: =IF( OR(DAY(AM16)=1,WEEKDAY(AM16,2)=1), INT((AM16-SUM(MOD(DATE(YEAR(AM16-MOD(AM16-2,7)+3),1,2),{1E+99;7})*{1;-1})+5)/7), "") | AR16: =IF($D$3<>"",IF(MONTH(DATE($D$3,MONTH(AR$5),$A16))=MONTH(AR$7),DATE($D$3,MONTH(AR$5),$A16),""),"") -> 43352 | AS16: =IF( OR(DAY(AR16)=1,WEEKDAY(AR16,2)=1), INT((AR16-SUM(MOD(DATE(YEAR(AR16-MOD(AR16-2,7)+3),1,2),{1E+99;7})*{1;-1})+5)/7), "") | AW16: =IF($D$3<>"",IF(MONTH(DATE($D$3,MONTH(AW$5),$A16))=MONTH(AW$7),DATE($D$3,MONTH(AW$5),$A16),""),"") -> 43382 | AX16: =IF( OR(DAY(AW16)=1,WEEKDAY(AW16,2)=1), INT((AW16-SUM(MOD(DATE(YEAR(AW16-MOD(AW16-2,7)+3),1,2),{1E+99;7})*{1;-1})+5)/7), "") -> 41 | BB16: =IF($D$3<>"",IF(MONTH(DATE($D$3,MONTH(BB$5),$A16))=MONTH(BB$7),DATE($D$3,MONTH(BB$5),$A16),""),"") -> 43413 | BC16: =IF( OR(DAY(BB16)=1,WEEKDAY(BB16,2)=1), INT((BB16-SUM(MOD(DATE(YEAR(BB16-MOD(BB16-2,7)+3),1,2),{1E+99;7})*{1;-1})+5)/7), "") | BG16: =IF($D$3<>"",IF(MONTH(DATE($D$3,MONTH(BG$5),$A16))=MONTH(BG$7),DATE($D$3,MONTH(BG$5),$A16),""),"") -> 43443 | BH16: =IF( OR(DAY(BG16)=1,WEEKDAY(BG16,2)=1), INT((BG16-SUM(MOD(DATE(YEAR(BG16-MOD(BG16-2,7)+3),1,2),{1E+99;7})*{1;-1})+5)/7), "")
A17: 11 | D17: =IF($D$3<>"",IF(MONTH(DATE($D$3,MONTH(D$5),$A17))=MONTH(D$7),DATE($D$3,MONTH(D$5),$A17),""),"") -> 43110 | E17: =IF( OR(DAY(D17)=1,WEEKDAY(D17,2)=1), INT((D17-SUM(MOD(DATE(YEAR(D17-MOD(D17-2,7)+3),1,2),{1E+99;7})*{1;-1})+5)/7), "") | F17: M7 | I17: =IF($D$3<>"",IF(MONTH(DATE($D$3,MONTH(I$5),$A17))=MONTH(I$7),DATE($D$3,MONTH(I$5),$A17),""),"") -> 43141 | J17: =IF( OR(DAY(I17)=1,WEEKDAY(I17,2)=1), INT((I17-SUM(MOD(DATE(YEAR(I17-MOD(I17-2,7)+3),1,2),{1E+99;7})*{1;-1})+5)/7), "") | N17: =IF($D$3<>"",IF(MONTH(DATE($D$3,MONTH(N$5),$A17))=MONTH(N$7),DATE($D$3,MONTH(N$5),$A17),""),"") -> 43169 | O17: =IF( OR(DAY(N17)=1,WEEKDAY(N17,2)=1), INT((N17-SUM(MOD(DATE(YEAR(N17-MOD(N17-2,7)+3),1,2),{1E+99;7})*{1;-1})+5)/7), "") | S17: =IF($D$3<>"",IF(MONTH(DATE($D$3,MONTH(S$5),$A17))=MONTH(S$7),DATE($D$3,MONTH(S$5),$A17),""),"") -> 43200 | T17: =IF( OR(DAY(S17)=1,WEEKDAY(S17,2)=1), INT((S17-SUM(MOD(DATE(YEAR(S17-MOD(S17-2,7)+3),1,2),{1E+99;7})*{1;-1})+5)/7), "") -> 15 | X17: =IF($D$3<>"",IF(MONTH(DATE($D$3,MONTH(X$5),$A17))=MONTH(X$7),DATE($D$3,MONTH(X$5),$A17),""),"") -> 43230 | Y17: =IF( OR(DAY(X17)=1,WEEKDAY(X17,2)=1), INT((X17-SUM(MOD(DATE(YEAR(X17-MOD(X17-2,7)+3),1,2),{1E+99;7})*{1;-1})+5)/7), "") | AC17: =IF($D$3<>"",IF(MONTH(DATE($D$3,MONTH(AC$5),$A17))=MONTH(AC$7),DATE($D$3,MONTH(AC$5),$A17),""),"") -> 43261 | AD17: =IF( OR(DAY(AC17)=1,WEEKDAY(AC17,2)=1), INT((AC17-SUM(MOD(DATE(YEAR(AC17-MOD(AC17-2,7)+3),1,2),{1E+99;7})*{1;-1})+5)/7), "") | AH17: =IF($D$3<>"",IF(MONTH(DATE($D$3,MONTH(AH$5),$A17))=MONTH(AH$7),DATE($D$3,MONTH(AH$5),$A17),""),"") -> 43291 | AI17: =IF( OR(DAY(AH17)=1,WEEKDAY(AH17,2)=1), INT((AH17-SUM(MOD(DATE(YEAR(AH17-MOD(AH17-2,7)+3),1,2),{1E+99;7})*{1;-1})+5)/7), "") -> 28 | AM17: =IF($D$3<>"",IF(MONTH(DATE($D$3,MONTH(AM$5),$A17))=MONTH(AM$7),DATE($D$3,MONTH(AM$5),$A17),""),"") -> 43322 | AN17: =IF( OR(DAY(AM17)=1,WEEKDAY(AM17,2)=1), INT((AM17-SUM(MOD(DATE(YEAR(AM17-MOD(AM17-2,7)+3),1,2),{1E+99;7})*{1;-1})+5)/7), "") | AR17: =IF($D$3<>"",IF(MONTH(DATE($D$3,MONTH(AR$5),$A17))=MONTH(AR$7),DATE($D$3,MONTH(AR$5),$A17),""),"") -> 43353 | AS17: =IF( OR(DAY(AR17)=1,WEEKDAY(AR17,2)=1), INT((AR17-SUM(MOD(DATE(YEAR(AR17-MOD(AR17-2,7)+3),1,2),{1E+99;7})*{1;-1})+5)/7), "") | AW17: =IF($D$3<>"",IF(MONTH(DATE($D$3,MONTH(AW$5),$A17))=MONTH(AW$7),DATE($D$3,MONTH(AW$5),$A17),""),"") -> 43383 | AX17: =IF( OR(DAY(AW17)=1,WEEKDAY(AW17,2)=1), INT((AW17-SUM(MOD(DATE(YEAR(AW17-MOD(AW17-2,7)+3),1,2),{1E+99;7})*{1;-1})+5)/7), "") | BB17: =IF($D$3<>"",IF(MONTH(DATE($D$3,MONTH(BB$5),$A17))=MONTH(BB$7),DATE($D$3,MONTH(BB$5),$A17),""),"") -> 43414 | BC17: =IF( OR(DAY(BB17)=1,WEEKDAY(BB17,2)=1), INT((BB17-SUM(MOD(DATE(YEAR(BB17-MOD(BB17-2,7)+3),1,2),{1E+99;7})*{1;-1})+5)/7), "") | BG17: =IF($D$3<>"",IF(MONTH(DATE($D$3,MONTH(BG$5),$A17))=MONTH(BG$7),DATE($D$3,MONTH(BG$5),$A17),""),"") -> 43444 | BH17: =IF( OR(DAY(BG17)=1,WEEKDAY(BG17,2)=1), INT((BG17-SUM(MOD(DATE(YEAR(BG17-MOD(BG17-2,7)+3),1,2),{1E+99;7})*{1;-1})+5)/7), "")
A18: 12 | D18: =IF($D$3<>"",IF(MONTH(DATE($D$3,MONTH(D$5),$A18))=MONTH(D$7),DATE($D$3,MONTH(D$5),$A18),""),"") -> 43111 | E18: =IF( OR(DAY(D18)=1,WEEKDAY(D18,2)=1), INT((D18-SUM(MOD(DATE(YEAR(D18-MOD(D18-2,7)+3),1,2),{1E+99;7})*{1;-1})+5)/7), "") | F18: M7 | I18: =IF($D$3<>"",IF(MONTH(DATE($D$3,MONTH(I$5),$A18))=MONTH(I$7),DATE($D$3,MONTH(I$5),$A18),""),"") -> 43142 | J18: =IF( OR(DAY(I18)=1,WEEKDAY(I18,2)=1), INT((I18-SUM(MOD(DATE(YEAR(I18-MOD(I18-2,7)+3),1,2),{1E+99;7})*{1;-1})+5)/7), "") | N18: =IF($D$3<>"",IF(MONTH(DATE($D$3,MONTH(N$5),$A18))=MONTH(N$7),DATE($D$3,MONTH(N$5),$A18),""),"") -> 43170 | O18: =IF( OR(DAY(N18)=1,WEEKDAY(N18,2)=1), INT((N18-SUM(MOD(DATE(YEAR(N18-MOD(N18-2,7)+3),1,2),{1E+99;7})*{1;-1})+5)/7), "") | S18: =IF($D$3<>"",IF(MONTH(DATE($D$3,MONTH(S$5),$A18))=MONTH(S$7),DATE($D$3,MONTH(S$5),$A18),""),"") -> 43201 | T18: =IF( OR(DAY(S18)=1,WEEKDAY(S18,2)=1), INT((S18-SUM(MOD(DATE(YEAR(S18-MOD(S18-2,7)+3),1,2),{1E+99;7})*{1;-1})+5)/7), "") | X18: =IF($D$3<>"",IF(MONTH(DATE($D$3,MONTH(X$5),$A18))=MONTH(X$7),DATE($D$3,MONTH(X$5),$A18),""),"") -> 43231 | Y18: =IF( OR(DAY(X18)=1,WEEKDAY(X18,2)=1), INT((X18-SUM(MOD(DATE(YEAR(X18-MOD(X18-2,7)+3),1,2),{1E+99;7})*{1;-1})+5)/7), "") | AC18: =IF($D$3<>"",IF(MONTH(DATE($D$3,MONTH(AC$5),$A18))=MONTH(AC$7),DATE($D$3,MONTH(AC$5),$A18),""),"") -> 43262 | AD18: =IF( OR(DAY(AC18)=1,WEEKDAY(AC18,2)=1), INT((AC18-SUM(MOD(DATE(YEAR(AC18-MOD(AC18-2,7)+3),1,2),{1E+99;7})*{1;-1})+5)/7), "") | AH18: =IF($D$3<>"",IF(MONTH(DATE($D$3,MONTH(AH$5),$A18))=MONTH(AH$7),DATE($D$3,MONTH(AH$5),$A18),""),"") -> 43292 | AI18: =IF( OR(DAY(AH18)=1,WEEKDAY(AH18,2)=1), INT((AH18-SUM(MOD(DATE(YEAR(AH18-MOD(AH18-2,7)+3),1,2),{1E+99;7})*{1;-1})+5)/7), "") | AM18: =IF($D$3<>"",IF(MONTH(DATE($D$3,MONTH(AM$5),$A18))=MONTH(AM$7),DATE($D$3,MONTH(AM$5),$A18),""),"") -> 43323 | AN18: =IF( OR(DAY(AM18)=1,WEEKDAY(AM18,2)=1), INT((AM18-SUM(MOD(DATE(YEAR(AM18-MOD(AM18-2,7)+3),1,2),{1E+99;7})*{1;-1})+5)/7), "") | AR18: =IF($D$3<>"",IF(MONTH(DATE($D$3,MONTH(AR$5),$A18))=MONTH(AR$7),DATE($D$3,MONTH(AR$5),$A18),""),"") -> 43354 | AS18: =IF( OR(DAY(AR18)=1,WEEKDAY(AR18,2)=1), INT((AR18-SUM(MOD(DATE(YEAR(AR18-MOD(AR18-2,7)+3),1,2),{1E+99;7})*{1;-1})+5)/7), "") -> 37 | AW18: =IF($D$3<>"",IF(MONTH(DATE($D$3,MONTH(AW$5),$A18))=MONTH(AW$7),DATE($D$3,MONTH(AW$5),$A18),""),"") -> 43384 | AX18: =IF( OR(DAY(AW18)=1,WEEKDAY(AW18,2)=1), INT((AW18-SUM(MOD(DATE(YEAR(AW18-MOD(AW18-2,7)+3),1,2),{1E+99;7})*{1;-1})+5)/7), "") | BB18: =IF($D$3<>"",IF(MONTH(DATE($D$3,MONTH(BB$5),$A18))=MONTH(BB$7),DATE($D$3,MONTH(BB$5),$A18),""),"") -> 43415 | BC18: =IF( OR(DAY(BB18)=1,WEEKDAY(BB18,2)=1), INT((BB18-SUM(MOD(DATE(YEAR(BB18-MOD(BB18-2,7)+3),1,2),{1E+99;7})*{1;-1})+5)/7), "") | BG18: =IF($D$3<>"",IF(MONTH(DATE($D$3,MONTH(BG$5),$A18))=MONTH(BG$7),DATE($D$3,MONTH(BG$5),$A18),""),"") -> 43445 | BH18: =IF( OR(DAY(BG18)=1,WEEKDAY(BG18,2)=1), INT((BG18-SUM(MOD(DATE(YEAR(BG18-MOD(BG18-2,7)+3),1,2),{1E+99;7})*{1;-1})+5)/7), "") -> 50
A19: 13 | D19: =IF($D$3<>"",IF(MONTH(DATE($D$3,MONTH(D$5),$A19))=MONTH(D$7),DATE($D$3,MONTH(D$5),$A19),""),"") -> 43112 | E19: =IF( OR(DAY(D19)=1,WEEKDAY(D19,2)=1), INT((D19-SUM(MOD(DATE(YEAR(D19-MOD(D19-2,7)+3),1,2),{1E+99;7})*{1;-1})+5)/7), "") | F19: M7 | I19: =IF($D$3<>"",IF(MONTH(DATE($D$3,MONTH(I$5),$A19))=MONTH(I$7),DATE($D$3,MONTH(I$5),$A19),""),"") -> 43143 | J19: =IF( OR(DAY(I19)=1,WEEKDAY(I19,2)=1), INT((I19-SUM(MOD(DATE(YEAR(I19-MOD(I19-2,7)+3),1,2),{1E+99;7})*{1;-1})+5)/7), "") | N19: =IF($D$3<>"",IF(MONTH(DATE($D$3,MONTH(N$5),$A19))=MONTH(N$7),DATE($D$3,MONTH(N$5),$A19),""),"") -> 43171 | O19: =IF( OR(DAY(N19)=1,WEEKDAY(N19,2)=1), INT((N19-SUM(MOD(DATE(YEAR(N19-MOD(N19-2,7)+3),1,2),{1E+99;7})*{1;-1})+5)/7), "") | S19: =IF($D$3<>"",IF(MONTH(DATE($D$3,MONTH(S$5),$A19))=MONTH(S$7),DATE($D$3,MONTH(S$5),$A19),""),"") -> 43202 | T19: =IF( OR(DAY(S19)=1,WEEKDAY(S19,2)=1), INT((S19-SUM(MOD(DATE(YEAR(S19-MOD(S19-2,7)+3),1,2),{1E+99;7})*{1;-1})+5)/7), "") | X19: =IF($D$3<>"",IF(MONTH(DATE($D$3,MONTH(X$5),$A19))=MONTH(X$7),DATE($D$3,MONTH(X$5),$A19),""),"") -> 43232 | Y19: =IF( OR(DAY(X19)=1,WEEKDAY(X19,2)=1), INT((X19-SUM(MOD(DATE(YEAR(X19-MOD(X19-2,7)+3),1,2),{1E+99;7})*{1;-1})+5)/7), "") | AC19: =IF($D$3<>"",IF(MONTH(DATE($D$3,MONTH(AC$5),$A19))=MONTH(AC$7),DATE($D$3,MONTH(AC$5),$A19),""),"") -> 43263 | AD19: =IF( OR(DAY(AC19)=1,WEEKDAY(AC19,2)=1), INT((AC19-SUM(MOD(DATE(YEAR(AC19-MOD(AC19-2,7)+3),1,2),{1E+99;7})*{1;-1})+5)/7), "") -> 24 | AH19: =IF($D$3<>"",IF(MONTH(DATE($D$3,MONTH(AH$5),$A19))=MONTH(AH$7),DATE($D$3,MONTH(AH$5),$A19),""),"") -> 43293 | AI19: =IF( OR(DAY(AH19)=1,WEEKDAY(AH19,2)=1), INT((AH19-SUM(MOD(DATE(YEAR(AH19-MOD(AH19-2,7)+3),1,2),{1E+99;7})*{1;-1})+5)/7), "") | AM19: =IF($D$3<>"",IF(MONTH(DATE($D$3,MONTH(AM$5),$A19))=MONTH(AM$7),DATE($D$3,MONTH(AM$5),$A19),""),"") -> 43324 | AN19: =IF( OR(DAY(AM19)=1,WEEKDAY(AM19,2)=1), INT((AM19-SUM(MOD(DATE(YEAR(AM19-MOD(AM19-2,7)+3),1,2),{1E+99;7})*{1;-1})+5)/7), "") | AR19: =IF($D$3<>"",IF(MONTH(DATE($D$3,MONTH(AR$5),$A19))=MONTH(AR$7),DATE($D$3,MONTH(AR$5),$A19),""),"") -> 43355 | AS19: =IF( OR(DAY(AR19)=1,WEEKDAY(AR19,2)=1), INT((AR19-SUM(MOD(DATE(YEAR(AR19-MOD(AR19-2,7)+3),1,2),{1E+99;7})*{1;-1})+5)/7), "") | AW19: =IF($D$3<>"",IF(MONTH(DATE($D$3,MONTH(AW$5),$A19))=MONTH(AW$7),DATE($D$3,MONTH(AW$5),$A19),""),"") -> 43385 | AX19: =IF( OR(DAY(AW19)=1,WEEKDAY(AW19,2)=1), INT((AW19-SUM(MOD(DATE(YEAR(AW19-MOD(AW19-2,7)+3),1,2),{1E+99;7})*{1;-1})+5)/7), "") | BB19: =IF($D$3<>"",IF(MONTH(DATE($D$3,MONTH(BB$5),$A19))=MONTH(BB$7),DATE($D$3,MONTH(BB$5),$A19),""),"") -> 43416 | BC19: =IF( OR(DAY(BB19)=1,WEEKDAY(BB19,2)=1), INT((BB19-SUM(MOD(DATE(YEAR(BB19-MOD(BB19-2,7)+3),1,2),{1E+99;7})*{1;-1})+5)/7), "") | BG19: =IF($D$3<>"",IF(MONTH(DATE($D$3,MONTH(BG$5),$A19))=MONTH(BG$7),DATE($D$3,MONTH(BG$5),$A19),""),"") -> 43446 | BH19: =IF( OR(DAY(BG19)=1,WEEKDAY(BG19,2)=1), INT((BG19-SUM(MOD(DATE(YEAR(BG19-MOD(BG19-2,7)+3),1,2),{1E+99;7})*{1;-1})+5)/7), "")
... A34: 28 | D34: =IF($D$3<>"",IF(MONTH(DATE($D$3,MONTH(D$5),$A34))=MONTH(D$7),DATE($D$3,MONTH(D$5),$A34),""),"") -> 43127 | E34: =IF( OR(DAY(D34)=1,WEEKDAY(D34,2)=1), INT((D34-SUM(MOD(DATE(YEAR(D34-MOD(D34-2,7)+3),1,2),{1E+99;7})*{1;-1})+5)/7), "") | F34: A1 | I34: =IF($D$3<>"",IF(MONTH(DATE($D$3,MONTH(I$5),$A34))=MONTH(I$7),DATE($D$3,MONTH(I$5),$A34),""),"") -> 43158 | J34: =IF( OR(DAY(I34)=1,WEEKDAY(I34,2)=1), INT((I34-SUM(MOD(DATE(YEAR(I34-MOD(I34-2,7)+3),1,2),{1E+99;7})*{1;-1})+5)/7), "") -> 9 | N34: =IF($D$3<>"",IF(MONTH(DATE($D$3,MONTH(N$5),$A34))=MONTH(N$7),DATE($D$3,MONTH(N$5),$A34),""),"") -> 43186 | O34: =IF( OR(DAY(N34)=1,WEEKDAY(N34,2)=1), INT((N34-SUM(MOD(DATE(YEAR(N34-MOD(N34-2,7)+3),1,2),{1E+99;7})*{1;-1})+5)/7), "") -> 13 | S34: =IF($D$3<>"",IF(MONTH(DATE($D$3,MONTH(S$5),$A34))=MONTH(S$7),DATE($D$3,MONTH(S$5),$A34),""),"") -> 43217 | T34: =IF( OR(DAY(S34)=1,WEEKDAY(S34,2)=1), INT((S34-SUM(MOD(DATE(YEAR(S34-MOD(S34-2,7)+3),1,2),{1E+99;7})*{1;-1})+5)/7), "") | X34: =IF($D$3<>"",IF(MONTH(DATE($D$3,MONTH(X$5),$A34))=MONTH(X$7),DATE($D$3,MONTH(X$5),$A34),""),"") -> 43247 | Y34: =IF( OR(DAY(X34)=1,WEEKDAY(X34,2)=1), INT((X34-SUM(MOD(DATE(YEAR(X34-MOD(X34-2,7)+3),1,2),{1E+99;7})*{1;-1})+5)/7), "") | AC34: =IF($D$3<>"",IF(MONTH(DATE($D$3,MONTH(AC$5),$A34))=MONTH(AC$7),DATE($D$3,MONTH(AC$5),$A34),""),"") -> 43278 | AD34: =IF( OR(DAY(AC34)=1,WEEKDAY(AC34,2)=1), INT((AC34-SUM(MOD(DATE(YEAR(AC34-MOD(AC34-2,7)+3),1,2),{1E+99;7})*{1;-1})+5)/7), "") | AH34: =IF($D$3<>"",IF(MONTH(DATE($D$3,MONTH(AH$5),$A34))=MONTH(AH$7),DATE($D$3,MONTH(AH$5),$A34),""),"") -> 43308 | AI34: =IF( OR(DAY(AH34)=1,WEEKDAY(AH34,2)=1), INT((AH34-SUM(MOD(DATE(YEAR(AH34-MOD(AH34-2,7)+3),1,2),{1E+99;7})*{1;-1})+5)/7), "") | AM34: =IF($D$3<>"",IF(MONTH(DATE($D$3,MONTH(AM$5),$A34))=MONTH(AM$7),DATE($D$3,MONTH(AM$5),$A34),""),"") -> 43339 | AN34: =IF( OR(DAY(AM34)=1,WEEKDAY(AM34,2)=1), INT((AM34-SUM(MOD(DATE(YEAR(AM34-MOD(AM34-2,7)+3),1,2),{1E+99;7})*{1;-1})+5)/7), "") | AR34: =IF($D$3<>"",IF(MONTH(DATE($D$3,MONTH(AR$5),$A34))=MONTH(AR$7),DATE($D$3,MONTH(AR$5),$A34),""),"") -> 43370 | AS34: =IF( OR(DAY(AR34)=1,WEEKDAY(AR34,2)=1), INT((AR34-SUM(MOD(DATE(YEAR(AR34-MOD(AR34-2,7)+3),1,2),{1E+99;7})*{1;-1})+5)/7), "") | AW34: =IF($D$3<>"",IF(MONTH(DATE($D$3,MONTH(AW$5),$A34))=MONTH(AW$7),DATE($D$3,MONTH(AW$5),$A34),""),"") -> 43400 | AX34: =IF( OR(DAY(AW34)=1,WEEKDAY(AW34,2)=1), INT((AW34-SUM(MOD(DATE(YEAR(AW34-MOD(AW34-2,7)+3),1,2),{1E+99;7})*{1;-1})+5)/7), "") | BB34: =IF($D$3<>"",IF(MONTH(DATE($D$3,MONTH(BB$5),$A34))=MONTH(BB$7),DATE($D$3,MONTH(BB$5),$A34),""),"") -> 43431 | BC34: =IF( OR(DAY(BB34)=1,WEEKDAY(BB34,2)=1), INT((BB34-SUM(MOD(DATE(YEAR(BB34-MOD(BB34-2,7)+3),1,2),{1E+99;7})*{1;-1})+5)/7), "") -> 48 | BG34: =IF($D$3<>"",IF(MONTH(DATE($D$3,MONTH(BG$5),$A34))=MONTH(BG$7),DATE($D$3,MONTH(BG$5),$A34),""),"") -> 43461 | BH34: =IF( OR(DAY(BG34)=1,WEEKDAY(BG34,2)=1), INT((BG34-SUM(MOD(DATE(YEAR(BG34-MOD(BG34-2,7)+3),1,2),{1E+99;7})*{1;-1})+5)/7), "")
A35: 29 | D35: =IF($D$3<>"",IF(MONTH(DATE($D$3,MONTH(D$5),$A35))=MONTH(D$7),DATE($D$3,MONTH(D$5),$A35),""),"") -> 43128 | E35: =IF( OR(DAY(D35)=1,WEEKDAY(D35,2)=1), INT((D35-SUM(MOD(DATE(YEAR(D35-MOD(D35-2,7)+3),1,2),{1E+99;7})*{1;-1})+5)/7), "") | F35: R | I35: =IF($D$3<>"",IF(MONTH(DATE($D$3,MONTH(I$5),$A35))=MONTH(I$7),DATE($D$3,MONTH(I$5),$A35),""),"") | J35: =IFERROR(IF(WEEKDAY(O36,2)=1,INT((O36-SUM(MOD(DATE(YEAR(O36-MOD(O36-2,7)+3),1,2),{1E+99;7})*{1;-1})+5)/7),""),"") | N35: =IF($D$3<>"",IF(MONTH(DATE($D$3,MONTH(N$5),$A35))=MONTH(N$7),DATE($D$3,MONTH(N$5),$A35),""),"") -> 43187 | O35: =IF( OR(DAY(N35)=1,WEEKDAY(N35,2)=1), INT((N35-SUM(MOD(DATE(YEAR(N35-MOD(N35-2,7)+3),1,2),{1E+99;7})*{1;-1})+5)/7), "") | S35: =IF($D$3<>"",IF(MONTH(DATE($D$3,MONTH(S$5),$A35))=MONTH(S$7),DATE($D$3,MONTH(S$5),$A35),""),"") -> 43218 | T35: =IF( OR(DAY(S35)=1,WEEKDAY(S35,2)=1), INT((S35-SUM(MOD(DATE(YEAR(S35-MOD(S35-2,7)+3),1,2),{1E+99;7})*{1;-1})+5)/7), "") | X35: =IF($D$3<>"",IF(MONTH(DATE($D$3,MONTH(X$5),$A35))=MONTH(X$7),DATE($D$3,MONTH(X$5),$A35),""),"") -> 43248 | Y35: =IF( OR(DAY(X35)=1,WEEKDAY(X35,2)=1), INT((X35-SUM(MOD(DATE(YEAR(X35-MOD(X35-2,7)+3),1,2),{1E+99;7})*{1;-1})+5)/7), "") | AC35: =IF($D$3<>"",IF(MONTH(DATE($D$3,MONTH(AC$5),$A35))=MONTH(AC$7),DATE($D$3,MONTH(AC$5),$A35),""),"") -> 43279 | AD35: =IF( OR(DAY(AC35)=1,WEEKDAY(AC35,2)=1), INT((AC35-SUM(MOD(DATE(YEAR(AC35-MOD(AC35-2,7)+3),1,2),{1E+99;7})*{1;-1})+5)/7), "") | AH35: =IF($D$3<>"",IF(MONTH(DATE($D$3,MONTH(AH$5),$A35))=MONTH(AH$7),DATE($D$3,MONTH(AH$5),$A35),""),"") -> 43309 | AI35: =IF( OR(DAY(AH35)=1,WEEKDAY(AH35,2)=1), INT((AH35-SUM(MOD(DATE(YEAR(AH35-MOD(AH35-2,7)+3),1,2),{1E+99;7})*{1;-1})+5)/7), "") | AM35: =IF($D$3<>"",IF(MONTH(DATE($D$3,MONTH(AM$5),$A35))=MONTH(AM$7),DATE($D$3,MONTH(AM$5),$A35),""),"") -> 43340 | AN35: =IF( OR(DAY(AM35)=1,WEEKDAY(AM35,2)=1), INT((AM35-SUM(MOD(DATE(YEAR(AM35-MOD(AM35-2,7)+3),1,2),{1E+99;7})*{1;-1})+5)/7), "") -> 35 | AR35: =IF($D$3<>"",IF(MONTH(DATE($D$3,MONTH(AR$5),$A35))=MONTH(AR$7),DATE($D$3,MONTH(AR$5),$A35),""),"") -> 43371 | AS35: =IF( OR(DAY(AR35)=1,WEEKDAY(AR35,2)=1), INT((AR35-SUM(MOD(DATE(YEAR(AR35-MOD(AR35-2,7)+3),1,2),{1E+99;7})*{1;-1})+5)/7), "") | AW35: =IF($D$3<>"",IF(MONTH(DATE($D$3,MONTH(AW$5),$A35))=MONTH(AW$7),DATE($D$3,MONTH(AW$5),$A35),""),"") -> 43401 | AX35: =IF( OR(DAY(AW35)=1,WEEKDAY(AW35,2)=1), INT((AW35-SUM(MOD(DATE(YEAR(AW35-MOD(AW35-2,7)+3),1,2),{1E+99;7})*{1;-1})+5)/7), "") | BB35: =IF($D$3<>"",IF(MONTH(DATE($D$3,MONTH(BB$5),$A35))=MONTH(BB$7),DATE($D$3,MONTH(BB$5),$A35),""),"") -> 43432 | BC35: =IF( OR(DAY(BB35)=1,WEEKDAY(BB35,2)=1), INT((BB35-SUM(MOD(DATE(YEAR(BB35-MOD(BB35-2,7)+3),1,2),{1E+99;7})*{1;-1})+5)/7), "") | BG35: =IF($D$3<>"",IF(MONTH(DATE($D$3,MONTH(BG$5),$A35))=MONTH(BG$7),DATE($D$3,MONTH(BG$5),$A35),""),"") -> 43462 | BH35: =IF( OR(DAY(BG35)=1,WEEKDAY(BG35,2)=1), INT((BG35-SUM(MOD(DATE(YEAR(BG35-MOD(BG35-2,7)+3),1,2),{1E+99;7})*{1;-1})+5)/7), "")
A36: 30 | D36: =IF($D$3<>"",IF(MONTH(DATE($D$3,MONTH(D$5),$A36))=MONTH(D$7),DATE($D$3,MONTH(D$5),$A36),""),"") -> 43129 | E36: =IF( OR(DAY(D36)=1,WEEKDAY(D36,2)=1), INT((D36-SUM(MOD(DATE(YEAR(D36-MOD(D36-2,7)+3),1,2),{1E+99;7})*{1;-1})+5)/7), "") | F36: RH | I36: =IF($D$3<>"",IF(MONTH(DATE($D$3,MONTH(I$5),$A36))=MONTH(I$7),DATE($D$3,MONTH(I$5),$A36),""),"") | J36: =IFERROR(IF(WEEKDAY(O37,2)=1,INT((O37-SUM(MOD(DATE(YEAR(O37-MOD(O37-2,7)+3),1,2),{1E+99;7})*{1;-1})+5)/7),""),"") | N36: =IF($D$3<>"",IF(MONTH(DATE($D$3,MONTH(N$5),$A36))=MONTH(N$7),DATE($D$3,MONTH(N$5),$A36),""),"") -> 43188 | O36: =IF( OR(DAY(N36)=1,WEEKDAY(N36,2)=1), INT((N36-SUM(MOD(DATE(YEAR(N36-MOD(N36-2,7)+3),1,2),{1E+99;7})*{1;-1})+5)/7), "") | S36: =IF($D$3<>"",IF(MONTH(DATE($D$3,MONTH(S$5),$A36))=MONTH(S$7),DATE($D$3,MONTH(S$5),$A36),""),"") -> 43219 | T36: =IF( OR(DAY(S36)=1,WEEKDAY(S36,2)=1), INT((S36-SUM(MOD(DATE(YEAR(S36-MOD(S36-2,7)+3),1,2),{1E+99;7})*{1;-1})+5)/7), "") | X36: =IF($D$3<>"",IF(MONTH(DATE($D$3,MONTH(X$5),$A36))=MONTH(X$7),DATE($D$3,MONTH(X$5),$A36),""),"") -> 43249 | Y36: =IF( OR(DAY(X36)=1,WEEKDAY(X36,2)=1), INT((X36-SUM(MOD(DATE(YEAR(X36-MOD(X36-2,7)+3),1,2),{1E+99;7})*{1;-1})+5)/7), "") -> 22 | AC36: =IF($D$3<>"",IF(MONTH(DATE($D$3,MONTH(AC$5),$A36))=MONTH(AC$7),DATE($D$3,MONTH(AC$5),$A36),""),"") -> 43280 | AD36: =IF( OR(DAY(AC36)=1,WEEKDAY(AC36,2)=1), INT((AC36-SUM(MOD(DATE(YEAR(AC36-MOD(AC36-2,7)+3),1,2),{1E+99;7})*{1;-1})+5)/7), "") | AH36: =IF($D$3<>"",IF(MONTH(DATE($D$3,MONTH(AH$5),$A36))=MONTH(AH$7),DATE($D$3,MONTH(AH$5),$A36),""),"") -> 43310 | AI36: =IF( OR(DAY(AH36)=1,WEEKDAY(AH36,2)=1), INT((AH36-SUM(MOD(DATE(YEAR(AH36-MOD(AH36-2,7)+3),1,2),{1E+99;7})*{1;-1})+5)/7), "") | AM36: =IF($D$3<>"",IF(MONTH(DATE($D$3,MONTH(AM$5),$A36))=MONTH(AM$7),DATE($D$3,MONTH(AM$5),$A36),""),"") -> 43341 | AN36: =IF( OR(DAY(AM36)=1,WEEKDAY(AM36,2)=1), INT((AM36-SUM(MOD(DATE(YEAR(AM36-MOD(AM36-2,7)+3),1,2),{1E+99;7})*{1;-1})+5)/7), "") | AR36: =IF($D$3<>"",IF(MONTH(DATE($D$3,MONTH(AR$5),$A36))=MONTH(AR$7),DATE($D$3,MONTH(AR$5),$A36),""),"") -> 43372 | AS36: =IF( OR(DAY(AR36)=1,WEEKDAY(AR36,2)=1), INT((AR36-SUM(MOD(DATE(YEAR(AR36-MOD(AR36-2,7)+3),1,2),{1E+99;7})*{1;-1})+5)/7), "") | AW36: =IF($D$3<>"",IF(MONTH(DATE($D$3,MONTH(AW$5),$A36))=MONTH(AW$7),DATE($D$3,MONTH(AW$5),$A36),""),"") -> 43402 | AX36: =IF( OR(DAY(AW36)=1,WEEKDAY(AW36,2)=1), INT((AW36-SUM(MOD(DATE(YEAR(AW36-MOD(AW36-2,7)+3),1,2),{1E+99;7})*{1;-1})+5)/7), "") | BB36: =IF($D$3<>"",IF(MONTH(DATE($D$3,MONTH(BB$5),$A36))=MONTH(BB$7),DATE($D$3,MONTH(BB$5),$A36),""),"") -> 43433 | BC36: =IF( OR(DAY(BB36)=1,WEEKDAY(BB36,2)=1), INT((BB36-SUM(MOD(DATE(YEAR(BB36-MOD(BB36-2,7)+3),1,2),{1E+99;7})*{1;-1})+5)/7), "") | BG36: =IF($D$3<>"",IF(MONTH(DATE($D$3,MONTH(BG$5),$A36))=MONTH(BG$7),DATE($D$3,MONTH(BG$5),$A36),""),"") -> 43463 | BH36: =IF( OR(DAY(BG36)=1,WEEKDAY(BG36,2)=1), INT((BG36-SUM(MOD(DATE(YEAR(BG36-MOD(BG36-2,7)+3),1,2),{1E+99;7})*{1;-1})+5)/7), "")
A37: 31 | D37: =IF($D$3<>"",IF(MONTH(DATE($D$3,MONTH(D$5),$A37))=MONTH(D$7),DATE($D$3,MONTH(D$5),$A37),""),"") -> 43130 | E37: =IF( OR(DAY(D37)=1,WEEKDAY(D37,2)=1), INT((D37-SUM(MOD(DATE(YEAR(D37-MOD(D37-2,7)+3),1,2),{1E+99;7})*{1;-1})+5)/7), "") -> 5 | F37: M2 | I37: =IF($D$3<>"",IF(MONTH(DATE($D$3,MONTH(I$5),$A37))=MONTH(I$7),DATE($D$3,MONTH(I$5),$A37),""),"") | J37: =IFERROR(IF(WEEKDAY(O38,2)=1,INT((O38-SUM(MOD(DATE(YEAR(O38-MOD(O38-2,7)+3),1,2),{1E+99;7})*{1;-1})+5)/7),""),"") | N37: =IF($D$3<>"",IF(MONTH(DATE($D$3,MONTH(N$5),$A37))=MONTH(N$7),DATE($D$3,MONTH(N$5),$A37),""),"") -> 43189 | O37: =IF( OR(DAY(N37)=1,WEEKDAY(N37,2)=1), INT((N37-SUM(MOD(DATE(YEAR(N37-MOD(N37-2,7)+3),1,2),{1E+99;7})*{1;-1})+5)/7), "") | X37: =IF($D$3<>"",IF(MONTH(DATE($D$3,MONTH(X$5),$A37))=MONTH(X$7),DATE($D$3,MONTH(X$5),$A37),""),"") -> 43250 | Y37: =IF( OR(DAY(X37)=1,WEEKDAY(X37,2)=1), INT((X37-SUM(MOD(DATE(YEAR(X37-MOD(X37-2,7)+3),1,2),{1E+99;7})*{1;-1})+5)/7), "") | AC37: =IF($D$3<>"",IF(MONTH(DATE($D$3,MONTH(AC$5),$A37))=MONTH(AC$7),DATE($D$3,MONTH(AC$5),$A37),""),"") | AD37: =IFERROR(IF(WEEKDAY(AI38,2)=1,INT((AI38-SUM(MOD(DATE(YEAR(AI38-MOD(AI38-2,7)+3),1,2),{1E+99;7})*{1;-1})+5)/7),""),"") | AH37: =IF($D$3<>"",IF(MONTH(DATE($D$3,MONTH(AH$5),$A37))=MONTH(AH$7),DATE($D$3,MONTH(AH$5),$A37),""),"") -> 43311 | AI37: =IF( OR(DAY(AH37)=1,WEEKDAY(AH37,2)=1), INT((AH37-SUM(MOD(DATE(YEAR(AH37-MOD(AH37-2,7)+3),1,2),{1E+99;7})*{1;-1})+5)/7), "") | AM37: =IF($D$3<>"",IF(MONTH(DATE($D$3,MONTH(AM$5),$A37))=MONTH(AM$7),DATE($D$3,MONTH(AM$5),$A37),""),"") -> 43342 | AN37: =IF( OR(DAY(AM37)=1,WEEKDAY(AM37,2)=1), INT((AM37-SUM(MOD(DATE(YEAR(AM37-MOD(AM37-2,7)+3),1,2),{1E+99;7})*{1;-1})+5)/7), "") | AR37: =IF($D$3<>"",IF(MONTH(DATE($D$3,MONTH(AR$5),$A37))=MONTH(AR$7),DATE($D$3,MONTH(AR$5),$A37),""),"") | AS37: =IFERROR(IF(WEEKDAY(AX38,2)=1,INT((AX38-SUM(MOD(DATE(YEAR(AX38-MOD(AX38-2,7)+3),1,2),{1E+99;7})*{1;-1})+5)/7),""),"") | AW37: =IF($D$3<>"",IF(MONTH(DATE($D$3,MONTH(AW$5),$A37))=MONTH(AW$7),DATE($D$3,MONTH(AW$5),$A37),""),"") -> 43403 | AX37: =IF( OR(DAY(AW37)=1,WEEKDAY(AW37,2)=1), INT((AW37-SUM(MOD(DATE(YEAR(AW37-MOD(AW37-2,7)+3),1,2),{1E+99;7})*{1;-1})+5)/7), "") -> 44 | BB37: =IF($D$3<>"",IF(MONTH(DATE($D$3,MONTH(BB$5),$A37))=MONTH(BB$7),DATE($D$3,MONTH(BB$5),$A37),""),"") | BC37: =IFERROR(IF(WEEKDAY(BH38,2)=1,INT((BH38-SUM(MOD(DATE(YEAR(BH38-MOD(BH38-2,7)+3),1,2),{1E+99;7})*{1;-1})+5)/7),""),"") | BG37: =IF($D$3<>"",IF(MONTH(DATE($D$3,MONTH(BG$5),$A37))=MONTH(BG$7),DATE($D$3,MONTH(BG$5),$A37),""),"") -> 43464 | BH37: =IF( OR(DAY(BG37)=1,WEEKDAY(BG37,2)=1), INT((BG37-SUM(MOD(DATE(YEAR(BG37-MOD(BG37-2,7)+3),1,2),{1E+99;7})*{1;-1})+5)/7), "")

Sheet AnxJan
C1: 2022
C2: Travail Effectif
C3: Date | F3: Equipes | G3: Heures | H3: Heures | I3: Temps | J3: Dimanche | V3: Nouvelles formules
G4: Début | H4: Fin | I4: Travail | J4: Recup
C5: 43101
C6: =IF($C$1<>"",PROPER(TEXT(C5,"mmmm")),"") -> Janvier
A7: 1 | D7: =IF($C$1<>"",DATE($C$1,MONTH(C$5),$A7),"") -> 43100 | E7: =INT((D7-(DATE(YEAR(D7-WEEKDAY(D7-1)+4),1,3)-WEEKDAY(DATE(YEAR(D7 -WEEKDAY(D7-1)+4),1,3)))+5)/7) -> 52 | F7: M4 | G7: =IF(ISNA(INDEX(Sources!$D$2:$F$21,MATCH(F7,Sources!$D$2:$D$21,0),MATCH($G$4,Sources!$D$1:$F$1,0))),0,INDEX(Sources!$D$2:$F$21,MATCH(F7,Sources!$D$2:$D$21,0),MATCH($G$4,Sources!$D$1:$F$1,0)))+ IF(ISNA(INDEX(Sources!$H$2:$L$20,MATCH(F7,Sources!$H$2:$H$20,0),MATCH($G$4,Sources!$H$1:$L$1,4))),0,INDEX(Sources!$H$2:$L$20,MATCH(F7,Sources!$H$2:$H$20,0),MATCH($G$4,Sources!$H$1:$L$1,4))) -> 0.23958333 | H7: =IF(ISNA(INDEX(Sources!$D$2:$I$21,MATCH(F7,Sources!$D$2:$D$21,0),MATCH($H$4,Sources!$D$1:$F$1,0))),0,INDEX(Sources!$D$2:$I$21,MATCH(F7,Sources!$D$2:$D$21,0),MATCH($H$4,Sources!$D$1:$F$1,0)))+ IF(ISNA(INDEX(Sources!$H$2:$L$20,MATCH(F7,Sources!$H$2:$H$20,0),MATCH($H$4,Sources!$H$1:$L$1,4))),0,INDEX(Sources!$H$2:$L$20,MATCH(F7,Sources!$H$2:$H$20,0),MATCH($H$4,Sources!$H$1:$L$1,4))) -> 0.54166667 | I7: =H7-G7 -> 0.30208333 | J7: =IF(AND(WEEKDAY(D7,2)=7,LEFT(F7,1)="M")*OR(WEEKDAY(D7,2)=7,LEFT(F7,1)="A"),"4:30",0) -> 0 | V7: =IF(ROW()=7,_xlfn.ISOWEEKNUM(D7),IF(WEEKDAY(D7)=2,_xlfn.ISOWEEKNUM(D7),"")) -> 52 | W7: =INDEX(Sources!$V$2:$V$40,MATCH(F7,Sources!$U$2:$U$40,0)) -> 0.23958333 | X7: =INDEX(Sources!$W$2:$W$40,MATCH(F7,Sources!$U$2:$U$40,0)) -> 0.54166667 | Y7: =MOD(X7-W7,1) -> 0.30208333 | Z7: =IF(AND(WEEKDAY(D7,2)=7,OR(LEFT(F7,1)="M",LEFT(F7,1)="A")),4.5/24,0) -> 0
A8: 2 | D8: =IF($C$1<>"",IF(MONTH(DATE($C$1,MONTH(C$5),$A8))=MONTH(D$7),DATE($C$1,MONTH(C$5),$A8),""),"") -> 43101 | E8: =IF( OR(DAY(D8)=1,WEEKDAY(D8,2)=1), INT((D8-SUM(MOD(DATE(YEAR(D8-MOD(D8-2,7)+3),1,2),{1E+99;7})*{1;-1})+5)/7), "") | F8: M4 | G8: =IF(ISNA(INDEX(Sources!$D$2:$F$21,MATCH(F8,Sources!$D$2:$D$21,0),MATCH($G$4,Sources!$D$1:$F$1,0))),0,INDEX(Sources!$D$2:$F$21,MATCH(F8,Sources!$D$2:$D$21,0),MATCH($G$4,Sources!$D$1:$F$1,0)))+ IF(ISNA(INDEX(Sources!$H$2:$L$20,MATCH(F8,Sources!$H$2:$H$20,0),MATCH($G$4,Sources!$H$1:$L$1,4))),0,INDEX(Sources!$H$2:$L$20,MATCH(F8,Sources!$H$2:$H$20,0),MATCH($G$4,Sources!$H$1:$L$1,4))) -> 0.23958333 | H8: =IF(ISNA(INDEX(Sources!$D$2:$I$21,MATCH(F8,Sources!$D$2:$D$21,0),MATCH($H$4,Sources!$D$1:$F$1,0))),0,INDEX(Sources!$D$2:$I$21,MATCH(F8,Sources!$D$2:$D$21,0),MATCH($H$4,Sources!$D$1:$F$1,0)))+ IF(ISNA(INDEX(Sources!$H$2:$L$20,MATCH(F8,Sources!$H$2:$H$20,0),MATCH($H$4,Sources!$H$1:$L$1,4))),0,INDEX(Sources!$H$2:$L$20,MATCH(F8,Sources!$H$2:$H$20,0),MATCH($H$4,Sources!$H$1:$L$1,4))) -> 0.54166667 | I8: =H8-G8 -> 0.30208333 | J8: =IF(AND(WEEKDAY(D8,2)=7,LEFT(F8,1)="M")*OR(WEEKDAY(D8,2)=7,LEFT(F8,1)="A"),"4:30",0) -> 4:30 | V8: =IF(ROW()=7,_xlfn.ISOWEEKNUM(D8),IF(WEEKDAY(D8)=2,_xlfn.ISOWEEKNUM(D8),"")) | W8: =INDEX(Sources!$V$2:$V$40,MATCH(F8,Sources!$U$2:$U$40,0)) -> 0.23958333 | X8: =INDEX(Sources!$W$2:$W$40,MATCH(F8,Sources!$U$2:$U$40,0)) -> 0.54166667 | Y8: =MOD(X8-W8,1) -> 0.30208333 | Z8: =IF(AND(WEEKDAY(D8,2)=7,OR(LEFT(F8,1)="M",LEFT(F8,1)="A")),4.5/24,0) -> 0.1875
A9: 3 | D9: =IF($C$1<>"",IF(MONTH(DATE($C$1,MONTH(C$5),$A9))=MONTH(D$7),DATE($C$1,MONTH(C$5),$A9),""),"") -> 43102 | E9: =IF( OR(DAY(D9)=1,WEEKDAY(D9,2)=1), INT((D9-SUM(MOD(DATE(YEAR(D9-MOD(D9-2,7)+3),1,2),{1E+99;7})*{1;-1})+5)/7), "") -> 1 | F9: M6 | G9: =IF(ISNA(INDEX(Sources!$D$2:$F$21,MATCH(F9,Sources!$D$2:$D$21,0),MATCH($G$4,Sources!$D$1:$F$1,0))),0,INDEX(Sources!$D$2:$F$21,MATCH(F9,Sources!$D$2:$D$21,0),MATCH($G$4,Sources!$D$1:$F$1,0)))+ IF(ISNA(INDEX(Sources!$H$2:$L$20,MATCH(F9,Sources!$H$2:$H$20,0),MATCH($G$4,Sources!$H$1:$L$1,4))),0,INDEX(Sources!$H$2:$L$20,MATCH(F9,Sources!$H$2:$H$20,0),MATCH($G$4,Sources!$H$1:$L$1,4))) -> 0.23958333 | H9: =IF(ISNA(INDEX(Sources!$D$2:$I$21,MATCH(F9,Sources!$D$2:$D$21,0),MATCH($H$4,Sources!$D$1:$F$1,0))),0,INDEX(Sources!$D$2:$I$21,MATCH(F9,Sources!$D$2:$D$21,0),MATCH($H$4,Sources!$D$1:$F$1,0)))+ IF(ISNA(INDEX(Sources!$H$2:$L$20,MATCH(F9,Sources!$H$2:$H$20,0),MATCH($H$4,Sources!$H$1:$L$1,4))),0,INDEX(Sources!$H$2:$L$20,MATCH(F9,Sources!$H$2:$H$20,0),MATCH($H$4,Sources!$H$1:$L$1,4))) -> 0.54166667 | I9: =H9-G9 -> 0.30208333 | J9: =IF(AND(WEEKDAY(D9,2)=7,LEFT(F9,1)="M")*OR(WEEKDAY(D9,2)=7,LEFT(F9,1)="A"),"4:30",0) -> 0 | L9: J'essaye cette formule | V9: =IF(ROW()=7,_xlfn.ISOWEEKNUM(D9),IF(WEEKDAY(D9)=2,_xlfn.ISOWEEKNUM(D9),"")) -> 1 | W9: =INDEX(Sources!$V$2:$V$40,MATCH(F9,Sources!$U$2:$U$40,0)) -> 0.23958333 | X9: =INDEX(Sources!$W$2:$W$40,MATCH(F9,Sources!$U$2:$U$40,0)) -> 0.54166667 | Y9: =MOD(X9-W9,1) -> 0.30208333 | Z9: =IF(AND(WEEKDAY(D9,2)=7,OR(LEFT(F9,1)="M",LEFT(F9,1)="A")),4.5/24,0) -> 0
A10: 4 | D10: =IF($C$1<>"",IF(MONTH(DATE($C$1,MONTH(C$5),$A10))=MONTH(D$7),DATE($C$1,MONTH(C$5),$A10),""),"") -> 43103 | E10: =IF( OR(DAY(D10)=1,WEEKDAY(D10,2)=1), INT((D10-SUM(MOD(DATE(YEAR(D10-MOD(D10-2,7)+3),1,2),{1E+99;7})*{1;-1})+5)/7), "") | F10: RLT | G10: =IF(ISNA(INDEX(Sources!$D$2:$F$21,MATCH(F10,Sources!$D$2:$D$21,0),MATCH($G$4,Sources!$D$1:$F$1,0))),0,INDEX(Sources!$D$2:$F$21,MATCH(F10,Sources!$D$2:$D$21,0),MATCH($G$4,Sources!$D$1:$F$1,0)))+ IF(ISNA(INDEX(Sources!$H$2:$L$20,MATCH(F10,Sources!$H$2:$H$20,0),MATCH($G$4,Sources!$H$1:$L$1,4))),0,INDEX(Sources!$H$2:$L$20,MATCH(F10,Sources!$H$2:$H$20,0),MATCH($G$4,Sources!$H$1:$L$1,4))) -> 0 | H10: =IF(ISNA(INDEX(Sources!$D$2:$I$21,MATCH(F10,Sources!$D$2:$D$21,0),MATCH($H$4,Sources!$D$1:$F$1,0))),0,INDEX(Sources!$D$2:$I$21,MATCH(F10,Sources!$D$2:$D$21,0),MATCH($H$4,Sources!$D$1:$F$1,0)))+ IF(ISNA(INDEX(Sources!$H$2:$L$20,MATCH(F10,Sources!$H$2:$H$20,0),MATCH($H$4,Sources!$H$1:$L$1,4))),0,INDEX(Sources!$H$2:$L$20,MATCH(F10,Sources!$H$2:$H$20,0),MATCH($H$4,Sources!$H$1:$L$1,4))) -> 0 | I10: =H10-G10 -> 0 | J10: =IF(AND(WEEKDAY(D10,2)=7,LEFT(F10,1)="M")*OR(WEEKDAY(D10,2)=7,LEFT(F10,1)="A"),"4:30",0) -> 0 | L10: =SI(ET(JOURSEM(D8;2)=7;GAUCHE(F8;1)="M")*OU(JOURSEM(D8;2)=7;GAUCHE(F8;1)="A");"4:30";0) | V10: =IF(ROW()=7,_xlfn.ISOWEEKNUM(D10),IF(WEEKDAY(D10)=2,_xlfn.ISOWEEKNUM(D10),"")) | W10: =INDEX(Sources!$V$2:$V$40,MATCH(F10,Sources!$U$2:$U$40,0)) -> 0 | X10: =INDEX(Sources!$W$2:$W$40,MATCH(F10,Sources!$U$2:$U$40,0)) -> 0 | Y10: =MOD(X10-W10,1) -> 0 | Z10: =IF(AND(WEEKDAY(D10,2)=7,OR(LEFT(F10,1)="M",LEFT(F10,1)="A")),4.5/24,0) -> 0
A11: 5 | D11: =IF($C$1<>"",IF(MONTH(DATE($C$1,MONTH(C$5),$A11))=MONTH(D$7),DATE($C$1,MONTH(C$5),$A11),""),"") -> 43104 | E11: =IF( OR(DAY(D11)=1,WEEKDAY(D11,2)=1), INT((D11-SUM(MOD(DATE(YEAR(D11-MOD(D11-2,7)+3),1,2),{1E+99;7})*{1;-1})+5)/7), "") | F11: A9 | G11: =IF(ISNA(INDEX(Sources!$D$2:$F$21,MATCH(F11,Sources!$D$2:$D$21,0),MATCH($G$4,Sources!$D$1:$F$1,0))),0,INDEX(Sources!$D$2:$F$21,MATCH(F11,Sources!$D$2:$D$21,0),MATCH($G$4,Sources!$D$1:$F$1,0)))+ IF(ISNA(INDEX(Sources!$H$2:$L$20,MATCH(F11,Sources!$H$2:$H$20,0),MATCH($G$4,Sources!$H$1:$L$1,4))),0,INDEX(Sources!$H$2:$L$20,MATCH(F11,Sources!$H$2:$H$20,0),MATCH($G$4,Sources!$H$1:$L$1,4))) -> 0.53125 | H11: =IF(ISNA(INDEX(Sources!$D$2:$I$21,MATCH(F11,Sources!$D$2:$D$21,0),MATCH($H$4,Sources!$D$1:$F$1,0))),0,INDEX(Sources!$D$2:$I$21,MATCH(F11,Sources!$D$2:$D$21,0),MATCH($H$4,Sources!$D$1:$F$1,0)))+ IF(ISNA(INDEX(Sources!$H$2:$L$20,MATCH(F11,Sources!$H$2:$H$20,0),MATCH($H$4,Sources!$H$1:$L$1,4))),0,INDEX(Sources!$H$2:$L$20,MATCH(F11,Sources!$H$2:$H$20,0),MATCH($H$4,Sources!$H$1:$L$1,4))) -> 0.83333333 | I11: =H11-G11 -> 0.30208333 | J11: =IF(AND(WEEKDAY(D11,2)=7,LEFT(F11,1)="M")*OR(WEEKDAY(D11,2)=7,LEFT(F11,1)="A"),"4:30",0) -> 0 | L11: elle fonctione en J8 car F8 est un matin | V11: =IF(ROW()=7,_xlfn.ISOWEEKNUM(D11),IF(WEEKDAY(D11)=2,_xlfn.ISOWEEKNUM(D11),"")) | W11: =INDEX(Sources!$V$2:$V$40,MATCH(F11,Sources!$U$2:$U$40,0)) -> 0.53125 | X11: =INDEX(Sources!$W$2:$W$40,MATCH(F11,Sources!$U$2:$U$40,0)) -> 0.83333333 | Y11: =MOD(X11-W11,1) -> 0.30208333 | Z11: =IF(AND(WEEKDAY(D11,2)=7,OR(LEFT(F11,1)="M",LEFT(F11,1)="A")),4.5/24,0) -> 0
A12: 6 | D12: =IF($C$1<>"",IF(MONTH(DATE($C$1,MONTH(C$5),$A12))=MONTH(D$7),DATE($C$1,MONTH(C$5),$A12),""),"") -> 43105 | E12: =IF( OR(DAY(D12)=1,WEEKDAY(D12,2)=1), INT((D12-SUM(MOD(DATE(YEAR(D12-MOD(D12-2,7)+3),1,2),{1E+99;7})*{1;-1})+5)/7), "") | F12: A9 | G12: =IF(ISNA(INDEX(Sources!$D$2:$F$21,MATCH(F12,Sources!$D$2:$D$21,0),MATCH($G$4,Sources!$D$1:$F$1,0))),0,INDEX(Sources!$D$2:$F$21,MATCH(F12,Sources!$D$2:$D$21,0),MATCH($G$4,Sources!$D$1:$F$1,0)))+ IF(ISNA(INDEX(Sources!$H$2:$L$20,MATCH(F12,Sources!$H$2:$H$20,0),MATCH($G$4,Sources!$H$1:$L$1,4))),0,INDEX(Sources!$H$2:$L$20,MATCH(F12,Sources!$H$2:$H$20,0),MATCH($G$4,Sources!$H$1:$L$1,4))) -> 0.53125 | H12: =IF(ISNA(INDEX(Sources!$D$2:$I$21,MATCH(F12,Sources!$D$2:$D$21,0),MATCH($H$4,Sources!$D$1:$F$1,0))),0,INDEX(Sources!$D$2:$I$21,MATCH(F12,Sources!$D$2:$D$21,0),MATCH($H$4,Sources!$D$1:$F$1,0)))+ IF(ISNA(INDEX(Sources!$H$2:$L$20,MATCH(F12,Sources!$H$2:$H$20,0),MATCH($H$4,Sources!$H$1:$L$1,4))),0,INDEX(Sources!$H$2:$L$20,MATCH(F12,Sources!$H$2:$H$20,0),MATCH($H$4,Sources!$H$1:$L$1,4))) -> 0.83333333 | I12: =H12-G12 -> 0.30208333 | J12: =IF(AND(WEEKDAY(D12,2)=7,LEFT(F12,1)="M")*OR(WEEKDAY(D12,2)=7,LEFT(F12,1)="A"),"4:30",0) -> 0 | V12: =IF(ROW()=7,_xlfn.ISOWEEKNUM(D12),IF(WEEKDAY(D12)=2,_xlfn.ISOWEEKNUM(D12),"")) | W12: =INDEX(Sources!$V$2:$V$40,MATCH(F12,Sources!$U$2:$U$40,0)) -> 0.53125 | X12: =INDEX(Sources!$W$2:$W$40,MATCH(F12,Sources!$U$2:$U$40,0)) -> 0.83333333 | Y12: =MOD(X12-W12,1) -> 0.30208333 | Z12: =IF(AND(WEEKDAY(D12,2)=7,OR(LEFT(F12,1)="M",LEFT(F12,1)="A")),4.5/24,0) -> 0
A13: 7 | D13: =IF($C$1<>"",IF(MONTH(DATE($C$1,MONTH(C$5),$A13))=MONTH(D$7),DATE($C$1,MONTH(C$5),$A13),""),"") -> 43106 | E13: =IF( OR(DAY(D13)=1,WEEKDAY(D13,2)=1), INT((D13-SUM(MOD(DATE(YEAR(D13-MOD(D13-2,7)+3),1,2),{1E+99;7})*{1;-1})+5)/7), "") | F13: R | G13: =IF(ISNA(INDEX(Sources!$D$2:$F$21,MATCH(F13,Sources!$D$2:$D$21,0),MATCH($G$4,Sources!$D$1:$F$1,0))),0,INDEX(Sources!$D$2:$F$21,MATCH(F13,Sources!$D$2:$D$21,0),MATCH($G$4,Sources!$D$1:$F$1,0)))+ IF(ISNA(INDEX(Sources!$H$2:$L$20,MATCH(F13,Sources!$H$2:$H$20,0),MATCH($G$4,Sources!$H$1:$L$1,4))),0,INDEX(Sources!$H$2:$L$20,MATCH(F13,Sources!$H$2:$H$20,0),MATCH($G$4,Sources!$H$1:$L$1,4))) -> 0 | H13: =IF(ISNA(INDEX(Sources!$D$2:$I$21,MATCH(F13,Sources!$D$2:$D$21,0),MATCH($H$4,Sources!$D$1:$F$1,0))),0,INDEX(Sources!$D$2:$I$21,MATCH(F13,Sources!$D$2:$D$21,0),MATCH($H$4,Sources!$D$1:$F$1,0)))+ IF(ISNA(INDEX(Sources!$H$2:$L$20,MATCH(F13,Sources!$H$2:$H$20,0),MATCH($H$4,Sources!$H$1:$L$1,4))),0,INDEX(Sources!$H$2:$L$20,MATCH(F13,Sources!$H$2:$H$20,0),MATCH($H$4,Sources!$H$1:$L$1,4))) -> 0 | I13: =H13-G13 -> 0 | J13: =IF(AND(WEEKDAY(D13,2)=7,LEFT(F13,1)="M")*OR(WEEKDAY(D13,2)=7,LEFT(F13,1)="A"),"4:30",0) -> 0 | L13: Mais si par exemple F8=A2 comme dans la cellule F15 ou F22 | V13: =IF(ROW()=7,_xlfn.ISOWEEKNUM(D13),IF(WEEKDAY(D13)=2,_xlfn.ISOWEEKNUM(D13),"")) | W13: =INDEX(Sources!$V$2:$V$40,MATCH(F13,Sources!$U$2:$U$40,0)) -> 0 | X13: =INDEX(Sources!$W$2:$W$40,MATCH(F13,Sources!$U$2:$U$40,0)) -> 0 | Y13: =MOD(X13-W13,1) -> 0 | Z13: =IF(AND(WEEKDAY(D13,2)=7,OR(LEFT(F13,1)="M",LEFT(F13,1)="A")),4.5/24,0) -> 0
A14: 8 | D14: =IF($C$1<>"",IF(MONTH(DATE($C$1,MONTH(C$5),$A14))=MONTH(D$7),DATE($C$1,MONTH(C$5),$A14),""),"") -> 43107 | E14: =IF( OR(DAY(D14)=1,WEEKDAY(D14,2)=1), INT((D14-SUM(MOD(DATE(YEAR(D14-MOD(D14-2,7)+3),1,2),{1E+99;7})*{1;-1})+5)/7), "") | F14: RH | G14: =IF(ISNA(INDEX(Sources!$D$2:$F$21,MATCH(F14,Sources!$D$2:$D$21,0),MATCH($G$4,Sources!$D$1:$F$1,0))),0,INDEX(Sources!$D$2:$F$21,MATCH(F14,Sources!$D$2:$D$21,0),MATCH($G$4,Sources!$D$1:$F$1,0)))+ IF(ISNA(INDEX(Sources!$H$2:$L$20,MATCH(F14,Sources!$H$2:$H$20,0),MATCH($G$4,Sources!$H$1:$L$1,4))),0,INDEX(Sources!$H$2:$L$20,MATCH(F14,Sources!$H$2:$H$20,0),MATCH($G$4,Sources!$H$1:$L$1,4))) -> 0 | H14: =IF(ISNA(INDEX(Sources!$D$2:$I$21,MATCH(F14,Sources!$D$2:$D$21,0),MATCH($H$4,Sources!$D$1:$F$1,0))),0,INDEX(Sources!$D$2:$I$21,MATCH(F14,Sources!$D$2:$D$21,0),MATCH($H$4,Sources!$D$1:$F$1,0)))+ IF(ISNA(INDEX(Sources!$H$2:$L$20,MATCH(F14,Sources!$H$2:$H$20,0),MATCH($H$4,Sources!$H$1:$L$1,4))),0,INDEX(Sources!$H$2:$L$20,MATCH(F14,Sources!$H$2:$H$20,0),MATCH($H$4,Sources!$H$1:$L$1,4))) -> 0 | I14: =H14-G14 -> 0 | J14: =IF(AND(WEEKDAY(D14,2)=7,LEFT(F14,1)="M")*OR(WEEKDAY(D14,2)=7,LEFT(F14,1)="A"),"4:30",0) -> 0 | L14: cela ne fonctionne plus | V14: =IF(ROW()=7,_xlfn.ISOWEEKNUM(D14),IF(WEEKDAY(D14)=2,_xlfn.ISOWEEKNUM(D14),"")) | W14: =INDEX(Sources!$V$2:$V$40,MATCH(F14,Sources!$U$2:$U$40,0)) -> 0 | X14: =INDEX(Sources!$W$2:$W$40,MATCH(F14,Sources!$U$2:$U$40,0)) -> 0 | Y14: =MOD(X14-W14,1) -> 0 | Z14: =IF(AND(WEEKDAY(D14,2)=7,OR(LEFT(F14,1)="M",LEFT(F14,1)="A")),4.5/24,0) -> 0
A15: 9 | D15: =IF($C$1<>"",IF(MONTH(DATE($C$1,MONTH(C$5),$A15))=MONTH(D$7),DATE($C$1,MONTH(C$5),$A15),""),"") -> 43108 | E15: =IF( OR(DAY(D15)=1,WEEKDAY(D15,2)=1), INT((D15-SUM(MOD(DATE(YEAR(D15-MOD(D15-2,7)+3),1,2),{1E+99;7})*{1;-1})+5)/7), "") | F15: A5 | G15: =IF(ISNA(INDEX(Sources!$D$2:$F$21,MATCH(F15,Sources!$D$2:$D$21,0),MATCH($G$4,Sources!$D$1:$F$1,0))),0,INDEX(Sources!$D$2:$F$21,MATCH(F15,Sources!$D$2:$D$21,0),MATCH($G$4,Sources!$D$1:$F$1,0)))+ IF(ISNA(INDEX(Sources!$H$2:$L$20,MATCH(F15,Sources!$H$2:$H$20,0),MATCH($G$4,Sources!$H$1:$L$1,4))),0,INDEX(Sources!$H$2:$L$20,MATCH(F15,Sources!$H$2:$H$20,0),MATCH($G$4,Sources!$H$1:$L$1,4))) -> 0.53125 | H15: =IF(ISNA(INDEX(Sources!$D$2:$I$21,MATCH(F15,Sources!$D$2:$D$21,0),MATCH($H$4,Sources!$D$1:$F$1,0))),0,INDEX(Sources!$D$2:$I$21,MATCH(F15,Sources!$D$2:$D$21,0),MATCH($H$4,Sources!$D$1:$F$1,0)))+ IF(ISNA(INDEX(Sources!$H$2:$L$20,MATCH(F15,Sources!$H$2:$H$20,0),MATCH($H$4,Sources!$H$1:$L$1,4))),0,INDEX(Sources!$H$2:$L$20,MATCH(F15,Sources!$H$2:$H$20,0),MATCH($H$4,Sources!$H$1:$L$1,4))) -> 0.83333333 | I15: =H15-G15 -> 0.30208333 | J15: =IF(AND(WEEKDAY(D15,2)=7,LEFT(F15,1)="M")*OR(WEEKDAY(D15,2)=7,LEFT(F15,1)="A"),"4:30",0) -> 0 | V15: =IF(ROW()=7,_xlfn.ISOWEEKNUM(D15),IF(WEEKDAY(D15)=2,_xlfn.ISOWEEKNUM(D15),"")) | W15: =INDEX(Sources!$V$2:$V$40,MATCH(F15,Sources!$U$2:$U$40,0)) -> 0.53125 | X15: =INDEX(Sources!$W$2:$W$40,MATCH(F15,Sources!$U$2:$U$40,0)) -> 0.83333333 | Y15: =MOD(X15-W15,1) -> 0.30208333 | Z15: =IF(AND(WEEKDAY(D15,2)=7,OR(LEFT(F15,1)="M",LEFT(F15,1)="A")),4.5/24,0) -> 0.1875
A16: 10 | D16: =IF($C$1<>"",IF(MONTH(DATE($C$1,MONTH(C$5),$A16))=MONTH(D$7),DATE($C$1,MONTH(C$5),$A16),""),"") -> 43109 | E16: =IF( OR(DAY(D16)=1,WEEKDAY(D16,2)=1), INT((D16-SUM(MOD(DATE(YEAR(D16-MOD(D16-2,7)+3),1,2),{1E+99;7})*{1;-1})+5)/7), "") -> 2 | F16: M7 | G16: =IF(ISNA(INDEX(Sources!$D$2:$F$21,MATCH(F16,Sources!$D$2:$D$21,0),MATCH($G$4,Sources!$D$1:$F$1,0))),0,INDEX(Sources!$D$2:$F$21,MATCH(F16,Sources!$D$2:$D$21,0),MATCH($G$4,Sources!$D$1:$F$1,0)))+ IF(ISNA(INDEX(Sources!$H$2:$L$20,MATCH(F16,Sources!$H$2:$H$20,0),MATCH($G$4,Sources!$H$1:$L$1,4))),0,INDEX(Sources!$H$2:$L$20,MATCH(F16,Sources!$H$2:$H$20,0),MATCH($G$4,Sources!$H$1:$L$1,4))) -> 0.23958333 | H16: =IF(ISNA(INDEX(Sources!$D$2:$I$21,MATCH(F16,Sources!$D$2:$D$21,0),MATCH($H$4,Sources!$D$1:$F$1,0))),0,INDEX(Sources!$D$2:$I$21,MATCH(F16,Sources!$D$2:$D$21,0),MATCH($H$4,Sources!$D$1:$F$1,0)))+ IF(ISNA(INDEX(Sources!$H$2:$L$20,MATCH(F16,Sources!$H$2:$H$20,0),MATCH($H$4,Sources!$H$1:$L$1,4))),0,INDEX(Sources!$H$2:$L$20,MATCH(F16,Sources!$H$2:$H$20,0),MATCH($H$4,Sources!$H$1:$L$1,4))) -> 0.54166667 | I16: =H16-G16 -> 0.30208333 | J16: =IF(AND(WEEKDAY(D16,2)=7,LEFT(F16,1)="M")*OR(WEEKDAY(D16,2)=7,LEFT(F16,1)="A"),"4:30",0) -> 0 | L16: Qu'ai-je oublié dans cette formule pour qu'elle ne me prenne pas en compte le matin ou l'apres midi | V16: =IF(ROW()=7,_xlfn.ISOWEEKNUM(D16),IF(WEEKDAY(D16)=2,_xlfn.ISOWEEKNUM(D16),"")) -> 2 | W16: =INDEX(Sources!$V$2:$V$40,MATCH(F16,Sources!$U$2:$U$40,0)) -> 0.23958333 | X16: =INDEX(Sources!$W$2:$W$40,MATCH(F16,Sources!$U$2:$U$40,0)) -> 0.54166667 | Y16: =MOD(X16-W16,1) -> 0.30208333 | Z16: =IF(AND(WEEKDAY(D16,2)=7,OR(LEFT(F16,1)="M",LEFT(F16,1)="A")),4.5/24,0) -> 0
A17: 11 | D17: =IF($C$1<>"",IF(MONTH(DATE($C$1,MONTH(C$5),$A17))=MONTH(D$7),DATE($C$1,MONTH(C$5),$A17),""),"") -> 43110 | E17: =IF( OR(DAY(D17)=1,WEEKDAY(D17,2)=1), INT((D17-SUM(MOD(DATE(YEAR(D17-MOD(D17-2,7)+3),1,2),{1E+99;7})*{1;-1})+5)/7), "") | F17: M7 | G17: =IF(ISNA(INDEX(Sources!$D$2:$F$21,MATCH(F17,Sources!$D$2:$D$21,0),MATCH($G$4,Sources!$D$1:$F$1,0))),0,INDEX(Sources!$D$2:$F$21,MATCH(F17,Sources!$D$2:$D$21,0),MATCH($G$4,Sources!$D$1:$F$1,0)))+ IF(ISNA(INDEX(Sources!$H$2:$L$20,MATCH(F17,Sources!$H$2:$H$20,0),MATCH($G$4,Sources!$H$1:$L$1,4))),0,INDEX(Sources!$H$2:$L$20,MATCH(F17,Sources!$H$2:$H$20,0),MATCH($G$4,Sources!$H$1:$L$1,4))) -> 0.23958333 | H17: =IF(ISNA(INDEX(Sources!$D$2:$I$21,MATCH(F17,Sources!$D$2:$D$21,0),MATCH($H$4,Sources!$D$1:$F$1,0))),0,INDEX(Sources!$D$2:$I$21,MATCH(F17,Sources!$D$2:$D$21,0),MATCH($H$4,Sources!$D$1:$F$1,0)))+ IF(ISNA(INDEX(Sources!$H$2:$L$20,MATCH(F17,Sources!$H$2:$H$20,0),MATCH($H$4,Sources!$H$1:$L$1,4))),0,INDEX(Sources!$H$2:$L$20,MATCH(F17,Sources!$H$2:$H$20,0),MATCH($H$4,Sources!$H$1:$L$1,4))) -> 0.54166667 | I17: =H17-G17 -> 0.30208333 | J17: =IF(AND(WEEKDAY(D17,2)=7,LEFT(F17,1)="M")*OR(WEEKDAY(D17,2)=7,LEFT(F17,1)="A"),"4:30",0) -> 0 | V17: =IF(ROW()=7,_xlfn.ISOWEEKNUM(D17),IF(WEEKDAY(D17)=2,_xlfn.ISOWEEKNUM(D17),"")) | W17: =INDEX(Sources!$V$2:$V$40,MATCH(F17,Sources!$U$2:$U$40,0)) -> 0.23958333 | X17: =INDEX(Sources!$W$2:$W$40,MATCH(F17,Sources!$U$2:$U$40,0)) -> 0.54166667 | Y17: =MOD(X17-W17,1) -> 0.30208333 | Z17: =IF(AND(WEEKDAY(D17,2)=7,OR(LEFT(F17,1)="M",LEFT(F17,1)="A")),4.5/24,0) -> 0
A18: 12 | D18: =IF($C$1<>"",IF(MONTH(DATE($C$1,MONTH(C$5),$A18))=MONTH(D$7),DATE($C$1,MONTH(C$5),$A18),""),"") -> 43111 | E18: =IF( OR(DAY(D18)=1,WEEKDAY(D18,2)=1), INT((D18-SUM(MOD(DATE(YEAR(D18-MOD(D18-2,7)+3),1,2),{1E+99;7})*{1;-1})+5)/7), "") | F18: M7 | G18: =IF(ISNA(INDEX(Sources!$D$2:$F$21,MATCH(F18,Sources!$D$2:$D$21,0),MATCH($G$4,Sources!$D$1:$F$1,0))),0,INDEX(Sources!$D$2:$F$21,MATCH(F18,Sources!$D$2:$D$21,0),MATCH($G$4,Sources!$D$1:$F$1,0)))+ IF(ISNA(INDEX(Sources!$H$2:$L$20,MATCH(F18,Sources!$H$2:$H$20,0),MATCH($G$4,Sources!$H$1:$L$1,4))),0,INDEX(Sources!$H$2:$L$20,MATCH(F18,Sources!$H$2:$H$20,0),MATCH($G$4,Sources!$H$1:$L$1,4))) -> 0.23958333 | H18: =IF(ISNA(INDEX(Sources!$D$2:$I$21,MATCH(F18,Sources!$D$2:$D$21,0),MATCH($H$4,Sources!$D$1:$F$1,0))),0,INDEX(Sources!$D$2:$I$21,MATCH(F18,Sources!$D$2:$D$21,0),MATCH($H$4,Sources!$D$1:$F$1,0)))+ IF(ISNA(INDEX(Sources!$H$2:$L$20,MATCH(F18,Sources!$H$2:$H$20,0),MATCH($H$4,Sources!$H$1:$L$1,4))),0,INDEX(Sources!$H$2:$L$20,MATCH(F18,Sources!$H$2:$H$20,0),MATCH($H$4,Sources!$H$1:$L$1,4))) -> 0.54166667 | I18: =H18-G18 -> 0.30208333 | J18: =IF(AND(WEEKDAY(D18,2)=7,LEFT(F18,1)="M")*OR(WEEKDAY(D18,2)=7,LEFT(F18,1)="A"),"4:30",0) -> 0 | V18: =IF(ROW()=7,_xlfn.ISOWEEKNUM(D18),IF(WEEKDAY(D18)=2,_xlfn.ISOWEEKNUM(D18),"")) | W18: =INDEX(Sources!$V$2:$V$40,MATCH(F18,Sources!$U$2:$U$40,0)) -> 0.23958333 | X18: =INDEX(Sources!$W$2:$W$40,MATCH(F18,Sources!$U$2:$U$40,0)) -> 0.54166667 | Y18: =MOD(X18-W18,1) -> 0.30208333 | Z18: =IF(AND(WEEKDAY(D18,2)=7,OR(LEFT(F18,1)="M",LEFT(F18,1)="A")),4.5/24,0) -> 0
A19: 13 | D19: =IF($C$1<>"",IF(MONTH(DATE($C$1,MONTH(C$5),$A19))=MONTH(D$7),DATE($C$1,MONTH(C$5),$A19),""),"") -> 43112 | E19: =IF( OR(DAY(D19)=1,WEEKDAY(D19,2)=1), INT((D19-SUM(MOD(DATE(YEAR(D19-MOD(D19-2,7)+3),1,2),{1E+99;7})*{1;-1})+5)/7), "") | F19: M7 | G19: =IF(ISNA(INDEX(Sources!$D$2:$F$21,MATCH(F19,Sources!$D$2:$D$21,0),MATCH($G$4,Sources!$D$1:$F$1,0))),0,INDEX(Sources!$D$2:$F$21,MATCH(F19,Sources!$D$2:$D$21,0),MATCH($G$4,Sources!$D$1:$F$1,0)))+ IF(ISNA(INDEX(Sources!$H$2:$L$20,MATCH(F19,Sources!$H$2:$H$20,0),MATCH($G$4,Sources!$H$1:$L$1,4))),0,INDEX(Sources!$H$2:$L$20,MATCH(F19,Sources!$H$2:$H$20,0),MATCH($G$4,Sources!$H$1:$L$1,4))) -> 0.23958333 | H19: =IF(ISNA(INDEX(Sources!$D$2:$I$21,MATCH(F19,Sources!$D$2:$D$21,0),MATCH($H$4,Sources!$D$1:$F$1,0))),0,INDEX(Sources!$D$2:$I$21,MATCH(F19,Sources!$D$2:$D$21,0),MATCH($H$4,Sources!$D$1:$F$1,0)))+ IF(ISNA(INDEX(Sources!$H$2:$L$20,MATCH(F19,Sources!$H$2:$H$20,0),MATCH($H$4,Sources!$H$1:$L$1,4))),0,INDEX(Sources!$H$2:$L$20,MATCH(F19,Sources!$H$2:$H$20,0),MATCH($H$4,Sources!$H$1:$L$1,4))) -> 0.54166667 | I19: =H19-G19 -> 0.30208333 | J19: =IF(AND(WEEKDAY(D19,2)=7,LEFT(F19,1)="M")*OR(WEEKDAY(D19,2)=7,LEFT(F19,1)="A"),"4:30",0) -> 0 | V19: =IF(ROW()=7,_xlfn.ISOWEEKNUM(D19),IF(WEEKDAY(D19)=2,_xlfn.ISOWEEKNUM(D19),"")) | W19: =INDEX(Sources!$V$2:$V$40,MATCH(F19,Sources!$U$2:$U$40,0)) -> 0.23958333 | X19: =INDEX(Sources!$W$2:$W$40,MATCH(F19,Sources!$U$2:$U$40,0)) -> 0.54166667 | Y19: =MOD(X19-W19,1) -> 0.30208333 | Z19: =IF(AND(WEEKDAY(D19,2)=7,OR(LEFT(F19,1)="M",LEFT(F19,1)="A")),4.5/24,0) -> 0
A20: 14 | D20: =IF($C$1<>"",IF(MONTH(DATE($C$1,MONTH(C$5),$A20))=MONTH(D$7),DATE($C$1,MONTH(C$5),$A20),""),"") -> 43113 | E20: =IF( OR(DAY(D20)=1,WEEKDAY(D20,2)=1), INT((D20-SUM(MOD(DATE(YEAR(D20-MOD(D20-2,7)+3),1,2),{1E+99;7})*{1;-1})+5)/7), "") | F20: R | G20: =IF(ISNA(INDEX(Sources!$D$2:$F$21,MATCH(F20,Sources!$D$2:$D$21,0),MATCH($G$4,Sources!$D$1:$F$1,0))),0,INDEX(Sources!$D$2:$F$21,MATCH(F20,Sources!$D$2:$D$21,0),MATCH($G$4,Sources!$D$1:$F$1,0)))+ IF(ISNA(INDEX(Sources!$H$2:$L$20,MATCH(F20,Sources!$H$2:$H$20,0),MATCH($G$4,Sources!$H$1:$L$1,4))),0,INDEX(Sources!$H$2:$L$20,MATCH(F20,Sources!$H$2:$H$20,0),MATCH($G$4,Sources!$H$1:$L$1,4))) -> 0 | H20: =IF(ISNA(INDEX(Sources!$D$2:$I$21,MATCH(F20,Sources!$D$2:$D$21,0),MATCH($H$4,Sources!$D$1:$F$1,0))),0,INDEX(Sources!$D$2:$I$21,MATCH(F20,Sources!$D$2:$D$21,0),MATCH($H$4,Sources!$D$1:$F$1,0)))+ IF(ISNA(INDEX(Sources!$H$2:$L$20,MATCH(F20,Sources!$H$2:$H$20,0),MATCH($H$4,Sources!$H$1:$L$1,4))),0,INDEX(Sources!$H$2:$L$20,MATCH(F20,Sources!$H$2:$H$20,0),MATCH($H$4,Sources!$H$1:$L$1,4))) -> 0 | I20: =H20-G20 -> 0 | J20: =IF(AND(WEEKDAY(D20,2)=7,LEFT(F20,1)="M")*OR(WEEKDAY(D20,2)=7,LEFT(F20,1)="A"),"4:30",0) -> 0 | V20: =IF(ROW()=7,_xlfn.ISOWEEKNUM(D20),IF(WEEKDAY(D20)=2,_xlfn.ISOWEEKNUM(D20),"")) | W20: =INDEX(Sources!$V$2:$V$40,MATCH(F20,Sources!$U$2:$U$40,0)) -> 0 | X20: =INDEX(Sources!$W$2:$W$40,MATCH(F20,Sources!$U$2:$U$40,0)) -> 0 | Y20: =MOD(X20-W20,1) -> 0 | Z20: =IF(AND(WEEKDAY(D20,2)=7,OR(LEFT(F20,1)="M",LEFT(F20,1)="A")),4.5/24,0) -> 0
A21: 15 | D21: =IF($C$1<>"",IF(MONTH(DATE($C$1,MONTH(C$5),$A21))=MONTH(D$7),DATE($C$1,MONTH(C$5),$A21),""),"") -> 43114 | E21: =IF( OR(DAY(D21)=1,WEEKDAY(D21,2)=1), INT((D21-SUM(MOD(DATE(YEAR(D21-MOD(D21-2,7)+3),1,2),{1E+99;7})*{1;-1})+5)/7), "") | F21: RH | G21: =IF(ISNA(INDEX(Sources!$D$2:$F$21,MATCH(F21,Sources!$D$2:$D$21,0),MATCH($G$4,Sources!$D$1:$F$1,0))),0,INDEX(Sources!$D$2:$F$21,MATCH(F21,Sources!$D$2:$D$21,0),MATCH($G$4,Sources!$D$1:$F$1,0)))+ IF(ISNA(INDEX(Sources!$H$2:$L$20,MATCH(F21,Sources!$H$2:$H$20,0),MATCH($G$4,Sources!$H$1:$L$1,4))),0,INDEX(Sources!$H$2:$L$20,MATCH(F21,Sources!$H$2:$H$20,0),MATCH($G$4,Sources!$H$1:$L$1,4))) -> 0 | H21: =IF(ISNA(INDEX(Sources!$D$2:$I$21,MATCH(F21,Sources!$D$2:$D$21,0),MATCH($H$4,Sources!$D$1:$F$1,0))),0,INDEX(Sources!$D$2:$I$21,MATCH(F21,Sources!$D$2:$D$21,0),MATCH($H$4,Sources!$D$1:$F$1,0)))+ IF(ISNA(INDEX(Sources!$H$2:$L$20,MATCH(F21,Sources!$H$2:$H$20,0),MATCH($H$4,Sources!$H$1:$L$1,4))),0,INDEX(Sources!$H$2:$L$20,MATCH(F21,Sources!$H$2:$H$20,0),MATCH($H$4,Sources!$H$1:$L$1,4))) -> 0 | I21: =H21-G21 -> 0 | J21: =IF(AND(WEEKDAY(D21,2)=7,LEFT(F21,1)="M")*OR(WEEKDAY(D21,2)=7,LEFT(F21,1)="A"),"4:30",0) -> 0 | V21: =IF(ROW()=7,_xlfn.ISOWEEKNUM(D21),IF(WEEKDAY(D21)=2,_xlfn.ISOWEEKNUM(D21),"")) | W21: =INDEX(Sources!$V$2:$V$40,MATCH(F21,Sources!$U$2:$U$40,0)) -> 0 | X21: =INDEX(Sources!$W$2:$W$40,MATCH(F21,Sources!$U$2:$U$40,0)) -> 0 | Y21: =MOD(X21-W21,1) -> 0 | Z21: =IF(AND(WEEKDAY(D21,2)=7,OR(LEFT(F21,1)="M",LEFT(F21,1)="A")),4.5/24,0) -> 0
A22: 16 | D22: =IF($C$1<>"",IF(MONTH(DATE($C$1,MONTH(C$5),$A22))=MONTH(D$7),DATE($C$1,MONTH(C$5),$A22),""),"") -> 43115 | E22: =IF( OR(DAY(D22)=1,WEEKDAY(D22,2)=1), INT((D22-SUM(MOD(DATE(YEAR(D22-MOD(D22-2,7)+3),1,2),{1E+99;7})*{1;-1})+5)/7), "") | F22: A5 | G22: =IF(ISNA(INDEX(Sources!$D$2:$F$21,MATCH(F22,Sources!$D$2:$D$21,0),MATCH($G$4,Sources!$D$1:$F$1,0))),0,INDEX(Sources!$D$2:$F$21,MATCH(F22,Sources!$D$2:$D$21,0),MATCH($G$4,Sources!$D$1:$F$1,0)))+ IF(ISNA(INDEX(Sources!$H$2:$L$20,MATCH(F22,Sources!$H$2:$H$20,0),MATCH($G$4,Sources!$H$1:$L$1,4))),0,INDEX(Sources!$H$2:$L$20,MATCH(F22,Sources!$H$2:$H$20,0),MATCH($G$4,Sources!$H$1:$L$1,4))) -> 0.53125 | H22: =IF(ISNA(INDEX(Sources!$D$2:$I$21,MATCH(F22,Sources!$D$2:$D$21,0),MATCH($H$4,Sources!$D$1:$F$1,0))),0,INDEX(Sources!$D$2:$I$21,MATCH(F22,Sources!$D$2:$D$21,0),MATCH($H$4,Sources!$D$1:$F$1,0)))+ IF(ISNA(INDEX(Sources!$H$2:$L$20,MATCH(F22,Sources!$H$2:$H$20,0),MATCH($H$4,Sources!$H$1:$L$1,4))),0,INDEX(Sources!$H$2:$L$20,MATCH(F22,Sources!$H$2:$H$20,0),MATCH($H$4,Sources!$H$1:$L$1,4))) -> 0.83333333 | I22: =H22-G22 -> 0.30208333 | J22: =IF(AND(WEEKDAY(D22,2)=7,LEFT(F22,1)="M")*OR(WEEKDAY(D22,2)=7,LEFT(F22,1)="A"),"4:30",0) -> 0 | V22: =IF(ROW()=7,_xlfn.ISOWEEKNUM(D22),IF(WEEKDAY(D22)=2,_xlfn.ISOWEEKNUM(D22),"")) | W22: =INDEX(Sources!$V$2:$V$40,MATCH(F22,Sources!$U$2:$U$40,0)) -> 0.53125 | X22: =INDEX(Sources!$W$2:$W$40,MATCH(F22,Sources!$U$2:$U$40,0)) -> 0.83333333 | Y22: =MOD(X22-W22,1) -> 0.30208333 | Z22: =IF(AND(WEEKDAY(D22,2)=7,OR(LEFT(F22,1)="M",LEFT(F22,1)="A")),4.5/24,0) -> 0.1875
A23: 17 | D23: =IF($C$1<>"",IF(MONTH(DATE($C$1,MONTH(C$5),$A23))=MONTH(D$7),DATE($C$1,MONTH(C$5),$A23),""),"") -> 43116 | E23: =IF( OR(DAY(D23)=1,WEEKDAY(D23,2)=1), INT((D23-SUM(MOD(DATE(YEAR(D23-MOD(D23-2,7)+3),1,2),{1E+99;7})*{1;-1})+5)/7), "") -> 3 | F23: A5 | G23: =IF(ISNA(INDEX(Sources!$D$2:$F$21,MATCH(F23,Sources!$D$2:$D$21,0),MATCH($G$4,Sources!$D$1:$F$1,0))),0,INDEX(Sources!$D$2:$F$21,MATCH(F23,Sources!$D$2:$D$21,0),MATCH($G$4,Sources!$D$1:$F$1,0)))+ IF(ISNA(INDEX(Sources!$H$2:$L$20,MATCH(F23,Sources!$H$2:$H$20,0),MATCH($G$4,Sources!$H$1:$L$1,4))),0,INDEX(Sources!$H$2:$L$20,MATCH(F23,Sources!$H$2:$H$20,0),MATCH($G$4,Sources!$H$1:$L$1,4))) -> 0.53125 | H23: =IF(ISNA(INDEX(Sources!$D$2:$I$21,MATCH(F23,Sources!$D$2:$D$21,0),MATCH($H$4,Sources!$D$1:$F$1,0))),0,INDEX(Sources!$D$2:$I$21,MATCH(F23,Sources!$D$2:$D$21,0),MATCH($H$4,Sources!$D$1:$F$1,0)))+ IF(ISNA(INDEX(Sources!$H$2:$L$20,MATCH(F23,Sources!$H$2:$H$20,0),MATCH($H$4,Sources!$H$1:$L$1,4))),0,INDEX(Sources!$H$2:$L$20,MATCH(F23,Sources!$H$2:$H$20,0),MATCH($H$4,Sources!$H$1:$L$1,4))) -> 0.83333333 | I23: =H23-G23 -> 0.30208333 | J23: =IF(AND(WEEKDAY(D23,2)=7,LEFT(F23,1)="M")*OR(WEEKDAY(D23,2)=7,LEFT(F23,1)="A"),"4:30",0) -> 0 | V23: =IF(ROW()=7,_xlfn.ISOWEEKNUM(D23),IF(WEEKDAY(D23)=2,_xlfn.ISOWEEKNUM(D23),"")) -> 3 | W23: =INDEX(Sources!$V$2:$V$40,MATCH(F23,Sources!$U$2:$U$40,0)) -> 0.53125 | X23: =INDEX(Sources!$W$2:$W$40,MATCH(F23,Sources!$U$2:$U$40,0)) -> 0.83333333 | Y23: =MOD(X23-W23,1) -> 0.30208333 | Z23: =IF(AND(WEEKDAY(D23,2)=7,OR(LEFT(F23,1)="M",LEFT(F23,1)="A")),4.5/24,0) -> 0
A24: 18 | D24: =IF($C$1<>"",IF(MONTH(DATE($C$1,MONTH(C$5),$A24))=MONTH(D$7),DATE($C$1,MONTH(C$5),$A24),""),"") -> 43117 | E24: =IF( OR(DAY(D24)=1,WEEKDAY(D24,2)=1), INT((D24-SUM(MOD(DATE(YEAR(D24-MOD(D24-2,7)+3),1,2),{1E+99;7})*{1;-1})+5)/7), "") | F24: =Calendrier!F24 -> A5 | G24: =IF(ISNA(INDEX(Sources!$D$2:$F$21,MATCH(F24,Sources!$D$2:$D$21,0),MATCH($G$4,Sources!$D$1:$F$1,0))),0,INDEX(Sources!$D$2:$F$21,MATCH(F24,Sources!$D$2:$D$21,0),MATCH($G$4,Sources!$D$1:$F$1,0)))+ IF(ISNA(INDEX(Sources!$H$2:$L$20,MATCH(F24,Sources!$H$2:$H$20,0),MATCH($G$4,Sources!$H$1:$L$1,4))),0,INDEX(Sources!$H$2:$L$20,MATCH(F24,Sources!$H$2:$H$20,0),MATCH($G$4,Sources!$H$1:$L$1,4))) -> 0.53125 | H24: =IF(ISNA(INDEX(Sources!$D$2:$I$21,MATCH(F24,Sources!$D$2:$D$21,0),MATCH($H$4,Sources!$D$1:$F$1,0))),0,INDEX(Sources!$D$2:$I$21,MATCH(F24,Sources!$D$2:$D$21,0),MATCH($H$4,Sources!$D$1:$F$1,0)))+ IF(ISNA(INDEX(Sources!$H$2:$L$20,MATCH(F24,Sources!$H$2:$H$20,0),MATCH($H$4,Sources!$H$1:$L$1,4))),0,INDEX(Sources!$H$2:$L$20,MATCH(F24,Sources!$H$2:$H$20,0),MATCH($H$4,Sources!$H$1:$L$1,4))) -> 0.83333333 | I24: =H24-G24 -> 0.30208333 | J24: =IF(AND(WEEKDAY(D24,2)=7,LEFT(F24,1)="M")*OR(WEEKDAY(D24,2)=7,LEFT(F24,1)="A"),"4:30",0) -> 0 | V24: =IF(ROW()=7,_xlfn.ISOWEEKNUM(D24),IF(WEEKDAY(D24)=2,_xlfn.ISOWEEKNUM(D24),"")) | W24: =INDEX(Sources!$V$2:$V$40,MATCH(F24,Sources!$U$2:$U$40,0)) -> 0.53125 | X24: =INDEX(Sources!$W$2:$W$40,MATCH(F24,Sources!$U$2:$U$40,0)) -> 0.83333333 | Y24: =MOD(X24-W24,1) -> 0.30208333 | Z24: =IF(AND(WEEKDAY(D24,2)=7,OR(LEFT(F24,1)="M",LEFT(F24,1)="A")),4.5/24,0) -> 0
V25: =IF(ROW()=7,_xlfn.ISOWEEKNUM(D25),IF(WEEKDAY(D25)=2,_xlfn.ISOWEEKNUM(D25),""))
J26: =SUM(J9:J25) -> 0 | Y26: =SUM(Y7:Y24) -> 3.9270833 | Z26: =SUM(Z7:Z24) -> 0.5625

Sheet Sources
E1: Début | F1: Fin | G1: Pause | K1: Début | L1: Fin | V1: Début | W1: Fin | X1: Pause
B2: M0 | D2: M0 | E2: 0.23958333 | F2: 0.54166667 | H2: STA | I2: 0.33333333 | J2: 0.5 | K2: 0.54166667 | L2: 0.66666667 | Q2: Convertisseur | U2: M0 | V2: 0.23958333 | W2: 0.54166667
B3: M1 | D3: M1 | E3: 0.23958333 | F3: 0.54166667 | P3: Heures | Q3: 7.2916667 | R3: =R4/24 -> 0.26125 | U3: M1 | V3: 0.23958333 | W3: 0.54166667
B4: M2 | D4: M2 | E4: 0.23958333 | F4: 0.54166667 | H4: J | I4: 0.29166667 | J4: 0.5 | K4: 0.54166667 | L4: 0.66666667 | P4: Centiemes | Q4: =Q3*24 -> 175 | R4: 6.27 | U4: M2 | V4: 0.23958333 | W4: 0.54166667
B5: M3 | D5: M3 | E5: 0.23958333 | F5: 0.54166667 | H5: 1/2J | I5: 0.29166667 | J5: 0.47916667 | U5: M3 | V5: 0.23958333 | W5: 0.54166667
B6: M4 | D6: M4 | E6: 0.23958333 | F6: 0.54166667 | U6: M4 | V6: 0.23958333 | W6: 0.54166667
B7: M5 | D7: M5 | E7: 0.23958333 | F7: 0.54166667 | H7: A0 | K7: 0.53125 | L7: 0.83333333 | U7: M5 | V7: 0.23958333 | W7: 0.54166667
B8: M6 | D8: M6 | E8: 0.23958333 | F8: 0.54166667 | H8: A1 | K8: 0.53125 | L8: 0.83333333 | U8: M6 | V8: 0.23958333 | W8: 0.54166667
B9: M7 | D9: M7 | E9: 0.23958333 | F9: 0.54166667 | H9: A2 | K9: 0.53125 | L9: 0.83333333 | U9: M7 | V9: 0.23958333 | W9: 0.54166667
B10: M8 | D10: M8 | E10: 0.23958333 | F10: 0.54166667 | H10: A3 | K10: 0.53125 | L10: 0.83333333 | U10: M8 | V10: 0.23958333 | W10: 0.54166667
B11: M9 | D11: M9 | E11: 0.23958333 | F11: 0.54166667 | H11: A4 | K11: 0.53125 | L11: 0.83333333 | U11: M9 | V11: 0.23958333 | W11: 0.54166667
B12: M10 | D12: M10 | E12: 0.23958333 | F12: 0.54166667 | H12: A5 | K12: 0.53125 | L12: 0.83333333 | U12: M10 | V12: 0.23958333 | W12: 0.54166667
B13: DM | D13: DM | E13: 0.23958333 | F13: 0.54166667 | H13: A6 | K13: 0.53125 | L13: 0.83333333 | U13: DM | V13: 0.23958333 | W13: 0.54166667
B14: RfM | D14: RfM | E14: 0.23958333 | F14: 0.54166667 | H14: A7 | K14: 0.53125 | L14: 0.83333333 | U14: RfM | V14: 0.23958333 | W14: 0.54166667
H15: A8 | K15: 0.53125 | L15: 0.83333333
B16: D | D16: D | E16: 0.33333333 | F16: 0.63541667 | H16: A9 | K16: 0.53125 | L16: 0.83333333 | U16: D | V16: 0.33333333 | W16: 0.63541667
B17: FC | D17: FC | E17: 0.33333333 | F17: 0.63541667 | H17: A10 | K17: 0.53125 | L17: 0.83333333 | U17: FC | V17: 0.33333333 | W17: 0.63541667
B18: STA | D18: STA | E18: 0.33333333 | F18: 0.5 | G18: 0.041666667 | H18: DA | K18: 0.53125 | L18: 0.83333333 | U18: STA | V18: 0.33333333 | W18: 0.5 | X18: 0.041666667
H19: FS | K19: 0.53125 | L19: 0.83333333
B20: J | D20: J | E20: 0.29166667 | F20: 0.5 | G20: 0.041666667 | H20: RfA | K20: 0.53125 | L20: 0.83333333 | U20: J | V20: 0.29166667 | W20: 0.5 | X20: 0.041666667
B21: 1/2J | D21: 1/2J | E21: 0.29166667 | F21: 0.47916667 | U21: 1/2J | V21: 0.29166667 | W21: 0.47916667
B23: A0 | U23: A0 | V23: 0.53125 | W23: 0.83333333
B24: A1 | U24: A1 | V24: 0.53125 | W24: 0.83333333
B25: A2 | U25: A2 | V25: 0.53125 | W25: 0.83333333
B26: A3 | U26: A3 | V26: 0.53125 | W26: 0.83333333
B27: A4 | U27: A4 | V27: 0.53125 | W27: 0.83333333
B28: A5 | U28: A5 | V28: 0.53125 | W28: 0.83333333
B29: A6 | U29: A6 | V29: 0.53125 | W29: 0.83333333
B30: A7 | U30: A7 | V30: 0.53125 | W30: 0.83333333
B31: A8 | U31: A8 | V31: 0.53125 | W31: 0.83333333
B32: A9 | U32: A9 | V32: 0.53125 | W32: 0.83333333
B33: A10 | U33: A10 | V33: 0.53125 | W33: 0.83333333
B34: DA | U34: DA | V34: 0.53125 | W34: 0.83333333
... B36: RfA | U36: RfA | V36: 0.53125 | W36: 0.83333333
B38: RLT | U38: R
B39: R | U39: RH
B40: RH | U40: RLT
B41: RLT*
B43: RF
B44: CA
B45: M
