Workbook
Name Feries: OFFSET(#REF!,1,,COUNTA(#REF!)-1)
Name Fériés: #REF!

Sheet Calendrier
D2: Choix de l'année : | N2: =IF(D3<>"","Calendrier pour l'année " & D3,"") -> Calendrier pour l'année 2022
D3: 2022
D5: 43101 | I5: 43132 | N5: 43160 | S5: 43191 | X5: 43221 | AC5: 43252 | AH5: 43282 | AM5: 43313 | AR5: 43344 | AW5: 43374 | BB5: 43405 | BG5: 43435
C6: =IF($D$3<>"",PROPER(TEXT(D5,"mmmm")),"") -> Janvier | H6: =IF($D$3<>"",PROPER(TEXT(I5,"mmmm")),"") -> Février | M6: =IF($D$3<>"",PROPER(TEXT(N5,"mmmm")),"") -> Mars | R6: =IF($D$3<>"",PROPER(TEXT(S5,"mmmm")),"") -> Avril | W6: =IF($D$3<>"",PROPER(TEXT(X5,"mmmm")),"") -> Mai | AB6: =IF($D$3<>"",PROPER(TEXT(AC5,"mmmm")),"") -> Juin | AG6: =IF($D$3<>"",PROPER(TEXT(AH5,"mmmm")),"") -> Juillet | AL6: =IF($D$3<>"",PROPER(TEXT(AM5,"mmmm")),"") -> Août | AQ6: =IF($D$3<>"",PROPER(TEXT(AR5,"mmmm")),"") -> Septembre | AV6: =IF($D$3<>"",PROPER(TEXT(AW5,"mmmm")),"") -> Octobre | BA6: =IF($D$3<>"",PROPER(TEXT(BB5,"mmmm")),"") -> Novembre | BF6: =IF($D$3<>"",PROPER(TEXT(BG5,"mmmm")),"") -> Décembre
A7: 1 | D7: =IF($D$3<>"",DATE($D$3,MONTH(D$5),$A7),"") -> 43100 | E7: =INT((D7-(DATE(YEAR(D7-WEEKDAY(D7-1)+4),1,3)-WEEKDAY(DATE(YEAR(D7 -WEEKDAY(D7-1)+4),1,3)))+5)/7) -> 52 | F7: M4 | I7: =IF($D$3<>"",DATE($D$3,MONTH(I$5),$A7),"") -> 43131 | J7: =IF( OR(DAY(I7)=1,WEEKDAY(I7,2)=1), INT((I7-SUM(MOD(DATE(YEAR(I7-MOD(I7-2,7)+3),1,2),{1E+99;7})*{1;-1})+5)/7), "") -> 5 | N7: =IF($D$3<>"",DATE($D$3,MONTH(N$5),$A7),"") -> 43159 | O7: =IF( OR(DAY(N7)=1,WEEKDAY(N7,2)=1), INT((N7-SUM(MOD(DATE(YEAR(N7-MOD(N7-2,7)+3),1,2),{1E+99;7})*{1;-1})+5)/7), "") -> 9 | S7: =IF($D$3<>"",DATE($D$3,MONTH(S$5),$A7),"") -> 43190 | T7: =IF( OR(DAY(S7)=1,WEEKDAY(S7,2)=1), INT((S7-SUM(MOD(DATE(YEAR(S7-MOD(S7-2,7)+3),1,2),{1E+99;7})*{1;-1})+5)/7), "") -> 13 | X7: =IF($D$3<>"",DATE($D$3,MONTH(X$5),$A7),"") -> 43220 | Y7: =IF( OR(DAY(X7)=1,WEEKDAY(X7,2)=1), INT((X7-SUM(MOD(DATE(YEAR(X7-MOD(X7-2,7)+3),1,2),{1E+99;7})*{1;-1})+5)/7), "") -> 18 | AC7: =IF($D$3<>"",DATE($D$3,MONTH(AC$5),$A7),"") -> 43251 | AD7: =IF( OR(DAY(AC7)=1,WEEKDAY(AC7,2)=1), INT((AC7-SUM(MOD(DATE(YEAR(AC7-MOD(AC7-2,7)+3),1,2),{1E+99;7})*{1;-1})+5)/7), "") -> 22 | AH7: =IF($D$3<>"",DATE($D$3,MONTH(AH$5),$A7),"") -> 43281 | AI7: =IF( OR(DAY(AH7)=1,WEEKDAY(AH7,2)=1), INT((AH7-SUM(MOD(DATE(YEAR(AH7-MOD(AH7-2,7)+3),1,2),{1E+99;7})*{1;-1})+5)/7), "") -> 26 | AM7: =IF($D$3<>"",DATE($D$3,MONTH(AM$5),$A7),"") -> 43312 | AN7: =IF( OR(DAY(AM7)=1,WEEKDAY(AM7,2)=1), INT((AM7-SUM(MOD(DATE(YEAR(AM7-MOD(AM7-2,7)+3),1,2),{1E+99;7})*{1;-1})+5)/7), "") -> 31 | AR7: =IF($D$3<>"",DATE($D$3,MONTH(AR$5),$A7),"") -> 43343 | AS7: =IF( OR(DAY(AR7)=1,WEEKDAY(AR7,2)=1), INT((AR7-SUM(MOD(DATE(YEAR(AR7-MOD(AR7-2,7)+3),1,2),{1E+99;7})*{1;-1})+5)/7), "") -> 35 | AW7: =IF($D$3<>"",DATE($D$3,MONTH(AW$5),$A7),"") -> 43373 | AX7: =IF( OR(DAY(AW7)=1,WEEKDAY(AW7,2)=1), INT((AW7-SUM(MOD(DATE(YEAR(AW7-MOD(AW7-2,7)+3),1,2),{1E+99;7})*{1;-1})+5)/7), "") -> 39 | BB7: =IF($D$3<>"",DATE($D$3,MONTH(BB$5),$A7),"") -> 43404 | BC7: =IF( OR(DAY(BB7)=1,WEEKDAY(BB7,2)=1), INT((BB7-SUM(MOD(DATE(YEAR(BB7-MOD(BB7-2,7)+3),1,2),{1E+99;7})*{1;-1})+5)/7), "") -> 44 | BG7: =IF($D$3<>"",DATE($D$3,MONTH(BG$5),$A7),"") -> 43434 | BH7: =IF( OR(DAY(BG7)=1,WEEKDAY(BG7,2)=1), INT((BG7-SUM(MOD(DATE(YEAR(BG7-MOD(BG7-2,7)+3),1,2),{1E+99;7})*{1;-1})+5)/7), "") -> 48
A8: 2 | D8: =IF($D$3<>"",IF(MONTH(DATE($D$3,MONTH(D$5),$A8))=MONTH(D$7),DATE($D$3,MONTH(D$5),$A8),""),"") -> 43101 | E8: =IF( OR(DAY(D8)=1,WEEKDAY(D8,2)=1), INT((D8-SUM(MOD(DATE(YEAR(D8-MOD(D8-2,7)+3),1,2),{1E+99;7})*{1;-1})+5)/7), "") | F8: M4 | I8: =IF($D$3<>"",IF(MONTH(DATE($D$3,MONTH(I$5),$A8))=MONTH(I$7),DATE($D$3,MONTH(I$5),$A8),""),"") -> 43132 | J8: =IF( OR(DAY(I8)=1,WEEKDAY(I8,2)=1), INT((I8-SUM(MOD(DATE(YEAR(I8-MOD(I8-2,7)+3),1,2),{1E+99;7})*{1;-1})+5)/7), "") | N8: =IF($D$3<>"",IF(MONTH(DATE($D$3,MONTH(N$5),$A8))=MONTH(N$7),DATE($D$3,MONTH(N$5),$A8),""),"") -> 43160 | O8: =IF( OR(DAY(N8)=1,WEEKDAY(N8,2)=1), INT((N8-SUM(MOD(DATE(YEAR(N8-MOD(N8-2,7)+3),1,2),{1E+99;7})*{1;-1})+5)/7), "") | S8: =IF($D$3<>"",IF(MONTH(DATE($D$3,MONTH(S$5),$A8))=MONTH(S$7),DATE($D$3,MONTH(S$5),$A8),""),"") -> 43191 | T8: =IF( OR(DAY(S8)=1,WEEKDAY(S8,2)=1), INT((S8-SUM(MOD(DATE(YEAR(S8-MOD(S8-2,7)+3),1,2),{1E+99;7})*{1;-1})+5)/7), "") | X8: =IF($D$3<>"",IF(MONTH(DATE($D$3,MONTH(X$5),$A8))=MONTH(X$7),DATE($D$3,MONTH(X$5),$A8),""),"") -> 43221 | Y8: =IF( OR(DAY(X8)=1,WEEKDAY(X8,2)=1), INT((X8-SUM(MOD(DATE(YEAR(X8-MOD(X8-2,7)+3),1,2),{1E+99;7})*{1;-1})+5)/7), "") -> 18 | AC8: =IF($D$3<>"",IF(MONTH(DATE($D$3,MONTH(AC$5),$A8))=MONTH(AC$7),DATE($D$3,MONTH(AC$5),$A8),""),"") -> 43252 | AD8: =IF( OR(DAY(AC8)=1,WEEKDAY(AC8,2)=1), INT((AC8-SUM(MOD(DATE(YEAR(AC8-MOD(AC8-2,7)+3),1,2),{1E+99;7})*{1;-1})+5)/7), "") | AH8: =IF($D$3<>"",IF(MONTH(DATE($D$3,MONTH(AH$5),$A8))=MONTH(AH$7),DATE($D$3,MONTH(AH$5),$A8),""),"") -> 43282 | AI8: =IF( OR(DAY(AH8)=1,WEEKDAY(AH8,2)=1), INT((AH8-SUM(MOD(DATE(YEAR(AH8-MOD(AH8-2,7)+3),1,2),{1E+99;7})*{1;-1})+5)/7), "") | AM8: =IF($D$3<>"",IF(MONTH(DATE($D$3,MONTH(AM$5),$A8))=MONTH(AM$7),DATE($D$3,MONTH(AM$5),$A8),""),"") -> 43313 | AN8: =IF( OR(DAY(AM8)=1,WEEKDAY(AM8,2)=1), INT((AM8-SUM(MOD(DATE(YEAR(AM8-MOD(AM8-2,7)+3),1,2),{1E+99;7})*{1;-1})+5)/7), "") | AR8: =IF($D$3<>"",IF(MONTH(DATE($D$3,MONTH(AR$5),$A8))=MONTH(AR$7),DATE($D$3,MONTH(AR$5),$A8),""),"") -> 43344 | AS8: =IF( OR(DAY(AR8)=1,WEEKDAY(AR8,2)=1), INT((AR8-SUM(MOD(DATE(YEAR(AR8-MOD(AR8-2,7)+3),1,2),{1E+99;7})*{1;-1})+5)/7), "") | AW8: =IF($D$3<>"",IF(MONTH(DATE($D$3,MONTH(AW$5),$A8))=MONTH(AW$7),DATE($D$3,MONTH(AW$5),$A8),""),"") -> 43374 | AX8: =IF( OR(DAY(AW8)=1,WEEKDAY(AW8,2)=1), INT((AW8-SUM(MOD(DATE(YEAR(AW8-MOD(AW8-2,7)+3),1,2),{1E+99;7})*{1;-1})+5)/7), "") | BB8: =IF($D$3<>"",IF(MONTH(DATE($D$3,MONTH(BB$5),$A8))=MONTH(BB$7),DATE($D$3,MONTH(BB$5),$A8),""),"") -> 43405 | BC8: =IF( OR(DAY(BB8)=1,WEEKDAY(BB8,2)=1), INT((BB8-SUM(MOD(DATE(YEAR(BB8-MOD(BB8-2,7)+3),1,2),{1E+99;7})*{1;-1})+5)/7), "") | BG8: =IF($D$3<>"",IF(MONTH(DATE($D$3,MONTH(BG$5),$A8))=MONTH(BG$7),DATE($D$3,MONTH(BG$5),$A8),""),"") -> 43435 | BH8: =IF( OR(DAY(BG8)=1,WEEKDAY(BG8,2)=1), INT((BG8-SUM(MOD(DATE(YEAR(BG8-MOD(BG8-2,7)+3),1,2),{1E+99;7})*{1;-1})+5)/7), "")
A9: 3 | D9: =IF($D$3<>"",IF(MONTH(DATE($D$3,MONTH(D$5),$A9))=MONTH(D$7),DATE($D$3,MONTH(D$5),$A9),""),"") -> 43102 | E9: =IF( OR(DAY(D9)=1,WEEKDAY(D9,2)=1), INT((D9-SUM(MOD(DATE(YEAR(D9-MOD(D9-2,7)+3),1,2),{1E+99;7})*{1;-1})+5)/7), "") -> 1 | F9: M6 | I9: =IF($D$3<>"",IF(MONTH(DATE($D$3,MONTH(I$5),$A9))=MONTH(I$7),DATE($D$3,MONTH(I$5),$A9),""),"") -> 43133 | J9: =IF( OR(DAY(I9)=1,WEEKDAY(I9,2)=1), INT((I9-SUM(MOD(DATE(YEAR(I9-MOD(I9-2,7)+3),1,2),{1E+99;7})*{1;-1})+5)/7), "") | N9: =IF($D$3<>"",IF(MONTH(DATE($D$3,MONTH(N$5),$A9))=MONTH(N$7),DATE($D$3,MONTH(N$5),$A9),""),"") -> 43161 | O9: =IF( OR(DAY(N9)=1,WEEKDAY(N9,2)=1), INT((N9-SUM(MOD(DATE(YEAR(N9-MOD(N9-2,7)+3),1,2),{1E+99;7})*{1;-1})+5)/7), "") | S9: =IF($D$3<>"",IF(MONTH(DATE($D$3,MONTH(S$5),$A9))=MONTH(S$7),DATE($D$3,MONTH(S$5),$A9),""),"") -> 43192 | T9: =IF( OR(DAY(S9)=1,WEEKDAY(S9,2)=1), INT((S9-SUM(MOD(DATE(YEAR(S9-MOD(S9-2,7)+3),1,2),{1E+99;7})*{1;-1})+5)/7), "") | X9: =IF($D$3<>"",IF(MONTH(DATE($D$3,MONTH(X$5),$A9))=MONTH(X$7),DATE($D$3,MONTH(X$5),$A9),""),"") -> 43222 | Y9: =IF( OR(DAY(X9)=1,WEEKDAY(X9,2)=1), INT((X9-SUM(MOD(DATE(YEAR(X9-MOD(X9-2,7)+3),1,2),{1E+99;7})*{1;-1})+5)/7), "") | AC9: =IF($D$3<>"",IF(MONTH(DATE($D$3,MONTH(AC$5),$A9))=MONTH(AC$7),DATE($D$3,MONTH(AC$5),$A9),""),"") -> 43253 | AD9: =IF( OR(DAY(AC9)=1,WEEKDAY(AC9,2)=1), INT((AC9-SUM(MOD(DATE(YEAR(AC9-MOD(AC9-2,7)+3),1,2),{1E+99;7})*{1;-1})+5)/7), "") | AH9: =IF($D$3<>"",IF(MONTH(DATE($D$3,MONTH(AH$5),$A9))=MONTH(AH$7),DATE($D$3,MONTH(AH$5),$A9),""),"") -> 43283 | AI9: =IF( OR(DAY(AH9)=1,WEEKDAY(AH9,2)=1), INT((AH9-SUM(MOD(DATE(YEAR(AH9-MOD(AH9-2,7)+3),1,2),{1E+99;7})*{1;-1})+5)/7), "") | AM9: =IF($D$3<>"",IF(MONTH(DATE($D$3,MONTH(AM$5),$A9))=MONTH(AM$7),DATE($D$3,MONTH(AM$5),$A9),""),"") -> 43314 | AN9: =IF( OR(DAY(AM9)=1,WEEKDAY(AM9,2)=1), INT((AM9-SUM(MOD(DATE(YEAR(AM9-MOD(AM9-2,7)+3),1,2),{1E+99;7})*{1;-1})+5)/7), "") | AR9: =IF($D$3<>"",IF(MONTH(DATE($D$3,MONTH(AR$5),$A9))=MONTH(AR$7),DATE($D$3,MONTH(AR$5),$A9),""),"") -> 43345 | AS9: =IF( OR(DAY(AR9)=1,WEEKDAY(AR9,2)=1), INT((AR9-SUM(MOD(DATE(YEAR(AR9-MOD(AR9-2,7)+3),1,2),{1E+99;7})*{1;-1})+5)/7), "") | AW9: =IF($D$3<>"",IF(MONTH(DATE($D$3,MONTH(AW$5),$A9))=MONTH(AW$7),DATE($D$3,MONTH(AW$5),$A9),""),"") -> 43375 | AX9: =IF( OR(DAY(AW9)=1,WEEKDAY(AW9,2)=1), INT((AW9-SUM(MOD(DATE(YEAR(AW9-MOD(AW9-2,7)+3),1,2),{1E+99;7})*{1;-1})+5)/7), "") -> 40 | BB9: =IF($D$3<>"",IF(MONTH(DATE($D$3,MONTH(BB$5),$A9))=MONTH(BB$7),DATE($D$3,MONTH(BB$5),$A9),""),"") -> 43406 | BC9: =IF( OR(DAY(BB9)=1,WEEKDAY(BB9,2)=1), INT((BB9-SUM(MOD(DATE(YEAR(BB9-MOD(BB9-2,7)+3),1,2),{1E+99;7})*{1;-1})+5)/7), "") | BG9: =IF($D$3<>"",IF(MONTH(DATE($D$3,MONTH(BG$5),$A9))=MONTH(BG$7),DATE($D$3,MONTH(BG$5),$A9),""),"") -> 43436 | BH9: =IF( OR(DAY(BG9)=1,WEEKDAY(BG9,2)=1), INT((BG9-SUM(MOD(DATE(YEAR(BG9-MOD(BG9-2,7)+3),1,2),{1E+99;7})*{1;-1})+5)/7), "")
A10: 4 | D10: =IF($D$3<>"",IF(MONTH(DATE($D$3,MONTH(D$5),$A10))=MONTH(D$7),DATE($D$3,MONTH(D$5),$A10),""),"") -> 43103 | E10: =IF( OR(DAY(D10)=1,WEEKDAY(D10,2)=1), INT((D10-SUM(MOD(DATE(YEAR(D10-MOD(D10-2,7)+3),1,2),{1E+99;7})*{1;-1})+5)/7), "") | F10: RLT | I10: =IF($D$3<>"",IF(MONTH(DATE($D$3,MONTH(I$5),$A10))=MONTH(I$7),DATE($D$3,MONTH(I$5),$A10),""),"") -> 43134 | J10: =IF( OR(DAY(I10)=1,WEEKDAY(I10,2)=1), INT((I10-SUM(MOD(DATE(YEAR(I10-MOD(I10-2,7)+3),1,2),{1E+99;7})*{1;-1})+5)/7), "") | N10: =IF($D$3<>"",IF(MONTH(DATE($D$3,MONTH(N$5),$A10))=MONTH(N$7),DATE($D$3,MONTH(N$5),$A10),""),"") -> 43162 | O10: =IF( OR(DAY(N10)=1,WEEKDAY(N10,2)=1), INT((N10-SUM(MOD(DATE(YEAR(N10-MOD(N10-2,7)+3),1,2),{1E+99;7})*{1;-1})+5)/7), "") | S10: =IF($D$3<>"",IF(MONTH(DATE($D$3,MONTH(S$5),$A10))=MONTH(S$7),DATE($D$3,MONTH(S$5),$A10),""),"") -> 43193 | T10: =IF( OR(DAY(S10)=1,WEEKDAY(S10,2)=1), INT((S10-SUM(MOD(DATE(YEAR(S10-MOD(S10-2,7)+3),1,2),{1E+99;7})*{1;-1})+5)/7), "") -> 14 | X10: =IF($D$3<>"",IF(MONTH(DATE($D$3,MONTH(X$5),$A10))=MONTH(X$7),DATE($D$3,MONTH(X$5),$A10),""),"") -> 43223 | Y10: =IF( OR(DAY(X10)=1,WEEKDAY(X10,2)=1), INT((X10-SUM(MOD(DATE(YEAR(X10-MOD(X10-2,7)+3),1,2),{1E+99;7})*{1;-1})+5)/7), "") | AC10: =IF($D$3<>"",IF(MONTH(DATE($D$3,MONTH(AC$5),$A10))=MONTH(AC$7),DATE($D$3,MONTH(AC$5),$A10),""),"") -> 43254 | AD10: =IF( OR(DAY(AC10)=1,WEEKDAY(AC10,2)=1), INT((AC10-SUM(MOD(DATE(YEAR(AC10-MOD(AC10-2,7)+3),1,2),{1E+99;7})*{1;-1})+5)/7), "") | AH10: =IF($D$3<>"",IF(MONTH(DATE($D$3,MONTH(AH$5),$A10))=MONTH(AH$7),DATE($D$3,MONTH(AH$5),$A10),""),"") -> 43284 | AI10: =IF( OR(DAY(AH10)=1,WEEKDAY(AH10,2)=1), INT((AH10-SUM(MOD(DATE(YEAR(AH10-MOD(AH10-2,7)+3),1,2),{1E+99;7})*{1;-1})+5)/7), "") -> 27 | AM10: =IF($D$3<>"",IF(MONTH(DATE($D$3,MONTH(AM$5),$A10))=MONTH(AM$7),DATE($D$3,MONTH(AM$5),$A10),""),"") -> 43315 | AN10: =IF( OR(DAY(AM10)=1,WEEKDAY(AM10,2)=1), INT((AM10-SUM(MOD(DATE(YEAR(AM10-MOD(AM10-2,7)+3),1,2),{1E+99;7})*{1;-1})+5)/7), "") | AR10: =IF($D$3<>"",IF(MONTH(DATE($D$3,MONTH(AR$5),$A10))=MONTH(AR$7),DATE($D$3,MONTH(AR$5),$A10),""),"") -> 43346 | AS10: =IF( OR(DAY(AR10)=1,WEEKDAY(AR10,2)=1), INT((AR10-SUM(MOD(DATE(YEAR(AR10-MOD(AR10-2,7)+3),1,2),{1E+99;7})*{1;-1})+5)/7), "") | AW10: =IF($D$3<>"",IF(MONTH(DATE($D$3,MONTH(AW$5),$A10))=MONTH(AW$7),DATE($D$3,MONTH(AW$5),$A10),""),"") -> 43376 | AX10: =IF( OR(DAY(AW10)=1,WEEKDAY(AW10,2)=1), INT((AW10-SUM(MOD(DATE(YEAR(AW10-MOD(AW10-2,7)+3),1,2),{1E+99;7})*{1;-1})+5)/7), "") | BB10: =IF($D$3<>"",IF(MONTH(DATE($D$3,MONTH(BB$5),$A10))=MONTH(BB$7),DATE($D$3,MONTH(BB$5),$A10),""),"") -> 43407 | BC10: =IF( OR(DAY(BB10)=1,WEEKDAY(BB10,2)=1), INT((BB10-SUM(MOD(DATE(YEAR(BB10-MOD(BB10-2,7)+3),1,2),{1E+99;7})*{1;-1})+5)/7), "") | BG10: =IF($D$3<>"",IF(MONTH(DATE($D$3,MONTH(BG$5),$A10))=MONTH(BG$7),DATE($D$3,MONTH(BG$5),$A10),""),"") -> 43437 | BH10: =IF( OR(DAY(BG10)=1,WEEKDAY(BG10,2)=1), INT((BG10-SUM(MOD(DATE(YEAR(BG10-MOD(BG10-2,7)+3),1,2),{1E+99;7})*{1;-1})+5)/7), "")
A11: 5 | D11: =IF($D$3<>"",IF(MONTH(DATE($D$3,MONTH(D$5),$A11))=MONTH(D$7),DATE($D$3,MONTH(D$5),$A11),""),"") -> 43104 | E11: =IF( OR(DAY(D11)=1,WEEKDAY(D11,2)=1), INT((D11-SUM(MOD(DATE(YEAR(D11-MOD(D11-2,7)+3),1,2),{1E+99;7})*{1;-1})+5)/7), "") | F11: A9 | I11: =IF($D$3<>"",IF(MONTH(DATE($D$3,MONTH(I$5),$A11))=MONTH(I$7),DATE($D$3,MONTH(I$5),$A11),""),"") -> 43135 | J11: =IF( OR(DAY(I11)=1,WEEKDAY(I11,2)=1), INT((I11-SUM(MOD(DATE(YEAR(I11-MOD(I11-2,7)+3),1,2),{1E+99;7})*{1;-1})+5)/7), "") | N11: =IF($D$3<>"",IF(MONTH(DATE($D$3,MONTH(N$5),$A11))=MONTH(N$7),DATE($D$3,MONTH(N$5),$A11),""),"") -> 43163 | O11: =IF( OR(DAY(N11)=1,WEEKDAY(N11,2)=1), INT((N11-SUM(MOD(DATE(YEAR(N11-MOD(N11-2,7)+3),1,2),{1E+99;7})*{1;-1})+5)/7), "") | S11: =IF($D$3<>"",IF(MONTH(DATE($D$3,MONTH(S$5),$A11))=MONTH(S$7),DATE($D$3,MONTH(S$5),$A11),""),"") -> 43194 | T11: =IF( OR(DAY(S11)=1,WEEKDAY(S11,2)=1), INT((S11-SUM(MOD(DATE(YEAR(S11-MOD(S11-2,7)+3),1,2),{1E+99;7})*{1;-1})+5)/7), "") | X11: =IF($D$3<>"",IF(MONTH(DATE($D$3,MONTH(X$5),$A11))=MONTH(X$7),DATE($D$3,MONTH(X$5),$A11),""),"") -> 43224 | Y11: =IF( OR(DAY(X11)=1,WEEKDAY(X11,2)=1), INT((X11-SUM(MOD(DATE(YEAR(X11-MOD(X11-2,7)+3),1,2),{1E+99;7})*{1;-1})+5)/7), "") | AC11: =IF($D$3<>"",IF(MONTH(DATE($D$3,MONTH(AC$5),$A11))=MONTH(AC$7),DATE($D$3,MONTH(AC$5),$A11),""),"") -> 43255 | AD11: =IF( OR(DAY(AC11)=1,WEEKDAY(AC11,2)=1), INT((AC11-SUM(MOD(DATE(YEAR(AC11-MOD(AC11-2,7)+3),1,2),{1E+99;7})*{1;-1})+5)/7), "") | AH11: =IF($D$3<>"",IF(MONTH(DATE($D$3,MONTH(AH$5),$A11))=MONTH(AH$7),DATE($D$3,MONTH(AH$5),$A11),""),"") -> 43285 | AI11: =IF( OR(DAY(AH11)=1,WEEKDAY(AH11,2)=1), INT((AH11-SUM(MOD(DATE(YEAR(AH11-MOD(AH11-2,7)+3),1,2),{1E+99;7})*{1;-1})+5)/7), "") | AM11: =IF($D$3<>"",IF(MONTH(DATE($D$3,MONTH(AM$5),$A11))=MONTH(AM$7),DATE($D$3,MONTH(AM$5),$A11),""),"") -> 43316 | AN11: =IF( OR(DAY(AM11)=1,WEEKDAY(AM11,2)=1), INT((AM11-SUM(MOD(DATE(YEAR(AM11-MOD(AM11-2,7)+3),1,2),{1E+99;7})*{1;-1})+5)/7), "") | AR11: =IF($D$3<>"",IF(MONTH(DATE($D$3,MONTH(AR$5),$A11))=MONTH(AR$7),DATE($D$3,MONTH(AR$5),$A11),""),"") -> 43347 | AS11: =IF( OR(DAY(AR11)=1,WEEKDAY(AR11,2)=1), INT((AR11-SUM(MOD(DATE(YEAR(AR11-MOD(AR11-2,7)+3),1,2),{1E+99;7})*{1;-1})+5)/7), "") -> 36 | AW11: =IF($D$3<>"",IF(MONTH(DATE($D$3,MONTH(AW$5),$A11))=MONTH(AW$7),DATE($D$3,MONTH(AW$5),$A11),""),"") -> 43377 | AX11: =IF( OR(DAY(AW11)=1,WEEKDAY(AW11,2)=1), INT((AW11-SUM(MOD(DATE(YEAR(AW11-MOD(AW11-2,7)+3),1,2),{1E+99;7})*{1;-1})+5)/7), "") | BB11: =IF($D$3<>"",IF(MONTH(DATE($D$3,MONTH(BB$5),$A11))=MONTH(BB$7),DATE($D$3,MONTH(BB$5),$A11),""),"") -> 43408 | BC11: =IF( OR(DAY(BB11)=1,WEEKDAY(BB11,2)=1), INT((BB11-SUM(MOD(DATE(YEAR(BB11-MOD(BB11-2,7)+3),1,2),{1E+99;7})*{1;-1})+5)/7), "") | BG11: =IF($D$3<>"",IF(MONTH(DATE($D$3,MONTH(BG$5),$A11))=MONTH(BG$7),DATE($D$3,MONTH(BG$5),$A11),""),"") -> 43438 | BH11: =IF( OR(DAY(BG11)=1,WEEKDAY(BG11,2)=1), INT((BG11-SUM(MOD(DATE(YEAR(BG11-MOD(BG11-2,7)+3),1,2),{1E+99;7})*{1;-1})+5)/7), "") -> 49
A12: 6 | D12: =IF($D$3<>"",IF(MONTH(DATE($D$3,MONTH(D$5),$A12))=MONTH(D$7),DATE($D$3,MONTH(D$5),$A12),""),"") -> 43105 | E12: =IF( OR(DAY(D12)=1,WEEKDAY(D12,2)=1), INT((D12-SUM(MOD(DATE(YEAR(D12-MOD(D12-2,7)+3),1,2),{1E+99;7})*{1;-1})+5)/7), "") | F12: A9 | I12: =IF($D$3<>"",IF(MONTH(DATE($D$3,MONTH(I$5),$A12))=MONTH(I$7),DATE($D$3,MONTH(I$5),$A12),""),"") -> 43136 | J12: =IF( OR(DAY(I12)=1,WEEKDAY(I12,2)=1), INT((I12-SUM(MOD(DATE(YEAR(I12-MOD(I12-2,7)+3),1,2),{1E+99;7})*{1;-1})+5)/7), "") | N12: =IF($D$3<>"",IF(MONTH(DATE($D$3,MONTH(N$5),$A12))=MONTH(N$7),DATE($D$3,MONTH(N$5),$A12),""),"") -> 43164 | O12: =IF( OR(DAY(N12)=1,WEEKDAY(N12,2)=1), INT((N12-SUM(MOD(DATE(YEAR(N12-MOD(N12-2,7)+3),1,2),{1E+99;7})*{1;-1})+5)/7), "") | S12: =IF($D$3<>"",IF(MONTH(DATE($D$3,MONTH(S$5),$A12))=MONTH(S$7),DATE($D$3,MONTH(S$5),$A12),""),"") -> 43195 | T12: =IF( OR(DAY(S12)=1,WEEKDAY(S12,2)=1), INT((S12-SUM(MOD(DATE(YEAR(S12-MOD(S12-2,7)+3),1,2),{1E+99;7})*{1;-1})+5)/7), "") | X12: =IF($D$3<>"",IF(MONTH(DATE($D$3,MONTH(X$5),$A12))=MONTH(X$7),DATE($D$3,MONTH(X$5),$A12),""),"") -> 43225 | Y12: =IF( OR(DAY(X12)=1,WEEKDAY(X12,2)=1), INT((X12-SUM(MOD(DATE(YEAR(X12-MOD(X12-2,7)+3),1,2),{1E+99;7})*{1;-1})+5)/7), "") | AC12: =IF($D$3<>"",IF(MONTH(DATE($D$3,MONTH(AC$5),$A12))=MONTH(AC$7),DATE($D$3,MONTH(AC$5),$A12),""),"") -> 43256 | AD12: =IF( OR(DAY(AC12)=1,WEEKDAY(AC12,2)=1), INT((AC12-SUM(MOD(DATE(YEAR(AC12-MOD(AC12-2,7)+3),1,2),{1E+99;7})*{1;-1})+5)/7), "") -> 23 | AH12: =IF($D$3<>"",IF(MONTH(DATE($D$3,MONTH(AH$5),$A12))=MONTH(AH$7),DATE($D$3,MONTH(AH$5),$A12),""),"") -> 43286 | AI12: =IF( OR(DAY(AH12)=1,WEEKDAY(AH12,2)=1), INT((AH12-SUM(MOD(DATE(YEAR(AH12-MOD(AH12-2,7)+3),1,2),{1E+99;7})*{1;-1})+5)/7), "") | AM12: =IF($D$3<>"",IF(MONTH(DATE($D$3,MONTH(AM$5),$A12))=MONTH(AM$7),DATE($D$3,MONTH(AM$5),$A12),""),"") -> 43317 | AN12: =IF( OR(DAY(AM12)=1,WEEKDAY(AM12,2)=1), INT((AM12-SUM(MOD(DATE(YEAR(AM12-MOD(AM12-2,7)+3),1,2),{1E+99;7})*{1;-1})+5)/7), "") | AR12: =IF($D$3<>"",IF(MONTH(DATE($D$3,MONTH(AR$5),$A12))=MONTH(AR$7),DATE($D$3,MONTH(AR$5),$A12),""),"") -> 43348 | AS12: =IF( OR(DAY(AR12)=1,WEEKDAY(AR12,2)=1), INT((AR12-SUM(MOD(DATE(YEAR(AR12-MOD(AR12-2,7)+3),1,2),{1E+99;7})*{1;-1})+5)/7), "") | AW12: =IF($D$3<>"",IF(MONTH(DATE($D$3,MONTH(AW$5),$A12))=MONTH(AW$7),DATE($D$3,MONTH(AW$5),$A12),""),"") -> 43378 | AX12: =IF( OR(DAY(AW12)=1,WEEKDAY(AW12,2)=1), INT((AW12-SUM(MOD(DATE(YEAR(AW12-MOD(AW12-2,7)+3),1,2),{1E+99;7})*{1;-1})+5)/7), "") | BB12: =IF($D$3<>"",IF(MONTH(DATE($D$3,MONTH(BB$5),$A12))=MONTH(BB$7),DATE($D$3,MONTH(BB$5),$A12),""),"") -> 43409 | BC12: =IF( OR(DAY(BB12)=1,WEEKDAY(BB12,2)=1), INT((BB12-SUM(MOD(DATE(YEAR(BB12-MOD(BB12-2,7)+3),1,2),{1E+99;7})*{1;-1})+5)/7), "") | BG12: =IF($D$3<>"",IF(MONTH(DATE($D$3,MONTH(BG$5),$A12))=MONTH(BG$7),DATE($D$3,MONTH(BG$5),$A12),""),"") -> 43439 | BH12: =IF( OR(DAY(BG12)=1,WEEKDAY(BG12,2)=1), INT((BG12-SUM(MOD(DATE(YEAR(BG12-MOD(BG12-2,7)+3),1,2),{1E+99;7})*{1;-1})+5)/7), "")
A13: 7 | D13: =IF($D$3<>"",IF(MONTH(DATE($D$3,MONTH(D$5),$A13))=MONTH(D$7),DATE($D$3,MONTH(D$5),$A13),""),"") -> 43106 | E13: =IF( OR(DAY(D13)=1,WEEKDAY(D13,2)=1), INT((D13-SUM(MOD(DATE(YEAR(D13-MOD(D13-2,7)+3),1,2),{1E+99;7})*{1;-1})+5)/7), "") | F13: R | I13: =IF($D$3<>"",IF(MONTH(DATE($D$3,MONTH(I$5),$A13))=MONTH(I$7),DATE($D$3,MONTH(I$5),$A13),""),"") -> 43137 | J13: =IF( OR(DAY(I13)=1,WEEKDAY(I13,2)=1), INT((I13-SUM(MOD(DATE(YEAR(I13-MOD(I13-2,7)+3),1,2),{1E+99;7})*{1;-1})+5)/7), "") -> 6 | N13: =IF($D$3<>"",IF(MONTH(DATE($D$3,MONTH(N$5),$A13))=MONTH(N$7),DATE($D$3,MONTH(N$5),$A13),""),"") -> 43165 | O13: =IF( OR(DAY(N13)=1,WEEKDAY(N13,2)=1), INT((N13-SUM(MOD(DATE(YEAR(N13-MOD(N13-2,7)+3),1,2),{1E+99;7})*{1;-1})+5)/7), "") -> 10 | S13: =IF($D$3<>"",IF(MONTH(DATE($D$3,MONTH(S$5),$A13))=MONTH(S$7),DATE($D$3,MONTH(S$5),$A13),""),"") -> 43196 | T13: =IF( OR(DAY(S13)=1,WEEKDAY(S13,2)=1), INT((S13-SUM(MOD(DATE(YEAR(S13-MOD(S13-2,7)+3),1,2),{1E+99;7})*{1;-1})+5)/7), "") | X13: =IF($D$3<>"",IF(MONTH(DATE($D$3,MONTH(X$5),$A13))=MONTH(X$7),DATE($D$3,MONTH(X$5),$A13),""),"") -> 43226 | Y13: =IF( OR(DAY(X13)=1,WEEKDAY(X13,2)=1), INT((X13-SUM(MOD(DATE(YEAR(X13-MOD(X13-2,7)+3),1,2),{1E+99;7})*{1;-1})+5)/7), "") | AC13: =IF($D$3<>"",IF(MONTH(DATE($D$3,MONTH(AC$5),$A13))=MONTH(AC$7),DATE($D$3,MONTH(AC$5),$A13),""),"") -> 43257 | AD13: =IF( OR(DAY(AC13)=1,WEEKDAY(AC13,2)=1), INT((AC13-SUM(MOD(DATE(YEAR(AC13-MOD(AC13-2,7)+3),1,2),{1E+99;7})*{1;-1})+5)/7), "") | AH13: =IF($D$3<>"",IF(MONTH(DATE($D$3,MONTH(AH$5),$A13))=MONTH(AH$7),DATE($D$3,MONTH(AH$5),$A13),""),"") -> 43287 | AI13: =IF( OR(DAY(AH13)=1,WEEKDAY(AH13,2)=1), INT((AH13-SUM(MOD(DATE(YEAR(AH13-MOD(AH13-2,7)+3),1,2),{1E+99;7})*{1;-1})+5)/7), "") | AM13: =IF($D$3<>"",IF(MONTH(DATE($D$3,MONTH(AM$5),$A13))=MONTH(AM$7),DATE($D$3,MONTH(AM$5),$A13),""),"") -> 43318 | AN13: =IF( OR(DAY(AM13)=1,WEEKDAY(AM13,2)=1), INT((AM13-SUM(MOD(DATE(YEAR(AM13-MOD(AM13-2,7)+3),1,2),{1E+99;7})*{1;-1})+5)/7), "") | AR13: =IF($D$3<>"",IF(MONTH(DATE($D$3,MONTH(AR$5),$A13))=MONTH(AR$7),DATE($D$3,MONTH(AR$5),$A13),""),"") -> 43349 | AS13: =IF( OR(DAY(AR13)=1,WEEKDAY(AR13,2)=1), INT((AR13-SUM(MOD(DATE(YEAR(AR13-MOD(AR13-2,7)+3),1,2),{1E+99;7})*{1;-1})+5)/7), "") | AW13: =IF($D$3<>"",IF(MONTH(DATE($D$3,MONTH(AW$5),$A13))=MONTH(AW$7),DATE($D$3,MONTH(AW$5),$A13),""),"") -> 43379 | AX13: =IF( OR(DAY(AW13)=1,WEEKDAY(AW13,2)=1), INT((AW13-SUM(MOD(DATE(YEAR(AW13-MOD(AW13-2,7)+3),1,2),{1E+99;7})*{1;-1})+5)/7), "") | BB13: =IF($D$3<>"",IF(MONTH(DATE($D$3,MONTH(BB$5),$A13))=MONTH(BB$7),DATE($D$3,MONTH(BB$5),$A13),""),"") -> 43410 | BC13: =IF( OR(DAY(BB13)=1,WEEKDAY(BB13,2)=1), INT((BB13-SUM(MOD(DATE(YEAR(BB13-MOD(BB13-2,7)+3),1,2),{1E+99;7})*{1;-1})+5)/7), "") -> 45 | BG13: =IF($D$3<>"",IF(MONTH(DATE($D$3,MONTH(BG$5),$A13))=MONTH(BG$7),DATE($D$3,MONTH(BG$5),$A13),""),"") -> 43440 | BH13: =IF( OR(DAY(BG13)=1,WEEKDAY(BG13,2)=1), INT((BG13-SUM(MOD(DATE(YEAR(BG13-MOD(BG13-2,7)+3),1,2),{1E+99;7})*{1;-1})+5)/7), "")
A14: 8 | D14: =IF($D$3<>"",IF(MONTH(DATE($D$3,MONTH(D$5),$A14))=MONTH(D$7),DATE($D$3,MONTH(D$5),$A14),""),"") -> 43107 | E14: =IF( OR(DAY(D14)=1,WEEKDAY(D14,2)=1), INT((D14-SUM(MOD(DATE(YEAR(D14-MOD(D14-2,7)+3),1,2),{1E+99;7})*{1;-1})+5)/7), "") | F14: RH | I14: =IF($D$3<>"",IF(MONTH(DATE($D$3,MONTH(I$5),$A14))=MONTH(I$7),DATE($D$3,MONTH(I$5),$A14),""),"") -> 43138 | J14: =IF( OR(DAY(I14)=1,WEEKDAY(I14,2)=1), INT((I14-SUM(MOD(DATE(YEAR(I14-MOD(I14-2,7)+3),1,2),{1E+99;7})*{1;-1})+5)/7), "") | N14: =IF($D$3<>"",IF(MONTH(DATE($D$3,MONTH(N$5),$A14))=MONTH(N$7),DATE($D$3,MONTH(N$5),$A14),""),"") -> 43166 | O14: =IF( OR(DAY(N14)=1,WEEKDAY(N14,2)=1), INT((N14-SUM(MOD(DATE(YEAR(N14-MOD(N14-2,7)+3),1,2),{1E+99;7})*{1;-1})+5)/7), "") | S14: =IF($D$3<>"",IF(MONTH(DATE($D$3,MONTH(S$5),$A14))=MONTH(S$7),DATE($D$3,MONTH(S$5),$A14),""),"") -> 43197 | T14: =IF( OR(DAY(S14)=1,WEEKDAY(S14,2)=1), INT((S14-SUM(MOD(DATE(YEAR(S14-MOD(S14-2,7)+3),1,2),{1E+99;7})*{1;-1})+5)/7), "") | X14: =IF($D$3<>"",IF(MONTH(DATE($D$3,MONTH(X$5),$A14))=MONTH(X$7),DATE($D$3,MONTH(X$5),$A14),""),"") -> 43227 | Y14: =IF( OR(DAY(X14)=1,WEEKDAY(X14,2)=1), INT((X14-SUM(MOD(DATE(YEAR(X14-MOD(X14-2,7)+3),1,2),{1E+99;7})*{1;-1})+5)/7), "") | AC14: =IF($D$3<>"",IF(MONTH(DATE($D$3,MONTH(AC$5),$A14))=MONTH(AC$7),DATE($D$3,MONTH(AC$5),$A14),""),"") -> 43258 | AD14: =IF( OR(DAY(AC14)=1,WEEKDAY(AC14,2)=1), INT((AC14-SUM(MOD(DATE(YEAR(AC14-MOD(AC14-2,7)+3),1,2),{1E+99;7})*{1;-1})+5)/7), "") | AH14: =IF($D$3<>"",IF(MONTH(DATE($D$3,MONTH(AH$5),$A14))=MONTH(AH$7),DATE($D$3,MONTH(AH$5),$A14),""),"") -> 43288 | AI14: =IF( OR(DAY(AH14)=1,WEEKDAY(AH14,2)=1), INT((AH14-SUM(MOD(DATE(YEAR(AH14-MOD(AH14-2,7)+3),1,2),{1E+99;7})*{1;-1})+5)/7), "") | AM14: =IF($D$3<>"",IF(MONTH(DATE($D$3,MONTH(AM$5),$A14))=MONTH(AM$7),DATE($D$3,MONTH(AM$5),$A14),""),"") -> 43319 | AN14: =IF( OR(DAY(AM14)=1,WEEKDAY(AM14,2)=1), INT((AM14-SUM(MOD(DATE(YEAR(AM14-MOD(AM14-2,7)+3),1,2),{1E+99;7})*{1;-1})+5)/7), "") -> 32 | AR14: =IF($D$3<>"",IF(MONTH(DATE($D$3,MONTH(AR$5),$A14))=MONTH(AR$7),DATE($D$3,MONTH(AR$5),$A14),""),"") -> 43350 | AS14: =IF( OR(DAY(AR14)=1,WEEKDAY(AR14,2)=1), INT((AR14-SUM(MOD(DATE(YEAR(AR14-MOD(AR14-2,7)+3),1,2),{1E+99;7})*{1;-1})+5)/7), "") | AW14: =IF($D$3<>"",IF(MONTH(DATE($D$3,MONTH(AW$5),$A14))=MONTH(AW$7),DATE($D$3,MONTH(AW$5),$A14),""),"") -> 43380 | AX14: =IF( OR(DAY(AW14)=1,WEEKDAY(AW14,2)=1), INT((AW14-SUM(MOD(DATE(YEAR(AW14-MOD(AW14-2,7)+3),1,2),{1E+99;7})*{1;-1})+5)/7), "") | BB14: =IF($D$3<>"",IF(MONTH(DATE($D$3,MONTH(BB$5),$A14))=MONTH(BB$7),DATE($D$3,MONTH(BB$5),$A14),""),"") -> 43411 | BC14: =IF( OR(DAY(BB14)=1,WEEKDAY(BB14,2)=1), INT((BB14-SUM(MOD(DATE(YEAR(BB14-MOD(BB14-2,7)+3),1,2),{1E+99;7})*{1;-1})+5)/7), "") | BG14: =IF($D$3<>"",IF(MONTH(DATE($D$3,MONTH(BG$5),$A14))=MONTH(BG$7),DATE($D$3,MONTH(BG$5),$A14),""),"") -> 43441 | BH14: =IF( OR(DAY(BG14)=1,WEEKDAY(BG14,2)=1), INT((BG14-SUM(MOD(DATE(YEAR(BG14-MOD(BG14-2,7)+3),1,2),{1E+99;7})*{1;-1})+5)/7), "")
A15: 9 | D15: =IF($D$3<>"",IF(MONTH(DATE($D$3,MONTH(D$5),$A15))=MONTH(D$7),DATE($D$3,MONTH(D$5),$A15),""),"") -> 43108 | E15: =IF( OR(DAY(D15)=1,WEEKDAY(D15,2)=1), INT((D15-SUM(MOD(DATE(YEAR(D15-MOD(D15-2,7)+3),1,2),{1E+99;7})*{1;-1})+5)/7), "") | F15: A2 | I15: =IF($D$3<>"",IF(MONTH(DATE($D$3,MONTH(I$5),$A15))=MONTH(I$7),DATE($D$3,MONTH(I$5),$A15),""),"") -> 43139 | J15: =IF( OR(DAY(I15)=1,WEEKDAY(I15,2)=1), INT((I15-SUM(MOD(DATE(YEAR(I15-MOD(I15-2,7)+3),1,2),{1E+99;7})*{1;-1})+5)/7), "") | N15: =IF($D$3<>"",IF(MONTH(DATE($D$3,MONTH(N$5),$A15))=MONTH(N$7),DATE($D$3,MONTH(N$5),$A15),""),"") -> 43167 | O15: =IF( OR(DAY(N15)=1,WEEKDAY(N15,2)=1), INT((N15-SUM(MOD(DATE(YEAR(N15-MOD(N15-2,7)+3),1,2),{1E+99;7})*{1;-1})+5)/7), "") | S15: =IF($D$3<>"",IF(MONTH(DATE($D$3,MONTH(S$5),$A15))=MONTH(S$7),DATE($D$3,MONTH(S$5),$A15),""),"") -> 43198 | T15: =IF( OR(DAY(S15)=1,WEEKDAY(S15,2)=1), INT((S15-SUM(MOD(DATE(YEAR(S15-MOD(S15-2,7)+3),1,2),{1E+99;7})*{1;-1})+5)/7), "") | X15: =IF($D$3<>"",IF(MONTH(DATE($D$3,MONTH(X$5),$A15))=MONTH(X$7),DATE($D$3,MONTH(X$5),$A15),""),"") -> 43228 | Y15: =IF( OR(DAY(X15)=1,WEEKDAY(X15,2)=1), INT((X15-SUM(MOD(DATE(YEAR(X15-MOD(X15-2,7)+3),1,2),{1E+99;7})*{1;-1})+5)/7), "") -> 19 | AC15: =IF($D$3<>"",IF(MONTH(DATE($D$3,MONTH(AC$5),$A15))=MONTH(AC$7),DATE($D$3,MONTH(AC$5),$A15),""),"") -> 43259 | AD15: =IF( OR(DAY(AC15)=1,WEEKDAY(AC15,2)=1), INT((AC15-SUM(MOD(DATE(YEAR(AC15-MOD(AC15-2,7)+3),1,2),{1E+99;7})*{1;-1})+5)/7), "") | AH15: =IF($D$3<>"",IF(MONTH(DATE($D$3,MONTH(AH$5),$A15))=MONTH(AH$7),DATE($D$3,MONTH(AH$5),$A15),""),"") -> 43289 | AI15: =IF( OR(DAY(AH15)=1,WEEKDAY(AH15,2)=1), INT((AH15-SUM(MOD(DATE(YEAR(AH15-MOD(AH15-2,7)+3),1,2),{1E+99;7})*{1;-1})+5)/7), "") | AM15: =IF($D$3<>"",IF(MONTH(DATE($D$3,MONTH(AM$5),$A15))=MONTH(AM$7),DATE($D$3,MONTH(AM$5),$A15),""),"") -> 43320 | AN15: =IF( OR(DAY(AM15)=1,WEEKDAY(AM15,2)=1), INT((AM15-SUM(MOD(DATE(YEAR(AM15-MOD(AM15-2,7)+3),1,2),{1E+99;7})*{1;-1})+5)/7), "") | AR15: =IF($D$3<>"",IF(MONTH(DATE($D$3,MONTH(AR$5),$A15))=MONTH(AR$7),DATE($D$3,MONTH(AR$5),$A15),""),"") -> 43351 | AS15: =IF( OR(DAY(AR15)=1,WEEKDAY(AR15,2)=1), INT((AR15-SUM(MOD(DATE(YEAR(AR15-MOD(AR15-2,7)+3),1,2),{1E+99;7})*{1;-1})+5)/7), "") | AW15: =IF($D$3<>"",IF(MONTH(DATE($D$3,MONTH(AW$5),$A15))=MONTH(AW$7),DATE($D$3,MONTH(AW$5),$A15),""),"") -> 43381 | AX15: =IF( OR(DAY(AW15)=1,WEEKDAY(AW15,2)=1), INT((AW15-SUM(MOD(DATE(YEAR(AW15-MOD(AW15-2,7)+3),1,2),{1E+99;7})*{1;-1})+5)/7), "") | BB15: =IF($D$3<>"",IF(MONTH(DATE($D$3,MONTH(BB$5),$A15))=MONTH(BB$7),DATE($D$3,MONTH(BB$5),$A15),""),"") -> 43412 | BC15: =IF( OR(DAY(BB15)=1,WEEKDAY(BB15,2)=1), INT((BB15-SUM(MOD(DATE(YEAR(BB15-MOD(BB15-2,7)+3),1,2),{1E+99;7})*{1;-1})+5)/7), "") | BG15: =IF($D$3<>"",IF(MONTH(DATE($D$3,MONTH(BG$5),$A15))=MONTH(BG$7),DATE($D$3,MONTH(BG$5),$A15),""),"") -> 43442 | BH15: =IF( OR(DAY(BG15)=1,WEEKDAY(BG15,2)=1), INT((BG15-SUM(MOD(DATE(YEAR(BG15-MOD(BG15-2,7)+3),1,2),{1E+99;7})*{1;-1})+5)/7), "")
A16: 10 | D16: =IF($D$3<>"",IF(MONTH(DATE($D$3,MONTH(D$5),$A16))=MONTH(D$7),DATE($D$3,MONTH(D$5),$A16),""),"") -> 43109 | E16: =IF( OR(DAY(D16)=1,WEEKDAY(D16,2)=1), INT((D16-SUM(MOD(DATE(YEAR(D16-MOD(D16-2,7)+3),1,2),{1E+99;7})*{1;-1})+5)/7), "") -> 2 | F16: M7 | I16: =IF($D$3<>"",IF(MONTH(DATE($D$3,MONTH(I$5),$A16))=MONTH(I$7),DATE($D$3,MONTH(I$5),$A16),""),"") -> 43140 | J16: =IF( OR(DAY(I16)=1,WEEKDAY(I16,2)=1), INT((I16-SUM(MOD(DATE(YEAR(I16-MOD(I16-2,7)+3),1,2),{1E+99;7})*{1;-1})+5)/7), "") | N16: =IF($D$3<>"",IF(MONTH(DATE($D$3,MONTH(N$5),$A16))=MONTH(N$7),DATE($D$3,MONTH(N$5),$A16),""),"") -> 43168 | O16: =IF( OR(DAY(N16)=1,WEEKDAY(N16,2)=1), INT((N16-SUM(MOD(DATE(YEAR(N16-MOD(N16-2,7)+3),1,2),{1E+99;7})*{1;-1})+5)/7), "") | S16: =IF($D$3<>"",IF(MONTH(DATE($D$3,MONTH(S$5),$A16))=MONTH(S$7),DATE($D$3,MONTH(S$5),$A16),""),"") -> 43199 | T16: =IF( OR(DAY(S16)=1,WEEKDAY(S16,2)=1), INT((S16-SUM(MOD(DATE(YEAR(S16-MOD(S16-2,7)+3),1,2),{1E+99;7})*{1;-1})+5)/7), "") | X16: =IF($D$3<>"",IF(MONTH(DATE($D$3,MONTH(X$5),$A16))=MONTH(X$7),DATE($D$3,MONTH(X$5),$A16),""),"") -> 43229 | Y16: =IF( OR(DAY(X16)=1,WEEKDAY(X16,2)=1), INT((X16-SUM(MOD(DATE(YEAR(X16-MOD(X16-2,7)+3),1,2),{1E+99;7})*{1;-1})+5)/7), "") | AC16: =IF($D$3<>"",IF(MONTH(DATE($D$3,MONTH(AC$5),$A16))=MONTH(AC$7),DATE($D$3,MONTH(AC$5),$A16),""),"") -> 43260 | AD16: =IF( OR(DAY(AC16)=1,WEEKDAY(AC16,2)=1), INT((AC16-SUM(MOD(DATE(YEAR(AC16-MOD(AC16-2,7)+3),1,2),{1E+99;7})*{1;-1})+5)/7), "") | AH16: =IF($D$3<>"",IF(MONTH(DATE($D$3,MONTH(AH$5),$A16))=MONTH(AH$7),DATE($D$3,MONTH(AH$5),$A16),""),"") -> 43290 | AI16: =IF( OR(DAY(AH16)=1,WEEKDAY(AH16,2)=1), INT((AH16-SUM(MOD(DATE(YEAR(AH16-MOD(AH16-2,7)+3),1,2),{1E+99;7})*{1;-1})+5)/7), "") | AM16: =IF($D$3<>"",IF(MONTH(DATE($D$3,MONTH(AM$5),$A16))=MONTH(AM$7),DATE($D$3,MONTH(AM$5),$A16),""),"") -> 43321 | AN16: =IF( OR(DAY(AM16)=1,WEEKDAY(AM16,2)=1), INT((AM16-SUM(MOD(DATE(YEAR(AM16-MOD(AM16-2,7)+3),1,2),{1E+99;7})*{1;-1})+5)/7), "") | AR16: =IF($D$3<>"",IF(MONTH(DATE($D$3,MONTH(AR$5),$A16))=MONTH(AR$7),DATE($D$3,MONTH(AR$5),$A16),""),"") -> 43352 | AS16: =IF( OR(DAY(AR16)=1,WEEKDAY(AR16,2)=1), INT((AR16-SUM(MOD(DATE(YEAR(AR16-MOD(AR16-2,7)+3),1,2),{1E+99;7})*{1;-1})+5)/7), "") | AW16: =IF($D$3<>"",IF(MONTH(DATE($D$3,MONTH(AW$5),$A16))=MONTH(AW$7),DATE($D$3,MONTH(AW$5),$A16),""),"") -> 43382 | AX16: =IF( OR(DAY(AW16)=1,WEEKDAY(AW16,2)=1), INT((AW16-SUM(MOD(DATE(YEAR(AW16-MOD(AW16-2,7)+3),1,2),{1E+99;7})*{1;-1})+5)/7), "") -> 41 | BB16: =IF($D$3<>"",IF(MONTH(DATE($D$3,MONTH(BB$5),$A16))=MONTH(BB$7),DATE($D$3,MONTH(BB$5),$A16),""),"") -> 43413 | BC16: =IF( OR(DAY(BB16)=1,WEEKDAY(BB16,2)=1), INT((BB16-SUM(MOD(DATE(YEAR(BB16-MOD(BB16-2,7)+3),1,2),{1E+99;7})*{1;-1})+5)/7), "") | BG16: =IF($D$3<>"",IF(MONTH(DATE($D$3,MONTH(BG$5),$A16))=MONTH(BG$7),DATE($D$3,MONTH(BG$5),$A16),""),"") -> 43443 | BH16: =IF( OR(DAY(BG16)=1,WEEKDAY(BG16,2)=1), INT((BG16-SUM(MOD(DATE(YEAR(BG16-MOD(BG16-2,7)+3),1,2),{1E+99;7})*{1;-1})+5)/7), "")
A17: 11 | D17: =IF($D$3<>"",IF(MONTH(DATE($D$3,MONTH(D$5),$A17))=MONTH(D$7),DATE($D$3,MONTH(D$5),$A17),""),"") -> 43110 | E17: =IF( OR(DAY(D17)=1,WEEKDAY(D17,2)=1), INT((D17-SUM(MOD(DATE(YEAR(D17-MOD(D17-2,7)+3),1,2),{1E+99;7})*{1;-1})+5)/7), "") | F17: M7 | I17: =IF($D$3<>"",IF(MONTH(DATE($D$3,MONTH(I$5),$A17))=MONTH(I$7),DATE($D$3,MONTH(I$5),$A17),""),"") -> 43141 | J17: =IF( OR(DAY(I17)=1,WEEKDAY(I17,2)=1), INT((I17-SUM(MOD(DATE(YEAR(I17-MOD(I17-2,7)+3),1,2),{1E+99;7})*{1;-1})+5)/7), "") | N17: =IF($D$3<>"",IF(MONTH(DATE($D$3,MONTH(N$5),$A17))=MONTH(N$7),DATE($D$3,MONTH(N$5),$A17),""),"") -> 43169 | O17: =IF( OR(DAY(N17)=1,WEEKDAY(N17,2)=1), INT((N17-SUM(MOD(DATE(YEAR(N17-MOD(N17-2,7)+3),1,2),{1E+99;7})*{1;-1})+5)/7), "") | S17: =IF($D$3<>"",IF(MONTH(DATE($D$3,MONTH(S$5),$A17))=MONTH(S$7),DATE($D$3,MONTH(S$5),$A17),""),"") -> 43200 | T17: =IF( OR(DAY(S17)=1,WEEKDAY(S17,2)=1), INT((S17-SUM(MOD(DATE(YEAR(S17-MOD(S17-2,7)+3),1,2),{1E+99;7})*{1;-1})+5)/7), "") -> 15 | X17: =IF($D$3<>"",IF(MONTH(DATE($D$3,MONTH(X$5),$A17))=MONTH(X$7),DATE($D$3,MONTH(X$5),$A17),""),"") -> 43230 | Y17: =IF( OR(DAY(X17)=1,WEEKDAY(X17,2)=1), INT((X17-SUM(MOD(DATE(YEAR(X17-MOD(X17-2,7)+3),1,2),{1E+99;7})*{1;-1})+5)/7), "") | AC17: =IF($D$3<>"",IF(MONTH(DATE($D$3,MONTH(AC$5),$A17))=MONTH(AC$7),DATE($D$3,MONTH(AC$5),$A17),""),"") -> 43261 | AD17: =IF( OR(DAY(AC17)=1,WEEKDAY(AC17,2)=1), INT((AC17-SUM(MOD(DATE(YEAR(AC17-MOD(AC17-2,7)+3),1,2),{1E+99;7})*{1;-1})+5)/7), "") | AH17: =IF($D$3<>"",IF(MONTH(DATE($D$3,MONTH(AH$5),$A17))=MONTH(AH$7),DATE($D$3,MONTH(AH$5),$A17),""),"") -> 43291 | AI17: =IF( OR(DAY(AH17)=1,WEEKDAY(AH17,2)=1), INT((AH17-SUM(MOD(DATE(YEAR(AH17-MOD(AH17-2,7)+3),1,2),{1E+99;7})*{1;-1})+5)/7), "") -> 28 | AM17: =IF($D$3<>"",IF(MONTH(DATE($D$3,MONTH(AM$5),$A17))=MONTH(AM$7),DATE($D$3,MONTH(AM$5),$A17),""),"") -> 43322 | AN17: =IF( OR(DAY(AM17)=1,WEEKDAY(AM17,2)=1), INT((AM17-SUM(MOD(DATE(YEAR(AM17-MOD(AM17-2,7)+3),1,2),{1E+99;7})*{1;-1})+5)/7), "") | AR17: =IF($D$3<>"",IF(MONTH(DATE($D$3,MONTH(AR$5),$A17))=MONTH(AR$7),DATE($D$3,MONTH(AR$5),$A17),""),"") -> 43353 | AS17: =IF( OR(DAY(AR17)=1,WEEKDAY(AR17,2)=1), INT((AR17-SUM(MOD(DATE(YEAR(AR17-MOD(AR17-2,7)+3),1,2),{1E+99;7})*{1;-1})+5)/7), "") | AW17: =IF($D$3<>"",IF(MONTH(DATE($D$3,MONTH(AW$5),$A17))=MONTH(AW$7),DATE($D$3,MONTH(AW$5),$A17),""),"") -> 43383 | AX17: =IF( OR(DAY(AW17)=1,WEEKDAY(AW17,2)=1), INT((AW17-SUM(MOD(DATE(YEAR(AW17-MOD(AW17-2,7)+3),1,2),{1E+99;7})*{1;-1})+5)/7), "") | BB17: =IF($D$3<>"",IF(MONTH(DATE($D$3,MONTH(BB$5),$A17))=MONTH(BB$7),DATE($D$3,MONTH(BB$5),$A17),""),"") -> 43414 | BC17: =IF( OR(DAY(BB17)=1,WEEKDAY(BB17,2)=1), INT((BB17-SUM(MOD(DATE(YEAR(BB17-MOD(BB17-2,7)+3),1,2),{1E+99;7})*{1;-1})+5)/7), "") | BG17: =IF($D$3<>"",IF(MONTH(DATE($D$3,MONTH(BG$5),$A17))=MONTH(BG$7),DATE($D$3,MONTH(BG$5),$A17),""),"") -> 43444 | BH17: =IF( OR(DAY(BG17)=1,WEEKDAY(BG17,2)=1), INT((BG17-SUM(MOD(DATE(YEAR(BG17-MOD(BG17-2,7)+3),1,2),{1E+99;7})*{1;-1})+5)/7), "")
A18: 12 | D18: =IF($D$3<>"",IF(MONTH(DATE($D$3,MONTH(D$5),$A18))=MONTH(D$7),DATE($D$3,MONTH(D$5),$A18),""),"") -> 43111 | E18: =IF( OR(DAY(D18)=1,WEEKDAY(D18,2)=1), INT((D18-SUM(MOD(DATE(YEAR(D18-MOD(D18-2,7)+3),1,2),{1E+99;7})*{1;-1})+5)/7), "") | F18: M7 | I18: =IF($D$3<>"",IF(MONTH(DATE($D$3,MONTH(I$5),$A18))=MONTH(I$7),DATE($D$3,MONTH(I$5),$A18),""),"") -> 43142 | J18: =IF( OR(DAY(I18)=1,WEEKDAY(I18,2)=1), INT((I18-SUM(MOD(DATE(YEAR(I18-MOD(I18-2,7)+3),1,2),{1E+99;7})*{1;-1})+5)/7), "") | N18: =IF($D$3<>"",IF(MONTH(DATE($D$3,MONTH(N$5),$A18))=MONTH(N$7),DATE($D$3,MONTH(N$5),$A18),""),"") -> 43170 | O18: =IF( OR(DAY(N18)=1,WEEKDAY(N18,2)=1), INT((N18-SUM(MOD(DATE(YEAR(N18-MOD(N18-2,7)+3),1,2),{1E+99;7})*{1;-1})+5)/7), "") | S18: =IF($D$3<>"",IF(MONTH(DATE($D$3,MONTH(S$5),$A18))=MONTH(S$7),DATE($D$3,MONTH(S$5),$A18),""),"") -> 43201 | T18: =IF( OR(DAY(S18)=1,WEEKDAY(S18,2)=1), INT((S18-SUM(MOD(DATE(YEAR(S18-MOD(S18-2,7)+3),1,2),{1E+99;7})*{1;-1})+5)/7), "") | X18: =IF($D$3<>"",IF(MONTH(DATE($D$3,MONTH(X$5),$A18))=MONTH(X$7),DATE($D$3,MONTH(X$5),$A18),""),"") -> 43231 | Y18: =IF( OR(DAY(X18)=1,WEEKDAY(X18,2)=1), INT((X18-SUM(MOD(DATE(YEAR(X18-MOD(X18-2,7)+3),1,2),{1E+99;7})*{1;-1})+5)/7), "") | AC18: =IF($D$3<>"",IF(MONTH(DATE($D$3,MONTH(AC$5),$A18))=MONTH(AC$7),DATE($D$3,MONTH(AC$5),$A18),""),"") -> 43262 | AD18: =IF( OR(DAY(AC18)=1,WEEKDAY(AC18,2)=1), INT((AC18-SUM(MOD(DATE(YEAR(AC18-MOD(AC18-2,7)+3),1,2),{1E+99;7})*{1;-1})+5)/7), "") | AH18: =IF($D$3<>"",IF(MONTH(DATE($D$3,MONTH(AH$5),$A18))=MONTH(AH$7),DATE($D$3,MONTH(AH$5),$A18),""),"") -> 43292 | AI18: =IF( OR(DAY(AH18)=1,WEEKDAY(AH18,2)=1), INT((AH18-SUM(MOD(DATE(YEAR(AH18-MOD(AH18-2,7)+3),1,2),{1E+99;7})*{1;-1})+5)/7), "") | AM18: =IF($D$3<>"",IF(MONTH(DATE($D$3,MONTH(AM$5),$A18))=MONTH(AM$7),DATE($D$3,MONTH(AM$5),$A18),""),"") -> 43323 | AN18: =IF( OR(DAY(AM18)=1,WEEKDAY(AM18,2)=1), INT((AM18-SUM(MOD(DATE(YEAR(AM18-MOD(AM18-2,7)+3),1,2),{1E+99;7})*{1;-1})+5)/7), "") | AR18: =IF($D$3<>"",IF(MONTH(DATE($D$3,MONTH(AR$5),$A18))=MONTH(AR$7),DATE($D$3,MONTH(AR$5),$A18),""),"") -> 43354 | AS18: =IF( OR(DAY(AR18)=1,WEEKDAY(AR18,2)=1), INT((AR18-SUM(MOD(DATE(YEAR(AR18-MOD(AR18-2,7)+3),1,2),{1E+99;7})*{1;-1})+5)/7), "") -> 37 | AW18: =IF($D$3<>"",IF(MONTH(DATE($D$3,MONTH(AW$5),$A18))=MONTH(AW$7),DATE($D$3,MONTH(AW$5),$A18),""),"") -> 43384 | AX18: =IF( OR(DAY(AW18)=1,WEEKDAY(AW18,2)=1), INT((AW18-SUM(MOD(DATE(YEAR(AW18-MOD(AW18-2,7)+3),1,2),{1E+99;7})*{1;-1})+5)/7), "") | BB18: =IF($D$3<>"",IF(MONTH(DATE($D$3,MONTH(BB$5),$A18))=MONTH(BB$7),DATE($D$3,MONTH(BB$5),$A18),""),"") -> 43415 | BC18: =IF( OR(DAY(BB18)=1,WEEKDAY(BB18,2)=1), INT((BB18-SUM(MOD(DATE(YEAR(BB18-MOD(BB18-2,7)+3),1,2),{1E+99;7})*{1;-1})+5)/7), "") | BG18: =IF($D$3<>"",IF(MONTH(DATE($D$3,MONTH(BG$5),$A18))=MONTH(BG$7),DATE($D$3,MONTH(BG$5),$A18),""),"") -> 43445 | BH18: =IF( OR(DAY(BG18)=1,WEEKDAY(BG18,2)=1), INT((BG18-SUM(MOD(DATE(YEAR(BG18-MOD(BG18-2,7)+3),1,2),{1E+99;7})*{1;-1})+5)/7), "") -> 50
A19: 13 | D19: =IF($D$3<>"",IF(MONTH(DATE($D$3,MONTH(D$5),$A19))=MONTH(D$7),DATE($D$3,MONTH(D$5),$A19),""),"") -> 43112 | E19: =IF( OR(DAY(D19)=1,WEEKDAY(D19,2)=1), INT((D19-SUM(MOD(DATE(YEAR(D19-MOD(D19-2,7)+3),1,2),{1E+99;7})*{1;-1})+5)/7), "") | F19: M7 | I19: =IF($D$3<>"",IF(MONTH(DATE($D$3,MONTH(I$5),$A19))=MONTH(I$7),DATE($D$3,MONTH(I$5),$A19),""),"") -> 43143 | J19: =IF( OR(DAY(I19)=1,WEEKDAY(I19,2)=1), INT((I19-SUM(MOD(DATE(YEAR(I19-MOD(I19-2,7)+3),1,2),{1E+99;7})*{1;-1})+5)/7), "") | N19: =IF($D$3<>"",IF(MONTH(DATE($D$3,MONTH(N$5),$A19))=MONTH(N$7),DATE($D$3,MONTH(N$5),$A19),""),"") -> 43171 | O19: =IF( OR(DAY(N19)=1,WEEKDAY(N19,2)=1), INT((N19-SUM(MOD(DATE(YEAR(N19-MOD(N19-2,7)+3),1,2),{1E+99;7})*{1;-1})+5)/7), "") | S19: =IF($D$3<>"",IF(MONTH(DATE($D$3,MONTH(S$5),$A19))=MONTH(S$7),DATE($D$3,MONTH(S$5),$A19),""),"") -> 43202 | T19: =IF( OR(DAY(S19)=1,WEEKDAY(S19,2)=1), INT((S19-SUM(MOD(DATE(YEAR(S19-MOD(S19-2,7)+3),1,2),{1E+99;7})*{1;-1})+5)/7), "") | X19: =IF($D$3<>"",IF(MONTH(DATE($D$3,MONTH(X$5),$A19))=MONTH(X$7),DATE($D$3,MONTH(X$5),$A19),""),"") -> 43232 | Y19: =IF( OR(DAY(X19)=1,WEEKDAY(X19,2)=1), INT((X19-SUM(MOD(DATE(YEAR(X19-MOD(X19-2,7)+3),1,2),{1E+99;7})*{1;-1})+5)/7), "") | AC19: =IF($D$3<>"",IF(MONTH(DATE($D$3,MONTH(AC$5),$A19))=MONTH(AC$7),DATE($D$3,MONTH(AC$5),$A19),""),"") -> 43263 | AD19: =IF( OR(DAY(AC19)=1,WEEKDAY(AC19,2)=1), INT((AC19-SUM(MOD(DATE(YEAR(AC19-MOD(AC19-2,7)+3),1,2),{1E+99;7})*{1;-1})+5)/7), "") -> 24 | AH19: =IF($D$3<>"",IF(MONTH(DATE($D$3,MONTH(AH$5),$A19))=MONTH(AH$7),DATE($D$3,MONTH(AH$5),$A19),""),"") -> 43293 | AI19: =IF( OR(DAY(AH19)=1,WEEKDAY(AH19,2)=1), INT((AH19-SUM(MOD(DATE(YEAR(AH19-MOD(AH19-2,7)+3),1,2),{1E+99;7})*{1;-1})+5)/7), "") | AM19: =IF($D$3<>"",IF(MONTH(DATE($D$3,MONTH(AM$5),$A19))=MONTH(AM$7),DATE($D$3,MONTH(AM$5),$A19),""),"") -> 43324 | AN19: =IF( OR(DAY(AM19)=1,WEEKDAY(AM19,2)=1), INT((AM19-SUM(MOD(DATE(YEAR(AM19-MOD(AM19-2,7)+3),1,2),{1E+99;7})*{1;-1})+5)/7), "") | AR19: =IF($D$3<>"",IF(MONTH(DATE($D$3,MONTH(AR$5),$A19))=MONTH(AR$7),DATE($D$3,MONTH(AR$5),$A19),""),"") -> 43355 | AS19: =IF( OR(DAY(AR19)=1,WEEKDAY(AR19,2)=1), INT((AR19-SUM(MOD(DATE(YEAR(AR19-MOD(AR19-2,7)+3),1,2),{1E+99;7})*{1;-1})+5)/7), "") | AW19: =IF($D$3<>"",IF(MONTH(DATE($D$3,MONTH(AW$5),$A19))=MONTH(AW$7),DATE($D$3,MONTH(AW$5),$A19),""),"") -> 43385 | AX19: =IF( OR(DAY(AW19)=1,WEEKDAY(AW19,2)=1), INT((AW19-SUM(MOD(DATE(YEAR(AW19-MOD(AW19-2,7)+3),1,2),{1E+99;7})*{1;-1})+5)/7), "") | BB19: =IF($D$3<>"",IF(MONTH(DATE($D$3,MONTH(BB$5),$A19))=MONTH(BB$7),DATE($D$3,MONTH(BB$5),$A19),""),"") -> 43416 | BC19: =IF( OR(DAY(BB19)=1,WEEKDAY(BB19,2)=1), INT((BB19-SUM(MOD(DATE(YEAR(BB19-MOD(BB19-2,7)+3),1,2),{1E+99;7})*{1;-1})+5)/7), "") | BG19: =IF($D$3<>"",IF(MONTH(DATE($D$3,MONTH(BG$5),$A19))=MONTH(BG$7),DATE($D$3,MONTH(BG$5),$A19),""),"") -> 43446 | BH19: =IF( OR(DAY(BG19)=1,WEEKDAY(BG19,2)=1), INT((BG19-SUM(MOD(DATE(YEAR(BG19-MOD(BG19-2,7)+3),1,2),{1E+99;7})*{1;-1})+5)/7), "")
... A34: 28 | D34: =IF($D$3<>"",IF(MONTH(DATE($D$3,MONTH(D$5),$A34))=MONTH(D$7),DATE($D$3,MONTH(D$5),$A34),""),"") -> 43127 | E34: =IF( OR(DAY(D34)=1,WEEKDAY(D34,2)=1), INT((D34-SUM(MOD(DATE(YEAR(D34-MOD(D34-2,7)+3),1,2),{1E+99;7})*{1;-1})+5)/7), "") | F34: A1 | I34: =IF($D$3<>"",IF(MONTH(DATE($D$3,MONTH(I$5),$A34))=MONTH(I$7),DATE($D$3,MONTH(I$5),$A34),""),"") -> 43158 | J34: =IF( OR(DAY(I34)=1,WEEKDAY(I34,2)=1), INT((I34-SUM(MOD(DATE(YEAR(I34-MOD(I34-2,7)+3),1,2),{1E+99;7})*{1;-1})+5)/7), "") -> 9 | N34: =IF($D$3<>"",IF(MONTH(DATE($D$3,MONTH(N$5),$A34))=MONTH(N$7),DATE($D$3,MONTH(N$5),$A34),""),"") -> 43186 | O34: =IF( OR(DAY(N34)=1,WEEKDAY(N34,2)=1), INT((N34-SUM(MOD(DATE(YEAR(N34-MOD(N34-2,7)+3),1,2),{1E+99;7})*{1;-1})+5)/7), "") -> 13 | S34: =IF($D$3<>"",IF(MONTH(DATE($D$3,MONTH(S$5),$A34))=MONTH(S$7),DATE($D$3,MONTH(S$5),$A34),""),"") -> 43217 | T34: =IF( OR(DAY(S34)=1,WEEKDAY(S34,2)=1), INT((S34-SUM(MOD(DATE(YEAR(S34-MOD(S34-2,7)+3),1,2),{1E+99;7})*{1;-1})+5)/7), "") | X34: =IF($D$3<>"",IF(MONTH(DATE($D$3,MONTH(X$5),$A34))=MONTH(X$7),DATE($D$3,MONTH(X$5),$A34),""),"") -> 43247 | Y34: =IF( OR(DAY(X34)=1,WEEKDAY(X34,2)=1), INT((X34-SUM(MOD(DATE(YEAR(X34-MOD(X34-2,7)+3),1,2),{1E+99;7})*{1;-1})+5)/7), "") | AC34: =IF($D$3<>"",IF(MONTH(DATE($D$3,MONTH(AC$5),$A34))=MONTH(AC$7),DATE($D$3,MONTH(AC$5),$A34),""),"") -> 43278 | AD34: =IF( OR(DAY(AC34)=1,WEEKDAY(AC34,2)=1), INT((AC34-SUM(MOD(DATE(YEAR(AC34-MOD(AC34-2,7)+3),1,2),{1E+99;7})*{1;-1})+5)/7), "") | AH34: =IF($D$3<>"",IF(MONTH(DATE($D$3,MONTH(AH$5),$A34))=MONTH(AH$7),DATE($D$3,MONTH(AH$5),$A34),""),"") -> 43308 | AI34: =IF( OR(DAY(AH34)=1,WEEKDAY(AH34,2)=1), INT((AH34-SUM(MOD(DATE(YEAR(AH34-MOD(AH34-2,7)+3),1,2),{1E+99;7})*{1;-1})+5)/7), "") | AM34: =IF($D$3<>"",IF(MONTH(DATE($D$3,MONTH(AM$5),$A34))=MONTH(AM$7),DATE($D$3,MONTH(AM$5),$A34),""),"") -> 43339 | AN34: =IF( OR(DAY(AM34)=1,WEEKDAY(AM34,2)=1), INT((AM34-SUM(MOD(DATE(YEAR(AM34-MOD(AM34-2,7)+3),1,2),{1E+99;7})*{1;-1})+5)/7), "") | AR34: =IF($D$3<>"",IF(MONTH(DATE($D$3,MONTH(AR$5),$A34))=MONTH(AR$7),DATE($D$3,MONTH(AR$5),$A34),""),"") -> 43370 | AS34: =IF( OR(DAY(AR34)=1,WEEKDAY(AR34,2)=1), INT((AR34-SUM(MOD(DATE(YEAR(AR34-MOD(AR34-2,7)+3),1,2),{1E+99;7})*{1;-1})+5)/7), "") | AW34: =IF($D$3<>"",IF(MONTH(DATE($D$3,MONTH(AW$5),$A34))=MONTH(AW$7),DATE($D$3,MONTH(AW$5),$A34),""),"") -> 43400 | AX34: =IF( OR(DAY(AW34)=1,WEEKDAY(AW34,2)=1), INT((AW34-SUM(MOD(DATE(YEAR(AW34-MOD(AW34-2,7)+3),1,2),{1E+99;7})*{1;-1})+5)/7), "") | BB34: =IF($D$3<>"",IF(MONTH(DATE($D$3,MONTH(BB$5),$A34))=MONTH(BB$7),DATE($D$3,MONTH(BB$5),$A34),""),"") -> 43431 | BC34: =IF( OR(DAY(BB34)=1,WEEKDAY(BB34,2)=1), INT((BB34-SUM(MOD(DATE(YEAR(BB34-MOD(BB34-2,7)+3),1,2),{1E+99;7})*{1;-1})+5)/7), "") -> 48 | BG34: =IF($D$3<>"",IF(MONTH(DATE($D$3,MONTH(BG$5),$A34))=MONTH(BG$7),DATE($D$3,MONTH(BG$5),$A34),""),"") -> 43461 | BH34: =IF( OR(DAY(BG34)=1,WEEKDAY(BG34,2)=1), INT((BG34-SUM(MOD(DATE(YEAR(BG34-MOD(BG34-2,7)+3),1,2),{1E+99;7})*{1;-1})+5)/7), "")
A35: 29 | D35: =IF($D$3<>"",IF(MONTH(DATE($D$3,MONTH(D$5),$A35))=MONTH(D$7),DATE($D$3,MONTH(D$5),$A35),""),"") -> 43128 | E35: =IF( OR(DAY(D35)=1,WEEKDAY(D35,2)=1), INT((D35-SUM(MOD(DATE(YEAR(D35-MOD(D35-2,7)+3),1,2),{1E+99;7})*{1;-1})+5)/7), "") | F35: R | I35: =IF($D$3<>"",IF(MONTH(DATE($D$3,MONTH(I$5),$A35))=MONTH(I$7),DATE($D$3,MONTH(I$5),$A35),""),"") | J35: =IFERROR(IF(WEEKDAY(O36,2)=1,INT((O36-SUM(MOD(DATE(YEAR(O36-MOD(O36-2,7)+3),1,2),{1E+99;7})*{1;-1})+5)/7),""),"") | N35: =IF($D$3<>"",IF(MONTH(DATE($D$3,MONTH(N$5),$A35))=MONTH(N$7),DATE($D$3,MONTH(N$5),$A35),""),"") -> 43187 | O35: =IF( OR(DAY(N35)=1,WEEKDAY(N35,2)=1), INT((N35-SUM(MOD(DATE(YEAR(N35-MOD(N35-2,7)+3),1,2),{1E+99;7})*{1;-1})+5)/7), "") | S35: =IF($D$3<>"",IF(MONTH(DATE($D$3,MONTH(S$5),$A35))=MONTH(S$7),DATE($D$3,MONTH(S$5),$A35),""),"") -> 43218 | T35: =IF( OR(DAY(S35)=1,WEEKDAY(S35,2)=1), INT((S35-SUM(MOD(DATE(YEAR(S35-MOD(S35-2,7)+3),1,2),{1E+99;7})*{1;-1})+5)/7), "") | X35: =IF($D$3<>"",IF(MONTH(DATE($D$3,MONTH(X$5),$A35))=MONTH(X$7),DATE($D$3,MONTH(X$5),$A35),""),"") -> 43248 | Y35: =IF( OR(DAY(X35)=1,WEEKDAY(X35,2)=1), INT((X35-SUM(MOD(DATE(YEAR(X35-MOD(X35-2,7)+3),1,2),{1E+99;7})*{1;-1})+5)/7), "") | AC35: =IF($D$3<>"",IF(MONTH(DATE($D$3,MONTH(AC$5),$A35))=MONTH(AC$7),DATE($D$3,MONTH(AC$5),$A35),""),"") -> 43279 | AD35: =IF( OR(DAY(AC35)=1,WEEKDAY(AC35,2)=1), INT((AC35-SUM(MOD(DATE(YEAR(AC35-MOD(AC35-2,7)+3),1,2),{1E+99;7})*{1;-1})+5)/7), "") | AH35: =IF($D$3<>"",IF(MONTH(DATE($D$3,MONTH(AH$5),$A35))=MONTH(AH$7),DATE($D$3,MONTH(AH$5),$A35),""),"") -> 43309 | AI35: =IF( OR(DAY(AH35)=1,WEEKDAY(AH35,2)=1), INT((AH35-SUM(MOD(DATE(YEAR(AH35-MOD(AH35-2,7)+3),1,2),{1E+99;7})*{1;-1})+5)/7), "") | AM35: =IF($D$3<>"",IF(MONTH(DATE($D$3,MONTH(AM$5),$A35))=MONTH(AM$7),DATE($D$3,MONTH(AM$5),$A35),""),"") -> 43340 | AN35: =IF( OR(DAY(AM35)=1,WEEKDAY(AM35,2)=1), INT((AM35-SUM(MOD(DATE(YEAR(AM35-MOD(AM35-2,7)+3),1,2),{1E+99;7})*{1;-1})+5)/7), "") -> 35 | AR35: =IF($D$3<>"",IF(MONTH(DATE($D$3,MONTH(AR$5),$A35))=MONTH(AR$7),DATE($D$3,MONTH(AR$5),$A35),""),"") -> 43371 | AS35: =IF( OR(DAY(AR35)=1,WEEKDAY(AR35,2)=1), INT((AR35-SUM(MOD(DATE(YEAR(AR35-MOD(AR35-2,7)+3),1,2),{1E+99;7})*{1;-1})+5)/7), "") | AW35: =IF($D$3<>"",IF(MONTH(DATE($D$3,MONTH(AW$5),$A35))=MONTH(AW$7),DATE($D$3,MONTH(AW$5),$A35),""),"") -> 43401 | AX35: =IF( OR(DAY(AW35)=1,WEEKDAY(AW35,2)=1), INT((AW35-SUM(MOD(DATE(YEAR(AW35-MOD(AW35-2,7)+3),1,2),{1E+99;7})*{1;-1})+5)/7), "") | BB35: =IF($D$3<>"",IF(MONTH(DATE($D$3,MONTH(BB$5),$A35))=MONTH(BB$7),DATE($D$3,MONTH(BB$5),$A35),""),"") -> 43432 | BC35: =IF( OR(DAY(BB35)=1,WEEKDAY(BB35,2)=1), INT((BB35-SUM(MOD(DATE(YEAR(BB35-MOD(BB35-2,7)+3),1,2),{1E+99;7})*{1;-1})+5)/7), "") | BG35: =IF($D$3<>"",IF(MONTH(DATE($D$3,MONTH(BG$5),$A35))=MONTH(BG$7),DATE($D$3,MONTH(BG$5),$A35),""),"") -> 43462 | BH35: =IF( OR(DAY(BG35)=1,WEEKDAY(BG35,2)=1), INT((BG35-SUM(MOD(DATE(YEAR(BG35-MOD(BG35-2,7)+3),1,2),{1E+99;7})*{1;-1})+5)/7), "")
A36: 30 | D36: =IF($D$3<>"",IF(MONTH(DATE($D$3,MONTH(D$5),$A36))=MONTH(D$7),DATE($D$3,MONTH(D$5),$A36),""),"") -> 43129 | E36: =IF( OR(DAY(D36)=1,WEEKDAY(D36,2)=1), INT((D36-SUM(MOD(DATE(YEAR(D36-MOD(D36-2,7)+3),1,2),{1E+99;7})*{1;-1})+5)/7), "") | F36: RH | I36: =IF($D$3<>"",IF(MONTH(DATE($D$3,MONTH(I$5),$A36))=MONTH(I$7),DATE($D$3,MONTH(I$5),$A36),""),"") | J36: =IFERROR(IF(WEEKDAY(O37,2)=1,INT((O37-SUM(MOD(DATE(YEAR(O37-MOD(O37-2,7)+3),1,2),{1E+99;7})*{1;-1})+5)/7),""),"") | N36: =IF($D$3<>"",IF(MONTH(DATE($D$3,MONTH(N$5),$A36))=MONTH(N$7),DATE($D$3,MONTH(N$5),$A36),""),"") -> 43188 | O36: =IF( OR(DAY(N36)=1,WEEKDAY(N36,2)=1), INT((N36-SUM(MOD(DATE(YEAR(N36-MOD(N36-2,7)+3),1,2),{1E+99;7})*{1;-1})+5)/7), "") | S36: =IF($D$3<>"",IF(MONTH(DATE($D$3,MONTH(S$5),$A36))=MONTH(S$7),DATE($D$3,MONTH(S$5),$A36),""),"") -> 43219 | T36: =IF( OR(DAY(S36)=1,WEEKDAY(S36,2)=1), INT((S36-SUM(MOD(DATE(YEAR(S36-MOD(S36-2,7)+3),1,2),{1E+99;7})*{1;-1})+5)/7), "") | X36: =IF($D$3<>"",IF(MONTH(DATE($D$3,MONTH(X$5),$A36))=MONTH(X$7),DATE($D$3,MONTH(X$5),$A36),""),"") -> 43249 | Y36: =IF( OR(DAY(X36)=1,WEEKDAY(X36,2)=1), INT((X36-SUM(MOD(DATE(YEAR(X36-MOD(X36-2,7)+3),1,2),{1E+99;7})*{1;-1})+5)/7), "") -> 22 | AC36: =IF($D$3<>"",IF(MONTH(DATE($D$3,MONTH(AC$5),$A36))=MONTH(AC$7),DATE($D$3,MONTH(AC$5),$A36),""),"") -> 43280 | AD36: =IF( OR(DAY(AC36)=1,WEEKDAY(AC36,2)=1), INT((AC36-SUM(MOD(DATE(YEAR(AC36-MOD(AC36-2,7)+3),1,2),{1E+99;7})*{1;-1})+5)/7), "") | AH36: =IF($D$3<>"",IF(MONTH(DATE($D$3,MONTH(AH$5),$A36))=MONTH(AH$7),DATE($D$3,MONTH(AH$5),$A36),""),"") -> 43310 | AI36: =IF( OR(DAY(AH36)=1,WEEKDAY(AH36,2)=1), INT((AH36-SUM(MOD(DATE(YEAR(AH36-MOD(AH36-2,7)+3),1,2),{1E+99;7})*{1;-1})+5)/7), "") | AM36: =IF($D$3<>"",IF(MONTH(DATE($D$3,MONTH(AM$5),$A36))=MONTH(AM$7),DATE($D$3,MONTH(AM$5),$A36),""),"") -> 43341 | AN36: =IF( OR(DAY(AM36)=1,WEEKDAY(AM36,2)=1), INT((AM36-SUM(MOD(DATE(YEAR(AM36-MOD(AM36-2,7)+3),1,2),{1E+99;7})*{1;-1})+5)/7), "") | AR36: =IF($D$3<>"",IF(MONTH(DATE($D$3,MONTH(AR$5),$A36))=MONTH(AR$7),DATE($D$3,MONTH(AR$5),$A36),""),"") -> 43372 | AS36: =IF( OR(DAY(AR36)=1,WEEKDAY(AR36,2)=1), INT((AR36-SUM(MOD(DATE(YEAR(AR36-MOD(AR36-2,7)+3),1,2),{1E+99;7})*{1;-1})+5)/7), "") | AW36: =IF($D$3<>"",IF(MONTH(DATE($D$3,MONTH(AW$5),$A36))=MONTH(AW$7),DATE($D$3,MONTH(AW$5),$A36),""),"") -> 43402 | AX36: =IF( OR(DAY(AW36)=1,WEEKDAY(AW36,2)=1), INT((AW36-SUM(MOD(DATE(YEAR(AW36-MOD(AW36-2,7)+3),1,2),{1E+99;7})*{1;-1})+5)/7), "") | BB36: =IF($D$3<>"",IF(MONTH(DATE($D$3,MONTH(BB$5),$A36))=MONTH(BB$7),DATE($D$3,MONTH(BB$5),$A36),""),"") -> 43433 | BC36: =IF( OR(DAY(BB36)=1,WEEKDAY(BB36,2)=1), INT((BB36-SUM(MOD(DATE(YEAR(BB36-MOD(BB36-2,7)+3),1,2),{1E+99;7})*{1;-1})+5)/7), "") | BG36: =IF($D$3<>"",IF(MONTH(DATE($D$3,MONTH(BG$5),$A36))=MONTH(BG$7),DATE($D$3,MONTH(BG$5),$A36),""),"") -> 43463 | BH36: =IF( OR(DAY(BG36)=1,WEEKDAY(BG36,2)=1), INT((BG36-SUM(MOD(DATE(YEAR(BG36-MOD(BG36-2,7)+3),1,2),{1E+99;7})*{1;-1})+5)/7), "")
A37: 31 | D37: =IF($D$3<>"",IF(MONTH(DATE($D$3,MONTH(D$5),$A37))=MONTH(D$7),DATE($D$3,MONTH(D$5),$A37),""),"") -> 43130 | E37: =IF( OR(DAY(D37)=1,WEEKDAY(D37,2)=1), INT((D37-SUM(MOD(DATE(YEAR(D37-MOD(D37-2,7)+3),1,2),{1E+99;7})*{1;-1})+5)/7), "") -> 5 | F37: M2 | I37: =IF($D$3<>"",IF(MONTH(DATE($D$3,MONTH(I$5),$A37))=MONTH(I$7),DATE($D$3,MONTH(I$5),$A37),""),"") | J37: =IFERROR(IF(WEEKDAY(O38,2)=1,INT((O38-SUM(MOD(DATE(YEAR(O38-MOD(O38-2,7)+3),1,2),{1E+99;7})*{1;-1})+5)/7),""),"") | N37: =IF($D$3<>"",IF(MONTH(DATE($D$3,MONTH(N$5),$A37))=MONTH(N$7),DATE($D$3,MONTH(N$5),$A37),""),"") -> 43189 | O37: =IF( OR(DAY(N37)=1,WEEKDAY(N37,2)=1), INT((N37-SUM(MOD(DATE(YEAR(N37-MOD(N37-2,7)+3),1,2),{1E+99;7})*{1;-1})+5)/7), "") | X37: =IF($D$3<>"",IF(MONTH(DATE($D$3,MONTH(X$5),$A37))=MONTH(X$7),DATE($D$3,MONTH(X$5),$A37),""),"") -> 43250 | Y37: =IF( OR(DAY(X37)=1,WEEKDAY(X37,2)=1), INT((X37-SUM(MOD(DATE(YEAR(X37-MOD(X37-2,7)+3),1,2),{1E+99;7})*{1;-1})+5)/7), "") | AC37: =IF($D$3<>"",IF(MONTH(DATE($D$3,MONTH(AC$5),$A37))=MONTH(AC$7),DATE($D$3,MONTH(AC$5),$A37),""),"") | AD37: =IFERROR(IF(WEEKDAY(AI38,2)=1,INT((AI38-SUM(MOD(DATE(YEAR(AI38-MOD(AI38-2,7)+3),1,2),{1E+99;7})*{1;-1})+5)/7),""),"") | AH37: =IF($D$3<>"",IF(MONTH(DATE($D$3,MONTH(AH$5),$A37))=MONTH(AH$7),DATE($D$3,MONTH(AH$5),$A37),""),"") -> 43311 | AI37: =IF( OR(DAY(AH37)=1,WEEKDAY(AH37,2)=1), INT((AH37-SUM(MOD(DATE(YEAR(AH37-MOD(AH37-2,7)+3),1,2),{1E+99;7})*{1;-1})+5)/7), "") | AM37: =IF($D$3<>"",IF(MONTH(DATE($D$3,MONTH(AM$5),$A37))=MONTH(AM$7),DATE($D$3,MONTH(AM$5),$A37),""),"") -> 43342 | AN37: =IF( OR(DAY(AM37)=1,WEEKDAY(AM37,2)=1), INT((AM37-SUM(MOD(DATE(YEAR(AM37-MOD(AM37-2,7)+3),1,2),{1E+99;7})*{1;-1})+5)/7), "") | AR37: =IF($D$3<>"",IF(MONTH(DATE($D$3,MONTH(AR$5),$A37))=MONTH(AR$7),DATE($D$3,MONTH(AR$5),$A37),""),"") | AS37: =IFERROR(IF(WEEKDAY(AX38,2)=1,INT((AX38-SUM(MOD(DATE(YEAR(AX38-MOD(AX38-2,7)+3),1,2),{1E+99;7})*{1;-1})+5)/7),""),"") | AW37: =IF($D$3<>"",IF(MONTH(DATE($D$3,MONTH(AW$5),$A37))=MONTH(AW$7),DATE($D$3,MONTH(AW$5),$A37),""),"") -> 43403 | AX37: =IF( OR(DAY(AW37)=1,WEEKDAY(AW37,2)=1), INT((AW37-SUM(MOD(DATE(YEAR(AW37-MOD(AW37-2,7)+3),1,2),{1E+99;7})*{1;-1})+5)/7), "") -> 44 | BB37: =IF($D$3<>"",IF(MONTH(DATE($D$3,MONTH(BB$5),$A37))=MONTH(BB$7),DATE($D$3,MONTH(BB$5),$A37),""),"") | BC37: =IFERROR(IF(WEEKDAY(BH38,2)=1,INT((BH38-SUM(MOD(DATE(YEAR(BH38-MOD(BH38-2,7)+3),1,2),{1E+99;7})*{1;-1})+5)/7),""),"") | BG37: =IF($D$3<>"",IF(MONTH(DATE($D$3,MONTH(BG$5),$A37))=MONTH(BG$7),DATE($D$3,MONTH(BG$5),$A37),""),"") -> 43464 | BH37: =IF( OR(DAY(BG37)=1,WEEKDAY(BG37,2)=1), INT((BG37-SUM(MOD(DATE(YEAR(BG37-MOD(BG37-2,7)+3),1,2),{1E+99;7})*{1;-1})+5)/7), "")

Sheet AnxJan
C1: 2022
C2: Travail Effectif
C3: Date | F3: Equipes | G3: Heures | H3: Heures | I3: Temps | J3: Dimanche | V3: Nouvelles formules
G4: Début | H4: Fin | I4: Travail | J4: Recup
C5: 43101
C6: =IF($C$1<>"",PROPER(TEXT(C5,"mmmm")),"") -> Janvier
A7: 1 | D7: =IF($C$1<>"",DATE($C$1,MONTH(C$5),$A7),"") -> 43100 | E7: =INT((D7-(DATE(YEAR(D7-WEEKDAY(D7-1)+4),1,3)-WEEKDAY(DATE(YEAR(D7 -WEEKDAY(D7-1)+4),1,3)))+5)/7) -> 52 | F7: M4 | G7: =IF(ISNA(INDEX(Sources!$D$2:$F$21,MATCH(F7,Sources!$D$2:$D$21,0),MATCH($G$4,Sources!$D$1:$F$1,0))),0,INDEX(Sources!$D$2:$F$21,MATCH(F7,Sources!$D$2:$D$21,0),MATCH($G$4,Sources!$D$1:$F$1,0)))+ IF(ISNA(INDEX(Sources!$H$2:$L$20,MATCH(F7,Sources!$H$2:$H$20,0),MATCH($G$4,Sources!$H$1:$L$1,4))),0,INDEX(Sources!$H$2:$L$20,MATCH(F7,Sources!$H$2:$H$20,0),MATCH($G$4,Sources!$H$1:$L$1,4))) -> 0.23958333 | H7: =IF(ISNA(INDEX(Sources!$D$2:$I$21,MATCH(F7,Sources!$D$2:$D$21,0),MATCH($H$4,Sources!$D$1:$F$1,0))),0,INDEX(Sources!$D$2:$I$21,MATCH(F7,Sources!$D$2:$D$21,0),MATCH($H$4,Sources!$D$1:$F$1,0)))+ IF(ISNA(INDEX(Sources!$H$2:$L$20,MATCH(F7,Sources!$H$2:$H$20,0),MATCH($H$4,Sources!$H$1:$L$1,4))),0,INDEX(Sources!$H$2:$L$20,MATCH(F7,Sources!$H$2:$H$20,0),MATCH($H$4,Sources!$H$1:$L$1,4))) -> 0.54166667 | I7: =H7-G7 -> 0.30208333 | J7: =IF(AND(WEEKDAY(D7,2)=7,LEFT(F7,1)="M")*OR(WEEKDAY(D7,2)=7,LEFT(F7,1)="A"),"4:30",0) -> 0 | V7: =IF(ROW()=7,_xlfn.ISOWEEKNUM(D7),IF(WEEKDAY(D7)=2,_xlfn.ISOWEEKNUM(D7),"")) -> 52 | W7: =INDEX(Sources!$V$2:$V$40,MATCH(F7,Sources!$U$2:$U$40,0)) -> 0.23958333 | X7: =INDEX(Sources!$W$2:$W$40,MATCH(F7,Sources!$U$2:$U$40,0)) -> 0.54166667 | Y7: =MOD(X7-W7,1) -> 0.30208333 | Z7: =IF(AND(WEEKDAY(D7,2)=7,OR(LEFT(F7,1)="M",LEFT(F7,1)="A")),4.5/24,0) -> 0
A8: 2 | D8: =IF($C$1<>"",IF(MONTH(DATE($C$1,MONTH(C$5),$A8))=MONTH(D$7),DATE($C$1,MONTH(C$5),$A8),""),"") -> 43101 | E8: =IF( OR(DAY(D8)=1,WEEKDAY(D8,2)=1), INT((D8-SUM(MOD(DATE(YEAR(D8-MOD(D8-2,7)+3),1,2),{1E+99;7})*{1;-1})+5)/7), "") | F8: M4 | G8: =IF(ISNA(INDEX(Sources!$D$2:$F$21,MATCH(F8,Sources!$D$2:$D$21,0),MATCH($G$4,Sources!$D$1:$F$1,0))),0,INDEX(Sources!$D$2:$F$21,MATCH(F8,Sources!$D$2:$D$21,0),MATCH($G$4,Sources!$D$1:$F$1,0)))+ IF(ISNA(INDEX(Sources!$H$2:$L$20,MATCH(F8,Sources!$H$2:$H$20,0),MATCH($G$4,Sources!$H$1:$L$1,4))),0,INDEX(Sources!$H$2:$L$20,MATCH(F8,Sources!$H$2:$H$20,0),MATCH($G$4,Sources!$H$1:$L$1,4))) -> 0.23958333 | H8: =IF(ISNA(INDEX(Sources!$D$2:$I$21,MATCH(F8,Sources!$D$2:$D$21,0),MATCH($H$4,Sources!$D$1:$F$1,0))),0,INDEX(Sources!$D$2:$I$21,MATCH(F8,Sources!$D$2:$D$21,0),MATCH($H$4,Sources!$D$1:$F$1,0)))+ IF(ISNA(INDEX(Sources!$H$2:$L$20,MATCH(F8,Sources!$H$2:$H$20,0),MATCH($H$4,Sources!$H$1:$L$1,4))),0,INDEX(Sources!$H$2:$L$20,MATCH(F8,Sources!$H$2:$H$20,0),MATCH($H$4,Sources!$H$1:$L$1,4))) -> 0.54166667 | I8: =H8-G8 -> 0.30208333 | J8: =IF(AND(WEEKDAY(D8,2)=7,LEFT(F8,1)="M")*OR(WEEKDAY(D8,2)=7,LEFT(F8,1)="A"),"4:30",0) -> 4:30 | V8: =IF(ROW()=7,_xlfn.ISOWEEKNUM(D8),IF(WEEKDAY(D8)=2,_xlfn.ISOWEEKNUM(D8),"")) | W8: =INDEX(Sources!$V$2:$V$40,MATCH(F8,Sources!$U$2:$U$40,0)) -> 0.23958333 | X8: =INDEX(Sources!$W$2:$W$40,MATCH(F8,Sources!$U$2:$U$40,0)) -> 0.54166667 | Y8: =MOD(X8-W8,1) -> 0.30208333 | Z8: =IF(AND(WEEKDAY(D8,2)=7,OR(LEFT(F8,1)="M",LEFT(F8,1)="A")),4.5/24,0) -> 0.1875
A9: 3 | D9: =IF($C$1<>"",IF(MONTH(DATE($C$1,MONTH(C$5),$A9))=MONTH(D$7),DATE($C$1,MONTH(C$5),$A9),""),"") -> 43102 | E9: =IF( OR(DAY(D9)=1,WEEKDAY(D9,2)=1), INT((D9-SUM(MOD(DATE(YEAR(D9-MOD(D9-2,7)+3),1,2),{1E+99;7})*{1;-1})+5)/7), "") -> 1 | F9: M6 | G9: =IF(ISNA(INDEX(Sources!$D$2:$F$21,MATCH(F9,Sources!$D$2:$D$21,0),MATCH($G$4,Sources!$D$1:$F$1,0))),0,INDEX(Sources!$D$2:$F$21,MATCH(F9,Sources!$D$2:$D$21,0),MATCH($G$4,Sources!$D$1:$F$1,0)))+ IF(ISNA(INDEX(Sources!$H$2:$L$20,MATCH(F9,Sources!$H$2:$H$20,0),MATCH($G$4,Sources!$H$1:$L$1,4))),0,INDEX(Sources!$H$2:$L$20,MATCH(F9,Sources!$H$2:$H$20,0),MATCH($G$4,Sources!$H$1:$L$1,4))) -> 0.23958333 | H9: =IF(ISNA(INDEX(Sources!$D$2:$I$21,MATCH(F9,Sources!$D$2:$D$21,0),MATCH($H$4,Sources!$D$1:$F$1,0))),0,INDEX(Sources!$D$2:$I$21,MATCH(F9,Sources!$D$2:$D$21,0),MATCH($H$4,Sources!$D$1:$F$1,0)))+ IF(ISNA(INDEX(Sources!$H$2:$L$20,MATCH(F9,Sources!$H$2:$H$20,0),MATCH($H$4,Sources!$H$1:$L$1,4))),0,INDEX(Sources!$H$2:$L$20,MATCH(F9,Sources!$H$2:$H$20,0),MATCH($H$4,Sources!$H$1:$L$1,4))) -> 0.54166667 | I9: =H9-G9 -> 0.30208333 | J9: =IF(AND(WEEKDAY(D9,2)=7,LEFT(F9,1)="M")*OR(WEEKDAY(D9,2)=7,LEFT(F9,1)="A"),"4:30",0) -> 0 | L9: J'essaye cette formule | V9: =IF(ROW()=7,_xlfn.ISOWEEKNUM(D9),IF(WEEKDAY(D9)=2,_xlfn.ISOWEEKNUM(D9),"")) -> 1 | W9: =INDEX(Sources!$V$2:$V$40,MATCH(F9,Sources!$U$2:$U$40,0)) -> 0.23958333 | X9: =INDEX(Sources!$W$2:$W$40,MATCH(F9,Sources!$U$2:$U$40,0)) -> 0.54166667 | Y9: =MOD(X9-W9,1) -> 0.30208333 | Z9: =IF(AND(WEEKDAY(D9,2)=7,OR(LEFT(F9,1)="M",LEFT(F9,1)="A")),4.5/24,0) -> 0
A10: 4 | D10: =IF($C$1<>"",IF(MONTH(DATE($C$1,MONTH(C$5),$A10))=MONTH(D$7),DATE($C$1,MONTH(C$5),$A10),""),"") -> 43103 | E10: =IF( OR(DAY(D10)=1,WEEKDAY(D10,2)=1), INT((D10-SUM(MOD(DATE(YEAR(D10-MOD(D10-2,7)+3),1,2),{1E+99;7})*{1;-1})+5)/7), "") | F10: RLT | G10: =IF(ISNA(INDEX(Sources!$D$2:$F$21,MATCH(F10,Sources!$D$2:$D$21,0),MATCH($G$4,Sources!$D$1:$F$1,0))),0,INDEX(Sources!$D$2:$F$21,MATCH(F10,Sources!$D$2:$D$21,0),MATCH($G$4,Sources!$D$1:$F$1,0)))+ IF(ISNA(INDEX(Sources!$H$2:$L$20,MATCH(F10,Sources!$H$2:$H$20,0),MATCH($G$4,Sources!$H$1:$L$1,4))),0,INDEX(Sources!$H$2:$L$20,MATCH(F10,Sources!$H$2:$H$20,0),MATCH($G$4,Sources!$H$1:$L$1,4))) -> 0 | H10: =IF(ISNA(INDEX(Sources!$D$2:$I$21,MATCH(F10,Sources!$D$2:$D$21,0),MATCH($H$4,Sources!$D$1:$F$1,0))),0,INDEX(Sources!$D$2:$I$21,MATCH(F10,Sources!$D$2:$D$21,0),MATCH($H$4,Sources!$D$1:$F$1,0)))+ IF(ISNA(INDEX(Sources!$H$2:$L$20,MATCH(F10,Sources!$H$2:$H$20,0),MATCH($H$4,Sources!$H$1:$L$1,4))),0,INDEX(Sources!$H$2:$L$20,MATCH(F10,Sources!$H$2:$H$20,0),MATCH($H$4,Sources!$H$1:$L$1,4))) -> 0 | I10: =H10-G10 -> 0 | J10: =IF(AND(WEEKDAY(D10,2)=7,LEFT(F10,1)="M")*OR(WEEKDAY(D10,2)=7,LEFT(F10,1)="A"),"4:30",0) -> 0 | L10: =SI(ET(JOURSEM(D8;2)=7;GAUCHE(F8;1)="M")*OU(JOURSEM(D8;2)=7;GAUCHE(F8;1)="A");"4:30";0) | V10: =IF(ROW()=7,_xlfn.ISOWEEKNUM(D10),IF(WEEKDAY(D10)=2,_xlfn.ISOWEEKNUM(D10),"")) | W10: =INDEX(Sources!$V$2:$V$40,MATCH(F10,Sources!$U$2:$U$40,0)) -> 0 | X10: =INDEX(Sources!$W$2:$W$40,MATCH(F10,Sources!$U$2:$U$40,0)) -> 0 | Y10: =MOD(X10-W10,1) -> 0 | Z10: =IF(AND(WEEKDAY(D10,2)=7,OR(LEFT(F10,1)="M",LEFT(F10,1)="A")),4.5/24,0) -> 0
A11: 5 | D11: =IF($C$1<>"",IF(MONTH(DATE($C$1,MONTH(C$5),$A11))=MONTH(D$7),DATE($C$1,MONTH(C$5),$A11),""),"") -> 43104 | E11: =IF( OR(DAY(D11)=1,WEEKDAY(D11,2)=1), INT((D11-SUM(MOD(DATE(YEAR(D11-MOD(D11-2,7)+3),1,2),{1E+99;7})*{1;-1})+5)/7), "") | F11: A9 | G11: =IF(ISNA(INDEX(Sources!$D$2:$F$21,MATCH(F11,Sources!$D$2:$D$21,0),MATCH($G$4,Sources!$D$1:$F$1,0))),0,INDEX(Sources!$D$2:$F$21,MATCH(F11,Sources!$D$2:$D$21,0),MATCH($G$4,Sources!$D$1:$F$1,0)))+ IF(ISNA(INDEX(Sources!$H$2:$L$20,MATCH(F11,Sources!$H$2:$H$20,0),MATCH($G$4,Sources!$H$1:$L$1,4))),0,INDEX(Sources!$H$2:$L$20,MATCH(F11,Sources!$H$2:$H$20,0),MATCH($G$4,Sources!$H$1:$L$1,4))) -> 0.53125 | H11: =IF(ISNA(INDEX(Sources!$D$2:$I$21,MATCH(F11,Sources!$D$2:$D$21,0),MATCH($H$4,Sources!$D$1:$F$1,0))),0,INDEX(Sources!$D$2:$I$21,MATCH(F11,Sources!$D$2:$D$21,0),MATCH($H$4,Sources!$D$1:$F$1,0)))+ IF(ISNA(INDEX(Sources!$H$2:$L$20,MATCH(F11,Sources!$H$2:$H$20,0),MATCH($H$4,Sources!$H$1:$L$1,4))),0,INDEX(Sources!$H$2:$L$20,MATCH(F11,Sources!$H$2:$H$20,0),MATCH($H$4,Sources!$H$1:$L$1,4))) -> 0.83333333 | I11: =H11-G11 -> 0.30208333 | J11: =IF(AND(WEEKDAY(D11,2)=7,LEFT(F11,1)="M")*OR(WEEKDAY(D11,2)=7,LEFT(F11,1)="A"),"4:30",0) -> 0 | L11: elle fonctione en J8 car F8 est un matin | V11: =IF(ROW()=7,_xlfn.ISOWEEKNUM(D11),IF(WEEKDAY(D11)=2,_xlfn.ISOWEEKNUM(D11),"")) | W11: =INDEX(Sources!$V$2:$V$40,MATCH(F11,Sources!$U$2:$U$40,0)) -> 0.53125 | X11: =INDEX(Sources!$W$2:$W$40,MATCH(F11,Sources!$U$2:$U$40,0)) -> 0.83333333 | Y11: =MOD(X11-W11,1) -> 0.30208333 | Z11: =IF(AND(WEEKDAY(D11,2)=7,OR(LEFT(F11,1)="M",LEFT(F11,1)="A")),4.5/24,0) -> 0
A12: 6 | D12: =IF($C$1<>"",IF(MONTH(DATE($C$1,MONTH(C$5),$A12))=MONTH(D$7),DATE($C$1,MONTH(C$5),$A12),""),"") -> 43105 | E12: =IF( OR(DAY(D12)=1,WEEKDAY(D12,2)=1), INT((D12-SUM(MOD(DATE(YEAR(D12-MOD(D12-2,7)+3),1,2),{1E+99;7})*{1;-1})+5)/7), "") | F12: A9 | G12: =IF(ISNA(INDEX(Sources!$D$2:$F$21,MATCH(F12,Sources!$D$2:$D$21,0),MATCH($G$4,Sources!$D$1:$F$1,0))),0,INDEX(Sources!$D$2:$F$21,MATCH(F12,Sources!$D$2:$D$21,0),MATCH($G$4,Sources!$D$1:$F$1,0)))+ IF(ISNA(INDEX(Sources!$H$2:$L$20,MATCH(F12,Sources!$H$2:$H$20,0),MATCH($G$4,Sources!$H$1:$L$1,4))),0,INDEX(Sources!$H$2:$L$20,MATCH(F12,Sources!$H$2:$H$20,0),MATCH($G$4,Sources!$H$1:$L$1,4))) -> 0.53125 | H12: =IF(ISNA(INDEX(Sources!$D$2:$I$21,MATCH(F12,Sources!$D$2:$D$21,0),MATCH($H$4,Sources!$D$1:$F$1,0))),0,INDEX(Sources!$D$2:$I$21,MATCH(F12,Sources!$D$2:$D$21,0),MATCH($H$4,Sources!$D$1:$F$1,0)))+ IF(ISNA(INDEX(Sources!$H$2:$L$20,MATCH(F12,Sources!$H$2:$H$20,0),MATCH($H$4,Sources!$H$1:$L$1,4))),0,INDEX(Sources!$H$2:$L$20,MATCH(F12,Sources!$H$2:$H$20,0),MATCH($H$4,Sources!$H$1:$L$1,4))) -> 0.83333333 | I12: =H12-G12 -> 0.30208333 | J12: =IF(AND(WEEKDAY(D12,2)=7,LEFT(F12,1)="M")*OR(WEEKDAY(D12,2)=7,LEFT(F12,1)="A"),"4:30",0) -> 0 | V12: =IF(ROW()=7,_xlfn.ISOWEEKNUM(D12),IF(WEEKDAY(D12)=2,_xlfn.ISOWEEKNUM(D12),"")) | W12: =INDEX(Sources!$V$2:$V$40,MATCH(F12,Sources!$U$2:$U$40,0)) -> 0.53125 | X12: =INDEX(Sources!$W$2:$W$40,MATCH(F12,Sources!$U$2:$U$40,0)) -> 0.83333333 | Y12: =MOD(X12-W12,1) -> 0.30208333 | Z12: =IF(AND(WEEKDAY(D12,2)=7,OR(LEFT(F12,1)="M",LEFT(F12,1)="A")),4.5/24,0) -> 0
