Workbook

Sheet Planning
H1: =ADDRESS(7,109) -> $DE$7 | I1: Semaine 13 | W1: Semaine 14 | AK1: Semaine 15 | AY1: Semaine 16 | BM1: Semaine 17
I2: Matin | J2: Après-midi | K2: Matin | L2: Après-midi | M2: Matin | N2: Après-midi | O2: Matin | P2: Après-midi | Q2: Matin | R2: Après-midi | S2: Sa | T2: Sa | U2: Di | V2: Di | W2: Matin | X2: Après-midi | Y2: Matin | Z2: Après-midi | AA2: Matin | AB2: Après-midi | AC2: Matin | AD2: Après-midi | AE2: Matin | AF2: Après-midi | AG2: Sa | AH2: Sa | AI2: Di | AJ2: Di | AK2: Matin | AL2: Après-midi | AM2: Matin | AN2: Après-midi | AO2: Matin | AP2: Après-midi | AQ2: Matin | AR2: Après-midi | AS2: Matin | AT2: Après-midi | AU2: Sa | AV2: Sa | AW2: Di | AX2: Di | AY2: Matin | AZ2: Après-midi | BA2: Matin | BB2: Après-midi | BC2: Matin | BD2: Après-midi | BE2: Matin | BF2: Après-midi | BG2: Matin | BH2: Après-midi | BI2: Sa | BJ2: Sa | BK2: Di | BL2: Di | BM2: Matin | BN2: Après-midi | BO2: Matin | BP2: Après-midi | BQ2: Matin | BR2: Après-midi | BS2: Matin | BT2: Après-midi | BU2: Matin | BV2: Après-midi | BW2: Sa | BX2: Sa | BY2: Di | BZ2: Di
A3: FA | B3: Client | C3: PN | D3: Pièce Moteur | E3: TAT Nom. | F3: Début | G3: Fin | H3: Item | I3: 44284 | J3: 44284 | K3: 44285 | L3: 44285 | M3: 44286 | N3: 44286 | O3: 44287 | P3: 44287 | Q3: 44288 | R3: 44288 | S3: 44289 | T3: 44289 | U3: 44290 | V3: 44290 | W3: 44291 | X3: 44291 | Y3: 44292 | Z3: 44292 | AA3: 44293 | AB3: 44293 | AC3: 44294 | AD3: 44294 | AE3: 44295 | AF3: 44295 | AG3: 44296 | AH3: 44296 | AI3: 44297 | AJ3: 44297 | AK3: 44298 | AL3: 44298 | AM3: 44299 | AN3: 44299 | AO3: 44300 | AP3: 44300 | AQ3: 44301 | AR3: 44301 | AS3: 44302 | AT3: 44302 | AU3: 44303 | AV3: 44303 | AW3: 44304 | AX3: 44304 | AY3: 44305 | AZ3: 44305 | BA3: 44306 | BB3: 44306 | BC3: 44307 | BD3: 44307 | BE3: 44308 | BF3: 44308 | BG3: 44309 | BH3: 44309 | BI3: 44310 | BJ3: 44310 | BK3: 44311 | BL3: 44311 | BM3: 44312 | BN3: 44312 | BO3: 44313 | BP3: 44313 | BQ3: 44314 | BR3: 44314 | BS3: 44315 | BT3: 44315 | BU3: 44316 | BV3: 44316 | BW3: 44317 | BX3: 44317 | BY3: 44318 | BZ3: 44318
B4: SECA | C4: CIE | D4: =IF(ISBLANK(C4)=FALSE,VLOOKUP(C4,[1]Sketchs!$M$1:$AAJ$91,2,FALSE),"") -> PW100 - CIE | E4: =IF(ISBLANK(C4)=FALSE,VLOOKUP($C4,[1]Sketchs!M:O,3,FALSE),"") -> 32 | H4: TAT | I4: 1 | J4: 2 | K4: 3 | L4: 4 | M4: 5 | N4: 6 | O4: 7 | P4: 8 | W4: 0 | X4: 0 | Y4: 9 | Z4: 10 | AA4: 11 | AB4: 12 | AC4: 13 | AD4: 14 | AK4: 15 | AL4: 16 | AM4: 17 | AN4: 18 | AO4: 19 | AP4: 20 | AQ4: 21 | AR4: 22 | AS4: 23 | AT4: 24 | AY4: 21 | AZ4: 22 | BA4: 23 | BB4: 24 | BC4: 25 | BD4: 26 | BE4: 27 | BF4: 28 | BG4: 29 | BH4: 30 | BM4: 27 | BN4: 28 | BO4: 29 | BP4: 30 | BQ4: 31 | BR4: 32
F5: TAT Réél | H5: Opération | I5: DECAPAGE | J5: DECAPAGE | K5: DECAPAGE | L5: RESSUAGE | M5: LANCEMENT ST. | N5: LANCEMENT ST. | O5: LANCEMENT ST. | P5: LANCEMENT ST. | Y5: RESSUAGE | Z5: DEPOT ST. | AA5: FIC | AB5: FIC | AC5: DEPOT ST. | AD5: DEPOT ST. | AK5: FOUR VIDE | AL5: FOUR VIDE | AM5: FOUR VIDE | AN5: MEULAGE ST. | AO5: MEULAGE ST. | AP5: MEULAGE ST. | AQ5: RESSUAGE | AR5: USINAGE ST. | AS5: USINAGE ST. | AT5: USINAGE ST. | AY5: RESSUAGE | AZ5: USINAGE ST. | BA5: USINAGE ST. | BB5: USINAGE ST. | BC5: PLASMA | BD5: PLASMA | BE5: USINAGE ST. | BF5: USINAGE ST. | BG5: USINAGE ST. | BH5: FINAL ST. | BM5: USINAGE ST. | BN5: USINAGE ST. | BO5: USINAGE ST. | BP5: FINAL ST. | BQ5: FINAL ST. | BR5: FINAL ST. | BS5: {=IF(BS4<>0,IF(INDEX([1]Sketchs!$M$1:$AAJ$192, MATCH($C4, [1]Sketchs!$M:$M,0), 4+BS4)<>"",INDEX([1]Sketchs!$M$1:$AAJ$192, MATCH($C4, [1]Sketchs!$M:$M,0), 4+BS4),""),"")} | BT5: {=IF(BT4<>0,IF(INDEX([1]Sketchs!$M$1:$AAJ$192, MATCH($C4, [1]Sketchs!$M:$M,0), 4+BT4)<>"",INDEX([1]Sketchs!$M$1:$AAJ$192, MATCH($C4, [1]Sketchs!$M:$M,0), 4+BT4),""),"")} | BU5: {=IF(BU4<>0,IF(INDEX([1]Sketchs!$M$1:$AAJ$192, MATCH($C4, [1]Sketchs!$M:$M,0), 4+BU4)<>"",INDEX([1]Sketchs!$M$1:$AAJ$192, MATCH($C4, [1]Sketchs!$M:$M,0), 4+BU4),""),"")} | BV5: {=IF(BV4<>0,IF(INDEX([1]Sketchs!$M$1:$AAJ$192, MATCH($C4, [1]Sketchs!$M:$M,0), 4+BV4)<>"",INDEX([1]Sketchs!$M$1:$AAJ$192, MATCH($C4, [1]Sketchs!$M:$M,0), 4+BV4),""),"")} | BY5: {=IF(BY4<>0,IF(INDEX([1]Sketchs!$M$1:$AAJ$192, MATCH($C4, [1]Sketchs!$M:$M,0), 4+BY4)<>"",INDEX([1]Sketchs!$M$1:$AAJ$192, MATCH($C4, [1]Sketchs!$M:$M,0), 4+BY4),""),"")} | BZ5: {=IF(BZ4<>0,IF(INDEX([1]Sketchs!$M$1:$AAJ$192, MATCH($C4, [1]Sketchs!$M:$M,0), 4+BZ4)<>"",INDEX([1]Sketchs!$M$1:$AAJ$192, MATCH($C4, [1]Sketchs!$M:$M,0), 4+BZ4),""),"")}
F6: =IF(ISBLANK(C4)=FALSE,_xlfn.XMATCH(E4,I4:ET4)-_xlfn.XMATCH(1,I4:ET4),"") -> 61 | H6: Charge MO | I6: =INDEX(Table1[],MATCH(Planning!$D4,Table1[Column1],0),MATCH(Planning!I$5,Table1[#Headers],0)) -> 2 | J6: =INDEX(Table1[],MATCH(Planning!$D4,Table1[Column1],0),MATCH(Planning!J$5,Table1[#Headers],0)) -> 2 | K6: =INDEX(Table1[],MATCH(Planning!$D4,Table1[Column1],0),MATCH(Planning!K$5,Table1[#Headers],0)) -> 2 | L6: =INDEX(Table1[],MATCH(Planning!$D4,Table1[Column1],0),MATCH(Planning!L$5,Table1[#Headers],0)) -> 3 | M6: =INDEX(Table1[],MATCH(Planning!$D4,Table1[Column1],0),MATCH(Planning!M$5,Table1[#Headers],0)) -> 5 | N6: =INDEX(Table1[],MATCH(Planning!$D4,Table1[Column1],0),MATCH(Planning!N$5,Table1[#Headers],0)) -> 5 | O6: =INDEX(Table1[],MATCH(Planning!$D4,Table1[Column1],0),MATCH(Planning!O$5,Table1[#Headers],0)) -> 5 | P6: =INDEX(Table1[],MATCH(Planning!$D4,Table1[Column1],0),MATCH(Planning!P$5,Table1[#Headers],0)) -> 5

Sheet TEMPS
A1: Column1 | B1: DECAPAGE | C1: LANCEMENT ST. | D1: FIC | E1: DEPOT ST. | F1: FOUR VIDE | G1: MEULAGE ST. | H1: USINAGE ST. | I1: RESSUAGE | J1: PLASMA | K1: FOUR CHR. | L1: FINAL ST.
A2: JT15 - HT STATOR | B2: 2.2959184 | C2: 11.471429 | D2: 0.25 | E2: 7.6666667 | F2: 0 | G2: 20 | H2: 13.140845 | I2: 2.6666667 | J2: 0 | K2: 0.75 | L2: 2.3846154
A3: JT15 - SMED | B3: 0 | C3: 0.64285714 | D3: 0 | E3: 0 | F3: 0 | G3: 0 | H3: 0 | I3: 3.0666667 | J3: 5.6944444 | K3: 0 | L3: 0
A4: JT15 - CT A-27 /-28 | B4: 1.9142857 | C4: 6.4357143 | D4: 0.025 | E4: 12.546667 | F4: 1.713 | G4: 9.7513043 | H4: 10.253521 | I4: 1.0893333 | J4: 0.29444444 | K4: 0.55 | L4: 6.4246154
A5: PT6 - CT A-40 /-50 Base Co | B5: 4 | C5: 5.5 | D5: 0.05 | E5: 8 | F5: 0.1 | G5: 14 | H5: 4.5 | I5: 3 | J5: 0 | K5: 0.4 | L5: 7
A6: PT6 - CT A-40 /-50 Base Ni | B6: 4 | C6: 5.5 | D6: 0.05 | E6: 8 | F6: 0.1 | G6: 14 | H6: 4.5 | I6: 3 | J6: 0 | K6: 0.6 | L6: 7
A7: PT6 - CT A-60 /-61 /-62 /-65 | B7: 2.277551 | C7: 5.7285714 | D7: 0.05 | E7: 15.024 | F7: 1.63 | G7: 15.495652 | H7: 9.5211268 | I7: 1.4013333 | J7: 1.2777778 | K7: 0.6 | L7: 4.2615385
A8: PT6 - CT A-64 /-67 /-68 | B8: 4.1040816 | C8: 4.5 | D8: 0.05 | E8: 16.88 | F8: 0.812 | G8: 15.2 | H8: 4.7323944 | I8: 1.316 | J8: 0.13611111 | K8: 0.55 | L8: 4.5384615
A9: PT6 - INTERSTAGE SEAL KNIFE EDGE | B9: 0.51020408 | C9: 0 | D9: 0 | E9: 0 | F9: 0.7 | G9: 0 | H9: 0 | I9: 2 | J9: 0 | K9: 0 | L9: 0
A10: PT6 - PTVR ALL Medium Series | B10: 3 | C10: 5 | D10: 0.29 | E10: 8.7 | F10: 0.1 | G10: 13 | H10: 7 | I10: 3 | J10: 0 | K10: 0 | L10: 7
A11: PT6 - PTVR ALL PT6A-60 SERIES | B11: 2.1836735 | C11: 5.4842857 | D11: 0.05 | E11: 10.88 | F11: 0.525 | G11: 9.0695652 | H11: 14.676056 | I11: 0.92666667 | J11: 1.3472222 | K11: 0 | L11: 1.9692308
A12: PT6 - PTVR ALL Small SERIES | B12: 0.55102041 | C12: 9.0928571 | D12: 0.265 | E12: 15.92 | F12: 4.002 | G12: 12.243478 | H12: 20.953521 | I12: 5.0266667 | J12: 0.88472222 | K12: 0 | L12: 1.8
A13: PT6 - STATOR INTER ETAGE Base Co | B13: 0 | C13: 1.3 | D13: 0 | E13: 0 | F13: 0 | G13: 0 | H13: 0 | I13: 0.22 | J13: 0 | K13: 0 | L13: 0
... A44: PW980 - Power Turbine Vane Ring | B44: 1.2755102 | C44: 2.1428571 | D44: 0 | E44: 2.6666667 | F44: 1.5 | G44: 2.1043478 | H44: 1.5492958 | I44: 4 | J44: 0 | K44: 0 | L44: 11.230769

Sheet Scenario
A1: DECAPAGE | B1: LANCEMENT ST. | C1: FIC | D1: DEPOT ST. | E1: FOUR VIDE | F1: MEULAGE ST. | G1: USINAGE ST. | H1: RESSUAGE | I1: PLASMA | J1: FOUR CHR. | K1: FINAL ST. | L1: PN | M1: Moteur | N1: TAT Nominal | O1: Commentaire | P1: 1 | Q1: 2 | R1: 3 | S1: 4 | T1: 5 | U1: 6 | V1: 7 | W1: 8 | X1: 9 | Y1: 10 | Z1: 11 | AA1: 12 | AB1: 13 | AC1: 14 | AD1: 15 | AE1: 16 | AF1: 17 | AG1: 18 | AH1: 19 | AI1: 20 | AJ1: 21 | AK1: 22 | AL1: 23 | AM1: 24 | AN1: 25
A2: =COUNTIF($P2:$XFD2,A$1) -> 2 | B2: =COUNTIF($P2:$XFD2,B$1) -> 2 | C2: =COUNTIF($P2:$XFD2,C$1) -> 2 | D2: =COUNTIF($P2:$XFD2,D$1) -> 1 | E2: =COUNTIF($P2:$XFD2,E$1) -> 2 | F2: =COUNTIF($P2:$XFD2,F$1) -> 2 | G2: =COUNTIF($P2:$XFD2,G$1) -> 3 | H2: =COUNTIF($P2:$XFD2,H$1) -> 2 | ... K2: =COUNTIF($P2:$XFD2,K$1) -> 2 | L2: A6 | M2: PW100 - A6 | N2: 18 | O2: Standard sans FOUR CHR. TAT 24jrs en 1/8h | P2: DECAPAGE | Q2: DECAPAGE | R2: LANCEMENT ST. | S2: LANCEMENT ST. | T2: RESSUAGE | U2: FIC | V2: FIC | W2: DEPOT ST. | X2: FOUR VIDE | Y2: FOUR VIDE | Z2: MEULAGE ST. | AA2: MEULAGE ST. | AB2: RESSUAGE | AC2: USINAGE ST. | AD2: USINAGE ST. | AE2: USINAGE ST. | AF2: FINAL ST. | AG2: FINAL ST.
A3: =COUNTIF($P3:$XFD3,A$1) -> 2 | B3: =COUNTIF($P3:$XFD3,B$1) -> 2 | C3: =COUNTIF($P3:$XFD3,C$1) -> 2 | D3: =COUNTIF($P3:$XFD3,D$1) -> 1 | E3: =COUNTIF($P3:$XFD3,E$1) -> 2 | F3: =COUNTIF($P3:$XFD3,F$1) -> 2 | G3: =COUNTIF($P3:$XFD3,G$1) -> 3 | H3: =COUNTIF($P3:$XFD3,H$1) -> 2 | ... K3: =COUNTIF($P3:$XFD3,K$1) -> 2 | L3: PT PT6 | M3: PT6 - PTVR ALL Medium Series | N3: 18 | O3: Standard sans FOUR CHR. TAT 24jrs en 1/8h | P3: DECAPAGE | Q3: DECAPAGE | R3: LANCEMENT ST. | S3: LANCEMENT ST. | T3: RESSUAGE | U3: FIC | V3: FIC | W3: DEPOT ST. | X3: FOUR VIDE | Y3: FOUR VIDE | Z3: MEULAGE ST. | AA3: MEULAGE ST. | AB3: RESSUAGE | AC3: USINAGE ST. | AD3: USINAGE ST. | AE3: USINAGE ST. | AF3: FINAL ST. | AG3: FINAL ST.
A4: =COUNTIF($P4:$XFD4,A$1) -> 2 | B4: =COUNTIF($P4:$XFD4,B$1) -> 2 | C4: =COUNTIF($P4:$XFD4,C$1) -> 2 | D4: =COUNTIF($P4:$XFD4,D$1) -> 1 | E4: =COUNTIF($P4:$XFD4,E$1) -> 2 | F4: =COUNTIF($P4:$XFD4,F$1) -> 3 | G4: =COUNTIF($P4:$XFD4,G$1) -> 3 | H4: =COUNTIF($P4:$XFD4,H$1) -> 2 | ... K4: =COUNTIF($P4:$XFD4,K$1) -> 2 | L4: A5 Ph 0 | M4: PW100 - A5 Phase 0 | N4: 22 | O4: Standard sans FOUR CHR. TAT 30 jrs en 1/8h | P4: DECAPAGE | Q4: DECAPAGE | R4: LANCEMENT ST. | S4: LANCEMENT ST. | T4: RESSUAGE | U4: FIC | V4: FIC | W4: DEPOT ST. | X4: FOUR VIDE | Y4: FOUR VIDE | Z4: MEULAGE ST. | AA4: MEULAGE ST. | AB4: MEULAGE ST. | AC4: RESSUAGE | AD4: FOUR CHR. | AE4: FOUR CHR. | AF4: FOUR CHR. | AG4: USINAGE ST. | AH4: USINAGE ST. | AI4: USINAGE ST. | AJ4: FINAL ST. | AK4: FINAL ST.
A5: =COUNTIF($P5:$XFD5,A$1) -> 2 | B5: =COUNTIF($P5:$XFD5,B$1) -> 2 | C5: =COUNTIF($P5:$XFD5,C$1) -> 2 | D5: =COUNTIF($P5:$XFD5,D$1) -> 1 | E5: =COUNTIF($P5:$XFD5,E$1) -> 2 | F5: =COUNTIF($P5:$XFD5,F$1) -> 3 | G5: =COUNTIF($P5:$XFD5,G$1) -> 3 | H5: =COUNTIF($P5:$XFD5,H$1) -> 2 | ... K5: =COUNTIF($P5:$XFD5,K$1) -> 2 | L5: A5 Ph 2 | M5: PW100 - A5 Phase 2 | N5: 22 | O5: Standard sans FOUR CHR. TAT 30 jrs en 1/8h | P5: DECAPAGE | Q5: DECAPAGE | R5: LANCEMENT ST. | S5: LANCEMENT ST. | T5: RESSUAGE | U5: FIC | V5: FIC | W5: DEPOT ST. | X5: FOUR VIDE | Y5: FOUR VIDE | Z5: MEULAGE ST. | AA5: MEULAGE ST. | AB5: MEULAGE ST. | AC5: RESSUAGE | AD5: FOUR CHR. | AE5: FOUR CHR. | AF5: FOUR CHR. | AG5: USINAGE ST. | AH5: USINAGE ST. | AI5: USINAGE ST. | AJ5: FINAL ST. | AK5: FINAL ST.
A6: =COUNTIF($P6:$XFD6,A$1) -> 2 | B6: =COUNTIF($P6:$XFD6,B$1) -> 2 | C6: =COUNTIF($P6:$XFD6,C$1) -> 2 | D6: =COUNTIF($P6:$XFD6,D$1) -> 1 | E6: =COUNTIF($P6:$XFD6,E$1) -> 2 | F6: =COUNTIF($P6:$XFD6,F$1) -> 3 | G6: =COUNTIF($P6:$XFD6,G$1) -> 3 | H6: =COUNTIF($P6:$XFD6,H$1) -> 2 | ... K6: =COUNTIF($P6:$XFD6,K$1) -> 2 | L6: CT PT6 | M6: PT6 - CT A-40 /-50 Base Ni | N6: 22 | O6: Standard sans FOUR CHR. TAT 30 jrs en 1/8h | P6: DECAPAGE | Q6: DECAPAGE | R6: LANCEMENT ST. | S6: LANCEMENT ST. | T6: RESSUAGE | U6: FIC | V6: FIC | W6: DEPOT ST. | X6: FOUR VIDE | Y6: FOUR VIDE | Z6: MEULAGE ST. | AA6: MEULAGE ST. | AB6: MEULAGE ST. | AC6: RESSUAGE | AD6: FOUR CHR. | AE6: FOUR CHR. | AF6: FOUR CHR. | AG6: USINAGE ST. | AH6: USINAGE ST. | AI6: USINAGE ST. | AJ6: FINAL ST. | AK6: FINAL ST.
A7: =COUNTIF($P7:$XFD7,A$1) -> 2 | B7: =COUNTIF($P7:$XFD7,B$1) -> 2 | C7: =COUNTIF($P7:$XFD7,C$1) -> 2 | D7: =COUNTIF($P7:$XFD7,D$1) -> 1 | E7: =COUNTIF($P7:$XFD7,E$1) -> 2 | F7: =COUNTIF($P7:$XFD7,F$1) -> 3 | G7: =COUNTIF($P7:$XFD7,G$1) -> 3 | H7: =COUNTIF($P7:$XFD7,H$1) -> 2 | ... K7: =COUNTIF($P7:$XFD7,K$1) -> 2 | L7: CT PT6 base colbalt | M7: PT6 - CT A-40 /-50 Base Co | N7: 24 | P7: DECAPAGE | Q7: DECAPAGE | R7: LANCEMENT ST. | S7: LANCEMENT ST. | T7: RESSUAGE | U7: FIC | V7: FIC | W7: Nettoyage Vide | X7: DEPOT ST. | Y7: FOUR VIDE | Z7: FOUR VIDE | AA7: MEULAGE ST. | AB7: MEULAGE ST. | AC7: MEULAGE ST. | AD7: RESSUAGE | AE7: FOUR CHR. | AF7: FOUR CHR. | AG7: FOUR CHR. | AH7: FOUR CHR. | AI7: USINAGE ST. | AJ7: USINAGE ST. | AK7: USINAGE ST. | AL7: FINAL ST. | AM7: FINAL ST.
A8: =COUNTIF($P8:$XFD8,A$1) -> 2 | B8: =COUNTIF($P8:$XFD8,B$1) -> 3 | C8: =COUNTIF($P8:$XFD8,C$1) -> 2 | D8: =COUNTIF($P8:$XFD8,D$1) -> 1 | E8: =COUNTIF($P8:$XFD8,E$1) -> 2 | F8: =COUNTIF($P8:$XFD8,F$1) -> 3 | G8: =COUNTIF($P8:$XFD8,G$1) -> 3 | H8: =COUNTIF($P8:$XFD8,H$1) -> 2 | ... K8: =COUNTIF($P8:$XFD8,K$1) -> 2 | L8: A7 | M8: PW100 - A7 INCO 713 | N8: 21 | P8: DECAPAGE | Q8: DECAPAGE | R8: LANCEMENT ST. | S8: LANCEMENT ST. | T8: LANCEMENT ST. | U8: RESSUAGE | V8: FIC | W8: FIC | X8: DEPOT ST. | Y8: FOUR VIDE | Z8: FOUR VIDE | AA8: MEULAGE ST. | AB8: MEULAGE ST. | AC8: MEULAGE ST. | AD8: RESSUAGE | AE8: USINAGE ST. | AF8: USINAGE ST. | AG8: PLASMA | AH8: USINAGE ST. | AI8: FINAL ST. | AJ8: FINAL ST.
A9: =COUNTIF($P9:$XFD9,A$1) -> 2 | B9: =COUNTIF($P9:$XFD9,B$1) -> 3 | C9: =COUNTIF($P9:$XFD9,C$1) -> 2 | D9: =COUNTIF($P9:$XFD9,D$1) -> 1 | E9: =COUNTIF($P9:$XFD9,E$1) -> 2 | F9: =COUNTIF($P9:$XFD9,F$1) -> 2 | G9: =COUNTIF($P9:$XFD9,G$1) -> 4 | H9: =COUNTIF($P9:$XFD9,H$1) -> 2 | ... K9: =COUNTIF($P9:$XFD9,K$1) -> 2 | L9: CIE | M9: PW100 - CIE | N9: 22 | P9: DECAPAGE | Q9: DECAPAGE | R9: LANCEMENT ST. | S9: LANCEMENT ST. | T9: LANCEMENT ST. | U9: RESSUAGE | V9: FIC | W9: FIC | X9: DEPOT ST. | Y9: FOUR VIDE | Z9: FOUR VIDE | AA9: MEULAGE ST. | AB9: MEULAGE ST. | AC9: RESSUAGE | AD9: USINAGE ST. | AE9: USINAGE ST. | AF9: USINAGE ST. | AG9: PLASMA | AH9: PLASMA | AI9: USINAGE ST. | AJ9: FINAL ST. | AK9: FINAL ST.
A10: =COUNTIF($P10:$XFD10,A$1) -> 2 | B10: =COUNTIF($P10:$XFD10,B$1) -> 2 | C10: =COUNTIF($P10:$XFD10,C$1) -> 2 | D10: =COUNTIF($P10:$XFD10,D$1) -> 1 | E10: =COUNTIF($P10:$XFD10,E$1) -> 2 | F10: =COUNTIF($P10:$XFD10,F$1) -> 2 | G10: =COUNTIF($P10:$XFD10,G$1) -> 4 | H10: =COUNTIF($P10:$XFD10,H$1) -> 2 | ... K10: =COUNTIF($P10:$XFD10,K$1) -> 2 | L10: CT 206 | M10: PW206 - CT STATOR | N10: 22 | P10: DECAPAGE | Q10: DECAPAGE | R10: LANCEMENT ST. | S10: LANCEMENT ST. | T10: RESSUAGE | U10: FIC | V10: FIC | W10: DEPOT ST. | X10: FOUR VIDE | Y10: FOUR VIDE | Z10: MEULAGE ST. | AA10: MEULAGE ST. | AB10: RESSUAGE | AC10: USINAGE ST. | AD10: FOUR CHR. | AE10: FOUR CHR. | AF10: FOUR CHR. | AG10: USINAGE ST. | AH10: USINAGE ST. | AI10: USINAGE ST. | AJ10: FINAL ST. | AK10: FINAL ST.
A11: =COUNTIF($P11:$XFD11,A$1) -> 2 | B11: =COUNTIF($P11:$XFD11,B$1) -> 3 | C11: =COUNTIF($P11:$XFD11,C$1) -> 2 | D11: =COUNTIF($P11:$XFD11,D$1) -> 3 | E11: =COUNTIF($P11:$XFD11,E$1) -> 4 | F11: =COUNTIF($P11:$XFD11,F$1) -> 2 | G11: =COUNTIF($P11:$XFD11,G$1) -> 3 | H11: =COUNTIF($P11:$XFD11,H$1) -> 2 | ... K11: =COUNTIF($P11:$XFD11,K$1) -> 2 | L11: PT 901 | M11: PW901 - PT STATOR | N11: 23 | P11: DECAPAGE | Q11: DECAPAGE | R11: LANCEMENT ST. | S11: LANCEMENT ST. | T11: LANCEMENT ST. | U11: RESSUAGE | V11: FIC | W11: FIC | X11: DEPOT ST. | Y11: FOUR VIDE | Z11: FOUR VIDE | AA11: MEULAGE ST. | AB11: MEULAGE ST. | AC11: RESSUAGE | AD11: DEPOT ST. | AE11: FOUR VIDE | AF11: FOUR VIDE | AG11: DEPOT ST. | AH11: USINAGE ST. | AI11: USINAGE ST. | AJ11: USINAGE ST. | AK11: FINAL ST. | AL11: FINAL ST.
A12: =COUNTIF($P12:$XFD12,A$1) -> 2 | B12: =COUNTIF($P12:$XFD12,B$1) -> 2 | C12: =COUNTIF($P12:$XFD12,C$1) -> 2 | D12: =COUNTIF($P12:$XFD12,D$1) -> 3 | E12: =COUNTIF($P12:$XFD12,E$1) -> 4 | F12: =COUNTIF($P12:$XFD12,F$1) -> 2 | G12: =COUNTIF($P12:$XFD12,G$1) -> 3 | H12: =COUNTIF($P12:$XFD12,H$1) -> 2 | ... K12: =COUNTIF($P12:$XFD12,K$1) -> 2 | L12: PT 206 | M12: PW206 - PT STATOR | N12: 22 | P12: DECAPAGE | Q12: DECAPAGE | R12: LANCEMENT ST. | S12: LANCEMENT ST. | T12: RESSUAGE | U12: FIC | V12: FIC | W12: DEPOT ST. | X12: FOUR VIDE | Y12: FOUR VIDE | Z12: MEULAGE ST. | AA12: MEULAGE ST. | AB12: RESSUAGE | AC12: DEPOT ST. | AD12: FOUR VIDE | AE12: FOUR VIDE | AF12: DEPOT ST. | AG12: USINAGE ST. | AH12: USINAGE ST. | AI12: USINAGE ST. | AJ12: FINAL ST. | AK12: FINAL ST.
A13: =COUNTIF($P13:$XFD13,A$1) -> 0 | B13: =COUNTIF($P13:$XFD13,B$1) -> 0 | C13: =COUNTIF($P13:$XFD13,C$1) -> 0 | D13: =COUNTIF($P13:$XFD13,D$1) -> 0 | E13: =COUNTIF($P13:$XFD13,E$1) -> 0 | F13: =COUNTIF($P13:$XFD13,F$1) -> 0 | G13: =COUNTIF($P13:$XFD13,G$1) -> 0 | H13: =COUNTIF($P13:$XFD13,H$1) -> 0 | ... K13: =COUNTIF($P13:$XFD13,K$1) -> 0 | L13: VSH
A14: =COUNTIF($P14:$XFD14,A$1) -> 0 | B14: =COUNTIF($P14:$XFD14,B$1) -> 0 | C14: =COUNTIF($P14:$XFD14,C$1) -> 0 | D14: =COUNTIF($P14:$XFD14,D$1) -> 0 | E14: =COUNTIF($P14:$XFD14,E$1) -> 0 | F14: =COUNTIF($P14:$XFD14,F$1) -> 0 | G14: =COUNTIF($P14:$XFD14,G$1) -> 0 | H14: =COUNTIF($P14:$XFD14,H$1) -> 0 | ... K14: =COUNTIF($P14:$XFD14,K$1) -> 0
A15: =COUNTIF($P15:$XFD15,A$1) -> 0 | B15: =COUNTIF($P15:$XFD15,B$1) -> 0 | C15: =COUNTIF($P15:$XFD15,C$1) -> 0 | D15: =COUNTIF($P15:$XFD15,D$1) -> 0 | E15: =COUNTIF($P15:$XFD15,E$1) -> 0 | F15: =COUNTIF($P15:$XFD15,F$1) -> 0 | G15: =COUNTIF($P15:$XFD15,G$1) -> 0 | H15: =COUNTIF($P15:$XFD15,H$1) -> 0 | ... K15: =COUNTIF($P15:$XFD15,K$1) -> 0
A16: =COUNTIF($P16:$XFD16,A$1) -> 0 | B16: =COUNTIF($P16:$XFD16,B$1) -> 0 | C16: =COUNTIF($P16:$XFD16,C$1) -> 0 | D16: =COUNTIF($P16:$XFD16,D$1) -> 0 | E16: =COUNTIF($P16:$XFD16,E$1) -> 0 | F16: =COUNTIF($P16:$XFD16,F$1) -> 0 | G16: =COUNTIF($P16:$XFD16,G$1) -> 0 | H16: =COUNTIF($P16:$XFD16,H$1) -> 0 | ... K16: =COUNTIF($P16:$XFD16,K$1) -> 0
