Workbook
Name action: Formules!$I$4:$I$6
Name qui: Formules!$M$4:$M$9
Name statut: Formules!$F$4:$F$9
Name typededemande: Formules!$B$4:$B$8

Sheet TCD
A3: Nombre de date de prise en compte | B3: Action
A4: semaine | B4: en cours de traitement | C4: traité | D4: transfert | E4: Total général
A5: 5 | B5: 1 | C5: 1 | E5: 2
A6: 6 | C6: 1 | D6: 5 | E6: 6
A7: 8 | D7: 2 | E7: 2
A8: Total général | B8: 1 | C8: 2 | D8: 7 | E8: 10

Sheet Reporting
A1: Identifiant d'appel interne | B1: date de contact | C1: Type de demande | D1: Statut | E1: date de prise en compte | F1: Action | G1: Qui | H1: commentaire | I1: relance 1 | J1: relance 2 | K1: délai de traitement | L1: semaine
A2: 215456 | B2: 44252 | C2: dde1 | D2: statut1 | E2: 44255 | F2: transfert | G2: Blue | K2: =DATEDIF(B2,E2,"d") -> 3 | L2: =_xlfn.ISOWEEKNUM(Tableau1[[#This Row],[date de prise en compte]]) -> 8
A3: 545454 | B3: 44237 | C3: dde1 | D3: statut3 | E3: 44255 | F3: transfert | G3: Red | K3: =DATEDIF(B3,E3,"d") -> 18 | L3: =_xlfn.ISOWEEKNUM(Tableau1[[#This Row],[date de prise en compte]]) -> 8
A4: 545644 | B4: 44229 | C4: dde2 | D4: statut2 | E4: 44230 | F4: en cours de traitement | G4: Yellow | K4: =DATEDIF(B4,E4,"d") -> 1 | L4: =_xlfn.ISOWEEKNUM(Tableau1[[#This Row],[date de prise en compte]]) -> 5
A5: 545645 | B5: 44229 | C5: dde2 | D5: statut2 | E5: 44232 | F5: traité | G5: Blue | K5: =DATEDIF(B5,E5,"d") -> 3 | L5: =_xlfn.ISOWEEKNUM(Tableau1[[#This Row],[date de prise en compte]]) -> 5
A6: 545486 | B6: 44237 | C6: informations1 | D6: statut3 | E6: 44239 | F6: transfert | G6: Red | K6: =DATEDIF(B6,E6,"d") -> 2 | L6: =_xlfn.ISOWEEKNUM(Tableau1[[#This Row],[date de prise en compte]]) -> 6
A7: 578765 | B7: 44237 | C7: informations1 | D7: statut5 | E7: 44241 | F7: traité | G7: Yellow | K7: =DATEDIF(B7,E7,"d") -> 4 | L7: =_xlfn.ISOWEEKNUM(Tableau1[[#This Row],[date de prise en compte]]) -> 6
A8: 545646 | B8: 44234 | C8: informations2 | D8: statut1 | E8: 44238 | F8: transfert | G8: Blue | K8: =DATEDIF(B8,E8,"d") -> 4 | L8: =_xlfn.ISOWEEKNUM(Tableau1[[#This Row],[date de prise en compte]]) -> 6
A9: 2454645 | B9: 44237 | C9: entreprise1 | D9: statut5 | E9: 44240 | F9: transfert | G9: Red | K9: =DATEDIF(B9,E9,"d") -> 3 | L9: =_xlfn.ISOWEEKNUM(Tableau1[[#This Row],[date de prise en compte]]) -> 6
A10: 235464 | B10: 44235 | C10: entreprise1 | D10: statut1 | E10: 44237 | F10: transfert | G10: Yellow | K10: =DATEDIF(B10,E10,"d") -> 2 | L10: =_xlfn.ISOWEEKNUM(Tableau1[[#This Row],[date de prise en compte]]) -> 6
A11: 245646 | B11: 44233 | C11: informations1 | D11: statut4 | E11: 44237 | F11: transfert | G11: Blue | K11: =DATEDIF(B11,E11,"d") -> 4 | L11: =_xlfn.ISOWEEKNUM(Tableau1[[#This Row],[date de prise en compte]]) -> 6

Sheet Formules
B3: typededemande | F3: statut | I3: action | M3: Qui
B4: dde1 | F4: statut1 | I4: transfert | M4: Blue
B5: dde2 | F5: statut2 | I5: traité | M5: Red
B6: informations1 | F6: statut3 | I6: en cours de traitement | M6: Yellow
B7: informations2 | F7: statut4 | M7: xxxx
B8: entreprise1 | F8: statut5 | M8: xxxx
F9: statut6 | M9: xxxx

Sheet stats
D2: =Formules!F4 -> statut1 | G2: =Formules!F5 -> statut2 | J2: =Formules!F6 -> statut3 | M2: autres
D3: =Formules!I4 -> transfert | E3: =Formules!I6 -> en cours de traitement | F3: =Formules!I5 -> traité | G3: =D3 -> transfert | H3: =E3 -> en cours de traitement | I3: =F3 -> traité | J3: =D3 -> transfert | K3: =E3 -> en cours de traitement | L3: =F3 -> traité | M3: =D3 -> transfert | N3: =E3 -> en cours de traitement | O3: =F3 -> traité
B4: Blue | D4: =COUNTIFS(Reporting!$F$2:$F$297,$D$3,Reporting!$G$2:$G$297,B4,Reporting!$D$2:$D$297,$D$2) -> 2 | E4: =COUNTIFS(Reporting!$F$2:$F$297,$E$3,Reporting!$G$2:$G$297,$B$4,Reporting!$D$2:$D$297,$D$2) -> 0 | F4: =COUNTIFS(Reporting!$F$2:$F$297,$F$3,Reporting!$G$2:$G$297,$B$4,Reporting!$D$2:$D$297,$D$2) -> 0 | G4: =COUNTIFS(Reporting!$F$2:$F$297,$G$3,Reporting!$G$2:$G$297,B4,Reporting!$D$2:$D$297,$G$2) -> 0 | H4: =COUNTIFS(Reporting!$F$2:$F$297,H3,Reporting!$G$2:$G$297,B4,Reporting!$D$2:$D$297,$G$2) -> 0 | I4: =COUNTIFS(Reporting!$F$2:$F$297,I3,Reporting!$G$2:$G$297,B4,Reporting!$D$2:$D$297,$G$2) -> 1 | J4: =COUNTIFS(Reporting!$F$2:$F$297,$J$3,Reporting!$G$2:$G$297,B4,Reporting!$D$2:$D$297,$J$2) -> 0 | K4: =COUNTIFS(Reporting!$F$2:$F$297,$K$3,Reporting!$G$2:$G$297,B4,Reporting!$D$2:$D$297,$J$2) -> 0 | L4: =COUNTIFS(Reporting!$F$2:$F$297,$L$3,Reporting!$G$2:$G$297,B4,Reporting!$D$2:$D$297,$J$2) -> 0
B5: Red | D5: =COUNTIFS(Reporting!$F$2:$F$297,$D$3,Reporting!$G$2:$G$297,B5,Reporting!$D$2:$D$297,$D$2) -> 0 | E5: =COUNTIFS(Reporting!$F$2:$F$297,$E$3,Reporting!$G$2:$G$297,$B$4,Reporting!$D$2:$D$297,$D$2) -> 0 | F5: =COUNTIFS(Reporting!$F$2:$F$297,$F$3,Reporting!$G$2:$G$297,$B$4,Reporting!$D$2:$D$297,$D$2) -> 0 | G5: =COUNTIFS(Reporting!$F$2:$F$297,$G$3,Reporting!$G$2:$G$297,B5,Reporting!$D$2:$D$297,$G$2) -> 0 | H5: =COUNTIFS(Reporting!$F$2:$F$297,H3,Reporting!$G$2:$G$297,B5,Reporting!$D$2:$D$297,$G$2) -> 0 | I5: =COUNTIFS(Reporting!$F$2:$F$297,I3,Reporting!$G$2:$G$297,B5,Reporting!$D$2:$D$297,$G$2) -> 0 | J5: =COUNTIFS(Reporting!$F$2:$F$297,$J$3,Reporting!$G$2:$G$297,B5,Reporting!$D$2:$D$297,$J$2) -> 2 | K5: =COUNTIFS(Reporting!$F$2:$F$297,$K$3,Reporting!$G$2:$G$297,B5,Reporting!$D$2:$D$297,$J$2) -> 0 | L5: =COUNTIFS(Reporting!$F$2:$F$297,$L$3,Reporting!$G$2:$G$297,B5,Reporting!$D$2:$D$297,$J$2) -> 0
B6: Yellow | D6: =COUNTIFS(Reporting!$F$2:$F$297,$D$3,Reporting!$G$2:$G$297,B6,Reporting!$D$2:$D$297,$D$2) -> 1 | E6: =COUNTIFS(Reporting!$F$2:$F$297,$E$3,Reporting!$G$2:$G$297,$B$4,Reporting!$D$2:$D$297,$D$2) -> 0 | F6: =COUNTIFS(Reporting!$F$2:$F$297,$F$3,Reporting!$G$2:$G$297,$B$4,Reporting!$D$2:$D$297,$D$2) -> 0 | G6: =COUNTIFS(Reporting!$F$2:$F$297,$G$3,Reporting!$G$2:$G$297,B6,Reporting!$D$2:$D$297,$G$2) -> 0 | H6: =COUNTIFS(Reporting!$F$2:$F$297,H3,Reporting!$G$2:$G$297,B6,Reporting!$D$2:$D$297,$G$2) -> 1 | I6: =COUNTIFS(Reporting!$F$2:$F$297,I3,Reporting!$G$2:$G$297,B6,Reporting!$D$2:$D$297,$G$2) -> 0 | J6: =COUNTIFS(Reporting!$F$2:$F$297,$J$3,Reporting!$G$2:$G$297,B6,Reporting!$D$2:$D$297,$J$2) -> 0 | K6: =COUNTIFS(Reporting!$F$2:$F$297,$K$3,Reporting!$G$2:$G$297,B6,Reporting!$D$2:$D$297,$J$2) -> 0 | L6: =COUNTIFS(Reporting!$F$2:$F$297,$L$3,Reporting!$G$2:$G$297,B6,Reporting!$D$2:$D$297,$J$2) -> 0
B7: xxxx | D7: =COUNTIFS(Reporting!$F$2:$F$297,$D$3,Reporting!$G$2:$G$297,B7,Reporting!$D$2:$D$297,$D$2) -> 0 | E7: =COUNTIFS(Reporting!$F$2:$F$297,$E$3,Reporting!$G$2:$G$297,$B$4,Reporting!$D$2:$D$297,$D$2) -> 0 | F7: =COUNTIFS(Reporting!$F$2:$F$297,$F$3,Reporting!$G$2:$G$297,$B$4,Reporting!$D$2:$D$297,$D$2) -> 0 | G7: =COUNTIFS(Reporting!$F$2:$F$297,$G$3,Reporting!$G$2:$G$297,B7,Reporting!$D$2:$D$297,$G$2) -> 0 | H7: =COUNTIFS(Reporting!$F$2:$F$297,H3,Reporting!$G$2:$G$297,B7,Reporting!$D$2:$D$297,$G$2) -> 0 | I7: =COUNTIFS(Reporting!$F$2:$F$297,I3,Reporting!$G$2:$G$297,B7,Reporting!$D$2:$D$297,$G$2) -> 0 | J7: =COUNTIFS(Reporting!$F$2:$F$297,$J$3,Reporting!$G$2:$G$297,B7,Reporting!$D$2:$D$297,$J$2) -> 0 | K7: =COUNTIFS(Reporting!$F$2:$F$297,$K$3,Reporting!$G$2:$G$297,B7,Reporting!$D$2:$D$297,$J$2) -> 0 | L7: =COUNTIFS(Reporting!$F$2:$F$297,$L$3,Reporting!$G$2:$G$297,B7,Reporting!$D$2:$D$297,$J$2) -> 0
B8: xxxx | D8: =COUNTIFS(Reporting!$F$2:$F$297,$D$3,Reporting!$G$2:$G$297,B8,Reporting!$D$2:$D$297,$D$2) -> 0 | E8: =COUNTIFS(Reporting!$F$2:$F$297,$E$3,Reporting!$G$2:$G$297,$B$4,Reporting!$D$2:$D$297,$D$2) -> 0 | F8: =COUNTIFS(Reporting!$F$2:$F$297,$F$3,Reporting!$G$2:$G$297,$B$4,Reporting!$D$2:$D$297,$D$2) -> 0 | G8: =COUNTIFS(Reporting!$F$2:$F$297,$G$3,Reporting!$G$2:$G$297,B8,Reporting!$D$2:$D$297,$G$2) -> 0 | H8: =COUNTIFS(Reporting!$F$2:$F$297,H3,Reporting!$G$2:$G$297,B8,Reporting!$D$2:$D$297,$G$2) -> 0 | I8: =COUNTIFS(Reporting!$F$2:$F$297,I3,Reporting!$G$2:$G$297,B8,Reporting!$D$2:$D$297,$G$2) -> 0 | J8: =COUNTIFS(Reporting!$F$2:$F$297,$J$3,Reporting!$G$2:$G$297,B8,Reporting!$D$2:$D$297,$J$2) -> 0 | K8: =COUNTIFS(Reporting!$F$2:$F$297,$K$3,Reporting!$G$2:$G$297,B8,Reporting!$D$2:$D$297,$J$2) -> 0 | L8: =COUNTIFS(Reporting!$F$2:$F$297,$L$3,Reporting!$G$2:$G$297,B8,Reporting!$D$2:$D$297,$J$2) -> 0
B9: xxxx | D9: =COUNTIFS(Reporting!$F$2:$F$297,$D$3,Reporting!$G$2:$G$297,B9,Reporting!$D$2:$D$297,$D$2) -> 0 | E9: =COUNTIFS(Reporting!$F$2:$F$297,$E$3,Reporting!$G$2:$G$297,$B$4,Reporting!$D$2:$D$297,$D$2) -> 0 | F9: =COUNTIFS(Reporting!$F$2:$F$297,$F$3,Reporting!$G$2:$G$297,$B$4,Reporting!$D$2:$D$297,$D$2) -> 0 | G9: =COUNTIFS(Reporting!$F$2:$F$297,$G$3,Reporting!$G$2:$G$297,B9,Reporting!$D$2:$D$297,$G$2) -> 0 | H9: =COUNTIFS(Reporting!$F$2:$F$297,H3,Reporting!$G$2:$G$297,B9,Reporting!$D$2:$D$297,$G$2) -> 0 | I9: =COUNTIFS(Reporting!$F$2:$F$297,I3,Reporting!$G$2:$G$297,B9,Reporting!$D$2:$D$297,$G$2) -> 0 | J9: =COUNTIFS(Reporting!$F$2:$F$297,$J$3,Reporting!$G$2:$G$297,B9,Reporting!$D$2:$D$297,$J$2) -> 0 | K9: =COUNTIFS(Reporting!$F$2:$F$297,$K$3,Reporting!$G$2:$G$297,B9,Reporting!$D$2:$D$297,$J$2) -> 0 | L9: =COUNTIFS(Reporting!$F$2:$F$297,$L$3,Reporting!$G$2:$G$297,B9,Reporting!$D$2:$D$297,$J$2) -> 0
