Workbook

Sheet Listes
A1: FamilleMatPrem | C1: FamilleProdFini | E1: CodeService | F1: Service
A2: AROMATES | C2: autres viandes CUISINées | E2: 1 | F2: COMPTA
A3: CHAMPIGNONS | C3: BŒUF cuisiné | E3: 2 | F3: PRODUCTION
A4: CHARCUTERIE | C4: GIBIER cuisiné | E4: 3 | F4: QUALITé
A5: EPICERIE | C5: VEAU cuisiné | E5: 4 | F5: CONTRÔLE
A6: LEGUMES FRAIS | C6: VOLAILLES cuisinées | E6: 5 | F6: MARKETING
A7: LEGUMES SECS | E7: 6 | F7: COMMERCIAL
A8: POISSONS
A9: PRODUITS LAITIERS
A10: VIANDES
A11: VINS

Sheet Mat°1°
A1: CodeMatPrem | B1: Désignation | C1: Famille | D1: PAHT (le - cher) | E1: Unité | F1: QtéEnCdeFourn | G1: QtéStock | H1: StockMini | I1: Prix le moins cher (version matricielle) | J1: Prix le moins cher (version >=2016) | K1: Nom du fournisseur le - cher
A2: 1 | B2: COLLIER DE BŒUF | C2: VIANDES | E2: Kg | F2: 50 | G2: 500 | H2: 12
A3: 2 | B3: JARRET DE BŒUF | C3: VIANDES | E3: Kg | G3: 580 | H3: 20
A4: 3 | B4: VIN ROUGE AOC | C4: VINS | E4: L | G4: 300 | H4: 50
A5: 4 | B5: FARINE | C5: EPICERIE | E5: KG | F5: 100 | G5: 200 | H5: 50
A6: 5 | B6: CONCENTRE TOMATE | C6: EPICERIE | E6: Kg | G6: 500 | H6: 10
A7: 6 | B7: SUCRE | C7: EPICERIE | E7: Kg | F7: 90 | G7: 180 | H7: 5
A8: 7 | B8: SEL | C8: EPICERIE | E8: Kg | G8: 300 | H8: 120
A9: 8 | B9: POIVRE VERT | C9: EPICERIE | E9: KG | G9: 120 | H9: 5
A10: 9 | B10: POIREAU | C10: LEGUMES FRAIS | E10: KG | G10: 250 | H10: 10
A11: 10 | B11: CELERI | C11: LEGUMES FRAIS | E11: KG | F11: 90 | G11: 200 | H11: 10
A12: 11 | B12: THYM | C12: AROMATES | E12: KG | G12: 40 | H12: 2
A13: 12 | B13: LAURIER | C13: AROMATES | E13: KG | G13: 50 | H13: 2
A14: 13 | B14: CAROTTES | C14: LEGUMES FRAIS | E14: KG | G14: 750 | H14: 100
A15: 14 | B15: OIGNONS | C15: AROMATES | E15: KG | F15: 30 | G15: 200 | H15: 50
A16: 15 | B16: AIL | C16: AROMATES | E16: KG | G16: 150 | H16: 50
A17: 16 | B17: CANARD | C17: VIANDES | E17: KG | G17: 240 | H17: 12
A18: 17 | B18: HARICOTS BLANCS | C18: LEGUMES SECS | E18: KG | G18: 500 | H18: 15
A19: 18 | B19: MELANGE CHARCUTERIE DE PORC | C19: CHARCUTERIE | E19: KG | F19: 60 | G19: 240 | H19: 23
A20: 19 | B20: CHAPELURE | C20: EPICERIE | E20: KG | G20: 150 | H20: 20
A21: 20 | B21: VIN BLANC AOC | C21: VINS | E21: L | G21: 350 | H21: 25
A22: 21 | B22: VIN ROUGE | C22: VINS | E22: L | G22: 450 | H22: 25
A23: 22 | B23: CHEVREAU | C23: VIANDES | E23: KG | G23: 150 | H23: 5
A24: 23 | B24: CREME FRAICHE | C24: PRODUITS LAITIERS | E24: L | G24: 600 | H24: 30
A25: 24 | B25: OSEILLE | C25: LEGUMES FRAIS | E25: KG | G25: 200 | H25: 15
A26: 25 | B26: AMIDON | C26: EPICERIE | E26: KG | G26: 300 | H26: 15
A27: 26 | B27: ECHALOTTE | C27: AROMATES | E27: KG | G27: 200 | H27: 15
A28: 27 | B28: LARDONS | C28: CHARCUTERIE | E28: KG | F28: 45 | G28: 300 | H28: 15
A29: 28 | B29: CHAMPIGNONS DE PARIS | C29: LEGUMES FRAIS | E29: KG | G29: 450 | H29: 15
A30: 29 | B30: VIANDE AUTRUCHE | C30: VIANDES | E30: KG | G30: 150 | H30: 10
A31: 30 | B31: HARICOTS ROUGES | C31: LEGUMES FRAIS | E31: KG | G31: 500 | H31: 15
A32: 31 | B32: MORCEAUX DE LIEVRES | C32: VIANDES | E32: KG | G32: 100 | H32: 20
A33: 32 | B33: VIANDE DE COQ | C33: VIANDES | E33: KG | G33: 260 | H33: 30
A34: 33 | B34: BOUQUET GARNI | C34: AROMATES | E34: KG | G34: 50 | H34: 5
A35: 34 | B35: COLLIER DE VEAU | C35: VIANDES | E35: KG | G35: 90 | H35: 20
A36: 35 | B36: EPAULE DE VEAU | C36: VIANDES | E36: KG | G36: 400 | H36: 22
A37: 36 | B37: POITRINE FUMEE | C37: CHARCUTERIE | E37: KG | G37: 230 | H37: 20
A38: 37 | B38: GIROLLES | C38: CHAMPIGNONS | E38: KG | G38: 750 | H38: 20
A39: 38 | B39: CONSERVATEUR BIO | C39: EPICERIE | E39: L | G39: 100 | H39: 5
A40: 39 | B40: MAGRET DE CANARD | C40: VIANDES | E40: KG | G40: 100 | H40: 5
... A43: 42 | B43: AROMATES | C43: AROMATES | E43: KG | G43: 420 | H43: 100

Sheet Prod°Finis
A1: CodeProdFini | B1: Désignation | C1: Famille | D1: QtéStock | E1: Nb d'ingrédients | F1: Coûts Matière
A2: 1 | B2: BOEUF BOURGUIGNON | C2: BŒUF CUISINÉ | D2: 3
A3: 2 | B3: CASSOULET | C3: VOLAILLES CUISINÉES | D3: 50
A4: 3 | B4: CHEVREAU A L'OSEILLE | C4: AUTRES VIANDES CUISINÉES | D4: 50
A5: 4 | B5: COQ AU VIN | C5: VOLAILLES CUISINÉES | D5: 45
A6: 5 | B6: ragoût de veau | C6: VEAU CUISINÉ | D6: 100
A7: 6 | B7: CIVET D'AUTRUCHE | C7: VOLAILLES CUISINÉES | D7: 100
A8: 7 | B8: CIVET DE Lièvre | C8: GIBIER CUISINÉ | D8: 100
A9: 8 | B9: MAGRET DE CANARD | C9: VOLAILLES CUISINÉES | D9: 45

Sheet Mat1°-Prod Finis
A1: CodeProdFini | B1: CodeMatPrem | C1: QtéMatPrem
A2: 1 | B2: 1 | C2: 0.45
A3: 1 | B3: 2 | C3: 0.27
A4: 1 | B4: 21 | C4: 0.49
A5: 1 | B5: 4 | C5: 0.15
A6: 1 | B6: 5 | C6: 0.51
A7: 1 | B7: 6 | C7: 0.05
A8: 1 | B8: 7 | C8: 0.36
A9: 1 | B9: 9 | C9: 0.26
A10: 1 | B10: 10 | C10: 0.3
A11: 1 | B11: 11 | C11: 0.13
A12: 1 | B12: 12 | C12: 0.1
A13: 1 | B13: 13 | C13: 0.35
... A76: 2 | B76: 42 | C76: 0.04

Sheet Fournisseurs
A1: CodeFournisseur | B1: SOCIETE | C1: ADRESSE | D1: CP | E1: VILLE | F1: Tel | G1: Fax | H1: ISO9002 | I1: ISO9003 | J1: ProduitsFournis | K1: Date dernière livraison | L1: Date dernière livraison refusée | M1: Date dernière livraison (excel 2016) | N1: Date dernière livraison refusée (excel 2016) | O1: Taux de refus
A2: 1 | B2: ABATTOIRS DE MALAUCENE | C2: Rue du Mont Ventoux | D2: 84123 | E2: MALAUCENE | F2: 0490221512 | G2: 0490221513 | H2: TRUE | I2: TRUE | J2: VIANDES | K2: {=MAX(IF($A2=T_RM1[CodeFournisseur],T_RM1[DateRéception]))} -> 44163 | L2: {=MAX(IF((T_RM1[CodeFournisseur]=A2)*(T_RM1[Refusée]=TRUE),T_RM1[DateRéception]))} -> 0 | M2: =_xlfn.MAXIFS(T_RM1[DateRéception],T_RM1[CodeFournisseur],$A2,T_RM1[Refusée],FALSE) -> 44163 | N2: =_xlfn.MAXIFS(T_RM1[DateRéception],T_RM1[CodeFournisseur],$A2,T_RM1[Refusée],TRUE) -> 0 | O2: =IFERROR(COUNTIFS(T_RM1[CodeFournisseur],$A2,T_RM1[Refusée],TRUE)/COUNTIF(T_RM1[CodeFournisseur],$A2),"") -> 0 | Q2: Avant 2016
A3: 2 | B3: BIO FRAIS | C3: BP 48 | D3: 13200 | E3: ST REMI DE PROVENCE | F3: 0493455656 | G3: 0493567889 | H3: FALSE | I3: FALSE | J3: LEGUMES FRAIS | K3: {=MAX(IF($A3=T_RM1[CodeFournisseur],T_RM1[DateRéception]))} -> 44161 | L3: {=MAX(IF((T_RM1[CodeFournisseur]=A3)*(T_RM1[Refusée]=TRUE),T_RM1[DateRéception]))} -> 44159 | M3: =_xlfn.MAXIFS(T_RM1[DateRéception],T_RM1[CodeFournisseur],$A3,T_RM1[Refusée],FALSE) -> 44161 | N3: =_xlfn.MAXIFS(T_RM1[DateRéception],T_RM1[CodeFournisseur],$A3,T_RM1[Refusée],TRUE) -> 44159 | O3: =IFERROR(COUNTIFS(T_RM1[CodeFournisseur],$A3,T_RM1[Refusée],TRUE)/COUNTIF(T_RM1[CodeFournisseur],$A3),"") -> 0.29166667 | Q3: K3 : | R3: =_xlfn.FORMULATEXT(K2) -> {=MAX(SI($A2=T_RM1[CodeFournisseur];T_RM1[DateRéception]))}
A4: 3 | B4: EPICES DU MONDE | C4: ZI DU MOURELET | D4: 75000 | E4: PARIS | F4: 0145896545 | G4: 0145896578 | H4: TRUE | I4: TRUE | J4: EPICERIE | K4: {=MAX(IF($A4=T_RM1[CodeFournisseur],T_RM1[DateRéception]))} -> 44154 | L4: {=MAX(IF((T_RM1[CodeFournisseur]=A4)*(T_RM1[Refusée]=TRUE),T_RM1[DateRéception]))} -> 0 | M4: =_xlfn.MAXIFS(T_RM1[DateRéception],T_RM1[CodeFournisseur],$A4,T_RM1[Refusée],FALSE) -> 44154 | N4: =_xlfn.MAXIFS(T_RM1[DateRéception],T_RM1[CodeFournisseur],$A4,T_RM1[Refusée],TRUE) -> 0 | O4: =IFERROR(COUNTIFS(T_RM1[CodeFournisseur],$A4,T_RM1[Refusée],TRUE)/COUNTIF(T_RM1[CodeFournisseur],$A4),"") -> 0 | Q4: L3 : | R4: =_xlfn.FORMULATEXT(L2) -> {=MAX(SI((T_RM1[CodeFournisseur]=A2)*(T_RM1[Refusée]=VRAI);T_RM1[DateRéception]))}
A5: 4 | B5: CHAMPIGNONIERE DU SUD EST | C5: La Colline verte | D5: 06200 | E5: NICE | F5: 0493834578 | G5: 0493567894 | H5: FALSE | I5: TRUE | J5: CHAMPIGNONS | K5: {=MAX(IF($A5=T_RM1[CodeFournisseur],T_RM1[DateRéception]))} -> 44165 | L5: {=MAX(IF((T_RM1[CodeFournisseur]=A5)*(T_RM1[Refusée]=TRUE),T_RM1[DateRéception]))} -> 44161 | M5: =_xlfn.MAXIFS(T_RM1[DateRéception],T_RM1[CodeFournisseur],$A5,T_RM1[Refusée],FALSE) -> 44165 | N5: =_xlfn.MAXIFS(T_RM1[DateRéception],T_RM1[CodeFournisseur],$A5,T_RM1[Refusée],TRUE) -> 44161 | O5: =IFERROR(COUNTIFS(T_RM1[CodeFournisseur],$A5,T_RM1[Refusée],TRUE)/COUNTIF(T_RM1[CodeFournisseur],$A5),"") -> 0.1
A6: 5 | B6: AZUR FRAIS | C6: ZAC DE MARCILLAC | D6: 84700 | E6: CARPENTRAS | F6: 0490455678 | G6: 0490124578 | H6: TRUE | I6: FALSE | J6: LEGUMES FRAIS | K6: {=MAX(IF($A6=T_RM1[CodeFournisseur],T_RM1[DateRéception]))} -> 0 | L6: {=MAX(IF((T_RM1[CodeFournisseur]=A6)*(T_RM1[Refusée]=TRUE),T_RM1[DateRéception]))} -> 0 | M6: =_xlfn.MAXIFS(T_RM1[DateRéception],T_RM1[CodeFournisseur],$A6,T_RM1[Refusée],FALSE) -> 0 | N6: =_xlfn.MAXIFS(T_RM1[DateRéception],T_RM1[CodeFournisseur],$A6,T_RM1[Refusée],TRUE) -> 0 | O6: =IFERROR(COUNTIFS(T_RM1[CodeFournisseur],$A6,T_RM1[Refusée],TRUE)/COUNTIF(T_RM1[CodeFournisseur],$A6),"") | Q6: 2016+
A7: 6 | B7: LEGUMES ET TRADITION | C7: MARCHE GARE | D7: 69000 | E7: LYON cedex | F7: 0478458978 | G7: 0478455689 | H7: FALSE | I7: TRUE | J7: LEGUMES SECS | K7: {=MAX(IF($A7=T_RM1[CodeFournisseur],T_RM1[DateRéception]))} -> 44152 | L7: {=MAX(IF((T_RM1[CodeFournisseur]=A7)*(T_RM1[Refusée]=TRUE),T_RM1[DateRéception]))} -> 43991 | M7: =_xlfn.MAXIFS(T_RM1[DateRéception],T_RM1[CodeFournisseur],$A7,T_RM1[Refusée],FALSE) -> 44152 | N7: =_xlfn.MAXIFS(T_RM1[DateRéception],T_RM1[CodeFournisseur],$A7,T_RM1[Refusée],TRUE) -> 43991 | O7: =IFERROR(COUNTIFS(T_RM1[CodeFournisseur],$A7,T_RM1[Refusée],TRUE)/COUNTIF(T_RM1[CodeFournisseur],$A7),"") -> 0.375 | Q7: N3 : | R7: =_xlfn.FORMULATEXT(M2) -> =MAX.SI.ENS(T_RM1[DateRéception];T_RM1[CodeFournisseur];$A2;T_RM1[Refusée];FAUX)
A8: 7 | B8: APPRO VIANDES | C8: Rue des Blanchisseurs | D8: 30000 | E8: NIMES | F8: 0466324589 | G8: 0466214565 | H8: FALSE | I8: FALSE | J8: VIANDES | K8: {=MAX(IF($A8=T_RM1[CodeFournisseur],T_RM1[DateRéception]))} -> 44164 | L8: {=MAX(IF((T_RM1[CodeFournisseur]=A8)*(T_RM1[Refusée]=TRUE),T_RM1[DateRéception]))} -> 44150 | M8: =_xlfn.MAXIFS(T_RM1[DateRéception],T_RM1[CodeFournisseur],$A8,T_RM1[Refusée],FALSE) -> 44164 | N8: =_xlfn.MAXIFS(T_RM1[DateRéception],T_RM1[CodeFournisseur],$A8,T_RM1[Refusée],TRUE) -> 44150 | O8: =IFERROR(COUNTIFS(T_RM1[CodeFournisseur],$A8,T_RM1[Refusée],TRUE)/COUNTIF(T_RM1[CodeFournisseur],$A8),"") -> 0.2 | Q8: O3 : | R8: =_xlfn.FORMULATEXT(N2) -> =MAX.SI.ENS(T_RM1[DateRéception];T_RM1[CodeFournisseur];$A2;T_RM1[Refusée];VRAI)
A9: 8 | B9: AROMAT France | C9: Rue du Vieux Palais | D9: 13000 | E9: MARSEILLE cedex 3 | F9: 0491455658 | G9: 0491548987 | H9: TRUE | I9: TRUE | J9: AROMATES | K9: {=MAX(IF($A9=T_RM1[CodeFournisseur],T_RM1[DateRéception]))} -> 44159 | L9: {=MAX(IF((T_RM1[CodeFournisseur]=A9)*(T_RM1[Refusée]=TRUE),T_RM1[DateRéception]))} -> 0 | M9: =_xlfn.MAXIFS(T_RM1[DateRéception],T_RM1[CodeFournisseur],$A9,T_RM1[Refusée],FALSE) -> 44159 | N9: =_xlfn.MAXIFS(T_RM1[DateRéception],T_RM1[CodeFournisseur],$A9,T_RM1[Refusée],TRUE) -> 0 | O9: =IFERROR(COUNTIFS(T_RM1[CodeFournisseur],$A9,T_RM1[Refusée],TRUE)/COUNTIF(T_RM1[CodeFournisseur],$A9),"") -> 0
A10: 9 | B10: EARL DAVIN | C10: Le vieux Moulin | D10: 84500 | E10: GIGONDAS | F10: 0490455689 | G10: 0490124578 | H10: FALSE | I10: FALSE | J10: VINS | K10: {=MAX(IF($A10=T_RM1[CodeFournisseur],T_RM1[DateRéception]))} -> 44161 | L10: {=MAX(IF((T_RM1[CodeFournisseur]=A10)*(T_RM1[Refusée]=TRUE),T_RM1[DateRéception]))} -> 43794 | M10: =_xlfn.MAXIFS(T_RM1[DateRéception],T_RM1[CodeFournisseur],$A10,T_RM1[Refusée],FALSE) -> 44161 | N10: =_xlfn.MAXIFS(T_RM1[DateRéception],T_RM1[CodeFournisseur],$A10,T_RM1[Refusée],TRUE) -> 43794 | O10: =IFERROR(COUNTIFS(T_RM1[CodeFournisseur],$A10,T_RM1[Refusée],TRUE)/COUNTIF(T_RM1[CodeFournisseur],$A10),"") -> 0.16666667 | Q10: 2007+
A11: 10 | B11: COOPERATIVE DU SOLEIL | C11: ZI Martelet | D11: 13450 | E11: AIX EN PROVENCE | F11: 0442457889 | G11: 0445898745 | H11: FALSE | I11: FALSE | J11: VINS | K11: {=MAX(IF($A11=T_RM1[CodeFournisseur],T_RM1[DateRéception]))} -> 0 | L11: {=MAX(IF((T_RM1[CodeFournisseur]=A11)*(T_RM1[Refusée]=TRUE),T_RM1[DateRéception]))} -> 0 | M11: =_xlfn.MAXIFS(T_RM1[DateRéception],T_RM1[CodeFournisseur],$A11,T_RM1[Refusée],FALSE) -> 0 | N11: =_xlfn.MAXIFS(T_RM1[DateRéception],T_RM1[CodeFournisseur],$A11,T_RM1[Refusée],TRUE) -> 0 | O11: =IFERROR(COUNTIFS(T_RM1[CodeFournisseur],$A11,T_RM1[Refusée],TRUE)/COUNTIF(T_RM1[CodeFournisseur],$A11),"") | Q11: O3 : | R11: =_xlfn.FORMULATEXT(O2) -> =SIERREUR(NB.SI.ENS(T_RM1[CodeFournisseur];$A2;T_RM1[Refusée];VRAI)/NB.SI(T_RM1[CodeFournisseur];$A2);"")
A12: 11 | B12: VOLAILLES ET GIBIER | C12: Bd des Capucines | D12: 38200 | E12: VIENNE | F12: 0474458987 | G12: 0474558877 | H12: TRUE | I12: TRUE | J12: VIANDES | K12: {=MAX(IF($A12=T_RM1[CodeFournisseur],T_RM1[DateRéception]))} -> 44161 | L12: {=MAX(IF((T_RM1[CodeFournisseur]=A12)*(T_RM1[Refusée]=TRUE),T_RM1[DateRéception]))} -> 44161 | M12: =_xlfn.MAXIFS(T_RM1[DateRéception],T_RM1[CodeFournisseur],$A12,T_RM1[Refusée],FALSE) -> 44161 | N12: =_xlfn.MAXIFS(T_RM1[DateRéception],T_RM1[CodeFournisseur],$A12,T_RM1[Refusée],TRUE) -> 44161 | O12: =IFERROR(COUNTIFS(T_RM1[CodeFournisseur],$A12,T_RM1[Refusée],TRUE)/COUNTIF(T_RM1[CodeFournisseur],$A12),"") -> 0.25
A13: 12 | B13: CHAMPIGNONS DE France | C13: Le Reul | D13: 42000 | E13: SAINT ETIENNE | F13: 0485789878 | G13: 0478954565 | H13: TRUE | I13: TRUE | J13: CHAMPIGNONS | K13: {=MAX(IF($A13=T_RM1[CodeFournisseur],T_RM1[DateRéception]))} -> 0 | L13: {=MAX(IF((T_RM1[CodeFournisseur]=A13)*(T_RM1[Refusée]=TRUE),T_RM1[DateRéception]))} -> 0 | M13: =_xlfn.MAXIFS(T_RM1[DateRéception],T_RM1[CodeFournisseur],$A13,T_RM1[Refusée],FALSE) -> 0 | N13: =_xlfn.MAXIFS(T_RM1[DateRéception],T_RM1[CodeFournisseur],$A13,T_RM1[Refusée],TRUE) -> 0 | O13: =IFERROR(COUNTIFS(T_RM1[CodeFournisseur],$A13,T_RM1[Refusée],TRUE)/COUNTIF(T_RM1[CodeFournisseur],$A13),"")
A14: 13 | B14: LAITERIE DU MONT BLANC | C14: Route de Combloux | D14: 74700 | E14: SALLANCHES | F14: 0450897845 | G14: 0450558998 | H14: TRUE | I14: FALSE | J14: PRODUITS LAITIERS | K14: {=MAX(IF($A14=T_RM1[CodeFournisseur],T_RM1[DateRéception]))} -> 0 | L14: {=MAX(IF((T_RM1[CodeFournisseur]=A14)*(T_RM1[Refusée]=TRUE),T_RM1[DateRéception]))} -> 0 | M14: =_xlfn.MAXIFS(T_RM1[DateRéception],T_RM1[CodeFournisseur],$A14,T_RM1[Refusée],FALSE) -> 0 | N14: =_xlfn.MAXIFS(T_RM1[DateRéception],T_RM1[CodeFournisseur],$A14,T_RM1[Refusée],TRUE) -> 0 | O14: =IFERROR(COUNTIFS(T_RM1[CodeFournisseur],$A14,T_RM1[Refusée],TRUE)/COUNTIF(T_RM1[CodeFournisseur],$A14),"")
A15: 14 | B15: CHARCUTERIE ANJOLRAS | C15: 23 Route de Mazan | D15: 69400 | E15: St ROMAIN | F15: 0474458789 | G15: 0456548787 | H15: FALSE | I15: TRUE | J15: CHARCUTERIE | K15: {=MAX(IF($A15=T_RM1[CodeFournisseur],T_RM1[DateRéception]))} -> 44165 | L15: {=MAX(IF((T_RM1[CodeFournisseur]=A15)*(T_RM1[Refusée]=TRUE),T_RM1[DateRéception]))} -> 0 | M15: =_xlfn.MAXIFS(T_RM1[DateRéception],T_RM1[CodeFournisseur],$A15,T_RM1[Refusée],FALSE) -> 44165 | N15: =_xlfn.MAXIFS(T_RM1[DateRéception],T_RM1[CodeFournisseur],$A15,T_RM1[Refusée],TRUE) -> 0 | O15: =IFERROR(COUNTIFS(T_RM1[CodeFournisseur],$A15,T_RM1[Refusée],TRUE)/COUNTIF(T_RM1[CodeFournisseur],$A15),"") -> 0 | Q15: Format nombres
A16: 15 | B16: CHARCUTERIE MAUJOULAT | C16: ZAC DE MOURELET | D16: 51000 | E16: REIMS | F16: 0345525454 | G16: 0345657898 | H16: FALSE | I16: FALSE | J16: CHARCUTERIE | K16: {=MAX(IF($A16=T_RM1[CodeFournisseur],T_RM1[DateRéception]))} -> 0 | L16: {=MAX(IF((T_RM1[CodeFournisseur]=A16)*(T_RM1[Refusée]=TRUE),T_RM1[DateRéception]))} -> 0 | M16: =_xlfn.MAXIFS(T_RM1[DateRéception],T_RM1[CodeFournisseur],$A16,T_RM1[Refusée],FALSE) -> 0 | N16: =_xlfn.MAXIFS(T_RM1[DateRéception],T_RM1[CodeFournisseur],$A16,T_RM1[Refusée],TRUE) -> 0 | O16: =IFERROR(COUNTIFS(T_RM1[CodeFournisseur],$A16,T_RM1[Refusée],TRUE)/COUNTIF(T_RM1[CodeFournisseur],$A16),"") | Q16: Date | R16: jj/mm/aaaa;;
A17: 16 | B17: GROS VIANDES | C17: ZI Du Lautaret | D17: 44000 | E17: NANTES | F17: 0212789887 | G17: 0212456587 | H17: TRUE | I17: FALSE | J17: VIANDES | K17: {=MAX(IF($A17=T_RM1[CodeFournisseur],T_RM1[DateRéception]))} -> 0 | L17: {=MAX(IF((T_RM1[CodeFournisseur]=A17)*(T_RM1[Refusée]=TRUE),T_RM1[DateRéception]))} -> 0 | M17: =_xlfn.MAXIFS(T_RM1[DateRéception],T_RM1[CodeFournisseur],$A17,T_RM1[Refusée],FALSE) -> 0 | N17: =_xlfn.MAXIFS(T_RM1[DateRéception],T_RM1[CodeFournisseur],$A17,T_RM1[Refusée],TRUE) -> 0 | O17: =IFERROR(COUNTIFS(T_RM1[CodeFournisseur],$A17,T_RM1[Refusée],TRUE)/COUNTIF(T_RM1[CodeFournisseur],$A17),"") | Q17: % | R17: 0,0%;[Rouge]-0,0%;
A18: 18 | B18: CUISINE APPRO | C18: Bd Brune | D18: 75008 | E18: PARIS | F18: 0101124589 | G18: 0101124565 | H18: TRUE | I18: FALSE | J18: EPICERIE | K18: {=MAX(IF($A18=T_RM1[CodeFournisseur],T_RM1[DateRéception]))} -> 44162 | L18: {=MAX(IF((T_RM1[CodeFournisseur]=A18)*(T_RM1[Refusée]=TRUE),T_RM1[DateRéception]))} -> 0 | M18: =_xlfn.MAXIFS(T_RM1[DateRéception],T_RM1[CodeFournisseur],$A18,T_RM1[Refusée],FALSE) -> 44162 | N18: =_xlfn.MAXIFS(T_RM1[DateRéception],T_RM1[CodeFournisseur],$A18,T_RM1[Refusée],TRUE) -> 0 | O18: =IFERROR(COUNTIFS(T_RM1[CodeFournisseur],$A18,T_RM1[Refusée],TRUE)/COUNTIF(T_RM1[CodeFournisseur],$A18),"") -> 0
A19: 19 | B19: UNIMER | C19: Le vieux Port | D19: 13004 | E19: MARSEILLE cedex 4 | F19: 0491121314 | G19: 0491124578 | H19: TRUE | I19: FALSE | J19: POISSONS | K19: {=MAX(IF($A19=T_RM1[CodeFournisseur],T_RM1[DateRéception]))} -> 0 | L19: {=MAX(IF((T_RM1[CodeFournisseur]=A19)*(T_RM1[Refusée]=TRUE),T_RM1[DateRéception]))} -> 0 | M19: =_xlfn.MAXIFS(T_RM1[DateRéception],T_RM1[CodeFournisseur],$A19,T_RM1[Refusée],FALSE) -> 0 | N19: =_xlfn.MAXIFS(T_RM1[DateRéception],T_RM1[CodeFournisseur],$A19,T_RM1[Refusée],TRUE) -> 0 | O19: =IFERROR(COUNTIFS(T_RM1[CodeFournisseur],$A19,T_RM1[Refusée],TRUE)/COUNTIF(T_RM1[CodeFournisseur],$A19),"") | Q19: Un seul type de données dans chaque colonne !
A20: 20 | B20: LA MAREE | C20: Quai 54 | D20: 13002 | E20: MARSEILLE | F20: 0491232259 | G20: 0491112324 | H20: FALSE | I20: TRUE | J20: POISSONS | K20: {=MAX(IF($A20=T_RM1[CodeFournisseur],T_RM1[DateRéception]))} -> 0 | L20: {=MAX(IF((T_RM1[CodeFournisseur]=A20)*(T_RM1[Refusée]=TRUE),T_RM1[DateRéception]))} -> 0 | M20: =_xlfn.MAXIFS(T_RM1[DateRéception],T_RM1[CodeFournisseur],$A20,T_RM1[Refusée],FALSE) -> 0 | N20: =_xlfn.MAXIFS(T_RM1[DateRéception],T_RM1[CodeFournisseur],$A20,T_RM1[Refusée],TRUE) -> 0 | O20: =IFERROR(COUNTIFS(T_RM1[CodeFournisseur],$A20,T_RM1[Refusée],TRUE)/COUNTIF(T_RM1[CodeFournisseur],$A20),"")
A21: 21 | B21: 200 LEGUMES | C21: Rue du Pont Neuf | D21: 69008 | E21: LYON | F21: 0474568978 | G21: 0456788965 | H21: FALSE | I21: TRUE | J21: LEGUMES FRAIS | K21: {=MAX(IF($A21=T_RM1[CodeFournisseur],T_RM1[DateRéception]))} -> 0 | L21: {=MAX(IF((T_RM1[CodeFournisseur]=A21)*(T_RM1[Refusée]=TRUE),T_RM1[DateRéception]))} -> 0 | M21: =_xlfn.MAXIFS(T_RM1[DateRéception],T_RM1[CodeFournisseur],$A21,T_RM1[Refusée],FALSE) -> 0 | N21: =_xlfn.MAXIFS(T_RM1[DateRéception],T_RM1[CodeFournisseur],$A21,T_RM1[Refusée],TRUE) -> 0 | O21: =IFERROR(COUNTIFS(T_RM1[CodeFournisseur],$A21,T_RM1[Refusée],TRUE)/COUNTIF(T_RM1[CodeFournisseur],$A21),"")

Sheet Prix-Mat°Prem-Fourn
A1: CodeMatPrem | B1: CodeFournisseur | C1: PrixAchat
A2: 1 | B2: 1 | C2: 9.37
A3: 16 | B3: 1 | C3: 8.57
A4: 22 | B4: 1 | C4: 8.77
A5: 34 | B5: 1 | C5: 9.64
A6: 35 | B6: 1 | C6: 7.26
A7: 10 | B7: 2 | C7: 1.49
A8: 13 | B8: 2 | C8: 0.68
A9: 17 | B9: 2 | C9: 2.07
A10: 30 | B10: 2 | C10: 2.46
A11: 11 | B11: 3 | C11: 15.72
A12: 12 | B12: 3 | C12: 7.33
A13: 28 | B13: 4 | C13: 4.16
... A64: 38 | B64: 18 | C64: 36.1

Sheet Récep°Mat°1°
A1: CodeFournisseur | B1: NumRéception | C1: CodeMatPrem | D1: CodeFour | E1: CodeOpérateur | F1: QtéLivrée | G1: DateRéception | H1: Refusée | I1: MotifRefus
A2: =VLOOKUP(C2,'Prix-Mat°Prem-Fourn'!A:C,2,FALSE) -> 2 | B2: 1 | C2: 13 | D2: 2 | E2: 5 | F2: 300 | G2: 43620 | H2: FALSE
A3: =VLOOKUP(C3,'Prix-Mat°Prem-Fourn'!A:C,2,FALSE) -> 1 | B3: 3 | C3: 1 | D3: 1 | E3: 6 | F3: 250 | G3: 43621 | H3: FALSE
A4: =VLOOKUP(C4,'Prix-Mat°Prem-Fourn'!A:C,2,FALSE) -> 2 | B4: 4 | C4: 13 | D4: 2 | E4: 2 | F4: 150 | G4: 43622 | H4: FALSE
A5: =VLOOKUP(C5,'Prix-Mat°Prem-Fourn'!A:C,2,FALSE) -> 18 | B5: 5 | C5: 5 | D5: 18 | E5: 5 | F5: 50 | G5: 43623 | H5: FALSE
A6: =VLOOKUP(C6,'Prix-Mat°Prem-Fourn'!A:C,2,FALSE) -> 8 | B6: 6 | C6: 8 | D6: 18 | E6: 2 | F6: 25 | G6: 43623 | H6: FALSE
A7: =VLOOKUP(C7,'Prix-Mat°Prem-Fourn'!A:C,2,FALSE) -> 6 | B7: 7 | C7: 9 | D7: 6 | E7: 1 | F7: 30 | G7: 43624 | H7: TRUE | I7: MOISISSURES
A8: =VLOOKUP(C8,'Prix-Mat°Prem-Fourn'!A:C,2,FALSE) -> 18 | B8: 8 | C8: 5 | D8: 18 | E8: 4 | F8: 25 | G8: 43624 | H8: FALSE
A9: =VLOOKUP(C9,'Prix-Mat°Prem-Fourn'!A:C,2,FALSE) -> 3 | B9: 9 | C9: 11 | D9: 3 | E9: 3 | F9: 35 | G9: 43624 | H9: FALSE
A10: =VLOOKUP(C10,'Prix-Mat°Prem-Fourn'!A:C,2,FALSE) -> 2 | B10: 10 | C10: 17 | D10: 2 | E10: 2 | F10: 100 | G10: 43625 | H10: FALSE
A11: =VLOOKUP(C11,'Prix-Mat°Prem-Fourn'!A:C,2,FALSE) -> 6 | B11: 11 | C11: 9 | D11: 6 | E11: 3 | F11: 100 | G11: 43625 | H11: TRUE | I11: MOISISSURES
A12: =VLOOKUP(C12,'Prix-Mat°Prem-Fourn'!A:C,2,FALSE) -> 1 | B12: 12 | C12: 16 | D12: 1 | E12: 2 | F12: 35 | G12: 43625 | H12: FALSE
A13: =VLOOKUP(C13,'Prix-Mat°Prem-Fourn'!A:C,2,FALSE) -> 1 | B13: 13 | C13: 16 | D13: 7 | E13: 5 | F13: 100 | G13: 43625 | H13: FALSE
A14: =VLOOKUP(C14,'Prix-Mat°Prem-Fourn'!A:C,2,FALSE) -> 8 | B14: 14 | C14: 8 | D14: 8 | E14: 5 | F14: 200 | G14: 43625 | H14: FALSE
A15: =VLOOKUP(C15,'Prix-Mat°Prem-Fourn'!A:C,2,FALSE) -> 7 | B15: 15 | C15: 2 | D15: 7 | E15: 4 | F15: 100 | G15: 43635 | H15: TRUE | I15: TEMP TROP ELEVEE
A16: =VLOOKUP(C16,'Prix-Mat°Prem-Fourn'!A:C,2,FALSE) -> 6 | B16: 16 | C16: 26 | D16: 6 | E16: 6 | F16: 39 | G16: 43635 | H16: FALSE
A17: =VLOOKUP(C17,'Prix-Mat°Prem-Fourn'!A:C,2,FALSE) -> 2 | B17: 17 | C17: 30 | D17: 2 | E17: 4 | F17: 100 | G17: 43635 | H17: FALSE
A18: =VLOOKUP(C18,'Prix-Mat°Prem-Fourn'!A:C,2,FALSE) -> 1 | B18: 18 | C18: 35 | D18: 1 | E18: 1 | F18: 50 | G18: 43660 | H18: FALSE
A19: =VLOOKUP(C19,'Prix-Mat°Prem-Fourn'!A:C,2,FALSE) -> 11 | B19: 19 | C19: 32 | D19: 11 | E19: 5 | F19: 100 | G19: 43660 | H19: TRUE | I19: ASPECT
A20: =VLOOKUP(C20,'Prix-Mat°Prem-Fourn'!A:C,2,FALSE) -> 4 | B20: 20 | C20: 28 | D20: 4 | E20: 3 | F20: 50 | G20: 43660 | H20: FALSE
A21: =VLOOKUP(C21,'Prix-Mat°Prem-Fourn'!A:C,2,FALSE) -> 7 | B21: 21 | C21: 31 | D21: 11 | E21: 3 | F21: 120 | G21: 43660 | H21: FALSE
A22: =VLOOKUP(C22,'Prix-Mat°Prem-Fourn'!A:C,2,FALSE) -> 1 | B22: 22 | C22: 35 | D22: 1 | E22: 2 | F22: 50 | G22: 43671 | H22: FALSE
A23: =VLOOKUP(C23,'Prix-Mat°Prem-Fourn'!A:C,2,FALSE) -> 14 | B23: 23 | C23: 27 | D23: 15 | E23: 5 | F23: 120 | G23: 43688 | H23: FALSE
A24: =VLOOKUP(C24,'Prix-Mat°Prem-Fourn'!A:C,2,FALSE) -> 8 | B24: 24 | C24: 8 | D24: 8 | E24: 3 | F24: 50 | G24: 43689 | H24: FALSE
A25: =VLOOKUP(C25,'Prix-Mat°Prem-Fourn'!A:C,2,FALSE) -> 11 | B25: 25 | C25: 29 | D25: 11 | E25: 5 | F25: 200 | G25: 43699 | H25: FALSE
A26: =VLOOKUP(C26,'Prix-Mat°Prem-Fourn'!A:C,2,FALSE) -> 2 | B26: 26 | C26: 30 | D26: 6 | E26: 2 | F26: 150 | G26: 43701 | H26: TRUE | I26: MOISISSURES
A27: =VLOOKUP(C27,'Prix-Mat°Prem-Fourn'!A:C,2,FALSE) -> 18 | B27: 27 | C27: 7 | D27: 18 | E27: 1 | F27: 90 | G27: 43710 | H27: FALSE
A28: =VLOOKUP(C28,'Prix-Mat°Prem-Fourn'!A:C,2,FALSE) -> 14 | B28: 28 | C28: 27 | D28: 15 | E28: 5 | F28: 120 | G28: 43724 | H28: FALSE
A29: =VLOOKUP(C29,'Prix-Mat°Prem-Fourn'!A:C,2,FALSE) -> 2 | B29: 29 | C29: 17 | D29: 18 | E29: 3 | F29: 30 | G29: 43730 | H29: FALSE
A30: =VLOOKUP(C30,'Prix-Mat°Prem-Fourn'!A:C,2,FALSE) -> 1 | B30: 30 | C30: 35 | D30: 1 | E30: 2 | F30: 100 | G30: 43739 | H30: FALSE
A31: =VLOOKUP(C31,'Prix-Mat°Prem-Fourn'!A:C,2,FALSE) -> 9 | B31: 31 | C31: 3 | D31: 10 | E31: 3 | F31: 200 | G31: 43749 | H31: FALSE
A32: =VLOOKUP(C32,'Prix-Mat°Prem-Fourn'!A:C,2,FALSE) -> 4 | B32: 32 | C32: 28 | D32: 4 | E32: 2 | F32: 50 | G32: 43759 | H32: FALSE
A33: =VLOOKUP(C33,'Prix-Mat°Prem-Fourn'!A:C,2,FALSE) -> 11 | B33: 33 | C33: 32 | D33: 11 | E33: 1 | F33: 60 | G33: 43760 | H33: TRUE | I33: ABSENCE CERTIFICAT ORIGINE
A34: =VLOOKUP(C34,'Prix-Mat°Prem-Fourn'!A:C,2,FALSE) -> 18 | B34: 34 | C34: 7 | D34: 18 | E34: 3 | F34: 100 | G34: 43762 | H34: FALSE
A35: =VLOOKUP(C35,'Prix-Mat°Prem-Fourn'!A:C,2,FALSE) -> 1 | B35: 35 | C35: 1 | D35: 7 | E35: 3 | F35: 40 | G35: 43762 | H35: FALSE
A36: =VLOOKUP(C36,'Prix-Mat°Prem-Fourn'!A:C,2,FALSE) -> 7 | B36: 36 | C36: 2 | D36: 16 | E36: 2 | F36: 50 | G36: 43763 | H36: FALSE
A37: =VLOOKUP(C37,'Prix-Mat°Prem-Fourn'!A:C,2,FALSE) -> 14 | B37: 37 | C37: 27 | D37: 15 | E37: 6 | F37: 100 | G37: 43763 | H37: FALSE
A38: =VLOOKUP(C38,'Prix-Mat°Prem-Fourn'!A:C,2,FALSE) -> 4 | B38: 38 | C38: 37 | D38: 4 | E38: 4 | F38: 50 | G38: 43771 | H38: FALSE
A39: =VLOOKUP(C39,'Prix-Mat°Prem-Fourn'!A:C,2,FALSE) -> 18 | B39: 39 | C39: 38 | D39: 18 | E39: 2 | F39: 40 | G39: 43771 | H39: FALSE
A40: =VLOOKUP(C40,'Prix-Mat°Prem-Fourn'!A:C,2,FALSE) -> 8 | B40: 40 | C40: 42 | D40: 8 | E40: 5 | F40: 15 | G40: 43771 | H40: FALSE
A41: =VLOOKUP(C41,'Prix-Mat°Prem-Fourn'!A:C,2,FALSE) -> 11 | B41: 41 | C41: 39 | D41: 11 | E41: 6 | F41: 15 | G41: 43772 | H41: FALSE
A42: =VLOOKUP(C42,'Prix-Mat°Prem-Fourn'!A:C,2,FALSE) -> 4 | B42: 42 | C42: 28 | D42: 6 | E42: 6 | F42: 20 | G42: 43774 | H42: FALSE
A43: =VLOOKUP(C43,'Prix-Mat°Prem-Fourn'!A:C,2,FALSE) -> 3 | B43: 43 | C43: 11 | D43: 18 | E43: 4 | F43: 23 | G43: 43776 | H43: FALSE
A44: =VLOOKUP(C44,'Prix-Mat°Prem-Fourn'!A:C,2,FALSE) -> 7 | B44: 44 | C44: 31 | D44: 7 | E44: 5 | F44: 12 | G44: 43781 | H44: FALSE
A45: =VLOOKUP(C45,'Prix-Mat°Prem-Fourn'!A:C,2,FALSE) -> 11 | B45: 45 | C45: 39 | D45: 11 | E45: 4 | F45: 25 | G45: 43781 | H45: FALSE
A46: =VLOOKUP(C46,'Prix-Mat°Prem-Fourn'!A:C,2,FALSE) -> 1 | B46: 46 | C46: 1 | D46: 1 | E46: 2 | F46: 55 | G46: 43782 | H46: FALSE
A47: =VLOOKUP(C47,'Prix-Mat°Prem-Fourn'!A:C,2,FALSE) -> 7 | B47: 47 | C47: 2 | D47: 16 | E47: 1 | F47: 20 | G47: 43783 | H47: TRUE | I47: TEMP TROP ELEVEE
A48: =VLOOKUP(C48,'Prix-Mat°Prem-Fourn'!A:C,2,FALSE) -> 18 | B48: 48 | C48: 5 | D48: 18 | E48: 3 | F48: 20 | G48: 43784 | H48: FALSE
A49: =VLOOKUP(C49,'Prix-Mat°Prem-Fourn'!A:C,2,FALSE) -> 11 | B49: 49 | C49: 29 | D49: 16 | E49: 5 | F49: 50 | G49: 43784 | H49: FALSE
A50: =VLOOKUP(C50,'Prix-Mat°Prem-Fourn'!A:C,2,FALSE) -> 2 | B50: 50 | C50: 30 | D50: 6 | E50: 6 | F50: 60 | G50: 43784 | H50: FALSE
A51: =VLOOKUP(C51,'Prix-Mat°Prem-Fourn'!A:C,2,FALSE) -> 11 | B51: 51 | C51: 32 | D51: 11 | E51: 1 | F51: 45 | G51: 43784 | H51: FALSE
A52: =VLOOKUP(C52,'Prix-Mat°Prem-Fourn'!A:C,2,FALSE) -> 8 | B52: 52 | C52: 42 | D52: 8 | E52: 3 | F52: 10 | G52: 43784 | H52: FALSE
A53: =VLOOKUP(C53,'Prix-Mat°Prem-Fourn'!A:C,2,FALSE) -> 11 | B53: 53 | C53: 39 | D53: 11 | E53: 2 | F53: 20 | G53: 43784 | H53: FALSE
A54: =VLOOKUP(C54,'Prix-Mat°Prem-Fourn'!A:C,2,FALSE) -> 6 | B54: 54 | C54: 26 | D54: 6 | E54: 4 | F54: 15 | G54: 43785 | H54: FALSE
A55: =VLOOKUP(C55,'Prix-Mat°Prem-Fourn'!A:C,2,FALSE) -> 4 | B55: 55 | C55: 28 | D55: 6 | E55: 6 | F55: 20 | G55: 43786 | H55: FALSE
A56: =VLOOKUP(C56,'Prix-Mat°Prem-Fourn'!A:C,2,FALSE) -> 3 | B56: 56 | C56: 11 | D56: 18 | E56: 3 | F56: 30 | G56: 43787 | H56: FALSE
A57: =VLOOKUP(C57,'Prix-Mat°Prem-Fourn'!A:C,2,FALSE) -> 7 | B57: 57 | C57: 31 | D57: 11 | E57: 2 | F57: 25 | G57: 43788 | H57: FALSE
A58: =VLOOKUP(C58,'Prix-Mat°Prem-Fourn'!A:C,2,FALSE) -> 8 | B58: 58 | C58: 8 | D58: 18 | E58: 2 | F58: 30 | G58: 43789 | H58: FALSE
A59: =VLOOKUP(C59,'Prix-Mat°Prem-Fourn'!A:C,2,FALSE) -> 7 | B59: 59 | C59: 31 | D59: 7 | E59: 5 | F59: 20 | G59: 43791 | H59: FALSE
... A69: =VLOOKUP(C69,'Prix-Mat°Prem-Fourn'!A:C,2,FALSE) -> 11 | B69: 69 | C69: 29 | D69: 11 | E69: 5 | F69: 200 | G69: 43792 | H69: FALSE
A70: =VLOOKUP(C70,'Prix-Mat°Prem-Fourn'!A:C,2,FALSE) -> 2 | B70: 70 | C70: 30 | D70: 6 | E70: 2 | F70: 150 | G70: 43792 | H70: TRUE | I70: MOISISSURES
A71: =VLOOKUP(C71,'Prix-Mat°Prem-Fourn'!A:C,2,FALSE) -> 18 | B71: 71 | C71: 7 | D71: 18 | E71: 1 | F71: 90 | G71: 43792 | H71: FALSE
A72: =VLOOKUP(C72,'Prix-Mat°Prem-Fourn'!A:C,2,FALSE) -> 14 | B72: 72 | C72: 27 | D72: 15 | E72: 5 | F72: 120 | G72: 43794 | H72: FALSE
A73: =VLOOKUP(C73,'Prix-Mat°Prem-Fourn'!A:C,2,FALSE) -> 2 | B73: 73 | C73: 17 | D73: 18 | E73: 3 | F73: 30 | G73: 43794 | H73: FALSE
A74: =VLOOKUP(C74,'Prix-Mat°Prem-Fourn'!A:C,2,FALSE) -> 1 | B74: 74 | C74: 35 | D74: 1 | E74: 2 | F74: 100 | G74: 43794 | H74: FALSE
A75: =VLOOKUP(C75,'Prix-Mat°Prem-Fourn'!A:C,2,FALSE) -> 9 | B75: 75 | C75: 3 | D75: 10 | E75: 3 | F75: 200 | G75: 43794 | H75: FALSE
A76: =VLOOKUP(C76,'Prix-Mat°Prem-Fourn'!A:C,2,FALSE) -> 4 | B76: 76 | C76: 28 | D76: 4 | E76: 2 | F76: 50 | G76: 43794 | H76: FALSE
A77: =VLOOKUP(C77,'Prix-Mat°Prem-Fourn'!A:C,2,FALSE) -> 11 | B77: 77 | C77: 32 | D77: 11 | E77: 1 | F77: 60 | G77: 43794 | H77: FALSE
A78: =VLOOKUP(C78,'Prix-Mat°Prem-Fourn'!A:C,2,FALSE) -> 18 | B78: 78 | C78: 7 | D78: 18 | E78: 3 | F78: 100 | G78: 43795 | H78: FALSE
A79: =VLOOKUP(C79,'Prix-Mat°Prem-Fourn'!A:C,2,FALSE) -> 1 | B79: 79 | C79: 1 | D79: 7 | E79: 3 | F79: 40 | G79: 43796 | H79: FALSE
A80: =VLOOKUP(C80,'Prix-Mat°Prem-Fourn'!A:C,2,FALSE) -> 7 | B80: 80 | C80: 2 | D80: 16 | E80: 2 | F80: 50 | G80: 43797 | H80: FALSE
A81: =VLOOKUP(C81,'Prix-Mat°Prem-Fourn'!A:C,2,FALSE) -> 14 | B81: 81 | C81: 27 | D81: 15 | E81: 6 | F81: 100 | G81: 43798 | H81: FALSE
A82: =VLOOKUP(C82,'Prix-Mat°Prem-Fourn'!A:C,2,FALSE) -> 4 | B82: 82 | C82: 37 | D82: 4 | E82: 4 | F82: 50 | G82: 43799 | H82: FALSE
A83: =VLOOKUP(C83,'Prix-Mat°Prem-Fourn'!A:C,2,FALSE) -> 2 | B83: 83 | C83: 30 | D83: 6 | E83: 2 | F83: 100 | G83: 43792 | H83: TRUE | I83: MOISISSURES
A84: =VLOOKUP(C84,'Prix-Mat°Prem-Fourn'!A:C,2,FALSE) -> 18 | B84: 84 | C84: 7 | D84: 18 | E84: 1 | F84: 90 | G84: 43792 | H84: FALSE
A85: =VLOOKUP(C85,'Prix-Mat°Prem-Fourn'!A:C,2,FALSE) -> 14 | B85: 85 | C85: 27 | D85: 15 | E85: 5 | F85: 120 | G85: 43794 | H85: FALSE
A86: =VLOOKUP(C86,'Prix-Mat°Prem-Fourn'!A:C,2,FALSE) -> 2 | B86: 86 | C86: 17 | D86: 18 | E86: 3 | F86: 30 | G86: 43794 | H86: FALSE
A87: =VLOOKUP(C87,'Prix-Mat°Prem-Fourn'!A:C,2,FALSE) -> 1 | B87: 87 | C87: 35 | D87: 1 | E87: 2 | F87: 100 | G87: 43836 | H87: FALSE
A88: =VLOOKUP(C88,'Prix-Mat°Prem-Fourn'!A:C,2,FALSE) -> 9 | B88: 88 | C88: 3 | D88: 10 | E88: 3 | F88: 200 | G88: 43794 | H88: TRUE | I88: ASPECT
A89: =VLOOKUP(C89,'Prix-Mat°Prem-Fourn'!A:C,2,FALSE) -> 4 | B89: 89 | C89: 28 | D89: 4 | E89: 2 | F89: 50 | G89: 43868 | H89: TRUE | I89: ASPECT
A90: =VLOOKUP(C90,'Prix-Mat°Prem-Fourn'!A:C,2,FALSE) -> 11 | B90: 90 | C90: 32 | D90: 11 | E90: 1 | F90: 60 | G90: 43893 | H90: FALSE
A91: =VLOOKUP(C91,'Prix-Mat°Prem-Fourn'!A:C,2,FALSE) -> 18 | B91: 91 | C91: 7 | D91: 18 | E91: 3 | F91: 100 | G91: 43949 | H91: FALSE
A92: =VLOOKUP(C92,'Prix-Mat°Prem-Fourn'!A:C,2,FALSE) -> 1 | B92: 92 | C92: 1 | D92: 7 | E92: 3 | F92: 40 | G92: 43950 | H92: FALSE
A93: =VLOOKUP(C93,'Prix-Mat°Prem-Fourn'!A:C,2,FALSE) -> 7 | B93: 93 | C93: 2 | D93: 16 | E93: 2 | F93: 50 | G93: 43980 | H93: FALSE
A94: =VLOOKUP(C94,'Prix-Mat°Prem-Fourn'!A:C,2,FALSE) -> 14 | B94: 94 | C94: 27 | D94: 15 | E94: 6 | F94: 100 | G94: 43981 | H94: FALSE
A95: =VLOOKUP(C95,'Prix-Mat°Prem-Fourn'!A:C,2,FALSE) -> 4 | B95: 95 | C95: 37 | D95: 4 | E95: 4 | F95: 50 | G95: 43983 | H95: FALSE
A96: =VLOOKUP(C96,'Prix-Mat°Prem-Fourn'!A:C,2,FALSE) -> 2 | B96: 96 | C96: 13 | D96: 2 | E96: 2 | F96: 300 | G96: 43986 | H96: FALSE
A97: =VLOOKUP(C97,'Prix-Mat°Prem-Fourn'!A:C,2,FALSE) -> 1 | B97: 97 | C97: 1 | D97: 1 | E97: 6 | F97: 250 | G97: 43987 | H97: FALSE
A98: =VLOOKUP(C98,'Prix-Mat°Prem-Fourn'!A:C,2,FALSE) -> 2 | B98: 98 | C98: 13 | D98: 2 | E98: 2 | F98: 150 | G98: 43988 | H98: TRUE | I98: ABSENCE CERTIFICAT ORIGINE
A99: =VLOOKUP(C99,'Prix-Mat°Prem-Fourn'!A:C,2,FALSE) -> 18 | B99: 99 | C99: 5 | D99: 18 | E99: 5 | F99: 50 | G99: 43989 | H99: FALSE
A100: =VLOOKUP(C100,'Prix-Mat°Prem-Fourn'!A:C,2,FALSE) -> 8 | B100: 100 | C100: 8 | D100: 18 | E100: 2 | F100: 25 | G100: 43989 | H100: FALSE
A101: =VLOOKUP(C101,'Prix-Mat°Prem-Fourn'!A:C,2,FALSE) -> 6 | B101: 101 | C101: 9 | D101: 6 | E101: 1 | F101: 30 | G101: 43990 | H101: FALSE
A102: =VLOOKUP(C102,'Prix-Mat°Prem-Fourn'!A:C,2,FALSE) -> 18 | B102: 102 | C102: 5 | D102: 18 | E102: 4 | F102: 25 | G102: 43990 | H102: FALSE
A103: =VLOOKUP(C103,'Prix-Mat°Prem-Fourn'!A:C,2,FALSE) -> 3 | B103: 103 | C103: 11 | D103: 3 | E103: 3 | F103: 35 | G103: 43990 | H103: FALSE
A104: =VLOOKUP(C104,'Prix-Mat°Prem-Fourn'!A:C,2,FALSE) -> 2 | B104: 104 | C104: 17 | D104: 2 | E104: 2 | F104: 100 | G104: 43991 | H104: FALSE
A105: =VLOOKUP(C105,'Prix-Mat°Prem-Fourn'!A:C,2,FALSE) -> 6 | B105: 105 | C105: 9 | D105: 6 | E105: 3 | F105: 100 | G105: 43991 | H105: TRUE | I105: MOISISSURES
A106: =VLOOKUP(C106,'Prix-Mat°Prem-Fourn'!A:C,2,FALSE) -> 1 | B106: 106 | C106: 16 | D106: 1 | E106: 2 | F106: 35 | G106: 43991 | H106: FALSE
A107: =VLOOKUP(C107,'Prix-Mat°Prem-Fourn'!A:C,2,FALSE) -> 1 | B107: 107 | C107: 16 | D107: 7 | E107: 5 | F107: 100 | G107: 43991 | H107: FALSE
A108: =VLOOKUP(C108,'Prix-Mat°Prem-Fourn'!A:C,2,FALSE) -> 8 | B108: 108 | C108: 8 | D108: 8 | E108: 5 | F108: 200 | G108: 43991 | H108: FALSE
A109: =VLOOKUP(C109,'Prix-Mat°Prem-Fourn'!A:C,2,FALSE) -> 7 | B109: 109 | C109: 2 | D109: 7 | E109: 4 | F109: 95 | G109: 44001 | H109: TRUE | I109: TEMP TROP ELEVEE
...

Sheet Salariés
A1: CodeSalarié | B1: NomSalarié | C1: CodeService | D1: PrénomSalarié | E1: SEXE | F1: DateNaissance | G1: DateEntrée | H1: TauxHoraire
A2: 1 | B2: AUBERY | C2: 4 | D2: Marc | E2: M | F2: 28498 | G2: 37812 | H2: 8.49303
A3: 2 | B3: PAQUET | C3: 4 | D3: Anne-Marie | E3: F | F3: 23840 | G3: 34532 | H3: 9.54261
A4: 3 | B4: PLAT | C4: 4 | D4: Caroline | E4: F | F4: 22357 | G4: 32385 | H4: 8.31096
A5: 4 | B5: DUTET | C5: 4 | D5: Nicolas | E5: M | F5: 31988 | G5: 41047 | H5: 10.07811
A6: 5 | B6: FAGES | C6: 4 | D6: Alain | E6: M | F6: 26844 | G6: 38534 | H6: 8.06463
A7: 6 | B7: FAURE | C7: 4 | D7: Samuel | E7: M | F7: 27188 | G7: 34667 | H7: 7.7112
A8: 7 | B8: PERRIER | C8: 4 | D8: Carole | E8: F | F8: 32251 | G8: 43098 | H8: 9.57474
A9: 8 | B9: SERDET | C9: 3 | D9: Karine | E9: F | F9: 26084 | G9: 40622 | H9: 8.54658
A10: 9 | B10: CLEMENT | C10: 3 | D10: Jean-Marie | E10: M | F10: 31410 | G10: 40137 | H10: 7.12215
A11: 10 | B11: ANTUNES | C11: 2 | D11: Carine | E11: F | F11: 32200 | G11: 41629 | H11: 14.70483
A12: 11 | B12: DE BRINCAT | C12: 1 | D12: Marc | E12: M | F12: 21549 | G12: 33785 | H12: 13.62312
A13: 12 | B13: GAUDIN | C13: 5 | D13: Alain | E13: M | F13: 26114 | G13: 36269 | H13: 15.73299
... A29: 28 | B29: MARCELIN | C29: 6 | D29: Jacques | E29: F | F29: 29591 | G29: 41973 | H29: 24.87933

Sheet Dates de 1er besoin
A3: Quantités Plats Cuisinés | B3: Année | C3: 2017 | J3: Total 2017 | K3: 2018 | BK3: Total 2018 | BL3: 2019 | DL3: Total 2019
B4: Semaine | C4: 46 | D4: 47 | E4: 48 | F4: 49 | G4: 50 | H4: 51 | I4: 52 | K4: 1 | L4: 2 | M4: 3 | N4: 4 | O4: 5 | P4: 6 | Q4: 7 | R4: 8 | S4: 9 | T4: 10 | U4: 11 | V4: 12 | W4: 13 | X4: 14 | Y4: 15 | Z4: 16 | AA4: 17 | AB4: 18 | AC4: 19 | AD4: 20 | AE4: 21 | AF4: 22 | AG4: 23 | AH4: 24 | AI4: 25 | AJ4: 26 | AK4: 27 | AL4: 28 | AM4: 29 | AN4: 30 | AO4: 31 | AP4: 32 | AQ4: 33 | AR4: 34 | AS4: 35 | AT4: 36 | AU4: 37 | AV4: 38 | AW4: 39 | AX4: 40 | AY4: 41 | AZ4: 42 | BA4: 43 | BB4: 44 | BC4: 45 | BD4: 46 | BE4: 47 | BF4: 48 | BG4: 49 | BH4: 50 | BI4: 51 | BJ4: 52 | BL4: 1 | BM4: 2 | BN4: 3 | BO4: 4 | BP4: 5 | BQ4: 6 | BR4: 7 | BS4: 8 | BT4: 9 | BU4: 10 | BV4: 11 | BW4: 12 | BX4: 13 | BY4: 14 | BZ4: 15 | CA4: 16 | CB4: 17 | CC4: 18 | CD4: 19 | CE4: 20 | CF4: 21 | CG4: 22 | CH4: 23 | CI4: 24 | CJ4: 25 | CK4: 26 | CL4: 27 | CM4: 28 | CN4: 29 | CO4: 30 | CP4: 31 | CQ4: 32 | CR4: 33 | CS4: 34 | CT4: 35 | CU4: 36 | CV4: 37 | CW4: 38 | CX4: 39 | CY4: 40 | CZ4: 41 | DA4: 42 | DB4: 43 | DC4: 44 | DD4: 45 | DE4: 46 | DF4: 47 | DG4: 48 | DH4: 49 | DI4: 50 | DJ4: 51 | DK4: 52 | DN4: Date de premier Besoin
A5: BOEUF BOURGUIGNON | C5: 0 | D5: 0 | E5: 0 | F5: 0 | G5: 0 | H5: 0 | I5: 0 | J5: =SUM(C5:I5) -> 0 | K5: 0 | L5: 0 | M5: 0 | N5: 0 | O5: 0 | P5: 0 | Q5: 0 | R5: 0 | S5: 9 | T5: 0 | U5: 0 | V5: 0 | W5: 0 | X5: 0 | Y5: 0 | Z5: 5 | AA5: 0 | AB5: 0 | AC5: 0 | AD5: 5 | AE5: 0 | AF5: 0 | AG5: 0 | AH5: 5 | AI5: 0 | AJ5: 0 | AK5: 0 | AL5: 5 | AM5: 0 | AN5: 0 | AO5: 0 | AP5: 6 | AQ5: 0 | AR5: 0 | AS5: 0 | AT5: 0 | AU5: 6 | AV5: 0 | AW5: 0 | AX5: 0 | AY5: 8 | AZ5: 0 | BA5: 0 | BB5: 0 | BC5: 0 | BD5: 8 | BE5: 0 | BF5: 0 | BG5: 0 | BH5: 8 | BI5: 0 | BJ5: 0 | BK5: =SUM(K5:BJ5) -> 65 | BL5: 0 | BM5: 0 | BN5: 8 | BO5: 0 | BP5: 0 | BQ5: 0 | BR5: 8 | BS5: 0 | BT5: 0 | BU5: 0 | BV5: 8 | BW5: 0 | BX5: 0 | BY5: 0 | BZ5: 10 | CA5: 0 | CB5: 0 | CC5: 0 | CD5: 0 | CE5: 10 | CF5: 0 | CG5: 0 | CH5: 0 | CI5: 10 | CJ5: 0 | CK5: 0 | CL5: 0 | CM5: 10 | CN5: 0 | CO5: 0 | CP5: 0 | CQ5: 0 | CR5: 10 | CS5: 0 | CT5: 0 | CU5: 0 | CV5: 10 | CW5: 0 | CX5: 0 | CY5: 0 | CZ5: 0 | DA5: 10 | DB5: 0 | DC5: 0 | DD5: 0 | DE5: 10 | DF5: 0 | DG5: 0 | DH5: 0 | DI5: 10 | DJ5: 0 | DK5: 0 | DL5: =SUM(BL5:DK5) -> 114 | DN5: Formule ? | DO5: => doit sortir s9 2018
A6: CASSOULET | C6: 0 | D6: 0 | E6: 0 | F6: 0 | G6: 0 | H6: 0 | I6: 0 | J6: =SUM(C6:I6) -> 0 | K6: 0 | L6: 0 | M6: 6 | N6: 0 | O6: 0 | P6: 0 | Q6: 0 | R6: 0 | S6: 11 | T6: 0 | U6: 0 | V6: 0 | W6: 0 | X6: 0 | Y6: 0 | Z6: 5 | AA6: 0 | AB6: 0 | AC6: 0 | AD6: 5 | AE6: 0 | AF6: 0 | AG6: 0 | AH6: 5 | AI6: 0 | AJ6: 0 | AK6: 0 | AL6: 5 | AM6: 0 | AN6: 0 | AO6: 0 | AP6: 6 | AQ6: 0 | AR6: 0 | AS6: 0 | AT6: 0 | AU6: 6 | AV6: 0 | AW6: 0 | AX6: 0 | AY6: 8 | AZ6: 0 | BA6: 0 | BB6: 0 | BC6: 0 | BD6: 8 | BE6: 0 | BF6: 0 | BG6: 0 | BH6: 8 | BI6: 0 | BJ6: 0 | BK6: =SUM(K6:BJ6) -> 73 | BL6: 0 | BM6: 0 | BN6: 8 | BO6: 0 | BP6: 0 | BQ6: 0 | BR6: 8 | BS6: 0 | BT6: 0 | BU6: 0 | BV6: 8 | BW6: 0 | BX6: 0 | BY6: 0 | BZ6: 10 | CA6: 0 | CB6: 0 | CC6: 0 | CD6: 0 | CE6: 10 | CF6: 0 | CG6: 0 | CH6: 0 | CI6: 10 | CJ6: 0 | CK6: 0 | CL6: 0 | CM6: 10 | CN6: 0 | CO6: 0 | CP6: 0 | CQ6: 0 | CR6: 10 | CS6: 0 | CT6: 0 | CU6: 0 | CV6: 10 | CW6: 0 | CX6: 0 | CY6: 0 | CZ6: 0 | DA6: 10 | DB6: 0 | DC6: 0 | DD6: 0 | DE6: 10 | DF6: 0 | DG6: 0 | DH6: 0 | DI6: 10 | DJ6: 0 | DK6: 0 | DL6: =SUM(BL6:DK6) -> 114 | DN6: Formule ? | DO6: => doit sortir s3 2018
A7: CHEVREAU A L'OSEILLE | C7: 0 | D7: 0 | E7: 0 | F7: 0 | G7: 5 | H7: 0 | I7: 0 | J7: =SUM(C7:I7) -> 5 | K7: 0 | L7: 0 | M7: 0 | N7: 0 | O7: 0 | P7: 0 | Q7: 0 | R7: 0 | S7: 0 | T7: 0 | U7: 0 | V7: 0 | W7: 0 | X7: 0 | Y7: 0 | Z7: 0 | AA7: 0 | AB7: 0 | AC7: 0 | AD7: 0 | AE7: 0 | AF7: 0 | AG7: 0 | AH7: 0 | AI7: 0 | AJ7: 0 | AK7: 0 | AL7: 0 | AM7: 0 | AN7: 0 | AO7: 0 | AP7: 0 | AQ7: 0 | AR7: 0 | AS7: 0 | AT7: 0 | AU7: 0 | AV7: 0 | AW7: 0 | AX7: 0 | AY7: 0 | AZ7: 5 | BA7: 0 | BB7: 0 | BC7: 0 | BD7: 0 | BE7: 0 | BF7: 0 | BG7: 0 | BH7: 0 | BI7: 0 | BJ7: 0 | BK7: =SUM(K7:BJ7) -> 5 | BL7: 0 | BM7: 0 | BN7: 0 | BO7: 0 | BP7: 0 | BQ7: 0 | BR7: 0 | BS7: 0 | BT7: 0 | BU7: 0 | BV7: 0 | BW7: 0 | BX7: 0 | BY7: 0 | BZ7: 5 | CA7: 0 | CB7: 0 | CC7: 0 | CD7: 0 | CE7: 0 | CF7: 0 | CG7: 0 | CH7: 0 | CI7: 0 | CJ7: 0 | CK7: 0 | CL7: 0 | CM7: 0 | CN7: 0 | CO7: 0 | CP7: 0 | CQ7: 0 | CR7: 0 | CS7: 0 | CT7: 0 | CU7: 0 | CV7: 5 | CW7: 0 | CX7: 0 | CY7: 0 | CZ7: 0 | DA7: 0 | DB7: 0 | DC7: 0 | DD7: 0 | DE7: 0 | DF7: 0 | DG7: 0 | DH7: 0 | DI7: 0 | DJ7: 0 | DK7: 0 | DL7: =SUM(BL7:DK7) -> 10 | DN7: Formule ? | DO7: => doit sortir s50 2017
A8: COQ AU VIN | C8: 0 | D8: 0 | E8: 0 | F8: 0 | G8: 0 | H8: 0 | I8: 0 | J8: =SUM(C8:I8) -> 0 | K8: 0 | L8: 0 | M8: 0 | N8: 0 | O8: 0 | P8: 0 | Q8: 0 | R8: 0 | S8: 0 | T8: 0 | U8: 0 | V8: 0 | W8: 0 | X8: 0 | Y8: 0 | Z8: 0 | AA8: 0 | AB8: 0 | AC8: 0 | AD8: 0 | AE8: 0 | AF8: 0 | AG8: 0 | AH8: 0 | AI8: 0 | AJ8: 0 | AK8: 0 | AL8: 0 | AM8: 0 | AN8: 0 | AO8: 0 | AP8: 0 | AQ8: 0 | AR8: 0 | AS8: 0 | AT8: 0 | AU8: 0 | AV8: 0 | AW8: 0 | AX8: 0 | AY8: 0 | AZ8: 0 | BA8: 0 | BB8: 0 | BC8: 0 | BD8: 0 | BE8: 0 | BF8: 0 | BG8: 0 | BH8: 0 | BI8: 0 | BJ8: 0 | BK8: =SUM(K8:BJ8) -> 0 | BL8: 0 | BM8: 0 | BN8: 0 | BO8: 0 | BP8: 0 | BQ8: 0 | BR8: 0 | BS8: 0 | BT8: 0 | BU8: 0 | BV8: 0 | BW8: 0 | BX8: 0 | BY8: 0 | BZ8: 0 | CA8: 0 | CB8: 0 | CC8: 0 | CD8: 0 | CE8: 0 | CF8: 73 | CG8: 0 | CH8: 0 | CI8: 0 | CJ8: 0 | CK8: 0 | CL8: 0 | CM8: 0 | CN8: 0 | CO8: 0 | CP8: 0 | CQ8: 0 | CR8: 0 | CS8: 0 | CT8: 0 | CU8: 0 | CV8: 0 | CW8: 0 | CX8: 0 | CY8: 0 | CZ8: 0 | DA8: 0 | DB8: 0 | DC8: 0 | DD8: 0 | DE8: 0 | DF8: 0 | DG8: 64 | DH8: 0 | DI8: 0 | DJ8: 0 | DK8: 0 | DL8: =SUM(BL8:DK8) -> 137 | DN8: Formule ?
A9: ragoût de veau | C9: 0 | D9: 0 | E9: 0 | F9: 0 | G9: 0 | H9: 0 | I9: 0 | J9: =SUM(C9:I9) -> 0 | K9: 0 | L9: 0 | M9: 10 | N9: 0 | O9: 0 | P9: 0 | Q9: 0 | R9: 0 | S9: 10 | T9: 0 | U9: 0 | V9: 0 | W9: 0 | X9: 0 | Y9: 0 | Z9: 0 | AA9: 0 | AB9: 0 | AC9: 0 | AD9: 0 | AE9: 0 | AF9: 10 | AG9: 0 | AH9: 0 | AI9: 0 | AJ9: 0 | AK9: 0 | AL9: 0 | AM9: 0 | AN9: 0 | AO9: 0 | AP9: 0 | AQ9: 0 | AR9: 0 | AS9: 0 | AT9: 0 | AU9: 0 | AV9: 10 | AW9: 0 | AX9: 0 | AY9: 0 | AZ9: 0 | BA9: 0 | BB9: 0 | BC9: 0 | BD9: 0 | BE9: 10 | BF9: 0 | BG9: 0 | BH9: 0 | BI9: 0 | BJ9: 10 | BK9: =SUM(K9:BJ9) -> 60 | BL9: 0 | BM9: 0 | BN9: 0 | BO9: 10 | BP9: 0 | BQ9: 0 | BR9: 0 | BS9: 10 | BT9: 0 | BU9: 0 | BV9: 0 | BW9: 10 | BX9: 0 | BY9: 0 | BZ9: 0 | CA9: 0 | CB9: 10 | CC9: 0 | CD9: 0 | CE9: 0 | CF9: 10 | CG9: 0 | CH9: 0 | CI9: 0 | CJ9: 0 | CK9: 10 | CL9: 0 | CM9: 0 | CN9: 0 | CO9: 10 | CP9: 0 | CQ9: 0 | CR9: 0 | CS9: 10 | CT9: 0 | CU9: 0 | CV9: 0 | CW9: 0 | CX9: 10 | CY9: 0 | CZ9: 0 | DA9: 0 | DB9: 10 | DC9: 0 | DD9: 0 | DE9: 0 | DF9: 10 | DG9: 0 | DH9: 0 | DI9: 0 | DJ9: 0 | DK9: 10 | DL9: =SUM(BL9:DK9) -> 120 | DN9: Formule ?
A10: CIVET D'AUTRUCHE | C10: 0 | D10: 0 | E10: 0 | F10: 0 | G10: 0 | H10: 0 | I10: 0 | J10: =SUM(C10:I10) -> 0 | K10: 0 | L10: 0 | M10: 0 | N10: 0 | O10: 0 | P10: 0 | Q10: 0 | R10: 0 | S10: 0 | T10: 0 | U10: 0 | V10: 0 | W10: 0 | X10: 0 | Y10: 0 | Z10: 0 | AA10: 0 | AB10: 0 | AC10: 0 | AD10: 0 | AE10: 0 | AF10: 0 | AG10: 0 | AH10: 0 | AI10: 0 | AJ10: 0 | AK10: 0 | AL10: 0 | AM10: 0 | AN10: 0 | AO10: 0 | AP10: 0 | AQ10: 0 | AR10: 0 | AS10: 0 | AT10: 0 | AU10: 0 | AV10: 0 | AW10: 0 | AX10: 0 | AY10: 0 | AZ10: 0 | BA10: 0 | BB10: 0 | BC10: 0 | BD10: 0 | BE10: 0 | BF10: 0 | BG10: 0 | BH10: 0 | BI10: 0 | BJ10: 0 | BK10: =SUM(K10:BJ10) -> 0 | BL10: 0 | BM10: 0 | BN10: 0 | BO10: 0 | BP10: 0 | BQ10: 0 | BR10: 0 | BS10: 0 | BT10: 0 | BU10: 0 | BV10: 0 | BW10: 0 | BX10: 0 | BY10: 0 | BZ10: 0 | CA10: 0 | CB10: 0 | CC10: 0 | CD10: 0 | CE10: 0 | CF10: 0 | CG10: 0 | CH10: 0 | CI10: 0 | CJ10: 0 | CK10: 0 | CL10: 0 | CM10: 0 | CN10: 0 | CO10: 0 | CP10: 0 | CQ10: 0 | CR10: 0 | CS10: 0 | CT10: 0 | CU10: 0 | CV10: 0 | CW10: 0 | CX10: 0 | CY10: 0 | CZ10: 0 | DA10: 0 | DB10: 0 | DC10: 0 | DD10: 0 | DE10: 0 | DF10: 0 | DG10: 0 | DH10: 0 | DI10: 0 | DJ10: 0 | DK10: 0 | DL10: =SUM(BL10:DK10) -> 0 | DN10: Formule ?
A11: CIVET DE Lièvre | C11: 0 | D11: 0 | E11: 0 | F11: 0 | G11: 0 | H11: 0 | I11: 10 | J11: =SUM(C11:I11) -> 10 | K11: 0 | L11: 0 | M11: 0 | N11: 0 | O11: 0 | P11: 0 | Q11: 0 | R11: 0 | S11: 0 | T11: 0 | U11: 0 | V11: 0 | W11: 0 | X11: 0 | Y11: 0 | Z11: 0 | AA11: 0 | AB11: 0 | AC11: 0 | AD11: 0 | AE11: 0 | AF11: 0 | AG11: 0 | AH11: 0 | AI11: 0 | AJ11: 0 | AK11: 0 | AL11: 0 | AM11: 0 | AN11: 0 | AO11: 0 | AP11: 0 | AQ11: 0 | AR11: 0 | AS11: 0 | AT11: 0 | AU11: 0 | AV11: 0 | AW11: 0 | AX11: 0 | AY11: 0 | AZ11: 0 | BA11: 0 | BB11: 0 | BC11: 0 | BD11: 0 | BE11: 0 | BF11: 0 | BG11: 0 | BH11: 0 | BI11: 0 | BJ11: 0 | BK11: =SUM(K11:BJ11) -> 0 | BL11: 0 | BM11: 0 | BN11: 0 | BO11: 0 | BP11: 0 | BQ11: 0 | BR11: 0 | BS11: 0 | BT11: 0 | BU11: 0 | BV11: 0 | BW11: 0 | BX11: 0 | BY11: 0 | BZ11: 0 | CA11: 0 | CB11: 0 | CC11: 0 | CD11: 0 | CE11: 0 | CF11: 0 | CG11: 0 | CH11: 0 | CI11: 0 | CJ11: 0 | CK11: 0 | CL11: 0 | CM11: 0 | CN11: 0 | CO11: 0 | CP11: 0 | CQ11: 0 | CR11: 0 | CS11: 0 | CT11: 0 | CU11: 0 | CV11: 0 | CW11: 0 | CX11: 0 | CY11: 0 | CZ11: 0 | DA11: 0 | DB11: 0 | DC11: 0 | DD11: 0 | DE11: 0 | DF11: 0 | DG11: 0 | DH11: 0 | DI11: 0 | DJ11: 0 | DK11: 0 | DL11: =SUM(BL11:DK11) -> 0 | DN11: Formule ?
A12: MAGRET DE CANARD | C12: 0 | D12: 0 | E12: 0 | F12: 0 | G12: 0 | H12: 0 | I12: 0 | J12: =SUM(C12:I12) -> 0 | K12: 0 | L12: 0 | M12: 0 | N12: 10 | O12: 0 | P12: 0 | Q12: 0 | R12: 0 | S12: 0 | T12: 0 | U12: 0 | V12: 0 | W12: 10 | X12: 0 | Y12: 0 | Z12: 0 | AA12: 0 | AB12: 10 | AC12: 0 | AD12: 0 | AE12: 0 | AF12: 0 | AG12: 0 | AH12: 0 | AI12: 10 | AJ12: 0 | AK12: 0 | AL12: 0 | AM12: 0 | AN12: 10 | AO12: 0 | AP12: 0 | AQ12: 0 | AR12: 0 | AS12: 0 | AT12: 0 | AU12: 0 | AV12: 0 | AW12: 0 | AX12: 10 | AY12: 0 | AZ12: 0 | BA12: 0 | BB12: 10 | BC12: 0 | BD12: 0 | BE12: 0 | BF12: 0 | BG12: 15 | BH12: 0 | BI12: 0 | BJ12: 0 | BK12: =SUM(K12:BJ12) -> 85 | BL12: 0 | BM12: 0 | BN12: 0 | BO12: 10 | BP12: 0 | BQ12: 0 | BR12: 0 | BS12: 10 | BT12: 0 | BU12: 0 | BV12: 0 | BW12: 0 | BX12: 0 | BY12: 0 | BZ12: 10 | CA12: 0 | CB12: 0 | CC12: 0 | CD12: 10 | CE12: 0 | CF12: 0 | CG12: 0 | CH12: 0 | CI12: 17 | CJ12: 0 | CK12: 0 | CL12: 0 | CM12: 0 | CN12: 0 | CO12: 22 | CP12: 0 | CQ12: 0 | CR12: 0 | CS12: 10 | CT12: 0 | CU12: 0 | CV12: 0 | CW12: 0 | CX12: 0 | CY12: 14 | CZ12: 0 | DA12: 0 | DB12: 0 | DC12: 11 | DD12: 0 | DE12: 0 | DF12: 0 | DG12: 0 | DH12: 13 | DI12: 0 | DJ12: 0 | DK12: 0 | DL12: =SUM(BL12:DK12) -> 127 | DN12: Formule ?

Sheet MAJ161220-FA20-3
