Workbook
Name note: Feuil1!$1:$1048576

Sheet Feuil1
D3: FEUILLE DE RENTREE DES DONNEES
D5: math. | G5: franç. | J5: info | M5: angl. | P5: bio | S5: physio | V5: Module I | Y5: Module II | AB5: Module III
B6: N° Etudiant | C6: NOM Prénom | D6: écrit | E6: oral | F6: TP | G6: écrit | H6: oral | I6: TP | J6: écrit | K6: oral | L6: TP | M6: écrit | N6: oral | O6: TP | P6: écrit | Q6: oral | R6: TP | S6: écrit | T6: oral | U6: TP | V6: écrit | W6: oral | X6: TP | Y6: écrit | Z6: oral | AA6: TP | AB6: écrit | AC6: oral | AD6: TP
B7: 1 | C7: Achcarodelbus Alphonsine | D7: 12 | E7: 12 | F7: 14 | G7: 8 | H7: 15 | I7: 13 | J7: 9 | K7: 15 | L7: 15 | M7: 8 | N7: 15 | O7: 11 | P7: 14 | Q7: 14 | R7: 14 | S7: 12 | T7: 12 | U7: 11 | V7: 11 | W7: 11 | X7: 11 | Y7: 14 | Z7: 14 | AA7: 6 | AB7: 9 | AC7: 11 | AD7: 15
B8: 2 | C8: Chvoiturdenlcour Igor | D8: 17 | E8: 17 | F8: 16 | G8: 15 | H8: 15 | I8: 14 | J8: 14 | K8: 14 | L8: 19 | M8: 12 | N8: 12 | O8: 10 | P8: 12 | Q8: 12 | R8: 13 | S8: 9 | T8: 16 | U8: 12 | V8: 17 | W8: 17 | X8: 16 | Y8: 12 | Z8: 12 | AA8: 18 | AB8: 12 | AC8: 12 | AD8: 14
B9: 3 | C9: Delfleurachmarché Yvan | D9: 2 | E9: 6 | F9: 9 | G9: 6 | H9: 10 | I9: 5 | J9: 9 | K9: 15 | L9: 14 | M9: 7 | N9: 13 | O9: 1 | P9: 4 | Q9: 6 | R9: 12 | S9: 5 | T9: 15 | U9: 5 | V9: 8 | W9: 12 | X9: 15 | Y9: 11 | Z9: 14 | AA9: 11 | AB9: 12 | AC9: 12 | AD9: 11
B10: 4 | C10: Denchvoitupourpasalir Amadeus | D10: 10 | E10: 11 | F10: 12 | G10: 11 | H10: 12 | I10: 2 | J10: 9 | K10: 14 | L10: 10 | M10: 11 | N10: 9 | O10: 7 | P10: 12 | Q10: 12 | R10: 11 | S10: 7 | T10: 12 | U10: 14 | V10: 6 | W10: 14 | X10: 12 | Y10: 12 | Z10: 12 | AA10: 17 | AB10: 14 | AC10: 14 | AD10: 9
B11: 5 | C11: Goudy Debby | D11: 3 | E11: 9 | F11: 14 | G11: 12 | H11: 11 | I11: 13 | J11: 14 | K11: 14 | L11: 5 | M11: 17 | N11: 17 | O11: 10 | P11: 5 | Q11: 10 | R11: 10 | S11: 16 | T11: 16 | U11: 17 | V11: 3 | W11: 12 | X11: 17 | Y11: 7 | Z11: 13 | AA11: 14 | AB11: 10 | AC11: 12 | AD11: 8
B12: 6 | C12: Mémélaballe Donna | D12: 9 | E12: 16 | F12: 11 | G12: 12 | H12: 12 | I12: 16 | J12: 14 | K12: 14 | L12: 9 | M12: 16 | N12: 16 | O12: 11 | P12: 8 | Q12: 9 | R12: 5 | S12: 18 | T12: 18 | U12: 9 | V12: 11 | W12: 5 | X12: 10 | Y12: 6 | Z12: 14 | AA12: 9 | AB12: 9 | AC12: 14 | AD12: 7
B13: 7 | C13: Patamob Adhémar | D13: 19 | E13: 19 | F13: 14 | G13: 18 | H13: 18 | I13: 12 | J13: 17 | K13: 17 | L13: 18 | M13: 15 | N13: 15 | O13: 15 | P13: 19 | Q13: 19 | R13: 11 | S13: 20 | T13: 20 | U13: 13 | V13: 19 | W13: 19 | X13: 10 | Y13: 19 | Z13: 19 | AA13: 18 | AB13: 10 | AC13: 13 | AD13: 15
B14: 8 | C14: Payachmur Hercule | D14: 2 | E14: 5 | F14: 5 | G14: 5 | H14: 4 | I14: 10 | J14: 4 | K14: 16 | L14: 13 | M14: 8 | N14: 12 | O14: 14 | P14: 6 | Q14: 11 | R14: 3 | S14: 3 | T14: 17 | U14: 16 | V14: 6 | W14: 6 | X14: 5 | Y14: 13 | Z14: 13 | AA14: 5 | AB14: 6 | AC14: 18 | AD14: 10
B15: 9 | C15: Ptitgoutte Anne | D15: 11 | E15: 12 | F15: 16 | G15: 11 | H15: 11 | I15: 11 | J15: 10 | K15: 15 | L15: 14 | M15: 12 | N15: 12 | O15: 12 | P15: 14 | Q15: 14 | R15: 16 | S15: 11 | T15: 14 | U15: 14 | V15: 15 | W15: 15 | X15: 12 | Y15: 10 | Z15: 19 | AA15: 15 | AB15: 13 | AC15: 13 | AD15: 10
B16: 10 | C16: Ptitgoutte Corinne | D16: 1 | E16: 2 | F16: 4 | G16: 8 | H16: 7 | I16: 8 | J16: 5 | K16: 17 | L16: 15 | M16: 14 | N16: 14 | O16: 17 | P16: 7 | Q16: 12 | R16: 5 | S16: 12 | T16: 12 | U16: 1 | V16: 12 | W16: 12 | X16: 15 | Y16: 8 | Z16: 10 | AA16: 10 | AB16: 17 | AC16: 17 | AD16: 15
B17: 11 | C17: Ptitgoutte Justine | D17: 11 | E17: 17 | F17: 19 | G17: 15 | H17: 15 | I17: 15 | J17: 12 | K17: 12 | L17: 11 | M17: 14 | N17: 14 | O17: 18 | P17: 11 | Q17: 14 | R17: 10 | S17: 14 | T17: 14 | U17: 19 | V17: 8 | W17: 16 | X17: 18 | Y17: 10 | Z17: 12 | AA17: 10 | AB17: 15 | AC17: 15 | AD17: 12
B18: 12 | C18: Ptitgoutte Mélusine | D18: 15 | E18: 15 | F18: 12 | G18: 16 | H18: 16 | I18: 7 | J18: 18 | K18: 18 | L18: 10 | M18: 14 | N18: 14 | O18: 10 | P18: 17 | Q18: 17 | R18: 12 | S18: 17 | T18: 17 | U18: 17 | V18: 12 | W18: 12 | X18: 12 | Y18: 15 | Z18: 15 | AA18: 10 | AB18: 16 | AC18: 16 | AD18: 13
... B23: 17 | C23: Zetofret Mélanie | D23: 9 | E23: 13 | F23: 12 | G23: 11 | H23: 11 | I23: 11 | J23: 14 | K23: 14 | L23: 10 | M23: 8 | N23: 15 | O23: 13 | P23: 13 | Q23: 13 | R23: 14 | S23: 16 | T23: 16 | U23: 9 | V23: 9 | W23: 14 | X23: 10 | Y23: 13 | Z23: 13 | AA23: 13 | AB23: 11 | AC23: 14 | AD23: 14

Sheet Feuil2
A1: Exemple de recherche pour l'étudiant 1 (si change le numéro étudiant note généré automatiquement)
C2: mathématique | F2: français | I2: info | L2: anglais | O2: bio | R2: physio | U2: Module I | X2: Module II | AA2: Module III
B3: N°étudiant | C3: écrit | D3: oral | E3: TP | F3: écrit | G3: oral | H3: TP | I3: écrit | J3: oral | K3: TP | L3: écrit | M3: oral | N3: TP | O3: écrit | P3: oral | Q3: TP | R3: écrit | S3: oral | T3: TP | U3: écrit | V3: oral | W3: TP | X3: écrit | Y3: oral | Z3: TP | AA3: écrit | AB3: oral | AC3: TP
B4: 1 | C4: =VLOOKUP($B4,Feuil1!B7:AD23,3,0) -> 12 | D4: =VLOOKUP($B4,Feuil1!B7:AE23,4,0) -> 12 | E4: =VLOOKUP($B4,Feuil1!B7:AF23,5,0) -> 14 | F4: =VLOOKUP($B4,Feuil1!B7:AG23,6,0) -> 8 | G4: =VLOOKUP($B4,Feuil1!B7:AH23,7,0) -> 15 | H4: =VLOOKUP($B4,Feuil1!B7:AI23,8,0) -> 13 | I4: =VLOOKUP($B4,Feuil1!B7:AJ23,9,0) -> 9 | J4: =VLOOKUP($B4,Feuil1!B7:AK23,10,0) -> 15 | K4: =VLOOKUP($B4,Feuil1!B7:AL23,11,0) -> 15 | L4: =VLOOKUP($B4,Feuil1!B7:AM23,12,0) -> 8 | M4: =VLOOKUP($B4,Feuil1!B7:AN23,13,0) -> 15 | N4: =VLOOKUP($B4,Feuil1!B7:AO23,14,0) -> 11 | O4: =VLOOKUP($B4,Feuil1!B7:AP23,15,0) -> 14 | P4: =VLOOKUP($B4,Feuil1!B7:AQ23,16,0) -> 14 | Q4: =VLOOKUP($B4,Feuil1!B7:AR23,17,0) -> 14 | R4: =VLOOKUP($B4,Feuil1!B7:AS23,18,0) -> 12 | S4: =VLOOKUP($B4,Feuil1!B7:AT23,19,0) -> 12 | T4: =VLOOKUP($B4,Feuil1!B7:AU23,20,0) -> 11 | U4: =VLOOKUP($B4,Feuil1!B7:AV23,21,0) -> 11 | V4: =VLOOKUP($B4,Feuil1!B7:AW23,22,0) -> 11 | W4: =VLOOKUP($B4,Feuil1!B7:AX23,23,0) -> 11 | X4: =VLOOKUP($B4,Feuil1!B7:AY23,24,0) -> 14 | Y4: =VLOOKUP($B4,Feuil1!B7:AZ23,25,0) -> 14 | Z4: =VLOOKUP($B4,Feuil1!B7:BA23,26,0) -> 6 | AA4: =VLOOKUP($B4,Feuil1!B7:BB23,27,0) -> 9 | AB4: =VLOOKUP($B4,Feuil1!B7:BC23,28,0) -> 11 | AC4: =VLOOKUP($B4,Feuil1!B7:BD23,29,0) -> 15
A5: Moyenne ob | C5: =(2/3*AVERAGE(Feuil1!D$7:D$23)+1/3*AVERAGE(Feuil1!E$7:E$23))*0.7+0.3*AVERAGE(Feuil1!F$7:F$23) -> 11.307843 | F5: =(2/3*AVERAGE(Feuil1!G$7:G$23)+1/3*AVERAGE(Feuil1!H$7:H$23))*0.7+0.3*AVERAGE(Feuil1!I$7:I$23) -> 11.747059 | I5: =(2/3*AVERAGE(Feuil1!J$7:J$23)+1/3*AVERAGE(Feuil1!K$7:K$23))*0.7+0.3*AVERAGE(Feuil1!L$7:L$23) -> 13.003922 | L5: =(2/3*AVERAGE(Feuil1!M$7:M$23)+1/3*AVERAGE(Feuil1!N$7:N$23))*0.7+0.3*AVERAGE(Feuil1!O$7:O$23) -> 12.007843 | O5: =(2/3*AVERAGE(Feuil1!P$7:P$23)+1/3*AVERAGE(Feuil1!Q$7:Q$23))*0.7+0.3*AVERAGE(Feuil1!R$7:R$23) -> 12.147059 | R5: =(2/3*AVERAGE(Feuil1!S$7:S$23)+1/3*AVERAGE(Feuil1!T$7:T$23))*0.7+0.3*AVERAGE(Feuil1!U$7:U$23) -> 12.792157 | U5: =(2/3*AVERAGE(Feuil1!V$7:V$23)+1/3*AVERAGE(Feuil1!W$7:W$23))*0.7+0.3*AVERAGE(Feuil1!X$7:X$23) -> 11.766667 | X5: =(2/3*AVERAGE(Feuil1!Y$7:Y$23)+1/3*AVERAGE(Feuil1!Z$7:Z$23))*0.7+0.3*AVERAGE(Feuil1!AA$7:AA$23) -> 12.790196 | AA5: =(2/3*AVERAGE(Feuil1!AB$7:AB$23)+1/3*AVERAGE(Feuil1!AC$7:AC$23))*0.7+0.3*AVERAGE(Feuil1!AD$7:AD$23) -> 12.778431
A6: Moy minimal | C6: =(2/3*MIN(Feuil1!D$7:D$23)+1/3*MIN(Feuil1!E$7:E$23))*0.7+0.3*MIN(Feuil1!F$7:F$23) -> 2.1333333 | F6: =(2/3*MIN(Feuil1!G$7:G$23)+1/3*MIN(Feuil1!H$7:H$23))*0.7+0.3*MIN(Feuil1!I$7:I$23) -> 3.8666667 | I6: =(2/3*MIN(Feuil1!J$7:J$23)+1/3*MIN(Feuil1!K$7:K$23))*0.7+0.3*MIN(Feuil1!L$7:L$23) -> 6.1666667 | L6: =(2/3*MIN(Feuil1!M$7:M$23)+1/3*MIN(Feuil1!N$7:N$23))*0.7+0.3*MIN(Feuil1!O$7:O$23) -> 5.6666667 | O6: =(2/3*MIN(Feuil1!P$7:P$23)+1/3*MIN(Feuil1!Q$7:Q$23))*0.7+0.3*MIN(Feuil1!R$7:R$23) -> 4.1666667 | R6: =(2/3*MIN(Feuil1!S$7:S$23)+1/3*MIN(Feuil1!T$7:T$23))*0.7+0.3*MIN(Feuil1!U$7:U$23) -> 4.0333333 | U6: =(2/3*MIN(Feuil1!V$7:V$23)+1/3*MIN(Feuil1!W$7:W$23))*0.7+0.3*MIN(Feuil1!X$7:X$23) -> 4.0666667 | X6: =(2/3*MIN(Feuil1!Y$7:Y$23)+1/3*MIN(Feuil1!Z$7:Z$23))*0.7+0.3*MIN(Feuil1!AA$7:AA$23) -> 6.6333333 | AA6: =(2/3*MIN(Feuil1!AB$7:AB$23)+1/3*MIN(Feuil1!AC$7:AC$23))*0.7+0.3*MIN(Feuil1!AD$7:AD$23) -> 7.4666667
A7: Moy max | C7: =(2/3*MAX(Feuil1!D$7:D$23)+1/3*MAX(Feuil1!E$7:E$23))*0.7+0.3*MAX(Feuil1!F$7:F$23) -> 19 | F7: =(2/3*MAX(Feuil1!G$7:G$23)+1/3*MAX(Feuil1!H$7:H$23))*0.7+0.3*MAX(Feuil1!I$7:I$23) -> 18.4 | I7: =(2/3*MAX(Feuil1!J$7:J$23)+1/3*MAX(Feuil1!K$7:K$23))*0.7+0.3*MAX(Feuil1!L$7:L$23) -> 18.3 | L7: =(2/3*MAX(Feuil1!M$7:M$23)+1/3*MAX(Feuil1!N$7:N$23))*0.7+0.3*MAX(Feuil1!O$7:O$23) -> 17.3 | O7: =(2/3*MAX(Feuil1!P$7:P$23)+1/3*MAX(Feuil1!Q$7:Q$23))*0.7+0.3*MAX(Feuil1!R$7:R$23) -> 19.3 | R7: =(2/3*MAX(Feuil1!S$7:S$23)+1/3*MAX(Feuil1!T$7:T$23))*0.7+0.3*MAX(Feuil1!U$7:U$23) -> 19.7 | U7: =(2/3*MAX(Feuil1!V$7:V$23)+1/3*MAX(Feuil1!W$7:W$23))*0.7+0.3*MAX(Feuil1!X$7:X$23) -> 19 | X7: =(2/3*MAX(Feuil1!Y$7:Y$23)+1/3*MAX(Feuil1!Z$7:Z$23))*0.7+0.3*MAX(Feuil1!AA$7:AA$23) -> 18.7 | AA7: =(2/3*MAX(Feuil1!AB$7:AB$23)+1/3*MAX(Feuil1!AC$7:AC$23))*0.7+0.3*MAX(Feuil1!AD$7:AD$23) -> 18.4
A8: Moy promot

Sheet Feuil3
