Workbook
Name A_: AFFICHÉ!$B$4
Name axe_X: OFFSET(BACK!$I$2,,,COUNT(BACK!$I:$I))
Name axe_Y: OFFSET(BACK!$J$2,,,COUNT(BACK!$J:$J))
Name B_: AFFICHÉ!$B$5
Name C_: AFFICHÉ!$B$6
Name Delta: BACK!$B$2
Name Formule: BACK!$B$10
Name Lignes: (max_X-min_X)/Pas_
Name max_X: AFFICHÉ!$D$15
Name min_X: AFFICHÉ!$B$15
Name Pas_: AFFICHÉ!$D$13

Sheet AFFICHÉ
A1: Resolveur d'équations du second degré
A3: ="Ax²+Bx+C" -> Ax²+Bx+C
A4: A = | B4: 4 | C4: =Formule -> 4x²+5x+0
A5: B = | B5: 5
A6: C = | B6: 0
A9: Solution X1 : | B9: =(BACK!E4) -> 0 | C9: Solution X1i : | D9: =(BACK!E5) -> Pas de X1i
A11: Solution X2 : | B11: =(BACK!E6) -> -1.25 | C11: Solution X2i : | D11: =(BACK!E7) -> Pas de X2i
A13: Solution X0 : | B13: =(BACK!E8) -> Pas de X0 | C13: Pas : | D13: 0.5
A15: Limite en - l'infini | B15: -100 | C15: Limite en + l'infini | D15: 100

Sheet BACK
B1: Calculs | C1: Formules | E1: Valeurs à prendre en compte | F1: Formules | H1: # | I1: X | J1: Y
A2: Delta | B2: =(B_^2)-4*(A_)*(C_) -> 25 | C2: =_xlfn.FORMULATEXT(Delta) -> =(B_^2)-4*(A_)*(C_) | H2: 1 | I2: {=IF(H2>Lignes,NA(),IF(ISTEXT(I1),min_X,I1+Pas_))} -> -100 | J2: =((A_)*(I2)^2)+((B_*I2)+(C_)) -> 39500
H3: 2 | I3: {=IF(H3>Lignes,NA(),IF(ISTEXT(I2),min_X,I2+Pas_))} -> -99.5 | J3: =((A_)*(I3)^2)+((B_*I3)+(C_)) -> 39103.5
A4: X1 | B4: =((-B_)+SQRT(Delta))/(2*(A_)) -> 0 | C4: =_xlfn.FORMULATEXT(Delta) -> =(B_^2)-4*(A_)*(C_) | E4: =IF(Delta>0,B4,"Pas de X1") -> 0 | F4: =_xlfn.FORMULATEXT(E4) -> =IF(Delta>0;B4;"Pas de X1") | H4: 3 | I4: {=IF(H4>Lignes,NA(),IF(ISTEXT(I3),min_X,I3+Pas_))} -> -99 | J4: =((A_)*(I4)^2)+((B_*I4)+(C_)) -> 38709
A5: X1i | B5: =((-B_)&"+i√"&ABS(Delta))&"/"&("2*"&(A_)) -> -5+i√25/2*4 | C5: =_xlfn.FORMULATEXT(Delta) -> =(B_^2)-4*(A_)*(C_) | E5: =IF(Delta<0,B5,"Pas de X1i") -> Pas de X1i | F5: =_xlfn.FORMULATEXT(E5) -> =IF(Delta<0;B5;"Pas de X1i") | H5: 4 | I5: {=IF(H5>Lignes,NA(),IF(ISTEXT(I4),min_X,I4+Pas_))} -> -98.5 | J5: =((A_)*(I5)^2)+((B_*I5)+(C_)) -> 38316.5
A6: X2 | B6: =((-B_)-(SQRT(Delta)))/(2*(A_)) -> -1.25 | C6: =_xlfn.FORMULATEXT(Delta) -> =(B_^2)-4*(A_)*(C_) | E6: =IF(Delta>0,B6,"Pas de X2") -> -1.25 | F6: =_xlfn.FORMULATEXT(E6) -> =IF(Delta>0;B6;"Pas de X2") | H6: 5 | I6: {=IF(H6>Lignes,NA(),IF(ISTEXT(I5),min_X,I5+Pas_))} -> -98 | J6: =((A_)*(I6)^2)+((B_*I6)+(C_)) -> 37926
A7: X2i | B7: =((-B_)&"-i√"&ABS(Delta))&"/"&("2*"&(A_)) -> -5-i√25/2*4 | C7: =_xlfn.FORMULATEXT(Delta) -> =(B_^2)-4*(A_)*(C_) | E7: =+IF(B2<0,B7,"Pas de X2i") -> Pas de X2i | F7: =_xlfn.FORMULATEXT(E7) -> =+IF(B2<0;B7;"Pas de X2i") | H7: 6 | I7: {=IF(H7>Lignes,NA(),IF(ISTEXT(I6),min_X,I6+Pas_))} -> -97.5 | J7: =((A_)*(I7)^2)+((B_*I7)+(C_)) -> 37537.5
A8: X0 | B8: =-((B_)/(2*(C_))) -> #DIV/0! | C8: =_xlfn.FORMULATEXT(Delta) -> =(B_^2)-4*(A_)*(C_) | E8: =IF(OR(Delta>0,B2<0),"Pas de X0",B8) -> Pas de X0 | F8: =_xlfn.FORMULATEXT(E8) -> =IF(OR(Delta>0;B2<0);"Pas de X0";B8) | H8: 7 | I8: {=IF(H8>Lignes,NA(),IF(ISTEXT(I7),min_X,I7+Pas_))} -> -97 | J8: =((A_)*(I8)^2)+((B_*I8)+(C_)) -> 37151
H9: 8 | I9: {=IF(H9>Lignes,NA(),IF(ISTEXT(I8),min_X,I8+Pas_))} -> -96.5 | J9: =((A_)*(I9)^2)+((B_*I9)+(C_)) -> 36766.5
A10: Formule | B10: =A_&"x²+"&B_&"x+"&C_ -> 4x²+5x+0 | C10: =_xlfn.FORMULATEXT(Delta) -> =(B_^2)-4*(A_)*(C_) | D10: Pas | E10: =Pas_ -> 0.5 | F10: =_xlfn.FORMULATEXT(E10) -> =Pas_ | H10: 9 | I10: {=IF(H10>Lignes,NA(),IF(ISTEXT(I9),min_X,I9+Pas_))} -> -96 | J10: =((A_)*(I10)^2)+((B_*I10)+(C_)) -> 36384
H11: 10 | I11: {=IF(H11>Lignes,NA(),IF(ISTEXT(I10),min_X,I10+Pas_))} -> -95.5 | J11: =((A_)*(I11)^2)+((B_*I11)+(C_)) -> 36003.5
H12: 11 | I12: {=IF(H12>Lignes,NA(),IF(ISTEXT(I11),min_X,I11+Pas_))} -> -95 | J12: =((A_)*(I12)^2)+((B_*I12)+(C_)) -> 35625
H13: 12 | I13: {=IF(H13>Lignes,NA(),IF(ISTEXT(I12),min_X,I12+Pas_))} -> -94.5 | J13: =((A_)*(I13)^2)+((B_*I13)+(C_)) -> 35248.5
H14: 13 | I14: {=IF(H14>Lignes,NA(),IF(ISTEXT(I13),min_X,I13+Pas_))} -> -94 | J14: =((A_)*(I14)^2)+((B_*I14)+(C_)) -> 34874
H15: 14 | I15: {=IF(H15>Lignes,NA(),IF(ISTEXT(I14),min_X,I14+Pas_))} -> -93.5 | J15: =((A_)*(I15)^2)+((B_*I15)+(C_)) -> 34501.5
H16: 15 | I16: {=IF(H16>Lignes,NA(),IF(ISTEXT(I15),min_X,I15+Pas_))} -> -93 | J16: =((A_)*(I16)^2)+((B_*I16)+(C_)) -> 34131
H17: 16 | I17: {=IF(H17>Lignes,NA(),IF(ISTEXT(I16),min_X,I16+Pas_))} -> -92.5 | J17: =((A_)*(I17)^2)+((B_*I17)+(C_)) -> 33762.5
H18: 17 | I18: {=IF(H18>Lignes,NA(),IF(ISTEXT(I17),min_X,I17+Pas_))} -> -92 | J18: =((A_)*(I18)^2)+((B_*I18)+(C_)) -> 33396
H19: 18 | I19: {=IF(H19>Lignes,NA(),IF(ISTEXT(I18),min_X,I18+Pas_))} -> -91.5 | J19: =((A_)*(I19)^2)+((B_*I19)+(C_)) -> 33031.5
H20: 19 | I20: {=IF(H20>Lignes,NA(),IF(ISTEXT(I19),min_X,I19+Pas_))} -> -91 | J20: =((A_)*(I20)^2)+((B_*I20)+(C_)) -> 32669
H21: 20 | I21: {=IF(H21>Lignes,NA(),IF(ISTEXT(I20),min_X,I20+Pas_))} -> -90.5 | J21: =((A_)*(I21)^2)+((B_*I21)+(C_)) -> 32308.5
H22: 21 | I22: {=IF(H22>Lignes,NA(),IF(ISTEXT(I21),min_X,I21+Pas_))} -> -90 | J22: =((A_)*(I22)^2)+((B_*I22)+(C_)) -> 31950
... H2001: 2000 | I2001: {=IF(H2001>Lignes,NA(),IF(ISTEXT(I2000),min_X,I2000+Pas_))} -> #N/A | J2001: =((A_)*(I2001)^2)+((B_*I2001)+(C_)) -> #N/A
