Workbook

Sheet T_Recap
A1: Compte | B1: Client | C1: Ville | D1: CA 2020 Renault Cergy | E1: Rémunération Cergy | F1: Type Rem Cergy | G1: CA 2020 Renault Argenteuil | H1: Rémunération Argenteuil | I1: Type Rem Argenteuil | J1: CA 2020 Renault Beauchamp | K1: Rémunération Beauchamp | L1: Type Rem Beauchamp | M1: CA 2020 Valodis Audi | N1: Rémunération Audi | O1: Type rem Audi | P1: CA 2020 Asiatiques RSOA | Q1: Rémunération RSOA | R1: Type Rem RSOA | S1: CA 2020 Asiatique KIA | T1: Rémunération Kia | U1: Type rem Kia | V1: Total Rem Rousseau 2020
A2: 1 | B2: Alyssa 1 | C2: GONESSE | D2: 178000 | E2: 10680 | F2: Point Trophées | G2: 0 | H2: FALSE | I2: CADOC | J2: 0 | K2: FALSE | L2: Chèque Bancaire | M2: 0 | N2: FALSE | O2: Points Trophées | P2: 9470.02 | Q2: 284.1006 | R2: Chèque Bancaire | S2: 7595.34 | T2: 227.8602 | U2: CADOC | V2: 11191.961
A3: 2 | B3: Alyssa 2 | C3: CHATOU | D3: 0 | E3: FALSE | F3: Point Trophées | G3: 30176 | H3: 905.28 | I3: CADOC | J3: 0 | K3: FALSE | L3: Chèque Bancaire | M3: 0 | N3: FALSE | O3: Points Trophées | P3: 0 | Q3: FALSE | R3: Chèque Bancaire | S3: 5512.79 | T3: 165.3837 | U3: CADOC | V3: 1070.6637
A4: 3 | B4: Alyssa 3 | C4: OSNY | D4: 0 | E4: FALSE | F4: Point Trophées | G4: 0 | H4: FALSE | I4: CADOC | J4: 0 | K4: FALSE | L4: Chèque Bancaire | M4: 0 | N4: FALSE | O4: Points Trophées | P4: 0 | Q4: FALSE | R4: Chèque Bancaire | S4: 5297.03 | T4: 158.9109 | U4: CADOC | V4: 158.9109
A5: 4 | B5: Alyssa 4 | C5: Argenteuil | D5: 0 | E5: FALSE | F5: Point Trophées | G5: 0 | H5: FALSE | I5: CADOC | J5: 0 | K5: FALSE | L5: Chèque Bancaire | M5: 0 | N5: FALSE | O5: Points Trophées | P5: 0 | Q5: FALSE | R5: Chèque Bancaire | S5: 3966.98 | T5: 119.0094 | U5: CADOC | V5: 119.0094
A6: 5 | B6: Alyssa 5 | C6: Deuil La Barre | D6: 0 | E6: FALSE | F6: Points Trophées | G6: 0 | H6: FALSE | I6: CADOC | J6: 0 | K6: FALSE | L6: Chèque Bancaire | M6: 0 | N6: FALSE | O6: Points Trophées | P6: 0 | Q6: FALSE | R6: Chèque Bancaire | S6: 3192.51 | T6: 95.7753 | U6: CADOC | V6: 95.7753
A7: 6 | B7: Alyssa 6 | C7: ARGENTEUIL | D7: 0 | E7: FALSE | F7: Point Trophées | G7: 29442 | H7: 883.26 | I7: CADOC | J7: 0 | K7: FALSE | L7: Chèque Bancaire | M7: 0 | N7: FALSE | O7: Points Trophées | P7: 11733.19 | Q7: 351.9957 | R7: Chèque Bancaire | S7: 0 | T7: FALSE | U7: CADOC | V7: 1235.2557
A8: 7 | B8: Alyssa 7 | C8: Vaudancourt | D8: 0 | E8: FALSE | F8: Point Trophées | G8: 0 | H8: FALSE | I8: CADOC | J8: 0 | K8: FALSE | L8: Chèque Bancaire | M8: 0 | N8: FALSE | O8: Points Trophées | P8: 10651.65 | Q8: 319.5495 | R8: Chèque Bancaire | S8: 0 | T8: FALSE | U8: CADOC | V8: 319.5495
A9: 8 | B9: Alyssa 8 | C9: Puteaux | D9: 0 | E9: FALSE | F9: Point Trophées | G9: 0 | H9: FALSE | I9: CADOC | J9: 0 | K9: FALSE | L9: Chèque Bancaire | M9: 0 | N9: FALSE | O9: Points Trophées | P9: 7582.63 | Q9: 227.4789 | R9: Chèque Bancaire | S9: 0 | T9: FALSE | U9: CADOC | V9: 227.4789
A10: 9 | B10: Alyssa 9 | C10: ERAGNY | D10: 0 | E10: FALSE | F10: Point Trophées | G10: 0 | H10: FALSE | I10: CADOC | J10: 0 | K10: FALSE | L10: Chèque Bancaire | M10: 0 | N10: FALSE | O10: Points Trophées | P10: 6897.53 | Q10: 206.9259 | R10: Chèque Bancaire | S10: 0 | T10: FALSE | U10: CADOC | V10: 206.9259
A11: 10 | B11: Alyssa 10 | C11: SAINT DENIS | D11: 0 | E11: FALSE | F11: Point Trophées | G11: 0 | H11: FALSE | I11: CADOC | J11: 0 | K11: FALSE | L11: Chèque Bancaire | M11: 148088.88 | N11: 7404.444 | O11: Points Trophées | P11: 0 | Q11: FALSE | R11: Chèque Bancaire | S11: 0 | T11: FALSE | U11: CADOC | V11: 7404.444
A12: 11 | B12: Alyssa 11 | C12: PIERRELAYE | D12: 0 | E12: FALSE | F12: Point Trophées | G12: 0 | H12: FALSE | I12: CADOC | J12: 0 | K12: FALSE | L12: Chèque Bancaire | M12: 24857.44 | N12: 745.7232 | O12: Points Trophées | P12: 0 | Q12: FALSE | R12: Chèque Bancaire | S12: 0 | T12: FALSE | U12: CADOC | V12: 745.7232
A13: 12 | B13: Alyssa 12 | C13: GONESSE | D13: 0 | E13: FALSE | F13: Point Trophées | G13: 0 | H13: FALSE | I13: CADOC | J13: 0 | K13: FALSE | L13: Chèque Bancaire | M13: 18972.74 | N13: 569.1822 | O13: Points Trophées | P13: 0 | Q13: FALSE | R13: Chèque Bancaire | S13: 0 | T13: FALSE | U13: CADOC | V13: 569.1822
A14: 13 | B14: Alyssa 13 | C14: CARRIERES SUR SEINE | D14: 0 | E14: FALSE | F14: Point Trophées | G14: 0 | H14: FALSE | I14: CADOC | J14: 0 | K14: FALSE | L14: Chèque Bancaire | M14: 14851.1 | N14: 445.533 | O14: Points Trophées | P14: 0 | Q14: FALSE | R14: Chèque Bancaire | S14: 0 | T14: FALSE | U14: CADOC | V14: 445.533
A15: 14 | B15: Alyssa 14 | C15: NOISY LE SEC | D15: 0 | E15: FALSE | F15: Point Trophées | G15: 0 | H15: FALSE | I15: CADOC | J15: 0 | K15: FALSE | L15: Chèque Bancaire | M15: 14495.3 | N15: 434.859 | O15: Points Trophées | P15: 0 | Q15: FALSE | R15: Chèque Bancaire | S15: 0 | T15: FALSE | U15: CADOC | V15: 434.859
A16: 15 | B16: Alyssa 15 | C16: PARIS | D16: 0 | E16: FALSE | F16: Chèque Bancaire | G16: 0 | H16: FALSE | I16: CADOC | J16: 0 | K16: FALSE | L16: Chèque Bancaire | M16: 12560.95 | N16: 376.8285 | O16: CADOC | P16: 0 | Q16: FALSE | R16: CADOC | S16: 0 | T16: FALSE | U16: CADOC | V16: 376.8285
A17: 16 | B17: Alyssa 16 | C17: HARDRICOURT | D17: 0 | E17: FALSE | F17: Chèque Bancaire | G17: 0 | H17: FALSE | I17: CADOC | J17: 0 | K17: FALSE | L17: Chèque Bancaire | M17: 12038.32 | N17: 361.1496 | O17: CADOC | P17: 0 | Q17: FALSE | R17: CADOC | S17: 0 | T17: FALSE | U17: CADOC | V17: 361.1496
A18: 17 | B18: Alyssa 17 | C18: ARGENTEUIL | D18: 0 | E18: FALSE | F18: Chèque Bancaire | G18: 7696 | H18: FALSE | I18: CADOC | J18: 0 | K18: FALSE | L18: Chèque Bancaire | M18: 11239.11 | N18: 337.1733 | O18: CADOC | P18: 0 | Q18: FALSE | R18: CADOC | S18: 0 | T18: FALSE | U18: CADOC | V18: 337.1733
A19: 18 | B19: Alyssa 18 | C19: DOMONT | D19: 0 | E19: FALSE | F19: Chèque Bancaire | G19: 27882 | H19: 836.46 | I19: CADOC | J19: 0 | K19: FALSE | L19: Chèque Bancaire | M19: 10099.49 | N19: 302.9847 | O19: CADOC | P19: 0 | Q19: FALSE | R19: CADOC | S19: 0 | T19: FALSE | U19: CADOC | V19: 1139.4447
A20: 19 | B20: Alyssa 19 | C20: MAGNY EN VEXIN | D20: 0 | E20: FALSE | F20: Chèque Bancaire | G20: 0 | H20: FALSE | I20: CADOC | J20: 0 | K20: FALSE | L20: Chèque Bancaire | M20: 8223.96 | N20: 164.4792 | O20: CADOC | P20: 0 | Q20: FALSE | R20: CADOC | S20: 0 | T20: FALSE | U20: CADOC | V20: 164.4792
A21: 20 | B21: Alyssa 20 | C21: CERGY PONTOISE | D21: 0 | E21: FALSE | F21: Chèque Bancaire | G21: 0 | H21: FALSE | I21: CADOC | J21: 77561 | K21: 3102.44 | L21: Chèque Bancaire | M21: 0 | N21: FALSE | O21: CADOC | P21: 0 | Q21: FALSE | R21: CADOC | S21: 0 | T21: FALSE | U21: Points Trophées | V21: 3102.44
A22: 21 | B22: Alyssa 21 | C22: PIERRELAYE | D22: 0 | E22: FALSE | F22: Chèque Bancaire | G22: 0 | H22: FALSE | I22: CADOC | J22: 61815 | K22: 2472.6 | L22: Chèque Bancaire | M22: 0 | N22: FALSE | O22: CADOC | P22: 0 | Q22: FALSE | R22: CADOC | S22: 0 | T22: FALSE | U22: Points Trophées | V22: 2472.6
A23: 22 | B23: Alyssa 22 | C23: COURBEVOIE | D23: 0 | E23: FALSE | F23: Chèque Bancaire | G23: 0 | H23: FALSE | I23: CADOC | J23: 39814 | K23: 1194.42 | L23: Chèque Bancaire | M23: 0 | N23: FALSE | O23: CADOC | P23: 0 | Q23: FALSE | R23: CADOC | S23: 0 | T23: FALSE | U23: Points Trophées | V23: 1194.42
A24: 23 | B24: Alyssa 23 | C24: OSNY | D24: 0 | E24: FALSE | F24: Chèque Bancaire | G24: 0 | H24: FALSE | I24: CADOC | J24: 37886 | K24: 1136.58 | L24: Chèque Bancaire | M24: 0 | N24: FALSE | O24: CADOC | P24: 0 | Q24: FALSE | R24: CADOC | S24: 0 | T24: FALSE | U24: Points Trophées | V24: 1136.58
A25: 24 | B25: Alyssa 24 | C25: HERBLAY | D25: 0 | E25: FALSE | F25: Chèque Bancaire | G25: 0 | H25: FALSE | I25: CADOC | J25: 8776 | K25: FALSE | L25: Chèque Bancaire | M25: 0 | N25: FALSE | O25: CADOC | P25: 0 | Q25: FALSE | R25: CADOC | S25: 0 | T25: FALSE | U25: Points Trophées | V25: 0
A26: 25 | B26: Alyssa 25 | C26: SANNOIS | D26: 0 | E26: FALSE | F26: Chèque Bancaire | G26: 0 | H26: FALSE | I26: CADOC | J26: 8434 | K26: FALSE | L26: Chèque Bancaire | M26: 0 | N26: FALSE | O26: CADOC | P26: 0 | Q26: FALSE | R26: CADOC | S26: 0 | T26: FALSE | U26: Points Trophées | V26: 0
A27: 26 | B27: Alyssa 26 | C27: JOUY LE MOUTIER | D27: 0 | E27: FALSE | F27: Chèque Bancaire | G27: 0 | H27: FALSE | I27: CADOC | J27: 7984 | K27: FALSE | L27: Chèque Bancaire | M27: 0 | N27: FALSE | O27: CADOC | P27: 0 | Q27: FALSE | R27: CADOC | S27: 0 | T27: FALSE | U27: Points Trophées | V27: 0
A28: 27 | B28: Alyssa 27 | C28: PIERRELAYE | D28: 0 | E28: FALSE | F28: Chèque Bancaire | G28: 0 | H28: FALSE | I28: CADOC | J28: 7578 | K28: FALSE | L28: CADOC | M28: 0 | N28: FALSE | O28: CADOC | P28: 0 | Q28: FALSE | R28: CADOC | S28: 0 | T28: FALSE | U28: Points Trophées | V28: 0
A29: 28 | B29: Alyssa 28 | C29: PIERRELAYE | D29: 0 | E29: FALSE | F29: CADOC | G29: 0 | H29: FALSE | I29: CADOC | J29: 7037 | K29: FALSE | L29: CADOC | M29: 0 | N29: FALSE | O29: Points Trophées | P29: 0 | Q29: FALSE | R29: Chèque Bancaire | S29: 0 | T29: FALSE | U29: Points Trophées | V29: 0
A30: 29 | B30: Alyssa 29 | C30: TAVERNY | D30: 0 | E30: FALSE | F30: CADOC | G30: 0 | H30: FALSE | I30: CADOC | J30: 6671 | K30: FALSE | L30: CADOC | M30: 0 | N30: FALSE | O30: Points Trophées | P30: 0 | Q30: FALSE | R30: Chèque Bancaire | S30: 0 | T30: FALSE | U30: Points Trophées | V30: 0
A31: 30 | B31: Alyssa 30 | C31: SARTROUVILLE | D31: 0 | E31: FALSE | F31: CADOC | G31: 0 | H31: FALSE | I31: CADOC | J31: 6070 | K31: FALSE | L31: CADOC | M31: 0 | N31: FALSE | O31: Points Trophées | P31: 0 | Q31: FALSE | R31: Chèque Bancaire | S31: 0 | T31: FALSE | U31: Points Trophées | V31: 0
A32: 31 | B32: Alyssa 31 | C32: PIERRELAYE | D32: 0 | E32: FALSE | F32: CADOC | G32: 0 | H32: FALSE | I32: CADOC | J32: 6021 | K32: FALSE | L32: Points Trophées | M32: 0 | N32: FALSE | O32: Points Trophées | P32: 0 | Q32: FALSE | R32: Chèque Bancaire | S32: 0 | T32: FALSE | U32: Points Trophées | V32: 0
A33: 32 | B33: Alyssa 32 | C33: HERBLAY | D33: 0 | E33: FALSE | F33: CADOC | G33: 9523 | H33: FALSE | I33: CADOC | J33: 0 | K33: FALSE | L33: Points Trophées | M33: 0 | N33: FALSE | O33: Points Trophées | P33: 0 | Q33: FALSE | R33: Chèque Bancaire | S33: 0 | T33: FALSE | U33: Points Trophées | V33: 0
A34: 33 | B34: Alyssa 33 | C34: EPINAY | D34: 0 | E34: FALSE | F34: CADOC | G34: 9365 | H34: FALSE | I34: CADOC | J34: 0 | K34: FALSE | L34: Points Trophées | M34: 0 | N34: FALSE | O34: Points Trophées | P34: 0 | Q34: FALSE | R34: Chèque Bancaire | S34: 0 | T34: FALSE | U34: Points Trophées | V34: 0
A35: 34 | B35: Alyssa 34 | C35: ARGENTEUIL | D35: 0 | E35: FALSE | F35: CADOC | G35: 9321 | H35: FALSE | I35: CADOC | J35: 0 | K35: FALSE | L35: Points Trophées | M35: 0 | N35: FALSE | O35: Points Trophées | P35: 0 | Q35: FALSE | R35: Chèque Bancaire | S35: 0 | T35: FALSE | U35: Points Trophées | V35: 0
A36: 35 | B36: Alyssa 35 | C36: ARGENTEUIL | D36: 0 | E36: FALSE | F36: CADOC | G36: 8784 | H36: FALSE | I36: CADOC | J36: 0 | K36: FALSE | L36: Points Trophées | M36: 0 | N36: FALSE | O36: Points Trophées | P36: 0 | Q36: FALSE | R36: Chèque Bancaire | S36: 0 | T36: FALSE | U36: Points Trophées | V36: 0
... A42: 41 | B42: Alyssa 41 | C42: SAINT GRATIEN | D42: 0 | E42: FALSE | F42: CADOC | G42: 6379 | H42: FALSE | I42: CADOC | J42: 0 | K42: FALSE | L42: Chèque Bancaire | M42: 0 | N42: FALSE | O42: Points Trophées | P42: 0 | Q42: FALSE | R42: Chèque Bancaire | S42: 0 | T42: FALSE | U42: Points Trophées | V42: 0
A43: 42 | B43: Alyssa 42 | C43: MERY SUR OISE | D43: 27981 | E43: 839.43 | F43: CADOC | G43: 0 | H43: FALSE | I43: CADOC | J43: 0 | K43: FALSE | L43: Chèque Bancaire | M43: 0 | N43: FALSE | O43: Points Trophées | P43: 0 | Q43: FALSE | R43: Chèque Bancaire | S43: 0 | T43: FALSE | U43: Points Trophées | V43: 839.43
A44: 43 | B44: Alyssa 43 | C44: AUVERS SUR OISE | D44: 20417 | E44: 612.51 | F44: CADOC | G44: 0 | H44: FALSE | I44: CADOC | J44: 0 | K44: FALSE | L44: Chèque Bancaire | M44: 0 | N44: FALSE | O44: CADOC | P44: 0 | Q44: FALSE | R44: Chèque Bancaire | S44: 0 | T44: FALSE | U44: Points Trophées | V44: 612.51
A45: 44 | B45: Alyssa 44 | C45: MONTIGNY LES CORMEILLES | D45: 20279 | E45: 608.37 | F45: CADOC | G45: 0 | H45: FALSE | I45: CADOC | J45: 0 | K45: FALSE | L45: Chèque Bancaire | M45: 0 | N45: FALSE | O45: CADOC | P45: 0 | Q45: FALSE | R45: Chèque Bancaire | S45: 0 | T45: FALSE | U45: Points Trophées | V45: 608.37
...

Sheet Feuil2
A1: Client | B1: (Tous)
A3: Somme de Montant | D3: Nature
A4: Ville | B4: Type | C4: Type.1 | D4: CA | E4: Rémunération | F4: Type | G4: Total général
A5: Argenteuil | B5: Argenteuil | C5: CADOC | D5: 62083 | E5: 883.26 | G5: 62966.26
B6: Audi | C6: CADOC | D6: 11239.11 | E6: 337.1733 | G6: 11576.283
C7: Points Trophées | D7: 0 | G7: 0
B8: Beauchamp | C8: Chèque Bancaire | D8: 0 | G8: 0
C9: Points Trophées | D9: 0 | G9: 0
B10: Cergy | C10: CADOC | D10: 0 | G10: 0
C11: Chèque Bancaire | D11: 0 | G11: 0
C12: Point Trophées | D12: 0 | G12: 0
B13: KIA | C13: CADOC | D13: 3966.98 | E13: 119.0094 | G13: 4085.9894
C14: Points Trophées | D14: 0 | G14: 0
B15: RSOA | C15: CADOC | D15: 0 | G15: 0
C16: Chèque Bancaire | D16: 11733.19 | E16: 351.9957 | G16: 12085.186
A17: Total Argenteuil | D17: 89022.28 | E17: 1691.4384 | G17: 90713.718
A18: AUVERS SUR OISE | B18: Argenteuil | C18: CADOC | D18: 0 | G18: 0
B19: Audi | C19: CADOC | D19: 0 | G19: 0
B20: Beauchamp | C20: Chèque Bancaire | D20: 0 | G20: 0
B21: Cergy | C21: CADOC | D21: 20417 | E21: 612.51 | G21: 21029.51
B22: KIA | C22: Points Trophées | D22: 0 | G22: 0
B23: RSOA | C23: Chèque Bancaire | D23: 0 | G23: 0
A24: Total AUVERS SUR OISE | D24: 20417 | E24: 612.51 | G24: 21029.51
A25: BEZONS | B25: Argenteuil | C25: CADOC | D25: 7373 | G25: 7373
B26: Audi | C26: Points Trophées | D26: 0 | G26: 0
B27: Beauchamp | C27: Points Trophées | D27: 0 | G27: 0
B28: Cergy | C28: CADOC | D28: 0 | G28: 0
B29: KIA | C29: Points Trophées | D29: 0 | G29: 0
B30: RSOA | C30: Chèque Bancaire | D30: 0 | G30: 0
A31: Total BEZONS | D31: 7373 | G31: 7373
A32: BOUAFLE | B32: Argenteuil | C32: CADOC | D32: 0 | G32: 0
B33: Audi | C33: CADOC | D33: 0 | G33: 0
B34: Beauchamp | C34: Chèque Bancaire | D34: 0 | G34: 0
B35: Cergy | C35: CADOC | D35: 9575 | G35: 9575
B36: KIA | C36: Points Trophées | D36: 0 | G36: 0
B37: RSOA | C37: Chèque Bancaire | D37: 0 | G37: 0
A38: Total BOUAFLE | D38: 9575 | G38: 9575
A39: CARRIERES SUR SEINE | B39: Argenteuil | C39: CADOC | D39: 0 | G39: 0
B40: Audi | C40: Points Trophées | D40: 14851.1 | E40: 445.533 | G40: 15296.633
B41: Beauchamp | C41: Chèque Bancaire | D41: 0 | G41: 0
...

Sheet Feuil1

Sheet Conditions
A1: RENAULT :
A2: CA Net HT | B2: de 10 001€ | C2: de 50 001€ | D2: de 100 001€ | E2: Plus de 150 000€
B3: à 50 000€ | C3: à 100 000€ | D3: à 150 000€
A4: RFA | B4: 0.03 | C4: 0.04 | D4: 0.05 | E4: 0.06
A6: AUDI :
A7: CA Net HT | B7: de 1€ | C7: de 10 001€ | D7: de 50 001€ | E7: Sup à 100 000€
B8: à 10 000€ | C8: à 50 000€ | D8: à 100 000€
A9: RFA | B9: 0.02 | C9: 0.03 | D9: 0.04 | E9: 0.05
A11: POLE ASIATIQUE :
A12: CA Net | B12: Hyundai | C12: Kia | D12: Mitsubishi | E12: Suzuki
A13: Rémunération | B13: 0.03 | C13: 0.03 | D13: 0.03 | E13: 0.03

Sheet KIA + 2000
A1: Nom du Client | B1: CODE CLT | C1: CP | D1: Ville | E1: Enseigne | F1: Statut | G1: VIPR | H1: Sect | I1: Cumul 2015 | J1: Cumul 2016 | K1: Cumul 2017 | L1: Cumul 2018 | M1: Cumul 2019 | N1: Cumul 2020 | O1: test
A2: SCDPR | B2: 125229 | C2: 95500 | D2: Gonesse | F2: MRA | I2: 0 | J2: 0 | K2: 0 | L2: 0 | M2: 22962.88 | N2: 7595.34 | O2: =VLOOKUP(A2,T_Recap!B:S,13,0) -> #N/A
A3: LDA SERVICES | B3: 11639 | C3: 78400 | D3: CHATOU | F3: MRA | G3: OC | H3: 3 | I3: 0 | J3: 415.24 | K3: 1061.21 | L3: 386 | M3: 2290.57 | N3: 5512.79 | O3: =VLOOKUP(A3,T_Recap!B:S,13,0) -> #N/A
A4: VAUBAN AUTOMOBILE OSNY | B4: 1003 | C4: 95520 | D4: OSNY | F4: MRA | G4: JL | H4: 1 | I4: 276.9 | J4: 1344.8 | K4: 366.01 | L4: 1230.85 | M4: 905.49 | N4: 5297.03 | O4: =VLOOKUP(A4,T_Recap!B:S,13,0) -> #N/A
A5: SOLAIRE | B5: 11009 | C5: 78920 | D5: Ecquevilly | F5: MRA | G5: JL | H5: 4 | I5: 7412.08 | J5: 11036.8 | K5: 20231.15 | L5: 16151.65 | M5: 11505.74 | N5: 5163.09 | O5: =VLOOKUP(A5,T_Recap!B:S,13,0) -> #N/A
A6: DE L'ILE DE FRANCE | B6: 14260 | C6: 95290 | D6: L'Isle Adam | F6: MRA | G6: JL | H6: 2 | I6: 0 | J6: 0 | K6: 753.39 | L6: 2587.97 | M6: 0 | N6: 4189.33 | O6: =VLOOKUP(A6,T_Recap!B:S,13,0) -> #N/A
A7: OURSEL | B7: 1283 | C7: 95310 | D7: SAINT OUEN L'AUMONE | F7: MRA | G7: JL | H7: 1 | I7: 799.7 | J7: 1952.26 | K7: 285.63 | L7: 6339.06 | M7: 1151.75 | N7: 3967.62 | O7: =VLOOKUP(A7,T_Recap!B:S,13,0) -> #N/A
A8: POLYKIT | B8: 13249 | C8: 95100 | D8: Argenteuil | F8: MRA | G8: OC | H8: 3 | I8: 1485.68 | J8: 4232.38 | K8: 3306.07 | L8: 0 | M8: 12753.12 | N8: 3966.98 | O8: =VLOOKUP(A8,T_Recap!B:S,13,0) -> #N/A
A9: FOTIS | B9: 59722 | C9: 95100 | D9: Argenteuil | F9: MRA | G9: OC | H9: 3 | I9: 2318.44 | J9: 17739.1 | K9: 8188.86 | L9: 2204.92 | M9: 9622.12 | N9: 3622.94 | O9: =VLOOKUP(A9,T_Recap!B:S,13,0) -> #N/A
A10: AUTO EVO | B10: 1609 | C10: 95170 | D10: Deuil La Barre | F10: MRA | G10: CS | H10: 5 | I10: 1067.08 | J10: 0 | K10: 1733.84 | L10: 395.06 | M10: 555.68 | N10: 3192.51 | O10: =VLOOKUP(A10,T_Recap!B:S,13,0) -> #N/A
A11: ART ET PASSION DE L AUTOMOBILE | B11: 111498 | C11: 78500 | D11: SARTROUVILLE | F11: MRA | G11: OC | H11: 3 | I11: 0 | J11: 0 | K11: 0 | L11: 0 | M11: 0 | N11: 3184.08 | O11: =VLOOKUP(A11,T_Recap!B:S,13,0) -> #N/A
A12: VAL NOTRE DAME | B12: 11946 | C12: 95100 | D12: Argenteuil | F12: MRA | G12: OC | H12: 3 | I12: 0 | J12: 1298.5 | K12: 416.59 | L12: 297.64 | M12: 942.32 | N12: 3087.53 | O12: =VLOOKUP(A12,T_Recap!B:S,13,0) -> #N/A
A13: ALLIANCE ESDB | B13: 194286 | C13: 78540 | D13: Vernouillet | F13: MRA | G13: JL | H13: 4 | I13: 0 | J13: 0 | K13: 0 | L13: 0 | M13: 2277.54 | N13: 2635.03 | O13: =VLOOKUP(A13,T_Recap!B:S,13,0) -> #N/A
A14: MONTOUCHET | B14: 128 | C14: 95210 | D14: Saint Gratien | F14: MRA | G14: CS | H14: 5 | I14: 842.37 | J14: 2888.76 | K14: 313.19 | L14: 1580.12 | M14: 0 | N14: 2391.64 | O14: =VLOOKUP(A14,T_Recap!B:S,13,0) -> #N/A
A15: 3ZEM AUTOMOBILE | B15: 223823 | C15: 95390 | D15: Saint Prix | F15: MRA | G15: CS | H15: 2 | I15: 0 | J15: 0 | K15: 0 | L15: 0 | M15: 4290.5 | N15: 2365.69 | O15: =VLOOKUP(A15,T_Recap!B:S,13,0) -> #N/A
A16: RELAIS DE LA FORGE | B16: 365 | C16: 95700 | D16: Roissy | F16: MRA | G16: JL | H16: 1 | I16: 0 | J16: 0 | K16: 0 | L16: 232.2 | M16: 0 | N16: 2343.63 | O16: =VLOOKUP(A16,T_Recap!B:S,13,0) -> #N/A
A17: KYB | B17: 8589 | C17: 95610 | D17: Eragny | F17: MRA | I17: 2364.08 | J17: 6486.5 | K17: 2559.72 | L17: 5457.36 | M17: 1283.29 | N17: 2272.65 | O17: =VLOOKUP(A17,T_Recap!B:S,13,0) -> #N/A
A18: RVA | B18: 13159 | C18: 95150 | D18: Taverny | F18: MRA | G18: JL | H18: 2 | I18: 411.64 | J18: 5538.17 | K18: 98.82 | L18: 5052.94 | M18: 5714.75 | N18: 2174.16 | O18: =VLOOKUP(A18,T_Recap!B:S,13,0) -> #N/A
A19: DU PARC | B19: 2540 | C19: 78260 | D19: ACHERES | F19: MRA | G19: JL | H19: 4 | I19: 0 | J19: 0 | K19: 0 | L19: 0 | M19: 2612.2 | N19: 2168.07 | O19: =VLOOKUP(A19,T_Recap!B:S,13,0) -> #N/A
A20: GRINCOURT | B20: 4268 | C20: 95290 | D20: L'Isle Adam | F20: MRA | G20: JL | H20: 2 | I20: 2230.6 | J20: 11744.32 | K20: 299.41 | L20: 1966.11 | M20: 1634.43 | N20: 2157 | O20: =VLOOKUP(A20,T_Recap!B:S,13,0) -> #N/A
A21: ART AUTO | B21: 1680 | C21: 60590 | D21: Le Vaumain | F21: MRA | G21: JL | H21: 1 | I21: 0 | J21: 0 | K21: 506.8 | L21: 199.07 | M21: 891.93 | N21: 2146.72 | O21: =VLOOKUP(A21,T_Recap!B:S,13,0) -> #N/A
A22: LECLAIRE | B22: 7454 | C22: 78780 | D22: MAURECOURT | F22: MRA | G22: JL | H22: 4 | I22: 0 | J22: 0 | K22: 0 | L22: 0 | M22: 0 | N22: 2115.39 | O22: =VLOOKUP(A22,T_Recap!B:S,13,0) -> #N/A

Sheet RSOA + 2000
A1: Nom du Client | B1: Code Client | C1: CP | D1: Ville | E1: Enseigne | F1: VIPR | G1: SECT | H1: Cumul 2018 | I1: Cumul 2019 | J1: Cumul 2020 | K1: test
A2: CREPIN | B2: 656 | C2: 95100 | D2: Argenteuil | F2: OC | G2: 3 | H2: 12925.45 | I2: 5089.19 | J2: 11733.19 | K2: =VLOOKUP(A:A,T_Recap!B:P,11,0) -> #N/A
A3: EURO TRADING SA | B3: 10239 | C3: 60240 | D3: Vaudancourt | F3: JL | G3: 1 | H3: 8388.8 | I3: 11102 | J3: 10651.65 | K3: =VLOOKUP(A:A,T_Recap!B:P,11,0) -> #N/A
A4: SCDPR | B4: 125229 | C4: 95500 | D4: Gonesse | H4: 0 | I4: 33686.83 | J4: 9470.02 | K4: =VLOOKUP(A:A,T_Recap!B:P,11,0) -> #N/A
A5: DETEK AUTOMOBILES | B5: 1229 | C5: 95480 | D5: Pierrelaye | F5: JL | G5: 2 | H5: 5416.81 | I5: 2783.47 | J5: 8276.78 | K5: =VLOOKUP(A:A,T_Recap!B:P,11,0) -> #N/A
A6: AUTOMOTION | B6: 4334 | C6: 92800 | D6: Puteaux | H6: 5672.66 | I6: 7699.55 | J6: 7582.63 | K6: =VLOOKUP(A:A,T_Recap!B:P,11,0) -> #N/A
A7: LA CARROSSERIE AUTOMOBILE DE MERY | B7: 111289 | C7: 95540 | D7: Mery sur Oise | F7: JL | G7: 1 | H7: 11650.86 | I7: 16683.68 | J7: 7439.94 | K7: =VLOOKUP(A:A,T_Recap!B:P,11,0) -> #N/A
A8: MARECHAL | B8: 717 | C8: 95610 | D8: ERAGNY | F8: JL | G8: 1 | H8: 1660.45 | I8: 6654.17 | J8: 6897.53 | K8: =VLOOKUP(A:A,T_Recap!B:P,11,0) -> #N/A
A9: VAUBAN AUTOMOBILES SAINT GERMAIN | B9: 2173 | C9: 78100 | D9: Saint Germain en Laye | F9: JL | G9: 4 | H9: 7258.83 | I9: 9066.33 | J9: 5966.53 | K9: =VLOOKUP(A:A,T_Recap!B:P,11,0) -> #N/A
A10: SOLAIRE | B10: 11009 | C10: 78920 | D10: Ecquevilly | F10: JL | G10: 4 | H10: 6803.5 | I10: 21484.16 | J10: 5863.03 | K10: =VLOOKUP(A:A,T_Recap!B:P,11,0) -> #N/A
A11: GRINCOURT | B11: 4268 | C11: 95290 | D11: L'isle Adam | F11: JL | G11: 2 | H11: 6023.53 | I11: 11612.2 | J11: 5719.01 | K11: =VLOOKUP(A:A,T_Recap!B:P,11,0) -> #N/A
A12: MVR REVOLUTION | B12: 88992 | C12: 78500 | D12: Sartrouville | F12: OC | G12: 3 | H12: 3158.83 | I12: 10931.31 | J12: 5340.39 | K12: =VLOOKUP(A:A,T_Recap!B:P,11,0) -> #N/A
A13: ACSA 78 | B13: 25413 | C13: 78700 | D13: Conflans | F13: JL | G13: 4 | H13: 0 | I13: 0 | J13: 5078.12 | K13: =VLOOKUP(A:A,T_Recap!B:P,11,0) -> #N/A
A14: FRITZEN | B14: 1367 | C14: 95480 | D14: Pierrelaye | F14: JL | G14: 2 | H14: 473.39 | I14: 245.18 | J14: 4956.72 | K14: =VLOOKUP(A:A,T_Recap!B:P,11,0) -> #N/A
A15: OURSEL | B15: 1283 | C15: 95310 | D15: soa | F15: JL | G15: 1 | H15: 5612.23 | I15: 7536.44 | J15: 4827.58 | K15: =VLOOKUP(A:A,T_Recap!B:P,11,0) -> #N/A
A16: DE LA CROIX VERTE | B16: 205540 | C16: 78650 | D16: BEYNES | F16: OC | G16: 3 | H16: 0 | I16: 0 | J16: 4584.01 | K16: =VLOOKUP(A:A,T_Recap!B:P,11,0) -> #N/A
A17: AC PRO | B17: 105504 | C17: 60100 | D17: Creil | F17: CS | G17: 5 | H17: 1552.24 | I17: 22183.01 | J17: 4522.34 | K17: =VLOOKUP(A:A,T_Recap!B:P,11,0) -> #N/A
A18: CVA | B18: 11089 | C18: 95420 | D18: Magny en Vexin | F18: JL | G18: 1 | H18: 3223.26 | I18: 4056.33 | J18: 4358.1 | K18: =VLOOKUP(A:A,T_Recap!B:P,11,0) -> #N/A
A19: BATTS AUTO | B19: 566 | C19: 95100 | D19: Argenteuil | F19: OC | G19: 3 | H19: 5073.59 | I19: 660.47 | J19: 4128.01 | K19: =VLOOKUP(A:A,T_Recap!B:P,11,0) -> #N/A
A20: DYNAMIK | B20: 14907 | C20: 78700 | D20: Conflans | F20: JL | G20: 4 | H20: 0 | I20: 3201.8 | J20: 4031.06 | K20: =VLOOKUP(A:A,T_Recap!B:P,11,0) -> #N/A
A21: VIGNY AUTOMOBILES | B21: 1891 | C21: 95450 | D21: Vigny | F21: JL | G21: 1 | H21: 5821.23 | I21: 8549.85 | J21: 3935.29 | K21: =VLOOKUP(A:A,T_Recap!B:P,11,0) -> #N/A
A22: BETHUNES AUTO | B22: 13544 | C22: 95310 | D22: soa | F22: JL | G22: 1 | H22: 238.84 | I22: 3216 | J22: 3917.93 | K22: =VLOOKUP(A:A,T_Recap!B:P,11,0) -> #N/A
A23: LE PODER | B23: 15453 | C23: 78250 | D23: Hardricourt | F23: JL | G23: 4 | H23: 952.36 | I23: 747.54 | J23: 3864.57 | K23: =VLOOKUP(A:A,T_Recap!B:P,11,0) -> #N/A
A24: SNGA | B24: 120500 | C24: 78400 | D24: Chatou | F24: OC | G24: 3 | H24: 362.55 | I24: 0 | J24: 3709.84 | K24: =VLOOKUP(A:A,T_Recap!B:P,11,0) -> #N/A
A25: FOTIS | B25: 59722 | C25: 95100 | D25: Argenteuil | F25: OC | G25: 3 | H25: 16445.91 | I25: 17444.9 | J25: 3689.41 | K25: =VLOOKUP(A:A,T_Recap!B:P,11,0) -> #N/A
A26: MATTER FRANCE | B26: 98902 | C26: 95350 | D26: Saint Brice sous Foret | F26: CS | G26: 5 | H26: 5939.58 | I26: 6373.91 | J26: 3504.88 | K26: =VLOOKUP(A:A,T_Recap!B:P,11,0) -> #N/A
A27: RENOUVEAU AUTO BLEU | B27: 41765 | C27: 78700 | D27: Conflans | F27: JL | G27: 4 | H27: 1571.22 | I27: 2132.21 | J27: 3399.33 | K27: =VLOOKUP(A:A,T_Recap!B:P,11,0) -> #N/A
A28: ATELIERS ET&S | B28: 124043 | C28: 92000 | D28: Nanterre | F28: OC | G28: 3 | H28: 745.71 | I28: 13988.08 | J28: 3374.55 | K28: =VLOOKUP(A:A,T_Recap!B:P,11,0) -> #N/A
A29: RENAULT RETAIL PARIS RIVE DROITE | B29: 101118 | C29: 75008 | D29: Paris | H29: 5195.89 | I29: 4188.09 | J29: 3081.92 | K29: =VLOOKUP(A:A,T_Recap!B:P,11,0) -> #N/A
A30: DE LA RESIDENCE | B30: 1339 | C30: 78400 | D30: Chatou | F30: OC | G30: 3 | H30: 281.53 | I30: 1098.33 | J30: 2942.79 | K30: =VLOOKUP(A:A,T_Recap!B:P,11,0) -> #N/A
A31: ACHERES AUTOS SERVICES | B31: 11542 | C31: 78260 | D31: Acheres | E31: AD | F31: JL | G31: 4 | H31: 1848.33 | I31: 3019.58 | J31: 2925.73 | K31: =VLOOKUP(A:A,T_Recap!B:P,11,0) -> #N/A
A32: GALEGO | B32: 2498 | C32: 78360 | D32: Montesson | F32: OC | G32: 3 | H32: 8953.37 | I32: 3733.25 | J32: 2857.73 | K32: =VLOOKUP(A:A,T_Recap!B:P,11,0) -> #N/A
A33: MONTOUCHET | B33: 128 | C33: 95210 | D33: Saint-Gratien | F33: CS | G33: 5 | H33: 8129.67 | I33: 4316.76 | J33: 2842.88 | K33: =VLOOKUP(A:A,T_Recap!B:P,11,0) -> #N/A
A34: JAMES | B34: 1708 | C34: 95520 | D34: Osny | F34: JL | G34: 1 | H34: 4894.96 | I34: 14403.4 | J34: 2811.59 | K34: =VLOOKUP(A:A,T_Recap!B:P,11,0) -> #N/A
A35: ESCOVAL | B35: 96169 | C35: 95100 | D35: Argenteuil | F35: OC | G35: 3 | H35: 5178.2 | I35: 11424.61 | J35: 2767.05 | K35: =VLOOKUP(A:A,T_Recap!B:P,11,0) -> #N/A
A36: FAIR PLAY AUTO | B36: 2203 | C36: 75017 | D36: Paris | F36: JL | G36: 1 | H36: 2533.72 | I36: 1171.61 | J36: 2581.21 | K36: =VLOOKUP(A:A,T_Recap!B:P,11,0) -> #N/A
A37: BELLO AUTOMOBILES | B37: 2431 | C37: 78500 | D37: Sartrouville | F37: OC | G37: 3 | H37: 263.13 | I37: 1835.79 | J37: 2522.38 | K37: =VLOOKUP(A:A,T_Recap!B:P,11,0) -> #N/A
A38: JEAN JAURES AUTOMOBILES | B38: 121819 | C38: 78800 | D38: Houilles | F38: OC | G38: 3 | H38: 2415.27 | I38: 314.29 | J38: 2466.06 | K38: =VLOOKUP(A:A,T_Recap!B:P,11,0) -> #N/A
A39: START'GP AUTOMOBILES | B39: 11433 | C39: 95750 | D39: Chars | F39: JL | G39: 1 | H39: 14349.72 | I39: 13873.65 | J39: 2437.47 | K39: =VLOOKUP(A:A,T_Recap!B:P,11,0) -> #N/A
A40: JDS | B40: 89776 | C40: 78500 | D40: Sartrouville | F40: OC | G40: 3 | H40: 0 | I40: 2905.29 | J40: 2423.48 | K40: =VLOOKUP(A:A,T_Recap!B:P,11,0) -> #N/A
...

Sheet Audi + 2000
A1: N°Cpte | B1: Client | C1: CP | D1: Ville | E1: VIPR | F1: Secteur | G1: Total CA Net A-2 | H1: Total CA Net A-1 | I1: Total CA Net | J1: test
A2: 646934 | B2: VILLAGE NEUBAUER SAINT DENIS | C2: 93200 | D2: SAINT DENIS | G2: 57324.18 | H2: 100268.74 | I2: 148088.88 | J2: =VLOOKUP(B2,T_Recap!B:M,9,0) -> #N/A
A3: 634714 | B3: GALEGO | C3: 78360 | D3: MONTESSON | E3: OC | F3: 3 | G3: 7115.85 | H3: 53720.62 | I3: 32314.43 | J3: =VLOOKUP(B3,T_Recap!B:M,9,0) -> #N/A
A4: 602671 | B4: DETEK | C4: 95480 | D4: PIERRELAYE | E4: JL | F4: 2 | G4: 32648.93 | H4: 25476.43 | I4: 24857.44 | J4: =VLOOKUP(B4,T_Recap!B:M,9,0) -> #N/A
A5: 648529 | B5: SCDPR PARIS-ETS DE GONESSE | C5: 95500 | D5: GONESSE | G5: 0 | H5: 45030.52 | I5: 18972.74 | J5: =VLOOKUP(B5,T_Recap!B:M,9,0) -> #N/A
A6: 636582 | B6: FAIR PLAY AUTO | C6: 75017 | D6: PARIS | E6: JL | F6: 1 | G6: 36139.17 | H6: 46166.26 | I6: 15594.98 | J6: =VLOOKUP(B6,T_Recap!B:M,9,0) -> #N/A
A7: 624007 | B7: DIAS | C7: 78420 | D7: CARRIERES SUR SEINE | E7: OC | F7: 3 | G7: 12071.07 | H7: 20583.8 | I7: 14851.1 | J7: =VLOOKUP(B7,T_Recap!B:M,9,0) -> #N/A
A8: 650132 | B8: MARS | C8: 93130 | D8: NOISY LE SEC | E8: CS | F8: 5 | G8: 0 | H8: 14057.56 | I8: 14495.3 | J8: =VLOOKUP(B8,T_Recap!B:M,9,0) -> #N/A
A9: 603804 | B9: ESPACE SUFFREN | C9: 75015 | D9: PARIS | F9: Comptoir | G9: 116612.7 | H9: 138940.95 | I9: 12560.95 | J9: =VLOOKUP(B9,T_Recap!B:M,9,0) -> #N/A
A10: 641741 | B10: DU VEXIN | C10: 78250 | D10: HARDRICOURT | E10: JL | F10: 4 | G10: 5942.03 | H10: 16015.15 | I10: 12038.32 | J10: =VLOOKUP(B10,T_Recap!B:M,9,0) -> #N/A
A11: 634648 | B11: DU PONT NEUF | C11: 95100 | D11: ARGENTEUIL | E11: OC | F11: 3 | G11: 3435.42 | H11: 6495.21 | I11: 11239.11 | J11: =VLOOKUP(B11,T_Recap!B:M,9,0) -> #N/A
A12: 613312 | B12: DU MARAIS | C12: 95330 | D12: DOMONT | E12: CS | F12: 2 | G12: 27994.01 | H12: 12424.02 | I12: 10099.49 | J12: =VLOOKUP(B12,T_Recap!B:M,9,0) -> #N/A
A13: 604777 | B13: MTM | C13: 95420 | D13: MAGNY EN VEXIN | E13: JL | F13: 1 | G13: 13142.38 | H13: 13531.08 | I13: 8223.96 | J13: =VLOOKUP(B13,T_Recap!B:M,9,0) -> #N/A
A14: 630376 | B14: LE PODER | C14: 78250 | D14: HARDRICOURT | E14: JL | F14: 4 | G14: 2576.2 | H14: 4389.39 | I14: 7622.02 | J14: =VLOOKUP(B14,T_Recap!B:M,9,0) -> #N/A
A15: 636585 | B15: FAIR PLAY TROCADERO | C15: 75116 | D15: PARIS 16EME ARRONDISSEMENT | E15: JL | F15: 1 | G15: 19598.93 | H15: 29092.08 | I15: 7515.48 | J15: =VLOOKUP(B15,T_Recap!B:M,9,0) -> #N/A
A16: 631680 | B16: LABEL AUTO | C16: 78700 | D16: CONFLANS | E16: JL | F16: 4 | G16: 8279.15 | H16: 9663.77 | I16: 7124.64 | J16: =VLOOKUP(B16,T_Recap!B:M,9,0) -> #N/A
A17: 637050 | B17: ESCOVAL | C17: 95100 | D17: ARGENTEUIL | E17: OC | F17: 3 | G17: 24786.49 | H17: 29054.51 | I17: 7093.49 | J17: =VLOOKUP(B17,T_Recap!B:M,9,0) -> #N/A
A18: 634730 | B18: MVR EVOLUTION | C18: 78500 | D18: SARTROUVILLE | E18: OC | F18: 3 | G18: 12850.71 | H18: 22494.22 | I18: 7025.72 | J18: =VLOOKUP(B18,T_Recap!B:M,9,0) -> #N/A
A19: 645446 | B19: SMS AUTO | C19: 78920 | D19: ECQUEVILLY | E19: JL | F19: 4 | G19: 3443.45 | H19: 3009.12 | I19: 6501.01 | J19: =VLOOKUP(B19,T_Recap!B:M,9,0) -> #N/A
A20: 636583 | B20: FAIR PLAY LA DEFENSE | C20: 92400 | D20: COURBEVOIE | E20: JL | F20: 1 | G20: 12795.05 | H20: 13751.21 | I20: 6080.79 | J20: =VLOOKUP(B20,T_Recap!B:M,9,0) -> #N/A
A21: 621480 | B21: VIGNY AUTOMOBILES | C21: 95450 | D21: VIGNY | E21: JL | F21: 1 | G21: 11176.91 | H21: 6855.54 | I21: 5411.39 | J21: =VLOOKUP(B21,T_Recap!B:M,9,0) -> #N/A
... A24: 633339 | B24: STE GARAGE PARIS DIEPPE CARROSS | C24: 95370 | D24: MONTIGNY LES CORMEILLES | E24: CS | F24: 2 | G24: 13105.57 | H24: 14507.05 | I24: 4503.21 | J24: =VLOOKUP(B24,T_Recap!B:M,9,0) -> #N/A
A25: 619586 | B25: DE L'ILE DE FRANCE | C25: 95290 | D25: L'ISLE ADAM | E25: JL | F25: 2 | G25: 0 | H25: 0 | I25: 4262.17 | J25: =VLOOKUP(B25,T_Recap!B:M,9,0) -> #N/A
A26: 629785 | B26: DE LIMAY | C26: 78520 | D26: LIMAY | E26: JL | F26: 4 | G26: 1236.28 | H26: 0 | I26: 4202.58 | J26: =VLOOKUP(B26,T_Recap!B:M,9,0) -> #N/A
A27: 639352 | B27: DHC AUTO | C27: 78520 | D27: LIMAY | E27: JL | F27: 4 | G27: 23825.58 | H27: 4758.56 | I27: 3888.66 | J27: =VLOOKUP(B27,T_Recap!B:M,9,0) -> #N/A
A28: 605554 | B28: AUBONY | C28: 95600 | D28: EAUBONNE | E28: CS | F28: 2 | G28: 446.66 | H28: 2034.55 | I28: 3835.48 | J28: =VLOOKUP(B28,T_Recap!B:M,9,0) -> #N/A
A29: 645299 | B29: PORTE ROUGE AUTOMOBILES | C29: 95160 | D29: MONTMORENCY | E29: CS | F29: 5 | G29: 1054.17 | H29: 105.81 | I29: 3790.99 | J29: =VLOOKUP(B29,T_Recap!B:M,9,0) -> #N/A
A30: 621211 | B30: TOP CARS | C30: 95100 | D30: ARGENTEUIL | E30: OC | F30: 3 | G30: 1701.98 | H30: 1204.02 | I30: 3653.21 | J30: =VLOOKUP(B30,T_Recap!B:M,9,0) -> #N/A
A31: 644968 | B31: DU CENTRE | C31: 78440 | D31: GARGENVILLE | E31: JL | F31: 4 | G31: 1302.62 | H31: 2765.76 | I31: 3469.42 | J31: =VLOOKUP(B31,T_Recap!B:M,9,0) -> #N/A
A32: 634342 | B32: AUTO SERVICE DE SOISY | C32: 95230 | D32: SOISY SOUS MONTMORENCY | E32: CS | F32: 5 | G32: 2114.89 | H32: 837.65 | I32: 3458.27 | J32: =VLOOKUP(B32,T_Recap!B:M,9,0) -> #N/A
A33: 602389 | B33: SOGEL | C33: 95300 | D33: PONTOISE | E33: JL | F33: 1 | G33: 308.69 | H33: 0 | I33: 3446.8 | J33: =VLOOKUP(B33,T_Recap!B:M,9,0) -> #N/A
A34: 629681 | B34: VAUBAN AUTOMOBILE BUCHELAY | C34: 78200 | D34: BUCHELET | E34: JL | F34: 4 | G34: 1643.77 | H34: 3672.8 | I34: 3262.98 | J34: =VLOOKUP(B34,T_Recap!B:M,9,0) -> #N/A
A35: 626034 | B35: DES BERGES | C35: 78260 | D35: ACHERES | E35: JL | F35: 4 | G35: 21298.4 | H35: 13180.24 | I35: 3152.97 | J35: =VLOOKUP(B35,T_Recap!B:M,9,0) -> #N/A
A36: 648579 | B36: PRIME MOTORS | C36: 95330 | D36: DOMONT | E36: CS | F36: 2 | G36: 0 | H36: 2978.87 | I36: 3087.41 | J36: =VLOOKUP(B36,T_Recap!B:M,9,0) -> #N/A
A37: 600576 | B37: CTE | C37: 78700 | D37: CONFLANS | E37: JL | F37: 4 | G37: 1136.39 | H37: 3064.33 | I37: 3026.4 | J37: =VLOOKUP(B37,T_Recap!B:M,9,0) -> #N/A
A38: 611637 | B38: AVENIR AUTOMOBILES | C38: 95280 | D38: JOUY LE MOUTIER | E38: JL | F38: 1 | G38: 5594.3 | H38: 2857.15 | I38: 2953.58 | J38: =VLOOKUP(B38,T_Recap!B:M,9,0) -> #N/A
A39: 641182 | B39: NRG AUTOMOBILE | C39: 75018 | D39: PARIS | G39: 0 | H39: 1177.03 | I39: 2917.37 | J39: =VLOOKUP(B39,T_Recap!B:M,9,0) -> #N/A
A40: 631168 | B40: DE BOISSY | C40: 95650 | D40: BOISSY L AILLERIE | E40: JL | F40: 1 | G40: 9146.98 | H40: 2684.1 | I40: 2870.15 | J40: =VLOOKUP(B40,T_Recap!B:M,9,0) -> #N/A
A41: 601499 | B41: MONTOUCHET | C41: 95210 | D41: SAINT GRATIEN | E41: CS | F41: 5 | G41: 4644.94 | H41: 8692.5 | I41: 2695.38 | J41: =VLOOKUP(B41,T_Recap!B:M,9,0) -> #N/A
A42: 603329 | B42: SUZANNE | C42: 95160 | D42: MONTMORENCY | E42: CS | F42: 5 | G42: 6995.1 | H42: 9478.27 | I42: 2674.2 | J42: =VLOOKUP(B42,T_Recap!B:M,9,0) -> #N/A
...
