Workbook
Name AnnéeDébutAnnéeFiscale: 'Prévisions 2014-2015'!$AD$2
Name AnnéeDébutAnnéeFiscale: 'Prévisions 2014-2015 (2)'!$AD$2
Name DébutMoisAnnéeFiscale: 'Prévisions 2014-2015'!$AC$2
Name DébutMoisAnnéeFiscale: 'Prévisions 2014-2015 (2)'!$AC$2
Name Titres_à_imprimer: 'Prévisions 2014-2015'!$4:$4
Name Titres_à_imprimer: 'Prévisions 2014-2015 (2)'!$4:$4

Sheet Determination CA et CV Prev.
A4: Panier Moyen par type de client | C4: Taille Entreprise | D4: Panier moyen | E4: Prestation vendue | F4: Prestation mensuelle récurrente Y1 | G4: Prestation mensuelle récurrente Y2 | H4: Prestation mensuelle récurrente Y3
C5: PE | D5: 7000 | E5: 3000 | F5: 300 | G5: 300 | H5: 300
C6: ME | D6: 11000 | E6: 5000 | F6: 500 | G6: 500 | H6: 500
C7: GE | D7: 25000 | E7: 140000 | F7: 900 | G7: 900 | H7: 900
A10: Evolution du Nombre de clients par type de client | C10: Taille Entreprise | D10: Nbre de clients acquis Y1 | E10: Nombre de clients perdus Y1 | F10: Nombre de clients acquis Y2 | G10: Nombre de clients perdus Y2 | H10: Nombre de clients acquis Y3 | I10: Nombre de clients perdus Y3 | J10: Total
C11: PE | D11: 3 | E11: 0 | F11: 3 | G11: 0 | H11: 2 | I11: 1 | J11: =D11+F11+H11-E11-G11-I11 -> 7
C12: ME | D12: 5 | E12: 0 | F12: 4 | G12: 0 | H12: 5 | I12: 1 | J12: =D12+F12+H12-E12-G12-I12 -> 13
C13: GE | D13: 1 | E13: 0 | F13: 1 | G13: 0 | H13: 2 | I13: 0 | J13: =D13+F13+H13-E13-G13-I13 -> 4
C14: Total | D14: =SUM(D11:D13) -> 9 | E14: =SUM(E11:E13) -> 0 | F14: =SUM(F11:F13) -> 8 | G14: =SUM(G11:G13) -> 0 | H14: =SUM(H11:H13) -> 9 | I14: =SUM(I11:I13) -> 2 | J14: =D14+F14+H14-E14-G14-I14 -> 24
A17: Détail et Evolution du coût des ventes | C17: Coût des ventes | D17: CV Y1 | E17: CV Y2 | F17: CV Y3
C18: Royalties | D18: 10% CA | E18: 9% CA | F18: 9% CA
C19: Sous traitance | D19: 40% CA | E19: 20% CA | F19: 15% CA
C20: Autres redeveances fixes | D20: =(99+100+60+300)*0.768 -> 429.312 | E20: =(99+100+60+300)*0.768 -> 429.312 | F20: =(99+100+60+500)*0.768 -> 582.912
C21: coût des ventes Moyen | D21: 50% CA | E21: 30% CA | F21: 25% CA

Sheet Prévisions 2014-2015
B2: PRÉVISION DE CA | AB2: DÉBUT EXERCICE FINANCIER : | AC2: SEPT | AD2: 2014
D4: =UPPER(TEXT(DATE(AnnéeDébutAnnéeFiscale,FYMonthNo,1),"[$-40C]mmm-yy")) -> SEPT.-YY | E4: =UPPER(TEXT(DATE(AnnéeDébutAnnéeFiscale,FYMonthNo+1,1),"[$-40C]mmm-yy")) -> OCT.-YY | F4: =UPPER(TEXT(DATE(AnnéeDébutAnnéeFiscale,FYMonthNo+2,1),"[$-40C]mmm-yy")) -> NOV.-YY | G4: =UPPER(TEXT(DATE(AnnéeDébutAnnéeFiscale,FYMonthNo+3,1),"[$-40C]mmm-yy")) -> DÉC.-YY | H4: =UPPER(TEXT(DATE(AnnéeDébutAnnéeFiscale,FYMonthNo+4,1),"[$-40C]mmm-yy")) -> JANV.-YY | I4: =UPPER(TEXT(DATE(AnnéeDébutAnnéeFiscale,FYMonthNo+5,1),"[$-40C]mmm-yy")) -> FÉVR.-YY | J4: =UPPER(TEXT(DATE(AnnéeDébutAnnéeFiscale,FYMonthNo+6,1),"[$-40C]mmm-yy")) -> MARS-YY | K4: =UPPER(TEXT(DATE(AnnéeDébutAnnéeFiscale,FYMonthNo+7,1),"[$-40C]mmm-yy")) -> AVR.-YY | L4: =UPPER(TEXT(DATE(AnnéeDébutAnnéeFiscale,FYMonthNo+8,1),"[$-40C]mmm-yy")) -> MAI-YY | M4: =UPPER(TEXT(DATE(AnnéeDébutAnnéeFiscale,FYMonthNo+9,1),"[$-40C]mmm-yy")) -> JUIN-YY | N4: =UPPER(TEXT(DATE(AnnéeDébutAnnéeFiscale,FYMonthNo+10,1),"[$-40C]mmm-yy")) -> JUIL.-YY | O4: =UPPER(TEXT(DATE(AnnéeDébutAnnéeFiscale,FYMonthNo+11,1),"[$-40C]mmm-yy")) -> AOÛT-YY | P4: ANNUEL | Q4: IND % | R4: =LEFT(D4,1)&" %" -> S % | S4: =LEFT(E4,1)&" %" -> O % | T4: =LEFT(F4,1)&" %" -> N % | U4: =LEFT(G4,1)&" %" -> D % | V4: =LEFT(H4,1)&" %" -> J % | W4: =LEFT(I4,1)&" %" -> F % | X4: =LEFT(J4,1)&" %" -> M % | Y4: =LEFT(K4,1)&" %" -> A % | ... AC4: =LEFT(O4,1)&" %" -> A % | AD4: % ANNUEL
B6: CA (VENTES) | C6: TENDANCE | D6: m1 | E6: m2 | F6: m3 | G6: m4 | H6: m5 | I6: m6 | J6: m7 | K6: m8 | L6: m9 | M6: m10 | N6: m11 | O6: m12 | P6: Annuel | Q6: Ind % | R6: % m1 | S6: % m2 | T6: % m3 | U6: % m4 | V6: % m5 | W6: % m6 | X6: % m7 | Y6: % m8 | Z6: % m9 | AA6: % m10 | AB6: % m11 | AC6: % m12 | AD6: % y
A7: Clients acquis courant 1ere année | B7: Client 1 | D7: 300 | E7: 300 | F7: 300 | G7: 300 | H7: 300 | I7: 300 | J7: 300 | K7: 300 | L7: 300 | M7: 300 | N7: 300 | O7: 300 | P7: =SUM(tblRevenus2[[#This Row],[m1]:[m12]]) -> 3600 | Q7: 0.12 | R7: =IFERROR(tblRevenus2[[#This Row],[m1]]/tblRevenus2[[#Totals],[m1]],"-") -> 0.032967033 | S7: =IFERROR(tblRevenus2[[#This Row],[m2]]/tblRevenus2[[#Totals],[m2]],"-") -> 0.039473684 | T7: =IFERROR(tblRevenus2[[#This Row],[m3]]/tblRevenus2[[#Totals],[m3]],"-") -> 0.03030303 | U7: =IFERROR(tblRevenus2[[#This Row],[m4]]/tblRevenus2[[#Totals],[m4]],"-") -> 0.055555556 | V7: =IFERROR(tblRevenus2[[#This Row],[m5]]/tblRevenus2[[#Totals],[m5]],"-") -> 0.024193548 | W7: =IFERROR(tblRevenus2[[#This Row],[m6]]/tblRevenus2[[#Totals],[m6]],"-") -> 0.018404908 | X7: =IFERROR(tblRevenus2[[#This Row],[m7]]/tblRevenus2[[#Totals],[m7]],"-") -> 0.025862069 | Y7: =IFERROR(tblRevenus2[[#This Row],[m8]]/tblRevenus2[[#Totals],[m8]],"-") -> 0.02970297 | Z7: =IFERROR(tblRevenus2[[#This Row],[m9]]/tblRevenus2[[#Totals],[m9]],"-") -> 0.024193548 | AA7: =IFERROR(tblRevenus2[[#This Row],[m10]]/tblRevenus2[[#Totals],[m10]],"-") -> 0.023255814 | AB7: =IFERROR(tblRevenus2[[#This Row],[m11]]/tblRevenus2[[#Totals],[m11]],"-") -> 0.035714286 | AC7: =IFERROR(tblRevenus2[[#This Row],[m12]]/tblRevenus2[[#Totals],[m12]],"-") -> 0.035714286 | AD7: =IFERROR(tblRevenus2[[#This Row],[Annuel]]/tblRevenus2[[#Totals],[Annuel]],"-") -> 0.028915663
B8: Client 2 | D8: 500 | E8: 500 | F8: 500 | G8: 500 | H8: 500 | I8: 500 | J8: 500 | K8: 500 | L8: 500 | M8: 500 | N8: 500 | O8: 500 | P8: =SUM(tblRevenus2[[#This Row],[m1]:[m12]]) -> 6000 | Q8: 0.18 | R8: =IFERROR(tblRevenus2[[#This Row],[m1]]/tblRevenus2[[#Totals],[m1]],"-") -> 0.054945055 | S8: =IFERROR(tblRevenus2[[#This Row],[m2]]/tblRevenus2[[#Totals],[m2]],"-") -> 0.065789474 | T8: =IFERROR(tblRevenus2[[#This Row],[m3]]/tblRevenus2[[#Totals],[m3]],"-") -> 0.050505051 | U8: =IFERROR(tblRevenus2[[#This Row],[m4]]/tblRevenus2[[#Totals],[m4]],"-") -> 0.092592593 | V8: =IFERROR(tblRevenus2[[#This Row],[m5]]/tblRevenus2[[#Totals],[m5]],"-") -> 0.040322581 | W8: =IFERROR(tblRevenus2[[#This Row],[m6]]/tblRevenus2[[#Totals],[m6]],"-") -> 0.030674847 | X8: =IFERROR(tblRevenus2[[#This Row],[m7]]/tblRevenus2[[#Totals],[m7]],"-") -> 0.043103448 | Y8: =IFERROR(tblRevenus2[[#This Row],[m8]]/tblRevenus2[[#Totals],[m8]],"-") -> 0.04950495 | Z8: =IFERROR(tblRevenus2[[#This Row],[m9]]/tblRevenus2[[#Totals],[m9]],"-") -> 0.040322581 | AA8: =IFERROR(tblRevenus2[[#This Row],[m10]]/tblRevenus2[[#Totals],[m10]],"-") -> 0.03875969 | AB8: =IFERROR(tblRevenus2[[#This Row],[m11]]/tblRevenus2[[#Totals],[m11]],"-") -> 0.05952381 | AC8: =IFERROR(tblRevenus2[[#This Row],[m12]]/tblRevenus2[[#Totals],[m12]],"-") -> 0.05952381 | AD8: =IFERROR(tblRevenus2[[#This Row],[Annuel]]/tblRevenus2[[#Totals],[Annuel]],"-") -> 0.048192771
B9: Client 3 | D9: 300 | E9: 300 | F9: 300 | G9: 300 | H9: 300 | I9: 300 | J9: 300 | K9: 300 | L9: 300 | M9: 300 | N9: 300 | O9: 300 | P9: =SUM(tblRevenus2[[#This Row],[m1]:[m12]]) -> 3600 | Q9: 0.19 | R9: =IFERROR(tblRevenus2[[#This Row],[m1]]/tblRevenus2[[#Totals],[m1]],"-") -> 0.032967033 | S9: =IFERROR(tblRevenus2[[#This Row],[m2]]/tblRevenus2[[#Totals],[m2]],"-") -> 0.039473684 | T9: =IFERROR(tblRevenus2[[#This Row],[m3]]/tblRevenus2[[#Totals],[m3]],"-") -> 0.03030303 | U9: =IFERROR(tblRevenus2[[#This Row],[m4]]/tblRevenus2[[#Totals],[m4]],"-") -> 0.055555556 | V9: =IFERROR(tblRevenus2[[#This Row],[m5]]/tblRevenus2[[#Totals],[m5]],"-") -> 0.024193548 | W9: =IFERROR(tblRevenus2[[#This Row],[m6]]/tblRevenus2[[#Totals],[m6]],"-") -> 0.018404908 | X9: =IFERROR(tblRevenus2[[#This Row],[m7]]/tblRevenus2[[#Totals],[m7]],"-") -> 0.025862069 | Y9: =IFERROR(tblRevenus2[[#This Row],[m8]]/tblRevenus2[[#Totals],[m8]],"-") -> 0.02970297 | Z9: =IFERROR(tblRevenus2[[#This Row],[m9]]/tblRevenus2[[#Totals],[m9]],"-") -> 0.024193548 | AA9: =IFERROR(tblRevenus2[[#This Row],[m10]]/tblRevenus2[[#Totals],[m10]],"-") -> 0.023255814 | AB9: =IFERROR(tblRevenus2[[#This Row],[m11]]/tblRevenus2[[#Totals],[m11]],"-") -> 0.035714286 | AC9: =IFERROR(tblRevenus2[[#This Row],[m12]]/tblRevenus2[[#Totals],[m12]],"-") -> 0.035714286 | AD9: =IFERROR(tblRevenus2[[#This Row],[Annuel]]/tblRevenus2[[#Totals],[Annuel]],"-") -> 0.028915663
B10: Client 4 | D10: 500 | E10: 500 | F10: 500 | G10: 500 | H10: 500 | I10: 500 | J10: 500 | K10: 500 | L10: 500 | M10: 500 | N10: 500 | O10: 500 | P10: =SUM(tblRevenus2[[#This Row],[m1]:[m12]]) -> 6000 | Q10: 0.11 | R10: =IFERROR(tblRevenus2[[#This Row],[m1]]/tblRevenus2[[#Totals],[m1]],"-") -> 0.054945055 | S10: =IFERROR(tblRevenus2[[#This Row],[m2]]/tblRevenus2[[#Totals],[m2]],"-") -> 0.065789474 | T10: =IFERROR(tblRevenus2[[#This Row],[m3]]/tblRevenus2[[#Totals],[m3]],"-") -> 0.050505051 | U10: =IFERROR(tblRevenus2[[#This Row],[m4]]/tblRevenus2[[#Totals],[m4]],"-") -> 0.092592593 | V10: =IFERROR(tblRevenus2[[#This Row],[m5]]/tblRevenus2[[#Totals],[m5]],"-") -> 0.040322581 | W10: =IFERROR(tblRevenus2[[#This Row],[m6]]/tblRevenus2[[#Totals],[m6]],"-") -> 0.030674847 | X10: =IFERROR(tblRevenus2[[#This Row],[m7]]/tblRevenus2[[#Totals],[m7]],"-") -> 0.043103448 | Y10: =IFERROR(tblRevenus2[[#This Row],[m8]]/tblRevenus2[[#Totals],[m8]],"-") -> 0.04950495 | Z10: =IFERROR(tblRevenus2[[#This Row],[m9]]/tblRevenus2[[#Totals],[m9]],"-") -> 0.040322581 | AA10: =IFERROR(tblRevenus2[[#This Row],[m10]]/tblRevenus2[[#Totals],[m10]],"-") -> 0.03875969 | AB10: =IFERROR(tblRevenus2[[#This Row],[m11]]/tblRevenus2[[#Totals],[m11]],"-") -> 0.05952381 | AC10: =IFERROR(tblRevenus2[[#This Row],[m12]]/tblRevenus2[[#Totals],[m12]],"-") -> 0.05952381 | AD10: =IFERROR(tblRevenus2[[#This Row],[Annuel]]/tblRevenus2[[#Totals],[Annuel]],"-") -> 0.048192771
B11: Client 5 | D11: 300 | E11: 300 | F11: 300 | G11: 300 | H11: 300 | I11: 300 | J11: 300 | K11: 300 | L11: 300 | M11: 300 | N11: 300 | O11: 300 | P11: =SUM(tblRevenus2[[#This Row],[m1]:[m12]]) -> 3600 | Q11: 0.2 | R11: =IFERROR(tblRevenus2[[#This Row],[m1]]/tblRevenus2[[#Totals],[m1]],"-") -> 0.032967033 | S11: =IFERROR(tblRevenus2[[#This Row],[m2]]/tblRevenus2[[#Totals],[m2]],"-") -> 0.039473684 | T11: =IFERROR(tblRevenus2[[#This Row],[m3]]/tblRevenus2[[#Totals],[m3]],"-") -> 0.03030303 | U11: =IFERROR(tblRevenus2[[#This Row],[m4]]/tblRevenus2[[#Totals],[m4]],"-") -> 0.055555556 | V11: =IFERROR(tblRevenus2[[#This Row],[m5]]/tblRevenus2[[#Totals],[m5]],"-") -> 0.024193548 | W11: =IFERROR(tblRevenus2[[#This Row],[m6]]/tblRevenus2[[#Totals],[m6]],"-") -> 0.018404908 | X11: =IFERROR(tblRevenus2[[#This Row],[m7]]/tblRevenus2[[#Totals],[m7]],"-") -> 0.025862069 | Y11: =IFERROR(tblRevenus2[[#This Row],[m8]]/tblRevenus2[[#Totals],[m8]],"-") -> 0.02970297 | Z11: =IFERROR(tblRevenus2[[#This Row],[m9]]/tblRevenus2[[#Totals],[m9]],"-") -> 0.024193548 | AA11: =IFERROR(tblRevenus2[[#This Row],[m10]]/tblRevenus2[[#Totals],[m10]],"-") -> 0.023255814 | AB11: =IFERROR(tblRevenus2[[#This Row],[m11]]/tblRevenus2[[#Totals],[m11]],"-") -> 0.035714286 | AC11: =IFERROR(tblRevenus2[[#This Row],[m12]]/tblRevenus2[[#Totals],[m12]],"-") -> 0.035714286 | AD11: =IFERROR(tblRevenus2[[#This Row],[Annuel]]/tblRevenus2[[#Totals],[Annuel]],"-") -> 0.028915663
B12: Client 6 | D12: 500 | E12: 500 | F12: 500 | G12: 500 | H12: 500 | I12: 500 | J12: 500 | K12: 500 | L12: 500 | M12: 500 | N12: 500 | O12: 500 | P12: =SUM(tblRevenus2[[#This Row],[m1]:[m12]]) -> 6000 | Q12: 0.1 | R12: =IFERROR(tblRevenus2[[#This Row],[m1]]/tblRevenus2[[#Totals],[m1]],"-") -> 0.054945055 | S12: =IFERROR(tblRevenus2[[#This Row],[m2]]/tblRevenus2[[#Totals],[m2]],"-") -> 0.065789474 | T12: =IFERROR(tblRevenus2[[#This Row],[m3]]/tblRevenus2[[#Totals],[m3]],"-") -> 0.050505051 | U12: =IFERROR(tblRevenus2[[#This Row],[m4]]/tblRevenus2[[#Totals],[m4]],"-") -> 0.092592593 | V12: =IFERROR(tblRevenus2[[#This Row],[m5]]/tblRevenus2[[#Totals],[m5]],"-") -> 0.040322581 | W12: =IFERROR(tblRevenus2[[#This Row],[m6]]/tblRevenus2[[#Totals],[m6]],"-") -> 0.030674847 | X12: =IFERROR(tblRevenus2[[#This Row],[m7]]/tblRevenus2[[#Totals],[m7]],"-") -> 0.043103448 | Y12: =IFERROR(tblRevenus2[[#This Row],[m8]]/tblRevenus2[[#Totals],[m8]],"-") -> 0.04950495 | Z12: =IFERROR(tblRevenus2[[#This Row],[m9]]/tblRevenus2[[#Totals],[m9]],"-") -> 0.040322581 | AA12: =IFERROR(tblRevenus2[[#This Row],[m10]]/tblRevenus2[[#Totals],[m10]],"-") -> 0.03875969 | AB12: =IFERROR(tblRevenus2[[#This Row],[m11]]/tblRevenus2[[#Totals],[m11]],"-") -> 0.05952381 | AC12: =IFERROR(tblRevenus2[[#This Row],[m12]]/tblRevenus2[[#Totals],[m12]],"-") -> 0.05952381 | AD12: =IFERROR(tblRevenus2[[#This Row],[Annuel]]/tblRevenus2[[#Totals],[Annuel]],"-") -> 0.048192771
B13: Client 7 | D13: 700 | E13: 700 | F13: 700 | G13: 700 | H13: 700 | I13: 700 | J13: 700 | K13: 700 | L13: 700 | M13: 700 | N13: 700 | O13: 700 | P13: =SUM(tblRevenus2[[#This Row],[m1]:[m12]]) -> 8400 | Q13: 0.1 | R13: =IFERROR(tblRevenus2[[#This Row],[m1]]/tblRevenus2[[#Totals],[m1]],"-") -> 0.076923077 | S13: =IFERROR(tblRevenus2[[#This Row],[m2]]/tblRevenus2[[#Totals],[m2]],"-") -> 0.092105263 | T13: =IFERROR(tblRevenus2[[#This Row],[m3]]/tblRevenus2[[#Totals],[m3]],"-") -> 0.070707071 | U13: =IFERROR(tblRevenus2[[#This Row],[m4]]/tblRevenus2[[#Totals],[m4]],"-") -> 0.12962963 | V13: =IFERROR(tblRevenus2[[#This Row],[m5]]/tblRevenus2[[#Totals],[m5]],"-") -> 0.056451613 | W13: =IFERROR(tblRevenus2[[#This Row],[m6]]/tblRevenus2[[#Totals],[m6]],"-") -> 0.042944785 | X13: =IFERROR(tblRevenus2[[#This Row],[m7]]/tblRevenus2[[#Totals],[m7]],"-") -> 0.060344828 | Y13: =IFERROR(tblRevenus2[[#This Row],[m8]]/tblRevenus2[[#Totals],[m8]],"-") -> 0.069306931 | Z13: =IFERROR(tblRevenus2[[#This Row],[m9]]/tblRevenus2[[#Totals],[m9]],"-") -> 0.056451613 | AA13: =IFERROR(tblRevenus2[[#This Row],[m10]]/tblRevenus2[[#Totals],[m10]],"-") -> 0.054263566 | AB13: =IFERROR(tblRevenus2[[#This Row],[m11]]/tblRevenus2[[#Totals],[m11]],"-") -> 0.083333333 | AC13: =IFERROR(tblRevenus2[[#This Row],[m12]]/tblRevenus2[[#Totals],[m12]],"-") -> 0.083333333 | AD13: =IFERROR(tblRevenus2[[#This Row],[Annuel]]/tblRevenus2[[#Totals],[Annuel]],"-") -> 0.06746988
B14: Client 8 | D14: 500 | E14: 500 | F14: 500 | G14: 500 | H14: 500 | I14: 500 | J14: 500 | K14: 500 | L14: 500 | M14: 500 | N14: 500 | O14: 500 | P14: =SUM(tblRevenus2[[#This Row],[m1]:[m12]]) -> 6000 | Q14: 0.1 | R14: =IFERROR(tblRevenus2[[#This Row],[m1]]/tblRevenus2[[#Totals],[m1]],"-") -> 0.054945055 | S14: =IFERROR(tblRevenus2[[#This Row],[m2]]/tblRevenus2[[#Totals],[m2]],"-") -> 0.065789474 | T14: =IFERROR(tblRevenus2[[#This Row],[m3]]/tblRevenus2[[#Totals],[m3]],"-") -> 0.050505051 | U14: =IFERROR(tblRevenus2[[#This Row],[m4]]/tblRevenus2[[#Totals],[m4]],"-") -> 0.092592593 | V14: =IFERROR(tblRevenus2[[#This Row],[m5]]/tblRevenus2[[#Totals],[m5]],"-") -> 0.040322581 | W14: =IFERROR(tblRevenus2[[#This Row],[m6]]/tblRevenus2[[#Totals],[m6]],"-") -> 0.030674847 | X14: =IFERROR(tblRevenus2[[#This Row],[m7]]/tblRevenus2[[#Totals],[m7]],"-") -> 0.043103448 | Y14: =IFERROR(tblRevenus2[[#This Row],[m8]]/tblRevenus2[[#Totals],[m8]],"-") -> 0.04950495 | Z14: =IFERROR(tblRevenus2[[#This Row],[m9]]/tblRevenus2[[#Totals],[m9]],"-") -> 0.040322581 | AA14: =IFERROR(tblRevenus2[[#This Row],[m10]]/tblRevenus2[[#Totals],[m10]],"-") -> 0.03875969 | AB14: =IFERROR(tblRevenus2[[#This Row],[m11]]/tblRevenus2[[#Totals],[m11]],"-") -> 0.05952381 | AC14: =IFERROR(tblRevenus2[[#This Row],[m12]]/tblRevenus2[[#Totals],[m12]],"-") -> 0.05952381 | AD14: =IFERROR(tblRevenus2[[#This Row],[Annuel]]/tblRevenus2[[#Totals],[Annuel]],"-") -> 0.048192771
B15: Client 9 | D15: 500 | E15: 500 | F15: 500 | G15: 500 | H15: 500 | I15: 500 | J15: 500 | K15: 500 | L15: 500 | M15: 500 | N15: 500 | O15: 500 | P15: =SUM(tblRevenus2[[#This Row],[m1]:[m12]]) -> 6000 | Q15: 0.1 | R15: =IFERROR(tblRevenus2[[#This Row],[m1]]/tblRevenus2[[#Totals],[m1]],"-") -> 0.054945055 | S15: =IFERROR(tblRevenus2[[#This Row],[m2]]/tblRevenus2[[#Totals],[m2]],"-") -> 0.065789474 | T15: =IFERROR(tblRevenus2[[#This Row],[m3]]/tblRevenus2[[#Totals],[m3]],"-") -> 0.050505051 | U15: =IFERROR(tblRevenus2[[#This Row],[m4]]/tblRevenus2[[#Totals],[m4]],"-") -> 0.092592593 | V15: =IFERROR(tblRevenus2[[#This Row],[m5]]/tblRevenus2[[#Totals],[m5]],"-") -> 0.040322581 | W15: =IFERROR(tblRevenus2[[#This Row],[m6]]/tblRevenus2[[#Totals],[m6]],"-") -> 0.030674847 | X15: =IFERROR(tblRevenus2[[#This Row],[m7]]/tblRevenus2[[#Totals],[m7]],"-") -> 0.043103448 | Y15: =IFERROR(tblRevenus2[[#This Row],[m8]]/tblRevenus2[[#Totals],[m8]],"-") -> 0.04950495 | Z15: =IFERROR(tblRevenus2[[#This Row],[m9]]/tblRevenus2[[#Totals],[m9]],"-") -> 0.040322581 | AA15: =IFERROR(tblRevenus2[[#This Row],[m10]]/tblRevenus2[[#Totals],[m10]],"-") -> 0.03875969 | AB15: =IFERROR(tblRevenus2[[#This Row],[m11]]/tblRevenus2[[#Totals],[m11]],"-") -> 0.05952381 | AC15: =IFERROR(tblRevenus2[[#This Row],[m12]]/tblRevenus2[[#Totals],[m12]],"-") -> 0.05952381 | AD15: =IFERROR(tblRevenus2[[#This Row],[Annuel]]/tblRevenus2[[#Totals],[Annuel]],"-") -> 0.048192771
A16: Clients acquis courant 2eme année | B16: Client 10 | D16: 5000 | E16: 500 | F16: 500 | G16: 500 | H16: 500 | I16: 500 | J16: 500 | K16: 500 | L16: 500 | M16: 500 | N16: 500 | O16: 500 | P16: =SUM(tblRevenus2[[#This Row],[m1]:[m12]]) -> 10500 | Q16: 0.1 | R16: =IFERROR(tblRevenus2[[#This Row],[m1]]/tblRevenus2[[#Totals],[m1]],"-") -> 0.54945055 | S16: =IFERROR(tblRevenus2[[#This Row],[m2]]/tblRevenus2[[#Totals],[m2]],"-") -> 0.065789474 | T16: =IFERROR(tblRevenus2[[#This Row],[m3]]/tblRevenus2[[#Totals],[m3]],"-") -> 0.050505051 | U16: =IFERROR(tblRevenus2[[#This Row],[m4]]/tblRevenus2[[#Totals],[m4]],"-") -> 0.092592593 | V16: =IFERROR(tblRevenus2[[#This Row],[m5]]/tblRevenus2[[#Totals],[m5]],"-") -> 0.040322581 | W16: =IFERROR(tblRevenus2[[#This Row],[m6]]/tblRevenus2[[#Totals],[m6]],"-") -> 0.030674847 | X16: =IFERROR(tblRevenus2[[#This Row],[m7]]/tblRevenus2[[#Totals],[m7]],"-") -> 0.043103448 | Y16: =IFERROR(tblRevenus2[[#This Row],[m8]]/tblRevenus2[[#Totals],[m8]],"-") -> 0.04950495 | Z16: =IFERROR(tblRevenus2[[#This Row],[m9]]/tblRevenus2[[#Totals],[m9]],"-") -> 0.040322581 | AA16: =IFERROR(tblRevenus2[[#This Row],[m10]]/tblRevenus2[[#Totals],[m10]],"-") -> 0.03875969 | AB16: =IFERROR(tblRevenus2[[#This Row],[m11]]/tblRevenus2[[#Totals],[m11]],"-") -> 0.05952381 | AC16: =IFERROR(tblRevenus2[[#This Row],[m12]]/tblRevenus2[[#Totals],[m12]],"-") -> 0.05952381 | AD16: =IFERROR(tblRevenus2[[#This Row],[Annuel]]/tblRevenus2[[#Totals],[Annuel]],"-") -> 0.084337349
B17: Client 11 | D17: 0 | E17: 3000 | F17: 300 | G17: 300 | H17: 300 | I17: 300 | J17: 300 | K17: 300 | L17: 300 | M17: 300 | N17: 300 | O17: 300 | P17: =SUM(tblRevenus2[[#This Row],[m1]:[m12]]) -> 6000 | Q17: 0.1 | R17: =IFERROR(tblRevenus2[[#This Row],[m1]]/tblRevenus2[[#Totals],[m1]],"-") -> 0 | S17: =IFERROR(tblRevenus2[[#This Row],[m2]]/tblRevenus2[[#Totals],[m2]],"-") -> 0.39473684 | T17: =IFERROR(tblRevenus2[[#This Row],[m3]]/tblRevenus2[[#Totals],[m3]],"-") -> 0.03030303 | U17: =IFERROR(tblRevenus2[[#This Row],[m4]]/tblRevenus2[[#Totals],[m4]],"-") -> 0.055555556 | V17: =IFERROR(tblRevenus2[[#This Row],[m5]]/tblRevenus2[[#Totals],[m5]],"-") -> 0.024193548 | W17: =IFERROR(tblRevenus2[[#This Row],[m6]]/tblRevenus2[[#Totals],[m6]],"-") -> 0.018404908 | X17: =IFERROR(tblRevenus2[[#This Row],[m7]]/tblRevenus2[[#Totals],[m7]],"-") -> 0.025862069 | Y17: =IFERROR(tblRevenus2[[#This Row],[m8]]/tblRevenus2[[#Totals],[m8]],"-") -> 0.02970297 | Z17: =IFERROR(tblRevenus2[[#This Row],[m9]]/tblRevenus2[[#Totals],[m9]],"-") -> 0.024193548 | AA17: =IFERROR(tblRevenus2[[#This Row],[m10]]/tblRevenus2[[#Totals],[m10]],"-") -> 0.023255814 | AB17: =IFERROR(tblRevenus2[[#This Row],[m11]]/tblRevenus2[[#Totals],[m11]],"-") -> 0.035714286 | AC17: =IFERROR(tblRevenus2[[#This Row],[m12]]/tblRevenus2[[#Totals],[m12]],"-") -> 0.035714286 | AD17: =IFERROR(tblRevenus2[[#This Row],[Annuel]]/tblRevenus2[[#Totals],[Annuel]],"-") -> 0.048192771
B18: Client 12 | D18: 0 | E18: 0 | F18: 5000 | G18: 500 | H18: 500 | I18: 500 | J18: 500 | K18: 500 | L18: 500 | M18: 500 | N18: 500 | O18: 500 | P18: =SUM(tblRevenus2[[#This Row],[m1]:[m12]]) -> 9500 | Q18: 0.1 | R18: =IFERROR(tblRevenus2[[#This Row],[m1]]/tblRevenus2[[#Totals],[m1]],"-") -> 0 | S18: =IFERROR(tblRevenus2[[#This Row],[m2]]/tblRevenus2[[#Totals],[m2]],"-") -> 0 | T18: =IFERROR(tblRevenus2[[#This Row],[m3]]/tblRevenus2[[#Totals],[m3]],"-") -> 0.50505051 | U18: =IFERROR(tblRevenus2[[#This Row],[m4]]/tblRevenus2[[#Totals],[m4]],"-") -> 0.092592593 | V18: =IFERROR(tblRevenus2[[#This Row],[m5]]/tblRevenus2[[#Totals],[m5]],"-") -> 0.040322581 | W18: =IFERROR(tblRevenus2[[#This Row],[m6]]/tblRevenus2[[#Totals],[m6]],"-") -> 0.030674847 | X18: =IFERROR(tblRevenus2[[#This Row],[m7]]/tblRevenus2[[#Totals],[m7]],"-") -> 0.043103448 | Y18: =IFERROR(tblRevenus2[[#This Row],[m8]]/tblRevenus2[[#Totals],[m8]],"-") -> 0.04950495 | Z18: =IFERROR(tblRevenus2[[#This Row],[m9]]/tblRevenus2[[#Totals],[m9]],"-") -> 0.040322581 | AA18: =IFERROR(tblRevenus2[[#This Row],[m10]]/tblRevenus2[[#Totals],[m10]],"-") -> 0.03875969 | AB18: =IFERROR(tblRevenus2[[#This Row],[m11]]/tblRevenus2[[#Totals],[m11]],"-") -> 0.05952381 | AC18: =IFERROR(tblRevenus2[[#This Row],[m12]]/tblRevenus2[[#Totals],[m12]],"-") -> 0.05952381 | AD18: =IFERROR(tblRevenus2[[#This Row],[Annuel]]/tblRevenus2[[#Totals],[Annuel]],"-") -> 0.076305221
B19: Client 13 | D19: 0 | E19: 0 | F19: 0 | G19: 0 | H19: 7000 | I19: 7900 | J19: 900 | K19: 900 | L19: 900 | M19: 900 | N19: 900 | O19: 900 | P19: =SUM(tblRevenus2[[#This Row],[m1]:[m12]]) -> 20300 | Q19: 0.1 | R19: =IFERROR(tblRevenus2[[#This Row],[m1]]/tblRevenus2[[#Totals],[m1]],"-") -> 0 | S19: =IFERROR(tblRevenus2[[#This Row],[m2]]/tblRevenus2[[#Totals],[m2]],"-") -> 0 | T19: =IFERROR(tblRevenus2[[#This Row],[m3]]/tblRevenus2[[#Totals],[m3]],"-") -> 0 | U19: =IFERROR(tblRevenus2[[#This Row],[m4]]/tblRevenus2[[#Totals],[m4]],"-") -> 0 | V19: =IFERROR(tblRevenus2[[#This Row],[m5]]/tblRevenus2[[#Totals],[m5]],"-") -> 0.56451613 | W19: =IFERROR(tblRevenus2[[#This Row],[m6]]/tblRevenus2[[#Totals],[m6]],"-") -> 0.48466258 | X19: =IFERROR(tblRevenus2[[#This Row],[m7]]/tblRevenus2[[#Totals],[m7]],"-") -> 0.077586207 | Y19: =IFERROR(tblRevenus2[[#This Row],[m8]]/tblRevenus2[[#Totals],[m8]],"-") -> 0.089108911 | Z19: =IFERROR(tblRevenus2[[#This Row],[m9]]/tblRevenus2[[#Totals],[m9]],"-") -> 0.072580645 | AA19: =IFERROR(tblRevenus2[[#This Row],[m10]]/tblRevenus2[[#Totals],[m10]],"-") -> 0.069767442 | AB19: =IFERROR(tblRevenus2[[#This Row],[m11]]/tblRevenus2[[#Totals],[m11]],"-") -> 0.10714286 | AC19: =IFERROR(tblRevenus2[[#This Row],[m12]]/tblRevenus2[[#Totals],[m12]],"-") -> 0.10714286 | AD19: =IFERROR(tblRevenus2[[#This Row],[Annuel]]/tblRevenus2[[#Totals],[Annuel]],"-") -> 0.16305221
B20: Client 14 | D20: 0 | E20: 0 | F20: 0 | G20: 0 | H20: 0 | I20: 3000 | J20: 300 | K20: 300 | L20: 300 | M20: 300 | N20: 300 | O20: 300 | P20: =SUM(tblRevenus2[[#This Row],[m1]:[m12]]) -> 4800 | Q20: 0.1 | R20: =IFERROR(tblRevenus2[[#This Row],[m1]]/tblRevenus2[[#Totals],[m1]],"-") -> 0 | S20: =IFERROR(tblRevenus2[[#This Row],[m2]]/tblRevenus2[[#Totals],[m2]],"-") -> 0 | T20: =IFERROR(tblRevenus2[[#This Row],[m3]]/tblRevenus2[[#Totals],[m3]],"-") -> 0 | U20: =IFERROR(tblRevenus2[[#This Row],[m4]]/tblRevenus2[[#Totals],[m4]],"-") -> 0 | V20: =IFERROR(tblRevenus2[[#This Row],[m5]]/tblRevenus2[[#Totals],[m5]],"-") -> 0 | W20: =IFERROR(tblRevenus2[[#This Row],[m6]]/tblRevenus2[[#Totals],[m6]],"-") -> 0.18404908 | X20: =IFERROR(tblRevenus2[[#This Row],[m7]]/tblRevenus2[[#Totals],[m7]],"-") -> 0.025862069 | Y20: =IFERROR(tblRevenus2[[#This Row],[m8]]/tblRevenus2[[#Totals],[m8]],"-") -> 0.02970297 | Z20: =IFERROR(tblRevenus2[[#This Row],[m9]]/tblRevenus2[[#Totals],[m9]],"-") -> 0.024193548 | AA20: =IFERROR(tblRevenus2[[#This Row],[m10]]/tblRevenus2[[#Totals],[m10]],"-") -> 0.023255814 | AB20: =IFERROR(tblRevenus2[[#This Row],[m11]]/tblRevenus2[[#Totals],[m11]],"-") -> 0.035714286 | AC20: =IFERROR(tblRevenus2[[#This Row],[m12]]/tblRevenus2[[#Totals],[m12]],"-") -> 0.035714286 | AD20: =IFERROR(tblRevenus2[[#This Row],[Annuel]]/tblRevenus2[[#Totals],[Annuel]],"-") -> 0.038554217
B21: Client 15 | D21: 0 | E21: 0 | F21: 0 | G21: 0 | H21: 0 | I21: 0 | J21: 5000 | K21: 500 | L21: 500 | M21: 500 | N21: 500 | O21: 500 | P21: =SUM(tblRevenus2[[#This Row],[m1]:[m12]]) -> 7500 | Q21: 0.1 | R21: =IFERROR(tblRevenus2[[#This Row],[m1]]/tblRevenus2[[#Totals],[m1]],"-") -> 0 | S21: =IFERROR(tblRevenus2[[#This Row],[m2]]/tblRevenus2[[#Totals],[m2]],"-") -> 0 | T21: =IFERROR(tblRevenus2[[#This Row],[m3]]/tblRevenus2[[#Totals],[m3]],"-") -> 0 | U21: =IFERROR(tblRevenus2[[#This Row],[m4]]/tblRevenus2[[#Totals],[m4]],"-") -> 0 | V21: =IFERROR(tblRevenus2[[#This Row],[m5]]/tblRevenus2[[#Totals],[m5]],"-") -> 0 | W21: =IFERROR(tblRevenus2[[#This Row],[m6]]/tblRevenus2[[#Totals],[m6]],"-") -> 0 | X21: =IFERROR(tblRevenus2[[#This Row],[m7]]/tblRevenus2[[#Totals],[m7]],"-") -> 0.43103448 | Y21: =IFERROR(tblRevenus2[[#This Row],[m8]]/tblRevenus2[[#Totals],[m8]],"-") -> 0.04950495 | Z21: =IFERROR(tblRevenus2[[#This Row],[m9]]/tblRevenus2[[#Totals],[m9]],"-") -> 0.040322581 | AA21: =IFERROR(tblRevenus2[[#This Row],[m10]]/tblRevenus2[[#Totals],[m10]],"-") -> 0.03875969 | AB21: =IFERROR(tblRevenus2[[#This Row],[m11]]/tblRevenus2[[#Totals],[m11]],"-") -> 0.05952381 | AC21: =IFERROR(tblRevenus2[[#This Row],[m12]]/tblRevenus2[[#Totals],[m12]],"-") -> 0.05952381 | AD21: =IFERROR(tblRevenus2[[#This Row],[Annuel]]/tblRevenus2[[#Totals],[Annuel]],"-") -> 0.060240964
B22: Client 16 | D22: 0 | E22: 0 | F22: 0 | G22: 0 | H22: 0 | I22: 0 | J22: 0 | K22: 3000 | L22: 300 | M22: 300 | N22: 300 | O22: 300 | P22: =SUM(tblRevenus2[[#This Row],[m1]:[m12]]) -> 4200 | Q22: 0.1 | R22: =IFERROR(tblRevenus2[[#This Row],[m1]]/tblRevenus2[[#Totals],[m1]],"-") -> 0 | S22: =IFERROR(tblRevenus2[[#This Row],[m2]]/tblRevenus2[[#Totals],[m2]],"-") -> 0 | T22: =IFERROR(tblRevenus2[[#This Row],[m3]]/tblRevenus2[[#Totals],[m3]],"-") -> 0 | U22: =IFERROR(tblRevenus2[[#This Row],[m4]]/tblRevenus2[[#Totals],[m4]],"-") -> 0 | V22: =IFERROR(tblRevenus2[[#This Row],[m5]]/tblRevenus2[[#Totals],[m5]],"-") -> 0 | W22: =IFERROR(tblRevenus2[[#This Row],[m6]]/tblRevenus2[[#Totals],[m6]],"-") -> 0 | X22: =IFERROR(tblRevenus2[[#This Row],[m7]]/tblRevenus2[[#Totals],[m7]],"-") -> 0 | Y22: =IFERROR(tblRevenus2[[#This Row],[m8]]/tblRevenus2[[#Totals],[m8]],"-") -> 0.2970297 | Z22: =IFERROR(tblRevenus2[[#This Row],[m9]]/tblRevenus2[[#Totals],[m9]],"-") -> 0.024193548 | AA22: =IFERROR(tblRevenus2[[#This Row],[m10]]/tblRevenus2[[#Totals],[m10]],"-") -> 0.023255814 | AB22: =IFERROR(tblRevenus2[[#This Row],[m11]]/tblRevenus2[[#Totals],[m11]],"-") -> 0.035714286 | AC22: =IFERROR(tblRevenus2[[#This Row],[m12]]/tblRevenus2[[#Totals],[m12]],"-") -> 0.035714286 | AD22: =IFERROR(tblRevenus2[[#This Row],[Annuel]]/tblRevenus2[[#Totals],[Annuel]],"-") -> 0.03373494
B23: Client 17 | D23: 0 | E23: 0 | F23: 0 | G23: 0 | H23: 0 | I23: 0 | J23: 0 | K23: 0 | L23: 5000 | M23: 500 | N23: 500 | O23: 500 | P23: =SUM(tblRevenus2[[#This Row],[m1]:[m12]]) -> 6500 | Q23: 0.1 | R23: =IFERROR(tblRevenus2[[#This Row],[m1]]/tblRevenus2[[#Totals],[m1]],"-") -> 0 | S23: =IFERROR(tblRevenus2[[#This Row],[m2]]/tblRevenus2[[#Totals],[m2]],"-") -> 0 | T23: =IFERROR(tblRevenus2[[#This Row],[m3]]/tblRevenus2[[#Totals],[m3]],"-") -> 0 | U23: =IFERROR(tblRevenus2[[#This Row],[m4]]/tblRevenus2[[#Totals],[m4]],"-") -> 0 | V23: =IFERROR(tblRevenus2[[#This Row],[m5]]/tblRevenus2[[#Totals],[m5]],"-") -> 0 | W23: =IFERROR(tblRevenus2[[#This Row],[m6]]/tblRevenus2[[#Totals],[m6]],"-") -> 0 | X23: =IFERROR(tblRevenus2[[#This Row],[m7]]/tblRevenus2[[#Totals],[m7]],"-") -> 0 | Y23: =IFERROR(tblRevenus2[[#This Row],[m8]]/tblRevenus2[[#Totals],[m8]],"-") -> 0 | Z23: =IFERROR(tblRevenus2[[#This Row],[m9]]/tblRevenus2[[#Totals],[m9]],"-") -> 0.40322581 | AA23: =IFERROR(tblRevenus2[[#This Row],[m10]]/tblRevenus2[[#Totals],[m10]],"-") -> 0.03875969 | AB23: =IFERROR(tblRevenus2[[#This Row],[m11]]/tblRevenus2[[#Totals],[m11]],"-") -> 0.05952381 | AC23: =IFERROR(tblRevenus2[[#This Row],[m12]]/tblRevenus2[[#Totals],[m12]],"-") -> 0.05952381 | AD23: =IFERROR(tblRevenus2[[#This Row],[Annuel]]/tblRevenus2[[#Totals],[Annuel]],"-") -> 0.052208835
B24: Client 18 | D24: 0 | E24: 0 | F24: 0 | G24: 0 | H24: 0 | I24: 0 | J24: 0 | K24: 0 | L24: 0 | M24: 5000 | N24: 500 | O24: 500 | P24: =SUM(tblRevenus2[[#This Row],[m1]:[m12]]) -> 6000 | Q24: 0.1 | R24: =IFERROR(tblRevenus2[[#This Row],[m1]]/tblRevenus2[[#Totals],[m1]],"-") -> 0 | S24: =IFERROR(tblRevenus2[[#This Row],[m2]]/tblRevenus2[[#Totals],[m2]],"-") -> 0 | T24: =IFERROR(tblRevenus2[[#This Row],[m3]]/tblRevenus2[[#Totals],[m3]],"-") -> 0 | U24: =IFERROR(tblRevenus2[[#This Row],[m4]]/tblRevenus2[[#Totals],[m4]],"-") -> 0 | V24: =IFERROR(tblRevenus2[[#This Row],[m5]]/tblRevenus2[[#Totals],[m5]],"-") -> 0 | W24: =IFERROR(tblRevenus2[[#This Row],[m6]]/tblRevenus2[[#Totals],[m6]],"-") -> 0 | X24: =IFERROR(tblRevenus2[[#This Row],[m7]]/tblRevenus2[[#Totals],[m7]],"-") -> 0 | Y24: =IFERROR(tblRevenus2[[#This Row],[m8]]/tblRevenus2[[#Totals],[m8]],"-") -> 0 | Z24: =IFERROR(tblRevenus2[[#This Row],[m9]]/tblRevenus2[[#Totals],[m9]],"-") -> 0 | AA24: =IFERROR(tblRevenus2[[#This Row],[m10]]/tblRevenus2[[#Totals],[m10]],"-") -> 0.3875969 | AB24: =IFERROR(tblRevenus2[[#This Row],[m11]]/tblRevenus2[[#Totals],[m11]],"-") -> 0.05952381 | AC24: =IFERROR(tblRevenus2[[#This Row],[m12]]/tblRevenus2[[#Totals],[m12]],"-") -> 0.05952381 | AD24: =IFERROR(tblRevenus2[[#This Row],[Annuel]]/tblRevenus2[[#Totals],[Annuel]],"-") -> 0.048192771
B25: TOTAL (VENTES) | D25: =SUBTOTAL(109,tblRevenus2[m1]) -> 9100 | E25: =SUBTOTAL(109,tblRevenus2[m2]) -> 7600 | F25: =SUBTOTAL(109,tblRevenus2[m3]) -> 9900 | G25: =SUBTOTAL(109,tblRevenus2[m4]) -> 5400 | H25: =SUBTOTAL(109,tblRevenus2[m5]) -> 12400 | I25: =SUBTOTAL(109,tblRevenus2[m6]) -> 16300 | J25: =SUBTOTAL(109,tblRevenus2[m7]) -> 11600 | K25: =SUBTOTAL(109,tblRevenus2[m8]) -> 10100 | L25: =SUBTOTAL(109,tblRevenus2[m9]) -> 12400 | M25: =SUBTOTAL(109,tblRevenus2[m10]) -> 12900 | N25: =SUBTOTAL(109,tblRevenus2[m11]) -> 8400 | O25: =SUBTOTAL(109,tblRevenus2[m12]) -> 8400 | P25: =SUBTOTAL(109,tblRevenus2[Annuel]) -> 124500 | Q25: =SUBTOTAL(109,tblRevenus2[Ind %]) -> 2.1 | R25: =SUBTOTAL(109,tblRevenus2[% m1]) -> 1 | S25: =SUBTOTAL(109,tblRevenus2[% m2]) -> 1 | T25: =SUBTOTAL(109,tblRevenus2[% m3]) -> 1 | U25: =SUBTOTAL(109,tblRevenus2[% m4]) -> 1 | V25: =SUBTOTAL(109,tblRevenus2[% m5]) -> 1 | W25: =SUBTOTAL(109,tblRevenus2[% m6]) -> 1 | X25: =SUBTOTAL(109,tblRevenus2[% m1]) -> 1 | Y25: =SUBTOTAL(109,tblRevenus2[% m2]) -> 1 | Z25: =SUBTOTAL(109,tblRevenus2[% m3]) -> 1 | AA25: =SUBTOTAL(109,tblRevenus2[% m4]) -> 1 | AB25: =SUBTOTAL(109,tblRevenus2[% m5]) -> 1 | AC25: =SUBTOTAL(109,tblRevenus2[% m6]) -> 1 | AD25: =SUBTOTAL(109,tblRevenus2[% y]) -> 1

Sheet Prévisions 2014-2015 (2)
B2: PRÉVISION DE CA | AB2: DÉBUT EXERCICE FINANCIER : | AC2: SEPT | AD2: 2014
D4: =UPPER(TEXT(DATE(AnnéeDébutAnnéeFiscale,FYMonthNo,1),"[$-40C]mmm-yy")) -> SEPT.-YY | E4: =UPPER(TEXT(DATE(AnnéeDébutAnnéeFiscale,FYMonthNo+1,1),"[$-40C]mmm-yy")) -> OCT.-YY | F4: =UPPER(TEXT(DATE(AnnéeDébutAnnéeFiscale,FYMonthNo+2,1),"[$-40C]mmm-yy")) -> NOV.-YY | G4: =UPPER(TEXT(DATE(AnnéeDébutAnnéeFiscale,FYMonthNo+3,1),"[$-40C]mmm-yy")) -> DÉC.-YY | H4: =UPPER(TEXT(DATE(AnnéeDébutAnnéeFiscale,FYMonthNo+4,1),"[$-40C]mmm-yy")) -> JANV.-YY | I4: =UPPER(TEXT(DATE(AnnéeDébutAnnéeFiscale,FYMonthNo+5,1),"[$-40C]mmm-yy")) -> FÉVR.-YY | J4: =UPPER(TEXT(DATE(AnnéeDébutAnnéeFiscale,FYMonthNo+6,1),"[$-40C]mmm-yy")) -> MARS-YY | K4: =UPPER(TEXT(DATE(AnnéeDébutAnnéeFiscale,FYMonthNo+7,1),"[$-40C]mmm-yy")) -> AVR.-YY | L4: =UPPER(TEXT(DATE(AnnéeDébutAnnéeFiscale,FYMonthNo+8,1),"[$-40C]mmm-yy")) -> MAI-YY | M4: =UPPER(TEXT(DATE(AnnéeDébutAnnéeFiscale,FYMonthNo+9,1),"[$-40C]mmm-yy")) -> JUIN-YY | N4: =UPPER(TEXT(DATE(AnnéeDébutAnnéeFiscale,FYMonthNo+10,1),"[$-40C]mmm-yy")) -> JUIL.-YY | O4: =UPPER(TEXT(DATE(AnnéeDébutAnnéeFiscale,FYMonthNo+11,1),"[$-40C]mmm-yy")) -> AOÛT-YY | P4: ANNUEL | Q4: IND % | R4: =LEFT(D4,1)&" %" -> S % | S4: =LEFT(E4,1)&" %" -> O % | T4: =LEFT(F4,1)&" %" -> N % | U4: =LEFT(G4,1)&" %" -> D % | V4: =LEFT(H4,1)&" %" -> J % | W4: =LEFT(I4,1)&" %" -> F % | X4: =LEFT(J4,1)&" %" -> M % | Y4: =LEFT(K4,1)&" %" -> A % | ... AC4: =LEFT(O4,1)&" %" -> A % | AD4: % ANNUEL
B6: CA (VENTES) | C6: TENDANCE | D6: m1 | E6: m2 | F6: m3 | G6: m4 | H6: m5 | I6: m6 | J6: m7 | K6: m8 | L6: m9 | M6: m10 | N6: m11 | O6: m12 | P6: Annuel | Q6: Ind % | R6: % m1 | S6: % m2 | T6: % m3 | U6: % m4 | V6: % m5 | W6: % m6 | X6: % m7 | Y6: % m8 | Z6: % m9 | AA6: % m10 | AB6: % m11 | AC6: % m12 | AD6: % y
A7: Clients acquis courant 1ere année | B7: Client 1 | D7: 300 | E7: 300 | F7: 300 | G7: 300 | H7: 300 | I7: 300 | J7: 300 | K7: 300 | L7: 300 | M7: 300 | N7: 300 | O7: 300 | P7: =SUM('Prévisions 2014-2015 (2)'!$D7:$O7) -> 3600 | Q7: 0.12 | R7: =IFERROR('Prévisions 2014-2015 (2)'!$D7/'Prévisions 2014-2015 (2)'!$D$25,"-") -> 0.032967033 | S7: =IFERROR('Prévisions 2014-2015 (2)'!$E7/'Prévisions 2014-2015 (2)'!$E$25,"-") -> 0.039473684 | T7: =IFERROR('Prévisions 2014-2015 (2)'!$F7/'Prévisions 2014-2015 (2)'!$F$25,"-") -> 0.03030303 | U7: =IFERROR('Prévisions 2014-2015 (2)'!$G7/'Prévisions 2014-2015 (2)'!$G$25,"-") -> 0.055555556 | V7: =IFERROR('Prévisions 2014-2015 (2)'!$H7/'Prévisions 2014-2015 (2)'!$H$25,"-") -> 0.024193548 | W7: =IFERROR('Prévisions 2014-2015 (2)'!$I7/'Prévisions 2014-2015 (2)'!$I$25,"-") -> 0.018404908 | X7: =IFERROR('Prévisions 2014-2015 (2)'!$J7/'Prévisions 2014-2015 (2)'!$J$25,"-") -> 0.025862069 | Y7: =IFERROR('Prévisions 2014-2015 (2)'!$K7/'Prévisions 2014-2015 (2)'!$K$25,"-") -> 0.02970297 | Z7: =IFERROR('Prévisions 2014-2015 (2)'!$L7/'Prévisions 2014-2015 (2)'!$L$25,"-") -> 0.024193548 | AA7: =IFERROR('Prévisions 2014-2015 (2)'!$M7/'Prévisions 2014-2015 (2)'!$M$25,"-") -> 0.023255814 | AB7: =IFERROR('Prévisions 2014-2015 (2)'!$N7/'Prévisions 2014-2015 (2)'!$N$25,"-") -> 0.035714286 | AC7: =IFERROR('Prévisions 2014-2015 (2)'!$O7/'Prévisions 2014-2015 (2)'!$O$25,"-") -> 0.035714286 | AD7: =IFERROR('Prévisions 2014-2015 (2)'!$P7/'Prévisions 2014-2015 (2)'!$P$25,"-") -> 0.028915663
B8: Client 2 | D8: 500 | E8: 500 | F8: 500 | G8: 500 | H8: 500 | I8: 500 | J8: 500 | K8: 500 | L8: 500 | M8: 500 | N8: 500 | O8: 500 | P8: =SUM('Prévisions 2014-2015 (2)'!$D8:$O8) -> 6000 | Q8: 0.18 | R8: =IFERROR('Prévisions 2014-2015 (2)'!$D8/'Prévisions 2014-2015 (2)'!$D$25,"-") -> 0.054945055 | S8: =IFERROR('Prévisions 2014-2015 (2)'!$E8/'Prévisions 2014-2015 (2)'!$E$25,"-") -> 0.065789474 | T8: =IFERROR('Prévisions 2014-2015 (2)'!$F8/'Prévisions 2014-2015 (2)'!$F$25,"-") -> 0.050505051 | U8: =IFERROR('Prévisions 2014-2015 (2)'!$G8/'Prévisions 2014-2015 (2)'!$G$25,"-") -> 0.092592593 | V8: =IFERROR('Prévisions 2014-2015 (2)'!$H8/'Prévisions 2014-2015 (2)'!$H$25,"-") -> 0.040322581 | W8: =IFERROR('Prévisions 2014-2015 (2)'!$I8/'Prévisions 2014-2015 (2)'!$I$25,"-") -> 0.030674847 | X8: =IFERROR('Prévisions 2014-2015 (2)'!$J8/'Prévisions 2014-2015 (2)'!$J$25,"-") -> 0.043103448 | Y8: =IFERROR('Prévisions 2014-2015 (2)'!$K8/'Prévisions 2014-2015 (2)'!$K$25,"-") -> 0.04950495 | Z8: =IFERROR('Prévisions 2014-2015 (2)'!$L8/'Prévisions 2014-2015 (2)'!$L$25,"-") -> 0.040322581 | AA8: =IFERROR('Prévisions 2014-2015 (2)'!$M8/'Prévisions 2014-2015 (2)'!$M$25,"-") -> 0.03875969 | AB8: =IFERROR('Prévisions 2014-2015 (2)'!$N8/'Prévisions 2014-2015 (2)'!$N$25,"-") -> 0.05952381 | AC8: =IFERROR('Prévisions 2014-2015 (2)'!$O8/'Prévisions 2014-2015 (2)'!$O$25,"-") -> 0.05952381 | AD8: =IFERROR('Prévisions 2014-2015 (2)'!$P8/'Prévisions 2014-2015 (2)'!$P$25,"-") -> 0.048192771
B9: Client 3 | D9: 300 | E9: 300 | F9: 300 | G9: 300 | H9: 300 | I9: 300 | J9: 300 | K9: 300 | L9: 300 | M9: 300 | N9: 300 | O9: 300 | P9: =SUM('Prévisions 2014-2015 (2)'!$D9:$O9) -> 3600 | Q9: 0.19 | R9: =IFERROR('Prévisions 2014-2015 (2)'!$D9/'Prévisions 2014-2015 (2)'!$D$25,"-") -> 0.032967033 | S9: =IFERROR('Prévisions 2014-2015 (2)'!$E9/'Prévisions 2014-2015 (2)'!$E$25,"-") -> 0.039473684 | T9: =IFERROR('Prévisions 2014-2015 (2)'!$F9/'Prévisions 2014-2015 (2)'!$F$25,"-") -> 0.03030303 | U9: =IFERROR('Prévisions 2014-2015 (2)'!$G9/'Prévisions 2014-2015 (2)'!$G$25,"-") -> 0.055555556 | V9: =IFERROR('Prévisions 2014-2015 (2)'!$H9/'Prévisions 2014-2015 (2)'!$H$25,"-") -> 0.024193548 | W9: =IFERROR('Prévisions 2014-2015 (2)'!$I9/'Prévisions 2014-2015 (2)'!$I$25,"-") -> 0.018404908 | X9: =IFERROR('Prévisions 2014-2015 (2)'!$J9/'Prévisions 2014-2015 (2)'!$J$25,"-") -> 0.025862069 | Y9: =IFERROR('Prévisions 2014-2015 (2)'!$K9/'Prévisions 2014-2015 (2)'!$K$25,"-") -> 0.02970297 | Z9: =IFERROR('Prévisions 2014-2015 (2)'!$L9/'Prévisions 2014-2015 (2)'!$L$25,"-") -> 0.024193548 | AA9: =IFERROR('Prévisions 2014-2015 (2)'!$M9/'Prévisions 2014-2015 (2)'!$M$25,"-") -> 0.023255814 | AB9: =IFERROR('Prévisions 2014-2015 (2)'!$N9/'Prévisions 2014-2015 (2)'!$N$25,"-") -> 0.035714286 | AC9: =IFERROR('Prévisions 2014-2015 (2)'!$O9/'Prévisions 2014-2015 (2)'!$O$25,"-") -> 0.035714286 | AD9: =IFERROR('Prévisions 2014-2015 (2)'!$P9/'Prévisions 2014-2015 (2)'!$P$25,"-") -> 0.028915663
B10: Client 4 | D10: 500 | E10: 500 | F10: 500 | G10: 500 | H10: 500 | I10: 500 | J10: 500 | K10: 500 | L10: 500 | M10: 500 | N10: 500 | O10: 500 | P10: =SUM('Prévisions 2014-2015 (2)'!$D10:$O10) -> 6000 | Q10: 0.11 | R10: =IFERROR('Prévisions 2014-2015 (2)'!$D10/'Prévisions 2014-2015 (2)'!$D$25,"-") -> 0.054945055 | S10: =IFERROR('Prévisions 2014-2015 (2)'!$E10/'Prévisions 2014-2015 (2)'!$E$25,"-") -> 0.065789474 | T10: =IFERROR('Prévisions 2014-2015 (2)'!$F10/'Prévisions 2014-2015 (2)'!$F$25,"-") -> 0.050505051 | U10: =IFERROR('Prévisions 2014-2015 (2)'!$G10/'Prévisions 2014-2015 (2)'!$G$25,"-") -> 0.092592593 | V10: =IFERROR('Prévisions 2014-2015 (2)'!$H10/'Prévisions 2014-2015 (2)'!$H$25,"-") -> 0.040322581 | W10: =IFERROR('Prévisions 2014-2015 (2)'!$I10/'Prévisions 2014-2015 (2)'!$I$25,"-") -> 0.030674847 | X10: =IFERROR('Prévisions 2014-2015 (2)'!$J10/'Prévisions 2014-2015 (2)'!$J$25,"-") -> 0.043103448 | Y10: =IFERROR('Prévisions 2014-2015 (2)'!$K10/'Prévisions 2014-2015 (2)'!$K$25,"-") -> 0.04950495 | Z10: =IFERROR('Prévisions 2014-2015 (2)'!$L10/'Prévisions 2014-2015 (2)'!$L$25,"-") -> 0.040322581 | AA10: =IFERROR('Prévisions 2014-2015 (2)'!$M10/'Prévisions 2014-2015 (2)'!$M$25,"-") -> 0.03875969 | AB10: =IFERROR('Prévisions 2014-2015 (2)'!$N10/'Prévisions 2014-2015 (2)'!$N$25,"-") -> 0.05952381 | AC10: =IFERROR('Prévisions 2014-2015 (2)'!$O10/'Prévisions 2014-2015 (2)'!$O$25,"-") -> 0.05952381 | AD10: =IFERROR('Prévisions 2014-2015 (2)'!$P10/'Prévisions 2014-2015 (2)'!$P$25,"-") -> 0.048192771
B11: Client 5 | D11: 300 | E11: 300 | F11: 300 | G11: 300 | H11: 300 | I11: 300 | J11: 300 | K11: 300 | L11: 300 | M11: 300 | N11: 300 | O11: 300 | P11: =SUM('Prévisions 2014-2015 (2)'!$D11:$O11) -> 3600 | Q11: 0.2 | R11: =IFERROR('Prévisions 2014-2015 (2)'!$D11/'Prévisions 2014-2015 (2)'!$D$25,"-") -> 0.032967033 | S11: =IFERROR('Prévisions 2014-2015 (2)'!$E11/'Prévisions 2014-2015 (2)'!$E$25,"-") -> 0.039473684 | T11: =IFERROR('Prévisions 2014-2015 (2)'!$F11/'Prévisions 2014-2015 (2)'!$F$25,"-") -> 0.03030303 | U11: =IFERROR('Prévisions 2014-2015 (2)'!$G11/'Prévisions 2014-2015 (2)'!$G$25,"-") -> 0.055555556 | V11: =IFERROR('Prévisions 2014-2015 (2)'!$H11/'Prévisions 2014-2015 (2)'!$H$25,"-") -> 0.024193548 | W11: =IFERROR('Prévisions 2014-2015 (2)'!$I11/'Prévisions 2014-2015 (2)'!$I$25,"-") -> 0.018404908 | X11: =IFERROR('Prévisions 2014-2015 (2)'!$J11/'Prévisions 2014-2015 (2)'!$J$25,"-") -> 0.025862069 | Y11: =IFERROR('Prévisions 2014-2015 (2)'!$K11/'Prévisions 2014-2015 (2)'!$K$25,"-") -> 0.02970297 | Z11: =IFERROR('Prévisions 2014-2015 (2)'!$L11/'Prévisions 2014-2015 (2)'!$L$25,"-") -> 0.024193548 | AA11: =IFERROR('Prévisions 2014-2015 (2)'!$M11/'Prévisions 2014-2015 (2)'!$M$25,"-") -> 0.023255814 | AB11: =IFERROR('Prévisions 2014-2015 (2)'!$N11/'Prévisions 2014-2015 (2)'!$N$25,"-") -> 0.035714286 | AC11: =IFERROR('Prévisions 2014-2015 (2)'!$O11/'Prévisions 2014-2015 (2)'!$O$25,"-") -> 0.035714286 | AD11: =IFERROR('Prévisions 2014-2015 (2)'!$P11/'Prévisions 2014-2015 (2)'!$P$25,"-") -> 0.028915663
B12: Client 6 | D12: 500 | E12: 500 | F12: 500 | G12: 500 | H12: 500 | I12: 500 | J12: 500 | K12: 500 | L12: 500 | M12: 500 | N12: 500 | O12: 500 | P12: =SUM('Prévisions 2014-2015 (2)'!$D12:$O12) -> 6000 | Q12: 0.1 | R12: =IFERROR('Prévisions 2014-2015 (2)'!$D12/'Prévisions 2014-2015 (2)'!$D$25,"-") -> 0.054945055 | S12: =IFERROR('Prévisions 2014-2015 (2)'!$E12/'Prévisions 2014-2015 (2)'!$E$25,"-") -> 0.065789474 | T12: =IFERROR('Prévisions 2014-2015 (2)'!$F12/'Prévisions 2014-2015 (2)'!$F$25,"-") -> 0.050505051 | U12: =IFERROR('Prévisions 2014-2015 (2)'!$G12/'Prévisions 2014-2015 (2)'!$G$25,"-") -> 0.092592593 | V12: =IFERROR('Prévisions 2014-2015 (2)'!$H12/'Prévisions 2014-2015 (2)'!$H$25,"-") -> 0.040322581 | W12: =IFERROR('Prévisions 2014-2015 (2)'!$I12/'Prévisions 2014-2015 (2)'!$I$25,"-") -> 0.030674847 | X12: =IFERROR('Prévisions 2014-2015 (2)'!$J12/'Prévisions 2014-2015 (2)'!$J$25,"-") -> 0.043103448 | Y12: =IFERROR('Prévisions 2014-2015 (2)'!$K12/'Prévisions 2014-2015 (2)'!$K$25,"-") -> 0.04950495 | Z12: =IFERROR('Prévisions 2014-2015 (2)'!$L12/'Prévisions 2014-2015 (2)'!$L$25,"-") -> 0.040322581 | AA12: =IFERROR('Prévisions 2014-2015 (2)'!$M12/'Prévisions 2014-2015 (2)'!$M$25,"-") -> 0.03875969 | AB12: =IFERROR('Prévisions 2014-2015 (2)'!$N12/'Prévisions 2014-2015 (2)'!$N$25,"-") -> 0.05952381 | AC12: =IFERROR('Prévisions 2014-2015 (2)'!$O12/'Prévisions 2014-2015 (2)'!$O$25,"-") -> 0.05952381 | AD12: =IFERROR('Prévisions 2014-2015 (2)'!$P12/'Prévisions 2014-2015 (2)'!$P$25,"-") -> 0.048192771
B13: Client 7 | D13: 700 | E13: 700 | F13: 700 | G13: 700 | H13: 700 | I13: 700 | J13: 700 | K13: 700 | L13: 700 | M13: 700 | N13: 700 | O13: 700 | P13: =SUM('Prévisions 2014-2015 (2)'!$D13:$O13) -> 8400 | Q13: 0.1 | R13: =IFERROR('Prévisions 2014-2015 (2)'!$D13/'Prévisions 2014-2015 (2)'!$D$25,"-") -> 0.076923077 | S13: =IFERROR('Prévisions 2014-2015 (2)'!$E13/'Prévisions 2014-2015 (2)'!$E$25,"-") -> 0.092105263 | T13: =IFERROR('Prévisions 2014-2015 (2)'!$F13/'Prévisions 2014-2015 (2)'!$F$25,"-") -> 0.070707071 | U13: =IFERROR('Prévisions 2014-2015 (2)'!$G13/'Prévisions 2014-2015 (2)'!$G$25,"-") -> 0.12962963 | V13: =IFERROR('Prévisions 2014-2015 (2)'!$H13/'Prévisions 2014-2015 (2)'!$H$25,"-") -> 0.056451613 | W13: =IFERROR('Prévisions 2014-2015 (2)'!$I13/'Prévisions 2014-2015 (2)'!$I$25,"-") -> 0.042944785 | X13: =IFERROR('Prévisions 2014-2015 (2)'!$J13/'Prévisions 2014-2015 (2)'!$J$25,"-") -> 0.060344828 | Y13: =IFERROR('Prévisions 2014-2015 (2)'!$K13/'Prévisions 2014-2015 (2)'!$K$25,"-") -> 0.069306931 | Z13: =IFERROR('Prévisions 2014-2015 (2)'!$L13/'Prévisions 2014-2015 (2)'!$L$25,"-") -> 0.056451613 | AA13: =IFERROR('Prévisions 2014-2015 (2)'!$M13/'Prévisions 2014-2015 (2)'!$M$25,"-") -> 0.054263566 | AB13: =IFERROR('Prévisions 2014-2015 (2)'!$N13/'Prévisions 2014-2015 (2)'!$N$25,"-") -> 0.083333333 | AC13: =IFERROR('Prévisions 2014-2015 (2)'!$O13/'Prévisions 2014-2015 (2)'!$O$25,"-") -> 0.083333333 | AD13: =IFERROR('Prévisions 2014-2015 (2)'!$P13/'Prévisions 2014-2015 (2)'!$P$25,"-") -> 0.06746988
B14: Client 8 | D14: 500 | E14: 500 | F14: 500 | G14: 500 | H14: 500 | I14: 500 | J14: 500 | K14: 500 | L14: 500 | M14: 500 | N14: 500 | O14: 500 | P14: =SUM('Prévisions 2014-2015 (2)'!$D14:$O14) -> 6000 | Q14: 0.1 | R14: =IFERROR('Prévisions 2014-2015 (2)'!$D14/'Prévisions 2014-2015 (2)'!$D$25,"-") -> 0.054945055 | S14: =IFERROR('Prévisions 2014-2015 (2)'!$E14/'Prévisions 2014-2015 (2)'!$E$25,"-") -> 0.065789474 | T14: =IFERROR('Prévisions 2014-2015 (2)'!$F14/'Prévisions 2014-2015 (2)'!$F$25,"-") -> 0.050505051 | U14: =IFERROR('Prévisions 2014-2015 (2)'!$G14/'Prévisions 2014-2015 (2)'!$G$25,"-") -> 0.092592593 | V14: =IFERROR('Prévisions 2014-2015 (2)'!$H14/'Prévisions 2014-2015 (2)'!$H$25,"-") -> 0.040322581 | W14: =IFERROR('Prévisions 2014-2015 (2)'!$I14/'Prévisions 2014-2015 (2)'!$I$25,"-") -> 0.030674847 | X14: =IFERROR('Prévisions 2014-2015 (2)'!$J14/'Prévisions 2014-2015 (2)'!$J$25,"-") -> 0.043103448 | Y14: =IFERROR('Prévisions 2014-2015 (2)'!$K14/'Prévisions 2014-2015 (2)'!$K$25,"-") -> 0.04950495 | Z14: =IFERROR('Prévisions 2014-2015 (2)'!$L14/'Prévisions 2014-2015 (2)'!$L$25,"-") -> 0.040322581 | AA14: =IFERROR('Prévisions 2014-2015 (2)'!$M14/'Prévisions 2014-2015 (2)'!$M$25,"-") -> 0.03875969 | AB14: =IFERROR('Prévisions 2014-2015 (2)'!$N14/'Prévisions 2014-2015 (2)'!$N$25,"-") -> 0.05952381 | AC14: =IFERROR('Prévisions 2014-2015 (2)'!$O14/'Prévisions 2014-2015 (2)'!$O$25,"-") -> 0.05952381 | AD14: =IFERROR('Prévisions 2014-2015 (2)'!$P14/'Prévisions 2014-2015 (2)'!$P$25,"-") -> 0.048192771
B15: Client 9 | D15: 500 | E15: 500 | F15: 500 | G15: 500 | H15: 500 | I15: 500 | J15: 500 | K15: 500 | L15: 500 | M15: 500 | N15: 500 | O15: 500 | P15: =SUM('Prévisions 2014-2015 (2)'!$D15:$O15) -> 6000 | Q15: 0.1 | R15: =IFERROR('Prévisions 2014-2015 (2)'!$D15/'Prévisions 2014-2015 (2)'!$D$25,"-") -> 0.054945055 | S15: =IFERROR('Prévisions 2014-2015 (2)'!$E15/'Prévisions 2014-2015 (2)'!$E$25,"-") -> 0.065789474 | T15: =IFERROR('Prévisions 2014-2015 (2)'!$F15/'Prévisions 2014-2015 (2)'!$F$25,"-") -> 0.050505051 | U15: =IFERROR('Prévisions 2014-2015 (2)'!$G15/'Prévisions 2014-2015 (2)'!$G$25,"-") -> 0.092592593 | V15: =IFERROR('Prévisions 2014-2015 (2)'!$H15/'Prévisions 2014-2015 (2)'!$H$25,"-") -> 0.040322581 | W15: =IFERROR('Prévisions 2014-2015 (2)'!$I15/'Prévisions 2014-2015 (2)'!$I$25,"-") -> 0.030674847 | X15: =IFERROR('Prévisions 2014-2015 (2)'!$J15/'Prévisions 2014-2015 (2)'!$J$25,"-") -> 0.043103448 | Y15: =IFERROR('Prévisions 2014-2015 (2)'!$K15/'Prévisions 2014-2015 (2)'!$K$25,"-") -> 0.04950495 | Z15: =IFERROR('Prévisions 2014-2015 (2)'!$L15/'Prévisions 2014-2015 (2)'!$L$25,"-") -> 0.040322581 | AA15: =IFERROR('Prévisions 2014-2015 (2)'!$M15/'Prévisions 2014-2015 (2)'!$M$25,"-") -> 0.03875969 | AB15: =IFERROR('Prévisions 2014-2015 (2)'!$N15/'Prévisions 2014-2015 (2)'!$N$25,"-") -> 0.05952381 | AC15: =IFERROR('Prévisions 2014-2015 (2)'!$O15/'Prévisions 2014-2015 (2)'!$O$25,"-") -> 0.05952381 | AD15: =IFERROR('Prévisions 2014-2015 (2)'!$P15/'Prévisions 2014-2015 (2)'!$P$25,"-") -> 0.048192771
A16: Clients acquis courant 2eme année | B16: Client 10 | D16: 5000 | E16: 500 | F16: 500 | G16: 500 | H16: 500 | I16: 500 | J16: 500 | K16: 500 | L16: 500 | M16: 500 | N16: 500 | O16: 500 | P16: =SUM('Prévisions 2014-2015 (2)'!$D16:$O16) -> 10500 | Q16: 0.1 | R16: =IFERROR('Prévisions 2014-2015 (2)'!$D16/'Prévisions 2014-2015 (2)'!$D$25,"-") -> 0.54945055 | S16: =IFERROR('Prévisions 2014-2015 (2)'!$E16/'Prévisions 2014-2015 (2)'!$E$25,"-") -> 0.065789474 | T16: =IFERROR('Prévisions 2014-2015 (2)'!$F16/'Prévisions 2014-2015 (2)'!$F$25,"-") -> 0.050505051 | U16: =IFERROR('Prévisions 2014-2015 (2)'!$G16/'Prévisions 2014-2015 (2)'!$G$25,"-") -> 0.092592593 | V16: =IFERROR('Prévisions 2014-2015 (2)'!$H16/'Prévisions 2014-2015 (2)'!$H$25,"-") -> 0.040322581 | W16: =IFERROR('Prévisions 2014-2015 (2)'!$I16/'Prévisions 2014-2015 (2)'!$I$25,"-") -> 0.030674847 | X16: =IFERROR('Prévisions 2014-2015 (2)'!$J16/'Prévisions 2014-2015 (2)'!$J$25,"-") -> 0.043103448 | Y16: =IFERROR('Prévisions 2014-2015 (2)'!$K16/'Prévisions 2014-2015 (2)'!$K$25,"-") -> 0.04950495 | Z16: =IFERROR('Prévisions 2014-2015 (2)'!$L16/'Prévisions 2014-2015 (2)'!$L$25,"-") -> 0.040322581 | AA16: =IFERROR('Prévisions 2014-2015 (2)'!$M16/'Prévisions 2014-2015 (2)'!$M$25,"-") -> 0.03875969 | AB16: =IFERROR('Prévisions 2014-2015 (2)'!$N16/'Prévisions 2014-2015 (2)'!$N$25,"-") -> 0.05952381 | AC16: =IFERROR('Prévisions 2014-2015 (2)'!$O16/'Prévisions 2014-2015 (2)'!$O$25,"-") -> 0.05952381 | AD16: =IFERROR('Prévisions 2014-2015 (2)'!$P16/'Prévisions 2014-2015 (2)'!$P$25,"-") -> 0.084337349
B17: Client 11 | D17: 0 | E17: 3000 | F17: 300 | G17: 300 | H17: 300 | I17: 300 | J17: 300 | K17: 300 | L17: 300 | M17: 300 | N17: 300 | O17: 300 | P17: =SUM('Prévisions 2014-2015 (2)'!$D17:$O17) -> 6000 | Q17: 0.1 | R17: =IFERROR('Prévisions 2014-2015 (2)'!$D17/'Prévisions 2014-2015 (2)'!$D$25,"-") -> 0 | S17: =IFERROR('Prévisions 2014-2015 (2)'!$E17/'Prévisions 2014-2015 (2)'!$E$25,"-") -> 0.39473684 | T17: =IFERROR('Prévisions 2014-2015 (2)'!$F17/'Prévisions 2014-2015 (2)'!$F$25,"-") -> 0.03030303 | U17: =IFERROR('Prévisions 2014-2015 (2)'!$G17/'Prévisions 2014-2015 (2)'!$G$25,"-") -> 0.055555556 | V17: =IFERROR('Prévisions 2014-2015 (2)'!$H17/'Prévisions 2014-2015 (2)'!$H$25,"-") -> 0.024193548 | W17: =IFERROR('Prévisions 2014-2015 (2)'!$I17/'Prévisions 2014-2015 (2)'!$I$25,"-") -> 0.018404908 | X17: =IFERROR('Prévisions 2014-2015 (2)'!$J17/'Prévisions 2014-2015 (2)'!$J$25,"-") -> 0.025862069 | Y17: =IFERROR('Prévisions 2014-2015 (2)'!$K17/'Prévisions 2014-2015 (2)'!$K$25,"-") -> 0.02970297 | Z17: =IFERROR('Prévisions 2014-2015 (2)'!$L17/'Prévisions 2014-2015 (2)'!$L$25,"-") -> 0.024193548 | AA17: =IFERROR('Prévisions 2014-2015 (2)'!$M17/'Prévisions 2014-2015 (2)'!$M$25,"-") -> 0.023255814 | AB17: =IFERROR('Prévisions 2014-2015 (2)'!$N17/'Prévisions 2014-2015 (2)'!$N$25,"-") -> 0.035714286 | AC17: =IFERROR('Prévisions 2014-2015 (2)'!$O17/'Prévisions 2014-2015 (2)'!$O$25,"-") -> 0.035714286 | AD17: =IFERROR('Prévisions 2014-2015 (2)'!$P17/'Prévisions 2014-2015 (2)'!$P$25,"-") -> 0.048192771
B18: Client 12 | D18: 0 | E18: 0 | F18: 5000 | G18: 500 | H18: 500 | I18: 500 | J18: 500 | K18: 500 | L18: 500 | M18: 500 | N18: 500 | O18: 500 | P18: =SUM('Prévisions 2014-2015 (2)'!$D18:$O18) -> 9500 | Q18: 0.1 | R18: =IFERROR('Prévisions 2014-2015 (2)'!$D18/'Prévisions 2014-2015 (2)'!$D$25,"-") -> 0 | S18: =IFERROR('Prévisions 2014-2015 (2)'!$E18/'Prévisions 2014-2015 (2)'!$E$25,"-") -> 0 | T18: =IFERROR('Prévisions 2014-2015 (2)'!$F18/'Prévisions 2014-2015 (2)'!$F$25,"-") -> 0.50505051 | U18: =IFERROR('Prévisions 2014-2015 (2)'!$G18/'Prévisions 2014-2015 (2)'!$G$25,"-") -> 0.092592593 | V18: =IFERROR('Prévisions 2014-2015 (2)'!$H18/'Prévisions 2014-2015 (2)'!$H$25,"-") -> 0.040322581 | W18: =IFERROR('Prévisions 2014-2015 (2)'!$I18/'Prévisions 2014-2015 (2)'!$I$25,"-") -> 0.030674847 | X18: =IFERROR('Prévisions 2014-2015 (2)'!$J18/'Prévisions 2014-2015 (2)'!$J$25,"-") -> 0.043103448 | Y18: =IFERROR('Prévisions 2014-2015 (2)'!$K18/'Prévisions 2014-2015 (2)'!$K$25,"-") -> 0.04950495 | Z18: =IFERROR('Prévisions 2014-2015 (2)'!$L18/'Prévisions 2014-2015 (2)'!$L$25,"-") -> 0.040322581 | AA18: =IFERROR('Prévisions 2014-2015 (2)'!$M18/'Prévisions 2014-2015 (2)'!$M$25,"-") -> 0.03875969 | AB18: =IFERROR('Prévisions 2014-2015 (2)'!$N18/'Prévisions 2014-2015 (2)'!$N$25,"-") -> 0.05952381 | AC18: =IFERROR('Prévisions 2014-2015 (2)'!$O18/'Prévisions 2014-2015 (2)'!$O$25,"-") -> 0.05952381 | AD18: =IFERROR('Prévisions 2014-2015 (2)'!$P18/'Prévisions 2014-2015 (2)'!$P$25,"-") -> 0.076305221
B19: Client 13 | D19: 0 | E19: 0 | F19: 0 | G19: 0 | H19: 7000 | I19: 7900 | J19: 900 | K19: 900 | L19: 900 | M19: 900 | N19: 900 | O19: 900 | P19: =SUM('Prévisions 2014-2015 (2)'!$D19:$O19) -> 20300 | Q19: 0.1 | R19: =IFERROR('Prévisions 2014-2015 (2)'!$D19/'Prévisions 2014-2015 (2)'!$D$25,"-") -> 0 | S19: =IFERROR('Prévisions 2014-2015 (2)'!$E19/'Prévisions 2014-2015 (2)'!$E$25,"-") -> 0 | T19: =IFERROR('Prévisions 2014-2015 (2)'!$F19/'Prévisions 2014-2015 (2)'!$F$25,"-") -> 0 | U19: =IFERROR('Prévisions 2014-2015 (2)'!$G19/'Prévisions 2014-2015 (2)'!$G$25,"-") -> 0 | V19: =IFERROR('Prévisions 2014-2015 (2)'!$H19/'Prévisions 2014-2015 (2)'!$H$25,"-") -> 0.56451613 | W19: =IFERROR('Prévisions 2014-2015 (2)'!$I19/'Prévisions 2014-2015 (2)'!$I$25,"-") -> 0.48466258 | X19: =IFERROR('Prévisions 2014-2015 (2)'!$J19/'Prévisions 2014-2015 (2)'!$J$25,"-") -> 0.077586207 | Y19: =IFERROR('Prévisions 2014-2015 (2)'!$K19/'Prévisions 2014-2015 (2)'!$K$25,"-") -> 0.089108911 | Z19: =IFERROR('Prévisions 2014-2015 (2)'!$L19/'Prévisions 2014-2015 (2)'!$L$25,"-") -> 0.072580645 | AA19: =IFERROR('Prévisions 2014-2015 (2)'!$M19/'Prévisions 2014-2015 (2)'!$M$25,"-") -> 0.069767442 | AB19: =IFERROR('Prévisions 2014-2015 (2)'!$N19/'Prévisions 2014-2015 (2)'!$N$25,"-") -> 0.10714286 | AC19: =IFERROR('Prévisions 2014-2015 (2)'!$O19/'Prévisions 2014-2015 (2)'!$O$25,"-") -> 0.10714286 | AD19: =IFERROR('Prévisions 2014-2015 (2)'!$P19/'Prévisions 2014-2015 (2)'!$P$25,"-") -> 0.16305221
B20: Client 14 | D20: 0 | E20: 0 | F20: 0 | G20: 0 | H20: 0 | I20: 3000 | J20: 300 | K20: 300 | L20: 300 | M20: 300 | N20: 300 | O20: 300 | P20: =SUM('Prévisions 2014-2015 (2)'!$D20:$O20) -> 4800 | Q20: 0.1 | R20: =IFERROR('Prévisions 2014-2015 (2)'!$D20/'Prévisions 2014-2015 (2)'!$D$25,"-") -> 0 | S20: =IFERROR('Prévisions 2014-2015 (2)'!$E20/'Prévisions 2014-2015 (2)'!$E$25,"-") -> 0 | T20: =IFERROR('Prévisions 2014-2015 (2)'!$F20/'Prévisions 2014-2015 (2)'!$F$25,"-") -> 0 | U20: =IFERROR('Prévisions 2014-2015 (2)'!$G20/'Prévisions 2014-2015 (2)'!$G$25,"-") -> 0 | V20: =IFERROR('Prévisions 2014-2015 (2)'!$H20/'Prévisions 2014-2015 (2)'!$H$25,"-") -> 0 | W20: =IFERROR('Prévisions 2014-2015 (2)'!$I20/'Prévisions 2014-2015 (2)'!$I$25,"-") -> 0.18404908 | X20: =IFERROR('Prévisions 2014-2015 (2)'!$J20/'Prévisions 2014-2015 (2)'!$J$25,"-") -> 0.025862069 | Y20: =IFERROR('Prévisions 2014-2015 (2)'!$K20/'Prévisions 2014-2015 (2)'!$K$25,"-") -> 0.02970297 | Z20: =IFERROR('Prévisions 2014-2015 (2)'!$L20/'Prévisions 2014-2015 (2)'!$L$25,"-") -> 0.024193548 | AA20: =IFERROR('Prévisions 2014-2015 (2)'!$M20/'Prévisions 2014-2015 (2)'!$M$25,"-") -> 0.023255814 | AB20: =IFERROR('Prévisions 2014-2015 (2)'!$N20/'Prévisions 2014-2015 (2)'!$N$25,"-") -> 0.035714286 | AC20: =IFERROR('Prévisions 2014-2015 (2)'!$O20/'Prévisions 2014-2015 (2)'!$O$25,"-") -> 0.035714286 | AD20: =IFERROR('Prévisions 2014-2015 (2)'!$P20/'Prévisions 2014-2015 (2)'!$P$25,"-") -> 0.038554217
B21: Client 15 | D21: 0 | E21: 0 | F21: 0 | G21: 0 | H21: 0 | I21: 0 | J21: 5000 | K21: 500 | L21: 500 | M21: 500 | N21: 500 | O21: 500 | P21: =SUM('Prévisions 2014-2015 (2)'!$D21:$O21) -> 7500 | Q21: 0.1 | R21: =IFERROR('Prévisions 2014-2015 (2)'!$D21/'Prévisions 2014-2015 (2)'!$D$25,"-") -> 0 | S21: =IFERROR('Prévisions 2014-2015 (2)'!$E21/'Prévisions 2014-2015 (2)'!$E$25,"-") -> 0 | T21: =IFERROR('Prévisions 2014-2015 (2)'!$F21/'Prévisions 2014-2015 (2)'!$F$25,"-") -> 0 | U21: =IFERROR('Prévisions 2014-2015 (2)'!$G21/'Prévisions 2014-2015 (2)'!$G$25,"-") -> 0 | V21: =IFERROR('Prévisions 2014-2015 (2)'!$H21/'Prévisions 2014-2015 (2)'!$H$25,"-") -> 0 | W21: =IFERROR('Prévisions 2014-2015 (2)'!$I21/'Prévisions 2014-2015 (2)'!$I$25,"-") -> 0 | X21: =IFERROR('Prévisions 2014-2015 (2)'!$J21/'Prévisions 2014-2015 (2)'!$J$25,"-") -> 0.43103448 | Y21: =IFERROR('Prévisions 2014-2015 (2)'!$K21/'Prévisions 2014-2015 (2)'!$K$25,"-") -> 0.04950495 | Z21: =IFERROR('Prévisions 2014-2015 (2)'!$L21/'Prévisions 2014-2015 (2)'!$L$25,"-") -> 0.040322581 | AA21: =IFERROR('Prévisions 2014-2015 (2)'!$M21/'Prévisions 2014-2015 (2)'!$M$25,"-") -> 0.03875969 | AB21: =IFERROR('Prévisions 2014-2015 (2)'!$N21/'Prévisions 2014-2015 (2)'!$N$25,"-") -> 0.05952381 | AC21: =IFERROR('Prévisions 2014-2015 (2)'!$O21/'Prévisions 2014-2015 (2)'!$O$25,"-") -> 0.05952381 | AD21: =IFERROR('Prévisions 2014-2015 (2)'!$P21/'Prévisions 2014-2015 (2)'!$P$25,"-") -> 0.060240964
B22: Client 16 | D22: 0 | E22: 0 | F22: 0 | G22: 0 | H22: 0 | I22: 0 | J22: 0 | K22: 3000 | L22: 300 | M22: 300 | N22: 300 | O22: 300 | P22: =SUM('Prévisions 2014-2015 (2)'!$D22:$O22) -> 4200 | Q22: 0.1 | R22: =IFERROR('Prévisions 2014-2015 (2)'!$D22/'Prévisions 2014-2015 (2)'!$D$25,"-") -> 0 | S22: =IFERROR('Prévisions 2014-2015 (2)'!$E22/'Prévisions 2014-2015 (2)'!$E$25,"-") -> 0 | T22: =IFERROR('Prévisions 2014-2015 (2)'!$F22/'Prévisions 2014-2015 (2)'!$F$25,"-") -> 0 | U22: =IFERROR('Prévisions 2014-2015 (2)'!$G22/'Prévisions 2014-2015 (2)'!$G$25,"-") -> 0 | V22: =IFERROR('Prévisions 2014-2015 (2)'!$H22/'Prévisions 2014-2015 (2)'!$H$25,"-") -> 0 | W22: =IFERROR('Prévisions 2014-2015 (2)'!$I22/'Prévisions 2014-2015 (2)'!$I$25,"-") -> 0 | X22: =IFERROR('Prévisions 2014-2015 (2)'!$J22/'Prévisions 2014-2015 (2)'!$J$25,"-") -> 0 | Y22: =IFERROR('Prévisions 2014-2015 (2)'!$K22/'Prévisions 2014-2015 (2)'!$K$25,"-") -> 0.2970297 | Z22: =IFERROR('Prévisions 2014-2015 (2)'!$L22/'Prévisions 2014-2015 (2)'!$L$25,"-") -> 0.024193548 | AA22: =IFERROR('Prévisions 2014-2015 (2)'!$M22/'Prévisions 2014-2015 (2)'!$M$25,"-") -> 0.023255814 | AB22: =IFERROR('Prévisions 2014-2015 (2)'!$N22/'Prévisions 2014-2015 (2)'!$N$25,"-") -> 0.035714286 | AC22: =IFERROR('Prévisions 2014-2015 (2)'!$O22/'Prévisions 2014-2015 (2)'!$O$25,"-") -> 0.035714286 | AD22: =IFERROR('Prévisions 2014-2015 (2)'!$P22/'Prévisions 2014-2015 (2)'!$P$25,"-") -> 0.03373494
B23: Client 17 | D23: 0 | E23: 0 | F23: 0 | G23: 0 | H23: 0 | I23: 0 | J23: 0 | K23: 0 | L23: 5000 | M23: 500 | N23: 500 | O23: 500 | P23: =SUM('Prévisions 2014-2015 (2)'!$D23:$O23) -> 6500 | Q23: 0.1 | R23: =IFERROR('Prévisions 2014-2015 (2)'!$D23/'Prévisions 2014-2015 (2)'!$D$25,"-") -> 0 | S23: =IFERROR('Prévisions 2014-2015 (2)'!$E23/'Prévisions 2014-2015 (2)'!$E$25,"-") -> 0 | T23: =IFERROR('Prévisions 2014-2015 (2)'!$F23/'Prévisions 2014-2015 (2)'!$F$25,"-") -> 0 | U23: =IFERROR('Prévisions 2014-2015 (2)'!$G23/'Prévisions 2014-2015 (2)'!$G$25,"-") -> 0 | V23: =IFERROR('Prévisions 2014-2015 (2)'!$H23/'Prévisions 2014-2015 (2)'!$H$25,"-") -> 0 | W23: =IFERROR('Prévisions 2014-2015 (2)'!$I23/'Prévisions 2014-2015 (2)'!$I$25,"-") -> 0 | X23: =IFERROR('Prévisions 2014-2015 (2)'!$J23/'Prévisions 2014-2015 (2)'!$J$25,"-") -> 0 | Y23: =IFERROR('Prévisions 2014-2015 (2)'!$K23/'Prévisions 2014-2015 (2)'!$K$25,"-") -> 0 | Z23: =IFERROR('Prévisions 2014-2015 (2)'!$L23/'Prévisions 2014-2015 (2)'!$L$25,"-") -> 0.40322581 | AA23: =IFERROR('Prévisions 2014-2015 (2)'!$M23/'Prévisions 2014-2015 (2)'!$M$25,"-") -> 0.03875969 | AB23: =IFERROR('Prévisions 2014-2015 (2)'!$N23/'Prévisions 2014-2015 (2)'!$N$25,"-") -> 0.05952381 | AC23: =IFERROR('Prévisions 2014-2015 (2)'!$O23/'Prévisions 2014-2015 (2)'!$O$25,"-") -> 0.05952381 | AD23: =IFERROR('Prévisions 2014-2015 (2)'!$P23/'Prévisions 2014-2015 (2)'!$P$25,"-") -> 0.052208835
B24: Client 18 | D24: 0 | E24: 0 | F24: 0 | G24: 0 | H24: 0 | I24: 0 | J24: 0 | K24: 0 | L24: 0 | M24: 5000 | N24: 500 | O24: 500 | P24: =SUM('Prévisions 2014-2015 (2)'!$D24:$O24) -> 6000 | Q24: 0.1 | R24: =IFERROR('Prévisions 2014-2015 (2)'!$D24/'Prévisions 2014-2015 (2)'!$D$25,"-") -> 0 | S24: =IFERROR('Prévisions 2014-2015 (2)'!$E24/'Prévisions 2014-2015 (2)'!$E$25,"-") -> 0 | T24: =IFERROR('Prévisions 2014-2015 (2)'!$F24/'Prévisions 2014-2015 (2)'!$F$25,"-") -> 0 | U24: =IFERROR('Prévisions 2014-2015 (2)'!$G24/'Prévisions 2014-2015 (2)'!$G$25,"-") -> 0 | V24: =IFERROR('Prévisions 2014-2015 (2)'!$H24/'Prévisions 2014-2015 (2)'!$H$25,"-") -> 0 | W24: =IFERROR('Prévisions 2014-2015 (2)'!$I24/'Prévisions 2014-2015 (2)'!$I$25,"-") -> 0 | X24: =IFERROR('Prévisions 2014-2015 (2)'!$J24/'Prévisions 2014-2015 (2)'!$J$25,"-") -> 0 | Y24: =IFERROR('Prévisions 2014-2015 (2)'!$K24/'Prévisions 2014-2015 (2)'!$K$25,"-") -> 0 | Z24: =IFERROR('Prévisions 2014-2015 (2)'!$L24/'Prévisions 2014-2015 (2)'!$L$25,"-") -> 0 | AA24: =IFERROR('Prévisions 2014-2015 (2)'!$M24/'Prévisions 2014-2015 (2)'!$M$25,"-") -> 0.3875969 | AB24: =IFERROR('Prévisions 2014-2015 (2)'!$N24/'Prévisions 2014-2015 (2)'!$N$25,"-") -> 0.05952381 | AC24: =IFERROR('Prévisions 2014-2015 (2)'!$O24/'Prévisions 2014-2015 (2)'!$O$25,"-") -> 0.05952381 | AD24: =IFERROR('Prévisions 2014-2015 (2)'!$P24/'Prévisions 2014-2015 (2)'!$P$25,"-") -> 0.048192771
