Workbook
Name bdd: OFFSET('List of Transactions try dyn'!$A$2:$D$2,,,COUNTA('List of Transactions try dyn'!$A:$D)-1)
Name bdd: OFFSET('List of Transactions '!$A$6:$D$6,,,COUNTA('List of Transactions '!$A:$D)-1)
Name n.: OFFSET('List of drugs try Inventory'!$A$2,,,COUNTA('List of drugs try Inventory'!$A:$A)-1)
Name n.: OFFSET('List of drugs try tabledyn'!$A$2,,,COUNTA('List of drugs try tabledyn'!$A:$A)-1)
Name nameofproduct: OFFSET('List of Transactions '!$E$6,,,COUNTIF('List of Transactions '!$E:$E,"><")-1)
Name nameofproduct: OFFSET('List of Transactions try dyn'!$E$2,,,COUNTIF('List of Transactions try dyn'!$E:$E,"><")-1)
Name numprod: OFFSET('List of Transactions try dyn'!$D$2,,,COUNTA('List of Transactions try dyn'!$D:$D)-1)
Name numprod: OFFSET('List of Transactions '!$D$6,,,COUNTA('List of Transactions '!$D:$D)-1)
Name numprod2: OFFSET('List of Transactions try dyn'!$D$2,,MATCH('Bin Card'!$C$8,'List of Transactions try dyn'!$D:$D,0)-6,COUNTA('List of Transactions try dyn'!$D:$D))
Name numprod2: OFFSET('List of Transactions '!$D$6,,MATCH('Bin Card'!$C$8,'List of Transactions '!$D:$D,0)-6,COUNTA('List of Transactions '!$D:$D))
Name numtrans: OFFSET('List of Transactions try dyn'!$A$2,,,COUNTA('List of Transactions try dyn'!$A:$A)-1)
Name numtrans: OFFSET('List of Transactions '!$A$6,,,COUNTA('List of Transactions '!$A:$A)-1)
Name PRnumb: OFFSET('List of Transactions try dyn'!$C$2,,,COUNTA('List of Transactions try dyn'!$C:$C)-1)
Name PRnumb: OFFSET('List of Transactions '!$C$6,,,COUNTA('List of Transactions '!$C:$C)-1)

Sheet RIRV
B6: Requisition, Issue, and receipt Voucher
B8: Date : | H8: Issue Voucher number :
H10: Ship to :
C14: Article | G14: Quantity | J14: Remarks
G15: Requested | H15: Issued | I15: Received
B16: 1
B17: 2
B18: 3
B19: 4
B20: 5
B21: 6
B22: 7
B23: 8
B24: 9
B25: 10
B26: 11
B27: 12
... B30: 15
C32: Approved by : | J32: Date :
C34: Received by : | J34: Date :

Sheet Report and Request
A6: Reporting Period:
A7: From : | B7: 41640 | C7: To: | D7: 41645 | J7: Maximum Stock Level: | L7: Months
A9: Facility : | J9: Emergency Order Point: | L9: Months
A11: Article | E11: Unit | F11: Beginning Balance | G11: Total Quantity Received /Month | H11: Total quantity dispensed / month | I11: Losses and Adjustments | J11: Inventory at the end of the month | K11: Average Monthly Consumed (3months) | L11: Maximum Quantity | M11: Order Quantity
B28: Completed by : | G28: Ordered by (TL): | K28: Approved by:
B29: Signature: | G29: Signature: | K29: Signature:
B30: Date : | G30: Date: | K30: Date:
A34: Remarks:

Sheet Bin Card
A6: BIN CARD | L6: =SUMPRODUCT(--(PRnumb>0)*(numprod=C8)) -> 3
B8: Product name: | C8: 5 | D8: =VLOOKUP(C8,'List of drugs'!A1:G301,2,0) -> Lukast | G8: Description: | H8: =VLOOKUP(C8,'List of drugs'!A1:G301,3,0) -> Montelukast sodium
B9: Lot/Batch No: | C9: =VLOOKUP(C8,'List of drugs'!A1:G301,4,0) -> 13360 | G9: Expiry date: | H9: =VLOOKUP(C8,'List of drugs'!A1:G301,5,0) -> 42156
A11: Date | B11: PR numb. | C11: Received from issued to | E11: Quantity received | F11: Quantity issued | G11: Losses | H11: Adjustments | I11: Quantity on hand | J11: Remarks
B12: {=IF(ROWS($1:1)>$L$6,"",INDEX(bdd,SMALL(IF(numtrans*1>0,ROW(PRnumb)-1,""),ROW(A1)),3))} -> 3456
B13: {=IF(ROWS($1:2)>$L$6,"",INDEX(bdd,SMALL(IF(numtrans*1>0,ROW(PRnumb)-1,""),ROW(A2)),3))} -> 0
B14: {=IF(ROWS($1:3)>$L$6,"",INDEX(bdd,SMALL(IF(numtrans*1>0,ROW(PRnumb)-1,""),ROW(A3)),3))} -> 0
B16: {=IF(ROWS($1:5)>$L$6,"",INDEX(bdd,SMALL(IF(numtrans*1>0,ROW(PRnumb)-1,""),ROW(A5)),3))}
B17: {=IF(ROWS($1:6)>$L$6,"",INDEX(bdd,SMALL(IF(numtrans*1>0,ROW(PRnumb)-1,""),ROW(A6)),3))}
B18: {=IF(ROWS($1:7)>$L$6,"",INDEX(bdd,SMALL(IF(numtrans*1>0,ROW(PRnumb)-1,""),ROW(A7)),3))}
B19: {=IF(ROWS($1:8)>$L$6,"",INDEX(bdd,SMALL(IF(numtrans*1>0,ROW(PRnumb)-1,""),ROW(A8)),3))}
B20: {=IF(ROWS($1:9)>$L$6,"",INDEX(bdd,SMALL(IF(numtrans*1>0,ROW(PRnumb)-1,""),ROW(A9)),3))}
B21: {=IF(ROWS($1:10)>$L$6,"",INDEX(bdd,SMALL(IF(numtrans*1>0,ROW(PRnumb)-1,""),ROW(A10)),3))}
B22: {=IF(ROWS($1:11)>$L$6,"",INDEX(bdd,SMALL(IF(numtrans*1>0,ROW(PRnumb)-1,""),ROW(A11)),3))}
B23: {=IF(ROWS($1:12)>$L$6,"",INDEX(bdd,SMALL(IF(numtrans*1>0,ROW(PRnumb)-1,""),ROW(A12)),3))}
B24: {=IF(ROWS($1:13)>$L$6,"",INDEX(bdd,SMALL(IF(numtrans*1>0,ROW(PRnumb)-1,""),ROW(A13)),3))}
B25: {=IF(ROWS($1:14)>$L$6,"",INDEX(bdd,SMALL(IF(numtrans*1>0,ROW(PRnumb)-1,""),ROW(A14)),3))}
B26: {=IF(ROWS($1:15)>$L$6,"",INDEX(bdd,SMALL(IF(numtrans*1>0,ROW(PRnumb)-1,""),ROW(A15)),3))}
B27: {=IF(ROWS($1:16)>$L$6,"",INDEX(bdd,SMALL(IF(numtrans*1>0,ROW(PRnumb)-1,""),ROW(A16)),3))}

Sheet List of Transactions 
A5: n. trans | B5: Date | C5: PR numb. | D5: n. | E5: Name of Product | F5: Description | G5: No of Lot/Batch | H5: Date of expiry | I5: Received from | J5: issued to | K5: Quantity ordered | L5: Quantity received | M5: Losses | N5: Adjustments | O5: Quantity on hand | P5: Remarks
A6: 1 | B6: 41643 | C6: 1234 | D6: 5 | E6: =IF(D6>0,VLOOKUP(D6,'List of drugs'!$A$1:$G$301,2,0),0) -> Lukast | F6: =IF(D6>0,VLOOKUP(D6,'List of drugs'!$A$1:$G$301,3,0),0) -> Montelukast sodium | G6: =IF(D6>0,VLOOKUP(D6,'List of drugs'!$A$1:$G$301,4,0),0) -> 13360 | H6: =IF(D6>0,VLOOKUP(D6,'List of drugs'!$A$1:$G$301,5,0),0) -> 42156 | I6: IOM Amman | J6: RSTC | K6: 20 | L6: 20 | M6: =L6-K6 -> 0 | O6: 5 | P6: no comment
A7: 2 | B7: 41764 | C7: 4567 | D7: 14 | E7: =IF(D7>0,VLOOKUP(D7,'List of drugs'!$A$1:$G$301,2,0),0) -> Zocin | F7: =IF(D7>0,VLOOKUP(D7,'List of drugs'!$A$1:$G$301,3,0),0) -> Azithromicine | G7: =IF(D7>0,VLOOKUP(D7,'List of drugs'!$A$1:$G$301,4,0),0) -> 3130605 | H7: =IF(D7>0,VLOOKUP(D7,'List of drugs'!$A$1:$G$301,5,0),0) -> 42522 | I7: IOM Amman | J7: EL Khaldi Clinic | K7: 30 | L7: 25 | M7: =L7-K7 -> -5 | O7: 7 | P7: 5 destroyed
A8: 3 | B8: 41645 | C8: 7890 | D8: 5 | E8: =IF(D8>0,VLOOKUP(D8,'List of drugs'!$A$1:$G$301,2,0),0) -> Lukast | F8: =IF(D8>0,VLOOKUP(D8,'List of drugs'!$A$1:$G$301,3,0),0) -> Montelukast sodium | G8: =IF(D8>0,VLOOKUP(D8,'List of drugs'!$A$1:$G$301,4,0),0) -> 13360 | H8: =IF(D8>0,VLOOKUP(D8,'List of drugs'!$A$1:$G$301,5,0),0) -> 42156 | I8: IOM Amman | J8: RSTC | K8: 15 | L8: 12 | M8: =L8-K8 -> -3 | O8: 10 | P8: 3 stolen
A9: 4 | B9: 41918 | C9: 123 | D9: 14 | E9: =IF(D9>0,VLOOKUP(D9,'List of drugs'!$A$1:$G$301,2,0),0) -> Zocin | F9: =IF(D9>0,VLOOKUP(D9,'List of drugs'!$A$1:$G$301,3,0),0) -> Azithromicine | G9: =IF(D9>0,VLOOKUP(D9,'List of drugs'!$A$1:$G$301,4,0),0) -> 3130605 | H9: =IF(D9>0,VLOOKUP(D9,'List of drugs'!$A$1:$G$301,5,0),0) -> 42522 | I9: IOM Amman | J9: EL Khaldi Clinic | K9: 25 | L9: 25 | M9: =L9-K9 -> 0 | O9: 3 | P9: no comment
A10: 5 | B10: 41949 | C10: 3456 | D10: 5 | E10: =IF(D10>0,VLOOKUP(D10,'List of drugs'!$A$1:$G$301,2,0),0) -> Lukast | F10: =IF(D10>0,VLOOKUP(D10,'List of drugs'!$A$1:$G$301,3,0),0) -> Montelukast sodium | G10: =IF(D10>0,VLOOKUP(D10,'List of drugs'!$A$1:$G$301,4,0),0) -> 13360 | H10: =IF(D10>0,VLOOKUP(D10,'List of drugs'!$A$1:$G$301,5,0),0) -> 42156 | I10: IOM Amman | J10: EL Khaldi Clinic | K10: 10 | L10: 9 | M10: =L10-K10 -> -1 | O10: 1 | P10: 1 lost
E11: =IF(D11>0,VLOOKUP(D11,'List of drugs'!$A$1:$G$301,2,0),0) -> 0 | F11: =IF(D11>0,VLOOKUP(D11,'List of drugs'!$A$1:$G$301,3,0),0) -> 0 | G11: =IF(D11>0,VLOOKUP(D11,'List of drugs'!$A$1:$G$301,4,0),0) -> 0 | H11: =IF(D11>0,VLOOKUP(D11,'List of drugs'!$A$1:$G$301,5,0),0) -> 0 | M11: =L11-K11 -> 0
E12: =IF(D12>0,VLOOKUP(D12,'List of drugs'!$A$1:$G$301,2,0),0) -> 0 | F12: =IF(D12>0,VLOOKUP(D12,'List of drugs'!$A$1:$G$301,3,0),0) -> 0 | G12: =IF(D12>0,VLOOKUP(D12,'List of drugs'!$A$1:$G$301,4,0),0) -> 0 | H12: =IF(D12>0,VLOOKUP(D12,'List of drugs'!$A$1:$G$301,5,0),0) -> 0 | M12: =L12-K12 -> 0
E13: =IF(D13>0,VLOOKUP(D13,'List of drugs'!$A$1:$G$301,2,0),0) -> 0 | F13: =IF(D13>0,VLOOKUP(D13,'List of drugs'!$A$1:$G$301,3,0),0) -> 0 | G13: =IF(D13>0,VLOOKUP(D13,'List of drugs'!$A$1:$G$301,4,0),0) -> 0 | H13: =IF(D13>0,VLOOKUP(D13,'List of drugs'!$A$1:$G$301,5,0),0) -> 0 | M13: =L13-K13 -> 0
E14: =IF(D14>0,VLOOKUP(D14,'List of drugs'!$A$1:$G$301,2,0),0) -> 0 | F14: =IF(D14>0,VLOOKUP(D14,'List of drugs'!$A$1:$G$301,3,0),0) -> 0 | G14: =IF(D14>0,VLOOKUP(D14,'List of drugs'!$A$1:$G$301,4,0),0) -> 0 | H14: =IF(D14>0,VLOOKUP(D14,'List of drugs'!$A$1:$G$301,5,0),0) -> 0 | M14: =L14-K14 -> 0
E15: =IF(D15>0,VLOOKUP(D15,'List of drugs'!$A$1:$G$301,2,0),0) -> 0 | F15: =IF(D15>0,VLOOKUP(D15,'List of drugs'!$A$1:$G$301,3,0),0) -> 0 | G15: =IF(D15>0,VLOOKUP(D15,'List of drugs'!$A$1:$G$301,4,0),0) -> 0 | H15: =IF(D15>0,VLOOKUP(D15,'List of drugs'!$A$1:$G$301,5,0),0) -> 0 | M15: =L15-K15 -> 0
E16: =IF(D16>0,VLOOKUP(D16,'List of drugs'!$A$1:$G$301,2,0),0) -> 0 | F16: =IF(D16>0,VLOOKUP(D16,'List of drugs'!$A$1:$G$301,3,0),0) -> 0 | G16: =IF(D16>0,VLOOKUP(D16,'List of drugs'!$A$1:$G$301,4,0),0) -> 0 | H16: =IF(D16>0,VLOOKUP(D16,'List of drugs'!$A$1:$G$301,5,0),0) -> 0 | M16: =L16-K16 -> 0
E17: =IF(D17>0,VLOOKUP(D17,'List of drugs'!$A$1:$G$301,2,0),0) -> 0 | F17: =IF(D17>0,VLOOKUP(D17,'List of drugs'!$A$1:$G$301,3,0),0) -> 0 | G17: =IF(D17>0,VLOOKUP(D17,'List of drugs'!$A$1:$G$301,4,0),0) -> 0 | H17: =IF(D17>0,VLOOKUP(D17,'List of drugs'!$A$1:$G$301,5,0),0) -> 0 | M17: =L17-K17 -> 0
E18: =IF(D18>0,VLOOKUP(D18,'List of drugs'!$A$1:$G$301,2,0),0) -> 0 | F18: =IF(D18>0,VLOOKUP(D18,'List of drugs'!$A$1:$G$301,3,0),0) -> 0 | G18: =IF(D18>0,VLOOKUP(D18,'List of drugs'!$A$1:$G$301,4,0),0) -> 0 | H18: =IF(D18>0,VLOOKUP(D18,'List of drugs'!$A$1:$G$301,5,0),0) -> 0 | M18: =L18-K18 -> 0
E19: =IF(D19>0,VLOOKUP(D19,'List of drugs'!$A$1:$G$301,2,0),0) -> 0 | F19: =IF(D19>0,VLOOKUP(D19,'List of drugs'!$A$1:$G$301,3,0),0) -> 0 | G19: =IF(D19>0,VLOOKUP(D19,'List of drugs'!$A$1:$G$301,4,0),0) -> 0 | H19: =IF(D19>0,VLOOKUP(D19,'List of drugs'!$A$1:$G$301,5,0),0) -> 0 | M19: =L19-K19 -> 0
E20: =IF(D20>0,VLOOKUP(D20,'List of drugs'!$A$1:$G$301,2,0),0) -> 0 | F20: =IF(D20>0,VLOOKUP(D20,'List of drugs'!$A$1:$G$301,3,0),0) -> 0 | G20: =IF(D20>0,VLOOKUP(D20,'List of drugs'!$A$1:$G$301,4,0),0) -> 0 | H20: =IF(D20>0,VLOOKUP(D20,'List of drugs'!$A$1:$G$301,5,0),0) -> 0 | M20: =L20-K20 -> 0
E21: =IF(D21>0,VLOOKUP(D21,'List of drugs'!$A$1:$G$301,2,0),0) -> 0 | F21: =IF(D21>0,VLOOKUP(D21,'List of drugs'!$A$1:$G$301,3,0),0) -> 0 | G21: =IF(D21>0,VLOOKUP(D21,'List of drugs'!$A$1:$G$301,4,0),0) -> 0 | H21: =IF(D21>0,VLOOKUP(D21,'List of drugs'!$A$1:$G$301,5,0),0) -> 0 | M21: =L21-K21 -> 0
E22: =IF(D22>0,VLOOKUP(D22,'List of drugs'!$A$1:$G$301,2,0),0) -> 0 | F22: =IF(D22>0,VLOOKUP(D22,'List of drugs'!$A$1:$G$301,3,0),0) -> 0 | G22: =IF(D22>0,VLOOKUP(D22,'List of drugs'!$A$1:$G$301,4,0),0) -> 0 | H22: =IF(D22>0,VLOOKUP(D22,'List of drugs'!$A$1:$G$301,5,0),0) -> 0 | M22: =L22-K22 -> 0
... E500: =IF(D500>0,VLOOKUP(D500,'List of drugs'!$A$1:$G$301,2,0),0) -> 0 | F500: =IF(D500>0,VLOOKUP(D500,'List of drugs'!$A$1:$G$301,3,0),0) -> 0 | G500: =IF(D500>0,VLOOKUP(D500,'List of drugs'!$A$1:$G$301,4,0),0) -> 0 | H500: =IF(D500>0,VLOOKUP(D500,'List of drugs'!$A$1:$G$301,5,0),0) -> 0 | M500: =L500-K500 -> 0

Sheet List of drugs
A1: n. | B1: Name of Drug | C1: Description | D1: Number of lot/Batch | E1: Date of expiry | F1: Unit /Box | G1: Quantity (unit)
A2: 1 | B2: Ivermed 6 | C2: Ivermectin | D2: 135008 | E2: 42156 | F2: 1/box | G2: 15737
A3: 2 | B3: Lukast | C3: Montelukast sodium | D3: 13456 | E3: 42217 | F3: 30 tab | G3: 10
A4: 3 | B4: Voldic | C4: Diclofenac Diethylamine | D4: 23245 | E4: 42675 | F4: 30gm | G4: 10
A5: 4 | B5: Jamieson B6 | C5: B6 | D5: 3410748 | E5: 42156 | F5: 100/bottle | G5: 75
A6: 5 | B6: Lukast | C6: Montelukast sodium | D6: 13360 | E6: 42156 | F6: 30 tab | G6: 10
A7: 6 | B7: Lukast | C7: Montelukast sodium | D7: 13356 | E7: 42156 | F7: 30 tab | G7: 10
A8: 7 | B8: Amoclan Forte | C8: Amoxicillin, Clavulanic acid | D8: 4669 | E8: 42095 | F8: 100 ml | G8: 18
A9: 8 | B9: Atoxia | C9: Etoricoxib | D9: A568 | E9: 42339 | F9: 10 tab | G9: 8
A10: 9 | B10: Atoxia | C10: Etoricoxib | D10: B742 | E10: 42705 | F10: 10 tab | G10: 10
A11: 10 | B11: Nurona | C11: Gabapentin | D11: 13284 | E11: 42125 | F11: 30 Cap | G11: 15
A12: 11 | B12: Gazix | C12: Simethicone | D12: 3353 | E12: 42186 | F12: 30 ml | G12: 9
A13: 12 | B13: Cefutil | C13: Cefuroxime (Axetil) | D13: 62541 | E13: 42675 | F13: 10 tab | G13: 15
A14: 13 | B14: Glymet | C14: Metformin HCl | D14: 13313 | E14: 42856 | F14: 30 tab | G14: 15
A15: 14 | B15: Zocin | C15: Azithromicine | D15: 3130605 | E15: 42522 | F15: 6 cap | G15: 15
A16: 15 | B16: Biopress | C16: Candesartan Cilexetil | D16: 356099 | E16: 42461 | F16: 28 tab | G16: 20
A17: 16 | B17: Simvatin | C17: Simvastatin | D17: 13422 | E17: 42583 | F17: 30 tab | G17: 20
A18: 17 | B18: Simvatin 40mg | C18: Simvastatin | D18: 13331 | E18: 42156 | F18: 30 tab | G18: 20
A19: 18 | B19: Debaday MR | C19: Gliclazide | D19: 13554 | E19: 42278 | F19: 30tab | G19: 15
A20: 19 | B20: Cipropharm | C20: Ciprofloxacin | D20: 13521 | E20: 43009 | F20: 10 tab | G20: 15
A21: 20 | B21: Plagin 75 mg | C21: Clopidogrel Bisulphate | D21: B144 | E21: 42095 | F21: 30tab | G21: 12
A22: 21 | B22: Clindasin 300mg | C22: Clindamycin HCl | D22: B905 | E22: 42278 | F22: 16 cap | G22: 12
A23: 22 | B23: Diostar | C23: Valsartan | D23: 13527 | E23: 42278 | F23: 30 tab | G23: 20
A24: 23 | B24: Cefix 100 mg/5ml | C24: Cefixime | D24: 63520 | E24: 42339 | F24: 30 ml | G24: 8
A25: 24 | B25: Tidilor | C25: Loratadine | D25: 3332 | E25: 42826 | F25: 100 ml | G25: 7
A26: 25 | B26: Adol (Children's suspension) | C26: Paracetamol 250 mg/5 ml | D26: 0024 | E26: 42705 | F26: 100 ml | G26: 7
A27: 26 | B27: Erocin | C27: Sterile ophtalmic ointment | D27: 192019 | E27: 42370 | F27: 5 gm | G27: 14
A28: 27 | B28: Tobracin | C28: Tobramycin, Sterile ophtalmic ointment | D28: 193041 | E28: 42309 | F28: 5 gm | G28: 47
A29: 28 | B29: Capocard 50 | C29: Captopril | D29: 125N | E29: 42461 | F29: 20 tab | G29: 19
A30: 29 | B30: Prokinin | C30: Domperidone suspension | D30: 4QJ082 | E30: 42767 | F30: 180 ml | G30: 40
A31: 30 | B31: Movicol | C31: Effective relief from constipation | D31: 194872 | E31: 42614 | F31: 20 sachets | G31: 10
A32: 31 | B32: Amoclan Bid | C32: Amoxicillin, Clavulanic acid | D32: 5127 | E32: 42614 | F32: 10 tab | G32: 7
A33: 32 | B33: Cofex | C33: Cough syrup | D33: G76 | E33: 42736 | F33: 150 ml | G33: 17
A34: 33 | B34: Purinol 100 | C34: Allopurinol | D34: 7658 | E34: 43405 | F34: 100 tab | G34: 19
A35: 34 | B35: Ultramox Forte | C35: Amoxicillin (as trihydrate) | D35: 4268 | E35: 42278 | F35: 20 cap | G35: 15
A36: 35 | B36: Amoclan Bid | C36: Amoxicillin, Clavulanic acid | D36: 4659 | E36: 42461 | F36: 30 tab | G36: 5
A37: 36 | B37: Glorion 6mg | C37: Glimepiride | D37: 4569 | E37: 42005 | F37: 30 tab | G37: 15
... A190: 189 | B190: Modrex 25 mg | C190: Hydrochlorothiazide | D190: B805 | E190: 42644 | F190: 20 tab | G190: 2
A191: 190
A192: 191
...

Sheet Locations
A1: Num | B1: Locations
A2: 1 | B2: A
A3: 2 | B3: B
A4: 3 | B4: C
A5: 4
A6: 5
A7: 6

Sheet List of drugs try tabledyn
A1: n. | B1: Name of Drug | C1: Description | D1: Numero of lot/Batch | E1: Date of expiry | F1: Unit /Box | G1: Quantity (unit)
A2: 1 | B2: Ivermed 6 | C2: Ivermectin | D2: 135008 | E2: 42156 | F2: 1/box | G2: 15737
A3: 2 | B3: Lukast | C3: Montelukast sodium | D3: 13456 | E3: 42217 | F3: 30 tab | G3: 10
A4: 3 | B4: Voldic | C4: Diclofenac Diethylamine | D4: 23245 | E4: 42675 | F4: 30gm | G4: 10
A5: 4 | B5: Jamieson B6 | C5: B6 | D5: 3410748 | E5: 42156 | F5: 100/bottle | G5: 75
A6: 5 | B6: Lukast | C6: Montelukast sodium | D6: 13360 | E6: 42156 | F6: 30 tab | G6: 10
A7: 6 | B7: Lukast | C7: Montelukast sodium | D7: 13356 | E7: 42156 | F7: 30 tab | G7: 10
A8: 7 | B8: Amoclan Forte | C8: Amoxicillin, Clavulanic acid | D8: 4669 | E8: 42095 | F8: 100 ml | G8: 18
A9: 8 | B9: Atoxia | C9: Etoricoxib | D9: A568 | E9: 42339 | F9: 10 tab | G9: 8
A10: 9 | B10: Atoxia | C10: Etoricoxib | D10: B742 | E10: 42705 | F10: 10 tab | G10: 10
A11: 10 | B11: Nurona | C11: Gabapentin | D11: 13284 | E11: 42125 | F11: 30 Cap | G11: 15
A12: 11 | B12: Gazix | C12: Simethicone | D12: 3353 | E12: 42186 | F12: 30 ml | G12: 9
A13: 12 | B13: Cefutil | C13: Cefuroxime (Axetil) | D13: 62541 | E13: 42675 | F13: 10 tab | G13: 15
A14: 13 | B14: Glymet | C14: Metformin HCl | D14: 13313 | E14: 42856 | F14: 30 tab | G14: 15
A15: 14 | B15: Zocin | C15: Azithromicine | D15: 3130605 | E15: 42522 | F15: 6 cap | G15: 15
A16: 15 | B16: Biopress | C16: Candesartan Cilexetil | D16: 356099 | E16: 42461 | F16: 28 tab | G16: 20
A17: 16 | B17: Simvatin | C17: Simvastatin | D17: 13422 | E17: 42583 | F17: 30 tab | G17: 20
A18: 17 | B18: Simvatin 40mg | C18: Simvastatin | D18: 13331 | E18: 42156 | F18: 30 tab | G18: 20
A19: 18 | B19: Debaday MR | C19: Gliclazide | D19: 13554 | E19: 42278 | F19: 30tab | G19: 15
A20: 19 | B20: Cipropharm | C20: Ciprofloxacin | D20: 13521 | E20: 43009 | F20: 10 tab | G20: 15
A21: 20 | B21: Plagin 75 mg | C21: Clopidogrel Bisulphate | D21: B144 | E21: 42095 | F21: 30tab | G21: 12
A22: 21 | B22: Clindasin 300mg | C22: Clindamycin HCl | D22: B905 | E22: 42278 | F22: 16 cap | G22: 12
A23: 22 | B23: Diostar | C23: Valsartan | D23: 13527 | E23: 42278 | F23: 30 tab | G23: 20
A24: 23 | B24: Cefix 100 mg/5ml | C24: Cefixime | D24: 63520 | E24: 42339 | F24: 30 ml | G24: 8
A25: 24 | B25: Tidilor | C25: Loratadine | D25: 3332 | E25: 42826 | F25: 100 ml | G25: 7
A26: 25 | B26: Adol (Children's suspension) | C26: Paracetamol 250 mg/5 ml | D26: 0024 | E26: 42705 | F26: 100 ml | G26: 7
A27: 26 | B27: Erocin | C27: Sterile ophtalmic ointment | D27: 192019 | E27: 42370 | F27: 5 gm | G27: 14
A28: 27 | B28: Tobracin | C28: Tobramycin, Sterile ophtalmic ointment | D28: 193041 | E28: 42309 | F28: 5 gm | G28: 47
A29: 28 | B29: Capocard 50 | C29: Captopril | D29: 125N | E29: 42461 | F29: 20 tab | G29: 19
A30: 29 | B30: Prokinin | C30: Domperidone suspension | D30: 4QJ082 | E30: 42767 | F30: 180 ml | G30: 40
A31: 30 | B31: Movicol | C31: Effective relief from constipation | D31: 194872 | E31: 42614 | F31: 20 sachets | G31: 10
A32: 31 | B32: Amoclan Bid | C32: Amoxicillin, Clavulanic acid | D32: 5127 | E32: 42614 | F32: 10 tab | G32: 7
A33: 32 | B33: Cofex | C33: Cough syrup | D33: G76 | E33: 42736 | F33: 150 ml | G33: 17
A34: 33 | B34: Purinol 100 | C34: Allopurinol | D34: 7658 | E34: 43405 | F34: 100 tab | G34: 19
A35: 34 | B35: Ultramox Forte | C35: Amoxicillin (as trihydrate) | D35: 4268 | E35: 42278 | F35: 20 cap | G35: 15
A36: 35 | B36: Amoclan Bid | C36: Amoxicillin, Clavulanic acid | D36: 4659 | E36: 42461 | F36: 30 tab | G36: 5
A37: 36 | B37: Glorion 6mg | C37: Glimepiride | D37: 4569 | E37: 42005 | F37: 30 tab | G37: 15
... A190: 189 | B190: Modrex 25 mg | C190: Hydrochlorothiazide | D190: B805 | E190: 42644 | F190: 20 tab | G190: 2

Sheet Bin Card try dyn
A6: BIN CARD | M6: n. | N6: 5
B8: Product name: | C8: =N6 -> 5 | D8: =VLOOKUP(C8,'List of drugs'!A1:G301,2,0) -> Lukast | G8: Description: | H8: =VLOOKUP(C8,'List of drugs'!A1:G301,3,0) -> Montelukast sodium | M8: Row Labels | N8: PR numb. | O8: Received from | P8: issued to | Q8: Remarks | R8: Sum of Quantity ordered | S8: Sum of Quantity issued | T8: Sum of Quantity received | U8: Sum of Losses | V8: Sum of Adjustments | W8: Sum of Quantity on hand
B9: Lot/Batch No: | C9: =VLOOKUP(C8,'List of drugs'!A1:G301,4,0) -> 13360 | G9: Expiry date: | H9: =VLOOKUP(C8,'List of drugs'!A1:G301,5,0) -> 42156 | M9: 15/7/2014 | N9: 44444 | O9: B | P9: A | Q9: (blank) | R9: 9 | S9: 9 | T9: 3 | U9: -6 | W9: 3
M10: 41643 | N10: 1234 | O10: A | P10: C | Q10: no comment | R10: 20 | S10: 20 | T10: 20 | U10: 0 | W10: 5
A11: Date | B11: PR numb. | C11: Received from | D11: issued to | E11: Quantity received | F11: Quantity issued | G11: Losses | H11: Adjustments | I11: Quantity on hand | J11: Remarks | M11: 41645 | N11: 7890 | O11: A | P11: C | Q11: 3 stolen | R11: 15 | S11: 15 | T11: 12 | U11: -3 | W11: 10
M12: 41949 | N12: 3456 | O12: A | P12: C | Q12: 1 lost | R12: 10 | S12: 10 | T12: 9 | U12: -1 | W12: 1
M13: 41979 | N13: 3333 | O13: A | P13: C | Q13: (blank) | R13: 8 | S13: 8 | T13: 8 | U13: 0 | W13: 2
M14: Grand Total | R14: 62 | S14: 62 | T14: 52 | U14: -10 | W14: 21
S19: =S9 -> 9 | T19: =T9 -> 3 | U19: =U9 -> -6 | V19: =V9 -> 0
S20: =S10 -> 20 | T20: =T10 -> 20 | U20: =U10 -> 0 | V20: =V10 -> 0
S21: =S11 -> 15 | T21: =T11 -> 12 | U21: =U11 -> -3 | V21: =V11 -> 0
S22: =S12 -> 10 | T22: =T12 -> 9 | U22: =U12 -> -1 | V22: =V12 -> 0
S23: =S13 -> 8 | T23: =T13 -> 8 | U23: =U13 -> 0 | V23: =V13 -> 0
S24: =S14 -> 62 | T24: =T14 -> 52 | U24: =U14 -> -10 | V24: =V14 -> 0

Sheet List of Transactions try dyn
A1: n. trans | B1: Date | C1: PR numb. | D1: n. | E1: Name of Product | F1: Description | G1: No of Lot/Batch | H1: Date of expiry | I1: Received from | J1: issued to | K1: Quantity ordered | L1: Quantity issued | M1: Quantity received | N1: Losses | O1: Adjustments | P1: Quantity on hand | Q1: Remarks | R1: Date test
A2: 1 | B2: 41643 | C2: 1234 | D2: 5 | E2: =IF(D2>0,VLOOKUP(D2,'List of drugs'!$A$1:$G$301,2,0),0) -> Lukast | F2: =IF(D2>0,VLOOKUP(D2,'List of drugs'!$A$1:$G$301,3,0),0) -> Montelukast sodium | G2: =IF(D2>0,VLOOKUP(D2,'List of drugs'!$A$1:$G$301,4,0),0) -> 13360 | H2: =IF(D2>0,VLOOKUP(D2,'List of drugs'!$A$1:$G$301,5,0),0) -> 42156 | I2: A | J2: C | K2: 20 | L2: 20 | M2: 20 | N2: =M2-K2 -> 0 | P2: 5 | Q2: no comment | R2: =AND(tblLoTTD[[#This Row],[Date]]>='Report and Request'!$B$7,tblLoTTD[[#This Row],[Date]]<='Report and Request'!$D$7) -> TRUE
A3: 2 | B3: 41764 | C3: 4567 | D3: 14 | E3: =IF(D3>0,VLOOKUP(D3,'List of drugs'!$A$1:$G$301,2,0),0) -> Zocin | F3: =IF(D3>0,VLOOKUP(D3,'List of drugs'!$A$1:$G$301,3,0),0) -> Azithromicine | G3: =IF(D3>0,VLOOKUP(D3,'List of drugs'!$A$1:$G$301,4,0),0) -> 3130605 | H3: =IF(D3>0,VLOOKUP(D3,'List of drugs'!$A$1:$G$301,5,0),0) -> 42522 | I3: A | J3: B | K3: 30 | L3: 30 | M3: 25 | N3: =M3-K3 -> -5 | P3: 7 | Q3: 5 destroyed | R3: =AND(tblLoTTD[[#This Row],[Date]]>='Report and Request'!$B$7,tblLoTTD[[#This Row],[Date]]<='Report and Request'!$D$7) -> FALSE
A4: 3 | B4: 41645 | C4: 7890 | D4: 5 | E4: =IF(D4>0,VLOOKUP(D4,'List of drugs'!$A$1:$G$301,2,0),0) -> Lukast | F4: =IF(D4>0,VLOOKUP(D4,'List of drugs'!$A$1:$G$301,3,0),0) -> Montelukast sodium | G4: =IF(D4>0,VLOOKUP(D4,'List of drugs'!$A$1:$G$301,4,0),0) -> 13360 | H4: =IF(D4>0,VLOOKUP(D4,'List of drugs'!$A$1:$G$301,5,0),0) -> 42156 | I4: A | J4: C | K4: 15 | L4: 15 | M4: 12 | N4: =M4-K4 -> -3 | P4: 10 | Q4: 3 stolen | R4: =AND(tblLoTTD[[#This Row],[Date]]>='Report and Request'!$B$7,tblLoTTD[[#This Row],[Date]]<='Report and Request'!$D$7) -> TRUE
A5: 4 | B5: 41918 | C5: 123 | D5: 14 | E5: =IF(D5>0,VLOOKUP(D5,'List of drugs'!$A$1:$G$301,2,0),0) -> Zocin | F5: =IF(D5>0,VLOOKUP(D5,'List of drugs'!$A$1:$G$301,3,0),0) -> Azithromicine | G5: =IF(D5>0,VLOOKUP(D5,'List of drugs'!$A$1:$G$301,4,0),0) -> 3130605 | H5: =IF(D5>0,VLOOKUP(D5,'List of drugs'!$A$1:$G$301,5,0),0) -> 42522 | I5: A | J5: B | K5: 25 | L5: 25 | M5: 25 | N5: =M5-K5 -> 0 | P5: 3 | Q5: no comment | R5: =AND(tblLoTTD[[#This Row],[Date]]>='Report and Request'!$B$7,tblLoTTD[[#This Row],[Date]]<='Report and Request'!$D$7) -> FALSE
A6: 5 | B6: 41949 | C6: 3456 | D6: 5 | E6: =IF(D6>0,VLOOKUP(D6,'List of drugs'!$A$1:$G$301,2,0),0) -> Lukast | F6: =IF(D6>0,VLOOKUP(D6,'List of drugs'!$A$1:$G$301,3,0),0) -> Montelukast sodium | G6: =IF(D6>0,VLOOKUP(D6,'List of drugs'!$A$1:$G$301,4,0),0) -> 13360 | H6: =IF(D6>0,VLOOKUP(D6,'List of drugs'!$A$1:$G$301,5,0),0) -> 42156 | I6: A | J6: C | K6: 10 | L6: 10 | M6: 9 | N6: =M6-K6 -> -1 | P6: 1 | Q6: 1 lost | R6: =AND(tblLoTTD[[#This Row],[Date]]>='Report and Request'!$B$7,tblLoTTD[[#This Row],[Date]]<='Report and Request'!$D$7) -> FALSE
A7: 6 | B7: 41979 | C7: 3333 | D7: 5 | E7: =IF(D7>0,VLOOKUP(D7,'List of drugs'!$A$1:$G$301,2,0),0) -> Lukast | F7: =IF(D7>0,VLOOKUP(D7,'List of drugs'!$A$1:$G$301,3,0),0) -> Montelukast sodium | G7: =IF(D7>0,VLOOKUP(D7,'List of drugs'!$A$1:$G$301,4,0),0) -> 13360 | H7: =IF(D7>0,VLOOKUP(D7,'List of drugs'!$A$1:$G$301,5,0),0) -> 42156 | I7: A | J7: C | K7: 8 | L7: 8 | M7: 8 | N7: =M7-K7 -> 0 | P7: 2 | R7: =AND(tblLoTTD[[#This Row],[Date]]>='Report and Request'!$B$7,tblLoTTD[[#This Row],[Date]]<='Report and Request'!$D$7) -> FALSE
A8: 7 | B8: 15/7/2014 | C8: 44444 | D8: 5 | E8: =IF(D8>0,VLOOKUP(D8,'List of drugs'!$A$1:$G$301,2,0),0) -> Lukast | F8: =IF(D8>0,VLOOKUP(D8,'List of drugs'!$A$1:$G$301,3,0),0) -> Montelukast sodium | G8: =IF(D8>0,VLOOKUP(D8,'List of drugs'!$A$1:$G$301,4,0),0) -> 13360 | H8: =IF(D8>0,VLOOKUP(D8,'List of drugs'!$A$1:$G$301,5,0),0) -> 42156 | I8: B | J8: A | K8: 9 | L8: 9 | M8: 3 | N8: =M8-K8 -> -6 | P8: 3 | R8: =AND(tblLoTTD[[#This Row],[Date]]>='Report and Request'!$B$7,tblLoTTD[[#This Row],[Date]]<='Report and Request'!$D$7) -> FALSE
A9: 8 | B9: 20/8/2014 | C9: 55555 | D9: 14 | E9: =IF(D9>0,VLOOKUP(D9,'List of drugs'!$A$1:$G$301,2,0),0) -> Zocin | F9: =IF(D9>0,VLOOKUP(D9,'List of drugs'!$A$1:$G$301,3,0),0) -> Azithromicine | G9: =IF(D9>0,VLOOKUP(D9,'List of drugs'!$A$1:$G$301,4,0),0) -> 3130605 | H9: =IF(D9>0,VLOOKUP(D9,'List of drugs'!$A$1:$G$301,5,0),0) -> 42522 | I9: A | J9: C | K9: 11 | L9: 11 | M9: 10 | N9: =M9-K9 -> -1 | P9: 4 | R9: =AND(tblLoTTD[[#This Row],[Date]]>='Report and Request'!$B$7,tblLoTTD[[#This Row],[Date]]<='Report and Request'!$D$7) -> FALSE
A10: 9 | B10: 30/12/2014 | C10: 66666 | D10: 14 | E10: =IF(D10>0,VLOOKUP(D10,'List of drugs'!$A$1:$G$301,2,0),0) -> Zocin | F10: =IF(D10>0,VLOOKUP(D10,'List of drugs'!$A$1:$G$301,3,0),0) -> Azithromicine | G10: =IF(D10>0,VLOOKUP(D10,'List of drugs'!$A$1:$G$301,4,0),0) -> 3130605 | H10: =IF(D10>0,VLOOKUP(D10,'List of drugs'!$A$1:$G$301,5,0),0) -> 42522 | I10: C | J10: A | K10: 13 | L10: 13 | M10: 5 | N10: =M10-K10 -> -8 | P10: 5 | R10: =AND(tblLoTTD[[#This Row],[Date]]>='Report and Request'!$B$7,tblLoTTD[[#This Row],[Date]]<='Report and Request'!$D$7) -> FALSE

Sheet List of drugs try Inventory
A1: n. | B1: Name of Drug | C1: Description | D1: Numero of lot/Batch | E1: Date of expiry | F1: Unit /Box | G1: initial stock (unit) | H1: input | I1: output | J1: Final Stock (unit)
A2: 1 | B2: Ivermed 6 | C2: Ivermectin | D2: 135008 | E2: 42156 | F2: 1/box | G2: 15737 | H2: =SUMPRODUCT((tblLoTTD[n.]=tblLoDTI[[#This Row],[n.]])*(tblLoTTD[issued to]="A")*(tblLoTTD[Quantity received])) -> 0 | I2: =SUMIF(tblLoTTD[Name of Product],tblLoDTI[[#This Row],[Name of Drug]],tblLoTTD[Quantity issued]) -> 0
A3: 2 | B3: Lukast | C3: Montelukast sodium | D3: 13456 | E3: 42217 | F3: 30 tab | G3: 10 | H3: =SUMPRODUCT((tblLoTTD[n.]=tblLoDTI[[#This Row],[n.]])*(tblLoTTD[issued to]="A")*(tblLoTTD[Quantity received])) -> 0 | I3: =SUMIF(tblLoTTD[Name of Product],tblLoDTI[[#This Row],[Name of Drug]],tblLoTTD[Quantity issued]) -> 62
A4: 3 | B4: Voldic | C4: Diclofenac Diethylamine | D4: 23245 | E4: 42675 | F4: 30gm | G4: 10 | H4: =SUMPRODUCT((tblLoTTD[n.]=tblLoDTI[[#This Row],[n.]])*(tblLoTTD[issued to]="A")*(tblLoTTD[Quantity received])) -> 0 | I4: =SUMIF(tblLoTTD[Name of Product],tblLoDTI[[#This Row],[Name of Drug]],tblLoTTD[Quantity issued]) -> 0
A5: 4 | B5: Jamieson B6 | C5: B6 | D5: 3410748 | E5: 42156 | F5: 100/bottle | G5: 75 | H5: =SUMPRODUCT((tblLoTTD[n.]=tblLoDTI[[#This Row],[n.]])*(tblLoTTD[issued to]="A")*(tblLoTTD[Quantity received])) -> 0 | I5: =SUMIF(tblLoTTD[Name of Product],tblLoDTI[[#This Row],[Name of Drug]],tblLoTTD[Quantity issued]) -> 0
A6: 5 | B6: Lukast | C6: Montelukast sodium | D6: 13360 | E6: 42156 | F6: 30 tab | G6: 10 | H6: =SUMPRODUCT((tblLoTTD[n.]=tblLoDTI[[#This Row],[n.]])*(tblLoTTD[issued to]="A")*(tblLoTTD[Quantity received])) -> 3 | I6: =SUMIF(tblLoTTD[Name of Product],tblLoDTI[[#This Row],[Name of Drug]],tblLoTTD[Quantity issued]) -> 62
A7: 6 | B7: Lukast | C7: Montelukast sodium | D7: 13356 | E7: 42156 | F7: 30 tab | G7: 10 | H7: =SUMPRODUCT((tblLoTTD[n.]=tblLoDTI[[#This Row],[n.]])*(tblLoTTD[issued to]="A")*(tblLoTTD[Quantity received])) -> 0 | I7: =SUMIF(tblLoTTD[Name of Product],tblLoDTI[[#This Row],[Name of Drug]],tblLoTTD[Quantity issued]) -> 62
A8: 7 | B8: Amoclan Forte | C8: Amoxicillin, Clavulanic acid | D8: 4669 | E8: 42095 | F8: 100 ml | G8: 18 | H8: =SUMPRODUCT((tblLoTTD[n.]=tblLoDTI[[#This Row],[n.]])*(tblLoTTD[issued to]="A")*(tblLoTTD[Quantity received])) -> 0 | I8: =SUMIF(tblLoTTD[Name of Product],tblLoDTI[[#This Row],[Name of Drug]],tblLoTTD[Quantity issued]) -> 0
A9: 8 | B9: Atoxia | C9: Etoricoxib | D9: A568 | E9: 42339 | F9: 10 tab | G9: 8 | H9: =SUMPRODUCT((tblLoTTD[n.]=tblLoDTI[[#This Row],[n.]])*(tblLoTTD[issued to]="A")*(tblLoTTD[Quantity received])) -> 0 | I9: =SUMIF(tblLoTTD[Name of Product],tblLoDTI[[#This Row],[Name of Drug]],tblLoTTD[Quantity issued]) -> 0
A10: 9 | B10: Atoxia | C10: Etoricoxib | D10: B742 | E10: 42705 | F10: 10 tab | G10: 10 | H10: =SUMPRODUCT((tblLoTTD[n.]=tblLoDTI[[#This Row],[n.]])*(tblLoTTD[issued to]="A")*(tblLoTTD[Quantity received])) -> 0 | I10: =SUMIF(tblLoTTD[Name of Product],tblLoDTI[[#This Row],[Name of Drug]],tblLoTTD[Quantity issued]) -> 0
A11: 10 | B11: Nurona | C11: Gabapentin | D11: 13284 | E11: 42125 | F11: 30 Cap | G11: 15 | H11: =SUMPRODUCT((tblLoTTD[n.]=tblLoDTI[[#This Row],[n.]])*(tblLoTTD[issued to]="A")*(tblLoTTD[Quantity received])) -> 0 | I11: =SUMIF(tblLoTTD[Name of Product],tblLoDTI[[#This Row],[Name of Drug]],tblLoTTD[Quantity issued]) -> 0
A12: 11 | B12: Gazix | C12: Simethicone | D12: 3353 | E12: 42186 | F12: 30 ml | G12: 9 | H12: =SUMPRODUCT((tblLoTTD[n.]=tblLoDTI[[#This Row],[n.]])*(tblLoTTD[issued to]="A")*(tblLoTTD[Quantity received])) -> 0 | I12: =SUMIF(tblLoTTD[Name of Product],tblLoDTI[[#This Row],[Name of Drug]],tblLoTTD[Quantity issued]) -> 0
A13: 12 | B13: Cefutil | C13: Cefuroxime (Axetil) | D13: 62541 | E13: 42675 | F13: 10 tab | G13: 15 | H13: =SUMPRODUCT((tblLoTTD[n.]=tblLoDTI[[#This Row],[n.]])*(tblLoTTD[issued to]="A")*(tblLoTTD[Quantity received])) -> 0 | I13: =SUMIF(tblLoTTD[Name of Product],tblLoDTI[[#This Row],[Name of Drug]],tblLoTTD[Quantity issued]) -> 0
A14: 13 | B14: Glymet | C14: Metformin HCl | D14: 13313 | E14: 42856 | F14: 30 tab | G14: 15 | H14: =SUMPRODUCT((tblLoTTD[n.]=tblLoDTI[[#This Row],[n.]])*(tblLoTTD[issued to]="A")*(tblLoTTD[Quantity received])) -> 0 | I14: =SUMIF(tblLoTTD[Name of Product],tblLoDTI[[#This Row],[Name of Drug]],tblLoTTD[Quantity issued]) -> 0
A15: 14 | B15: Zocin | C15: Azithromicine | D15: 3130605 | E15: 42522 | F15: 6 cap | G15: 15 | H15: =SUMPRODUCT((tblLoTTD[n.]=tblLoDTI[[#This Row],[n.]])*(tblLoTTD[issued to]="A")*(tblLoTTD[Quantity received])) -> 5 | I15: =SUMIF(tblLoTTD[Name of Product],tblLoDTI[[#This Row],[Name of Drug]],tblLoTTD[Quantity issued]) -> 79
A16: 15 | B16: Biopress | C16: Candesartan Cilexetil | D16: 356099 | E16: 42461 | F16: 28 tab | G16: 20 | H16: =SUMPRODUCT((tblLoTTD[n.]=tblLoDTI[[#This Row],[n.]])*(tblLoTTD[issued to]="A")*(tblLoTTD[Quantity received])) -> 0 | I16: =SUMIF(tblLoTTD[Name of Product],tblLoDTI[[#This Row],[Name of Drug]],tblLoTTD[Quantity issued]) -> 0
A17: 16 | B17: Simvatin | C17: Simvastatin | D17: 13422 | E17: 42583 | F17: 30 tab | G17: 20 | H17: =SUMPRODUCT((tblLoTTD[n.]=tblLoDTI[[#This Row],[n.]])*(tblLoTTD[issued to]="A")*(tblLoTTD[Quantity received])) -> 0 | I17: =SUMIF(tblLoTTD[Name of Product],tblLoDTI[[#This Row],[Name of Drug]],tblLoTTD[Quantity issued]) -> 0
A18: 17 | B18: Simvatin 40mg | C18: Simvastatin | D18: 13331 | E18: 42156 | F18: 30 tab | G18: 20 | H18: =SUMPRODUCT((tblLoTTD[n.]=tblLoDTI[[#This Row],[n.]])*(tblLoTTD[issued to]="A")*(tblLoTTD[Quantity received])) -> 0 | I18: =SUMIF(tblLoTTD[Name of Product],tblLoDTI[[#This Row],[Name of Drug]],tblLoTTD[Quantity issued]) -> 0
A19: 18 | B19: Debaday MR | C19: Gliclazide | D19: 13554 | E19: 42278 | F19: 30tab | G19: 15 | H19: =SUMPRODUCT((tblLoTTD[n.]=tblLoDTI[[#This Row],[n.]])*(tblLoTTD[issued to]="A")*(tblLoTTD[Quantity received])) -> 0 | I19: =SUMIF(tblLoTTD[Name of Product],tblLoDTI[[#This Row],[Name of Drug]],tblLoTTD[Quantity issued]) -> 0
A20: 19 | B20: Cipropharm | C20: Ciprofloxacin | D20: 13521 | E20: 43009 | F20: 10 tab | G20: 15 | H20: =SUMPRODUCT((tblLoTTD[n.]=tblLoDTI[[#This Row],[n.]])*(tblLoTTD[issued to]="A")*(tblLoTTD[Quantity received])) -> 0 | I20: =SUMIF(tblLoTTD[Name of Product],tblLoDTI[[#This Row],[Name of Drug]],tblLoTTD[Quantity issued]) -> 0
A21: 20 | B21: Plagin 75 mg | C21: Clopidogrel Bisulphate | D21: B144 | E21: 42095 | F21: 30tab | G21: 12 | H21: =SUMPRODUCT((tblLoTTD[n.]=tblLoDTI[[#This Row],[n.]])*(tblLoTTD[issued to]="A")*(tblLoTTD[Quantity received])) -> 0 | I21: =SUMIF(tblLoTTD[Name of Product],tblLoDTI[[#This Row],[Name of Drug]],tblLoTTD[Quantity issued]) -> 0
A22: 21 | B22: Clindasin 300mg | C22: Clindamycin HCl | D22: B905 | E22: 42278 | F22: 16 cap | G22: 12 | H22: =SUMPRODUCT((tblLoTTD[n.]=tblLoDTI[[#This Row],[n.]])*(tblLoTTD[issued to]="A")*(tblLoTTD[Quantity received])) -> 0 | I22: =SUMIF(tblLoTTD[Name of Product],tblLoDTI[[#This Row],[Name of Drug]],tblLoTTD[Quantity issued]) -> 0
A23: 22 | B23: Diostar | C23: Valsartan | D23: 13527 | E23: 42278 | F23: 30 tab | G23: 20 | H23: =SUMPRODUCT((tblLoTTD[n.]=tblLoDTI[[#This Row],[n.]])*(tblLoTTD[issued to]="A")*(tblLoTTD[Quantity received])) -> 0 | I23: =SUMIF(tblLoTTD[Name of Product],tblLoDTI[[#This Row],[Name of Drug]],tblLoTTD[Quantity issued]) -> 0
A24: 23 | B24: Cefix 100 mg/5ml | C24: Cefixime | D24: 63520 | E24: 42339 | F24: 30 ml | G24: 8 | H24: =SUMPRODUCT((tblLoTTD[n.]=tblLoDTI[[#This Row],[n.]])*(tblLoTTD[issued to]="A")*(tblLoTTD[Quantity received])) -> 0 | I24: =SUMIF(tblLoTTD[Name of Product],tblLoDTI[[#This Row],[Name of Drug]],tblLoTTD[Quantity issued]) -> 0
A25: 24 | B25: Tidilor | C25: Loratadine | D25: 3332 | E25: 42826 | F25: 100 ml | G25: 7 | H25: =SUMPRODUCT((tblLoTTD[n.]=tblLoDTI[[#This Row],[n.]])*(tblLoTTD[issued to]="A")*(tblLoTTD[Quantity received])) -> 0 | I25: =SUMIF(tblLoTTD[Name of Product],tblLoDTI[[#This Row],[Name of Drug]],tblLoTTD[Quantity issued]) -> 0
A26: 25 | B26: Adol (Children's suspension) | C26: Paracetamol 250 mg/5 ml | D26: 0024 | E26: 42705 | F26: 100 ml | G26: 7 | H26: =SUMPRODUCT((tblLoTTD[n.]=tblLoDTI[[#This Row],[n.]])*(tblLoTTD[issued to]="A")*(tblLoTTD[Quantity received])) -> 0 | I26: =SUMIF(tblLoTTD[Name of Product],tblLoDTI[[#This Row],[Name of Drug]],tblLoTTD[Quantity issued]) -> 0
A27: 26 | B27: Erocin | C27: Sterile ophtalmic ointment | D27: 192019 | E27: 42370 | F27: 5 gm | G27: 14 | H27: =SUMPRODUCT((tblLoTTD[n.]=tblLoDTI[[#This Row],[n.]])*(tblLoTTD[issued to]="A")*(tblLoTTD[Quantity received])) -> 0 | I27: =SUMIF(tblLoTTD[Name of Product],tblLoDTI[[#This Row],[Name of Drug]],tblLoTTD[Quantity issued]) -> 0
A28: 27 | B28: Tobracin | C28: Tobramycin, Sterile ophtalmic ointment | D28: 193041 | E28: 42309 | F28: 5 gm | G28: 47 | H28: =SUMPRODUCT((tblLoTTD[n.]=tblLoDTI[[#This Row],[n.]])*(tblLoTTD[issued to]="A")*(tblLoTTD[Quantity received])) -> 0 | I28: =SUMIF(tblLoTTD[Name of Product],tblLoDTI[[#This Row],[Name of Drug]],tblLoTTD[Quantity issued]) -> 0
A29: 28 | B29: Capocard 50 | C29: Captopril | D29: 125N | E29: 42461 | F29: 20 tab | G29: 19 | H29: =SUMPRODUCT((tblLoTTD[n.]=tblLoDTI[[#This Row],[n.]])*(tblLoTTD[issued to]="A")*(tblLoTTD[Quantity received])) -> 0 | I29: =SUMIF(tblLoTTD[Name of Product],tblLoDTI[[#This Row],[Name of Drug]],tblLoTTD[Quantity issued]) -> 0
A30: 29 | B30: Prokinin | C30: Domperidone suspension | D30: 4QJ082 | E30: 42767 | F30: 180 ml | G30: 40 | H30: =SUMPRODUCT((tblLoTTD[n.]=tblLoDTI[[#This Row],[n.]])*(tblLoTTD[issued to]="A")*(tblLoTTD[Quantity received])) -> 0 | I30: =SUMIF(tblLoTTD[Name of Product],tblLoDTI[[#This Row],[Name of Drug]],tblLoTTD[Quantity issued]) -> 0
A31: 30 | B31: Movicol | C31: Effective relief from constipation | D31: 194872 | E31: 42614 | F31: 20 sachets | G31: 10 | H31: =SUMPRODUCT((tblLoTTD[n.]=tblLoDTI[[#This Row],[n.]])*(tblLoTTD[issued to]="A")*(tblLoTTD[Quantity received])) -> 0 | I31: =SUMIF(tblLoTTD[Name of Product],tblLoDTI[[#This Row],[Name of Drug]],tblLoTTD[Quantity issued]) -> 0
A32: 31 | B32: Amoclan Bid | C32: Amoxicillin, Clavulanic acid | D32: 5127 | E32: 42614 | F32: 10 tab | G32: 7 | H32: =SUMPRODUCT((tblLoTTD[n.]=tblLoDTI[[#This Row],[n.]])*(tblLoTTD[issued to]="A")*(tblLoTTD[Quantity received])) -> 0 | I32: =SUMIF(tblLoTTD[Name of Product],tblLoDTI[[#This Row],[Name of Drug]],tblLoTTD[Quantity issued]) -> 0
A33: 32 | B33: Cofex | C33: Cough syrup | D33: G76 | E33: 42736 | F33: 150 ml | G33: 17 | H33: =SUMPRODUCT((tblLoTTD[n.]=tblLoDTI[[#This Row],[n.]])*(tblLoTTD[issued to]="A")*(tblLoTTD[Quantity received])) -> 0 | I33: =SUMIF(tblLoTTD[Name of Product],tblLoDTI[[#This Row],[Name of Drug]],tblLoTTD[Quantity issued]) -> 0
A34: 33 | B34: Purinol 100 | C34: Allopurinol | D34: 7658 | E34: 43405 | F34: 100 tab | G34: 19 | H34: =SUMPRODUCT((tblLoTTD[n.]=tblLoDTI[[#This Row],[n.]])*(tblLoTTD[issued to]="A")*(tblLoTTD[Quantity received])) -> 0 | I34: =SUMIF(tblLoTTD[Name of Product],tblLoDTI[[#This Row],[Name of Drug]],tblLoTTD[Quantity issued]) -> 0
A35: 34 | B35: Ultramox Forte | C35: Amoxicillin (as trihydrate) | D35: 4268 | E35: 42278 | F35: 20 cap | G35: 15 | H35: =SUMPRODUCT((tblLoTTD[n.]=tblLoDTI[[#This Row],[n.]])*(tblLoTTD[issued to]="A")*(tblLoTTD[Quantity received])) -> 0 | I35: =SUMIF(tblLoTTD[Name of Product],tblLoDTI[[#This Row],[Name of Drug]],tblLoTTD[Quantity issued]) -> 0
A36: 35 | B36: Amoclan Bid | C36: Amoxicillin, Clavulanic acid | D36: 4659 | E36: 42461 | F36: 30 tab | G36: 5 | H36: =SUMPRODUCT((tblLoTTD[n.]=tblLoDTI[[#This Row],[n.]])*(tblLoTTD[issued to]="A")*(tblLoTTD[Quantity received])) -> 0 | I36: =SUMIF(tblLoTTD[Name of Product],tblLoDTI[[#This Row],[Name of Drug]],tblLoTTD[Quantity issued]) -> 0
A37: 36 | B37: Glorion 6mg | C37: Glimepiride | D37: 4569 | E37: 42005 | F37: 30 tab | G37: 15 | H37: =SUMPRODUCT((tblLoTTD[n.]=tblLoDTI[[#This Row],[n.]])*(tblLoTTD[issued to]="A")*(tblLoTTD[Quantity received])) -> 0 | I37: =SUMIF(tblLoTTD[Name of Product],tblLoDTI[[#This Row],[Name of Drug]],tblLoTTD[Quantity issued]) -> 0
... A190: 189 | B190: Modrex 25 mg | C190: Hydrochlorothiazide | D190: B805 | E190: 42644 | F190: 20 tab | G190: 2 | H190: =SUMPRODUCT((tblLoTTD[n.]=tblLoDTI[[#This Row],[n.]])*(tblLoTTD[issued to]="A")*(tblLoTTD[Quantity received])) -> 0 | I190: =SUMIF(tblLoTTD[Name of Product],tblLoDTI[[#This Row],[Name of Drug]],tblLoTTD[Quantity issued]) -> 0
