Workbook

Sheet Sheet1
B1: Mechanical Engineer | Z1: Procurement
A2: Quote Number | B2: Projet number | C2: PROJECT DESCRIPTION | D2: CLIENT | E2: Beam line | F2: DATE OF REQUEST | G2: DELIVERY DATE WISHED | H2: Delvery date (Ordered) | I2: PROJECT COMPLETED ON | J2: Budget code | K2: Vac. Cleaning chamber | L2: Chamber bakeout | M2: Chamber Rga | N2: Chamber leaktest | O2: Inspection by third party | P2: Material certificates | Q2: 100% Inspection supplier | R2: UHV Mechanics cleaned | S2: UHV Mechanics bakeout | T2: UHV Mechanics Rga | U2: Assembly | V2: Wiring | W2: Functional testing required on site | X2: All invac. Screws silver coated | Y2: ESTIMATED PRICE (PROJECT MANAGER) | Z2: Bidders | AA2: Date of quotation | AB2: Order date | AC2: Supplier Country | AD2: Delivery time | AE2: alert dead line date | AF2: ACTUAL PRICE | AG2: NUMBER OF ORDERS PLACED | AH2: ESRF Order No. | AI2: Fraisage,tournage | AJ2: Erosion enfonçage, a file = EE ou EF | AK2: mecano-soudé | AL2: Découpe jet d'eau | AM2: Assemblage | AN2: COMMENTS | AO2: Percentage spent
B3: RFQ - 2804 | C3: Spacer for Girders | D3: T.Brochard | E3: storage ring | F3: 43385 | G3: 43146 | J3: 89CCFT | K3: No | L3: No | M3: No | N3: No | O3: No | P3: No | Q3: No | R3: No | S3: No | T3: No | U3: No | V3: No | W3: No | X3: No | Y3: 49000 | Z3: EML normandie | AA3: 43424 | AC3: FR | AE3: =IF($AD3="","",$AD3-7) | AI3: No | AJ3: No | AK3: No | AL3: Yes | AM3: No | AN3: Spacers for girders dwg no. 88.60.0307 & 88.61.0308
B4: RFQ - 2804 | C4: Spacer for Girders | D4: T.Brochard | E4: storage ring | F4: 43385 | G4: 43146 | J4: 89CCFT | K4: No | L4: No | M4: No | N4: No | O4: No | P4: No | Q4: No | R4: No | S4: No | T4: No | U4: No | V4: No | W4: No | X4: No | Y4: 49000 | Z4: Deville Rectification | AA4: 43424 | AC4: FR | AE4: =IF($AD4="","",$AD4-7) | AI4: No | AJ4: No | AK4: No | AL4: Yes | AM4: No | AN4: Spacers for girders dwg no. 88.60.0307 & 88.61.0308
B5: RFQ - 2804 | C5: Spacer for Girders | D5: T.Brochard | E5: storage ring | F5: 43385 | G5: 43146 | J5: 89CCFT | K5: No | L5: No | M5: No | N5: No | O5: No | P5: No | Q5: No | R5: No | S5: No | T5: No | U5: No | V5: No | W5: No | X5: No | Y5: 49000 | Z5: Allier Decoupe+ | AA5: 43424 | AC5: FR | AE5: =IF($AD5="","",$AD5-7) | AI5: No | AJ5: No | AK5: No | AL5: Yes | AM5: No | AN5: Spacers for girders dwg no. 88.60.0307 & 88.61.0308
B6: RFQ - 2804 | C6: Spacer for Girders | D6: T.Brochard | E6: storage ring | F6: 43385 | G6: 43146 | J6: 89CCFT | K6: No | L6: No | M6: No | N6: No | O6: No | P6: No | Q6: No | R6: No | S6: No | T6: No | U6: No | V6: No | W6: No | X6: No | Y6: 49000 | Z6: Ranoldsway aircraft company Ltd | AA6: 43424 | AC6: GB | AE6: =IF($AD6="","",$AD6-7) | AI6: No | AJ6: No | AK6: No | AL6: Yes | AM6: No | AN6: Spacers for girders dwg no. 88.60.0307 & 88.61.0308
B7: RFQ - 2804 | C7: Spacer for Girders | D7: T.Brochard | E7: storage ring | F7: 43385 | G7: 43146 | J7: 89CCFT | K7: No | L7: No | M7: No | N7: No | O7: No | P7: No | Q7: No | R7: No | S7: No | T7: No | U7: No | V7: No | W7: No | X7: No | Y7: 49000 | Z7: Lucassen | AA7: 43424 | AC7: NL | AE7: =IF($AD7="","",$AD7-7) | AI7: No | AJ7: No | AK7: No | AL7: Yes | AM7: No | AN7: Spacers for girders dwg no. 88.60.0307 & 88.61.0308
B8: RFQ - 2804 | C8: Fixed block | D8: T.Brochard | E8: storage ring | F8: 43385 | G8: 43146 | J8: 89CCFT | K8: No | L8: No | M8: No | N8: No | O8: No | P8: No | Q8: No | R8: No | S8: No | T8: No | U8: No | V8: No | W8: No | X8: No | Y8: 800 | Z8: OMG Fontanil | AA8: 43427 | AC8: FR | AE8: =IF($AD8="","",$AD8-7) | AF8: 840 | AI8: Yes | AJ8: No | AK8: No | AL8: No | AM8: No | AN8: 88.61.0303
B9: RFQ - 2804 | C9: Fixed block | D9: T.Brochard | E9: storage ring | F9: 43385 | G9: 43146 | J9: 89CCFT | K9: No | L9: No | M9: No | N9: No | O9: No | P9: No | Q9: No | R9: No | S9: No | T9: No | U9: No | V9: No | W9: No | X9: No | Y9: 800 | Z9: Atelier du Fontanil | AA9: 43427 | AC9: FR | AE9: =IF($AD9="","",$AD9-7) | AF9: 747 | AG9: 1 | AI9: Yes | AJ9: No | AK9: No | AL9: No | AM9: No | AN9: 88.61.0303
B10: RFQ - 2804 | C10: Fixed block | D10: T.Brochard | E10: storage ring | F10: 43385 | G10: 43146 | J10: 89CCFT | K10: No | L10: No | M10: No | N10: No | O10: No | P10: No | Q10: No | R10: No | S10: No | T10: No | U10: No | V10: No | W10: No | X10: No | Y10: 800 | Z10: Atelier Peyronnard | AA10: 43427 | AC10: ES | AE10: =IF($AD10="","",$AD10-7) | AF10: 730 | AG10: 0 | AI10: Yes | AJ10: No | AK10: No | AL10: No | AM10: No | AN10: 88.61.0303
B11: RFQ - 2804 | C11: Adjusting block | D11: T.Brochard | E11: storage ring | F11: 43385 | G11: 43146 | J11: 89CCFT | K11: No | L11: No | M11: No | N11: No | O11: No | P11: No | Q11: No | R11: No | S11: No | T11: No | U11: No | V11: No | W11: No | X11: No | Y11: 1500 | Z11: OMG Fontanil | AA11: 43427 | AC11: FR | AE11: =IF($AD11="","",$AD11-7) | AF11: 1200 | AG11: 1 | AI11: Yes | AJ11: No | AK11: No | AL11: No | AM11: No | AN11: 88.61.0177
B12: RFQ - 2804 | C12: Adjusting block | D12: T.Brochard | E12: storage ring | F12: 43385 | G12: 43146 | J12: 89CCFT | K12: No | L12: No | M12: No | N12: No | O12: No | P12: No | Q12: No | R12: No | S12: No | T12: No | U12: No | V12: No | W12: No | X12: No | Y12: 1500 | Z12: Atelier du Fontanil | AA12: 43427 | AC12: BS | AE12: =IF($AD12="","",$AD12-7) | AF12: 441 | AG12: 1 | AI12: Yes | AJ12: No | AK12: No | AL12: No | AM12: No | AN12: 88.61.0177
B13: RFQ - 2804 | C13: Adjusting block | D13: T.Brochard | E13: storage ring | F13: 43385 | G13: 43146 | J13: 89CCFT | K13: No | L13: No | M13: No | N13: No | O13: No | P13: No | Q13: No | R13: No | S13: No | T13: No | U13: No | V13: No | W13: No | X13: No | Y13: 1500 | Z13: Atelier Peyronnard | AA13: 43427 | AC13: FR | AE13: =IF($AD13="","",$AD13-7) | AF13: 730 | AG13: 0 | AI13: Yes | AJ13: No | AK13: No | AL13: No | AM13: No | AN13: 88.61.0177
A14: 18-0000 | B14: TL2 Floor plates | C14: TL2 Floor plates | D14: T.Mairs | E14: storage ring | F14: 43382 | G14: 43454 | J14: ZM0130 | K14: No | L14: No | M14: No | N14: No | O14: No | P14: No | Q14: No | R14: No | S14: No | T14: No | U14: No | V14: No | W14: No | X14: No | Y14: 5000 | Z14: OMG Fontanil | AA14: 43420 | AC14: DE | AE14: =IF($AD14="","",$AD14-7) | AF14: 7659 | AG14: 1 | AI14: Yes | AJ14: No | AK14: No | AL14: No | AM14: Yes | AN14: TL2 Floor plates
B15: TL2 Floor plates | C15: TL2 Floor plates | D15: T.Mairs | E15: storage ring | F15: 43382 | G15: 43454 | J15: ZM0130 | K15: No | L15: No | M15: No | N15: No | O15: No | P15: No | Q15: No | R15: No | S15: No | T15: No | U15: No | V15: No | W15: No | X15: No | Y15: 5000 | Z15: SMGOP Mecanique general | AA15: 43420 | AC15: FR | AE15: =IF($AD15="","",$AD15-7) | AF15: 6000 | AG15: 0 | AI15: Yes | AJ15: No | AK15: No | AL15: No | AM15: Yes | AN15: TL2 Floor plates
B16: TL2 Floor plates | C16: TL2 Floor plates | D16: T.Mairs | E16: storage ring | F16: 43382 | G16: 43454 | H16: 43476 | J16: ZM0130 | K16: No | L16: No | M16: No | N16: No | O16: No | P16: No | Q16: No | R16: No | S16: No | T16: No | U16: No | V16: No | W16: No | X16: No | Y16: 5000 | Z16: SCM Technology SRL | AA16: 43420 | AB16: 43427 | AC16: IT | AD16: 43476 | AE16: =IF($AD16="","",$AD16-7) -> 43469 | AF16: 4137.73 | AG16: 1 | AH16: 71720 | AI16: Yes | AJ16: No | AK16: No | AL16: No | AM16: Yes | AN16: TL2 Floor plates
A17: 18-0001 | B17: 6-Gev Transfer Line 2 | C17: 6-Gev Transfer Line 2 | D17: B.Ogier | E17: Extraction booster | F17: 43426 | G17: 43118 | K17: No | L17: No | M17: No | N17: No | O17: No | P17: No | Q17: No | R17: No | S17: No | T17: No | U17: No | V17: No | W17: No | X17: No | Y17: 3000 | Z17: AJBS | AA17: 43431 | AC17: FR | AE17: =IF($AD17="","",$AD17-7) | AI17: Yes | AJ17: No | AK17: Yes | AL17: No | AM17: Yes
B18: 6-Gev Transfer Line 2 | C18: 6-Gev Transfer Line 2 | D18: B.Ogier | E18: Extraction booster | F18: 43426 | G18: 43118 | K18: No | L18: No | M18: No | N18: No | O18: No | P18: No | Q18: No | R18: No | S18: No | T18: No | U18: No | V18: No | W18: No | X18: No | Y18: 3000 | Z18: SCM Technology SRL | AA18: 43431 | AC18: IT | AE18: =IF($AD18="","",$AD18-7) | AI18: Yes | AJ18: No | AK18: Yes | AL18: No | AM18: Yes
B19: 6-Gev Transfer Line 2 | C19: 6-Gev Transfer Line 2 | D19: B.Ogier | E19: Extraction booster | F19: 43426 | G19: 43118 | K19: No | L19: No | M19: No | N19: No | O19: No | P19: No | Q19: No | R19: No | S19: No | T19: No | U19: No | V19: No | W19: No | X19: No | Y19: 3000 | Z19: Proactive | AA19: 43431 | AC19: ES | AE19: =IF($AD19="","",$AD19-7) | AI19: Yes | AJ19: No | AK19: Yes | AL19: No | AM19: Yes
B20: 6-Gev Transfer Line 2 | C20: 6-Gev Transfer Line 2 | D20: B.Ogier | E20: Extraction booster | F20: 43426 | G20: 43118 | K20: No | L20: No | M20: No | N20: No | O20: No | P20: No | Q20: No | R20: No | S20: No | T20: No | U20: No | V20: No | W20: No | X20: No | Y20: 3000 | Z20: Nortemecanica | AA20: 43431 | AC20: ES | AE20: =IF($AD20="","",$AD20-7) | AF20: 3950 | AG20: 1 | AI20: Yes | AJ20: No | AK20: Yes | AL20: No | AM20: Yes
A21: 18-0002 | B21: Support Wiggler | C21: Support Wiggler | D21: F.Villar | E21: storage ring | F21: 43430 | G21: 43497 | K21: No | L21: No | M21: No | N21: No | O21: No | P21: No | Q21: No | R21: No | S21: No | T21: No | U21: No | V21: No | W21: No | X21: No | Y21: 900 | Z21: SMGOP Mecanique general | AA21: 43434 | AC21: FR | AE21: =IF($AD21="","",$AD21-7) | AI21: Yes | AJ21: No | AK21: No | AL21: No | AM21: Yes
B22: Support Wiggler | C22: Support Wiggler | D22: F.Villar | E22: storage ring | F22: 43430 | G22: 43497 | K22: No | L22: No | M22: No | N22: No | O22: No | P22: No | Q22: No | R22: No | S22: No | T22: No | U22: No | V22: No | W22: No | X22: No | Y22: 900 | Z22: Atelier Peyronnard | AA22: 43434 | AC22: FR | AE22: =IF($AD22="","",$AD22-7) | AI22: Yes | AJ22: No | AK22: No | AL22: No | AM22: Yes
B23: Support Wiggler | C23: Support Wiggler | D23: F.Villar | E23: storage ring | F23: 43430 | G23: 43497 | K23: No | L23: No | M23: No | N23: No | O23: No | P23: No | Q23: No | R23: No | S23: No | T23: No | U23: No | V23: No | W23: No | X23: No | Y23: 900 | Z23: OMG Fontanil | AA23: 43434 | AC23: FR | AE23: =IF($AD23="","",$AD23-7) | AI23: Yes | AJ23: No | AK23: No | AL23: No | AM23: Yes
B24: Support Wiggler | C24: Support Wiggler | D24: F.Villar | E24: storage ring | F24: 43430 | G24: 43497 | K24: No | L24: No | M24: No | N24: No | O24: No | P24: No | Q24: No | R24: No | S24: No | T24: No | U24: No | V24: No | W24: No | X24: No | Y24: 900 | Z24: ljindustrie | AA24: 43434 | AC24: FR | AE24: =IF($AD24="","",$AD24-7) | AI24: Yes | AJ24: No | AK24: No | AL24: No | AM24: Yes
A25: 18-0003 | B25: Scooter | C25: Scooter | D25: L.Goirand | E25: storage ring | F25: 43431 | K25: No | L25: No | M25: No | N25: No | O25: No | P25: No | Q25: No | R25: No | S25: No | T25: No | U25: No | V25: No | W25: No | X25: No | Y25: 5000 | Z25: Atelier du Fontanil | AA25: 43434 | AC25: FR | AE25: =IF($AD25="","",$AD25-7) | AI25: Yes | AJ25: No | AK25: Yes | AL25: No | AM25: Yes
B26: Scooter | C26: Scooter | D26: L.Goirand | E26: storage ring | F26: 43431 | K26: No | L26: No | M26: No | N26: No | O26: No | P26: No | Q26: No | R26: No | S26: No | T26: No | U26: No | V26: No | W26: No | X26: No | Y26: 5000 | Z26: Satil | AA26: 43434 | AC26: FR | AE26: =IF($AD26="","",$AD26-7) | AI26: Yes | AJ26: No | AK26: Yes | AL26: No | AM26: Yes
B27: Scooter | C27: Scooter | D27: L.Goirand | E27: storage ring | F27: 43431 | K27: No | L27: No | M27: No | N27: No | O27: No | P27: No | Q27: No | R27: No | S27: No | T27: No | U27: No | V27: No | W27: No | X27: No | Y27: 5000 | Z27: SMGOP Mecanique general | AA27: 43434 | AC27: FR | AE27: =IF($AD27="","",$AD27-7) | AI27: Yes | AJ27: No | AK27: Yes | AL27: No | AM27: Yes
A28: 18-0004 | B28: Kicker general assembly | C28: Kicker general assembly | D28: F.Villar | E28: storage ring | F28: 43430 | G28: 43205 | K28: No | L28: No | M28: No | N28: No | O28: No | P28: No | Q28: No | R28: No | S28: No | T28: No | U28: No | V28: No | W28: No | X28: No | Y28: 2000 | Z28: SMGOP Mecanique general | AA28: 43434 | AC28: FR | AE28: =IF($AD28="","",$AD28-7) | AI28: Yes | AJ28: No | AK28: No | AL28: No | AM28: Yes
A29: 18-0004 | B29: Kicker general assembly | C29: Kicker general assembly | D29: F.Villar | E29: storage ring | F29: 43430 | G29: 43205 | K29: No | L29: No | M29: No | N29: No | O29: No | P29: No | Q29: No | R29: No | S29: No | T29: No | U29: No | V29: No | W29: No | X29: No | Y29: 2000 | Z29: OMG Fontanil | AA29: 43434 | AC29: FR | AE29: =IF($AD29="","",$AD29-7) | AI29: Yes | AJ29: No | AK29: No | AL29: No | AM29: Yes
A30: 18-0004 | B30: Kicker general assembly | C30: Kicker general assembly | D30: F.Villar | E30: storage ring | F30: 43430 | G30: 43205 | K30: No | L30: No | M30: No | N30: No | O30: No | P30: No | Q30: No | R30: No | S30: No | T30: No | U30: No | V30: No | W30: No | X30: No | Y30: 2000 | Z30: Nortemecanica | AA30: 43434 | AC30: ES | AE30: =IF($AD30="","",$AD30-7) | AI30: Yes | AJ30: No | AK30: No | AL30: No | AM30: Yes
A31: 18-0004 | B31: Kicker general assembly | C31: Kicker general assembly | D31: F.Villar | E31: storage ring | F31: 43430 | G31: 43205 | K31: No | L31: No | M31: No | N31: No | O31: No | P31: No | Q31: No | R31: No | S31: No | T31: No | U31: No | V31: No | W31: No | X31: No | Y31: 2000 | Z31: ljindustrie | AA31: 43434 | AC31: FR | AE31: =IF($AD31="","",$AD31-7) | AI31: Yes | AJ31: No | AK31: No | AL31: No | AM31: Yes
A32: 18-0004 | B32: Kicker general assembly | C32: Kicker general assembly | D32: F.Villar | E32: storage ring | F32: 43430 | G32: 43205 | K32: No | L32: No | M32: No | N32: No | O32: No | P32: No | Q32: No | R32: No | S32: No | T32: No | U32: No | V32: No | W32: No | X32: No | Y32: 1000 | Z32: Isotac | AA32: 43434 | AC32: FR | AE32: =IF($AD32="","",$AD32-7) | AI32: Yes | AJ32: No | AK32: No | AL32: No | AM32: Yes | AN32: Résine FR4
A33: 18-0005 | B33: Granit Assy | C33: Granit Assy | D33: F.Cianciosi | E33: ID19 | F33: 43431 | K33: No | L33: No | M33: No | N33: No | O33: No | P33: No | Q33: No | R33: No | S33: No | T33: No | U33: No | V33: No | W33: No | X33: No | Y33: 1500 | Z33: SCM Technology SRL | AA33: 43434 | AC33: IT | AE33: =IF($AD33="","",$AD33-7) | AI33: Yes | AJ33: No | AK33: No | AL33: No | AM33: No
A34: 18-0005 | B34: Granit Assy | C34: Granit Assy | D34: F.Cianciosi | E34: ID19 | F34: 43431 | K34: No | L34: No | M34: No | N34: No | O34: No | P34: No | Q34: No | R34: No | S34: No | T34: No | U34: No | V34: No | W34: No | X34: No | Y34: 1500 | Z34: Satil | AA34: 43434 | AC34: FR | AE34: =IF($AD34="","",$AD34-7) | AI34: Yes | AJ34: No | AK34: No | AL34: No | AM34: No

Sheet Sheet3
A2: FR | B2: DE | C2: IT | D2: UK | E2: RU | F2: BS | G2: NS | H2: ES | I2: CH | J2: IL | K2: AT | L2: CS | M2: PL | N2: PT | O2: IN | P2: ZA
A3: =Sheet1!AF9 -> 747 | B3: =Sheet1!AF14 -> 7659 | C3: =Sheet1!AF16 -> 4137.73 | H3: =Sheet1!AF20 -> 3950
A4: =Sheet1!AF11 -> 1200
B8: NUMBER OF ORDERS PLACED | C8: 1
C10: Supplier Country
C11: BS | D11: DE | E11: ES | F11: FR | G11: GB | H11: IT | I11: NL | J11: Total général
B12: Σ ACTUAL PRICE | C12: 441 | D12: 7659 | E12: 3950 | F12: 1947 | H12: 4137.73 | J12: 18134.73

Sheet Sheet2
A1: -
A2: Yes
A3: No
