Workbook
Name Indicateur_Pourcent: 'Suivi de projet'!$D$2

Sheet Suivi de projet
B1: Suivi de projet
C2: Pourcentage d’excédent / de déficit à signaler : | D2: 0.25
B4: Projet | C4: Catégorie | D4: Tâches | E4: Affecté à | F4: Estimé Début | G4: Estimé Fin | H4: Travail estimé (en heures) | I4: Durée estimée (en jours) | J4: Réel Début | K4: Réel Fin | L4: Icône indicateur pour le travail réel excédentaire/déficitaire (en heures) | M4: Travail réel (en heures) | N4: Icône indicateur pour la durée réelle excédentaire/déficitaire (en jour) | O4: Durée réelle (en jours) | P4: Notes
B5: Projet 1 | C5: Prêts | E5: Johanne Jacques | F5: =TODAY()-65 -> 43633 | G5: =TODAY()-5 -> 43693 | H5: 210 | I5: =IF(COUNTA('Suivi de projet'!$F5,'Suivi de projet'!$G5)<>2,"",DAYS360('Suivi de projet'!$F5,'Suivi de projet'!$G5,FALSE)) -> 59 | J5: =TODAY()-65 -> 43633 | K5: =TODAY() -> 43698 | L5: =IFERROR(IF(T_Suivi_Projet[[#This Row],[Travail réel (en heures)]]=0,"",IF(ABS((T_Suivi_Projet[[#This Row],[Travail réel (en heures)]]-T_Suivi_Projet[[#This Row],[Travail estimé (en heures)]])/T_Suivi_Projet[[#This Row],[Travail estimé (en heures)]])>Indicateur_Pourcent,1,0)),"") -> 1 | M5: 300 | N5: =IFERROR(IF(T_Suivi_Projet[[#This Row],[Durée réelle (en jours)]]=0,"",IF(ABS((T_Suivi_Projet[[#This Row],[Durée réelle (en jours)]]-T_Suivi_Projet[[#This Row],[Durée estimée (en jours)]])/T_Suivi_Projet[[#This Row],[Durée estimée (en jours)]])>Indicateur_Pourcent,1,0)),"") -> 0 | O5: =IF(COUNTA('Suivi de projet'!$J5,'Suivi de projet'!$K5)<>2,"",DAYS360('Suivi de projet'!$J5,'Suivi de projet'!$K5,FALSE)) -> 64
B6: Projet 4 | C6: Gestion conseil | E6: Linda Roy | F6: =TODAY()-90 -> 43608 | G6: =TODAY()-80 -> 43618 | H6: 250 | I6: =IF(COUNTA('Suivi de projet'!$F8,'Suivi de projet'!$G8)<>2,"",DAYS360('Suivi de projet'!$F8,'Suivi de projet'!$G8,FALSE)) -> 39 | J6: =TODAY()-90 -> 43608 | K6: =TODAY()-71 -> 43627 | L6: =IFERROR(IF(T_Suivi_Projet[[#This Row],[Travail réel (en heures)]]=0,"",IF(ABS((T_Suivi_Projet[[#This Row],[Travail réel (en heures)]]-T_Suivi_Projet[[#This Row],[Travail estimé (en heures)]])/T_Suivi_Projet[[#This Row],[Travail estimé (en heures)]])>Indicateur_Pourcent,1,0)),"") -> 0 | M6: 276 | N6: =IFERROR(IF(T_Suivi_Projet[[#This Row],[Durée réelle (en jours)]]=0,"",IF(ABS((T_Suivi_Projet[[#This Row],[Durée réelle (en jours)]]-T_Suivi_Projet[[#This Row],[Durée estimée (en jours)]])/T_Suivi_Projet[[#This Row],[Durée estimée (en jours)]])>Indicateur_Pourcent,1,0)),"") -> 0 | O6: =IF(COUNTA('Suivi de projet'!$J8,'Suivi de projet'!$K8)<>2,"",DAYS360('Suivi de projet'!$J8,'Suivi de projet'!$K8,FALSE)) -> 45
B7: Projet 8 | C7: Gestion conseil | E7: David Longchamps | F7: =TODAY()-39 -> 43659 | G7: =TODAY() -> 43698 | H7: 450 | I7: =IF(COUNTA('Suivi de projet'!$F12,'Suivi de projet'!$G12)<>2,"",DAYS360('Suivi de projet'!$F12,'Suivi de projet'!$G12,FALSE)) -> 59 | J7: =TODAY()-45 -> 43653 | K7: =TODAY()-5 -> 43693 | L7: =IFERROR(IF(T_Suivi_Projet[[#This Row],[Travail réel (en heures)]]=0,"",IF(ABS((T_Suivi_Projet[[#This Row],[Travail réel (en heures)]]-T_Suivi_Projet[[#This Row],[Travail estimé (en heures)]])/T_Suivi_Projet[[#This Row],[Travail estimé (en heures)]])>Indicateur_Pourcent,1,0)),"") -> 0 | M7: 430 | N7: =IFERROR(IF(T_Suivi_Projet[[#This Row],[Durée réelle (en jours)]]=0,"",IF(ABS((T_Suivi_Projet[[#This Row],[Durée réelle (en jours)]]-T_Suivi_Projet[[#This Row],[Durée estimée (en jours)]])/T_Suivi_Projet[[#This Row],[Durée estimée (en jours)]])>Indicateur_Pourcent,1,0)),"") -> 0 | O7: =IF(COUNTA('Suivi de projet'!$J12,'Suivi de projet'!$K12)<>2,"",DAYS360('Suivi de projet'!$J12,'Suivi de projet'!$K12,FALSE)) -> 72
B8: Projet 5 | C8: Administration | E8: Johanne Jacques | F8: =TODAY()-90 -> 43608 | G8: =TODAY()-50 -> 43648 | H8: 300 | I8: =IF(COUNTA('Suivi de projet'!$F9,'Suivi de projet'!$G9)<>2,"",DAYS360('Suivi de projet'!$F9,'Suivi de projet'!$G9,FALSE)) -> 10 | J8: =TODAY()-90 -> 43608 | K8: =TODAY()-44 -> 43654 | L8: =IFERROR(IF(T_Suivi_Projet[[#This Row],[Travail réel (en heures)]]=0,"",IF(ABS((T_Suivi_Projet[[#This Row],[Travail réel (en heures)]]-T_Suivi_Projet[[#This Row],[Travail estimé (en heures)]])/T_Suivi_Projet[[#This Row],[Travail estimé (en heures)]])>Indicateur_Pourcent,1,0)),"") -> 0 | M8: 310 | N8: =IFERROR(IF(T_Suivi_Projet[[#This Row],[Durée réelle (en jours)]]=0,"",IF(ABS((T_Suivi_Projet[[#This Row],[Durée réelle (en jours)]]-T_Suivi_Projet[[#This Row],[Durée estimée (en jours)]])/T_Suivi_Projet[[#This Row],[Durée estimée (en jours)]])>Indicateur_Pourcent,1,0)),"") -> 1 | O8: =IF(COUNTA('Suivi de projet'!$J9,'Suivi de projet'!$K9)<>2,"",DAYS360('Suivi de projet'!$J9,'Suivi de projet'!$K9,FALSE)) -> 15
B9: Projet 6 | C9: Gestion conseil | E9: David Longchamps | F9: =TODAY()-60 -> 43638 | G9: =TODAY()-50 -> 43648 | H9: 500 | I9: =IF(COUNTA('Suivi de projet'!$F10,'Suivi de projet'!$G10)<>2,"",DAYS360('Suivi de projet'!$F10,'Suivi de projet'!$G10,FALSE)) -> 124 | J9: =TODAY()-60 -> 43638 | K9: =TODAY()-45 -> 43653 | L9: =IFERROR(IF(T_Suivi_Projet[[#This Row],[Travail réel (en heures)]]=0,"",IF(ABS((T_Suivi_Projet[[#This Row],[Travail réel (en heures)]]-T_Suivi_Projet[[#This Row],[Travail estimé (en heures)]])/T_Suivi_Projet[[#This Row],[Travail estimé (en heures)]])>Indicateur_Pourcent,1,0)),"") -> 0 | M9: 510 | N9: =IFERROR(IF(T_Suivi_Projet[[#This Row],[Durée réelle (en jours)]]=0,"",IF(ABS((T_Suivi_Projet[[#This Row],[Durée réelle (en jours)]]-T_Suivi_Projet[[#This Row],[Durée estimée (en jours)]])/T_Suivi_Projet[[#This Row],[Durée estimée (en jours)]])>Indicateur_Pourcent,1,0)),"") -> 1 | O9: =IF(COUNTA('Suivi de projet'!$J10,'Suivi de projet'!$K10)<>2,"",DAYS360('Suivi de projet'!$J10,'Suivi de projet'!$K10,FALSE)) -> 60
B10: projet 9 | C10: Prospection | E10: Johanne Jacques | F10: 42405 | G10: 42530 | H10: 250 | I10: =IF(COUNTA('Suivi de projet'!$F13,'Suivi de projet'!$G13)<>2,"",DAYS360('Suivi de projet'!$F13,'Suivi de projet'!$G13,FALSE)) -> 30 | J10: 42434 | K10: 42495 | L10: =IFERROR(IF(T_Suivi_Projet[[#This Row],[Travail réel (en heures)]]=0,"",IF(ABS((T_Suivi_Projet[[#This Row],[Travail réel (en heures)]]-T_Suivi_Projet[[#This Row],[Travail estimé (en heures)]])/T_Suivi_Projet[[#This Row],[Travail estimé (en heures)]])>Indicateur_Pourcent,1,0)),"") -> 0 | M10: 200 | N10: =IFERROR(IF(T_Suivi_Projet[[#This Row],[Durée réelle (en jours)]]=0,"",IF(ABS((T_Suivi_Projet[[#This Row],[Durée réelle (en jours)]]-T_Suivi_Projet[[#This Row],[Durée estimée (en jours)]])/T_Suivi_Projet[[#This Row],[Durée estimée (en jours)]])>Indicateur_Pourcent,1,0)),"") -> 0 | O10: =IF(COUNTA('Suivi de projet'!$J13,'Suivi de projet'!$K13)<>2,"",DAYS360('Suivi de projet'!$J13,'Suivi de projet'!$K13,FALSE)) -> 33
B11: Projet 7 | C11: Prospection | E11: Linda Roy | F11: =TODAY()-44 -> 43654 | G11: =TODAY()-20 -> 43678 | H11: 750 | I11: =IF(COUNTA('Suivi de projet'!$F11,'Suivi de projet'!$G11)<>2,"",DAYS360('Suivi de projet'!$F11,'Suivi de projet'!$G11,FALSE)) -> 23 | J11: =TODAY()-44 -> 43654 | K11: =TODAY()-15 -> 43683 | L11: =IFERROR(IF(T_Suivi_Projet[[#This Row],[Travail réel (en heures)]]=0,"",IF(ABS((T_Suivi_Projet[[#This Row],[Travail réel (en heures)]]-T_Suivi_Projet[[#This Row],[Travail estimé (en heures)]])/T_Suivi_Projet[[#This Row],[Travail estimé (en heures)]])>Indicateur_Pourcent,1,0)),"") -> 0 | M11: 790 | N11: =IFERROR(IF(T_Suivi_Projet[[#This Row],[Durée réelle (en jours)]]=0,"",IF(ABS((T_Suivi_Projet[[#This Row],[Durée réelle (en jours)]]-T_Suivi_Projet[[#This Row],[Durée estimée (en jours)]])/T_Suivi_Projet[[#This Row],[Durée estimée (en jours)]])>Indicateur_Pourcent,1,0)),"") -> 0 | O11: =IF(COUNTA('Suivi de projet'!$J11,'Suivi de projet'!$K11)<>2,"",DAYS360('Suivi de projet'!$J11,'Suivi de projet'!$K11,FALSE)) -> 28
B12: Projet 3 | C12: Développement local | E12: Johanne Jacques | F12: =TODAY()-100 -> 43598 | G12: =TODAY()-40 -> 43658 | H12: 500 | I12: =IF(COUNTA('Suivi de projet'!$F7,'Suivi de projet'!$G7)<>2,"",DAYS360('Suivi de projet'!$F7,'Suivi de projet'!$G7,FALSE)) -> 38 | J12: =TODAY()-100 -> 43598 | K12: =TODAY()-27 -> 43671 | L12: =IFERROR(IF(T_Suivi_Projet[[#This Row],[Travail réel (en heures)]]=0,"",IF(ABS((T_Suivi_Projet[[#This Row],[Travail réel (en heures)]]-T_Suivi_Projet[[#This Row],[Travail estimé (en heures)]])/T_Suivi_Projet[[#This Row],[Travail estimé (en heures)]])>Indicateur_Pourcent,1,0)),"") -> 0 | M12: 500 | N12: =IFERROR(IF(T_Suivi_Projet[[#This Row],[Durée réelle (en jours)]]=0,"",IF(ABS((T_Suivi_Projet[[#This Row],[Durée réelle (en jours)]]-T_Suivi_Projet[[#This Row],[Durée estimée (en jours)]])/T_Suivi_Projet[[#This Row],[Durée estimée (en jours)]])>Indicateur_Pourcent,1,0)),"") -> 0 | O12: =IF(COUNTA('Suivi de projet'!$J7,'Suivi de projet'!$K7)<>2,"",DAYS360('Suivi de projet'!$J7,'Suivi de projet'!$K7,FALSE)) -> 39
B13: Projet 2 | C13: Stratégie jeunesse | E13: David Longchamps | F13: =TODAY()-41 -> 43657 | G13: =TODAY()-10 -> 43688 | H13: 400 | I13: =IF(COUNTA('Suivi de projet'!$F6,'Suivi de projet'!$G6)<>2,"",DAYS360('Suivi de projet'!$F6,'Suivi de projet'!$G6,FALSE)) -> 9 | J13: =TODAY()-41 -> 43657 | K13: =TODAY()-7 -> 43691 | L13: =IFERROR(IF(T_Suivi_Projet[[#This Row],[Travail réel (en heures)]]=0,"",IF(ABS((T_Suivi_Projet[[#This Row],[Travail réel (en heures)]]-T_Suivi_Projet[[#This Row],[Travail estimé (en heures)]])/T_Suivi_Projet[[#This Row],[Travail estimé (en heures)]])>Indicateur_Pourcent,1,0)),"") -> 0 | M13: 390 | N13: =IFERROR(IF(T_Suivi_Projet[[#This Row],[Durée réelle (en jours)]]=0,"",IF(ABS((T_Suivi_Projet[[#This Row],[Durée réelle (en jours)]]-T_Suivi_Projet[[#This Row],[Durée estimée (en jours)]])/T_Suivi_Projet[[#This Row],[Durée estimée (en jours)]])>Indicateur_Pourcent,1,0)),"") -> 1 | O13: =IF(COUNTA('Suivi de projet'!$J6,'Suivi de projet'!$K6)<>2,"",DAYS360('Suivi de projet'!$J6,'Suivi de projet'!$K6,FALSE)) -> 18

Sheet Installation
B1: Installation
B4: Catégorie | D4: Prêts | F4: Prospection | H4: Gestion conseil | J4: Administration | L4: Mandat extraordinaire | N4: Stratégie jeunesse | P4: Développement local | S4: Nom de l’employé
B5: Prêts | D5: Rencontre client | F5: Préparation | H5: Rencontre client | J5: Comptabilité | N5: Rencontre client | P5: Rencontre | S5: Johanne Jacques
B6: Prospection | D6: Analyse de dossier | F6: Contact téléphonique | H6: Suivi | J6: Conseil d'administration | N6: Analyse de dossier | P6: Communication | S6: David Longchamps
B7: Gestion conseil | D7: Correspondance avec le client | F7: Rencontre client | J7: Renouvellement taux | N7: Correspondance avec le client | P7: Implication communautaire | S7: Linda Roy
B8: Administration | D8: Communication tiers | J8: Suvi de prêts | N8: Communication tiers | P8: Organisation événement
B9: Mandat extraordinaire | D9: Montage du dossier de présentation au CA | J9: Rapports divers | N9: Montage du dossier de présentation au CA | P9: Montage et prise en charge
B10: Stratégie jeunesse | D10: Lettre d'offre / Convention de prêt | J10: Publicité (site Web, FB, Cyberimpact) | N10: Lettre d'offre / Convention de prêt
B11: Développement local | D11: Déboursé | J11: Rédaction de documents | N11: Déboursé
D12: Suivi E/F | J12: Communication | N12: Suivi E/F
D13: Comptes spéciaux | N13: Comptes spéciaux
B21: Sélectionnez une catégorie dans la liste ou créez une catégorie à afficher dans cette liste à partir de la feuille de calcul Configuration.
B22: Sélectionnez un employé dans la liste ou créez un employé à afficher dans cette liste à partir de la feuille de calcul Configuration.
