Workbook

Sheet liste CIRCUIT
A1: Nº COMP | B1: 240140810R | C1: 240141969R | D1: 240142059R | E1: 240142190R | F1: 240142507R | G1: 240143090R | H1: 240143851R | I1: 240143910R | J1: 240144335R | K1: 240144449R | L1: 240145670R | M1: 240145684R | N1: 240145697R | O1: 240145816R | P1: 240146095R | Q1: 240146154R | R1: 240146367R | S1: 240146485R | T1: 240146547R | U1: 240146713R | V1: 240146737R | W1: 240146790R | X1: 240147363R | Y1: 240147750R | Z1: 240147893R | AA1: 240147957R | AB1: 240148113R | AC1: 240148164R | AD1: 240148188R | AE1: 240148276R | AF1: 240148548R | AG1: 240148811R | AH1: 240149238R | AI1: 240149494R | AJ1: 240149497R | AK1: 240149909R | AL1: 8201260400 | AM1: 8201260401
A2: 1 | C2: 1 | F2: 1 | G2: 1 | H2: 1 | I2: 1 | J2: 1 | K2: 1 | L2: 1 | M2: 1 | O2: 1 | P2: 1 | Q2: 1 | R2: 1 | S2: 1 | T2: 1 | V2: 1 | W2: 1 | X2: 1 | Z2: 1 | AA2: 1 | AB2: 1 | AC2: 1 | AD2: 1 | AE2: 1 | AF2: 1 | AH2: 1 | AI2: 1 | AJ2: 1 | AK2: 1 | AM2: 1
A3: 2 | C3: 1 | F3: 1 | G3: 1 | H3: 1 | I3: 1 | J3: 1 | K3: 1 | L3: 1 | M3: 1 | O3: 1 | P3: 1 | Q3: 1 | R3: 1 | S3: 1 | T3: 1 | V3: 1 | W3: 1 | X3: 1 | Z3: 1 | AA3: 1 | AB3: 1 | AC3: 1 | AD3: 1 | AE3: 1 | AF3: 1 | AH3: 1 | AI3: 1 | AJ3: 1 | AK3: 1 | AM3: 1
A4: 3 | C4: 1 | F4: 1 | G4: 1 | H4: 1 | I4: 1 | J4: 1 | K4: 1 | L4: 1 | M4: 1 | O4: 1 | P4: 1 | Q4: 1 | R4: 1 | S4: 1 | T4: 1 | V4: 1 | W4: 1 | X4: 1 | Z4: 1 | AA4: 1 | AB4: 1 | AC4: 1 | AD4: 1 | AE4: 1 | AF4: 1 | AH4: 1 | AI4: 1 | AJ4: 1 | AK4: 1 | AM4: 1
A5: 4 | C5: 1 | F5: 1 | G5: 1 | H5: 1 | I5: 1 | J5: 1 | K5: 1 | L5: 1 | M5: 1 | O5: 1 | P5: 1 | Q5: 1 | R5: 1 | S5: 1 | T5: 1 | V5: 1 | W5: 1 | X5: 1 | Z5: 1 | AA5: 1 | AB5: 1 | AC5: 1 | AD5: 1 | AE5: 1 | AF5: 1 | AH5: 1 | AI5: 1 | AJ5: 1 | AK5: 1 | AM5: 1
A6: 5 | C6: 1 | F6: 1 | G6: 1 | H6: 1 | I6: 1 | J6: 1 | K6: 1 | L6: 1 | M6: 1 | O6: 1 | P6: 1 | Q6: 1 | R6: 1 | S6: 1 | T6: 1 | V6: 1 | W6: 1 | X6: 1 | Z6: 1 | AA6: 1 | AB6: 1 | AC6: 1 | AD6: 1 | AE6: 1 | AF6: 1 | AH6: 1 | AI6: 1 | AJ6: 1 | AK6: 1 | AM6: 1
A7: 6 | C7: 1 | F7: 1 | G7: 1 | H7: 1 | I7: 1 | J7: 1 | K7: 1 | L7: 1 | M7: 1 | O7: 1 | P7: 1 | Q7: 1 | R7: 1 | S7: 1 | T7: 1 | V7: 1 | W7: 1 | X7: 1 | Z7: 1 | AA7: 1 | AB7: 1 | AC7: 1 | AD7: 1 | AE7: 1 | AF7: 1 | AH7: 1 | AI7: 1 | AJ7: 1 | AK7: 1 | AM7: 1
A8: 7 | C8: 1 | F8: 1 | G8: 1 | H8: 1 | I8: 1 | J8: 1 | K8: 1 | L8: 1 | M8: 1 | O8: 1 | P8: 1 | Q8: 1 | R8: 1 | S8: 1 | T8: 1 | V8: 1 | W8: 1 | X8: 1 | Z8: 1 | AA8: 1 | AB8: 1 | AC8: 1 | AD8: 1 | AE8: 1 | AF8: 1 | AH8: 1 | AI8: 1 | AJ8: 1 | AK8: 1 | AM8: 1
A9: 8 | C9: 1 | F9: 1 | G9: 1 | H9: 1 | I9: 1 | J9: 1 | K9: 1 | L9: 1 | M9: 1 | O9: 1 | P9: 1 | Q9: 1 | R9: 1 | S9: 1 | T9: 1 | V9: 1 | W9: 1 | X9: 1 | Z9: 1 | AA9: 1 | AB9: 1 | AC9: 1 | AD9: 1 | AE9: 1 | AF9: 1 | AH9: 1 | AI9: 1 | AJ9: 1 | AK9: 1 | AM9: 1
A10: 9 | C10: 1 | F10: 1 | G10: 1 | H10: 1 | I10: 1 | J10: 1 | K10: 1 | L10: 1 | M10: 1 | O10: 1 | P10: 1 | Q10: 1 | R10: 1 | S10: 1 | T10: 1 | V10: 1 | W10: 1 | X10: 1 | Z10: 1 | AA10: 1 | AB10: 1 | AC10: 1 | AD10: 1 | AE10: 1 | AF10: 1 | AH10: 1 | AI10: 1 | AJ10: 1 | AK10: 1 | AM10: 1
A11: 10 | C11: 1 | F11: 1 | G11: 1 | H11: 1 | I11: 1 | J11: 1 | K11: 1 | L11: 1 | M11: 1 | O11: 1 | P11: 1 | Q11: 1 | R11: 1 | S11: 1 | T11: 1 | V11: 1 | W11: 1 | X11: 1 | Z11: 1 | AA11: 1 | AB11: 1 | AC11: 1 | AD11: 1 | AE11: 1 | AF11: 1 | AH11: 1 | AI11: 1 | AJ11: 1 | AK11: 1 | AM11: 1
A12: 11 | B12: 1 | C12: 1 | D12: 1 | E12: 1 | F12: 1 | G12: 1 | H12: 1 | I12: 1 | J12: 1 | K12: 1 | L12: 1 | M12: 1 | N12: 1 | O12: 1 | P12: 1 | Q12: 1 | R12: 1 | S12: 1 | T12: 1 | U12: 1 | V12: 1 | W12: 1 | X12: 1 | Y12: 1 | Z12: 1 | AA12: 1 | AB12: 1 | AC12: 1 | AD12: 1 | AE12: 1 | AF12: 1 | AG12: 1 | AH12: 1 | AI12: 1 | AJ12: 1 | AK12: 1 | AL12: 1 | AM12: 1
A13: 12 | B13: 1 | C13: 1 | E13: 1 | F13: 1 | G13: 1 | H13: 1 | I13: 1 | J13: 1 | K13: 1 | L13: 1 | M13: 1 | N13: 1 | O13: 1 | P13: 1 | Q13: 1 | R13: 1 | S13: 1 | T13: 1 | U13: 1 | V13: 1 | W13: 1 | X13: 1 | Y13: 1 | Z13: 1 | AA13: 1 | AB13: 1 | AC13: 1 | AE13: 1 | AF13: 1 | AG13: 1 | AH13: 1 | AJ13: 1 | AK13: 1 | AM13: 1
A14: 13 | B14: 1 | C14: 1 | E14: 1 | F14: 1 | G14: 1 | H14: 1 | I14: 1 | J14: 1 | K14: 1 | L14: 1 | M14: 1 | N14: 1 | O14: 1 | P14: 1 | Q14: 1 | R14: 1 | S14: 1 | T14: 1 | U14: 1 | V14: 1 | W14: 1 | X14: 1 | Y14: 1 | Z14: 1 | AA14: 1 | AB14: 1 | AC14: 1 | AE14: 1 | AF14: 1 | AG14: 1 | AH14: 1 | AJ14: 1 | AK14: 1 | AM14: 1
A15: 14 | B15: 1 | C15: 1 | E15: 1 | F15: 1 | G15: 1 | H15: 1 | I15: 1 | J15: 1 | K15: 1 | L15: 1 | M15: 1 | N15: 1 | O15: 1 | P15: 1 | Q15: 1 | R15: 1 | S15: 1 | T15: 1 | U15: 1 | V15: 1 | W15: 1 | X15: 1 | Y15: 1 | Z15: 1 | AA15: 1 | AB15: 1 | AC15: 1 | AE15: 1 | AF15: 1 | AG15: 1 | AH15: 1 | AJ15: 1 | AK15: 1 | AM15: 1
A16: 15 | B16: 1 | C16: 1 | E16: 1 | F16: 1 | G16: 1 | H16: 1 | I16: 1 | J16: 1 | K16: 1 | L16: 1 | M16: 1 | N16: 1 | O16: 1 | P16: 1 | Q16: 1 | R16: 1 | S16: 1 | T16: 1 | U16: 1 | V16: 1 | W16: 1 | X16: 1 | Y16: 1 | Z16: 1 | AA16: 1 | AB16: 1 | AC16: 1 | AE16: 1 | AF16: 1 | AG16: 1 | AH16: 1 | AJ16: 1 | AK16: 1 | AM16: 1
A17: 16 | D17: 1 | AD17: 1 | AI17: 1 | AL17: 1
A18: 16 | B18: 1 | C18: 1 | F18: 1 | K18: 1 | T18: 1 | U18: 1 | Y18: 1 | AA18: 1 | AK18: 1 | AM18: 1
A19: 16 | E19: 1 | H19: 1 | N19: 1 | R19: 1 | S19: 1 | W19: 1 | AE19: 1 | AG19: 1 | AJ19: 1
A20: 16 | I20: 1 | J20: 1 | P20: 1 | AH20: 1
A21: 16 | O21: 1
A22: 17 | C22: 1 | F22: 1 | G22: 1 | H22: 1 | I22: 1 | J22: 1 | K22: 1 | L22: 1 | M22: 1 | O22: 1 | P22: 1 | Q22: 1 | R22: 1 | S22: 1 | T22: 1 | V22: 1 | W22: 1 | X22: 1 | Z22: 1 | AA22: 1 | AB22: 1 | AC22: 1 | AD22: 1 | AE22: 1 | AF22: 1 | AH22: 1 | AI22: 1 | AJ22: 1 | AK22: 1
A23: 18 | B23: 1 | F23: 1 | H23: 1 | N23: 1 | P23: 1 | S23: 1 | AA23: 1 | AE23: 1 | AF23: 1 | AG23: 1 | AH23: 1 | AJ23: 1
A24: 19 | B24: 1 | F24: 1 | H24: 1 | N24: 1 | P24: 1 | S24: 1 | AA24: 1 | AE24: 1 | AF24: 1 | AG24: 1 | AH24: 1 | AJ24: 1
A25: 20 | B25: 1 | D25: 1 | E25: 1 | N25: 1 | U25: 1 | Y25: 1 | AG25: 1
A26: 21 | B26: 1 | C26: 1 | D26: 1 | E26: 1 | F26: 1 | G26: 1 | H26: 1 | I26: 1 | J26: 1 | K26: 1 | L26: 1 | M26: 1 | N26: 1 | O26: 1 | P26: 1 | Q26: 1 | R26: 1 | S26: 1 | T26: 1 | U26: 1 | V26: 1 | W26: 1 | X26: 1 | Y26: 1 | Z26: 1 | AA26: 1 | AB26: 1 | AC26: 1 | AD26: 1 | AE26: 1 | AF26: 1 | AG26: 1 | AH26: 1 | AI26: 1 | AJ26: 1 | AK26: 1 | AL26: 1 | AM26: 1
A27: 22 | B27: 1 | D27: 1 | E27: 1 | N27: 1 | U27: 1 | Y27: 1 | AG27: 1 | AL27: 1
A28: 23 | I28: 1 | J28: 1 | L28: 1 | M28: 1 | O28: 1 | P28: 1 | V28: 1 | X28: 1 | Z28: 1 | AC28: 1 | AF28: 1 | AH28: 1
A29: 24 | I29: 1 | J29: 1 | L29: 1 | M29: 1 | O29: 1 | P29: 1 | V29: 1 | X29: 1 | Z29: 1 | AC29: 1 | AF29: 1 | AH29: 1
A30: 25 | I30: 1 | J30: 1 | L30: 1 | M30: 1 | O30: 1 | P30: 1 | V30: 1 | X30: 1 | Z30: 1 | AC30: 1 | AF30: 1 | AH30: 1
A31: 26 | C31: 1 | F31: 1 | G31: 1 | H31: 1 | I31: 1 | J31: 1 | K31: 1 | L31: 1 | M31: 1 | O31: 1 | P31: 1 | Q31: 1 | R31: 1 | S31: 1 | T31: 1 | V31: 1 | W31: 1 | X31: 1 | Z31: 1 | AA31: 1 | AB31: 1 | AC31: 1 | AD31: 1 | AE31: 1 | AF31: 1 | AH31: 1 | AI31: 1 | AJ31: 1 | AK31: 1 | AM31: 1
A32: 27 | B32: 1 | F32: 1 | H32: 1 | N32: 1 | P32: 1 | S32: 1 | AA32: 1 | AE32: 1 | AF32: 1 | AG32: 1 | AH32: 1 | AJ32: 1
A33: 28 | C33: 1 | F33: 1 | G33: 1 | H33: 1 | I33: 1 | J33: 1 | K33: 1 | L33: 1 | M33: 1 | O33: 1 | P33: 1 | Q33: 1 | R33: 1 | S33: 1 | T33: 1 | V33: 1 | W33: 1 | X33: 1 | Z33: 1 | AA33: 1 | AB33: 1 | AC33: 1 | AD33: 1 | AE33: 1 | AF33: 1 | AH33: 1 | AI33: 1 | AJ33: 1 | AK33: 1 | AM33: 1
A34: 29 | C34: 1 | F34: 1 | G34: 1 | H34: 1 | I34: 1 | J34: 1 | K34: 1 | L34: 1 | M34: 1 | O34: 1 | P34: 1 | Q34: 1 | R34: 1 | S34: 1 | T34: 1 | V34: 1 | W34: 1 | X34: 1 | Z34: 1 | AA34: 1 | AB34: 1 | AC34: 1 | AD34: 1 | AE34: 1 | AF34: 1 | AH34: 1 | AI34: 1 | AJ34: 1 | AK34: 1 | AM34: 1
A35: 30 | C35: 1 | G35: 1 | J35: 1 | L35: 1 | O35: 1 | Q35: 1 | R35: 1 | S35: 1 | T35: 1 | V35: 1 | X35: 1 | Z35: 1 | AA35: 1 | AB35: 1 | AI35: 1 | AJ35: 1 | AM35: 1
A36: 31 | C36: 1 | G36: 1 | J36: 1 | L36: 1 | O36: 1 | Q36: 1 | R36: 1 | S36: 1 | T36: 1 | V36: 1 | X36: 1 | Z36: 1 | AA36: 1 | AB36: 1 | AI36: 1 | AJ36: 1 | AM36: 1
A37: 32 | F37: 1 | H37: 1 | I37: 1 | K37: 1 | M37: 1 | P37: 1 | W37: 1 | AC37: 1 | AD37: 1 | AE37: 1 | AF37: 1 | AH37: 1 | AK37: 1
A38: 33 | F38: 1 | H38: 1 | I38: 1 | K38: 1 | M38: 1 | P38: 1 | W38: 1 | AC38: 1 | AD38: 1 | AE38: 1 | AF38: 1 | AH38: 1 | AK38: 1
A39: 34 | E39: 1 | N39: 1 | U39: 1 | AG39: 1
A40: 34 | C40: 1 | G40: 1 | H40: 1 | I40: 1 | J40: 1 | O40: 1 | P40: 1 | R40: 1 | S40: 1 | V40: 1 | W40: 1 | Z40: 1 | AB40: 1 | AC40: 1 | AE40: 1 | AH40: 1 | AJ40: 1 | AK40: 1 | AM40: 1
A41: 35 | E41: 1 | N41: 1 | U41: 1 | AG41: 1
A42: 35 | C42: 1 | G42: 1 | H42: 1 | I42: 1 | J42: 1 | O42: 1 | P42: 1 | R42: 1 | S42: 1 | V42: 1 | W42: 1 | Z42: 1 | AB42: 1 | AC42: 1 | AE42: 1 | AH42: 1 | AJ42: 1 | AK42: 1 | AM42: 1
A43: 36 | H43: 1 | N43: 1 | P43: 1 | S43: 1 | AE43: 1 | AG43: 1 | AH43: 1 | AJ43: 1
A44: 37 | B44: 1 | AF44: 1
A45: 37 | F45: 1
A46: 37 | N46: 1 | P46: 1 | AG46: 1 | AH46: 1
A47: 37 | H47: 1 | AA47: 1 | AE47: 1
A48: 37 | S48: 1 | AJ48: 1
A49: 38 | N49: 1 | AG49: 1
A50: 38 | H50: 1 | P50: 1 | AE50: 1 | AH50: 1
A51: 38 | S51: 1 | AJ51: 1
A52: 38 | E52: 1
A53: 38 | I53: 1 | W53: 1
A54: 38 | J54: 1 | O54: 1 | R54: 1 | AB54: 1
A55: 39 | B55: 1 | C55: 1 | D55: 1 | E55: 1 | F55: 1 | G55: 1 | H55: 1 | I55: 1 | J55: 1 | K55: 1 | L55: 1 | M55: 1 | N55: 1 | O55: 1 | P55: 1 | Q55: 1 | R55: 1 | S55: 1 | T55: 1 | U55: 1 | V55: 1 | W55: 1 | X55: 1 | Y55: 1 | Z55: 1 | AA55: 1 | AB55: 1 | AC55: 1 | AD55: 1 | AE55: 1 | AF55: 1 | AG55: 1 | AH55: 1 | AI55: 1 | AJ55: 1 | AK55: 1 | AL55: 1 | AM55: 1
A56: 40 | C56: 1 | F56: 1 | G56: 1 | H56: 1 | I56: 1 | J56: 1 | K56: 1 | L56: 1 | M56: 1 | O56: 1 | P56: 1 | Q56: 1 | R56: 1 | S56: 1 | T56: 1 | V56: 1 | W56: 1 | X56: 1 | Z56: 1 | AA56: 1 | AB56: 1 | AC56: 1 | AD56: 1 | AE56: 1 | AF56: 1 | AH56: 1 | AI56: 1 | AJ56: 1 | AK56: 1 | AM56: 1
A57: 41 | C57: 1 | F57: 1 | G57: 1 | H57: 1 | I57: 1 | J57: 1 | K57: 1 | L57: 1 | M57: 1 | O57: 1 | P57: 1 | Q57: 1 | R57: 1 | S57: 1 | T57: 1 | V57: 1 | W57: 1 | X57: 1 | Z57: 1 | AA57: 1 | AB57: 1 | AC57: 1 | AD57: 1 | AE57: 1 | AF57: 1 | AH57: 1 | AI57: 1 | AJ57: 1 | AK57: 1 | AM57: 1
A58: 42 | B58: 1 | C58: 1 | D58: 1 | E58: 1 | F58: 1 | G58: 1 | H58: 1 | K58: 1 | N58: 1 | Q58: 1 | R58: 1 | S58: 1 | T58: 1 | U58: 1 | W58: 1 | Y58: 1 | AA58: 1 | AB58: 1 | AD58: 1 | AE58: 1 | AG58: 1 | AI58: 1 | AJ58: 1 | AK58: 1 | AL58: 1 | AM58: 1
A59: 43 | I59: 1 | J59: 1 | L59: 1 | M59: 1 | O59: 1 | P59: 1 | V59: 1 | X59: 1 | Z59: 1 | AC59: 1 | AF59: 1 | AH59: 1
A60: 44 | I60: 1 | J60: 1 | L60: 1 | M60: 1 | O60: 1 | P60: 1 | V60: 1 | X60: 1 | Z60: 1 | AC60: 1 | AF60: 1 | AH60: 1
A61: 45 | I61: 1 | J61: 1 | L61: 1 | M61: 1 | O61: 1 | P61: 1 | V61: 1 | X61: 1 | Z61: 1 | AC61: 1 | AF61: 1 | AH61: 1
A62: 46 | I62: 1 | J62: 1 | L62: 1 | M62: 1 | O62: 1 | P62: 1 | V62: 1 | X62: 1 | Z62: 1 | AC62: 1 | AF62: 1 | AH62: 1
A63: 47 | I63: 1 | J63: 1 | L63: 1 | M63: 1 | O63: 1 | P63: 1 | V63: 1 | X63: 1 | Z63: 1 | AC63: 1 | AF63: 1 | AH63: 1
A64: 48 | I64: 1 | J64: 1 | L64: 1 | M64: 1 | O64: 1 | P64: 1 | V64: 1 | X64: 1 | Z64: 1 | AC64: 1 | AF64: 1 | AH64: 1
A65: 49 | B65: 1 | C65: 1 | D65: 1 | E65: 1 | F65: 1 | G65: 1 | H65: 1 | I65: 1 | J65: 1 | K65: 1 | L65: 1 | M65: 1 | N65: 1 | O65: 1 | P65: 1 | Q65: 1 | R65: 1 | S65: 1 | T65: 1 | U65: 1 | V65: 1 | W65: 1 | X65: 1 | Y65: 1 | Z65: 1 | AA65: 1 | AB65: 1 | AC65: 1 | AD65: 1 | AE65: 1 | AF65: 1 | AG65: 1 | AH65: 1 | AI65: 1 | AJ65: 1 | AK65: 1 | AL65: 1 | AM65: 1
A66: 51 | B66: 1 | C66: 1 | D66: 1 | E66: 1 | F66: 1 | G66: 1 | H66: 1 | I66: 1 | J66: 1 | K66: 1 | L66: 1 | M66: 1 | O66: 1 | Q66: 1 | R66: 1 | S66: 1 | T66: 1 | U66: 1 | V66: 1 | W66: 1 | X66: 1 | Y66: 1 | Z66: 1 | AA66: 1 | AB66: 1 | AC66: 1 | AD66: 1 | AF66: 1 | AG66: 1 | AH66: 1 | AI66: 1 | AK66: 1 | AL66: 1 | AM66: 1
A67: 56 | B67: 1 | C67: 1 | D67: 1 | E67: 1 | F67: 1 | G67: 1 | H67: 1 | I67: 1 | J67: 1 | K67: 1 | L67: 1 | M67: 1 | O67: 1 | Q67: 1 | R67: 1 | S67: 1 | T67: 1 | U67: 1 | V67: 1 | W67: 1 | X67: 1 | Y67: 1 | Z67: 1 | AA67: 1 | AB67: 1 | AC67: 1 | AD67: 1 | AF67: 1 | AG67: 1 | AH67: 1 | AI67: 1 | AK67: 1 | AL67: 1 | AM67: 1
A68: 57 | N68: 1 | P68: 1 | AE68: 1 | AJ68: 1
A69: 58 | N69: 1 | P69: 1 | AE69: 1 | AJ69: 1
A70: 59 | N70: 1 | P70: 1 | AE70: 1 | AJ70: 1
A71: 60 | L71: 1 | Q71: 1 | T71: 1 | X71: 1 | AA71: 1 | AI71: 1
A72: 60 | C72: 1 | G72: 1 | J72: 1 | O72: 1 | R72: 1 | S72: 1 | V72: 1 | Z72: 1 | AB72: 1 | AJ72: 1 | AM72: 1
A73: 61 | L73: 1 | Q73: 1 | T73: 1 | X73: 1 | AA73: 1 | AI73: 1
A74: 61 | C74: 1 | G74: 1 | J74: 1 | O74: 1 | R74: 1 | S74: 1 | V74: 1 | Z74: 1 | AB74: 1 | AJ74: 1 | AM74: 1
A75: 62 | L75: 1 | Q75: 1 | T75: 1 | X75: 1 | AA75: 1 | AI75: 1
A76: 62 | C76: 1 | G76: 1 | J76: 1 | O76: 1 | R76: 1 | S76: 1 | V76: 1 | Z76: 1 | AB76: 1 | AJ76: 1 | AM76: 1
A77: 63 | C77: 1 | G77: 1 | J77: 1 | L77: 1 | O77: 1 | Q77: 1 | R77: 1 | S77: 1 | T77: 1 | V77: 1 | X77: 1 | Z77: 1 | AA77: 1 | AB77: 1 | AI77: 1 | AJ77: 1 | AM77: 1
A78: 64 | C78: 1 | G78: 1 | J78: 1 | L78: 1 | O78: 1 | Q78: 1 | R78: 1 | S78: 1 | T78: 1 | V78: 1 | X78: 1 | Z78: 1 | AA78: 1 | AB78: 1 | AI78: 1 | AJ78: 1 | AM78: 1
A79: 65 | C79: 1 | G79: 1 | J79: 1 | L79: 1 | O79: 1 | Q79: 1 | R79: 1 | S79: 1 | T79: 1 | V79: 1 | X79: 1 | Z79: 1 | AA79: 1 | AB79: 1 | AI79: 1 | AJ79: 1 | AM79: 1
A80: 66 | C80: 1 | G80: 1 | J80: 1 | L80: 1 | O80: 1 | Q80: 1 | R80: 1 | S80: 1 | T80: 1 | V80: 1 | X80: 1 | Z80: 1 | AA80: 1 | AB80: 1 | AI80: 1 | AJ80: 1 | AM80: 1
A81: 67 | C81: 1 | G81: 1 | J81: 1 | L81: 1 | O81: 1 | Q81: 1 | R81: 1 | S81: 1 | T81: 1 | V81: 1 | X81: 1 | Z81: 1 | AA81: 1 | AB81: 1 | AI81: 1 | AJ81: 1 | AM81: 1
A82: 68 | C82: 1 | G82: 1 | J82: 1 | L82: 1 | O82: 1 | Q82: 1 | R82: 1 | S82: 1 | T82: 1 | V82: 1 | X82: 1 | Z82: 1 | AA82: 1 | AB82: 1 | AI82: 1 | AJ82: 1 | AM82: 1
A83: 69 | D83: 1 | AD83: 1 | AI83: 1 | AL83: 1
A84: 70 | D84: 1 | AD84: 1 | AI84: 1 | AL84: 1
A85: 71 | D85: 1 | AD85: 1 | AI85: 1 | AL85: 1
A86: 72 | D86: 1 | AD86: 1 | AI86: 1 | AL86: 1
A87: 73 | C87: 1 | E87: 1 | G87: 1 | I87: 1 | J87: 1 | O87: 1 | R87: 1 | U87: 1 | V87: 1 | W87: 1 | Z87: 1 | AB87: 1 | AC87: 1 | AK87: 1 | AM87: 1
A88: 74 | C88: 1 | E88: 1 | G88: 1 | I88: 1 | J88: 1 | O88: 1 | R88: 1 | U88: 1 | V88: 1 | W88: 1 | Z88: 1 | AB88: 1 | AC88: 1 | AK88: 1 | AM88: 1
A89: 75 | C89: 1 | E89: 1 | G89: 1 | I89: 1 | J89: 1 | O89: 1 | R89: 1 | U89: 1 | V89: 1 | W89: 1 | Z89: 1 | AB89: 1 | AC89: 1 | AK89: 1 | AM89: 1
A90: 76 | C90: 1 | E90: 1 | G90: 1 | I90: 1 | J90: 1 | O90: 1 | R90: 1 | U90: 1 | V90: 1 | W90: 1 | Z90: 1 | AB90: 1 | AC90: 1 | AK90: 1 | AM90: 1
A91: 77 | C91: 1 | F91: 1 | G91: 1 | H91: 1 | I91: 1 | J91: 1 | K91: 1 | L91: 1 | M91: 1 | O91: 1 | P91: 1 | Q91: 1 | R91: 1 | S91: 1 | T91: 1 | V91: 1 | W91: 1 | X91: 1 | Z91: 1 | AA91: 1 | AB91: 1 | AC91: 1 | AD91: 1 | AE91: 1 | AF91: 1 | AH91: 1 | AI91: 1 | AJ91: 1 | AK91: 1 | AM91: 1
A92: 77 | B92: 1 | D92: 1 | E92: 1 | N92: 1 | U92: 1 | Y92: 1 | AG92: 1 | AL92: 1
A93: 78 | H93: 1 | N93: 1 | P93: 1 | S93: 1 | AE93: 1 | AG93: 1 | AH93: 1 | AJ93: 1
A94: 79 | H94: 1 | N94: 1 | P94: 1 | S94: 1 | AE94: 1 | AG94: 1 | AH94: 1 | AJ94: 1
A95: 80 | H95: 1 | N95: 1 | P95: 1 | S95: 1 | AE95: 1 | AG95: 1 | AH95: 1 | AJ95: 1
A96: 81 | H96: 1 | N96: 1 | P96: 1 | S96: 1 | AE96: 1 | AG96: 1 | AH96: 1 | AJ96: 1
A97: 82 | B97: 1 | F97: 1 | H97: 1 | N97: 1 | P97: 1 | S97: 1 | AA97: 1 | AE97: 1 | AF97: 1 | AG97: 1 | AH97: 1 | AJ97: 1
A98: 83 | Y98: 1
A99: 83 | E99: 1 | K99: 1 | M99: 1 | U99: 1
A100: 83 | I100: 1 | W100: 1 | AC100: 1 | AK100: 1
...

Sheet CIRCUIT
A1: 240144449R | B1: 240143910R
A2: =IFERROR(HLOOKUP($A$1,'liste CIRCUIT'!$B:$AM,2,0)," ") -> 1 | B2: =IFERROR(HLOOKUP($B$1,'liste CIRCUIT'!$B:$AM,2,0)," ") -> 1 | C2: =SUM(A2:B2) -> 2 | D2: =A2-B2 -> 0
A3: =IFERROR(HLOOKUP($A$1,'liste CIRCUIT'!$B:$AM,3,0)," ") -> 1 | B3: =IFERROR(HLOOKUP($B$1,'liste CIRCUIT'!$B:$AM,3,0)," ") -> 1 | C3: =SUM(A3:B3) -> 2 | D3: =A3-B3 -> 0
A4: =IFERROR(HLOOKUP($A$1,'liste CIRCUIT'!$B:$AM,4,0)," ") -> 1 | B4: =IFERROR(HLOOKUP($B$1,'liste CIRCUIT'!$B:$AM,4,0)," ") -> 1 | C4: =SUM(A4:B4) -> 2 | D4: =A4-B4 -> 0
A5: =IFERROR(HLOOKUP($A$1,'liste CIRCUIT'!$B:$AM,5,0)," ") -> 1 | B5: =IFERROR(HLOOKUP($B$1,'liste CIRCUIT'!$B:$AM,5,0)," ") -> 1 | C5: =SUM(A5:B5) -> 2 | D5: =A5-B5 -> 0
A6: =IFERROR(HLOOKUP($A$1,'liste CIRCUIT'!$B:$AM,6,0)," ") -> 1 | B6: =IFERROR(HLOOKUP($B$1,'liste CIRCUIT'!$B:$AM,6,0)," ") -> 1 | C6: =SUM(A6:B6) -> 2 | D6: =A6-B6 -> 0
A7: =IFERROR(HLOOKUP($A$1,'liste CIRCUIT'!$B:$AM,7,0)," ") -> 1 | B7: =IFERROR(HLOOKUP($B$1,'liste CIRCUIT'!$B:$AM,7,0)," ") -> 1 | C7: =SUM(A7:B7) -> 2 | D7: =A7-B7 -> 0
A8: =IFERROR(HLOOKUP($A$1,'liste CIRCUIT'!$B:$AM,8,0)," ") -> 1 | B8: =IFERROR(HLOOKUP($B$1,'liste CIRCUIT'!$B:$AM,8,0)," ") -> 1 | C8: =SUM(A8:B8) -> 2 | D8: =A8-B8 -> 0
A9: =IFERROR(HLOOKUP($A$1,'liste CIRCUIT'!$B:$AM,9,0)," ") -> 1 | B9: =IFERROR(HLOOKUP($B$1,'liste CIRCUIT'!$B:$AM,9,0)," ") -> 1 | C9: =SUM(A9:B9) -> 2 | D9: =A9-B9 -> 0
A10: =IFERROR(HLOOKUP($A$1,'liste CIRCUIT'!$B:$AM,10,0)," ") -> 1 | B10: =IFERROR(HLOOKUP($B$1,'liste CIRCUIT'!$B:$AM,10,0)," ") -> 1 | C10: =SUM(A10:B10) -> 2 | D10: =A10-B10 -> 0
A11: =IFERROR(HLOOKUP($A$1,'liste CIRCUIT'!$B:$AM,11,0)," ") -> 1 | B11: =IFERROR(HLOOKUP($B$1,'liste CIRCUIT'!$B:$AM,11,0)," ") -> 1 | C11: =SUM(A11:B11) -> 2 | D11: =A11-B11 -> 0
A12: =IFERROR(HLOOKUP($A$1,'liste CIRCUIT'!$B:$AM,12,0)," ") -> 1 | B12: =IFERROR(HLOOKUP($B$1,'liste CIRCUIT'!$B:$AM,12,0)," ") -> 1 | C12: =SUM(A12:B12) -> 2 | D12: =A12-B12 -> 0
A13: =IFERROR(HLOOKUP($A$1,'liste CIRCUIT'!$B:$AM,13,0)," ") -> 1 | B13: =IFERROR(HLOOKUP($B$1,'liste CIRCUIT'!$B:$AM,13,0)," ") -> 1 | C13: =SUM(A13:B13) -> 2 | D13: =A13-B13 -> 0
A14: =IFERROR(HLOOKUP($A$1,'liste CIRCUIT'!$B:$AM,14,0)," ") -> 1 | B14: =IFERROR(HLOOKUP($B$1,'liste CIRCUIT'!$B:$AM,14,0)," ") -> 1 | C14: =SUM(A14:B14) -> 2 | D14: =A14-B14 -> 0
A15: =IFERROR(HLOOKUP($A$1,'liste CIRCUIT'!$B:$AM,15,0)," ") -> 1 | B15: =IFERROR(HLOOKUP($B$1,'liste CIRCUIT'!$B:$AM,15,0)," ") -> 1 | C15: =SUM(A15:B15) -> 2 | D15: =A15-B15 -> 0
A16: =IFERROR(HLOOKUP($A$1,'liste CIRCUIT'!$B:$AM,16,0)," ") -> 1 | B16: =IFERROR(HLOOKUP($B$1,'liste CIRCUIT'!$B:$AM,16,0)," ") -> 1 | C16: =SUM(A16:B16) -> 2 | D16: =A16-B16 -> 0
A17: =IFERROR(HLOOKUP($A$1,'liste CIRCUIT'!$B:$AM,17,0)," ") -> 0 | B17: =IFERROR(HLOOKUP($B$1,'liste CIRCUIT'!$B:$AM,17,0)," ") -> 0 | C17: =SUM(A17:B17) -> 0 | D17: =A17-B17 -> 0
A18: =IFERROR(HLOOKUP($A$1,'liste CIRCUIT'!$B:$AM,18,0)," ") -> 1 | B18: =IFERROR(HLOOKUP($B$1,'liste CIRCUIT'!$B:$AM,18,0)," ") -> 0 | C18: =SUM(A18:B18) -> 1 | D18: =A18-B18 -> 1
A19: =IFERROR(HLOOKUP($A$1,'liste CIRCUIT'!$B:$AM,19,0)," ") -> 0 | B19: =IFERROR(HLOOKUP($B$1,'liste CIRCUIT'!$B:$AM,19,0)," ") -> 0 | C19: =SUM(A19:B19) -> 0 | D19: =A19-B19 -> 0
A20: =IFERROR(HLOOKUP($A$1,'liste CIRCUIT'!$B:$AM,20,0)," ") -> 0 | B20: =IFERROR(HLOOKUP($B$1,'liste CIRCUIT'!$B:$AM,20,0)," ") -> 1 | C20: =SUM(A20:B20) -> 1 | D20: =A20-B20 -> -1
A21: =IFERROR(HLOOKUP($A$1,'liste CIRCUIT'!$B:$AM,21,0)," ") -> 0 | B21: =IFERROR(HLOOKUP($B$1,'liste CIRCUIT'!$B:$AM,21,0)," ") -> 0 | C21: =SUM(A21:B21) -> 0 | D21: =A21-B21 -> 0
A22: =IFERROR(HLOOKUP($A$1,'liste CIRCUIT'!$B:$AM,22,0)," ") -> 1 | B22: =IFERROR(HLOOKUP($B$1,'liste CIRCUIT'!$B:$AM,22,0)," ") -> 1 | C22: =SUM(A22:B22) -> 2 | D22: =A22-B22 -> 0
A23: =IFERROR(HLOOKUP($A$1,'liste CIRCUIT'!$B:$AM,23,0)," ") -> 0 | B23: =IFERROR(HLOOKUP($B$1,'liste CIRCUIT'!$B:$AM,23,0)," ") -> 0 | C23: =SUM(A23:B23) -> 0 | D23: =A23-B23 -> 0
A24: =IFERROR(HLOOKUP($A$1,'liste CIRCUIT'!$B:$AM,24,0)," ") -> 0 | B24: =IFERROR(HLOOKUP($B$1,'liste CIRCUIT'!$B:$AM,24,0)," ") -> 0 | C24: =SUM(A24:B24) -> 0 | D24: =A24-B24 -> 0
A25: =IFERROR(HLOOKUP($A$1,'liste CIRCUIT'!$B:$AM,25,0)," ") -> 0 | B25: =IFERROR(HLOOKUP($B$1,'liste CIRCUIT'!$B:$AM,25,0)," ") -> 0 | C25: =SUM(A25:B25) -> 0 | D25: =A25-B25 -> 0
A26: =IFERROR(HLOOKUP($A$1,'liste CIRCUIT'!$B:$AM,26,0)," ") -> 1 | B26: =IFERROR(HLOOKUP($B$1,'liste CIRCUIT'!$B:$AM,26,0)," ") -> 1 | C26: =SUM(A26:B26) -> 2 | D26: =A26-B26 -> 0
A27: =IFERROR(HLOOKUP($A$1,'liste CIRCUIT'!$B:$AM,27,0)," ") -> 0 | B27: =IFERROR(HLOOKUP($B$1,'liste CIRCUIT'!$B:$AM,27,0)," ") -> 0 | C27: =SUM(A27:B27) -> 0 | D27: =A27-B27 -> 0
A28: =IFERROR(HLOOKUP($A$1,'liste CIRCUIT'!$B:$AM,28,0)," ") -> 0 | B28: =IFERROR(HLOOKUP($B$1,'liste CIRCUIT'!$B:$AM,28,0)," ") -> 1 | C28: =SUM(A28:B28) -> 1 | D28: =A28-B28 -> -1
A29: =IFERROR(HLOOKUP($A$1,'liste CIRCUIT'!$B:$AM,29,0)," ") -> 0 | B29: =IFERROR(HLOOKUP($B$1,'liste CIRCUIT'!$B:$AM,29,0)," ") -> 1 | C29: =SUM(A29:B29) -> 1 | D29: =A29-B29 -> -1
A30: =IFERROR(HLOOKUP($A$1,'liste CIRCUIT'!$B:$AM,30,0)," ") -> 0 | B30: =IFERROR(HLOOKUP($B$1,'liste CIRCUIT'!$B:$AM,30,0)," ") -> 1 | C30: =SUM(A30:B30) -> 1 | D30: =A30-B30 -> -1
A31: =IFERROR(HLOOKUP($A$1,'liste CIRCUIT'!$B:$AM,31,0)," ") -> 1 | B31: =IFERROR(HLOOKUP($B$1,'liste CIRCUIT'!$B:$AM,31,0)," ") -> 1 | C31: =SUM(A31:B31) -> 2 | D31: =A31-B31 -> 0
A32: =IFERROR(HLOOKUP($A$1,'liste CIRCUIT'!$B:$AM,32,0)," ") -> 0 | B32: =IFERROR(HLOOKUP($B$1,'liste CIRCUIT'!$B:$AM,32,0)," ") -> 0 | C32: =SUM(A32:B32) -> 0 | D32: =A32-B32 -> 0
A33: =IFERROR(HLOOKUP($A$1,'liste CIRCUIT'!$B:$AM,33,0)," ") -> 1 | B33: =IFERROR(HLOOKUP($B$1,'liste CIRCUIT'!$B:$AM,33,0)," ") -> 1 | C33: =SUM(A33:B33) -> 2 | D33: =A33-B33 -> 0
A34: =IFERROR(HLOOKUP($A$1,'liste CIRCUIT'!$B:$AM,34,0)," ") -> 1 | B34: =IFERROR(HLOOKUP($B$1,'liste CIRCUIT'!$B:$AM,34,0)," ") -> 1 | C34: =SUM(A34:B34) -> 2 | D34: =A34-B34 -> 0
A35: =IFERROR(HLOOKUP($A$1,'liste CIRCUIT'!$B:$AM,35,0)," ") -> 0 | B35: =IFERROR(HLOOKUP($B$1,'liste CIRCUIT'!$B:$AM,35,0)," ") -> 0 | C35: =SUM(A35:B35) -> 0 | D35: =A35-B35 -> 0
A36: =IFERROR(HLOOKUP($A$1,'liste CIRCUIT'!$B:$AM,36,0)," ") -> 0 | B36: =IFERROR(HLOOKUP($B$1,'liste CIRCUIT'!$B:$AM,36,0)," ") -> 0 | C36: =SUM(A36:B36) -> 0 | D36: =A36-B36 -> 0
A37: =IFERROR(HLOOKUP($A$1,'liste CIRCUIT'!$B:$AM,37,0)," ") -> 1 | B37: =IFERROR(HLOOKUP($B$1,'liste CIRCUIT'!$B:$AM,37,0)," ") -> 1 | C37: =SUM(A37:B37) -> 2 | D37: =A37-B37 -> 0
A38: =IFERROR(HLOOKUP($A$1,'liste CIRCUIT'!$B:$AM,38,0)," ") -> 1 | B38: =IFERROR(HLOOKUP($B$1,'liste CIRCUIT'!$B:$AM,38,0)," ") -> 1 | C38: =SUM(A38:B38) -> 2 | D38: =A38-B38 -> 0
A39: =IFERROR(HLOOKUP($A$1,'liste CIRCUIT'!$B:$AM,39,0)," ") -> 0 | B39: =IFERROR(HLOOKUP($B$1,'liste CIRCUIT'!$B:$AM,39,0)," ") -> 0 | C39: =SUM(A39:B39) -> 0 | D39: =A39-B39 -> 0
A40: =IFERROR(HLOOKUP($A$1,'liste CIRCUIT'!$B:$AM,40,0)," ") -> 0 | B40: =IFERROR(HLOOKUP($B$1,'liste CIRCUIT'!$B:$AM,40,0)," ") -> 1 | C40: =SUM(A40:B40) -> 1 | D40: =A40-B40 -> -1
A41: =IFERROR(HLOOKUP($A$1,'liste CIRCUIT'!$B:$AM,41,0)," ") -> 0 | B41: =IFERROR(HLOOKUP($B$1,'liste CIRCUIT'!$B:$AM,41,0)," ") -> 0 | C41: =SUM(A41:B41) -> 0 | D41: =A41-B41 -> 0
A42: =IFERROR(HLOOKUP($A$1,'liste CIRCUIT'!$B:$AM,42,0)," ") -> 0 | B42: =IFERROR(HLOOKUP($B$1,'liste CIRCUIT'!$B:$AM,42,0)," ") -> 1 | C42: =SUM(A42:B42) -> 1 | D42: =A42-B42 -> -1
A43: =IFERROR(HLOOKUP($A$1,'liste CIRCUIT'!$B:$AM,43,0)," ") -> 0 | B43: =IFERROR(HLOOKUP($B$1,'liste CIRCUIT'!$B:$AM,43,0)," ") -> 0 | C43: =SUM(A43:B43) -> 0 | D43: =A43-B43 -> 0
A44: =IFERROR(HLOOKUP($A$1,'liste CIRCUIT'!$B:$AM,44,0)," ") -> 0 | B44: =IFERROR(HLOOKUP($B$1,'liste CIRCUIT'!$B:$AM,44,0)," ") -> 0 | C44: =SUM(A44:B44) -> 0 | D44: =A44-B44 -> 0
A45: =IFERROR(HLOOKUP($A$1,'liste CIRCUIT'!$B:$AM,45,0)," ") -> 0 | B45: =IFERROR(HLOOKUP($B$1,'liste CIRCUIT'!$B:$AM,45,0)," ") -> 0 | C45: =SUM(A45:B45) -> 0 | D45: =A45-B45 -> 0
A46: =IFERROR(HLOOKUP($A$1,'liste CIRCUIT'!$B:$AM,46,0)," ") -> 0 | B46: =IFERROR(HLOOKUP($B$1,'liste CIRCUIT'!$B:$AM,46,0)," ") -> 0 | C46: =SUM(A46:B46) -> 0 | D46: =A46-B46 -> 0
A47: =IFERROR(HLOOKUP($A$1,'liste CIRCUIT'!$B:$AM,47,0)," ") -> 0 | B47: =IFERROR(HLOOKUP($B$1,'liste CIRCUIT'!$B:$AM,47,0)," ") -> 0 | C47: =SUM(A47:B47) -> 0 | D47: =A47-B47 -> 0
A48: =IFERROR(HLOOKUP($A$1,'liste CIRCUIT'!$B:$AM,48,0)," ") -> 0 | B48: =IFERROR(HLOOKUP($B$1,'liste CIRCUIT'!$B:$AM,48,0)," ") -> 0 | C48: =SUM(A48:B48) -> 0 | D48: =A48-B48 -> 0
A49: =IFERROR(HLOOKUP($A$1,'liste CIRCUIT'!$B:$AM,49,0)," ") -> 0 | B49: =IFERROR(HLOOKUP($B$1,'liste CIRCUIT'!$B:$AM,49,0)," ") -> 0 | C49: =SUM(A49:B49) -> 0 | D49: =A49-B49 -> 0
A50: =IFERROR(HLOOKUP($A$1,'liste CIRCUIT'!$B:$AM,50,0)," ") -> 0 | B50: =IFERROR(HLOOKUP($B$1,'liste CIRCUIT'!$B:$AM,50,0)," ") -> 0 | C50: =SUM(A50:B50) -> 0 | D50: =A50-B50 -> 0
A51: =IFERROR(HLOOKUP($A$1,'liste CIRCUIT'!$B:$AM,51,0)," ") -> 0 | B51: =IFERROR(HLOOKUP($B$1,'liste CIRCUIT'!$B:$AM,51,0)," ") -> 0 | C51: =SUM(A51:B51) -> 0 | D51: =A51-B51 -> 0
A52: =IFERROR(HLOOKUP($A$1,'liste CIRCUIT'!$B:$AM,52,0)," ") -> 0 | B52: =IFERROR(HLOOKUP($B$1,'liste CIRCUIT'!$B:$AM,52,0)," ") -> 0 | C52: =SUM(A52:B52) -> 0 | D52: =A52-B52 -> 0
A53: =IFERROR(HLOOKUP($A$1,'liste CIRCUIT'!$B:$AM,53,0)," ") -> 0 | B53: =IFERROR(HLOOKUP($B$1,'liste CIRCUIT'!$B:$AM,53,0)," ") -> 1 | C53: =SUM(A53:B53) -> 1 | D53: =A53-B53 -> -1
A54: =IFERROR(HLOOKUP($A$1,'liste CIRCUIT'!$B:$AM,54,0)," ") -> 0 | B54: =IFERROR(HLOOKUP($B$1,'liste CIRCUIT'!$B:$AM,54,0)," ") -> 0 | C54: =SUM(A54:B54) -> 0 | D54: =A54-B54 -> 0
A55: =IFERROR(HLOOKUP($A$1,'liste CIRCUIT'!$B:$AM,55,0)," ") -> 1 | B55: =IFERROR(HLOOKUP($B$1,'liste CIRCUIT'!$B:$AM,55,0)," ") -> 1 | C55: =SUM(A55:B55) -> 2 | D55: =A55-B55 -> 0
A56: =IFERROR(HLOOKUP($A$1,'liste CIRCUIT'!$B:$AM,56,0)," ") -> 1 | B56: =IFERROR(HLOOKUP($B$1,'liste CIRCUIT'!$B:$AM,56,0)," ") -> 1 | C56: =SUM(A56:B56) -> 2 | D56: =A56-B56 -> 0
A57: =IFERROR(HLOOKUP($A$1,'liste CIRCUIT'!$B:$AM,57,0)," ") -> 1 | B57: =IFERROR(HLOOKUP($B$1,'liste CIRCUIT'!$B:$AM,57,0)," ") -> 1 | C57: =SUM(A57:B57) -> 2 | D57: =A57-B57 -> 0
A58: =IFERROR(HLOOKUP($A$1,'liste CIRCUIT'!$B:$AM,58,0)," ") -> 1 | B58: =IFERROR(HLOOKUP($B$1,'liste CIRCUIT'!$B:$AM,58,0)," ") -> 0 | C58: =SUM(A58:B58) -> 1 | D58: =A58-B58 -> 1
A59: =IFERROR(HLOOKUP($A$1,'liste CIRCUIT'!$B:$AM,59,0)," ") -> 0 | B59: =IFERROR(HLOOKUP($B$1,'liste CIRCUIT'!$B:$AM,59,0)," ") -> 1 | C59: =SUM(A59:B59) -> 1 | D59: =A59-B59 -> -1
A60: =IFERROR(HLOOKUP($A$1,'liste CIRCUIT'!$B:$AM,60,0)," ") -> 0 | B60: =IFERROR(HLOOKUP($B$1,'liste CIRCUIT'!$B:$AM,60,0)," ") -> 1 | C60: =SUM(A60:B60) -> 1 | D60: =A60-B60 -> -1
A61: =IFERROR(HLOOKUP($A$1,'liste CIRCUIT'!$B:$AM,61,0)," ") -> 0 | B61: =IFERROR(HLOOKUP($B$1,'liste CIRCUIT'!$B:$AM,61,0)," ") -> 1 | C61: =SUM(A61:B61) -> 1 | D61: =A61-B61 -> -1
A62: =IFERROR(HLOOKUP($A$1,'liste CIRCUIT'!$B:$AM,62,0)," ") -> 0 | B62: =IFERROR(HLOOKUP($B$1,'liste CIRCUIT'!$B:$AM,62,0)," ") -> 1 | C62: =SUM(A62:B62) -> 1 | D62: =A62-B62 -> -1
A63: =IFERROR(HLOOKUP($A$1,'liste CIRCUIT'!$B:$AM,63,0)," ") -> 0 | B63: =IFERROR(HLOOKUP($B$1,'liste CIRCUIT'!$B:$AM,63,0)," ") -> 1 | C63: =SUM(A63:B63) -> 1 | D63: =A63-B63 -> -1
A64: =IFERROR(HLOOKUP($A$1,'liste CIRCUIT'!$B:$AM,64,0)," ") -> 0 | B64: =IFERROR(HLOOKUP($B$1,'liste CIRCUIT'!$B:$AM,64,0)," ") -> 1 | C64: =SUM(A64:B64) -> 1 | D64: =A64-B64 -> -1
A65: =IFERROR(HLOOKUP($A$1,'liste CIRCUIT'!$B:$AM,65,0)," ") -> 1 | B65: =IFERROR(HLOOKUP($B$1,'liste CIRCUIT'!$B:$AM,65,0)," ") -> 1 | C65: =SUM(A65:B65) -> 2 | D65: =A65-B65 -> 0
A66: =IFERROR(HLOOKUP($A$1,'liste CIRCUIT'!$B:$AM,66,0)," ") -> 1 | B66: =IFERROR(HLOOKUP($B$1,'liste CIRCUIT'!$B:$AM,66,0)," ") -> 1 | C66: =SUM(A66:B66) -> 2 | D66: =A66-B66 -> 0
A67: =IFERROR(HLOOKUP($A$1,'liste CIRCUIT'!$B:$AM,67,0)," ") -> 1 | B67: =IFERROR(HLOOKUP($B$1,'liste CIRCUIT'!$B:$AM,67,0)," ") -> 1 | C67: =SUM(A67:B67) -> 2 | D67: =A67-B67 -> 0
A68: =IFERROR(HLOOKUP($A$1,'liste CIRCUIT'!$B:$AM,68,0)," ") -> 0 | B68: =IFERROR(HLOOKUP($B$1,'liste CIRCUIT'!$B:$AM,68,0)," ") -> 0 | C68: =SUM(A68:B68) -> 0 | D68: =A68-B68 -> 0
A69: =IFERROR(HLOOKUP($A$1,'liste CIRCUIT'!$B:$AM,69,0)," ") -> 0 | B69: =IFERROR(HLOOKUP($B$1,'liste CIRCUIT'!$B:$AM,69,0)," ") -> 0 | C69: =SUM(A69:B69) -> 0 | D69: =A69-B69 -> 0
A70: =IFERROR(HLOOKUP($A$1,'liste CIRCUIT'!$B:$AM,70,0)," ") -> 0 | B70: =IFERROR(HLOOKUP($B$1,'liste CIRCUIT'!$B:$AM,70,0)," ") -> 0 | C70: =SUM(A70:B70) -> 0 | D70: =A70-B70 -> 0
A71: =IFERROR(HLOOKUP($A$1,'liste CIRCUIT'!$B:$AM,71,0)," ") -> 0 | B71: =IFERROR(HLOOKUP($B$1,'liste CIRCUIT'!$B:$AM,71,0)," ") -> 0 | C71: =SUM(A71:B71) -> 0 | D71: =A71-B71 -> 0
A72: =IFERROR(HLOOKUP($A$1,'liste CIRCUIT'!$B:$AM,72,0)," ") -> 0 | B72: =IFERROR(HLOOKUP($B$1,'liste CIRCUIT'!$B:$AM,72,0)," ") -> 0 | C72: =SUM(A72:B72) -> 0 | D72: =A72-B72 -> 0
A73: =IFERROR(HLOOKUP($A$1,'liste CIRCUIT'!$B:$AM,73,0)," ") -> 0 | B73: =IFERROR(HLOOKUP($B$1,'liste CIRCUIT'!$B:$AM,73,0)," ") -> 0 | C73: =SUM(A73:B73) -> 0 | D73: =A73-B73 -> 0
A74: =IFERROR(HLOOKUP($A$1,'liste CIRCUIT'!$B:$AM,74,0)," ") -> 0 | B74: =IFERROR(HLOOKUP($B$1,'liste CIRCUIT'!$B:$AM,74,0)," ") -> 0 | C74: =SUM(A74:B74) -> 0 | D74: =A74-B74 -> 0
A75: =IFERROR(HLOOKUP($A$1,'liste CIRCUIT'!$B:$AM,75,0)," ") -> 0 | B75: =IFERROR(HLOOKUP($B$1,'liste CIRCUIT'!$B:$AM,75,0)," ") -> 0 | C75: =SUM(A75:B75) -> 0 | D75: =A75-B75 -> 0
A76: =IFERROR(HLOOKUP($A$1,'liste CIRCUIT'!$B:$AM,76,0)," ") -> 0 | B76: =IFERROR(HLOOKUP($B$1,'liste CIRCUIT'!$B:$AM,76,0)," ") -> 0 | C76: =SUM(A76:B76) -> 0 | D76: =A76-B76 -> 0
A77: =IFERROR(HLOOKUP($A$1,'liste CIRCUIT'!$B:$AM,77,0)," ") -> 0 | B77: =IFERROR(HLOOKUP($B$1,'liste CIRCUIT'!$B:$AM,77,0)," ") -> 0 | C77: =SUM(A77:B77) -> 0 | D77: =A77-B77 -> 0
A78: =IFERROR(HLOOKUP($A$1,'liste CIRCUIT'!$B:$AM,78,0)," ") -> 0 | B78: =IFERROR(HLOOKUP($B$1,'liste CIRCUIT'!$B:$AM,78,0)," ") -> 0 | C78: =SUM(A78:B78) -> 0 | D78: =A78-B78 -> 0
A79: =IFERROR(HLOOKUP($A$1,'liste CIRCUIT'!$B:$AM,79,0)," ") -> 0 | B79: =IFERROR(HLOOKUP($B$1,'liste CIRCUIT'!$B:$AM,79,0)," ") -> 0 | C79: =SUM(A79:B79) -> 0 | D79: =A79-B79 -> 0
A80: =IFERROR(HLOOKUP($A$1,'liste CIRCUIT'!$B:$AM,80,0)," ") -> 0 | B80: =IFERROR(HLOOKUP($B$1,'liste CIRCUIT'!$B:$AM,80,0)," ") -> 0 | C80: =SUM(A80:B80) -> 0 | D80: =A80-B80 -> 0
A81: =IFERROR(HLOOKUP($A$1,'liste CIRCUIT'!$B:$AM,81,0)," ") -> 0 | B81: =IFERROR(HLOOKUP($B$1,'liste CIRCUIT'!$B:$AM,81,0)," ") -> 0 | C81: =SUM(A81:B81) -> 0 | D81: =A81-B81 -> 0
A82: =IFERROR(HLOOKUP($A$1,'liste CIRCUIT'!$B:$AM,82,0)," ") -> 0 | B82: =IFERROR(HLOOKUP($B$1,'liste CIRCUIT'!$B:$AM,82,0)," ") -> 0 | C82: =SUM(A82:B82) -> 0 | D82: =A82-B82 -> 0
A83: =IFERROR(HLOOKUP($A$1,'liste CIRCUIT'!$B:$AM,83,0)," ") -> 0 | B83: =IFERROR(HLOOKUP($B$1,'liste CIRCUIT'!$B:$AM,83,0)," ") -> 0 | C83: =SUM(A83:B83) -> 0 | D83: =A83-B83 -> 0
A84: =IFERROR(HLOOKUP($A$1,'liste CIRCUIT'!$B:$AM,84,0)," ") -> 0 | B84: =IFERROR(HLOOKUP($B$1,'liste CIRCUIT'!$B:$AM,84,0)," ") -> 0 | C84: =SUM(A84:B84) -> 0 | D84: =A84-B84 -> 0
A85: =IFERROR(HLOOKUP($A$1,'liste CIRCUIT'!$B:$AM,85,0)," ") -> 0 | B85: =IFERROR(HLOOKUP($B$1,'liste CIRCUIT'!$B:$AM,85,0)," ") -> 0 | C85: =SUM(A85:B85) -> 0 | D85: =A85-B85 -> 0
A86: =IFERROR(HLOOKUP($A$1,'liste CIRCUIT'!$B:$AM,86,0)," ") -> 0 | B86: =IFERROR(HLOOKUP($B$1,'liste CIRCUIT'!$B:$AM,86,0)," ") -> 0 | C86: =SUM(A86:B86) -> 0 | D86: =A86-B86 -> 0
A87: =IFERROR(HLOOKUP($A$1,'liste CIRCUIT'!$B:$AM,87,0)," ") -> 0 | B87: =IFERROR(HLOOKUP($B$1,'liste CIRCUIT'!$B:$AM,87,0)," ") -> 1 | C87: =SUM(A87:B87) -> 1 | D87: =A87-B87 -> -1
A88: =IFERROR(HLOOKUP($A$1,'liste CIRCUIT'!$B:$AM,88,0)," ") -> 0 | B88: =IFERROR(HLOOKUP($B$1,'liste CIRCUIT'!$B:$AM,88,0)," ") -> 1 | C88: =SUM(A88:B88) -> 1 | D88: =A88-B88 -> -1
A89: =IFERROR(HLOOKUP($A$1,'liste CIRCUIT'!$B:$AM,89,0)," ") -> 0 | B89: =IFERROR(HLOOKUP($B$1,'liste CIRCUIT'!$B:$AM,89,0)," ") -> 1 | C89: =SUM(A89:B89) -> 1 | D89: =A89-B89 -> -1
A90: =IFERROR(HLOOKUP($A$1,'liste CIRCUIT'!$B:$AM,90,0)," ") -> 0 | B90: =IFERROR(HLOOKUP($B$1,'liste CIRCUIT'!$B:$AM,90,0)," ") -> 1 | C90: =SUM(A90:B90) -> 1 | D90: =A90-B90 -> -1
A91: =IFERROR(HLOOKUP($A$1,'liste CIRCUIT'!$B:$AM,91,0)," ") -> 1 | B91: =IFERROR(HLOOKUP($B$1,'liste CIRCUIT'!$B:$AM,91,0)," ") -> 1 | C91: =SUM(A91:B91) -> 2 | D91: =A91-B91 -> 0
A92: =IFERROR(HLOOKUP($A$1,'liste CIRCUIT'!$B:$AM,92,0)," ") -> 0 | B92: =IFERROR(HLOOKUP($B$1,'liste CIRCUIT'!$B:$AM,92,0)," ") -> 0 | C92: =SUM(A92:B92) -> 0 | D92: =A92-B92 -> 0
A93: =IFERROR(HLOOKUP($A$1,'liste CIRCUIT'!$B:$AM,93,0)," ") -> 0 | B93: =IFERROR(HLOOKUP($B$1,'liste CIRCUIT'!$B:$AM,93,0)," ") -> 0 | C93: =SUM(A93:B93) -> 0 | D93: =A93-B93 -> 0
A94: =IFERROR(HLOOKUP($A$1,'liste CIRCUIT'!$B:$AM,94,0)," ") -> 0 | B94: =IFERROR(HLOOKUP($B$1,'liste CIRCUIT'!$B:$AM,94,0)," ") -> 0 | C94: =SUM(A94:B94) -> 0 | D94: =A94-B94 -> 0
A95: =IFERROR(HLOOKUP($A$1,'liste CIRCUIT'!$B:$AM,95,0)," ") -> 0 | B95: =IFERROR(HLOOKUP($B$1,'liste CIRCUIT'!$B:$AM,95,0)," ") -> 0 | C95: =SUM(A95:B95) -> 0 | D95: =A95-B95 -> 0
A96: =IFERROR(HLOOKUP($A$1,'liste CIRCUIT'!$B:$AM,96,0)," ") -> 0 | B96: =IFERROR(HLOOKUP($B$1,'liste CIRCUIT'!$B:$AM,96,0)," ") -> 0 | C96: =SUM(A96:B96) -> 0 | D96: =A96-B96 -> 0
A97: =IFERROR(HLOOKUP($A$1,'liste CIRCUIT'!$B:$AM,97,0)," ") -> 0 | B97: =IFERROR(HLOOKUP($B$1,'liste CIRCUIT'!$B:$AM,97,0)," ") -> 0 | C97: =SUM(A97:B97) -> 0 | D97: =A97-B97 -> 0
A98: =IFERROR(HLOOKUP($A$1,'liste CIRCUIT'!$B:$AM,98,0)," ") -> 0 | B98: =IFERROR(HLOOKUP($B$1,'liste CIRCUIT'!$B:$AM,98,0)," ") -> 0 | C98: =SUM(A98:B98) -> 0 | D98: =A98-B98 -> 0
A99: =IFERROR(HLOOKUP($A$1,'liste CIRCUIT'!$B:$AM,99,0)," ") -> 1 | B99: =IFERROR(HLOOKUP($B$1,'liste CIRCUIT'!$B:$AM,99,0)," ") -> 0 | C99: =SUM(A99:B99) -> 1 | D99: =A99-B99 -> 1
A100: =IFERROR(HLOOKUP($A$1,'liste CIRCUIT'!$B:$AM,100,0)," ") -> 0 | B100: =IFERROR(HLOOKUP($B$1,'liste CIRCUIT'!$B:$AM,100,0)," ") -> 1 | C100: =SUM(A100:B100) -> 1 | D100: =A100-B100 -> -1
...

Sheet Feuil1
B4: CIRCUIT | C4: 240140810 | D4: 240142059 | E4: 240147750 | F4: 240148188 | G4: 240141969 | H4: 240143090 | I4: 240149909 | J4: 240146547 | K4: 240144449 | L4: 240146367 | M4: 240148113 | N4: 240146790 | O4: 240144449R
B5: 240140810 | C5: =IF(AND(CIRCUIT!$A$1 = C$4,CIRCUIT!$B$1 =$B5), CIRCUIT!$C$1321,"NA") -> NA | D5: =IF(AND(CIRCUIT!$A$1 = D$4,CIRCUIT!$B$1 =$B5), CIRCUIT!$C$1321,"NA") -> NA | E5: =IF(AND(CIRCUIT!$A$1 = E$4,CIRCUIT!$B$1 =$B5), CIRCUIT!$C$1321,"NA") -> NA | F5: =IF(AND(CIRCUIT!$A$1 = F$4,CIRCUIT!$B$1 =$B5), CIRCUIT!$C$1321,"NA") -> NA | G5: =IF(AND(CIRCUIT!$A$1 = G$4,CIRCUIT!$B$1 =$B5), CIRCUIT!$C$1321,"NA") -> NA | H5: =IF(AND(CIRCUIT!$A$1 = H$4,CIRCUIT!$B$1 =$B5), CIRCUIT!$C$1321,"NA") -> NA | I5: =IF(AND(CIRCUIT!$A$1 = I$4,CIRCUIT!$B$1 =$B5), CIRCUIT!$C$1321,"NA") -> NA | J5: =IF(AND(CIRCUIT!$A$1 = J$4,CIRCUIT!$B$1 =$B5), CIRCUIT!$C$1321,"NA") -> NA | ... O5: =IF(AND(CIRCUIT!$A$1 = O$4,CIRCUIT!$B$1 =$B5), CIRCUIT!$C$1321,"NA") -> NA
B6: 240142059 | C6: =IF(AND(CIRCUIT!$A$1 = C$4,CIRCUIT!$B$1 =$B6), CIRCUIT!$C$1321,"NA") -> NA | D6: =IF(AND(CIRCUIT!$A$1 = D$4,CIRCUIT!$B$1 =$B6), CIRCUIT!$C$1321,"NA") -> NA | E6: =IF(AND(CIRCUIT!$A$1 = E$4,CIRCUIT!$B$1 =$B6), CIRCUIT!$C$1321,"NA") -> NA | F6: =IF(AND(CIRCUIT!$A$1 = F$4,CIRCUIT!$B$1 =$B6), CIRCUIT!$C$1321,"NA") -> NA | G6: =IF(AND(CIRCUIT!$A$1 = G$4,CIRCUIT!$B$1 =$B6), CIRCUIT!$C$1321,"NA") -> NA | H6: =IF(AND(CIRCUIT!$A$1 = H$4,CIRCUIT!$B$1 =$B6), CIRCUIT!$C$1321,"NA") -> NA | I6: =IF(AND(CIRCUIT!$A$1 = I$4,CIRCUIT!$B$1 =$B6), CIRCUIT!$C$1321,"NA") -> NA | J6: =IF(AND(CIRCUIT!$A$1 = J$4,CIRCUIT!$B$1 =$B6), CIRCUIT!$C$1321,"NA") -> NA | ... O6: =IF(AND(CIRCUIT!$A$1 = O$4,CIRCUIT!$B$1 =$B6), CIRCUIT!$C$1321,"NA") -> NA
B7: 240147750 | C7: =IF(AND(CIRCUIT!$A$1 = C$4,CIRCUIT!$B$1 =$B7), CIRCUIT!$C$1321,"NA") -> NA | D7: =IF(AND(CIRCUIT!$A$1 = D$4,CIRCUIT!$B$1 =$B7), CIRCUIT!$C$1321,"NA") -> NA | E7: =IF(AND(CIRCUIT!$A$1 = E$4,CIRCUIT!$B$1 =$B7), CIRCUIT!$C$1321,"NA") -> NA | F7: =IF(AND(CIRCUIT!$A$1 = F$4,CIRCUIT!$B$1 =$B7), CIRCUIT!$C$1321,"NA") -> NA | G7: =IF(AND(CIRCUIT!$A$1 = G$4,CIRCUIT!$B$1 =$B7), CIRCUIT!$C$1321,"NA") -> NA | H7: =IF(AND(CIRCUIT!$A$1 = H$4,CIRCUIT!$B$1 =$B7), CIRCUIT!$C$1321,"NA") -> NA | I7: =IF(AND(CIRCUIT!$A$1 = I$4,CIRCUIT!$B$1 =$B7), CIRCUIT!$C$1321,"NA") -> NA | J7: =IF(AND(CIRCUIT!$A$1 = J$4,CIRCUIT!$B$1 =$B7), CIRCUIT!$C$1321,"NA") -> NA | ... O7: =IF(AND(CIRCUIT!$A$1 = O$4,CIRCUIT!$B$1 =$B7), CIRCUIT!$C$1321,"NA") -> NA
B8: 240148188 | C8: =IF(AND(CIRCUIT!$A$1 = C$4,CIRCUIT!$B$1 =$B8), CIRCUIT!$C$1321,"NA") -> NA | D8: =IF(AND(CIRCUIT!$A$1 = D$4,CIRCUIT!$B$1 =$B8), CIRCUIT!$C$1321,"NA") -> NA | E8: =IF(AND(CIRCUIT!$A$1 = E$4,CIRCUIT!$B$1 =$B8), CIRCUIT!$C$1321,"NA") -> NA | F8: =IF(AND(CIRCUIT!$A$1 = F$4,CIRCUIT!$B$1 =$B8), CIRCUIT!$C$1321,"NA") -> NA | G8: =IF(AND(CIRCUIT!$A$1 = G$4,CIRCUIT!$B$1 =$B8), CIRCUIT!$C$1321,"NA") -> NA | H8: =IF(AND(CIRCUIT!$A$1 = H$4,CIRCUIT!$B$1 =$B8), CIRCUIT!$C$1321,"NA") -> NA | I8: =IF(AND(CIRCUIT!$A$1 = I$4,CIRCUIT!$B$1 =$B8), CIRCUIT!$C$1321,"NA") -> NA | J8: =IF(AND(CIRCUIT!$A$1 = J$4,CIRCUIT!$B$1 =$B8), CIRCUIT!$C$1321,"NA") -> NA | ... O8: =IF(AND(CIRCUIT!$A$1 = O$4,CIRCUIT!$B$1 =$B8), CIRCUIT!$C$1321,"NA") -> NA
B9: 240141969 | C9: =IF(AND(CIRCUIT!$A$1 = C$4,CIRCUIT!$B$1 =$B9), CIRCUIT!$C$1321,"NA") -> NA | D9: =IF(AND(CIRCUIT!$A$1 = D$4,CIRCUIT!$B$1 =$B9), CIRCUIT!$C$1321,"NA") -> NA | E9: =IF(AND(CIRCUIT!$A$1 = E$4,CIRCUIT!$B$1 =$B9), CIRCUIT!$C$1321,"NA") -> NA | F9: =IF(AND(CIRCUIT!$A$1 = F$4,CIRCUIT!$B$1 =$B9), CIRCUIT!$C$1321,"NA") -> NA | G9: =IF(AND(CIRCUIT!$A$1 = G$4,CIRCUIT!$B$1 =$B9), CIRCUIT!$C$1321,"NA") -> NA | H9: =IF(AND(CIRCUIT!$A$1 = H$4,CIRCUIT!$B$1 =$B9), CIRCUIT!$C$1321,"NA") -> NA | I9: =IF(AND(CIRCUIT!$A$1 = I$4,CIRCUIT!$B$1 =$B9), CIRCUIT!$C$1321,"NA") -> NA | J9: =IF(AND(CIRCUIT!$A$1 = J$4,CIRCUIT!$B$1 =$B9), CIRCUIT!$C$1321,"NA") -> NA | ... O9: =IF(AND(CIRCUIT!$A$1 = O$4,CIRCUIT!$B$1 =$B9), CIRCUIT!$C$1321,"NA") -> NA
B10: 240143090 | C10: =IF(AND(CIRCUIT!$A$1 = C$4,CIRCUIT!$B$1 =$B10), CIRCUIT!$C$1321,"NA") -> NA | D10: =IF(AND(CIRCUIT!$A$1 = D$4,CIRCUIT!$B$1 =$B10), CIRCUIT!$C$1321,"NA") -> NA | E10: =IF(AND(CIRCUIT!$A$1 = E$4,CIRCUIT!$B$1 =$B10), CIRCUIT!$C$1321,"NA") -> NA | F10: =IF(AND(CIRCUIT!$A$1 = F$4,CIRCUIT!$B$1 =$B10), CIRCUIT!$C$1321,"NA") -> NA | G10: =IF(AND(CIRCUIT!$A$1 = G$4,CIRCUIT!$B$1 =$B10), CIRCUIT!$C$1321,"NA") -> NA | H10: =IF(AND(CIRCUIT!$A$1 = H$4,CIRCUIT!$B$1 =$B10), CIRCUIT!$C$1321,"NA") -> NA | I10: =IF(AND(CIRCUIT!$A$1 = I$4,CIRCUIT!$B$1 =$B10), CIRCUIT!$C$1321,"NA") -> NA | J10: =IF(AND(CIRCUIT!$A$1 = J$4,CIRCUIT!$B$1 =$B10), CIRCUIT!$C$1321,"NA") -> NA | ... O10: =IF(AND(CIRCUIT!$A$1 = O$4,CIRCUIT!$B$1 =$B10), CIRCUIT!$C$1321,"NA") -> NA
B11: 240149909 | C11: =IF(AND(CIRCUIT!$A$1 = C$4,CIRCUIT!$B$1 =$B11), CIRCUIT!$C$1321,"NA") -> NA | D11: =IF(AND(CIRCUIT!$A$1 = D$4,CIRCUIT!$B$1 =$B11), CIRCUIT!$C$1321,"NA") -> NA | E11: =IF(AND(CIRCUIT!$A$1 = E$4,CIRCUIT!$B$1 =$B11), CIRCUIT!$C$1321,"NA") -> NA | F11: =IF(AND(CIRCUIT!$A$1 = F$4,CIRCUIT!$B$1 =$B11), CIRCUIT!$C$1321,"NA") -> NA | G11: =IF(AND(CIRCUIT!$A$1 = G$4,CIRCUIT!$B$1 =$B11), CIRCUIT!$C$1321,"NA") -> NA | H11: =IF(AND(CIRCUIT!$A$1 = H$4,CIRCUIT!$B$1 =$B11), CIRCUIT!$C$1321,"NA") -> NA | I11: =IF(AND(CIRCUIT!$A$1 = I$4,CIRCUIT!$B$1 =$B11), CIRCUIT!$C$1321,"NA") -> NA | J11: =IF(AND(CIRCUIT!$A$1 = J$4,CIRCUIT!$B$1 =$B11), CIRCUIT!$C$1321,"NA") -> NA | ... O11: =IF(AND(CIRCUIT!$A$1 = O$4,CIRCUIT!$B$1 =$B11), CIRCUIT!$C$1321,"NA") -> NA
B12: 240146547 | C12: =IF(AND(CIRCUIT!$A$1 = C$4,CIRCUIT!$B$1 =$B12), CIRCUIT!$C$1321,"NA") -> NA | D12: =IF(AND(CIRCUIT!$A$1 = D$4,CIRCUIT!$B$1 =$B12), CIRCUIT!$C$1321,"NA") -> NA | E12: =IF(AND(CIRCUIT!$A$1 = E$4,CIRCUIT!$B$1 =$B12), CIRCUIT!$C$1321,"NA") -> NA | F12: =IF(AND(CIRCUIT!$A$1 = F$4,CIRCUIT!$B$1 =$B12), CIRCUIT!$C$1321,"NA") -> NA | G12: =IF(AND(CIRCUIT!$A$1 = G$4,CIRCUIT!$B$1 =$B12), CIRCUIT!$C$1321,"NA") -> NA | H12: =IF(AND(CIRCUIT!$A$1 = H$4,CIRCUIT!$B$1 =$B12), CIRCUIT!$C$1321,"NA") -> NA | I12: =IF(AND(CIRCUIT!$A$1 = I$4,CIRCUIT!$B$1 =$B12), CIRCUIT!$C$1321,"NA") -> NA | J12: =IF(AND(CIRCUIT!$A$1 = J$4,CIRCUIT!$B$1 =$B12), CIRCUIT!$C$1321,"NA") -> NA | ... O12: =IF(AND(CIRCUIT!$A$1 = O$4,CIRCUIT!$B$1 =$B12), CIRCUIT!$C$1321,"NA") -> NA
B13: 240144449 | C13: =IF(AND(CIRCUIT!$A$1 = C$4,CIRCUIT!$B$1 =$B13), CIRCUIT!$C$1321,"NA") -> NA | D13: =IF(AND(CIRCUIT!$A$1 = D$4,CIRCUIT!$B$1 =$B13), CIRCUIT!$C$1321,"NA") -> NA | E13: =IF(AND(CIRCUIT!$A$1 = E$4,CIRCUIT!$B$1 =$B13), CIRCUIT!$C$1321,"NA") -> NA | F13: =IF(AND(CIRCUIT!$A$1 = F$4,CIRCUIT!$B$1 =$B13), CIRCUIT!$C$1321,"NA") -> NA | G13: =IF(AND(CIRCUIT!$A$1 = G$4,CIRCUIT!$B$1 =$B13), CIRCUIT!$C$1321,"NA") -> NA | H13: =IF(AND(CIRCUIT!$A$1 = H$4,CIRCUIT!$B$1 =$B13), CIRCUIT!$C$1321,"NA") -> NA | I13: =IF(AND(CIRCUIT!$A$1 = I$4,CIRCUIT!$B$1 =$B13), CIRCUIT!$C$1321,"NA") -> NA | J13: =IF(AND(CIRCUIT!$A$1 = J$4,CIRCUIT!$B$1 =$B13), CIRCUIT!$C$1321,"NA") -> NA | ... O13: =IF(AND(CIRCUIT!$A$1 = O$4,CIRCUIT!$B$1 =$B13), CIRCUIT!$C$1321,"NA") -> NA
B14: 240146367 | C14: =IF(AND(CIRCUIT!$A$1 = C$4,CIRCUIT!$B$1 =$B14), CIRCUIT!$C$1321,"NA") -> NA | D14: =IF(AND(CIRCUIT!$A$1 = D$4,CIRCUIT!$B$1 =$B14), CIRCUIT!$C$1321,"NA") -> NA | E14: =IF(AND(CIRCUIT!$A$1 = E$4,CIRCUIT!$B$1 =$B14), CIRCUIT!$C$1321,"NA") -> NA | F14: =IF(AND(CIRCUIT!$A$1 = F$4,CIRCUIT!$B$1 =$B14), CIRCUIT!$C$1321,"NA") -> NA | G14: =IF(AND(CIRCUIT!$A$1 = G$4,CIRCUIT!$B$1 =$B14), CIRCUIT!$C$1321,"NA") -> NA | H14: =IF(AND(CIRCUIT!$A$1 = H$4,CIRCUIT!$B$1 =$B14), CIRCUIT!$C$1321,"NA") -> NA | I14: =IF(AND(CIRCUIT!$A$1 = I$4,CIRCUIT!$B$1 =$B14), CIRCUIT!$C$1321,"NA") -> NA | J14: =IF(AND(CIRCUIT!$A$1 = J$4,CIRCUIT!$B$1 =$B14), CIRCUIT!$C$1321,"NA") -> NA | ... O14: =IF(AND(CIRCUIT!$A$1 = O$4,CIRCUIT!$B$1 =$B14), CIRCUIT!$C$1321,"NA") -> NA
B15: 240148113 | C15: =IF(AND(CIRCUIT!$A$1 = C$4,CIRCUIT!$B$1 =$B15), CIRCUIT!$C$1321,"NA") -> NA | D15: =IF(AND(CIRCUIT!$A$1 = D$4,CIRCUIT!$B$1 =$B15), CIRCUIT!$C$1321,"NA") -> NA | E15: =IF(AND(CIRCUIT!$A$1 = E$4,CIRCUIT!$B$1 =$B15), CIRCUIT!$C$1321,"NA") -> NA | F15: =IF(AND(CIRCUIT!$A$1 = F$4,CIRCUIT!$B$1 =$B15), CIRCUIT!$C$1321,"NA") -> NA | G15: =IF(AND(CIRCUIT!$A$1 = G$4,CIRCUIT!$B$1 =$B15), CIRCUIT!$C$1321,"NA") -> NA | H15: =IF(AND(CIRCUIT!$A$1 = H$4,CIRCUIT!$B$1 =$B15), CIRCUIT!$C$1321,"NA") -> NA | I15: =IF(AND(CIRCUIT!$A$1 = I$4,CIRCUIT!$B$1 =$B15), CIRCUIT!$C$1321,"NA") -> NA | J15: =IF(AND(CIRCUIT!$A$1 = J$4,CIRCUIT!$B$1 =$B15), CIRCUIT!$C$1321,"NA") -> NA | ... O15: =IF(AND(CIRCUIT!$A$1 = O$4,CIRCUIT!$B$1 =$B15), CIRCUIT!$C$1321,"NA") -> NA
B16: 240146790 | C16: =IF(AND(CIRCUIT!$A$1 = C$4,CIRCUIT!$B$1 =$B16), CIRCUIT!$C$1321,"NA") -> NA | D16: =IF(AND(CIRCUIT!$A$1 = D$4,CIRCUIT!$B$1 =$B16), CIRCUIT!$C$1321,"NA") -> NA | E16: =IF(AND(CIRCUIT!$A$1 = E$4,CIRCUIT!$B$1 =$B16), CIRCUIT!$C$1321,"NA") -> NA | F16: =IF(AND(CIRCUIT!$A$1 = F$4,CIRCUIT!$B$1 =$B16), CIRCUIT!$C$1321,"NA") -> NA | G16: =IF(AND(CIRCUIT!$A$1 = G$4,CIRCUIT!$B$1 =$B16), CIRCUIT!$C$1321,"NA") -> NA | H16: =IF(AND(CIRCUIT!$A$1 = H$4,CIRCUIT!$B$1 =$B16), CIRCUIT!$C$1321,"NA") -> NA | I16: =IF(AND(CIRCUIT!$A$1 = I$4,CIRCUIT!$B$1 =$B16), CIRCUIT!$C$1321,"NA") -> NA | J16: =IF(AND(CIRCUIT!$A$1 = J$4,CIRCUIT!$B$1 =$B16), CIRCUIT!$C$1321,"NA") -> NA | ... O16: =IF(AND(CIRCUIT!$A$1 = O$4,CIRCUIT!$B$1 =$B16), CIRCUIT!$C$1321,"NA") -> NA
B17: 240143910R | C17: =IF(AND(CIRCUIT!$A$1 = C$4,CIRCUIT!$B$1 =$B17), CIRCUIT!$C$1321,"NA") -> NA | D17: =IF(AND(CIRCUIT!$A$1 = D$4,CIRCUIT!$B$1 =$B17), CIRCUIT!$C$1321,"NA") -> NA | E17: =IF(AND(CIRCUIT!$A$1 = E$4,CIRCUIT!$B$1 =$B17), CIRCUIT!$C$1321,"NA") -> NA | F17: =IF(AND(CIRCUIT!$A$1 = F$4,CIRCUIT!$B$1 =$B17), CIRCUIT!$C$1321,"NA") -> NA | G17: =IF(AND(CIRCUIT!$A$1 = G$4,CIRCUIT!$B$1 =$B17), CIRCUIT!$C$1321,"NA") -> NA | H17: =IF(AND(CIRCUIT!$A$1 = H$4,CIRCUIT!$B$1 =$B17), CIRCUIT!$C$1321,"NA") -> NA | I17: =IF(AND(CIRCUIT!$A$1 = I$4,CIRCUIT!$B$1 =$B17), CIRCUIT!$C$1321,"NA") -> NA | J17: =IF(AND(CIRCUIT!$A$1 = J$4,CIRCUIT!$B$1 =$B17), CIRCUIT!$C$1321,"NA") -> NA | ... O17: =IF(AND(CIRCUIT!$A$1 = O$4,CIRCUIT!$B$1 =$B17), CIRCUIT!$C$1321,"NA") -> 259
