Workbook

Sheet liste CIRCUIT
A1: Nº COMP | B1: 240140810R | C1: 240141969R | D1: 240142059R | E1: 240142190R | F1: 240142507R | G1: 240143090R | H1: 240143851R | I1: 240143910R | J1: 240144335R | K1: 240144449R | L1: 240145670R | M1: 240145684R | N1: 240145697R | O1: 240145816R | P1: 240146095R | Q1: 240146154R | R1: 240146367R | S1: 240146485R | T1: 240146547R | U1: 240146713R | V1: 240146737R | W1: 240146790R | X1: 240147363R | Y1: 240147750R | Z1: 240147893R | AA1: 240147957R | AB1: 240148113R | AC1: 240148164R | AD1: 240148188R | AE1: 240148276R | AF1: 240148548R | AG1: 240148811R | AH1: 240149238R | AI1: 240149494R | AJ1: 240149497R | AK1: 240149909R | AL1: 8201260400 | AM1: 8201260401
A2: 1 | C2: 1 | F2: 1 | G2: 1 | H2: 1 | I2: 1 | J2: 1 | K2: 1 | L2: 1 | M2: 1 | O2: 1 | P2: 1 | Q2: 1 | R2: 1 | S2: 1 | T2: 1 | V2: 1 | W2: 1 | X2: 1 | Z2: 1 | AA2: 1 | AB2: 1 | AC2: 1 | AD2: 1 | AE2: 1 | AF2: 1 | AH2: 1 | AI2: 1 | AJ2: 1 | AK2: 1 | AM2: 1
A3: 2 | C3: 1 | F3: 1 | G3: 1 | H3: 1 | I3: 1 | J3: 1 | K3: 1 | L3: 1 | M3: 1 | O3: 1 | P3: 1 | Q3: 1 | R3: 1 | S3: 1 | T3: 1 | V3: 1 | W3: 1 | X3: 1 | Z3: 1 | AA3: 1 | AB3: 1 | AC3: 1 | AD3: 1 | AE3: 1 | AF3: 1 | AH3: 1 | AI3: 1 | AJ3: 1 | AK3: 1 | AM3: 1
A4: 3 | C4: 1 | F4: 1 | G4: 1 | H4: 1 | I4: 1 | J4: 1 | K4: 1 | L4: 1 | M4: 1 | O4: 1 | P4: 1 | Q4: 1 | R4: 1 | S4: 1 | T4: 1 | V4: 1 | W4: 1 | X4: 1 | Z4: 1 | AA4: 1 | AB4: 1 | AC4: 1 | AD4: 1 | AE4: 1 | AF4: 1 | AH4: 1 | AI4: 1 | AJ4: 1 | AK4: 1 | AM4: 1
A5: 4 | C5: 1 | F5: 1 | G5: 1 | H5: 1 | I5: 1 | J5: 1 | K5: 1 | L5: 1 | M5: 1 | O5: 1 | P5: 1 | Q5: 1 | R5: 1 | S5: 1 | T5: 1 | V5: 1 | W5: 1 | X5: 1 | Z5: 1 | AA5: 1 | AB5: 1 | AC5: 1 | AD5: 1 | AE5: 1 | AF5: 1 | AH5: 1 | AI5: 1 | AJ5: 1 | AK5: 1 | AM5: 1
A6: 5 | C6: 1 | F6: 1 | G6: 1 | H6: 1 | I6: 1 | J6: 1 | K6: 1 | L6: 1 | M6: 1 | O6: 1 | P6: 1 | Q6: 1 | R6: 1 | S6: 1 | T6: 1 | V6: 1 | W6: 1 | X6: 1 | Z6: 1 | AA6: 1 | AB6: 1 | AC6: 1 | AD6: 1 | AE6: 1 | AF6: 1 | AH6: 1 | AI6: 1 | AJ6: 1 | AK6: 1 | AM6: 1
A7: 6 | C7: 1 | F7: 1 | G7: 1 | H7: 1 | I7: 1 | J7: 1 | K7: 1 | L7: 1 | M7: 1 | O7: 1 | P7: 1 | Q7: 1 | R7: 1 | S7: 1 | T7: 1 | V7: 1 | W7: 1 | X7: 1 | Z7: 1 | AA7: 1 | AB7: 1 | AC7: 1 | AD7: 1 | AE7: 1 | AF7: 1 | AH7: 1 | AI7: 1 | AJ7: 1 | AK7: 1 | AM7: 1
A8: 7 | C8: 1 | F8: 1 | G8: 1 | H8: 1 | I8: 1 | J8: 1 | K8: 1 | L8: 1 | M8: 1 | O8: 1 | P8: 1 | Q8: 1 | R8: 1 | S8: 1 | T8: 1 | V8: 1 | W8: 1 | X8: 1 | Z8: 1 | AA8: 1 | AB8: 1 | AC8: 1 | AD8: 1 | AE8: 1 | AF8: 1 | AH8: 1 | AI8: 1 | AJ8: 1 | AK8: 1 | AM8: 1
A9: 8 | C9: 1 | F9: 1 | G9: 1 | H9: 1 | I9: 1 | J9: 1 | K9: 1 | L9: 1 | M9: 1 | O9: 1 | P9: 1 | Q9: 1 | R9: 1 | S9: 1 | T9: 1 | V9: 1 | W9: 1 | X9: 1 | Z9: 1 | AA9: 1 | AB9: 1 | AC9: 1 | AD9: 1 | AE9: 1 | AF9: 1 | AH9: 1 | AI9: 1 | AJ9: 1 | AK9: 1 | AM9: 1
A10: 9 | C10: 1 | F10: 1 | G10: 1 | H10: 1 | I10: 1 | J10: 1 | K10: 1 | L10: 1 | M10: 1 | O10: 1 | P10: 1 | Q10: 1 | R10: 1 | S10: 1 | T10: 1 | V10: 1 | W10: 1 | X10: 1 | Z10: 1 | AA10: 1 | AB10: 1 | AC10: 1 | AD10: 1 | AE10: 1 | AF10: 1 | AH10: 1 | AI10: 1 | AJ10: 1 | AK10: 1 | AM10: 1
A11: 10 | C11: 1 | F11: 1 | G11: 1 | H11: 1 | I11: 1 | J11: 1 | K11: 1 | L11: 1 | M11: 1 | O11: 1 | P11: 1 | Q11: 1 | R11: 1 | S11: 1 | T11: 1 | V11: 1 | W11: 1 | X11: 1 | Z11: 1 | AA11: 1 | AB11: 1 | AC11: 1 | AD11: 1 | AE11: 1 | AF11: 1 | AH11: 1 | AI11: 1 | AJ11: 1 | AK11: 1 | AM11: 1
A12: 11 | B12: 1 | C12: 1 | D12: 1 | E12: 1 | F12: 1 | G12: 1 | H12: 1 | I12: 1 | J12: 1 | K12: 1 | L12: 1 | M12: 1 | N12: 1 | O12: 1 | P12: 1 | Q12: 1 | R12: 1 | S12: 1 | T12: 1 | U12: 1 | V12: 1 | W12: 1 | X12: 1 | Y12: 1 | Z12: 1 | AA12: 1 | AB12: 1 | AC12: 1 | AD12: 1 | AE12: 1 | AF12: 1 | AG12: 1 | AH12: 1 | AI12: 1 | AJ12: 1 | AK12: 1 | AL12: 1 | AM12: 1
A13: 12 | B13: 1 | C13: 1 | E13: 1 | F13: 1 | G13: 1 | H13: 1 | I13: 1 | J13: 1 | K13: 1 | L13: 1 | M13: 1 | N13: 1 | O13: 1 | P13: 1 | Q13: 1 | R13: 1 | S13: 1 | T13: 1 | U13: 1 | V13: 1 | W13: 1 | X13: 1 | Y13: 1 | Z13: 1 | AA13: 1 | AB13: 1 | AC13: 1 | AE13: 1 | AF13: 1 | AG13: 1 | AH13: 1 | AJ13: 1 | AK13: 1 | AM13: 1
A14: 13 | B14: 1 | C14: 1 | E14: 1 | F14: 1 | G14: 1 | H14: 1 | I14: 1 | J14: 1 | K14: 1 | L14: 1 | M14: 1 | N14: 1 | O14: 1 | P14: 1 | Q14: 1 | R14: 1 | S14: 1 | T14: 1 | U14: 1 | V14: 1 | W14: 1 | X14: 1 | Y14: 1 | Z14: 1 | AA14: 1 | AB14: 1 | AC14: 1 | AE14: 1 | AF14: 1 | AG14: 1 | AH14: 1 | AJ14: 1 | AK14: 1 | AM14: 1
A15: 14 | B15: 1 | C15: 1 | E15: 1 | F15: 1 | G15: 1 | H15: 1 | I15: 1 | J15: 1 | K15: 1 | L15: 1 | M15: 1 | N15: 1 | O15: 1 | P15: 1 | Q15: 1 | R15: 1 | S15: 1 | T15: 1 | U15: 1 | V15: 1 | W15: 1 | X15: 1 | Y15: 1 | Z15: 1 | AA15: 1 | AB15: 1 | AC15: 1 | AE15: 1 | AF15: 1 | AG15: 1 | AH15: 1 | AJ15: 1 | AK15: 1 | AM15: 1
A16: 15 | B16: 1 | C16: 1 | E16: 1 | F16: 1 | G16: 1 | H16: 1 | I16: 1 | J16: 1 | K16: 1 | L16: 1 | M16: 1 | N16: 1 | O16: 1 | P16: 1 | Q16: 1 | R16: 1 | S16: 1 | T16: 1 | U16: 1 | V16: 1 | W16: 1 | X16: 1 | Y16: 1 | Z16: 1 | AA16: 1 | AB16: 1 | AC16: 1 | AE16: 1 | AF16: 1 | AG16: 1 | AH16: 1 | AJ16: 1 | AK16: 1 | AM16: 1
A17: 16 | D17: 1 | AD17: 1 | AI17: 1 | AL17: 1
A18: 16 | B18: 1 | C18: 1 | F18: 1 | K18: 1 | T18: 1 | U18: 1 | Y18: 1 | AA18: 1 | AK18: 1 | AM18: 1
A19: 16 | E19: 1 | H19: 1 | N19: 1 | R19: 1 | S19: 1 | W19: 1 | AE19: 1 | AG19: 1 | AJ19: 1
A20: 16 | I20: 1 | J20: 1 | P20: 1 | AH20: 1
A21: 16 | O21: 1
A22: 17 | C22: 1 | F22: 1 | G22: 1 | H22: 1 | I22: 1 | J22: 1 | K22: 1 | L22: 1 | M22: 1 | O22: 1 | P22: 1 | Q22: 1 | R22: 1 | S22: 1 | T22: 1 | V22: 1 | W22: 1 | X22: 1 | Z22: 1 | AA22: 1 | AB22: 1 | AC22: 1 | AD22: 1 | AE22: 1 | AF22: 1 | AH22: 1 | AI22: 1 | AJ22: 1 | AK22: 1
A23: 18 | B23: 1 | F23: 1 | H23: 1 | N23: 1 | P23: 1 | S23: 1 | AA23: 1 | AE23: 1 | AF23: 1 | AG23: 1 | AH23: 1 | AJ23: 1
A24: 19 | B24: 1 | F24: 1 | H24: 1 | N24: 1 | P24: 1 | S24: 1 | AA24: 1 | AE24: 1 | AF24: 1 | AG24: 1 | AH24: 1 | AJ24: 1
A25: 20 | B25: 1 | D25: 1 | E25: 1 | N25: 1 | U25: 1 | Y25: 1 | AG25: 1
A26: 21 | B26: 1 | C26: 1 | D26: 1 | E26: 1 | F26: 1 | G26: 1 | H26: 1 | I26: 1 | J26: 1 | K26: 1 | L26: 1 | M26: 1 | N26: 1 | O26: 1 | P26: 1 | Q26: 1 | R26: 1 | S26: 1 | T26: 1 | U26: 1 | V26: 1 | W26: 1 | X26: 1 | Y26: 1 | Z26: 1 | AA26: 1 | AB26: 1 | AC26: 1 | AD26: 1 | AE26: 1 | AF26: 1 | AG26: 1 | AH26: 1 | AI26: 1 | AJ26: 1 | AK26: 1 | AL26: 1 | AM26: 1
A27: 22 | B27: 1 | D27: 1 | E27: 1 | N27: 1 | U27: 1 | Y27: 1 | AG27: 1 | AL27: 1
A28: 23 | I28: 1 | J28: 1 | L28: 1 | M28: 1 | O28: 1 | P28: 1 | V28: 1 | X28: 1 | Z28: 1 | AC28: 1 | AF28: 1 | AH28: 1
A29: 24 | I29: 1 | J29: 1 | L29: 1 | M29: 1 | O29: 1 | P29: 1 | V29: 1 | X29: 1 | Z29: 1 | AC29: 1 | AF29: 1 | AH29: 1
A30: 25 | I30: 1 | J30: 1 | L30: 1 | M30: 1 | O30: 1 | P30: 1 | V30: 1 | X30: 1 | Z30: 1 | AC30: 1 | AF30: 1 | AH30: 1
A31: 26 | C31: 1 | F31: 1 | G31: 1 | H31: 1 | I31: 1 | J31: 1 | K31: 1 | L31: 1 | M31: 1 | O31: 1 | P31: 1 | Q31: 1 | R31: 1 | S31: 1 | T31: 1 | V31: 1 | W31: 1 | X31: 1 | Z31: 1 | AA31: 1 | AB31: 1 | AC31: 1 | AD31: 1 | AE31: 1 | AF31: 1 | AH31: 1 | AI31: 1 | AJ31: 1 | AK31: 1 | AM31: 1
A32: 27 | B32: 1 | F32: 1 | H32: 1 | N32: 1 | P32: 1 | S32: 1 | AA32: 1 | AE32: 1 | AF32: 1 | AG32: 1 | AH32: 1 | AJ32: 1
A33: 28 | C33: 1 | F33: 1 | G33: 1 | H33: 1 | I33: 1 | J33: 1 | K33: 1 | L33: 1 | M33: 1 | O33: 1 | P33: 1 | Q33: 1 | R33: 1 | S33: 1 | T33: 1 | V33: 1 | W33: 1 | X33: 1 | Z33: 1 | AA33: 1 | AB33: 1 | AC33: 1 | AD33: 1 | AE33: 1 | AF33: 1 | AH33: 1 | AI33: 1 | AJ33: 1 | AK33: 1 | AM33: 1
A34: 29 | C34: 1 | F34: 1 | G34: 1 | H34: 1 | I34: 1 | J34: 1 | K34: 1 | L34: 1 | M34: 1 | O34: 1 | P34: 1 | Q34: 1 | R34: 1 | S34: 1 | T34: 1 | V34: 1 | W34: 1 | X34: 1 | Z34: 1 | AA34: 1 | AB34: 1 | AC34: 1 | AD34: 1 | AE34: 1 | AF34: 1 | AH34: 1 | AI34: 1 | AJ34: 1 | AK34: 1 | AM34: 1
A35: 30 | C35: 1 | G35: 1 | J35: 1 | L35: 1 | O35: 1 | Q35: 1 | R35: 1 | S35: 1 | T35: 1 | V35: 1 | X35: 1 | Z35: 1 | AA35: 1 | AB35: 1 | AI35: 1 | AJ35: 1 | AM35: 1
A36: 31 | C36: 1 | G36: 1 | J36: 1 | L36: 1 | O36: 1 | Q36: 1 | R36: 1 | S36: 1 | T36: 1 | V36: 1 | X36: 1 | Z36: 1 | AA36: 1 | AB36: 1 | AI36: 1 | AJ36: 1 | AM36: 1
A37: 32 | F37: 1 | H37: 1 | I37: 1 | K37: 1 | M37: 1 | P37: 1 | W37: 1 | AC37: 1 | AD37: 1 | AE37: 1 | AF37: 1 | AH37: 1 | AK37: 1
A38: 33 | F38: 1 | H38: 1 | I38: 1 | K38: 1 | M38: 1 | P38: 1 | W38: 1 | AC38: 1 | AD38: 1 | AE38: 1 | AF38: 1 | AH38: 1 | AK38: 1
A39: 34 | E39: 1 | N39: 1 | U39: 1 | AG39: 1
A40: 34 | C40: 1 | G40: 1 | H40: 1 | I40: 1 | J40: 1 | O40: 1 | P40: 1 | R40: 1 | S40: 1 | V40: 1 | W40: 1 | Z40: 1 | AB40: 1 | AC40: 1 | AE40: 1 | AH40: 1 | AJ40: 1 | AK40: 1 | AM40: 1
...

Sheet CIRCUIT
A1: 240144449R | B1: 240143910R
A2: =IFERROR(HLOOKUP($A$1,'liste CIRCUIT'!$B:$AM,2,0)," ") -> 1 | B2: =IFERROR(HLOOKUP($B$1,'liste CIRCUIT'!$B:$AM,2,0)," ") -> 1 | C2: =SUM(A2:B2) -> 2 | D2: =A2-B2 -> 0
A3: =IFERROR(HLOOKUP($A$1,'liste CIRCUIT'!$B:$AM,3,0)," ") -> 1 | B3: =IFERROR(HLOOKUP($B$1,'liste CIRCUIT'!$B:$AM,3,0)," ") -> 1 | C3: =SUM(A3:B3) -> 2 | D3: =A3-B3 -> 0
A4: =IFERROR(HLOOKUP($A$1,'liste CIRCUIT'!$B:$AM,4,0)," ") -> 1 | B4: =IFERROR(HLOOKUP($B$1,'liste CIRCUIT'!$B:$AM,4,0)," ") -> 1 | C4: =SUM(A4:B4) -> 2 | D4: =A4-B4 -> 0
A5: =IFERROR(HLOOKUP($A$1,'liste CIRCUIT'!$B:$AM,5,0)," ") -> 1 | B5: =IFERROR(HLOOKUP($B$1,'liste CIRCUIT'!$B:$AM,5,0)," ") -> 1 | C5: =SUM(A5:B5) -> 2 | D5: =A5-B5 -> 0
A6: =IFERROR(HLOOKUP($A$1,'liste CIRCUIT'!$B:$AM,6,0)," ") -> 1 | B6: =IFERROR(HLOOKUP($B$1,'liste CIRCUIT'!$B:$AM,6,0)," ") -> 1 | C6: =SUM(A6:B6) -> 2 | D6: =A6-B6 -> 0
A7: =IFERROR(HLOOKUP($A$1,'liste CIRCUIT'!$B:$AM,7,0)," ") -> 1 | B7: =IFERROR(HLOOKUP($B$1,'liste CIRCUIT'!$B:$AM,7,0)," ") -> 1 | C7: =SUM(A7:B7) -> 2 | D7: =A7-B7 -> 0
A8: =IFERROR(HLOOKUP($A$1,'liste CIRCUIT'!$B:$AM,8,0)," ") -> 1 | B8: =IFERROR(HLOOKUP($B$1,'liste CIRCUIT'!$B:$AM,8,0)," ") -> 1 | C8: =SUM(A8:B8) -> 2 | D8: =A8-B8 -> 0
A9: =IFERROR(HLOOKUP($A$1,'liste CIRCUIT'!$B:$AM,9,0)," ") -> 1 | B9: =IFERROR(HLOOKUP($B$1,'liste CIRCUIT'!$B:$AM,9,0)," ") -> 1 | C9: =SUM(A9:B9) -> 2 | D9: =A9-B9 -> 0
A10: =IFERROR(HLOOKUP($A$1,'liste CIRCUIT'!$B:$AM,10,0)," ") -> 1 | B10: =IFERROR(HLOOKUP($B$1,'liste CIRCUIT'!$B:$AM,10,0)," ") -> 1 | C10: =SUM(A10:B10) -> 2 | D10: =A10-B10 -> 0
A11: =IFERROR(HLOOKUP($A$1,'liste CIRCUIT'!$B:$AM,11,0)," ") -> 1 | B11: =IFERROR(HLOOKUP($B$1,'liste CIRCUIT'!$B:$AM,11,0)," ") -> 1 | C11: =SUM(A11:B11) -> 2 | D11: =A11-B11 -> 0
A12: =IFERROR(HLOOKUP($A$1,'liste CIRCUIT'!$B:$AM,12,0)," ") -> 1 | B12: =IFERROR(HLOOKUP($B$1,'liste CIRCUIT'!$B:$AM,12,0)," ") -> 1 | C12: =SUM(A12:B12) -> 2 | D12: =A12-B12 -> 0
A13: =IFERROR(HLOOKUP($A$1,'liste CIRCUIT'!$B:$AM,13,0)," ") -> 1 | B13: =IFERROR(HLOOKUP($B$1,'liste CIRCUIT'!$B:$AM,13,0)," ") -> 1 | C13: =SUM(A13:B13) -> 2 | D13: =A13-B13 -> 0
A14: =IFERROR(HLOOKUP($A$1,'liste CIRCUIT'!$B:$AM,14,0)," ") -> 1 | B14: =IFERROR(HLOOKUP($B$1,'liste CIRCUIT'!$B:$AM,14,0)," ") -> 1 | C14: =SUM(A14:B14) -> 2 | D14: =A14-B14 -> 0
A15: =IFERROR(HLOOKUP($A$1,'liste CIRCUIT'!$B:$AM,15,0)," ") -> 1 | B15: =IFERROR(HLOOKUP($B$1,'liste CIRCUIT'!$B:$AM,15,0)," ") -> 1 | C15: =SUM(A15:B15) -> 2 | D15: =A15-B15 -> 0
A16: =IFERROR(HLOOKUP($A$1,'liste CIRCUIT'!$B:$AM,16,0)," ") -> 1 | B16: =IFERROR(HLOOKUP($B$1,'liste CIRCUIT'!$B:$AM,16,0)," ") -> 1 | C16: =SUM(A16:B16) -> 2 | D16: =A16-B16 -> 0
A17: =IFERROR(HLOOKUP($A$1,'liste CIRCUIT'!$B:$AM,17,0)," ") -> 0 | B17: =IFERROR(HLOOKUP($B$1,'liste CIRCUIT'!$B:$AM,17,0)," ") -> 0 | C17: =SUM(A17:B17) -> 0 | D17: =A17-B17 -> 0
A18: =IFERROR(HLOOKUP($A$1,'liste CIRCUIT'!$B:$AM,18,0)," ") -> 1 | B18: =IFERROR(HLOOKUP($B$1,'liste CIRCUIT'!$B:$AM,18,0)," ") -> 0 | C18: =SUM(A18:B18) -> 1 | D18: =A18-B18 -> 1
A19: =IFERROR(HLOOKUP($A$1,'liste CIRCUIT'!$B:$AM,19,0)," ") -> 0 | B19: =IFERROR(HLOOKUP($B$1,'liste CIRCUIT'!$B:$AM,19,0)," ") -> 0 | C19: =SUM(A19:B19) -> 0 | D19: =A19-B19 -> 0
A20: =IFERROR(HLOOKUP($A$1,'liste CIRCUIT'!$B:$AM,20,0)," ") -> 0 | B20: =IFERROR(HLOOKUP($B$1,'liste CIRCUIT'!$B:$AM,20,0)," ") -> 1 | C20: =SUM(A20:B20) -> 1 | D20: =A20-B20 -> -1
A21: =IFERROR(HLOOKUP($A$1,'liste CIRCUIT'!$B:$AM,21,0)," ") -> 0 | B21: =IFERROR(HLOOKUP($B$1,'liste CIRCUIT'!$B:$AM,21,0)," ") -> 0 | C21: =SUM(A21:B21) -> 0 | D21: =A21-B21 -> 0
A22: =IFERROR(HLOOKUP($A$1,'liste CIRCUIT'!$B:$AM,22,0)," ") -> 1 | B22: =IFERROR(HLOOKUP($B$1,'liste CIRCUIT'!$B:$AM,22,0)," ") -> 1 | C22: =SUM(A22:B22) -> 2 | D22: =A22-B22 -> 0
A23: =IFERROR(HLOOKUP($A$1,'liste CIRCUIT'!$B:$AM,23,0)," ") -> 0 | B23: =IFERROR(HLOOKUP($B$1,'liste CIRCUIT'!$B:$AM,23,0)," ") -> 0 | C23: =SUM(A23:B23) -> 0 | D23: =A23-B23 -> 0
A24: =IFERROR(HLOOKUP($A$1,'liste CIRCUIT'!$B:$AM,24,0)," ") -> 0 | B24: =IFERROR(HLOOKUP($B$1,'liste CIRCUIT'!$B:$AM,24,0)," ") -> 0 | C24: =SUM(A24:B24) -> 0 | D24: =A24-B24 -> 0
A25: =IFERROR(HLOOKUP($A$1,'liste CIRCUIT'!$B:$AM,25,0)," ") -> 0 | B25: =IFERROR(HLOOKUP($B$1,'liste CIRCUIT'!$B:$AM,25,0)," ") -> 0 | C25: =SUM(A25:B25) -> 0 | D25: =A25-B25 -> 0
A26: =IFERROR(HLOOKUP($A$1,'liste CIRCUIT'!$B:$AM,26,0)," ") -> 1 | B26: =IFERROR(HLOOKUP($B$1,'liste CIRCUIT'!$B:$AM,26,0)," ") -> 1 | C26: =SUM(A26:B26) -> 2 | D26: =A26-B26 -> 0
A27: =IFERROR(HLOOKUP($A$1,'liste CIRCUIT'!$B:$AM,27,0)," ") -> 0 | B27: =IFERROR(HLOOKUP($B$1,'liste CIRCUIT'!$B:$AM,27,0)," ") -> 0 | C27: =SUM(A27:B27) -> 0 | D27: =A27-B27 -> 0
A28: =IFERROR(HLOOKUP($A$1,'liste CIRCUIT'!$B:$AM,28,0)," ") -> 0 | B28: =IFERROR(HLOOKUP($B$1,'liste CIRCUIT'!$B:$AM,28,0)," ") -> 1 | C28: =SUM(A28:B28) -> 1 | D28: =A28-B28 -> -1
A29: =IFERROR(HLOOKUP($A$1,'liste CIRCUIT'!$B:$AM,29,0)," ") -> 0 | B29: =IFERROR(HLOOKUP($B$1,'liste CIRCUIT'!$B:$AM,29,0)," ") -> 1 | C29: =SUM(A29:B29) -> 1 | D29: =A29-B29 -> -1
A30: =IFERROR(HLOOKUP($A$1,'liste CIRCUIT'!$B:$AM,30,0)," ") -> 0 | B30: =IFERROR(HLOOKUP($B$1,'liste CIRCUIT'!$B:$AM,30,0)," ") -> 1 | C30: =SUM(A30:B30) -> 1 | D30: =A30-B30 -> -1
A31: =IFERROR(HLOOKUP($A$1,'liste CIRCUIT'!$B:$AM,31,0)," ") -> 1 | B31: =IFERROR(HLOOKUP($B$1,'liste CIRCUIT'!$B:$AM,31,0)," ") -> 1 | C31: =SUM(A31:B31) -> 2 | D31: =A31-B31 -> 0
A32: =IFERROR(HLOOKUP($A$1,'liste CIRCUIT'!$B:$AM,32,0)," ") -> 0 | B32: =IFERROR(HLOOKUP($B$1,'liste CIRCUIT'!$B:$AM,32,0)," ") -> 0 | C32: =SUM(A32:B32) -> 0 | D32: =A32-B32 -> 0
A33: =IFERROR(HLOOKUP($A$1,'liste CIRCUIT'!$B:$AM,33,0)," ") -> 1 | B33: =IFERROR(HLOOKUP($B$1,'liste CIRCUIT'!$B:$AM,33,0)," ") -> 1 | C33: =SUM(A33:B33) -> 2 | D33: =A33-B33 -> 0
A34: =IFERROR(HLOOKUP($A$1,'liste CIRCUIT'!$B:$AM,34,0)," ") -> 1 | B34: =IFERROR(HLOOKUP($B$1,'liste CIRCUIT'!$B:$AM,34,0)," ") -> 1 | C34: =SUM(A34:B34) -> 2 | D34: =A34-B34 -> 0
A35: =IFERROR(HLOOKUP($A$1,'liste CIRCUIT'!$B:$AM,35,0)," ") -> 0 | B35: =IFERROR(HLOOKUP($B$1,'liste CIRCUIT'!$B:$AM,35,0)," ") -> 0 | C35: =SUM(A35:B35) -> 0 | D35: =A35-B35 -> 0
A36: =IFERROR(HLOOKUP($A$1,'liste CIRCUIT'!$B:$AM,36,0)," ") -> 0 | B36: =IFERROR(HLOOKUP($B$1,'liste CIRCUIT'!$B:$AM,36,0)," ") -> 0 | C36: =SUM(A36:B36) -> 0 | D36: =A36-B36 -> 0
A37: =IFERROR(HLOOKUP($A$1,'liste CIRCUIT'!$B:$AM,37,0)," ") -> 1 | B37: =IFERROR(HLOOKUP($B$1,'liste CIRCUIT'!$B:$AM,37,0)," ") -> 1 | C37: =SUM(A37:B37) -> 2 | D37: =A37-B37 -> 0
A38: =IFERROR(HLOOKUP($A$1,'liste CIRCUIT'!$B:$AM,38,0)," ") -> 1 | B38: =IFERROR(HLOOKUP($B$1,'liste CIRCUIT'!$B:$AM,38,0)," ") -> 1 | C38: =SUM(A38:B38) -> 2 | D38: =A38-B38 -> 0
A39: =IFERROR(HLOOKUP($A$1,'liste CIRCUIT'!$B:$AM,39,0)," ") -> 0 | B39: =IFERROR(HLOOKUP($B$1,'liste CIRCUIT'!$B:$AM,39,0)," ") -> 0 | C39: =SUM(A39:B39) -> 0 | D39: =A39-B39 -> 0
A40: =IFERROR(HLOOKUP($A$1,'liste CIRCUIT'!$B:$AM,40,0)," ") -> 0 | B40: =IFERROR(HLOOKUP($B$1,'liste CIRCUIT'!$B:$AM,40,0)," ") -> 1 | C40: =SUM(A40:B40) -> 1 | D40: =A40-B40 -> -1
...

Sheet Feuil1
B4: CIRCUIT | C4: 240140810 | D4: 240142059 | E4: 240147750 | F4: 240148188 | G4: 240141969 | H4: 240143090 | I4: 240149909 | J4: 240146547 | K4: 240144449 | L4: 240146367 | M4: 240148113 | N4: 240146790 | O4: 240144449R
B5: 240140810 | C5: =IF(AND(CIRCUIT!$A$1 = C$4,CIRCUIT!$B$1 =$B5), CIRCUIT!$C$1321,"NA") -> NA | D5: =IF(AND(CIRCUIT!$A$1 = D$4,CIRCUIT!$B$1 =$B5), CIRCUIT!$C$1321,"NA") -> NA | E5: =IF(AND(CIRCUIT!$A$1 = E$4,CIRCUIT!$B$1 =$B5), CIRCUIT!$C$1321,"NA") -> NA | F5: =IF(AND(CIRCUIT!$A$1 = F$4,CIRCUIT!$B$1 =$B5), CIRCUIT!$C$1321,"NA") -> NA | G5: =IF(AND(CIRCUIT!$A$1 = G$4,CIRCUIT!$B$1 =$B5), CIRCUIT!$C$1321,"NA") -> NA | H5: =IF(AND(CIRCUIT!$A$1 = H$4,CIRCUIT!$B$1 =$B5), CIRCUIT!$C$1321,"NA") -> NA | I5: =IF(AND(CIRCUIT!$A$1 = I$4,CIRCUIT!$B$1 =$B5), CIRCUIT!$C$1321,"NA") -> NA | J5: =IF(AND(CIRCUIT!$A$1 = J$4,CIRCUIT!$B$1 =$B5), CIRCUIT!$C$1321,"NA") -> NA | ... O5: =IF(AND(CIRCUIT!$A$1 = O$4,CIRCUIT!$B$1 =$B5), CIRCUIT!$C$1321,"NA") -> NA
B6: 240142059 | C6: =IF(AND(CIRCUIT!$A$1 = C$4,CIRCUIT!$B$1 =$B6), CIRCUIT!$C$1321,"NA") -> NA | D6: =IF(AND(CIRCUIT!$A$1 = D$4,CIRCUIT!$B$1 =$B6), CIRCUIT!$C$1321,"NA") -> NA | E6: =IF(AND(CIRCUIT!$A$1 = E$4,CIRCUIT!$B$1 =$B6), CIRCUIT!$C$1321,"NA") -> NA | F6: =IF(AND(CIRCUIT!$A$1 = F$4,CIRCUIT!$B$1 =$B6), CIRCUIT!$C$1321,"NA") -> NA | G6: =IF(AND(CIRCUIT!$A$1 = G$4,CIRCUIT!$B$1 =$B6), CIRCUIT!$C$1321,"NA") -> NA | H6: =IF(AND(CIRCUIT!$A$1 = H$4,CIRCUIT!$B$1 =$B6), CIRCUIT!$C$1321,"NA") -> NA | I6: =IF(AND(CIRCUIT!$A$1 = I$4,CIRCUIT!$B$1 =$B6), CIRCUIT!$C$1321,"NA") -> NA | J6: =IF(AND(CIRCUIT!$A$1 = J$4,CIRCUIT!$B$1 =$B6), CIRCUIT!$C$1321,"NA") -> NA | ... O6: =IF(AND(CIRCUIT!$A$1 = O$4,CIRCUIT!$B$1 =$B6), CIRCUIT!$C$1321,"NA") -> NA
B7: 240147750 | C7: =IF(AND(CIRCUIT!$A$1 = C$4,CIRCUIT!$B$1 =$B7), CIRCUIT!$C$1321,"NA") -> NA | D7: =IF(AND(CIRCUIT!$A$1 = D$4,CIRCUIT!$B$1 =$B7), CIRCUIT!$C$1321,"NA") -> NA | E7: =IF(AND(CIRCUIT!$A$1 = E$4,CIRCUIT!$B$1 =$B7), CIRCUIT!$C$1321,"NA") -> NA | F7: =IF(AND(CIRCUIT!$A$1 = F$4,CIRCUIT!$B$1 =$B7), CIRCUIT!$C$1321,"NA") -> NA | G7: =IF(AND(CIRCUIT!$A$1 = G$4,CIRCUIT!$B$1 =$B7), CIRCUIT!$C$1321,"NA") -> NA | H7: =IF(AND(CIRCUIT!$A$1 = H$4,CIRCUIT!$B$1 =$B7), CIRCUIT!$C$1321,"NA") -> NA | I7: =IF(AND(CIRCUIT!$A$1 = I$4,CIRCUIT!$B$1 =$B7), CIRCUIT!$C$1321,"NA") -> NA | J7: =IF(AND(CIRCUIT!$A$1 = J$4,CIRCUIT!$B$1 =$B7), CIRCUIT!$C$1321,"NA") -> NA | ... O7: =IF(AND(CIRCUIT!$A$1 = O$4,CIRCUIT!$B$1 =$B7), CIRCUIT!$C$1321,"NA") -> NA
B8: 240148188 | C8: =IF(AND(CIRCUIT!$A$1 = C$4,CIRCUIT!$B$1 =$B8), CIRCUIT!$C$1321,"NA") -> NA | D8: =IF(AND(CIRCUIT!$A$1 = D$4,CIRCUIT!$B$1 =$B8), CIRCUIT!$C$1321,"NA") -> NA | E8: =IF(AND(CIRCUIT!$A$1 = E$4,CIRCUIT!$B$1 =$B8), CIRCUIT!$C$1321,"NA") -> NA | F8: =IF(AND(CIRCUIT!$A$1 = F$4,CIRCUIT!$B$1 =$B8), CIRCUIT!$C$1321,"NA") -> NA | G8: =IF(AND(CIRCUIT!$A$1 = G$4,CIRCUIT!$B$1 =$B8), CIRCUIT!$C$1321,"NA") -> NA | H8: =IF(AND(CIRCUIT!$A$1 = H$4,CIRCUIT!$B$1 =$B8), CIRCUIT!$C$1321,"NA") -> NA | I8: =IF(AND(CIRCUIT!$A$1 = I$4,CIRCUIT!$B$1 =$B8), CIRCUIT!$C$1321,"NA") -> NA | J8: =IF(AND(CIRCUIT!$A$1 = J$4,CIRCUIT!$B$1 =$B8), CIRCUIT!$C$1321,"NA") -> NA | ... O8: =IF(AND(CIRCUIT!$A$1 = O$4,CIRCUIT!$B$1 =$B8), CIRCUIT!$C$1321,"NA") -> NA
B9: 240141969 | C9: =IF(AND(CIRCUIT!$A$1 = C$4,CIRCUIT!$B$1 =$B9), CIRCUIT!$C$1321,"NA") -> NA | D9: =IF(AND(CIRCUIT!$A$1 = D$4,CIRCUIT!$B$1 =$B9), CIRCUIT!$C$1321,"NA") -> NA | E9: =IF(AND(CIRCUIT!$A$1 = E$4,CIRCUIT!$B$1 =$B9), CIRCUIT!$C$1321,"NA") -> NA | F9: =IF(AND(CIRCUIT!$A$1 = F$4,CIRCUIT!$B$1 =$B9), CIRCUIT!$C$1321,"NA") -> NA | G9: =IF(AND(CIRCUIT!$A$1 = G$4,CIRCUIT!$B$1 =$B9), CIRCUIT!$C$1321,"NA") -> NA | H9: =IF(AND(CIRCUIT!$A$1 = H$4,CIRCUIT!$B$1 =$B9), CIRCUIT!$C$1321,"NA") -> NA | I9: =IF(AND(CIRCUIT!$A$1 = I$4,CIRCUIT!$B$1 =$B9), CIRCUIT!$C$1321,"NA") -> NA | J9: =IF(AND(CIRCUIT!$A$1 = J$4,CIRCUIT!$B$1 =$B9), CIRCUIT!$C$1321,"NA") -> NA | ... O9: =IF(AND(CIRCUIT!$A$1 = O$4,CIRCUIT!$B$1 =$B9), CIRCUIT!$C$1321,"NA") -> NA
B10: 240143090 | C10: =IF(AND(CIRCUIT!$A$1 = C$4,CIRCUIT!$B$1 =$B10), CIRCUIT!$C$1321,"NA") -> NA | D10: =IF(AND(CIRCUIT!$A$1 = D$4,CIRCUIT!$B$1 =$B10), CIRCUIT!$C$1321,"NA") -> NA | E10: =IF(AND(CIRCUIT!$A$1 = E$4,CIRCUIT!$B$1 =$B10), CIRCUIT!$C$1321,"NA") -> NA | F10: =IF(AND(CIRCUIT!$A$1 = F$4,CIRCUIT!$B$1 =$B10), CIRCUIT!$C$1321,"NA") -> NA | G10: =IF(AND(CIRCUIT!$A$1 = G$4,CIRCUIT!$B$1 =$B10), CIRCUIT!$C$1321,"NA") -> NA | H10: =IF(AND(CIRCUIT!$A$1 = H$4,CIRCUIT!$B$1 =$B10), CIRCUIT!$C$1321,"NA") -> NA | I10: =IF(AND(CIRCUIT!$A$1 = I$4,CIRCUIT!$B$1 =$B10), CIRCUIT!$C$1321,"NA") -> NA | J10: =IF(AND(CIRCUIT!$A$1 = J$4,CIRCUIT!$B$1 =$B10), CIRCUIT!$C$1321,"NA") -> NA | ... O10: =IF(AND(CIRCUIT!$A$1 = O$4,CIRCUIT!$B$1 =$B10), CIRCUIT!$C$1321,"NA") -> NA
B11: 240149909 | C11: =IF(AND(CIRCUIT!$A$1 = C$4,CIRCUIT!$B$1 =$B11), CIRCUIT!$C$1321,"NA") -> NA | D11: =IF(AND(CIRCUIT!$A$1 = D$4,CIRCUIT!$B$1 =$B11), CIRCUIT!$C$1321,"NA") -> NA | E11: =IF(AND(CIRCUIT!$A$1 = E$4,CIRCUIT!$B$1 =$B11), CIRCUIT!$C$1321,"NA") -> NA | F11: =IF(AND(CIRCUIT!$A$1 = F$4,CIRCUIT!$B$1 =$B11), CIRCUIT!$C$1321,"NA") -> NA | G11: =IF(AND(CIRCUIT!$A$1 = G$4,CIRCUIT!$B$1 =$B11), CIRCUIT!$C$1321,"NA") -> NA | H11: =IF(AND(CIRCUIT!$A$1 = H$4,CIRCUIT!$B$1 =$B11), CIRCUIT!$C$1321,"NA") -> NA | I11: =IF(AND(CIRCUIT!$A$1 = I$4,CIRCUIT!$B$1 =$B11), CIRCUIT!$C$1321,"NA") -> NA | J11: =IF(AND(CIRCUIT!$A$1 = J$4,CIRCUIT!$B$1 =$B11), CIRCUIT!$C$1321,"NA") -> NA | ... O11: =IF(AND(CIRCUIT!$A$1 = O$4,CIRCUIT!$B$1 =$B11), CIRCUIT!$C$1321,"NA") -> NA
B12: 240146547 | C12: =IF(AND(CIRCUIT!$A$1 = C$4,CIRCUIT!$B$1 =$B12), CIRCUIT!$C$1321,"NA") -> NA | D12: =IF(AND(CIRCUIT!$A$1 = D$4,CIRCUIT!$B$1 =$B12), CIRCUIT!$C$1321,"NA") -> NA | E12: =IF(AND(CIRCUIT!$A$1 = E$4,CIRCUIT!$B$1 =$B12), CIRCUIT!$C$1321,"NA") -> NA | F12: =IF(AND(CIRCUIT!$A$1 = F$4,CIRCUIT!$B$1 =$B12), CIRCUIT!$C$1321,"NA") -> NA | G12: =IF(AND(CIRCUIT!$A$1 = G$4,CIRCUIT!$B$1 =$B12), CIRCUIT!$C$1321,"NA") -> NA | H12: =IF(AND(CIRCUIT!$A$1 = H$4,CIRCUIT!$B$1 =$B12), CIRCUIT!$C$1321,"NA") -> NA | I12: =IF(AND(CIRCUIT!$A$1 = I$4,CIRCUIT!$B$1 =$B12), CIRCUIT!$C$1321,"NA") -> NA | J12: =IF(AND(CIRCUIT!$A$1 = J$4,CIRCUIT!$B$1 =$B12), CIRCUIT!$C$1321,"NA") -> NA | ... O12: =IF(AND(CIRCUIT!$A$1 = O$4,CIRCUIT!$B$1 =$B12), CIRCUIT!$C$1321,"NA") -> NA
B13: 240144449 | C13: =IF(AND(CIRCUIT!$A$1 = C$4,CIRCUIT!$B$1 =$B13), CIRCUIT!$C$1321,"NA") -> NA | D13: =IF(AND(CIRCUIT!$A$1 = D$4,CIRCUIT!$B$1 =$B13), CIRCUIT!$C$1321,"NA") -> NA | E13: =IF(AND(CIRCUIT!$A$1 = E$4,CIRCUIT!$B$1 =$B13), CIRCUIT!$C$1321,"NA") -> NA | F13: =IF(AND(CIRCUIT!$A$1 = F$4,CIRCUIT!$B$1 =$B13), CIRCUIT!$C$1321,"NA") -> NA | G13: =IF(AND(CIRCUIT!$A$1 = G$4,CIRCUIT!$B$1 =$B13), CIRCUIT!$C$1321,"NA") -> NA | H13: =IF(AND(CIRCUIT!$A$1 = H$4,CIRCUIT!$B$1 =$B13), CIRCUIT!$C$1321,"NA") -> NA | I13: =IF(AND(CIRCUIT!$A$1 = I$4,CIRCUIT!$B$1 =$B13), CIRCUIT!$C$1321,"NA") -> NA | J13: =IF(AND(CIRCUIT!$A$1 = J$4,CIRCUIT!$B$1 =$B13), CIRCUIT!$C$1321,"NA") -> NA | ... O13: =IF(AND(CIRCUIT!$A$1 = O$4,CIRCUIT!$B$1 =$B13), CIRCUIT!$C$1321,"NA") -> NA
B14: 240146367 | C14: =IF(AND(CIRCUIT!$A$1 = C$4,CIRCUIT!$B$1 =$B14), CIRCUIT!$C$1321,"NA") -> NA | D14: =IF(AND(CIRCUIT!$A$1 = D$4,CIRCUIT!$B$1 =$B14), CIRCUIT!$C$1321,"NA") -> NA | E14: =IF(AND(CIRCUIT!$A$1 = E$4,CIRCUIT!$B$1 =$B14), CIRCUIT!$C$1321,"NA") -> NA | F14: =IF(AND(CIRCUIT!$A$1 = F$4,CIRCUIT!$B$1 =$B14), CIRCUIT!$C$1321,"NA") -> NA | G14: =IF(AND(CIRCUIT!$A$1 = G$4,CIRCUIT!$B$1 =$B14), CIRCUIT!$C$1321,"NA") -> NA | H14: =IF(AND(CIRCUIT!$A$1 = H$4,CIRCUIT!$B$1 =$B14), CIRCUIT!$C$1321,"NA") -> NA | I14: =IF(AND(CIRCUIT!$A$1 = I$4,CIRCUIT!$B$1 =$B14), CIRCUIT!$C$1321,"NA") -> NA | J14: =IF(AND(CIRCUIT!$A$1 = J$4,CIRCUIT!$B$1 =$B14), CIRCUIT!$C$1321,"NA") -> NA | ... O14: =IF(AND(CIRCUIT!$A$1 = O$4,CIRCUIT!$B$1 =$B14), CIRCUIT!$C$1321,"NA") -> NA
B15: 240148113 | C15: =IF(AND(CIRCUIT!$A$1 = C$4,CIRCUIT!$B$1 =$B15), CIRCUIT!$C$1321,"NA") -> NA | D15: =IF(AND(CIRCUIT!$A$1 = D$4,CIRCUIT!$B$1 =$B15), CIRCUIT!$C$1321,"NA") -> NA | E15: =IF(AND(CIRCUIT!$A$1 = E$4,CIRCUIT!$B$1 =$B15), CIRCUIT!$C$1321,"NA") -> NA | F15: =IF(AND(CIRCUIT!$A$1 = F$4,CIRCUIT!$B$1 =$B15), CIRCUIT!$C$1321,"NA") -> NA | G15: =IF(AND(CIRCUIT!$A$1 = G$4,CIRCUIT!$B$1 =$B15), CIRCUIT!$C$1321,"NA") -> NA | H15: =IF(AND(CIRCUIT!$A$1 = H$4,CIRCUIT!$B$1 =$B15), CIRCUIT!$C$1321,"NA") -> NA | I15: =IF(AND(CIRCUIT!$A$1 = I$4,CIRCUIT!$B$1 =$B15), CIRCUIT!$C$1321,"NA") -> NA | J15: =IF(AND(CIRCUIT!$A$1 = J$4,CIRCUIT!$B$1 =$B15), CIRCUIT!$C$1321,"NA") -> NA | ... O15: =IF(AND(CIRCUIT!$A$1 = O$4,CIRCUIT!$B$1 =$B15), CIRCUIT!$C$1321,"NA") -> NA
B16: 240146790 | C16: =IF(AND(CIRCUIT!$A$1 = C$4,CIRCUIT!$B$1 =$B16), CIRCUIT!$C$1321,"NA") -> NA | D16: =IF(AND(CIRCUIT!$A$1 = D$4,CIRCUIT!$B$1 =$B16), CIRCUIT!$C$1321,"NA") -> NA | E16: =IF(AND(CIRCUIT!$A$1 = E$4,CIRCUIT!$B$1 =$B16), CIRCUIT!$C$1321,"NA") -> NA | F16: =IF(AND(CIRCUIT!$A$1 = F$4,CIRCUIT!$B$1 =$B16), CIRCUIT!$C$1321,"NA") -> NA | G16: =IF(AND(CIRCUIT!$A$1 = G$4,CIRCUIT!$B$1 =$B16), CIRCUIT!$C$1321,"NA") -> NA | H16: =IF(AND(CIRCUIT!$A$1 = H$4,CIRCUIT!$B$1 =$B16), CIRCUIT!$C$1321,"NA") -> NA | I16: =IF(AND(CIRCUIT!$A$1 = I$4,CIRCUIT!$B$1 =$B16), CIRCUIT!$C$1321,"NA") -> NA | J16: =IF(AND(CIRCUIT!$A$1 = J$4,CIRCUIT!$B$1 =$B16), CIRCUIT!$C$1321,"NA") -> NA | ... O16: =IF(AND(CIRCUIT!$A$1 = O$4,CIRCUIT!$B$1 =$B16), CIRCUIT!$C$1321,"NA") -> NA
B17: 240143910R | C17: =IF(AND(CIRCUIT!$A$1 = C$4,CIRCUIT!$B$1 =$B17), CIRCUIT!$C$1321,"NA") -> NA | D17: =IF(AND(CIRCUIT!$A$1 = D$4,CIRCUIT!$B$1 =$B17), CIRCUIT!$C$1321,"NA") -> NA | E17: =IF(AND(CIRCUIT!$A$1 = E$4,CIRCUIT!$B$1 =$B17), CIRCUIT!$C$1321,"NA") -> NA | F17: =IF(AND(CIRCUIT!$A$1 = F$4,CIRCUIT!$B$1 =$B17), CIRCUIT!$C$1321,"NA") -> NA | G17: =IF(AND(CIRCUIT!$A$1 = G$4,CIRCUIT!$B$1 =$B17), CIRCUIT!$C$1321,"NA") -> NA | H17: =IF(AND(CIRCUIT!$A$1 = H$4,CIRCUIT!$B$1 =$B17), CIRCUIT!$C$1321,"NA") -> NA | I17: =IF(AND(CIRCUIT!$A$1 = I$4,CIRCUIT!$B$1 =$B17), CIRCUIT!$C$1321,"NA") -> NA | J17: =IF(AND(CIRCUIT!$A$1 = J$4,CIRCUIT!$B$1 =$B17), CIRCUIT!$C$1321,"NA") -> NA | ... O17: =IF(AND(CIRCUIT!$A$1 = O$4,CIRCUIT!$B$1 =$B17), CIRCUIT!$C$1321,"NA") -> 259
