Workbook
Name s.durée: Matrice_risque!$I$5:$N$5
Name s.matrice: Matrice_risque!$I$5:$N$10
Name s.occurence: Matrice_risque!$I$5:$I$10

Sheet Tableau_AMDEC
A1: Analyse des risques et plan d'action
D3: Processus Production
A5: IDENTIFICATION | I5: EVALUATION
A6: # | B6: Activités | C6: Risques | D6: Enjeux/Exigences PI liés | E6: Conséquences | F6: Sources et causes | G6: Objectifs impactés | H6: Mesures de maîtrise existantes | I6: Gravité | J6: Occurrence | K6: Durée | L6: Probabilité | M6: Criticité 1 | N6: Niveau de Maitrise | P6: Criticité 2 | U6: ê
A7: 1 | B7: Gestion parc et stock MP et consommables | C7: Rupture de stock et indisponibilité MP | D7: Disponibilité MP et consommables,Respect des exigences clients | E7: Arrêt de la production, manque à gagner, affectation des résultats, insatisfaction et perte de clients, atteinte à la réputation, … | F7: Rareté des moyens financiers (insuffisance du fonds de roulement), lourdeur procédurale (réglementation achats publics), attente baisse de cours élevés, retard de livraison à cause des conditions climatiques, indisponibilité de la billette, laminoirs ou aciérie en arrêt, inventaires non fiables et mal organisés, la non fiabilité des informations relatives au niveau des stocks, les sorties anarchiques de stocks ou de quantités disproportionnées par rapport aux besoins réels des services, perte ou vol de matière non détéctés, détérioration dû àla protection physique inadéquate des stocks (conditions non optimales ou inappropriées) | G7: CA, Satisfaction des clients, taux de service, | H7: Gestion du stock, prévisions annuelles de fabrication, calendrier d'achat, | I7: Majeure | J7: Occasionnel | K7: Continue | L7: =IFERROR(INDEX(s.matrice,MATCH($J7,s.occurence,0),MATCH($K7,s.durée,0)),"Données non valides") -> 8 | U7: =INDEX(Matrice_risque!$B$6:$F$9,MATCH(Tableau_AMDEC!L7,Matrice_risque!$B$6:$B$9,1),5) -> 3
A8: 2 | C8: Mélange de nuance ou et diamètre | D8: Réaliser les commandes en quantité, qualité et délai | F8: Mélange au cours de déchargement et stockage, L'insuffisance ou l'inadéquation des aires de stockages | G8: Satisfaction des clients | H8: contrôle visuel | I8: Faible | J8: Fréquent | K8: Brève | L8: =IFERROR(INDEX(s.matrice,MATCH($J8,s.occurence,0),MATCH($K8,s.durée,0)),"Données non valides") -> 3 | U8: =INDEX(Matrice_risque!$B$6:$F$9,MATCH(Tableau_AMDEC!L8,Matrice_risque!$B$6:$B$9,1),5) -> 2
A9: 4 | B9: Gestion consommables spécifiques | C9: Rupture de stock et indisponibilité consommable | D9: Disponibilité continue de MP et consommables | E9: Arrêt de la production, manque à gagner, affectation des résultats, insatisfaction et perte de clients, atteinte à la réputation, … | F9: lourdeur procédurale (réglementation achats publics), retard de livraison, attente substitution des produits non conformes. | G9: Satisfaction des clients | H9: Application access + registre | I9: Majeure | J9: Fréquent | K9: Longue | L9: =IFERROR(INDEX(s.matrice,MATCH($J9,s.occurence,0),MATCH($K9,s.durée,0)),"Données non valides") -> 9 | U9: =INDEX(Matrice_risque!$B$6:$F$9,MATCH(Tableau_AMDEC!L9,Matrice_risque!$B$6:$B$9,1),5) -> 3
A10: 5 | B10: Ordonnancement de la fabrication | C10: Indisponibilité des machines | D10: Disponibilité de la chaine de production Réaliser les commandes en quantités ,qualité et quantité | E10: Baisse de la productivité | F10: capcité limitée des machines, machine n'exécute qu'une seule tâche à la fois, précédence imposée, budget alloué insuffisant, pannes | G10: Délais | H10: Enregistrement sur rapport de poste | I10: Faible | J10: Fréquent | K10: Courte | L10: =IFERROR(INDEX(s.matrice,MATCH($J10,s.occurence,0),MATCH($K10,s.durée,0)),"Données non valides") -> 6 | U10: =INDEX(Matrice_risque!$B$6:$F$9,MATCH(Tableau_AMDEC!L10,Matrice_risque!$B$6:$B$9,1),5) -> 2
A11: 6 | C11: Indisponibilité des ressources humaines compétentes et motivées | D11: Disponibilité des ressources humaines compétentes et motivées Réaliser les commandes en qualité et quantité | F11: Mauvaise communication Nombre des heures de travail insuffisant Manque de motivation des ressources humaines Recrutement non adéquat aux besoins de la société(RH incompétentes) | G11: Délais | H11: Néant | I11: Faible | J11: Fréquent | K11: Continue | L11: =IFERROR(INDEX(s.matrice,MATCH($J11,s.occurence,0),MATCH($K11,s.durée,0)),"Données non valides") -> 12 | U11: =INDEX(Matrice_risque!$B$6:$F$9,MATCH(Tableau_AMDEC!L11,Matrice_risque!$B$6:$B$9,1),5) -> 4
A12: 7 | B12: Fabrication | C12: Retard / arrêt de production | D12: Réaliser les commandes en quantité, qualité et délai Minimiser les coûts de production Satisfaire les exigences des clients | E12: Insatisfaction et perte des clients Baisse de la productivité | F12: erreur dans le processus de fabrication, survenue d'une nouvelle commande, accidents de travail, pannes et arrêts machines | G12: satisfaction des clients, CA | I12: Importante | J12: Très fréquent | K12: Brève | L12: =IFERROR(INDEX(s.matrice,MATCH($J12,s.occurence,0),MATCH($K12,s.durée,0)),"Données non valides") -> 4 | U12: =INDEX(Matrice_risque!$B$6:$F$9,MATCH(Tableau_AMDEC!L12,Matrice_risque!$B$6:$B$9,1),5) -> 2
A13: 9 | C13: Fabriquer un produit non conforme/ de non qualité | D13: Réaliser les commandes en quantité, qualité et délai Maximiser le rendement métal Satisfaire les exigences des clients | F13: du matériel, des processus et des méthodes de travail désuets, appareils de mesure déréglés | G13: Taux de rebus | H13: Contrôle en cours de fabrication (plan de surveillance) | I13: Majeure | J13: Rare | K13: Longue | L13: =IFERROR(INDEX(s.matrice,MATCH($J13,s.occurence,0),MATCH($K13,s.durée,0)),"Données non valides") -> 3 | U13: =INDEX(Matrice_risque!$B$6:$F$9,MATCH(Tableau_AMDEC!L13,Matrice_risque!$B$6:$B$9,1),5) -> 2

Sheet Matrice_risque
K3: Matrice Probabilité
D4: Probabilité | K4: Durée
K5: Brève | L5: Courte | M5: Longue | N5: Continue
B6: 0 | D6: <4 | E6: Improbable | F6: 1 | I6: OCCURENCE | K6: 1 | L6: 2 | M6: 3 | N6: 4
B7: 3 | D7: >=4 et <8 | E7: Peu probable | F7: 2 | I7: Très fréquent | J7: 4 | K7: =K$6*$J7 -> 4 | L7: =L$6*$J7 -> 8 | M7: =M$6*$J7 -> 12 | N7: =N$6*$J7 -> 16
B8: 8 | D8: >=8 et <12 | E8: Probable | F8: 3 | I8: Fréquent | J8: 3 | K8: =K$6*$J8 -> 3 | L8: =L$6*$J8 -> 6 | M8: =M$6*$J8 -> 9 | N8: =N$6*$J8 -> 12
B9: 12 | D9: >=12 | E9: Très probable | F9: 4 | I9: Occasionnel | J9: 2 | K9: =K$6*$J9 -> 2 | L9: =L$6*$J9 -> 4 | M9: =M$6*$J9 -> 6 | N9: =N$6*$J9 -> 8
I10: Rare | J10: 1 | K10: =K$6*$J10 -> 1 | L10: =L$6*$J10 -> 2 | M10: =M$6*$J10 -> 3 | N10: =N$6*$J10 -> 4
K14: Matrice Criticité 1
D15: Criticité 1 | K15: Gravité
K16: Très faible | L16: Faible | M16: Importante | N16: Majeure
D17: <4 | E17: Acceptable | I17: Probabilité | K17: 1 | L17: 2 | M17: 3 | N17: 4
D18: >=4 et <8 | E18: Tolérable | I18: Très probable | J18: 4 | K18: =K$17*J18 -> 4 | L18: =L$17*J18 -> 8 | M18: =M$17*J18 -> 12 | N18: =N$17*J18 -> 16
D19: >=8 et <12 | E19: Inacceptable | I19: Probable | J19: 3 | K19: =K$17*J19 -> 3 | L19: =L$17*J19 -> 6 | M19: =M$17*J19 -> 9 | N19: =N$17*J19 -> 12
D20: >=12 | E20: Inadmissible | I20: Peu probable | J20: 2 | K20: =K$17*J20 -> 2 | L20: =L$17*J20 -> 4 | M20: =M$17*J20 -> 6 | N20: =N$17*J20 -> 8
I21: Improbable | J21: 1 | K21: =K$17*J21 -> 1 | L21: =L$17*J21 -> 2 | M21: =M$17*J21 -> 3 | N21: =N$17*J21 -> 4
