Workbook

Sheet Feuil1
A3: Mois | B3: Lieu | C3: Val. | F3: Val. | G3: Mois
A4: 42736 | B4: a | C4: =RANDBETWEEN(1,50) -> 40 | F4: Lieu | G4: janv | H4: févr | I4: mars | J4: avr | K4: mai | L4: juin | M4: juil | N4: août | O4: sept | P4: oct | Q4: nov | R4: déc | S4: Total général
A5: 42736 | B5: b | C5: =RANDBETWEEN(1,50) -> 33 | F5: a | G5: 17 | H5: 42 | I5: 47 | S5: 106
A6: 42736 | B6: c | C6: =RANDBETWEEN(1,50) -> 7 | F6: b | G6: 4 | H6: 8 | I6: 27 | S6: 39
A7: 42736 | B7: d | C7: =RANDBETWEEN(1,50) -> 50 | F7: c | G7: 20 | H7: 31 | I7: 48 | S7: 99
A8: 42736 | B8: e | C8: =RANDBETWEEN(1,50) -> 47 | F8: d | G8: 23 | H8: 5 | I8: 29 | S8: 57
A9: 42736 | B9: f | C9: =RANDBETWEEN(1,50) -> 24 | F9: e | G9: 25 | H9: 29 | I9: 22 | S9: 76
A10: 42736 | B10: g | C10: =RANDBETWEEN(1,50) -> 33 | F10: f | G10: 45 | H10: 19 | I10: 7 | S10: 71
A11: 42767 | B11: a | C11: =RANDBETWEEN(1,50) -> 2 | F11: g | G11: 6 | H11: 37 | I11: 33 | S11: 76
A12: 42767 | B12: b | C12: =RANDBETWEEN(1,50) -> 35 | F12: Total général | G12: 140 | H12: 171 | I12: 213 | S12: 524
A13: 42767 | B13: c | C13: =RANDBETWEEN(1,50) -> 5
A14: 42767 | B14: d | C14: =RANDBETWEEN(1,50) -> 11
A15: 42767 | B15: e | C15: =RANDBETWEEN(1,50) -> 14
A16: 42767 | B16: f | C16: =RANDBETWEEN(1,50) -> 7
A17: 42767 | B17: g | C17: =RANDBETWEEN(1,50) -> 42
A18: 42795 | B18: a | C18: =RANDBETWEEN(1,50) -> 18
A19: 42795 | B19: b | C19: =RANDBETWEEN(1,50) -> 26
A20: 42795 | B20: c | C20: =RANDBETWEEN(1,50) -> 47
A21: 42795 | B21: d | C21: =RANDBETWEEN(1,50) -> 6
A22: 42795 | B22: e | C22: =RANDBETWEEN(1,50) -> 18
A23: 42795 | B23: f | C23: =RANDBETWEEN(1,50) -> 40
A24: 42795 | B24: g | C24: =RANDBETWEEN(1,50) -> 46

Sheet Feuil2
B2: Lieu | C2: janv | D2: févr | E2: mars | F2: avr | G2: mai | H2: juin | I2: juil | J2: août | K2: sept | L2: oct | M2: nov | N2: déc
B3: a | C3: =GETPIVOTDATA("Val.",Feuil1!$F$3,"Mois",COLUMN()-2,"Lieu",$B3) -> 17 | D3: =GETPIVOTDATA("Val.",Feuil1!$F$3,"Mois",COLUMN()-2,"Lieu",$B3) -> 42 | E3: =GETPIVOTDATA("Val.",Feuil1!$F$3,"Mois",COLUMN()-2,"Lieu",$B3) -> 47 | F3: =GETPIVOTDATA("Val.",Feuil1!$F$3,"Mois",COLUMN()-2,"Lieu",$B3) -> 0 | G3: =GETPIVOTDATA("Val.",Feuil1!$F$3,"Mois",COLUMN()-2,"Lieu",$B3) -> 0 | H3: =GETPIVOTDATA("Val.",Feuil1!$F$3,"Mois",COLUMN()-2,"Lieu",$B3) -> 0 | I3: =GETPIVOTDATA("Val.",Feuil1!$F$3,"Mois",COLUMN()-2,"Lieu",$B3) -> 0 | J3: =GETPIVOTDATA("Val.",Feuil1!$F$3,"Mois",COLUMN()-2,"Lieu",$B3) -> 0 | ... N3: =GETPIVOTDATA("Val.",Feuil1!$F$3,"Mois",COLUMN()-2,"Lieu",$B3) -> 0
B5: b | C5: =GETPIVOTDATA("Val.",Feuil1!$F$3,"Mois",COLUMN()-2,"Lieu",$B5) -> 4 | D5: =GETPIVOTDATA("Val.",Feuil1!$F$3,"Mois",COLUMN()-2,"Lieu",$B5) -> 8 | E5: =GETPIVOTDATA("Val.",Feuil1!$F$3,"Mois",COLUMN()-2,"Lieu",$B5) -> 27 | F5: =GETPIVOTDATA("Val.",Feuil1!$F$3,"Mois",COLUMN()-2,"Lieu",$B5) -> 0 | G5: =GETPIVOTDATA("Val.",Feuil1!$F$3,"Mois",COLUMN()-2,"Lieu",$B5) -> 0 | H5: =GETPIVOTDATA("Val.",Feuil1!$F$3,"Mois",COLUMN()-2,"Lieu",$B5) -> 0 | I5: =GETPIVOTDATA("Val.",Feuil1!$F$3,"Mois",COLUMN()-2,"Lieu",$B5) -> 0 | J5: =GETPIVOTDATA("Val.",Feuil1!$F$3,"Mois",COLUMN()-2,"Lieu",$B5) -> 0 | ... N5: =GETPIVOTDATA("Val.",Feuil1!$F$3,"Mois",COLUMN()-2,"Lieu",$B5) -> 0
B7: c | C7: =GETPIVOTDATA("Val.",Feuil1!$F$3,"Mois",COLUMN()-2,"Lieu",$B7) -> 20 | D7: =GETPIVOTDATA("Val.",Feuil1!$F$3,"Mois",COLUMN()-2,"Lieu",$B7) -> 31 | E7: =GETPIVOTDATA("Val.",Feuil1!$F$3,"Mois",COLUMN()-2,"Lieu",$B7) -> 48 | F7: =GETPIVOTDATA("Val.",Feuil1!$F$3,"Mois",COLUMN()-2,"Lieu",$B7) -> 0 | G7: =GETPIVOTDATA("Val.",Feuil1!$F$3,"Mois",COLUMN()-2,"Lieu",$B7) -> 0 | H7: =GETPIVOTDATA("Val.",Feuil1!$F$3,"Mois",COLUMN()-2,"Lieu",$B7) -> 0 | I7: =GETPIVOTDATA("Val.",Feuil1!$F$3,"Mois",COLUMN()-2,"Lieu",$B7) -> 0 | J7: =GETPIVOTDATA("Val.",Feuil1!$F$3,"Mois",COLUMN()-2,"Lieu",$B7) -> 0 | ... N7: =GETPIVOTDATA("Val.",Feuil1!$F$3,"Mois",COLUMN()-2,"Lieu",$B7) -> 0
B9: d | C9: =GETPIVOTDATA("Val.",Feuil1!$F$3,"Mois",COLUMN()-2,"Lieu",$B9) -> 23 | D9: =GETPIVOTDATA("Val.",Feuil1!$F$3,"Mois",COLUMN()-2,"Lieu",$B9) -> 5 | E9: =GETPIVOTDATA("Val.",Feuil1!$F$3,"Mois",COLUMN()-2,"Lieu",$B9) -> 29 | F9: =GETPIVOTDATA("Val.",Feuil1!$F$3,"Mois",COLUMN()-2,"Lieu",$B9) -> 0 | G9: =GETPIVOTDATA("Val.",Feuil1!$F$3,"Mois",COLUMN()-2,"Lieu",$B9) -> 0 | H9: =GETPIVOTDATA("Val.",Feuil1!$F$3,"Mois",COLUMN()-2,"Lieu",$B9) -> 0 | I9: =GETPIVOTDATA("Val.",Feuil1!$F$3,"Mois",COLUMN()-2,"Lieu",$B9) -> 0 | J9: =GETPIVOTDATA("Val.",Feuil1!$F$3,"Mois",COLUMN()-2,"Lieu",$B9) -> 0 | ... N9: =GETPIVOTDATA("Val.",Feuil1!$F$3,"Mois",COLUMN()-2,"Lieu",$B9) -> 0
B11: e | C11: =GETPIVOTDATA("Val.",Feuil1!$F$3,"Mois",COLUMN()-2,"Lieu",$B11) -> 25 | D11: =GETPIVOTDATA("Val.",Feuil1!$F$3,"Mois",COLUMN()-2,"Lieu",$B11) -> 29 | E11: =GETPIVOTDATA("Val.",Feuil1!$F$3,"Mois",COLUMN()-2,"Lieu",$B11) -> 22 | F11: =GETPIVOTDATA("Val.",Feuil1!$F$3,"Mois",COLUMN()-2,"Lieu",$B11) -> 0 | G11: =GETPIVOTDATA("Val.",Feuil1!$F$3,"Mois",COLUMN()-2,"Lieu",$B11) -> 0 | H11: =GETPIVOTDATA("Val.",Feuil1!$F$3,"Mois",COLUMN()-2,"Lieu",$B11) -> 0 | I11: =GETPIVOTDATA("Val.",Feuil1!$F$3,"Mois",COLUMN()-2,"Lieu",$B11) -> 0 | J11: =GETPIVOTDATA("Val.",Feuil1!$F$3,"Mois",COLUMN()-2,"Lieu",$B11) -> 0 | ... N11: =GETPIVOTDATA("Val.",Feuil1!$F$3,"Mois",COLUMN()-2,"Lieu",$B11) -> 0
B13: f | C13: =GETPIVOTDATA("Val.",Feuil1!$F$3,"Mois",COLUMN()-2,"Lieu",$B13) -> 45 | D13: =GETPIVOTDATA("Val.",Feuil1!$F$3,"Mois",COLUMN()-2,"Lieu",$B13) -> 19 | E13: =GETPIVOTDATA("Val.",Feuil1!$F$3,"Mois",COLUMN()-2,"Lieu",$B13) -> 7 | F13: =GETPIVOTDATA("Val.",Feuil1!$F$3,"Mois",COLUMN()-2,"Lieu",$B13) -> 0 | G13: =GETPIVOTDATA("Val.",Feuil1!$F$3,"Mois",COLUMN()-2,"Lieu",$B13) -> 0 | H13: =GETPIVOTDATA("Val.",Feuil1!$F$3,"Mois",COLUMN()-2,"Lieu",$B13) -> 0 | I13: =GETPIVOTDATA("Val.",Feuil1!$F$3,"Mois",COLUMN()-2,"Lieu",$B13) -> 0 | J13: =GETPIVOTDATA("Val.",Feuil1!$F$3,"Mois",COLUMN()-2,"Lieu",$B13) -> 0 | ... N13: =GETPIVOTDATA("Val.",Feuil1!$F$3,"Mois",COLUMN()-2,"Lieu",$B13) -> 0
B15: g | C15: =GETPIVOTDATA("Val.",Feuil1!$F$3,"Mois",COLUMN()-2,"Lieu",$B15) -> 6 | D15: =GETPIVOTDATA("Val.",Feuil1!$F$3,"Mois",COLUMN()-2,"Lieu",$B15) -> 37 | E15: =GETPIVOTDATA("Val.",Feuil1!$F$3,"Mois",COLUMN()-2,"Lieu",$B15) -> 33 | F15: =GETPIVOTDATA("Val.",Feuil1!$F$3,"Mois",COLUMN()-2,"Lieu",$B15) -> 0 | G15: =GETPIVOTDATA("Val.",Feuil1!$F$3,"Mois",COLUMN()-2,"Lieu",$B15) -> 0 | H15: =GETPIVOTDATA("Val.",Feuil1!$F$3,"Mois",COLUMN()-2,"Lieu",$B15) -> 0 | I15: =GETPIVOTDATA("Val.",Feuil1!$F$3,"Mois",COLUMN()-2,"Lieu",$B15) -> 0 | J15: =GETPIVOTDATA("Val.",Feuil1!$F$3,"Mois",COLUMN()-2,"Lieu",$B15) -> 0 | ... N15: =GETPIVOTDATA("Val.",Feuil1!$F$3,"Mois",COLUMN()-2,"Lieu",$B15) -> 0
