Workbook

Sheet Données
A1: TAD | B1: SAS | C1: Communes | D1: TOTO | E1: TATA | F1: TITI | G1: TUTU | H1: TETE | I1: TYTY | J1: TAOTAO
A2: Boucle de Seine | B2: Chatou | C2: CARRIERES SUR SEINE | D2: 15 | E2: 19 | F2: 48 | G2: 2 | H2: 4 | I2: 2 | J2: 1
A3: Boucle de Seine | B3: Chatou | C3: CHATOU | D3: 36 | E3: 8 | F3: 31 | G3: 0 | H3: 5 | I3: 7 | J3: 0
A4: Boucle de Seine | B4: Chatou | C4: CROISSY SUR SEINE | D4: 2 | E4: 1 | F4: 3 | G4: 1 | H4: 0 | I4: 2 | J4: 0
A5: Boucle de Seine | B5: Chatou | C5: LE PORT MARLY | D5: 1 | E5: 0 | F5: 2 | G5: 0 | H5: 0 | I5: 0 | J5: 0
A6: Boucle de Seine | B6: Chatou | C6: LE VESINET | D6: 0 | E6: 3 | F6: 13 | G6: 0 | H6: 0 | I6: 0 | J6: 0
A7: Boucle de Seine | B7: Chatou | C7: MONTESSON | D7: 9 | E7: 10 | F7: 33 | G7: 2 | H7: 4 | I7: 0 | J7: 2
A8: Boucle de Seine | B8: Saint Germain | C8: AIGREMONT | D8: 1 | E8: 0 | F8: 0 | G8: 0 | H8: 0 | I8: 0 | J8: 0
A9: Boucle de Seine | B9: Saint Germain | C9: CHAMBOURCY | D9: 3 | E9: 0 | F9: 10 | G9: 1 | H9: 0 | I9: 0 | J9: 0
A10: Boucle de Seine | B10: Saint Germain | C10: LE MESNIL LE ROI | D10: 1 | E10: 2 | F10: 2 | G10: 1 | H10: 0 | I10: 0 | J10: 0
A11: Boucle de Seine | B11: Saint Germain | C11: LE PECQ | D11: 9 | E11: 5 | F11: 24 | G11: 0 | H11: 1 | I11: 0 | J11: 0
A12: Boucle de Seine | B12: Saint Germain | C12: LOUVECIENNES | D12: 0 | E12: 0 | F12: 6 | G12: 0 | H12: 0 | I12: 0 | J12: 0
A13: Boucle de Seine | B13: Saint Germain | C13: MAREIL MARLY | D13: 2 | E13: 0 | F13: 0 | G13: 0 | H13: 0 | I13: 0 | J13: 0
... A171: Sud Yvelines | B171: Sud Yvelines | C171: VIEILLE EGLISE EN YVELINES | D171: 0 | E171: 0 | F171: 1 | G171: 0 | H171: 0 | I171: 0 | J171: 0

Sheet Données normalisées
A1: Nombre de lignes | C1: Nombre de valeurs | D1: Somme des valeurs
A2: =COUNT(Données!D2:D171) -> 170 | C2: =COUNT(Données!D2:J171) -> 1190 | D2: =SUM(Données!D2:J171) -> 5504
A5: Index Colonne | B5: Index ligne | C5: TAD | D5: SAS | E5: Communes | F5: Crtière | G5: Valeur | I5: TAD | J5: Boucle de Seine
A6: =ROUNDDOWN(((ROW(A6)-ROW(A$6))/$A$2)+1,0) -> 1 | B6: =MOD(((ROW(B6)-ROW(B$6))),$A$2)+1 -> 1 | C6: =INDEX(Données!A$2:A$171,'Données normalisées'!$B6) -> Boucle de Seine | D6: =INDEX(Données!B$2:B$171,'Données normalisées'!$B6) -> Chatou | E6: =INDEX(Données!C$2:C$171,'Données normalisées'!$B6) -> CARRIERES SUR SEINE | F6: =INDEX(Données!$D$1:$J$1,,'Données normalisées'!A6) -> TOTO | G6: =INDEX(Données!$D$2:$J$171,'Données normalisées'!B6,'Données normalisées'!A6) -> 15
A7: =ROUNDDOWN(((ROW(A7)-ROW(A$6))/$A$2)+1,0) -> 1 | B7: =MOD(((ROW(B7)-ROW(B$6))),$A$2)+1 -> 2 | C7: =INDEX(Données!$A$2:$A$171,'Données normalisées'!B7) -> Boucle de Seine | D7: =INDEX(Données!B$2:B$171,'Données normalisées'!$B7) -> Chatou | E7: =INDEX(Données!C$2:C$171,'Données normalisées'!$B7) -> CHATOU | F7: =INDEX(Données!$D$1:$J$1,,'Données normalisées'!A7) -> TOTO | G7: =INDEX(Données!$D$2:$J$171,'Données normalisées'!B7,'Données normalisées'!A7) -> 36 | I7: Crtière | J7: Somme de Valeur
A8: =ROUNDDOWN(((ROW(A8)-ROW(A$6))/$A$2)+1,0) -> 1 | B8: =MOD(((ROW(B8)-ROW(B$6))),$A$2)+1 -> 3 | C8: =INDEX(Données!$A$2:$A$171,'Données normalisées'!B8) -> Boucle de Seine | D8: =INDEX(Données!B$2:B$171,'Données normalisées'!$B8) -> Chatou | E8: =INDEX(Données!C$2:C$171,'Données normalisées'!$B8) -> CROISSY SUR SEINE | F8: =INDEX(Données!$D$1:$J$1,,'Données normalisées'!A8) -> TOTO | G8: =INDEX(Données!$D$2:$J$171,'Données normalisées'!B8,'Données normalisées'!A8) -> 2 | I8: TAOTAO | J8: 21
A9: =ROUNDDOWN(((ROW(A9)-ROW(A$6))/$A$2)+1,0) -> 1 | B9: =MOD(((ROW(B9)-ROW(B$6))),$A$2)+1 -> 4 | C9: =INDEX(Données!$A$2:$A$171,'Données normalisées'!B9) -> Boucle de Seine | D9: =INDEX(Données!B$2:B$171,'Données normalisées'!$B9) -> Chatou | E9: =INDEX(Données!C$2:C$171,'Données normalisées'!$B9) -> LE PORT MARLY | F9: =INDEX(Données!$D$1:$J$1,,'Données normalisées'!A9) -> TOTO | G9: =INDEX(Données!$D$2:$J$171,'Données normalisées'!B9,'Données normalisées'!A9) -> 1 | I9: TATA | J9: 207
A10: =ROUNDDOWN(((ROW(A10)-ROW(A$6))/$A$2)+1,0) -> 1 | B10: =MOD(((ROW(B10)-ROW(B$6))),$A$2)+1 -> 5 | C10: =INDEX(Données!$A$2:$A$171,'Données normalisées'!B10) -> Boucle de Seine | D10: =INDEX(Données!B$2:B$171,'Données normalisées'!$B10) -> Chatou | E10: =INDEX(Données!C$2:C$171,'Données normalisées'!$B10) -> LE VESINET | F10: =INDEX(Données!$D$1:$J$1,,'Données normalisées'!A10) -> TOTO | G10: =INDEX(Données!$D$2:$J$171,'Données normalisées'!B10,'Données normalisées'!A10) -> 0 | I10: TETE | J10: 34
A11: =ROUNDDOWN(((ROW(A11)-ROW(A$6))/$A$2)+1,0) -> 1 | B11: =MOD(((ROW(B11)-ROW(B$6))),$A$2)+1 -> 6 | C11: =INDEX(Données!$A$2:$A$171,'Données normalisées'!B11) -> Boucle de Seine | D11: =INDEX(Données!B$2:B$171,'Données normalisées'!$B11) -> Chatou | E11: =INDEX(Données!C$2:C$171,'Données normalisées'!$B11) -> MONTESSON | F11: =INDEX(Données!$D$1:$J$1,,'Données normalisées'!A11) -> TOTO | G11: =INDEX(Données!$D$2:$J$171,'Données normalisées'!B11,'Données normalisées'!A11) -> 9 | I11: TITI | J11: 506
A12: =ROUNDDOWN(((ROW(A12)-ROW(A$6))/$A$2)+1,0) -> 1 | B12: =MOD(((ROW(B12)-ROW(B$6))),$A$2)+1 -> 7 | C12: =INDEX(Données!$A$2:$A$171,'Données normalisées'!B12) -> Boucle de Seine | D12: =INDEX(Données!B$2:B$171,'Données normalisées'!$B12) -> Saint Germain | E12: =INDEX(Données!C$2:C$171,'Données normalisées'!$B12) -> AIGREMONT | F12: =INDEX(Données!$D$1:$J$1,,'Données normalisées'!A12) -> TOTO | G12: =INDEX(Données!$D$2:$J$171,'Données normalisées'!B12,'Données normalisées'!A12) -> 1 | I12: TOTO | J12: 351
A13: =ROUNDDOWN(((ROW(A13)-ROW(A$6))/$A$2)+1,0) -> 1 | B13: =MOD(((ROW(B13)-ROW(B$6))),$A$2)+1 -> 8 | C13: =INDEX(Données!$A$2:$A$171,'Données normalisées'!B13) -> Boucle de Seine | D13: =INDEX(Données!B$2:B$171,'Données normalisées'!$B13) -> Saint Germain | E13: =INDEX(Données!C$2:C$171,'Données normalisées'!$B13) -> CHAMBOURCY | F13: =INDEX(Données!$D$1:$J$1,,'Données normalisées'!A13) -> TOTO | G13: =INDEX(Données!$D$2:$J$171,'Données normalisées'!B13,'Données normalisées'!A13) -> 3 | I13: TUTU | J13: 28
A14: =ROUNDDOWN(((ROW(A14)-ROW(A$6))/$A$2)+1,0) -> 1 | B14: =MOD(((ROW(B14)-ROW(B$6))),$A$2)+1 -> 9 | C14: =INDEX(Données!$A$2:$A$171,'Données normalisées'!B14) -> Boucle de Seine | D14: =INDEX(Données!B$2:B$171,'Données normalisées'!$B14) -> Saint Germain | E14: =INDEX(Données!C$2:C$171,'Données normalisées'!$B14) -> LE MESNIL LE ROI | F14: =INDEX(Données!$D$1:$J$1,,'Données normalisées'!A14) -> TOTO | G14: =INDEX(Données!$D$2:$J$171,'Données normalisées'!B14,'Données normalisées'!A14) -> 1 | I14: TYTY | J14: 48
A15: =ROUNDDOWN(((ROW(A15)-ROW(A$6))/$A$2)+1,0) -> 1 | B15: =MOD(((ROW(B15)-ROW(B$6))),$A$2)+1 -> 10 | C15: =INDEX(Données!$A$2:$A$171,'Données normalisées'!B15) -> Boucle de Seine | D15: =INDEX(Données!B$2:B$171,'Données normalisées'!$B15) -> Saint Germain | E15: =INDEX(Données!C$2:C$171,'Données normalisées'!$B15) -> LE PECQ | F15: =INDEX(Données!$D$1:$J$1,,'Données normalisées'!A15) -> TOTO | G15: =INDEX(Données!$D$2:$J$171,'Données normalisées'!B15,'Données normalisées'!A15) -> 9 | I15: Total général | J15: 1195
A16: =ROUNDDOWN(((ROW(A16)-ROW(A$6))/$A$2)+1,0) -> 1 | B16: =MOD(((ROW(B16)-ROW(B$6))),$A$2)+1 -> 11 | C16: =INDEX(Données!$A$2:$A$171,'Données normalisées'!B16) -> Boucle de Seine | D16: =INDEX(Données!B$2:B$171,'Données normalisées'!$B16) -> Saint Germain | E16: =INDEX(Données!C$2:C$171,'Données normalisées'!$B16) -> LOUVECIENNES | F16: =INDEX(Données!$D$1:$J$1,,'Données normalisées'!A16) -> TOTO | G16: =INDEX(Données!$D$2:$J$171,'Données normalisées'!B16,'Données normalisées'!A16) -> 0
A17: =ROUNDDOWN(((ROW(A17)-ROW(A$6))/$A$2)+1,0) -> 1 | B17: =MOD(((ROW(B17)-ROW(B$6))),$A$2)+1 -> 12 | C17: =INDEX(Données!$A$2:$A$171,'Données normalisées'!B17) -> Boucle de Seine | D17: =INDEX(Données!B$2:B$171,'Données normalisées'!$B17) -> Saint Germain | E17: =INDEX(Données!C$2:C$171,'Données normalisées'!$B17) -> MAREIL MARLY | F17: =INDEX(Données!$D$1:$J$1,,'Données normalisées'!A17) -> TOTO | G17: =INDEX(Données!$D$2:$J$171,'Données normalisées'!B17,'Données normalisées'!A17) -> 2
A18: =ROUNDDOWN(((ROW(A18)-ROW(A$6))/$A$2)+1,0) -> 1 | B18: =MOD(((ROW(B18)-ROW(B$6))),$A$2)+1 -> 13 | C18: =INDEX(Données!$A$2:$A$171,'Données normalisées'!B18) -> Boucle de Seine | D18: =INDEX(Données!B$2:B$171,'Données normalisées'!$B18) -> Saint Germain | E18: =INDEX(Données!C$2:C$171,'Données normalisées'!$B18) -> MARLY LE ROI | F18: =INDEX(Données!$D$1:$J$1,,'Données normalisées'!A18) -> TOTO | G18: =INDEX(Données!$D$2:$J$171,'Données normalisées'!B18,'Données normalisées'!A18) -> 0
A19: =ROUNDDOWN(((ROW(A19)-ROW(A$6))/$A$2)+1,0) -> 1 | B19: =MOD(((ROW(B19)-ROW(B$6))),$A$2)+1 -> 14 | C19: =INDEX(Données!$A$2:$A$171,'Données normalisées'!B19) -> Boucle de Seine | D19: =INDEX(Données!B$2:B$171,'Données normalisées'!$B19) -> Saint Germain | E19: =INDEX(Données!C$2:C$171,'Données normalisées'!$B19) -> ST GERMAIN EN LAYE | F19: =INDEX(Données!$D$1:$J$1,,'Données normalisées'!A19) -> TOTO | G19: =INDEX(Données!$D$2:$J$171,'Données normalisées'!B19,'Données normalisées'!A19) -> 22
A20: =ROUNDDOWN(((ROW(A20)-ROW(A$6))/$A$2)+1,0) -> 1 | B20: =MOD(((ROW(B20)-ROW(B$6))),$A$2)+1 -> 15 | C20: =INDEX(Données!$A$2:$A$171,'Données normalisées'!B20) -> Boucle de Seine | D20: =INDEX(Données!B$2:B$171,'Données normalisées'!$B20) -> Sartrouville | E20: =INDEX(Données!C$2:C$171,'Données normalisées'!$B20) -> HOUILLES | F20: =INDEX(Données!$D$1:$J$1,,'Données normalisées'!A20) -> TOTO | G20: =INDEX(Données!$D$2:$J$171,'Données normalisées'!B20,'Données normalisées'!A20) -> 27
A21: =ROUNDDOWN(((ROW(A21)-ROW(A$6))/$A$2)+1,0) -> 1 | B21: =MOD(((ROW(B21)-ROW(B$6))),$A$2)+1 -> 16 | C21: =INDEX(Données!$A$2:$A$171,'Données normalisées'!B21) -> Boucle de Seine | D21: =INDEX(Données!B$2:B$171,'Données normalisées'!$B21) -> Sartrouville | E21: =INDEX(Données!C$2:C$171,'Données normalisées'!$B21) -> MAISONS LAFFITTE | F21: =INDEX(Données!$D$1:$J$1,,'Données normalisées'!A21) -> TOTO | G21: =INDEX(Données!$D$2:$J$171,'Données normalisées'!B21,'Données normalisées'!A21) -> 35
A22: =ROUNDDOWN(((ROW(A22)-ROW(A$6))/$A$2)+1,0) -> 1 | B22: =MOD(((ROW(B22)-ROW(B$6))),$A$2)+1 -> 17 | C22: =INDEX(Données!$A$2:$A$171,'Données normalisées'!B22) -> Boucle de Seine | D22: =INDEX(Données!B$2:B$171,'Données normalisées'!$B22) -> Sartrouville | E22: =INDEX(Données!C$2:C$171,'Données normalisées'!$B22) -> SARTROUVILLE | F22: =INDEX(Données!$D$1:$J$1,,'Données normalisées'!A22) -> TOTO | G22: =INDEX(Données!$D$2:$J$171,'Données normalisées'!B22,'Données normalisées'!A22) -> 188
A23: =ROUNDDOWN(((ROW(A23)-ROW(A$6))/$A$2)+1,0) -> 1 | B23: =MOD(((ROW(B23)-ROW(B$6))),$A$2)+1 -> 18 | C23: =INDEX(Données!$A$2:$A$171,'Données normalisées'!B23) -> Centre Yvelines | D23: =INDEX(Données!B$2:B$171,'Données normalisées'!$B23) -> Montfort | E23: =INDEX(Données!C$2:C$171,'Données normalisées'!$B23) -> ADAINVILLE | F23: =INDEX(Données!$D$1:$J$1,,'Données normalisées'!A23) -> TOTO | G23: =INDEX(Données!$D$2:$J$171,'Données normalisées'!B23,'Données normalisées'!A23) -> 2
A24: =ROUNDDOWN(((ROW(A24)-ROW(A$6))/$A$2)+1,0) -> 1 | B24: =MOD(((ROW(B24)-ROW(B$6))),$A$2)+1 -> 19 | C24: =INDEX(Données!$A$2:$A$171,'Données normalisées'!B24) -> Centre Yvelines | D24: =INDEX(Données!B$2:B$171,'Données normalisées'!$B24) -> Montfort | E24: =INDEX(Données!C$2:C$171,'Données normalisées'!$B24) -> AUTEUIL | F24: =INDEX(Données!$D$1:$J$1,,'Données normalisées'!A24) -> TOTO | G24: =INDEX(Données!$D$2:$J$171,'Données normalisées'!B24,'Données normalisées'!A24) -> 0
A25: =ROUNDDOWN(((ROW(A25)-ROW(A$6))/$A$2)+1,0) -> 1 | B25: =MOD(((ROW(B25)-ROW(B$6))),$A$2)+1 -> 20 | C25: =INDEX(Données!$A$2:$A$171,'Données normalisées'!B25) -> Centre Yvelines | D25: =INDEX(Données!B$2:B$171,'Données normalisées'!$B25) -> Montfort | E25: =INDEX(Données!C$2:C$171,'Données normalisées'!$B25) -> AUTOUILLET | F25: =INDEX(Données!$D$1:$J$1,,'Données normalisées'!A25) -> TOTO | G25: =INDEX(Données!$D$2:$J$171,'Données normalisées'!B25,'Données normalisées'!A25) -> 0
A26: =ROUNDDOWN(((ROW(A26)-ROW(A$6))/$A$2)+1,0) -> 1 | B26: =MOD(((ROW(B26)-ROW(B$6))),$A$2)+1 -> 21 | C26: =INDEX(Données!$A$2:$A$171,'Données normalisées'!B26) -> Centre Yvelines | D26: =INDEX(Données!B$2:B$171,'Données normalisées'!$B26) -> Montfort | E26: =INDEX(Données!C$2:C$171,'Données normalisées'!$B26) -> BAZOCHES SUR GUYONNE | F26: =INDEX(Données!$D$1:$J$1,,'Données normalisées'!A26) -> TOTO | G26: =INDEX(Données!$D$2:$J$171,'Données normalisées'!B26,'Données normalisées'!A26) -> 0
A27: =ROUNDDOWN(((ROW(A27)-ROW(A$6))/$A$2)+1,0) -> 1 | B27: =MOD(((ROW(B27)-ROW(B$6))),$A$2)+1 -> 22 | C27: =INDEX(Données!$A$2:$A$171,'Données normalisées'!B27) -> Centre Yvelines | D27: =INDEX(Données!B$2:B$171,'Données normalisées'!$B27) -> Montfort | E27: =INDEX(Données!C$2:C$171,'Données normalisées'!$B27) -> BENNECOURT | F27: =INDEX(Données!$D$1:$J$1,,'Données normalisées'!A27) -> TOTO | G27: =INDEX(Données!$D$2:$J$171,'Données normalisées'!B27,'Données normalisées'!A27) -> 4
... A1195: =ROUNDDOWN(((ROW(A1195)-ROW(A$6))/$A$2)+1,0) -> 7 | B1195: =MOD(((ROW(B1195)-ROW(B$6))),$A$2)+1 -> 170 | C1195: =INDEX(Données!$A$2:$A$171,'Données normalisées'!B1195) -> Sud Yvelines | D1195: =INDEX(Données!B$2:B$171,'Données normalisées'!$B1195) -> Sud Yvelines | E1195: =INDEX(Données!C$2:C$171,'Données normalisées'!$B1195) -> VIEILLE EGLISE EN YVELINES | F1195: =INDEX(Données!$D$1:$J$1,,'Données normalisées'!A1195) -> TAOTAO | G1195: =INDEX(Données!$D$2:$J$171,'Données normalisées'!B1195,'Données normalisées'!A1195) -> 0
