Workbook

Sheet 31-1nov
A1: Date | B1: Pluie | C1: F1 | D1: F2-6
A2: 41578.361 | B2: 0
A3: 41578.365 | B3: 0.2
A4: 41578.368 | B4: 0
A5: 41578.372 | B5: 0 | C5: 2.0950022e-05
A6: 41578.375 | B6: 0.2
A7: 41578.378 | B7: 0 | P7: ici sans bandes. Les courbes sont bonnes et bien placées.
A8: 41578.382 | B8: 0 | C8: 3.7310314e-05
A9: 41578.385 | B9: 0 | C9: 0.0025859405
A10: 41578.389 | B10: 0 | C10: 0.0025859405
A11: 41578.392 | B11: 0 | C11: 0.0015524066
A12: 41578.396 | B12: 0 | C12: 0.0061020458
A13: 41578.399 | B13: 0 | C13: 0.00058258153
A14: 41578.403 | B14: 0 | C14: 0.00057126266
A15: 41578.406 | B15: 0 | C15: 0.0024505553
A16: 41578.41 | B16: 0
A17: 41578.413 | B17: 0
A18: 41578.417 | B18: 0
A19: 41578.42 | B19: 0
A20: 41578.424 | B20: 0 | C20: 0.00066367566
A21: 41578.427 | B21: 0 | C21: 0.0023192569
A22: 41578.431 | B22: 0 | C22: 0.00020620557
A23: 41578.434 | B23: 0 | C23: 0.0039961048 | P23: ici, la pluie est en bandes aux 5 minutes, ce qui est parfait. Mais elles ne sont pas placées au bon endroit…comme on peut les comparer avec le graph du dessus.
A24: 41578.438 | B24: 0 | C24: 0.0089474377
A25: 41578.441 | B25: 0
A26: 41578.444 | B26: 0
A27: 41578.448 | B27: 0
A28: 41578.451 | B28: 0
A29: 41578.455 | B29: 0
A30: 41578.458 | B30: 0
A31: 41578.462 | B31: 0
A32: 41578.465 | B32: 0
A33: 41578.469 | B33: 0
A34: 41578.472 | B34: 0
A35: 41578.476 | B35: 0
A36: 41578.479 | B36: 0
... A38: 41578.486 | B38: 0
A39: 41578.49 | B39: 0 | C39: 0.00072115249
A40: 41578.493 | B40: 0 | C40: 0.00011982682
A41: 41578.497 | B41: 0
A42: 41578.5 | B42: 0 | C42: 0.0037157375
A43: 41578.503 | B43: 0 | C43: 9.6853175e-05
A44: 41578.507 | B44: 0 | C44: 0.0055724048 | D44: 0.048986372
A45: 41578.51 | B45: 0 | C45: 0.0011170659 | D45: 0.033739989
A46: 41578.514 | B46: 0 | C46: 6.0473074e-06 | D46: 0.033739989
A47: 41578.517 | B47: 0
A48: 41578.521 | B48: 0
A49: 41578.524 | B49: 0 | D49: 0.035410615
A50: 41578.528 | B50: 0
A51: 41578.531 | B51: 0
A52: 41578.535 | B52: 0
A53: 41578.538 | B53: 0
A54: 41578.542 | B54: 0 | D54: 0.038853057
A55: 41578.545 | B55: 0
A56: 41578.549 | B56: 0
A57: 41578.552 | B57: 0.2 | C57: 0.00048020765 | D57: 0.042417208
A58: 41578.556 | B58: 0 | D58: 0.042417208
A59: 41578.559 | B59: 0
A60: 41578.562 | B60: 0
A61: 41578.566 | B61: 0 | D61: 0.044239458
A62: 41578.569 | B62: 0
A63: 41578.573 | B63: 0
A64: 41578.576 | B64: 0 | C64: 3.1114436e-05
A65: 41578.58 | B65: 0
A66: 41578.583 | B66: 0 | D66: 0.087101097
A67: 41578.587 | B67: 0
A68: 41578.59 | B68: 0
A69: 41578.594 | B69: 0 | D69: 0.049907034
A70: 41578.597 | B70: 0
A71: 41578.601 | B71: 0
A72: 41578.604 | B72: 0.2
A73: 41578.608 | B73: 0.2
A74: 41578.611 | B74: 0.2
A75: 41578.615 | B75: 0
A76: 41578.618 | B76: 0.2
A77: 41578.622 | B77: 0
A78: 41578.625 | B78: 0.2
A79: 41578.628 | B79: 0
A80: 41578.632 | B80: 0 | D80: 0.03942624
A81: 41578.635 | B81: 0.2
A82: 41578.639 | B82: 0 | C82: 6.899379e-06
A83: 41578.642 | B83: 0.2
A84: 41578.646 | B84: 0 | C84: 0.0017414225 | D84: 0.059932216
A85: 41578.649 | B85: 0.2 | C85: 0.00060514616
A86: 41578.653 | B86: 0 | C86: 6.476213e-05 | D86: 0.083749986
A87: 41578.656 | B87: 0 | C87: 0.0010481667
A88: 41578.66 | B88: 0.2 | C88: 0.0010481667
A89: 41578.663 | B89: 0.2 | C89: 0.0036910372 | D89: 0.065624331
A90: 41578.667 | B90: 0.4 | C90: 0.0074156976 | D90: 0.11003572
A91: 41578.67 | B91: 0 | D91: 0.11003572
A92: 41578.674 | B92: 0 | C92: 0.0019197444
A93: 41578.677 | B93: 0 | C93: 0.00096735761 | D93: 0.06629598
A94: 41578.681 | B94: 0 | C94: 7.6403087e-07
A95: 41578.684 | B95: 0.2 | C95: 0.00078733391
A96: 41578.688 | B96: 0 | C96: 0.0022359211 | D96: 0.07067457
A97: 41578.691 | B97: 0 | C97: 0.00018529804 | D97: 0.035294261
A98: 41578.694 | B98: 0 | C98: 0.00089743905 | D98: 0.055804092
A99: 41578.698 | B99: 0 | C99: 0.030774045 | D99: 0.11816723
A100: 41578.701 | B100: 0 | C100: 0.0031010811 | D100: 0.072919399
A101: 41578.705 | B101: 0 | C101: 0.004609159 | D101: 0.12393016
...

Sheet Feuil1
A1: ='31-1nov'!A1 -> Date | B1: Date | C1: Heure | D1: ='31-1nov'!B1 -> Pluie | E1: ='31-1nov'!C1 -> F1 | F1: ='31-1nov'!D1 -> F2-6
A2: ='31-1nov'!A2 -> 41578.361 | B2: =TEXT(A2,"jj/mm") -> 31/10 | C2: =MOD(A2,1) -> 0.36111111 | D2: ='31-1nov'!B2 -> 0 | E2: ='31-1nov'!C2 -> 0 | F2: ='31-1nov'!D2 -> 0
A3: ='31-1nov'!A3 -> 41578.365 | B3: =IF(INT(A3)=INT(A2),"",TEXT(A3,"jj/mm")) | C3: =MOD(A3,1) -> 0.36458333 | D3: ='31-1nov'!B3 -> 0.2 | E3: ='31-1nov'!C3 | F3: ='31-1nov'!D3
A4: ='31-1nov'!A4 -> 41578.368 | B4: =IF(INT(A4)=INT(A3),"",TEXT(A4,"jj/mm")) | C4: =MOD(A4,1) -> 0.36805556 | D4: ='31-1nov'!B4 -> 0 | E4: ='31-1nov'!C4 | F4: ='31-1nov'!D4
A5: ='31-1nov'!A5 -> 41578.372 | B5: =IF(INT(A5)=INT(A4),"",TEXT(A5,"jj/mm")) | C5: =MOD(A5,1) -> 0.37152778 | D5: ='31-1nov'!B5 -> 0 | E5: ='31-1nov'!C5 -> 2.0950022e-05 | F5: ='31-1nov'!D5
A6: ='31-1nov'!A6 -> 41578.375 | B6: =IF(INT(A6)=INT(A5),"",TEXT(A6,"jj/mm")) | C6: =MOD(A6,1) -> 0.375 | D6: ='31-1nov'!B6 -> 0.2 | E6: ='31-1nov'!C6 | F6: ='31-1nov'!D6
A7: ='31-1nov'!A7 -> 41578.378 | B7: =IF(INT(A7)=INT(A6),"",TEXT(A7,"jj/mm")) | C7: =MOD(A7,1) -> 0.37847222 | D7: ='31-1nov'!B7 -> 0 | E7: ='31-1nov'!C7 | F7: ='31-1nov'!D7
A8: ='31-1nov'!A8 -> 41578.382 | B8: =IF(INT(A8)=INT(A7),"",TEXT(A8,"jj/mm")) | C8: =MOD(A8,1) -> 0.38194444 | D8: ='31-1nov'!B8 -> 0 | E8: ='31-1nov'!C8 -> 3.7310314e-05 | F8: ='31-1nov'!D8
A9: ='31-1nov'!A9 -> 41578.385 | B9: =IF(INT(A9)=INT(A8),"",TEXT(A9,"jj/mm")) | C9: =MOD(A9,1) -> 0.38541667 | D9: ='31-1nov'!B9 -> 0 | E9: ='31-1nov'!C9 -> 0.0025859405 | F9: ='31-1nov'!D9
A10: ='31-1nov'!A10 -> 41578.389 | B10: =IF(INT(A10)=INT(A9),"",TEXT(A10,"jj/mm")) | C10: =MOD(A10,1) -> 0.38888889 | D10: ='31-1nov'!B10 -> 0 | E10: ='31-1nov'!C10 -> 0.0025859405 | F10: ='31-1nov'!D10
A11: ='31-1nov'!A11 -> 41578.392 | B11: =IF(INT(A11)=INT(A10),"",TEXT(A11,"jj/mm")) | C11: =MOD(A11,1) -> 0.39236111 | D11: ='31-1nov'!B11 -> 0 | E11: ='31-1nov'!C11 -> 0.0015524066 | F11: ='31-1nov'!D11
A12: ='31-1nov'!A12 -> 41578.396 | B12: =IF(INT(A12)=INT(A11),"",TEXT(A12,"jj/mm")) | C12: =MOD(A12,1) -> 0.39583333 | D12: ='31-1nov'!B12 -> 0 | E12: ='31-1nov'!C12 -> 0.0061020458 | F12: ='31-1nov'!D12
A13: ='31-1nov'!A13 -> 41578.399 | B13: =IF(INT(A13)=INT(A12),"",TEXT(A13,"jj/mm")) | C13: =MOD(A13,1) -> 0.39930556 | D13: ='31-1nov'!B13 -> 0 | E13: ='31-1nov'!C13 -> 0.00058258153 | F13: ='31-1nov'!D13
A14: ='31-1nov'!A14 -> 41578.403 | B14: =IF(INT(A14)=INT(A13),"",TEXT(A14,"jj/mm")) | C14: =MOD(A14,1) -> 0.40277778 | D14: ='31-1nov'!B14 -> 0 | E14: ='31-1nov'!C14 -> 0.00057126266 | F14: ='31-1nov'!D14
... A532: ='31-1nov'!A532 -> 41580.201 | B532: =IF(INT(A532)=INT(A531),"",TEXT(A532,"jj/mm")) | C532: =MOD(A532,1) -> 0.20138889 | D532: ='31-1nov'!B532 -> 0 | E532: ='31-1nov'!C532 -> 0.04421961 | F532: ='31-1nov'!D532 -> 0.055692459
