Workbook

Sheet 31-1nov
A1: Date | B1: Pluie | C1: F1 | D1: F2-6
A2: 41578.361 | B2: 0
A3: 41578.365 | B3: 0.2
A4: 41578.368 | B4: 0
A5: 41578.372 | B5: 0 | C5: 2.0950022e-05
A6: 41578.375 | B6: 0.2
A7: 41578.378 | B7: 0 | P7: ici sans bandes. Les courbes sont bonnes et bien placées.
A8: 41578.382 | B8: 0 | C8: 3.7310314e-05
A9: 41578.385 | B9: 0 | C9: 0.0025859405
A10: 41578.389 | B10: 0 | C10: 0.0025859405
A11: 41578.392 | B11: 0 | C11: 0.0015524066
A12: 41578.396 | B12: 0 | C12: 0.0061020458
A13: 41578.399 | B13: 0 | C13: 0.00058258153
A14: 41578.403 | B14: 0 | C14: 0.00057126266
A15: 41578.406 | B15: 0 | C15: 0.0024505553
A16: 41578.41 | B16: 0
A17: 41578.413 | B17: 0
A18: 41578.417 | B18: 0
A19: 41578.42 | B19: 0
A20: 41578.424 | B20: 0 | C20: 0.00066367566
A21: 41578.427 | B21: 0 | C21: 0.0023192569
A22: 41578.431 | B22: 0 | C22: 0.00020620557
A23: 41578.434 | B23: 0 | C23: 0.0039961048 | P23: ici, la pluie est en bandes aux 5 minutes, ce qui est parfait. Mais elles ne sont pas placées au bon endroit…comme on peut les comparer avec le graph du dessus.
A24: 41578.438 | B24: 0 | C24: 0.0089474377
A25: 41578.441 | B25: 0
A26: 41578.444 | B26: 0
A27: 41578.448 | B27: 0
A28: 41578.451 | B28: 0
A29: 41578.455 | B29: 0
A30: 41578.458 | B30: 0
A31: 41578.462 | B31: 0
A32: 41578.465 | B32: 0
A33: 41578.469 | B33: 0
A34: 41578.472 | B34: 0
A35: 41578.476 | B35: 0
A36: 41578.479 | B36: 0
... A38: 41578.486 | B38: 0
A39: 41578.49 | B39: 0 | C39: 0.00072115249
A40: 41578.493 | B40: 0 | C40: 0.00011982682
A41: 41578.497 | B41: 0
...

Sheet Feuil1
A1: ='31-1nov'!A1 -> Date | B1: Date | C1: Heure | D1: ='31-1nov'!B1 -> Pluie | E1: ='31-1nov'!C1 -> F1 | F1: ='31-1nov'!D1 -> F2-6
A2: ='31-1nov'!A2 -> 41578.361 | B2: =TEXT(A2,"jj/mm") -> 31/10 | C2: =MOD(A2,1) -> 0.36111111 | D2: ='31-1nov'!B2 -> 0 | E2: ='31-1nov'!C2 -> 0 | F2: ='31-1nov'!D2 -> 0
A3: ='31-1nov'!A3 -> 41578.365 | B3: =IF(INT(A3)=INT(A2),"",TEXT(A3,"jj/mm")) | C3: =MOD(A3,1) -> 0.36458333 | D3: ='31-1nov'!B3 -> 0.2 | E3: ='31-1nov'!C3 | F3: ='31-1nov'!D3
A4: ='31-1nov'!A4 -> 41578.368 | B4: =IF(INT(A4)=INT(A3),"",TEXT(A4,"jj/mm")) | C4: =MOD(A4,1) -> 0.36805556 | D4: ='31-1nov'!B4 -> 0 | E4: ='31-1nov'!C4 | F4: ='31-1nov'!D4
A5: ='31-1nov'!A5 -> 41578.372 | B5: =IF(INT(A5)=INT(A4),"",TEXT(A5,"jj/mm")) | C5: =MOD(A5,1) -> 0.37152778 | D5: ='31-1nov'!B5 -> 0 | E5: ='31-1nov'!C5 -> 2.0950022e-05 | F5: ='31-1nov'!D5
A6: ='31-1nov'!A6 -> 41578.375 | B6: =IF(INT(A6)=INT(A5),"",TEXT(A6,"jj/mm")) | C6: =MOD(A6,1) -> 0.375 | D6: ='31-1nov'!B6 -> 0.2 | E6: ='31-1nov'!C6 | F6: ='31-1nov'!D6
A7: ='31-1nov'!A7 -> 41578.378 | B7: =IF(INT(A7)=INT(A6),"",TEXT(A7,"jj/mm")) | C7: =MOD(A7,1) -> 0.37847222 | D7: ='31-1nov'!B7 -> 0 | E7: ='31-1nov'!C7 | F7: ='31-1nov'!D7
A8: ='31-1nov'!A8 -> 41578.382 | B8: =IF(INT(A8)=INT(A7),"",TEXT(A8,"jj/mm")) | C8: =MOD(A8,1) -> 0.38194444 | D8: ='31-1nov'!B8 -> 0 | E8: ='31-1nov'!C8 -> 3.7310314e-05 | F8: ='31-1nov'!D8
A9: ='31-1nov'!A9 -> 41578.385 | B9: =IF(INT(A9)=INT(A8),"",TEXT(A9,"jj/mm")) | C9: =MOD(A9,1) -> 0.38541667 | D9: ='31-1nov'!B9 -> 0 | E9: ='31-1nov'!C9 -> 0.0025859405 | F9: ='31-1nov'!D9
A10: ='31-1nov'!A10 -> 41578.389 | B10: =IF(INT(A10)=INT(A9),"",TEXT(A10,"jj/mm")) | C10: =MOD(A10,1) -> 0.38888889 | D10: ='31-1nov'!B10 -> 0 | E10: ='31-1nov'!C10 -> 0.0025859405 | F10: ='31-1nov'!D10
A11: ='31-1nov'!A11 -> 41578.392 | B11: =IF(INT(A11)=INT(A10),"",TEXT(A11,"jj/mm")) | C11: =MOD(A11,1) -> 0.39236111 | D11: ='31-1nov'!B11 -> 0 | E11: ='31-1nov'!C11 -> 0.0015524066 | F11: ='31-1nov'!D11
A12: ='31-1nov'!A12 -> 41578.396 | B12: =IF(INT(A12)=INT(A11),"",TEXT(A12,"jj/mm")) | C12: =MOD(A12,1) -> 0.39583333 | D12: ='31-1nov'!B12 -> 0 | E12: ='31-1nov'!C12 -> 0.0061020458 | F12: ='31-1nov'!D12
A13: ='31-1nov'!A13 -> 41578.399 | B13: =IF(INT(A13)=INT(A12),"",TEXT(A13,"jj/mm")) | C13: =MOD(A13,1) -> 0.39930556 | D13: ='31-1nov'!B13 -> 0 | E13: ='31-1nov'!C13 -> 0.00058258153 | F13: ='31-1nov'!D13
A14: ='31-1nov'!A14 -> 41578.403 | B14: =IF(INT(A14)=INT(A13),"",TEXT(A14,"jj/mm")) | C14: =MOD(A14,1) -> 0.40277778 | D14: ='31-1nov'!B14 -> 0 | E14: ='31-1nov'!C14 -> 0.00057126266 | F14: ='31-1nov'!D14
... A532: ='31-1nov'!A532 -> 41580.201 | B532: =IF(INT(A532)=INT(A531),"",TEXT(A532,"jj/mm")) | C532: =MOD(A532,1) -> 0.20138889 | D532: ='31-1nov'!B532 -> 0 | E532: ='31-1nov'!C532 -> 0.04421961 | F532: ='31-1nov'!D532 -> 0.055692459
