Workbook

Sheet Base
A1: 2018 | B1: PLANNING
B2: Gardes et astreintes Nuits, et Gardes WE
A3: MOIS | B3: 6 | G3: ANNEE | V3: 2018 | AH3: 43070
A4: DATE | B4: jour (7h / 19h) | N4: nuit au CSR (19h / 7h) | Z4: nuit au domicile (moins de 8mn) | AL4: Section
B5: 7h - 8h | C5: 8h - 9h | D5: 9h - 10h | E5: 10h - 11h | F5: 11h - 12h | G5: 12h - 13h | H5: 13h - 14h | I5: 14h - 15h | J5: 15h - 16h | K5: 16h - 17h | L5: 17h - 18h | M5: 18h - 19h | N5: 19h - 20h | O5: 20h - 21h | P5: 21h - 22h | Q5: 22h - 23h | R5: 23h - 24h | S5: 24h - 1h | T5: 1h - 2h | U5: 2h - 3h | V5: 3h - 4h | W5: 4h - 5h | X5: 5h - 6h | Y5: 6h - 7h | Z5: 19h - 20h | AA5: 20h - 21h | AB5: 21h - 22h | AC5: 22h - 23h | AD5: 23h - 24h | AE5: 24h - 1h | AF5: 1h - 2h | AG5: 2h - 3h | AH5: 3h - 4h | AI5: 4h - 5h | AJ5: 5h - 6h | AK5: 6h - 7h
A6: =DATE(V3,B3,1) -> 43252 | AL6: =IFERROR(VLOOKUP(A6,Listes!$A$9:$B$374,2,FALSE),"") -> 3
A7: =IF(A6="","",IF(MONTH(A6+1)>MONTH(A6),"",A6+1)) -> 43253 | AL7: =IFERROR(VLOOKUP(A7,Listes!$A$9:$B$374,2,FALSE),"") -> 4
A8: =IF(A7="","",IF(MONTH(A7+1)>MONTH(A7),"",A7+1)) -> 43254 | AL8: =IFERROR(VLOOKUP(A8,Listes!$A$9:$B$374,2,FALSE),"") -> 1
A9: =IF(A8="","",IF(MONTH(A8+1)>MONTH(A8),"",A8+1)) -> 43255 | AL9: =IFERROR(VLOOKUP(A9,Listes!$A$9:$B$374,2,FALSE),"") -> 2
A10: =IF(A9="","",IF(MONTH(A9+1)>MONTH(A9),"",A9+1)) -> 43256 | AL10: =IFERROR(VLOOKUP(A10,Listes!$A$9:$B$374,2,FALSE),"") -> 3
A11: =IF(A10="","",IF(MONTH(A10+1)>MONTH(A10),"",A10+1)) -> 43257 | AL11: =IFERROR(VLOOKUP(A11,Listes!$A$9:$B$374,2,FALSE),"") -> 4
A12: =IF(A11="","",IF(MONTH(A11+1)>MONTH(A11),"",A11+1)) -> 43258 | AL12: =IFERROR(VLOOKUP(A12,Listes!$A$9:$B$374,2,FALSE),"") -> 1
A13: =IF(A12="","",IF(MONTH(A12+1)>MONTH(A12),"",A12+1)) -> 43259 | AL13: =IFERROR(VLOOKUP(A13,Listes!$A$9:$B$374,2,FALSE),"") -> 2
A14: =IF(A13="","",IF(MONTH(A13+1)>MONTH(A13),"",A13+1)) -> 43260 | AL14: =IFERROR(VLOOKUP(A14,Listes!$A$9:$B$374,2,FALSE),"") -> 3
A15: =IF(A14="","",IF(MONTH(A14+1)>MONTH(A14),"",A14+1)) -> 43261 | AL15: =IFERROR(VLOOKUP(A15,Listes!$A$9:$B$374,2,FALSE),"") -> 4
A16: =IF(A15="","",IF(MONTH(A15+1)>MONTH(A15),"",A15+1)) -> 43262 | AL16: =IFERROR(VLOOKUP(A16,Listes!$A$9:$B$374,2,FALSE),"") -> 1
A17: =IF(A16="","",IF(MONTH(A16+1)>MONTH(A16),"",A16+1)) -> 43263 | AL17: =IFERROR(VLOOKUP(A17,Listes!$A$9:$B$374,2,FALSE),"") -> 2
A18: =IF(A17="","",IF(MONTH(A17+1)>MONTH(A17),"",A17+1)) -> 43264 | AL18: =IFERROR(VLOOKUP(A18,Listes!$A$9:$B$374,2,FALSE),"") -> 3
... A36: =IF(A35="","",IF(MONTH(A35+1)>MONTH(A35),"",A35+1)) | AL36: =IFERROR(VLOOKUP(A36,Listes!$A$9:$B$374,2,FALSE),"")
A38: NOM- PRENOM :
A39: COMPETENCES : * | B39: CATE | N39: CA1E sap2-Div2 | Z39: CE
A40: Jour 1 en surbrillance : | B40: Samedi | N40: COD2 | Z40: VL
A41: Jour 2 en surbrillance : | B41: Dimanche
A42: *remplissez (couleur de remplissage) les carrés correspondants à vos compétences,
A43: (si remplissage manuscrit mettez une croix dans le carré)
A44: les cases grisées sont les jours de semaines gérés par le service des gardes (à ne pas remplir)
A45: Cochez d'une croix (X) les cases où vous êtes disponible
A46: (en précisant éventuellement l'horaire de fin si besoin d'arrêter avant 7h)
AL48: =(A6-AH3)/4 -> 45.5

Sheet Listes
A1: Année | B1: 2018
A3: Section | B3: Date
A4: 1 | B4: 43102
A5: 2 | B5: 43103
A6: 3 | B6: 43104
A7: 4 | B7: 43101
A9: Date | B9: Section
A10: =DATE($B$1,1,1) -> 43101 | B10: =INDEX($A$4:$B$7,MATCH(A10,$B$4:$B$7,0),1) -> 4
A11: =A10+1 -> 43102 | B11: =INDEX($A$4:$B$7,MATCH(A11,$B$4:$B$7,0),1) -> 1
A12: =A11+1 -> 43103 | B12: =INDEX($A$4:$B$7,MATCH(A12,$B$4:$B$7,0),1) -> 2
A13: =A12+1 -> 43104 | B13: =INDEX($A$4:$B$7,MATCH(A13,$B$4:$B$7,0),1) -> 3
A14: =A13+1 -> 43105 | B14: =B10 -> 4
A15: =A14+1 -> 43106 | B15: =B11 -> 1
A16: =A15+1 -> 43107 | B16: =B12 -> 2
A17: =A16+1 -> 43108 | B17: =B13 -> 3
A18: =A17+1 -> 43109 | B18: =B14 -> 4
A19: =A18+1 -> 43110 | B19: =B15 -> 1
A20: =A19+1 -> 43111 | B20: =B16 -> 2
A21: =A20+1 -> 43112 | B21: =B17 -> 3
A22: =A21+1 -> 43113 | B22: =B18 -> 4
A23: =A22+1 -> 43114 | B23: =B19 -> 1
A24: =A23+1 -> 43115 | B24: =B20 -> 2
A25: =A24+1 -> 43116 | B25: =B21 -> 3
... A374: =A373+1 -> 43465 | B374: =B370 -> 4
