Workbook

Sheet Table 1
A1: Deshaies et Raymond Inc.
A2: Mme Julie Martel
A3: 650 Rue DU COIN
A4: Exécution des travaux :
A5: Client X
A6: Liste des matériaux
A7: Date :
A8: 41745
A9: Drummondville, Qc
A10: Ste-Julie, Qc
A11: Soumission # 1234
A12: Bur.:
A13: (819)123-4567
A14: Email: construct@XYZ.CA
A15: Description Quantité Coût
A16: Forfaits
A17: M.o. Chantier - Exécution
A18: Total Réel Marge $
A19: M.o. chargement/déchargement | B19: 1.057 HRS | C19: 31.00 $ | D19: 32.76 $
A20: M.o. plantation | B20: 42.555 HRS | C20: 31.00 $ | D20: 1 319.21 $
A21: M.o. Excavation & Machinerie - Chantier
A22: Brouette motorisée utilisation | B22: 1.131 HRS | C22: 43.87 $ | D22: 49.64 $
A23: M.o. Gestion - Chantier
A24: M.o. surveillance chantier (Travaux régulier) | B24: 2.112 HRS | C24: 40.75 $ | D24: 86.05 $
A25: M.o. planification & administration (Travaux régulier) | B25: 4.223 HRS | C25: 40.75 $ | D25: 172.09 $
A26: Semence, Engrais & Acc. entretien
A27: Sellette flexible pour tuteur | B27: 18.000 UN | C27: 4.63 $ | D27: 83.34 $
A28: Engrais Bio-Nord 10kg | B28: 0.170 UN | C28: 52.98 $ | D28: 9.02 $
A29: Tuteur de 8'-0" | B29: 18.000 UN | C29: 6.53 $ | D29: 117.46 $
A30: Terre & Gazon
A31: Gazon en plaques (incluant terre végétale) | B31: 0.000 M2 | C31: 12.00 $ | D31: 0.00 $
A32: Millage camion (Ton) dumper | B32: 390.088 KM | C32: 1.10 $ | D32: 429.10 $
D33: 2 298.67 $
A34: Véhicules roulants
A35: 1 de 1

Sheet Table 1 (2)
A1: Deshaies et Raymond Inc.
A2: Mme Julie Martel
A3: 650 Rue DU COIN
A4: Exécution des travaux :
A5: Client X
A6: Liste des matériaux
A7: Date :
A8: 41745
A9: Drummondville, Qc
A10: Ste-Julie, Qc
A11: Soumission # 1234
A12: Bur.:
A13: (819)123-4567
A14: Email: construct@XYZ.CA
A15: Description Quantité Coût
A16: Forfaits
A17: M.o. Chantier - Exécution
A18: Total Réel Marge $
A19: M.o. chargement/déchargement | B19: =SUBSTITUTE(MID('Table 1'!B19,1,FIND(" ",'Table 1'!B19)),".",",")*1 -> 1.057 | C19: =SUBSTITUTE(MID('Table 1'!C19,1,FIND(" ",'Table 1'!C19)),".",",")*1 -> 31 | D19: =B19*C19 -> 32.767
A20: M.o. plantation | B20: =SUBSTITUTE(MID('Table 1'!B20,1,FIND(" ",'Table 1'!B20)),".",",")*1 -> 42.555 | C20: =SUBSTITUTE(MID('Table 1'!C20,1,FIND(" ",'Table 1'!C20)),".",",")*1 -> 31 | D20: =B20*C20 -> 1319.205
A21: M.o. Excavation & Machinerie - Chantier
A22: Brouette motorisée utilisation | B22: =SUBSTITUTE(MID('Table 1'!B22,1,FIND(" ",'Table 1'!B22)),".",",")*1 -> 1.131 | C22: =SUBSTITUTE(MID('Table 1'!C22,1,FIND(" ",'Table 1'!C22)),".",",")*1 -> 43.87 | D22: =B22*C22 -> 49.61697
A23: M.o. Gestion - Chantier
A24: M.o. surveillance chantier (Travaux régulier) | B24: =SUBSTITUTE(MID('Table 1'!B24,1,FIND(" ",'Table 1'!B24)),".",",")*1 -> 2.112 | C24: =SUBSTITUTE(MID('Table 1'!C24,1,FIND(" ",'Table 1'!C24)),".",",")*1 -> 40.75 | D24: =B24*C24 -> 86.064
A25: M.o. planification & administration (Travaux régulier) | B25: =SUBSTITUTE(MID('Table 1'!B25,1,FIND(" ",'Table 1'!B25)),".",",")*1 -> 4.223 | C25: =SUBSTITUTE(MID('Table 1'!C25,1,FIND(" ",'Table 1'!C25)),".",",")*1 -> 40.75 | D25: =B25*C25 -> 172.08725
A26: Semence, Engrais & Acc. entretien
A27: Sellette flexible pour tuteur | B27: =SUBSTITUTE(MID('Table 1'!B27,1,FIND(" ",'Table 1'!B27)),".",",")*1 -> 18 | C27: =SUBSTITUTE(MID('Table 1'!C27,1,FIND(" ",'Table 1'!C27)),".",",")*1 -> 4.63 | D27: =B27*C27 -> 83.34
A28: Engrais Bio-Nord 10kg | B28: =SUBSTITUTE(MID('Table 1'!B28,1,FIND(" ",'Table 1'!B28)),".",",")*1 -> 0.17 | C28: =SUBSTITUTE(MID('Table 1'!C28,1,FIND(" ",'Table 1'!C28)),".",",")*1 -> 52.98 | D28: =B28*C28 -> 9.0066
A29: Tuteur de 8'-0" | B29: =SUBSTITUTE(MID('Table 1'!B29,1,FIND(" ",'Table 1'!B29)),".",",")*1 -> 18 | C29: =SUBSTITUTE(MID('Table 1'!C29,1,FIND(" ",'Table 1'!C29)),".",",")*1 -> 6.53 | D29: =B29*C29 -> 117.54
A30: Terre & Gazon
A31: Gazon en plaques (incluant terre végétale) | B31: =SUBSTITUTE(MID('Table 1'!B31,1,FIND(" ",'Table 1'!B31)),".",",")*1 -> 0 | C31: =SUBSTITUTE(MID('Table 1'!C31,1,FIND(" ",'Table 1'!C31)),".",",")*1 -> 12 | D31: =B31*C31 -> 0
A32: Millage camion (Ton) dumper | B32: =SUBSTITUTE(MID('Table 1'!B32,1,FIND(" ",'Table 1'!B32)),".",",")*1 -> 390.088 | C32: =SUBSTITUTE(MID('Table 1'!C32,1,FIND(" ",'Table 1'!C32)),".",",")*1 -> 1.1 | D32: =B32*C32 -> 429.0968
D33: =SUM(D19:D32) -> 2298.7236
A34: Véhicules roulants
A35: 1 de 1
