Workbook

Sheet Feuil1
A1: n° fiche | B1: Le quartier | C1: Résidence / Lieu | D1: Thématique | E1: Gravité | F1: Résolution
A2: 89 | B2: Rive -Gauche | C2: Alexandre Dumas | D2: Tri sélectif et déchets Entretien espaces verts/luminaires/voiries/résidences | E2: faible | F2: non
A3: 150 | B3: Rive-Gauche | C3: Alexandre Dumas | D3: Gestion locative/humaine/sociale | E3: élevée | F3: non
A4: 121 | B4: Rive -Gauche | C4: Alexandre Dumas | D4: Gestion locative/ sociale | E4: élevée | F4: non
A5: 120 | B5: Rive -Gauche | C5: Alexandre Dumas | D5: Gestion locative/humaine/sociale Entretien espaces verts/luminaires /voiries/résidences | E5: faible | F5: non
A6: 152 | B6: Quartier du Fort | C6: Avenue de Kalisz | D6: Stationnement et voitures | E6: faible | F6: non
A7: 141 | B7: Bois du Quesnoy | C7: Avenue Leclerc | D7: Entretien espaces verts/luminaires/voiries/résidences | E7: faible | F7: non
A8: 30 | B8: Bois du Quesnoy | C8: Avenue Leclerc | D8: Stationnement et voitures | E8: faible | F8: oui
A9: 160 | B9: Bois du Quesnoy | C9: Avenue Leclerc | D9: Stationnement et voitures | E9: élevée | F9: non
A10: 157 | B10: Bois du Quesnoy | C10: Avenue Leclerc - ancienne boulangerie | D10: Intranquilité publique/Incivilités/Dégradations/Insécurité | E10: élevée | F10: non
A11: 7 | B11: Bois du Quesnoy | C11: Bois du Quesnoy | D11: Stationnement et voitures Gestion locative/humaine/sociale Entretien espaces verts/luminaires/voiries/résidences | E11: faible | F11: oui
A12: 12 | B12: Bois du Quesnoy | C12: Bois du Quesnoy | D12: Gestion locative/humaine/sociale | E12: élevée | F12: oui
A13: 62 | B13: centre-ville | C13: Boulevard de l'Ecluse | D13: Parfait achèvement et SAV des constructions et réhabilitations | E13: faible | F13: non
... A112: 32 | B112: Quartier du Fort | C112: Place du Nouveau Monde et rue Odette | D112: Intranquilité publique/Incivilités/Dégradations/Insécurité | E112: faible | F112: non
A113: 40Bis | B113: Quartier du Fort | C113: Place du Nouveau Monde et rue Odette | D113: Intranquilité publique/Incivilités/Dégradations/Insécurité | E113: élevée | F113: non
A114: 36 | B114: Quartier du Fort | C114: Place du Nouveau Monde et rue Odette | D114: Parfait achèvement et SAV des constructions et réhabilitations | E114: faible | F114: oui
A115: 14 | B115: Quartier du Fort | C115: Place du Nouveau Monde et rue Odette | D115: Parfait achèvement et SAV des constructions et réhabilitations | E115: faible | F115: oui
A116: 39 | B116: Quartier du Fort | C116: Place du Nouveau Monde et rue Odette | D116: Parfait achèvement et SAV des constructions et réhabilitations | E116: faible | F116: non
A117: 39 | B117: Quartier du Fort | C117: Place du Nouveau Monde et rue Odette | D117: Parfait achèvement et SAV des constructions et réhabilitations | E117: faible | F117: oui
A118: 78 | B118: Quartier du Fort | C118: Place du Nouveau Monde et rue Odette | D118: Parfait achèvement et SAV des constructions et réhabilitations | E118: faible | F118: oui
A119: 38 | B119: Quartier du Fort | C119: Place du Nouveau Monde et rue Odette | D119: Parfait achèvement et SAV des constructions et réhabilitations | E119: élevée | F119: oui
A120: 40 | B120: Quartier du Fort | C120: Place du Nouveau Monde et rue Odette | D120: Stationnement et voitures | E120: faible | F120: non
A121: 34 | B121: Quartier du Fort | C121: Place du Nouveau Monde et rue Odette | D121: Tri sélectif et déchets | E121: faible | F121: oui
A122: 155 | B122: Bois du Quesnoy | C122: Pôle services publics | D122: Entretien espaces verts/luminaires/voiries/résidences | E122: élevée | F122: non
A123: 29 | B123: Bois du Quesnoy | C123: Pôle services publics | D123: Parfait achèvement et SAV des constructions et réhabilitations | E123: faible | F123: non
A124: 51 | B124: Bois du Quesnoy | C124: Prosper | D124: Tri sélectif et déchets | E124: faible | F124: non
A125: 3 | B125: Bois du Quesnoy | C125: Prosper | D125: Entretien espaces verts/luminaires/voiries/résidences | E125: faible | F125: oui
... A137: 17 | B137: Quartier du Fort | C137: Rue Denise | D137: Intranquilité publique/Incivilités/Dégradations/Insécurité | E137: faible | F137: oui
A138: 99 bis | B138: Quartier du Fort | C138: Rue des Lilas | D138: Entretien espaces verts/luminaires/voiries/résidences | E138: élevée | F138: non
A139: 84 | B139: Quartier du Fort | C139: Rue des Lilas | D139: Intranquilité publique/Incivilités/Dégradations/Insécurité | E139: faible | F139: non
A140: 11 | B140: Quartier du Fort | C140: Rue des Narcisses | D140: Entretien espaces verts/luminaires/voiries/résidences | E140: faible | F140: oui
A141: 43 | B141: Quartier du Fort | C141: Rue des Narcisses | D141: Stationnement et voitures | E141: faible | F141: oui
A142: 103 | B142: Bois du Quesnoy | C142: Rue des ormes et rue du Dr Schweitzer | D142: Gestion locative/humaine/sociale | E142: faible | F142: non
A143: 119 | B143: Rive -Gauche | C143: Rue du Vélodrome | D143: Gestion locative/humaine/sociale | E143: faible | F143: non
A144: 80 | B144: Rive -Gauche | C144: Rue Henri Barbusse | D144: Gestion locative/humaine/sociale | E144: faible | F144: non
A145: 15 | B145: centre-ville | C145: Sainte Anne | D145: Entretien espaces verts/luminaires/voiries/résidences | E145: élevée | F145: oui
A146: 55 | B146: Rive-Gauche | C146: Square Suzanne Noël | D146: Entretien espaces verts/luminaires/voiries/résidences | E146: faible | F146: oui
A147: 115 | B147: Rive-Gauche | C147: Square Suzanne Noël | D147: Entretien espaces verts/luminaires/voiries/résidences | E147: faible | F147: non
A148: 161 | B148: Rive-Gauche | C148: Square Suzanne Noël | D148: Entretien espaces verts/luminaires/voiries/résidences | E148: élevée | F148: oui
A149: 128 | B149: Rive-Gauche | C149: Square Suzanne Noël | D149: Gestion locative/humaine/sociale | E149: faible | F149: non
A150: 142 | B150: Rive-Gauche | C150: Square Suzanne Noël | D150: Intranquilité publique/Incivilités/Dégradations/Insécurité | E150: faible | F150: non
... A155: 138 | B155: Rive- Gauche | C155: Square Suzanne Noël | D155: Parfait achèvement et SAV des constructions et réhabilitations | E155: élevée | F155: non
A156: 122 | C156: Ville | D156: Tri sélectif et déchets | E156: faible | F156: non

Sheet Feuil2
A1: dates | B1: numéro | C1: Le quartier | D1: Résidence / Lieu | E1: Thématique | F1: Gravité | G1: Résolution | J1: Entretien espaces vert/luminaires/voiries/résidences
A2: 41451 | B2: 144 | C2: centre-ville | D2: Rue Caroly Mary | E2: Gestion locative/sociale | F2: élevée | G2: non | J2: Intranquilité publique/Incivilités/Dégradations/Insécurité
A3: 41467 | B3: 145 | C3: Quartier du Fort | D3: Rés. Moulin à vent | E3: Gestion locative/sociale | F3: élevée | G3: oui | J3: Parfait achèvement et SAV des constructions et réhabilitations
A4: 41536 | B4: 146 | C4: Rive-Gauche | D4: Maison de quartier Guy de Maupassant | E4: Entretien espaces vert/luminaires/voiries/résidences | F4: faible | G4: oui | J4: Gestion locative/sociale
A5: 41536 | B5: 147 | C5: Rive-Gauche | D5: E38 logement gardien | E5: Parfait achèvement et SAV des constructions et réhabilitations | F5: élevée | G5: non | J5: Stationnement et voiture
A6: 41538 | B6: 148 | C6: Quartier du Fort | D6: Maison de quartier Les Hortensias | E6: Entretien espaces vert/luminaires/voiries/résidences | F6: faible | G6: oui | J6: Tri sélectif et déchets
A7: 41543 | B7: 149 | C7: centre-ville | D7: Rés. Chocolatterie | E7: Stationnement et voiture | F7: faible | G7: oui
A8: 41543 | B8: 150 | C8: Rive-Gauche | D8: Rés. Alexandre Dumas | E8: Gestion locative/sociale | F8: élevée | G8: non
A9: 41543 | B9: 151 | C9: Quartier du Fort | D9: Maison de quartier Les Hortensias | E9: Entretien espaces vert/luminaires/voiries/résidences | F9: faible | G9: non
A10: 41543 | B10: 152 | C10: Quartier du Fort | D10: Avenue de Kalisz | E10: Stationnement et voiture | F10: faible | G10: non
A11: 41544 | B11: 153 | C11: Rive-Gauche | D11: Rés. Fichaux | E11: Stationnement et voiture | F11: faible | G11: non
A12: 41544 | B12: 154 | C12: Quartier du Fort | D12: Place du Nouveau Monde | E12: Gestion locative/sociale | F12: élevée | G12: non
A13: 41548 | B13: 155 | C13: Bois du Quesnoy | D13: pôle services publics | E13: Entretien espaces vert/luminaires/voiries/résidences | F13: élevée | G13: non
A14: 41551 | B14: 156 | C14: Rive-Gauche | D14: Rés. Fichaux | E14: Entretien espaces vert/luminaires/voiries/résidences | F14: faible | G14: non
A15: 41554 | B15: 157 | C15: Bois du Quesnoy | D15: Avenue Leclerc - ancienne boulangerie | E15: Intranquilité publique/Incivilités/Dégradations/Insécurité | F15: élevée | G15: non
A16: 41555 | B16: 158 | C16: centre-ville | D16: Rés. Côtes de Sambre | E16: Entretien espaces vert/luminaires/voiries/résidences | F16: faible | G16: oui
A17: 41555 | B17: 159 | C17: Bois du Quesnoy | D17: Rés. Entre deux bois | E17: Intranquilité publique/Incivilités/Dégradations/Insécurité | F17: élevée | G17: non
A18: 41555 | B18: 160 | C18: Bois du Quesnoy | D18: Avenue Leclerc | E18: Stationnement et voiture | F18: élevée | G18: non
... A21: 41569 | B21: 163 | C21: Quartier du Fort | D21: Maison de quartier Les Hortensias | E21: Entretien espaces vert/luminaires/voiries/résidences | F21: élevée | G21: non

Sheet Feuil3
B1: RESIDENCES ET INFORMATIONS | H1: PROBLEMES SIGNALES EN F.A.P. par thèmes
A2: PNRU | C2: MAISON DE QUARTIER | D2: NOM DE LA RESIDENCE | E2: CODE OPERATION | F2: NBRE LOGTS | G2: Tri sélectif et déchets | I2: Stationnement et voitures | K2: Intranquilité publique/ Incivilités/ Dégradations/Insécurité | M2: Entretien espaces verts/ luminaires/voiries/résidences | O2: Parfait achèvement et SAV des constructions et réhabilitations | Q2: Gestion locative/ humaine/sociale
A3: QUARTIER | B3: BAILLEUR | G3: Gravité faible | H3: Gravité élevée | I3: Gravité faible | J3: Gravité élevée | K3: Gravité faible | L3: Gravité élevée | M3: Gravité faible | N3: Gravité élevée | O3: Gravité faible | P3: Gravité élevée | Q3: Gravité faible | R3: Gravité élevée
A4: Centre-ville | B4: PROMOCIL | C4: Guy de Maupassant | D4: Gambetta | E4: C3 | F4: 20 | G4: =COUNTIFS(Feuil1!$C$2:$C$1001, "*Gambetta*", Feuil1!$D$2:$D$1001, "*Tri sélectif et déchets*",Feuil1!$E$2:$E$1001,"faible") -> 0 | H4: =COUNTIFS(Feuil1!$C$2:$C$1001, "*Gambetta*", Feuil1!$D$2:$D$1001, "*Tri sélectif et déchets*",Feuil1!$E$2:$E$1001,"élevée") -> 0 | I4: =COUNTIFS(Feuil1!$C$2:$C$1001, "*Gambetta*", Feuil1!$D$2:$D$1001, "*Stationnement et voitures*",Feuil1!$E$2:$E$1001,"faible") -> 0 | J4: =COUNTIFS(Feuil1!$C$2:$C$1001, "*Gambetta*", Feuil1!$D$2:$D$1001, "*Stationnement et voitures*",Feuil1!$E$2:$E$1001,"élevée") -> 0 | K4: =COUNTIFS(Feuil1!$C$2:$C$1001, "*Gambetta*", Feuil1!$D$2:$D$1001, "*Intranquilité publique/Incivilités/Dégradations/Insécurité*",Feuil1!$E$2:$E$1001,"faible") -> 0 | L4: =COUNTIFS(Feuil1!$C$2:$C$1001, "*Gambetta*", Feuil1!$D$2:$D$1001, "*Intranquilité publique/Incivilités/Dégradations/Insécurité*",Feuil1!$E$2:$E$1001,"élevée") -> 0 | M4: =COUNTIFS(Feuil1!$C$2:$C$1001, "*Gambetta*", Feuil1!$D$2:$D$1001, "*Entretien espaces verts/luminaires/voiries/résidences*",Feuil1!$E$2:$E$1001,"faible") -> 0 | N4: =COUNTIFS(Feuil1!$C$2:$C$1001, "*Gambetta*", Feuil1!$D$2:$D$1001, "*Entretien espaces verts/luminaires/voiries/résidences*",Feuil1!$E$2:$E$1001,"élevée") -> 0 | O4: =COUNTIFS(Feuil1!$C$2:$C$1001, "*Gambetta*", Feuil1!$D$2:$D$1001, "*Parfait achèvement et SAV des constructions et réhabilitations*",Feuil1!$E$2:$E$1001,"faible") -> 0 | P4: =COUNTIFS(Feuil1!$C$2:$C$1001, "*Gambetta*", Feuil1!$D$2:$D$1001, "*Parfait achèvement et SAV des constructions et réhabilitations*",Feuil1!$E$2:$E$1001,"élevée") -> 0 | Q4: =COUNTIFS(Feuil1!$C$2:$C$1001, "*Gambetta*", Feuil1!$D$2:$D$1001, "*Gestion locative/humaine/sociale*",Feuil1!$E$2:$E$1001,"faible") -> 0 | R4: =COUNTIFS(Feuil1!$C$2:$C$1001, "*Gambetta*", Feuil1!$D$2:$D$1001, "*Gestion locative/humaine/sociale*",Feuil1!$E$2:$E$1001,"élevée") -> 0
A5: Centre-ville | B5: PROMOCIL | C5: Guy de Maupassant | D5: Foch | E5: C1ic | F5: 24 | G5: =COUNTIFS(Feuil1!$C$2:$C$1001, "*Foch*", Feuil1!$D$2:$D$1001, "*Tri sélectif et déchets*",Feuil1!$E$2:$E$1001, "faible") -> 0 | H5: =COUNTIFS(Feuil1!$C$2:$C$1001, "*Foch*", Feuil1!$D$2:$D$1001, "*Tri sélectif et déchets*",Feuil1!$E$2:$E$1001,"élevée") -> 0 | I5: =COUNTIFS(Feuil1!$C$2:$C$1001, "*Foch*", Feuil1!$D$2:$D$1001, "*Stationnement et voitures*",Feuil1!$E$2:$E$1001,"faible") -> 0 | J5: =COUNTIFS(Feuil1!$C$2:$C$1001, "*Foch*", Feuil1!$D$2:$D$1001, "*Stationnement et voitures*",Feuil1!$E$2:$E$1001,"élevée") -> 0 | K5: =COUNTIFS(Feuil1!$C$2:$C$1001, "*Foch*", Feuil1!$D$2:$D$1001, "*Intranquilité publique/Incivilités/Dégradations/Insécurité*",Feuil1!$E$2:$E$1001,"faible") -> 0 | L5: =COUNTIFS(Feuil1!$C$2:$C$1001, "*Foch*", Feuil1!$D$2:$D$1001, "*Intranquilité publique/Incivilités/Dégradations/Insécurité*",Feuil1!$E$2:$E$1001,"élevée") -> 0 | M5: =COUNTIFS(Feuil1!$C$2:$C$1001, "*Foch*", Feuil1!$D$2:$D$1001, "*Entretien espaces verts/luminaires/voiries/résidences*",Feuil1!$E$2:$E$1001,"faible") -> 1 | N5: =COUNTIFS(Feuil1!$C$2:$C$1001, "*Foch*", Feuil1!$D$2:$D$1001, "*Entretien espaces verts/luminaires/voiries/résidences*",Feuil1!$E$2:$E$1001,"élevée") -> 0 | O5: =COUNTIFS(Feuil1!$C$2:$C$1001, "*Foch*", Feuil1!$D$2:$D$1001, "*Parfait achèvement et SAV des constructions et réhabilitations*",Feuil1!$E$2:$E$1001,"faible") -> 0 | P5: =COUNTIFS(Feuil1!$C$2:$C$1001, "*Foch*", Feuil1!$D$2:$D$1001, "*Parfait achèvement et SAV des constructions et réhabilitations*",Feuil1!$E$2:$E$1001,"élevée") -> 0 | Q5: =COUNTIFS(Feuil1!$C$2:$C$1001, "*Foch*", Feuil1!$D$2:$D$1001, "*Gestion locative/humaine/sociale*",Feuil1!$E$2:$E$1001,"faible") -> 0 | R5: =COUNTIFS(Feuil1!$C$2:$C$1001, "*Foch*", Feuil1!$D$2:$D$1001, "*Gestion locative/humaine/sociale*",Feuil1!$E$2:$E$1001,"élevée") -> 0
A6: Quartier du Fort | B6: HABITAT DU NORD | C6: Hortensias | D6: Moulin à Vent | E6: C30 | F6: 16 | G6: =COUNTIFS(Feuil1!$C$2:$C$1001, "*Moulin à vent*", Feuil1!$D$2:$D$1001, "*Tri sélectif et déchets*",Feuil1!$E$2:$E$1001,"faible") -> 0 | H6: =COUNTIFS(Feuil1!$C$2:$C$1001, "*Moulin à vent*", Feuil1!$D$2:$D$1001, "*Tri sélectif et déchets*",Feuil1!$E$2:$E$1001,"élevée") -> 0 | I6: =COUNTIFS(Feuil1!$C$2:$C$1001, "*Moulin à vent*", Feuil1!$D$2:$D$1001, "*Stationnement et voitures*",Feuil1!$E$2:$E$1001,"faible") -> 0 | J6: =COUNTIFS(Feuil1!$C$2:$C$1001, "*Moulin à vent*", Feuil1!$D$2:$D$1001, "*Stationnement et voitures*",Feuil1!$E$2:$E$1001,"élevée") -> 0 | K6: =COUNTIFS(Feuil1!$C$2:$C$1001, "*Moulin à vent*", Feuil1!$D$2:$D$1001, "*Intranquilité publique/Incivilités/Dégradations/Insécurité*",Feuil1!$E$2:$E$1001,"faible") -> 0 | L6: =COUNTIFS(Feuil1!$C$2:$C$1001, "*Moulin à vent*", Feuil1!$D$2:$D$1001, "*Intranquilité publique/Incivilités/Dégradations/Insécurité*",Feuil1!$E$2:$E$1001,"élevée") -> 0 | M6: =COUNTIFS(Feuil1!$C$2:$C$1001, "*Moulin à vent*", Feuil1!$D$2:$D$1001, "*Entretien espaces verts/luminaires/voiries/résidences*",Feuil1!$E$2:$E$1001,"faible") -> 0 | N6: =COUNTIFS(Feuil1!$C$2:$C$1001, "*Moulin à vent*", Feuil1!$D$2:$D$1001, "*Entretien espaces verts/luminaires/voiries/résidences*",Feuil1!$E$2:$E$1001,"élevée") -> 0 | O6: =COUNTIFS(Feuil1!$C$2:$C$1001, "*Moulin à vent*", Feuil1!$D$2:$D$1001, "*Parfait achèvement et SAV des constructions et réhabilitations*",Feuil1!$E$2:$E$1001,"faible") -> 1 | P6: =COUNTIFS(Feuil1!$C$2:$C$1001, "*Moulin à vent*", Feuil1!$D$2:$D$1001, "*Parfait achèvement et SAV des constructions et réhabilitations*",Feuil1!$E$2:$E$1001,"élevée") -> 0 | Q6: =COUNTIFS(Feuil1!$C$2:$C$1001, "*Moulin à vent*", Feuil1!$D$2:$D$1001, "*Gestion locative/humaine/sociale*",Feuil1!$E$2:$E$1001,"faible") -> 0 | R6: =COUNTIFS(Feuil1!$C$2:$C$1001, "*Moulin à vent*", Feuil1!$D$2:$D$1001, "*Gestion locative/humaine/sociale*",Feuil1!$E$2:$E$1001,"élevée") -> 1
A7: Rive-Gauche | B7: HABITAT DU NORD | C7: Guy de Maupassant | D7: Huguette et Michel Fichaux | E7: C8C9N | F7: 48 | G7: =COUNTIFS(Feuil1!$C$2:$C$1001, "*Huguette et Michel Fichaux*", Feuil1!$D$2:$D$1001, "*Tri sélectif et déchets*",Feuil1!$E$2:$E$1001,"faible") -> 1 | H7: =COUNTIFS(Feuil1!$C$2:$C$1001, "*Huguette et Michel Fichaux*", Feuil1!$D$2:$D$1001, "*Tri sélectif et déchets*",Feuil1!$E$2:$E$1001,"élevée") -> 0 | I7: =COUNTIFS(Feuil1!$C$2:$C$1001, "*Huguette et Michel Fichaux*", Feuil1!$D$2:$D$1001, "*Stationnement et voitures*",Feuil1!$E$2:$E$1001,"faible") -> 4 | J7: =COUNTIFS(Feuil1!$C$2:$C$1001, "*Huguette et Michel Fichaux*", Feuil1!$D$2:$D$1001, "*Stationnement et voitures*",Feuil1!$E$2:$E$1001,"élevée") -> 0 | K7: =COUNTIFS(Feuil1!$C$2:$C$1001, "*Huguette et Michel Fichaux*", Feuil1!$D$2:$D$1001, "*Intranquilité publique/Incivilités/Dégradations/Insécurité*",Feuil1!$E$2:$E$1001,"faible") -> 0 | L7: =COUNTIFS(Feuil1!$C$2:$C$1001, "*Huguette et Michel Fichaux*", Feuil1!$D$2:$D$1001, "*Intranquilité publique/Incivilités/Dégradations/Insécurité*",Feuil1!$E$2:$E$1001,"élevée") -> 0 | M7: =COUNTIFS(Feuil1!$C$2:$C$1001, "*Huguette et Michel Fichaux*", Feuil1!$D$2:$D$1001, "*Entretien espaces verts/luminaires/voiries/résidences*",Feuil1!$E$2:$E$1001,"faible") -> 15 | N7: =COUNTIFS(Feuil1!$C$2:$C$1001, "*Huguette et Michel Fichaux*", Feuil1!$D$2:$D$1001, "*Entretien espaces verts/luminaires/voiries/résidences*",Feuil1!$E$2:$E$1001,"élevée") -> 0 | O7: =COUNTIFS(Feuil1!$C$2:$C$1001, "*Huguette et Michel Fichaux*", Feuil1!$D$2:$D$1001, "*Parfait achèvement et SAV des constructions et réhabilitations*",Feuil1!$E$2:$E$1001,"faible") -> 2 | P7: =COUNTIFS(Feuil1!$C$2:$C$1001, "*Huguette et Michel Fichaux*", Feuil1!$D$2:$D$1001, "*Parfait achèvement et SAV des constructions et réhabilitations*",Feuil1!$E$2:$E$1001,"élevée") -> 0 | Q7: =COUNTIFS(Feuil1!$C$2:$C$1001, "*Huguette et Michel Fichaux*", Feuil1!$D$2:$D$1001, "*Gestion locative/humaine/sociale*",Feuil1!$E$2:$E$1001,"faible") -> 2 | R7: =COUNTIFS(Feuil1!$C$2:$C$1001, "*Huguette et Michel Fichaux*", Feuil1!$D$2:$D$1001, "*Gestion locative/humaine/sociale*",Feuil1!$E$2:$E$1001,"élevée") -> 0
A8: Bois du Quesnoy | B8: PROMOCIL | C8: Bois du Quesnoy | D8: Petit Bois | E8: C31 | F8: 12 | G8: =COUNTIFS(Feuil1!$C$2:$C$1001, "*Petit bois*", Feuil1!$D$2:$D$1001, "*Tri sélectif et déchets*",Feuil1!$E$2:$E$1001,"faible") -> 1 | H8: =COUNTIFS(Feuil1!$C$2:$C$1001, "*Petit bois*", Feuil1!$D$2:$D$1001, "*Tri sélectif et déchets*",Feuil1!$E$2:$E$1001,"élevée") -> 0 | I8: =COUNTIFS(Feuil1!$C$2:$C$1001, "*Petit bois*", Feuil1!$D$2:$D$1001, "*Stationnement et voitures*",Feuil1!$E$2:$E$1001,"faible") -> 0 | J8: =COUNTIFS(Feuil1!$C$2:$C$1001, "*Petit bois*", Feuil1!$D$2:$D$1001, "*Stationnement et voitures*",Feuil1!$E$2:$E$1001,"élevée") -> 0 | K8: =COUNTIFS(Feuil1!$C$2:$C$1001, "*Petit bois*", Feuil1!$D$2:$D$1001, "*Intranquilité publique/Incivilités/Dégradations/Insécurité*",Feuil1!$E$2:$E$1001,"faible") -> 1 | L8: =COUNTIFS(Feuil1!$C$2:$C$1001, "*Petit bois*", Feuil1!$D$2:$D$1001, "*Intranquilité publique/Incivilités/Dégradations/Insécurité*",Feuil1!$E$2:$E$1001,"élevée") -> 0 | M8: =COUNTIFS(Feuil1!$C$2:$C$1001, "*Petit bois*", Feuil1!$D$2:$D$1001, "*Entretien espaces verts/luminaires/voiries/résidences*",Feuil1!$E$2:$E$1001,"faible") -> 2 | N8: =COUNTIFS(Feuil1!$C$2:$C$1001, "*Petit bois*", Feuil1!$D$2:$D$1001, "*Entretien espaces verts/luminaires/voiries/résidences*",Feuil1!$E$2:$E$1001,"élevée") -> 0 | O8: =COUNTIFS(Feuil1!$C$2:$C$1001, "*Petit bois*", Feuil1!$D$2:$D$1001, "*Parfait achèvement et SAV des constructions et réhabilitations*",Feuil1!$E$2:$E$1001,"faible") -> 0 | P8: =COUNTIFS(Feuil1!$C$2:$C$1001, "*Petit bois*", Feuil1!$D$2:$D$1001, "*Parfait achèvement et SAV des constructions et réhabilitations*",Feuil1!$E$2:$E$1001,"élevée") -> 0 | Q8: =COUNTIFS(Feuil1!$C$2:$C$1001, "*Petit bois*", Feuil1!$D$2:$D$1001, "*Gestion locative/humaine/sociale*",Feuil1!$E$2:$E$1001,"faible") -> 1 | R8: =COUNTIFS(Feuil1!$C$2:$C$1001, "*Petit bois*", Feuil1!$D$2:$D$1001, "*Gestion locative/humaine/sociale*",Feuil1!$E$2:$E$1001,"élevée") -> 0
A9: Rive-Gauche | B9: PARTENORD | C9: Port | D9: Rue de Boussières | E9: C6a | F9: 12 | G9: =COUNTIFS(Feuil1!$C$2:$C$1001, "*Rue de Boussières*", Feuil1!$D$2:$D$1001, "*Tri sélectif et déchets*",Feuil1!$E$2:$E$1001,"faible") -> 0 | H9: =COUNTIFS(Feuil1!$C$2:$C$1001, "*Rue de Boussières*", Feuil1!$D$2:$D$1001, "*Tri sélectif et déchets*",Feuil1!$E$2:$E$1001,"élevée") -> 0 | I9: =COUNTIFS(Feuil1!$C$2:$C$1001, "*Rue de Boussières*", Feuil1!$D$2:$D$1001, "*Stationnement et voitures*",Feuil1!$E$2:$E$1001,"faible") -> 0 | J9: =COUNTIFS(Feuil1!$C$2:$C$1001, "*Rue de Boussières*", Feuil1!$D$2:$D$1001, "*Stationnement et voitures*",Feuil1!$E$2:$E$1001,"élevée") -> 0 | K9: =COUNTIFS(Feuil1!$C$2:$C$1001, "*Rue de Boussières*", Feuil1!$D$2:$D$1001, "*Intranquilité publique/Incivilités/Dégradations/Insécurité*",Feuil1!$E$2:$E$1001,"faible") -> 0 | L9: =COUNTIFS(Feuil1!$C$2:$C$1001, "*Rue de Boussières*", Feuil1!$D$2:$D$1001, "*Intranquilité publique/Incivilités/Dégradations/Insécurité*",Feuil1!$E$2:$E$1001,"élevée") -> 0 | M9: =COUNTIFS(Feuil1!$C$2:$C$1001, "*Rue de Boussières*", Feuil1!$D$2:$D$1001, "*Entretien espaces verts/luminaires/voiries/résidences*",Feuil1!$E$2:$E$1001,"faible") -> 0 | N9: =COUNTIFS(Feuil1!$C$2:$C$1001, "*Rue de Boussières*", Feuil1!$D$2:$D$1001, "*Entretien espaces verts/luminaires/voiries/résidences*",Feuil1!$E$2:$E$1001,"élevée") -> 0 | O9: =COUNTIFS(Feuil1!$C$2:$C$1001, "*Rue de Boussières*", Feuil1!$D$2:$D$1001, "*Parfait achèvement et SAV des constructions et réhabilitations*",Feuil1!$E$2:$E$1001,"faible") -> 0 | P9: =COUNTIFS(Feuil1!$C$2:$C$1001, "*Rue de Boussières*", Feuil1!$D$2:$D$1001, "*Parfait achèvement et SAV des constructions et réhabilitations*",Feuil1!$E$2:$E$1001,"élevée") -> 0 | Q9: =COUNTIFS(Feuil1!$C$2:$C$1001, "*Rue de Boussières*", Feuil1!$D$2:$D$1001, "*Gestion locative/humaine/sociale*",Feuil1!$E$2:$E$1001,"faible") -> 0 | R9: =COUNTIFS(Feuil1!$C$2:$C$1001, "*Rue de Boussières*", Feuil1!$D$2:$D$1001, "*Gestion locative/humaine/sociale*",Feuil1!$E$2:$E$1001,"élevée") -> 0
A10: Bois du Quesnoy | B10: PROMOCIL | C10: Bois du Quesnoy | D10: Maurice Rose | E10: C28a | F10: 20 | G10: =COUNTIFS(Feuil1!$C$2:$C$1001, "*Maurice Rose*", Feuil1!$D$2:$D$1001, "*Tri sélectif et déchets*",Feuil1!$E$2:$E$1001,"faible") -> 1 | H10: =COUNTIFS(Feuil1!$C$2:$C$1001, "*Maurice Rose*", Feuil1!$D$2:$D$1001, "*Tri sélectif et déchets*",Feuil1!$E$2:$E$1001,"élevée") -> 0 | I10: =COUNTIFS(Feuil1!$C$2:$C$1001, "*Maurice Rose*", Feuil1!$D$2:$D$1001, "*Stationnement et voitures*",Feuil1!$E$2:$E$1001,"faible") -> 0 | J10: =COUNTIFS(Feuil1!$C$2:$C$1001, "*Maurice Rose*", Feuil1!$D$2:$D$1001, "*Stationnement et voitures*",Feuil1!$E$2:$E$1001,"élevée") -> 0 | K10: =COUNTIFS(Feuil1!$C$2:$C$1001, "*Maurice Rose*", Feuil1!$D$2:$D$1001, "*Intranquilité publique/Incivilités/Dégradations/Insécurité*",Feuil1!$E$2:$E$1001,"faible") -> 1 | L10: =COUNTIFS(Feuil1!$C$2:$C$1001, "*Maurice Rose*", Feuil1!$D$2:$D$1001, "*Intranquilité publique/Incivilités/Dégradations/Insécurité*",Feuil1!$E$2:$E$1001,"élevée") -> 0 | M10: =COUNTIFS(Feuil1!$C$2:$C$1001, "*Maurice Rose*", Feuil1!$D$2:$D$1001, "*Entretien espaces verts/luminaires/voiries/résidences*",Feuil1!$E$2:$E$1001,"faible") -> 0 | N10: =COUNTIFS(Feuil1!$C$2:$C$1001, "*Maurice Rose*", Feuil1!$D$2:$D$1001, "*Entretien espaces verts/luminaires/voiries/résidences*",Feuil1!$E$2:$E$1001,"élevée") -> 0 | O10: =COUNTIFS(Feuil1!$C$2:$C$1001, "*Maurice Rose*", Feuil1!$D$2:$D$1001, "*Parfait achèvement et SAV des constructions et réhabilitations*",Feuil1!$E$2:$E$1001,"faible") -> 2 | P10: =COUNTIFS(Feuil1!$C$2:$C$1001, "*Maurice Rose*", Feuil1!$D$2:$D$1001, "*Parfait achèvement et SAV des constructions et réhabilitations*",Feuil1!$E$2:$E$1001,"élevée") -> 0 | Q10: =COUNTIFS(Feuil1!$C$2:$C$1001, "*Maurice Rose*", Feuil1!$D$2:$D$1001, "*Gestion locative/humaine/sociale*",Feuil1!$E$2:$E$1001,"faible") -> 0 | R10: =COUNTIFS(Feuil1!$C$2:$C$1001, "*Maurice Rose*", Feuil1!$D$2:$D$1001, "*Gestion locative/humaine/sociale*",Feuil1!$E$2:$E$1001,"élevée") -> 0
A11: Bois du Quesnoy | B11: PROMOCIL | C11: Bois du Quesnoy | D11: Prosper | E11: C28b | F11: 10 | G11: =COUNTIFS(Feuil1!$C$2:$C$1001, "*Prosper*", Feuil1!$D$2:$D$1001, "*Tri sélectif et déchets*",Feuil1!$E$2:$E$1001,"faible") -> 1 | H11: =COUNTIFS(Feuil1!$C$2:$C$1001, "*Prosper*", Feuil1!$D$2:$D$1001, "*Tri sélectif et déchets*",Feuil1!$E$2:$E$1001,"élevée") -> 0 | I11: =COUNTIFS(Feuil1!$C$2:$C$1001, "*Prosper*", Feuil1!$D$2:$D$1001, "*Stationnement et voitures*",Feuil1!$E$2:$E$1001,"faible") -> 0 | J11: =COUNTIFS(Feuil1!$C$2:$C$1001, "*Prosper*", Feuil1!$D$2:$D$1001, "*Stationnement et voitures*",Feuil1!$E$2:$E$1001,"élevée") -> 0 | K11: =COUNTIFS(Feuil1!$C$2:$C$1001, "*Prosper*", Feuil1!$D$2:$D$1001, "*Intranquilité publique/Incivilités/Dégradations/Insécurité*",Feuil1!$E$2:$E$1001,"faible") -> 0 | L11: =COUNTIFS(Feuil1!$C$2:$C$1001, "*Prosper*", Feuil1!$D$2:$D$1001, "*Intranquilité publique/Incivilités/Dégradations/Insécurité*",Feuil1!$E$2:$E$1001,"élevée") -> 0 | M11: =COUNTIFS(Feuil1!$C$2:$C$1001, "*Prosper*", Feuil1!$D$2:$D$1001, "*Entretien espaces verts/luminaires/voiries/résidences*",Feuil1!$E$2:$E$1001,"faible") -> 1 | N11: =COUNTIFS(Feuil1!$C$2:$C$1001, "*Prosper*", Feuil1!$D$2:$D$1001, "*Entretien espaces verts/luminaires/voiries/résidences*",Feuil1!$E$2:$E$1001,"élevée") -> 0 | O11: =COUNTIFS(Feuil1!$C$2:$C$1001, "*Prosper*", Feuil1!$D$2:$D$1001, "*Parfait achèvement et SAV des constructions et réhabilitations*",Feuil1!$E$2:$E$1001,"faible") -> 2 | P11: =COUNTIFS(Feuil1!$C$2:$C$1001, "*Prosper*", Feuil1!$D$2:$D$1001, "*Parfait achèvement et SAV des constructions et réhabilitations*",Feuil1!$E$2:$E$1001,"élevée") -> 0 | Q11: =COUNTIFS(Feuil1!$C$2:$C$1001, "*Prosper*", Feuil1!$D$2:$D$1001, "*Gestion locative/humaine/sociale*",Feuil1!$E$2:$E$1001,"faible") -> 0 | R11: =COUNTIFS(Feuil1!$C$2:$C$1001, "*Prosper*", Feuil1!$D$2:$D$1001, "*Gestion locative/humaine/sociale*",Feuil1!$E$2:$E$1001,"élevée") -> 0
A12: Rive-Gauche | B12: PARTENORD | C12: Guy de Maupassant | D12: Alexandre Dumas | E12: C6b | F12: 18 | G12: =COUNTIFS(Feuil1!$C$2:$C$1001, "*Alexandre Dumas*", Feuil1!$D$2:$D$1001, "*Tri sélectif et déchets*",Feuil1!$E$2:$E$1001,"faible") -> 1 | H12: =COUNTIFS(Feuil1!$C$2:$C$1001, "*Alexandre Dumas*", Feuil1!$D$2:$D$1001, "*Tri sélectif et déchets*",Feuil1!$E$2:$E$1001,"élevée") -> 0 | I12: =COUNTIFS(Feuil1!$C$2:$C$1001, "*Alexandre Dumas*", Feuil1!$D$2:$D$1001, "*Stationnement et voitures*",Feuil1!$E$2:$E$1001,"faible") -> 0 | J12: =COUNTIFS(Feuil1!$C$2:$C$1001, "*Alexandre Dumas*", Feuil1!$D$2:$D$1001, "*Stationnement et voitures*",Feuil1!$E$2:$E$1001,"élevée") -> 0 | K12: =COUNTIFS(Feuil1!$C$2:$C$1001, "*Alexandre Dumas*", Feuil1!$D$2:$D$1001, "*Intranquilité publique/Incivilités/Dégradations/Insécurité*",Feuil1!$E$2:$E$1001,"faible") -> 0 | L12: =COUNTIFS(Feuil1!$C$2:$C$1001, "*Alexandre Dumas*", Feuil1!$D$2:$D$1001, "*Intranquilité publique/Incivilités/Dégradations/Insécurité*",Feuil1!$E$2:$E$1001,"élevée") -> 0 | M12: =COUNTIFS(Feuil1!$C$2:$C$1001, "*Alexandre Dumas*", Feuil1!$D$2:$D$1001, "*Entretien espaces verts/luminaires/voiries/résidences*",Feuil1!$E$2:$E$1001,"faible") -> 1 | N12: =COUNTIFS(Feuil1!$C$2:$C$1001, "*Alexandre Dumas*", Feuil1!$D$2:$D$1001, "*Entretien espaces verts/luminaires/voiries/résidences*",Feuil1!$E$2:$E$1001,"élevée") -> 0 | O12: =COUNTIFS(Feuil1!$C$2:$C$1001, "*Alexandre Dumas*", Feuil1!$D$2:$D$1001, "*Parfait achèvement et SAV des constructions et réhabilitations*",Feuil1!$E$2:$E$1001,"faible") -> 0 | P12: =COUNTIFS(Feuil1!$C$2:$C$1001, "*Alexandre Dumas*", Feuil1!$D$2:$D$1001, "*Parfait achèvement et SAV des constructions et réhabilitations*",Feuil1!$E$2:$E$1001,"élevée") -> 0 | Q12: =COUNTIFS(Feuil1!$C$2:$C$1001, "*Alexandre Dumas*", Feuil1!$D$2:$D$1001, "*Gestion locative/humaine/sociale*",Feuil1!$E$2:$E$1001,"faible") -> 1 | R12: =COUNTIFS(Feuil1!$C$2:$C$1001, "*Alexandre Dumas*", Feuil1!$D$2:$D$1001, "*Gestion locative/humaine/sociale*",Feuil1!$E$2:$E$1001,"élevée") -> 1
A13: Centre-ville | B13: PROMOCIL | C13: Port | D13: Boulevard de l'Ecluse | E13: C13 | F13: 22 | G13: =COUNTIFS(Feuil1!$C$2:$C$1001, "*Boulevard de L'Ecluse*", Feuil1!$D$2:$D$1001, "*Tri sélectif et déchets*",Feuil1!$E$2:$E$1001,"faible") -> 0 | H13: =COUNTIFS(Feuil1!$C$2:$C$1001, "*Boulevard de L'Ecluse*", Feuil1!$D$2:$D$1001, "*Tri sélectif et déchets*",Feuil1!$E$2:$E$1001,"élevée") -> 0 | I13: =COUNTIFS(Feuil1!$C$2:$C$1001, "*Boulevard de L'Ecluse*", Feuil1!$D$2:$D$1001, "*Stationnement et voitures*",Feuil1!$E$2:$E$1001,"faible") -> 0 | J13: =COUNTIFS(Feuil1!$C$2:$C$1001, "*Boulevard de L'Ecluse*", Feuil1!$D$2:$D$1001, "*Stationnement et voitures*",Feuil1!$E$2:$E$1001,"élevée") -> 0 | K13: =COUNTIFS(Feuil1!$C$2:$C$1001, "*Boulevard de L'Ecluse*", Feuil1!$D$2:$D$1001, "*Intranquilité publique/Incivilités/Dégradations/Insécurité*",Feuil1!$E$2:$E$1001,"faible") -> 0 | L13: =COUNTIFS(Feuil1!$C$2:$C$1001, "*Boulevard de L'Ecluse*", Feuil1!$D$2:$D$1001, "*Intranquilité publique/Incivilités/Dégradations/Insécurité*",Feuil1!$E$2:$E$1001,"élevée") -> 0 | M13: =COUNTIFS(Feuil1!$C$2:$C$1001, "*Boulevard de L'Ecluse*", Feuil1!$D$2:$D$1001, "*Entretien espaces verts/luminaires/voiries/résidences*",Feuil1!$E$2:$E$1001,"faible") -> 0 | N13: =COUNTIFS(Feuil1!$C$2:$C$1001, "*Boulevard de L'Ecluse*", Feuil1!$D$2:$D$1001, "*Entretien espaces verts/luminaires/voiries/résidences*",Feuil1!$E$2:$E$1001,"élevée") -> 0 | O13: =COUNTIFS(Feuil1!$C$2:$C$1001, "*Boulevard de L'Ecluse*", Feuil1!$D$2:$D$1001, "*Parfait achèvement et SAV des constructions et réhabilitations*",Feuil1!$E$2:$E$1001,"faible") -> 1 | P13: =COUNTIFS(Feuil1!$C$2:$C$1001, "*Boulevard de L'Ecluse*", Feuil1!$D$2:$D$1001, "*Parfait achèvement et SAV des constructions et réhabilitations*",Feuil1!$E$2:$E$1001,"élevée") -> 0 | Q13: =COUNTIFS(Feuil1!$C$2:$C$1001, "*Boulevard de L'Ecluse*", Feuil1!$D$2:$D$1001, "*Gestion locative/humaine/sociale*",Feuil1!$E$2:$E$1001,"faible") -> 0 | R13: =COUNTIFS(Feuil1!$C$2:$C$1001, "*Boulevard de L'Ecluse*", Feuil1!$D$2:$D$1001, "*Gestion locative/humaine/sociale*",Feuil1!$E$2:$E$1001,"élevée") -> 0
A14: Quartier du Fort | B14: PROMOCIL | C14: Hortensias | D14: Nouveau monde | E14: C11 | F14: 24 | G14: =COUNTIFS(Feuil1!$C$2:$C$1001, "Nouveau monde", Feuil1!$D$2:$D$1001, "*Tri sélectif et déchets*",Feuil1!$E$2:$E$1001,"faible") -> 0 | H14: =COUNTIFS(Feuil1!$C$2:$C$1001, "Nouveau monde", Feuil1!$D$2:$D$1001, "*Tri sélectif et déchets*",Feuil1!$E$2:$E$1001,"élevée") -> 0 | I14: =COUNTIFS(Feuil1!$C$2:$C$1001, "Nouveau monde", Feuil1!$D$2:$D$1001, "*Stationnement et voitures*",Feuil1!$E$2:$E$1001,"faible") -> 2 | J14: =COUNTIFS(Feuil1!$C$2:$C$1001, "Nouveau monde", Feuil1!$D$2:$D$1001, "*Stationnement et voitures*",Feuil1!$E$2:$E$1001,"élevée") -> 0 | K14: =COUNTIFS(Feuil1!$C$2:$C$1001, "Nouveau monde", Feuil1!$D$2:$D$1001, "*Intranquilité publique/Incivilités/Dégradations/Insécurité*",Feuil1!$E$2:$E$1001,"faible") -> 2 | L14: =COUNTIFS(Feuil1!$C$2:$C$1001, "Nouveau monde", Feuil1!$D$2:$D$1001, "*Intranquilité publique/Incivilités/Dégradations/Insécurité*",Feuil1!$E$2:$E$1001,"élevée") -> 0 | M14: =COUNTIFS(Feuil1!$C$2:$C$1001, "Nouveau Monde", Feuil1!$D$2:$D$1001, "*Entretien espaces verts/luminaires/voiries/résidences*",Feuil1!$E$2:$E$1001,"faible") -> 2 | N14: =COUNTIFS(Feuil1!$C$2:$C$1001, "Nouveau monde", Feuil1!$D$2:$D$1001, "*Entretien espaces verts/luminaires/voiries/résidences*",Feuil1!$E$2:$E$1001,"élevée") -> 0 | O14: =COUNTIFS(Feuil1!$C$2:$C$1001, "Nouveau monde", Feuil1!$D$2:$D$1001, "*Parfait achèvement et SAV des constructions et réhabilitations*",Feuil1!$E$2:$E$1001,"faible") -> 1 | P14: =COUNTIFS(Feuil1!$C$2:$C$1001, "Nouveau monde", Feuil1!$D$2:$D$1001, "*Parfait achèvement et SAV des constructions et réhabilitations*",Feuil1!$E$2:$E$1001,"élevée") -> 2 | Q14: =COUNTIFS(Feuil1!$C$2:$C$1001, "Nouveau monde", Feuil1!$D$2:$D$1001, "*Gestion locative/humaine/sociale*",Feuil1!$E$2:$E$1001,"faible") -> 1 | R14: =COUNTIFS(Feuil1!$C$2:$C$1001, "Nouveau monde", Feuil1!$D$2:$D$1001, "*Gestion locative/humaine/sociale*",Feuil1!$E$2:$E$1001,"élevée") -> 0
A15: Rive-Gauche | B15: PROMOCIL | C15: Guy de Maupassant | D15: Nations | E15: C5a | F15: 35 | G15: =COUNTIFS(Feuil1!$C$2:$C$1001, "*Nations*", Feuil1!$D$2:$D$1001, "*Tri sélectif et déchets*",Feuil1!$E$2:$E$1001,"faible") -> 0 | H15: =COUNTIFS(Feuil1!$C$2:$C$1001, "*Nations*", Feuil1!$D$2:$D$1001, "*Tri sélectif et déchets*",Feuil1!$E$2:$E$1001,"élevée") -> 0 | I15: =COUNTIFS(Feuil1!$C$2:$C$1001, "*Nations*", Feuil1!$D$2:$D$1001, "*Stationnement et voitures*",Feuil1!$E$2:$E$1001,"faible") -> 0 | J15: =COUNTIFS(Feuil1!$C$2:$C$1001, "*Nations*", Feuil1!$D$2:$D$1001, "*Stationnement et voitures*",Feuil1!$E$2:$E$1001,"élevée") -> 0 | K15: =COUNTIFS(Feuil1!$C$2:$C$1001, "*Nations*", Feuil1!$D$2:$D$1001, "*Intranquilité publique/Incivilités/Dégradations/Insécurité*",Feuil1!$E$2:$E$1001,"faible") -> 0 | L15: =COUNTIFS(Feuil1!$C$2:$C$1001, "*Nations*", Feuil1!$D$2:$D$1001, "*Intranquilité publique/Incivilités/Dégradations/Insécurité*",Feuil1!$E$2:$E$1001,"élevée") -> 0 | M15: =COUNTIFS(Feuil1!$C$2:$C$1001, "*Nations*", Feuil1!$D$2:$D$1001, "*Entretien espaces verts/luminaires/voiries/résidences*",Feuil1!$E$2:$E$1001,"faible") -> 0 | N15: =COUNTIFS(Feuil1!$C$2:$C$1001, "*Nations*", Feuil1!$D$2:$D$1001, "*Entretien espaces verts/luminaires/voiries/résidences*",Feuil1!$E$2:$E$1001,"élevée") -> 0 | O15: =COUNTIFS(Feuil1!$C$2:$C$1001, "*Nations*", Feuil1!$D$2:$D$1001, "*Parfait achèvement et SAV des constructions et réhabilitations*",Feuil1!$E$2:$E$1001,"faible") -> 0 | P15: =COUNTIFS(Feuil1!$C$2:$C$1001, "*Nations*", Feuil1!$D$2:$D$1001, "*Parfait achèvement et SAV des constructions et réhabilitations*",Feuil1!$E$2:$E$1001,"élevée") -> 0 | Q15: =COUNTIFS(Feuil1!$C$2:$C$1001, "*Nations*", Feuil1!$D$2:$D$1001, "*Gestion locative/humaine/sociale*",Feuil1!$E$2:$E$1001,"faible") -> 0 | R15: =COUNTIFS(Feuil1!$C$2:$C$1001, "*Nations*", Feuil1!$D$2:$D$1001, "*Gestion locative/humaine/sociale*",Feuil1!$E$2:$E$1001,"élevée") -> 0
A16: Quartier du Fort | B16: HABITAT DU NORD | C16: Hortensias | D16: Rue Denise | E16: C17 | F16: 35 | G16: =COUNTIFS(Feuil1!$C$2:$C$1001, "*Rue Denise*", Feuil1!$D$2:$D$1001, "*Tri sélectif et déchets*",Feuil1!$E$2:$E$1001,"faible") -> 0 | H16: =COUNTIFS(Feuil1!$C$2:$C$1001, "*Rue Denise*", Feuil1!$D$2:$D$1001, "*Tri sélectif et déchets*",Feuil1!$E$2:$E$1001,"élevée") -> 0 | I16: =COUNTIFS(Feuil1!$C$2:$C$1001, "*Rue Denise*", Feuil1!$D$2:$D$1001, "*Stationnement et voitures*",Feuil1!$E$2:$E$1001,"faible") -> 0 | J16: =COUNTIFS(Feuil1!$C$2:$C$1001, "*Rue Denise*", Feuil1!$D$2:$D$1001, "*Stationnement et voitures*",Feuil1!$E$2:$E$1001,"élevée") -> 0 | K16: =COUNTIFS(Feuil1!$C$2:$C$1001, "*Rue Denise*", Feuil1!$D$2:$D$1001, "*Intranquilité publique/Incivilités/Dégradations/Insécurité*",Feuil1!$E$2:$E$1001,"faible") -> 1 | L16: =COUNTIFS(Feuil1!$C$2:$C$1001, "*Rue Denise*", Feuil1!$D$2:$D$1001, "*Intranquilité publique/Incivilités/Dégradations/Insécurité*",Feuil1!$E$2:$E$1001,"élevée") -> 0 | M16: =COUNTIFS(Feuil1!$C$2:$C$1001, "*Rue Denise*", Feuil1!$D$2:$D$1001, "*Entretien espaces verts/luminaires/voiries/résidences*",Feuil1!$E$2:$E$1001,"faible") -> 1 | N16: =COUNTIFS(Feuil1!$C$2:$C$1001, "*Rue Denise*", Feuil1!$D$2:$D$1001, "*Entretien espaces verts/luminaires/voiries/résidences*",Feuil1!$E$2:$E$1001,"élevée") -> 0 | O16: =COUNTIFS(Feuil1!$C$2:$C$1001, "*Rue Denise*", Feuil1!$D$2:$D$1001, "*Parfait achèvement et SAV des constructions et réhabilitations*",Feuil1!$E$2:$E$1001,"faible") -> 0 | P16: =COUNTIFS(Feuil1!$C$2:$C$1001, "*Rue Denise*", Feuil1!$D$2:$D$1001, "*Parfait achèvement et SAV des constructions et réhabilitations*",Feuil1!$E$2:$E$1001,"élevée") -> 0 | Q16: =COUNTIFS(Feuil1!$C$2:$C$1001, "*Rue Denise*", Feuil1!$D$2:$D$1001, "*Gestion locative/humaine/sociale*",Feuil1!$E$2:$E$1001,"faible") -> 0 | R16: =COUNTIFS(Feuil1!$C$2:$C$1001, "*Rue Denise*", Feuil1!$D$2:$D$1001, "*Gestion locative/humaine/sociale*",Feuil1!$E$2:$E$1001,"élevée") -> 0
A17: Bois du Quesnoy | B17: PROMOCIL | C17: Bois du Quesnoy | D17: Honegger | E17: C25Na | F17: 23 | G17: =COUNTIFS(Feuil1!$C$2:$C$1001, "*Honegger*", Feuil1!$D$2:$D$1001, "*Tri sélectif et déchets*",Feuil1!$E$2:$E$1001,"faible") -> 0 | H17: =COUNTIFS(Feuil1!$C$2:$C$1001, "*Honegger*", Feuil1!$D$2:$D$1001, "*Tri sélectif et déchets*",Feuil1!$E$2:$E$1001,"élevée") -> 0 | I17: =COUNTIFS(Feuil1!$C$2:$C$1001, "*Honegger*", Feuil1!$D$2:$D$1001, "*Stationnement et voitures*",Feuil1!$E$2:$E$1001,"faible") -> 0 | J17: =COUNTIFS(Feuil1!$C$2:$C$1001, "*Honegger*", Feuil1!$D$2:$D$1001, "*Stationnement et voitures*",Feuil1!$E$2:$E$1001,"élevée") -> 0 | K17: =COUNTIFS(Feuil1!$C$2:$C$1001, "*Honegger*", Feuil1!$D$2:$D$1001, "*Intranquilité publique/Incivilités/Dégradations/Insécurité*",Feuil1!$E$2:$E$1001,"faible") -> 0 | L17: =COUNTIFS(Feuil1!$C$2:$C$1001, "*Honegger*", Feuil1!$D$2:$D$1001, "*Intranquilité publique/Incivilités/Dégradations/Insécurité*",Feuil1!$E$2:$E$1001,"élevée") -> 0 | M17: =COUNTIFS(Feuil1!$C$2:$C$1001, "*Honegger*", Feuil1!$D$2:$D$1001, "*Entretien espaces verts/luminaires/voiries/résidences*",Feuil1!$E$2:$E$1001,"faible") -> 1 | N17: =COUNTIFS(Feuil1!$C$2:$C$1001, "*Honegger*", Feuil1!$D$2:$D$1001, "*Entretien espaces verts/luminaires/voiries/résidences*",Feuil1!$E$2:$E$1001,"élevée") -> 0 | O17: =COUNTIFS(Feuil1!$C$2:$C$1001, "*Honegger*", Feuil1!$D$2:$D$1001, "*Parfait achèvement et SAV des constructions et réhabilitations*",Feuil1!$E$2:$E$1001,"faible") -> 1 | P17: =COUNTIFS(Feuil1!$C$2:$C$1001, "*Honegger*", Feuil1!$D$2:$D$1001, "*Parfait achèvement et SAV des constructions et réhabilitations*",Feuil1!$E$2:$E$1001,"élevée") -> 0 | Q17: =COUNTIFS(Feuil1!$C$2:$C$1001, "*Honegger*", Feuil1!$D$2:$D$1001, "*Gestion locative/humaine/sociale*",Feuil1!$E$2:$E$1001,"faible") -> 0 | R17: =COUNTIFS(Feuil1!$C$2:$C$1001, "*Honegger*", Feuil1!$D$2:$D$1001, "*Gestion locative/humaine/sociale*",Feuil1!$E$2:$E$1001,"élevée") -> 0
A18: Centre-ville | B18: PROMOCIL | C18: Port | D18: Parc | E18: C10 | F18: 12 | G18: =COUNTIFS(Feuil1!$C$2:$C$1001, "*Parc*", Feuil1!$D$2:$D$1001, "*Tri sélectif et déchets*",Feuil1!$E$2:$E$1001,"faible") -> 0 | H18: =COUNTIFS(Feuil1!$C$2:$C$1001, "*Parc*", Feuil1!$D$2:$D$1001, "*Tri sélectif et déchets*",Feuil1!$E$2:$E$1001,"élevée") -> 0 | I18: =COUNTIFS(Feuil1!$C$2:$C$1001, "*Parc*", Feuil1!$D$2:$D$1001, "*Stationnement et voitures*",Feuil1!$E$2:$E$1001,"faible") -> 1 | J18: =COUNTIFS(Feuil1!$C$2:$C$1001, "*Parc*", Feuil1!$D$2:$D$1001, "*Stationnement et voitures*",Feuil1!$E$2:$E$1001,"élevée") -> 0 | K18: =COUNTIFS(Feuil1!$C$2:$C$1001, "*Parc*", Feuil1!$D$2:$D$1001, "*Intranquilité publique/Incivilités/Dégradations/Insécurité*",Feuil1!$E$2:$E$1001,"faible") -> 0 | L18: =COUNTIFS(Feuil1!$C$2:$C$1001, "*Parc*", Feuil1!$D$2:$D$1001, "*Intranquilité publique/Incivilités/Dégradations/Insécurité*",Feuil1!$E$2:$E$1001,"élevée") -> 0 | M18: =COUNTIFS(Feuil1!$C$2:$C$1001, "*Parc*", Feuil1!$D$2:$D$1001, "*Entretien espaces verts/luminaires/voiries/résidences*",Feuil1!$E$2:$E$1001,"faible") -> 0 | N18: =COUNTIFS(Feuil1!$C$2:$C$1001, "*Parc*", Feuil1!$D$2:$D$1001, "*Entretien espaces verts/luminaires/voiries/résidences*",Feuil1!$E$2:$E$1001,"élevée") -> 0 | O18: =COUNTIFS(Feuil1!$C$2:$C$1001, "*Parc*", Feuil1!$D$2:$D$1001, "*Parfait achèvement et SAV des constructions et réhabilitations*",Feuil1!$E$2:$E$1001,"faible") -> 1 | P18: =COUNTIFS(Feuil1!$C$2:$C$1001, "*Parc*", Feuil1!$D$2:$D$1001, "*Parfait achèvement et SAV des constructions et réhabilitations*",Feuil1!$E$2:$E$1001,"élevée") -> 0 | Q18: =COUNTIFS(Feuil1!$C$2:$C$1001, "*Parc*", Feuil1!$D$2:$D$1001, "*Gestion locative/humaine/sociale*",Feuil1!$E$2:$E$1001,"faible") -> 0 | R18: =COUNTIFS(Feuil1!$C$2:$C$1001, "*Parc*", Feuil1!$D$2:$D$1001, "*Gestion locative/humaine/sociale*",Feuil1!$E$2:$E$1001,"élevée") -> 0
A19: Centre-ville | B19: PROMOCIL | C19: Port | D19: les terrasses | E19: C4 | F19: 15 | G19: =COUNTIFS(Feuil1!$C$2:$C$1001, "*Les Terrasses*", Feuil1!$D$2:$D$1001, "*Tri sélectif et déchets*",Feuil1!$E$2:$E$1001,"faible") -> 1 | H19: =COUNTIFS(Feuil1!$C$2:$C$1001, "*Les Terrasses*", Feuil1!$D$2:$D$1001, "*Tri sélectif et déchets*",Feuil1!$E$2:$E$1001,"élevée") -> 0 | I19: =COUNTIFS(Feuil1!$C$2:$C$1001, "*Les Terrasses*", Feuil1!$D$2:$D$1001, "*Stationnement et voitures*",Feuil1!$E$2:$E$1001,"faible") -> 0 | J19: =COUNTIFS(Feuil1!$C$2:$C$1001, "*Les Terrasses*", Feuil1!$D$2:$D$1001, "*Stationnement et voitures*",Feuil1!$E$2:$E$1001,"élevée") -> 0 | K19: =COUNTIFS(Feuil1!$C$2:$C$1001, "*Les Terrasses*", Feuil1!$D$2:$D$1001, "*Intranquilité publique/Incivilités/Dégradations/Insécurité*",Feuil1!$E$2:$E$1001,"faible") -> 0 | L19: =COUNTIFS(Feuil1!$C$2:$C$1001, "*Les Terrasses*", Feuil1!$D$2:$D$1001, "*Intranquilité publique/Incivilités/Dégradations/Insécurité*",Feuil1!$E$2:$E$1001,"élevée") -> 0 | M19: =COUNTIFS(Feuil1!$C$2:$C$1001, "*Les Terrasses*", Feuil1!$D$2:$D$1001, "*Entretien espaces verts/luminaires/voiries/résidences*",Feuil1!$E$2:$E$1001,"faible") -> 0 | N19: =COUNTIFS(Feuil1!$C$2:$C$1001, "*Les Terrasses*", Feuil1!$D$2:$D$1001, "*Entretien espaces verts/luminaires/voiries/résidences*",Feuil1!$E$2:$E$1001,"élevée") -> 0 | O19: =COUNTIFS(Feuil1!$C$2:$C$1001, "*Les Terrasses*", Feuil1!$D$2:$D$1001, "*Parfait achèvement et SAV des constructions et réhabilitations*",Feuil1!$E$2:$E$1001,"faible") -> 0 | P19: =COUNTIFS(Feuil1!$C$2:$C$1001, "*Les Terrasses*", Feuil1!$D$2:$D$1001, "*Parfait achèvement et SAV des constructions et réhabilitations*",Feuil1!$E$2:$E$1001,"élevée") -> 0 | Q19: =COUNTIFS(Feuil1!$C$2:$C$1001, "*Les Terrasses*", Feuil1!$D$2:$D$1001, "*Gestion locative/humaine/sociale*",Feuil1!$E$2:$E$1001,"faible") -> 0 | R19: =COUNTIFS(Feuil1!$C$2:$C$1001, "*Les Terrasses*", Feuil1!$D$2:$D$1001, "*Gestion locative/humaine/sociale*",Feuil1!$E$2:$E$1001,"élevée") -> 0
A20: Quartier du Fort | B20: HABITAT DU NORD | C20: Hortensias | D20: Place du Nouveau Monde et Rue Odette | E20: C16 | F20: 18 | G20: =COUNTIFS(Feuil1!$C$2:$C$1001, "Place du Nouveau Monde", Feuil1!$D$2:$D$1001, "*Tri sélectif et déchets*",Feuil1!$E$2:$E$1001,"faible") -> 0 | H20: =COUNTIFS(Feuil1!$C$2:$C$1001, "Place du Nouveau Monde et rue Odette", Feuil1!$D$2:$D$1001, "*Tri sélectif et déchets*",Feuil1!$E$2:$E$1001,"élevée") -> 0 | I20: =COUNTIFS(Feuil1!$C$2:$C$1001, "Place du Nouveau Monde et rue Odette", Feuil1!$D$2:$D$1001, "*Stationnement et voitures*",Feuil1!$E$2:$E$1001,"faible") -> 1 | J20: =COUNTIFS(Feuil1!$C$2:$C$1001, "Place du Nouveau Monde et rue Odette", Feuil1!$D$2:$D$1001, "*Stationnement et voitures*",Feuil1!$E$2:$E$1001,"élevée") -> 0 | K20: =COUNTIFS(Feuil1!$C$2:$C$1001, "Place du Nouveau Monde et rue Odette", Feuil1!$D$2:$D$1001, "*Intranquilité publique/Incivilités/Dégradations/Insécurité*",Feuil1!$E$2:$E$1001,"faible") -> 1 | L20: =COUNTIFS(Feuil1!$C$2:$C$1001, "Place du Nouveau Monde et rue Odette", Feuil1!$D$2:$D$1001, "*Intranquilité publique/Incivilités/Dégradations/Insécurité*",Feuil1!$E$2:$E$1001,"élevée") -> 1 | M20: =COUNTIFS(Feuil1!$C$2:$C$1001, "Place du Nouveau Monde et rue Odette", Feuil1!$D$2:$D$1001, "*Entretien espaces verts/luminaires/voiries/résidences*",Feuil1!$E$2:$E$1001,"faible") -> 1 | N20: =COUNTIFS(Feuil1!$C$2:$C$1001, "Place du Nouveau Monde et rue Odette", Feuil1!$D$2:$D$1001, "*Entretien espaces verts/luminaires/voiries/résidences*",Feuil1!$E$2:$E$1001,"élevée") -> 0 | O20: =COUNTIFS(Feuil1!$C$2:$C$1001, "Place du Nouveau Monde et rue Odette", Feuil1!$D$2:$D$1001, "*Parfait achèvement et SAV des constructions et réhabilitations*",Feuil1!$E$2:$E$1001,"faible") -> 5 | P20: =COUNTIFS(Feuil1!$C$2:$C$1001, "Place du Nouveau Monde et rue Odette", Feuil1!$D$2:$D$1001, "*Parfait achèvement et SAV des constructions et réhabilitations*",Feuil1!$E$2:$E$1001,"élevée") -> 1 | Q20: =COUNTIFS(Feuil1!$C$2:$C$1001, "Place du Nouveau Monde et rue Odette", Feuil1!$D$2:$D$1001, "*Gestion locative/humaine/sociale*",Feuil1!$E$2:$E$1001,"faible") -> 3 | R20: =COUNTIFS(Feuil1!$C$2:$C$1001, "Place du Nouveau Monde et rue Odette", Feuil1!$D$2:$D$1001, "*Gestion locative/humaine/sociale*",Feuil1!$E$2:$E$1001,"élevée") -> 1
A21: Centre-ville | B21: PROMOCIL | C21: Port | D21: Sainte Anne | E21: C29 | F21: 24 | G21: =COUNTIFS(Feuil1!$C$2:$C$1001, "*Sainte Anne*", Feuil1!$D$2:$D$1001, "*Tri sélectif et déchets*",Feuil1!$E$2:$E$1001,"faible") -> 0 | H21: =COUNTIFS(Feuil1!$C$2:$C$1001, "*Sainte Anne*", Feuil1!$D$2:$D$1001, "*Tri sélectif et déchets*",Feuil1!$E$2:$E$1001,"élevée") -> 0 | I21: =COUNTIFS(Feuil1!$C$2:$C$1001, "*Sainte Anne*", Feuil1!$D$2:$D$1001, "*Stationnement et voitures*",Feuil1!$E$2:$E$1001,"faible") -> 0 | J21: =COUNTIFS(Feuil1!$C$2:$C$1001, "*Sainte Anne*", Feuil1!$D$2:$D$1001, "*Stationnement et voitures*",Feuil1!$E$2:$E$1001,"élevée") -> 0 | K21: =COUNTIFS(Feuil1!$C$2:$C$1001, "*Sainte Anne*", Feuil1!$D$2:$D$1001, "*Intranquilité publique/Incivilités/Dégradations/Insécurité*",Feuil1!$E$2:$E$1001,"faible") -> 0 | L21: =COUNTIFS(Feuil1!$C$2:$C$1001, "*Sainte Anne*", Feuil1!$D$2:$D$1001, "*Intranquilité publique/Incivilités/Dégradations/Insécurité*",Feuil1!$E$2:$E$1001,"élevée") -> 0 | M21: =COUNTIFS(Feuil1!$C$2:$C$1001, "*Sainte Anne*", Feuil1!$D$2:$D$1001, "*Entretien espaces verts/luminaires/voiries/résidences*",Feuil1!$E$2:$E$1001,"faible") -> 0 | N21: =COUNTIFS(Feuil1!$C$2:$C$1001, "*Sainte Anne*", Feuil1!$D$2:$D$1001, "*Entretien espaces verts/luminaires/voiries/résidences*",Feuil1!$E$2:$E$1001,"élevée") -> 1 | O21: =COUNTIFS(Feuil1!$C$2:$C$1001, "*Sainte Anne*", Feuil1!$D$2:$D$1001, "*Parfait achèvement et SAV des constructions et réhabilitations*",Feuil1!$E$2:$E$1001,"faible") -> 0 | P21: =COUNTIFS(Feuil1!$C$2:$C$1001, "*Sainte Anne*", Feuil1!$D$2:$D$1001, "*Parfait achèvement et SAV des constructions et réhabilitations*",Feuil1!$E$2:$E$1001,"élevée") -> 0 | Q21: =COUNTIFS(Feuil1!$C$2:$C$1001, "*Sainte Anne*", Feuil1!$D$2:$D$1001, "*Gestion locative/humaine/sociale*",Feuil1!$E$2:$E$1001,"faible") -> 0 | R21: =COUNTIFS(Feuil1!$C$2:$C$1001, "*Sainte Anne*", Feuil1!$D$2:$D$1001, "*Gestion locative/humaine/sociale*",Feuil1!$E$2:$E$1001,"élevée") -> 0
A22: Quartier du Fort | B22: HABITAT DU NORD | C22: Hortensias | D22: Provinces de France | E22: REHA19 | F22: 126 | G22: =COUNTIFS(Feuil1!$C$2:$C$1001, "*Provinces de France*", Feuil1!$D$2:$D$1001, "*Tri sélectif et déchets*",Feuil1!$E$2:$E$1001,"faible") -> 1 | H22: =COUNTIFS(Feuil1!$C$2:$C$1001, "*Provinces de France*", Feuil1!$D$2:$D$1001, "*Tri sélectif et déchets*",Feuil1!$E$2:$E$1001,"élevée") -> 0 | I22: =COUNTIFS(Feuil1!$C$2:$C$1001, "*Provinces de France*", Feuil1!$D$2:$D$1001, "*Stationnement et voitures*",Feuil1!$E$2:$E$1001,"faible") -> 2 | J22: =COUNTIFS(Feuil1!$C$2:$C$1001, "*Provinces de France*", Feuil1!$D$2:$D$1001, "*Stationnement et voitures*",Feuil1!$E$2:$E$1001,"élevée") -> 0 | K22: =COUNTIFS(Feuil1!$C$2:$C$1001, "*Provinces de France*", Feuil1!$D$2:$D$1001, "*Intranquilité publique/Incivilités/Dégradations/Insécurité*",Feuil1!$E$2:$E$1001,"faible") -> 0 | L22: =COUNTIFS(Feuil1!$C$2:$C$1001, "*Provinces de France*", Feuil1!$D$2:$D$1001, "*Intranquilité publique/Incivilités/Dégradations/Insécurité*",Feuil1!$E$2:$E$1001,"élevée") -> 0 | M22: =COUNTIFS(Feuil1!$C$2:$C$1001, "*Provinces de France*", Feuil1!$D$2:$D$1001, "*Entretien espaces verts/luminaires/voiries/résidences*",Feuil1!$E$2:$E$1001,"faible") -> 1 | N22: =COUNTIFS(Feuil1!$C$2:$C$1001, "*Provinces de France*", Feuil1!$D$2:$D$1001, "*Entretien espaces verts/luminaires/voiries/résidences*",Feuil1!$E$2:$E$1001,"élevée") -> 0 | O22: =COUNTIFS(Feuil1!$C$2:$C$1001, "*Provinces de France*", Feuil1!$D$2:$D$1001, "*Parfait achèvement et SAV des constructions et réhabilitations*",Feuil1!$E$2:$E$1001,"faible") -> 0 | P22: =COUNTIFS(Feuil1!$C$2:$C$1001, "*Provinces de France*", Feuil1!$D$2:$D$1001, "*Parfait achèvement et SAV des constructions et réhabilitations*",Feuil1!$E$2:$E$1001,"élevée") -> 0 | Q22: =COUNTIFS(Feuil1!$C$2:$C$1001, "*Provinces de France*", Feuil1!$D$2:$D$1001, "*Gestion locative/humaine/sociale*",Feuil1!$E$2:$E$1001,"faible") -> 0 | R22: =COUNTIFS(Feuil1!$C$2:$C$1001, "*Provinces de France*", Feuil1!$D$2:$D$1001, "*Gestion locative/humaine/sociale*",Feuil1!$E$2:$E$1001,"élevée") -> 0
A23: Rive-Gauche | B23: PROMOCIL | C23: Guy de Maupassant | D23: les exotiques | E23: REHA18 | F23: 192 | G23: =COUNTIFS(Feuil1!$C$2:$C$1001, "*Exotiques*", Feuil1!$D$2:$D$1001, "*Tri sélectif et déchets*",Feuil1!$E$2:$E$1001,"faible") -> 1 | H23: =COUNTIFS(Feuil1!$C$2:$C$1001, "*Exotiques*", Feuil1!$D$2:$D$1001, "*Tri sélectif et déchets*",Feuil1!$E$2:$E$1001,"élevée") -> 0 | I23: =COUNTIFS(Feuil1!$C$2:$C$1001, "*Exotiques*", Feuil1!$D$2:$D$1001, "*Stationnement et voitures*",Feuil1!$E$2:$E$1001,"faible") -> 0 | J23: =COUNTIFS(Feuil1!$C$2:$C$1001, "*Exotiques*", Feuil1!$D$2:$D$1001, "*Stationnement et voitures*",Feuil1!$E$2:$E$1001,"élevée") -> 0 | K23: =COUNTIFS(Feuil1!$C$2:$C$1001, "*Exotiques*", Feuil1!$D$2:$D$1001, "*Intranquilité publique/Incivilités/Dégradations/Insécurité*",Feuil1!$E$2:$E$1001,"faible") -> 0 | L23: =COUNTIFS(Feuil1!$C$2:$C$1001, "*Exotiques*", Feuil1!$D$2:$D$1001, "*Intranquilité publique/Incivilités/Dégradations/Insécurité*",Feuil1!$E$2:$E$1001,"élevée") -> 2 | M23: =COUNTIFS(Feuil1!$C$2:$C$1001, "*Exotiques*", Feuil1!$D$2:$D$1001, "*Entretien espaces verts/luminaires/voiries/résidences*",Feuil1!$E$2:$E$1001,"faible") -> 0 | N23: =COUNTIFS(Feuil1!$C$2:$C$1001, "*Exotiques*", Feuil1!$D$2:$D$1001, "*Entretien espaces verts/luminaires/voiries/résidences*",Feuil1!$E$2:$E$1001,"élevée") -> 0 | O23: =COUNTIFS(Feuil1!$C$2:$C$1001, "*Exotiques*", Feuil1!$D$2:$D$1001, "*Parfait achèvement et SAV des constructions et réhabilitations*",Feuil1!$E$2:$E$1001,"faible") -> 0 | P23: =COUNTIFS(Feuil1!$C$2:$C$1001, "*Exotiques*", Feuil1!$D$2:$D$1001, "*Parfait achèvement et SAV des constructions et réhabilitations*",Feuil1!$E$2:$E$1001,"élevée") -> 1 | Q23: =COUNTIFS(Feuil1!$C$2:$C$1001, "*Exotiques*", Feuil1!$D$2:$D$1001, "*Gestion locative/humaine/sociale*",Feuil1!$E$2:$E$1001,"faible") -> 0 | R23: =COUNTIFS(Feuil1!$C$2:$C$1001, "*Exotiques*", Feuil1!$D$2:$D$1001, "*Gestion locative/humaine/sociale*",Feuil1!$E$2:$E$1001,"élevée") -> 0
A24: Bois du Quesnoy | B24: PROMOCIL | C24: Bois du Quesnoy | D24: Bois du quesnoy | E24: REHA27 | F24: 207 | G24: =COUNTIFS(Feuil1!$C$2:$C$1001, "*Bois du Quesnoy*", Feuil1!$D$2:$D$1001, "*Tri sélectif et déchets*",Feuil1!$E$2:$E$1001,"faible") -> 0 | H24: =COUNTIFS(Feuil1!$C$2:$C$1001, "*Bois du Quesnoy*", Feuil1!$D$2:$D$1001, "*Tri sélectif et déchets*",Feuil1!$E$2:$E$1001,"élevée") -> 0 | I24: =COUNTIFS(Feuil1!$C$2:$C$1001, "*Bois du Quesnoy*", Feuil1!$D$2:$D$1001, "*Stationnement et voitures*",Feuil1!$E$2:$E$1001,"faible") -> 1 | J24: =COUNTIFS(Feuil1!$C$2:$C$1001, "*Bois du Quesnoy*", Feuil1!$D$2:$D$1001, "*Stationnement et voitures*",Feuil1!$E$2:$E$1001,"élevée") -> 0 | K24: =COUNTIFS(Feuil1!$C$2:$C$1001, "*Bois du Quesnoy*", Feuil1!$D$2:$D$1001, "*Intranquilité publique/Incivilités/Dégradations/Insécurité*",Feuil1!$E$2:$E$1001,"faible") -> 0 | L24: =COUNTIFS(Feuil1!$C$2:$C$1001, "*Bois du Quesnoy*", Feuil1!$D$2:$D$1001, "*Intranquilité publique/Incivilités/Dégradations/Insécurité*",Feuil1!$E$2:$E$1001,"élevée") -> 0 | M24: =COUNTIFS(Feuil1!$C$2:$C$1001, "*Bois du Quesnoy*", Feuil1!$D$2:$D$1001, "*Entretien espaces verts/luminaires/voiries/résidences*",Feuil1!$E$2:$E$1001,"faible") -> 1 | N24: =COUNTIFS(Feuil1!$C$2:$C$1001, "*Bois du Quesnoy*", Feuil1!$D$2:$D$1001, "*Entretien espaces verts/luminaires/voiries/résidences*",Feuil1!$E$2:$E$1001,"élevée") -> 0 | O24: =COUNTIFS(Feuil1!$C$2:$C$1001, "*Bois du Quesnoy*", Feuil1!$D$2:$D$1001, "*Parfait achèvement et SAV des constructions et réhabilitations*",Feuil1!$E$2:$E$1001,"faible") -> 1 | P24: =COUNTIFS(Feuil1!$C$2:$C$1001, "*Bois du Quesnoy*", Feuil1!$D$2:$D$1001, "*Parfait achèvement et SAV des constructions et réhabilitations*",Feuil1!$E$2:$E$1001,"élevée") -> 0 | Q24: =COUNTIFS(Feuil1!$C$2:$C$1001, "*Bois du Quesnoy*", Feuil1!$D$2:$D$1001, "*Gestion locative/humaine/sociale*",Feuil1!$E$2:$E$1001,"faible") -> 1 | R24: =COUNTIFS(Feuil1!$C$2:$C$1001, "*Bois du Quesnoy*", Feuil1!$D$2:$D$1001, "*Gestion locative/humaine/sociale*",Feuil1!$E$2:$E$1001,"élevée") -> 1
A25: Bois du Quesnoy | B25: PROMOCIL | C25: Bois du Quesnoy | D25: Charcot | E25: REHA31 | F25: 38 | G25: =COUNTIFS(Feuil1!$C$2:$C$1001, "*Charcot*", Feuil1!$D$2:$D$1001, "*Tri sélectif et déchets*",Feuil1!$E$2:$E$1001,"faible") -> 0 | H25: =COUNTIFS(Feuil1!$C$2:$C$1001, "*Charcot*", Feuil1!$D$2:$D$1001, "*Tri sélectif et déchets*",Feuil1!$E$2:$E$1001,"élevée") -> 0 | I25: =COUNTIFS(Feuil1!$C$2:$C$1001, "*Charcot*", Feuil1!$D$2:$D$1001, "*Stationnement et voitures*",Feuil1!$E$2:$E$1001,"faible") -> 0 | J25: =COUNTIFS(Feuil1!$C$2:$C$1001, "*Charcot*", Feuil1!$D$2:$D$1001, "*Stationnement et voitures*",Feuil1!$E$2:$E$1001,"élevée") -> 0 | K25: =COUNTIFS(Feuil1!$C$2:$C$1001, "*Charcot*", Feuil1!$D$2:$D$1001, "*Intranquilité publique/Incivilités/Dégradations/Insécurité*",Feuil1!$E$2:$E$1001,"faible") -> 0 | L25: =COUNTIFS(Feuil1!$C$2:$C$1001, "*Charcot*", Feuil1!$D$2:$D$1001, "*Intranquilité publique/Incivilités/Dégradations/Insécurité*",Feuil1!$E$2:$E$1001,"élevée") -> 0 | M25: =COUNTIFS(Feuil1!$C$2:$C$1001, "*Charcot*", Feuil1!$D$2:$D$1001, "*Entretien espaces verts/luminaires/voiries/résidences*",Feuil1!$E$2:$E$1001,"faible") -> 0 | N25: =COUNTIFS(Feuil1!$C$2:$C$1001, "*Charcot*", Feuil1!$D$2:$D$1001, "*Entretien espaces verts/luminaires/voiries/résidences*",Feuil1!$E$2:$E$1001,"élevée") -> 0 | O25: =COUNTIFS(Feuil1!$C$2:$C$1001, "*Charcot*", Feuil1!$D$2:$D$1001, "*Parfait achèvement et SAV des constructions et réhabilitations*",Feuil1!$E$2:$E$1001,"faible") -> 0 | P25: =COUNTIFS(Feuil1!$C$2:$C$1001, "*Charcot*", Feuil1!$D$2:$D$1001, "*Parfait achèvement et SAV des constructions et réhabilitations*",Feuil1!$E$2:$E$1001,"élevée") -> 0 | Q25: =COUNTIFS(Feuil1!$C$2:$C$1001, "*Charcot*", Feuil1!$D$2:$D$1001, "*Gestion locative/humaine/sociale*",Feuil1!$E$2:$E$1001,"faible") -> 0 | R25: =COUNTIFS(Feuil1!$C$2:$C$1001, "*Charcot*", Feuil1!$D$2:$D$1001, "*Gestion locative/humaine/sociale*",Feuil1!$E$2:$E$1001,"élevée") -> 0
A26: Bois du Quesnoy | B26: PROMOCIL | C26: Bois du Quesnoy | D26: Rue des ormes et rue du Dr Schweitzer | E26: C25Nb | F26: 21 | G26: =COUNTIFS(Feuil1!$C$2:$C$1001, "*Rue des ormes et rue du Dr Schweitzer*", Feuil1!$D$2:$D$1001, "*Tri sélectif et déchets*",Feuil1!$E$2:$E$1001,"faible") -> 0 | H26: =COUNTIFS(Feuil1!$C$2:$C$1001, "*Rue des ormes et rue du Dr Schweitzer*", Feuil1!$D$2:$D$1001, "*Tri sélectif et déchets*",Feuil1!$E$2:$E$1001,"élevée") -> 0 | I26: =COUNTIFS(Feuil1!$C$2:$C$1001, "*Rue des ormes et rue du Dr Schweitzer*", Feuil1!$D$2:$D$1001, "*Stationnement et voitures*",Feuil1!$E$2:$E$1001,"faible") -> 0 | J26: =COUNTIFS(Feuil1!$C$2:$C$1001, "*Rue des ormes et rue du Dr Schweitzer*", Feuil1!$D$2:$D$1001, "*Stationnement et voitures*",Feuil1!$E$2:$E$1001,"élevée") -> 0 | K26: =COUNTIFS(Feuil1!$C$2:$C$1001, "*Rue des ormes et rue du Dr Schweitzer*", Feuil1!$D$2:$D$1001, "*Intranquilité publique/Incivilités/Dégradations/Insécurité*",Feuil1!$E$2:$E$1001,"faible") -> 0 | L26: =COUNTIFS(Feuil1!$C$2:$C$1001, "*Rue des ormes et rue du Dr Schweitzer*", Feuil1!$D$2:$D$1001, "*Intranquilité publique/Incivilités/Dégradations/Insécurité*",Feuil1!$E$2:$E$1001,"élevée") -> 0 | M26: =COUNTIFS(Feuil1!$C$2:$C$1001, "*Rue des ormes et rue du Dr Schweitzer*", Feuil1!$D$2:$D$1001, "*Entretien espaces verts/luminaires/voiries/résidences*",Feuil1!$E$2:$E$1001,"faible") -> 0 | N26: =COUNTIFS(Feuil1!$C$2:$C$1001, "*Rue des ormes et rue du Dr Schweitzer*", Feuil1!$D$2:$D$1001, "*Entretien espaces verts/luminaires/voiries/résidences*",Feuil1!$E$2:$E$1001,"élevée") -> 0 | O26: =COUNTIFS(Feuil1!$C$2:$C$1001, "*Rue des ormes et rue du Dr Schweitzer*", Feuil1!$D$2:$D$1001, "*Parfait achèvement et SAV des constructions et réhabilitations*",Feuil1!$E$2:$E$1001,"faible") -> 0 | P26: =COUNTIFS(Feuil1!$C$2:$C$1001, "*Rue des ormes et rue du Dr Schweitzer*", Feuil1!$D$2:$D$1001, "*Parfait achèvement et SAV des constructions et réhabilitations*",Feuil1!$E$2:$E$1001,"élevée") -> 0 | Q26: =COUNTIFS(Feuil1!$C$2:$C$1001, "*Rue des ormes et rue du Dr Schweitzer*", Feuil1!$D$2:$D$1001, "*Gestion locative/humaine/sociale*",Feuil1!$E$2:$E$1001,"faible") -> 1 | R26: =COUNTIFS(Feuil1!$C$2:$C$1001, "*Rue des ormes et rue du Dr Schweitzer*", Feuil1!$D$2:$D$1001, "*Gestion locative/humaine/sociale*",Feuil1!$E$2:$E$1001,"élevée") -> 0
A27: Bois du Quesnoy | B27: VILLE | D27: pôle de services publics | G27: =COUNTIFS(Feuil1!$C$2:$C$1001, "*pôle services publics*", Feuil1!$D$2:$D$1001, "*Tri sélectif et déchets*",Feuil1!$E$2:$E$1001,"faible") -> 0 | H27: =COUNTIFS(Feuil1!$C$2:$C$1001, "*pôle services publics*", Feuil1!$D$2:$D$1001, "*Tri sélectif et déchets*",Feuil1!$E$2:$E$1001,"élevée") -> 0 | I27: =COUNTIFS(Feuil1!$C$2:$C$1001, "*pôle services publics*", Feuil1!$D$2:$D$1001, "*Stationnement et voitures*",Feuil1!$E$2:$E$1001,"faible") -> 0 | J27: =COUNTIFS(Feuil1!$C$2:$C$1001, "*pôle services publics*", Feuil1!$D$2:$D$1001, "*Stationnement et voitures*",Feuil1!$E$2:$E$1001,"élevée") -> 0 | K27: =COUNTIFS(Feuil1!$C$2:$C$1001, "*pôle services publics*", Feuil1!$D$2:$D$1001, "*Intranquilité publique/Incivilités/Dégradations/Insécurité*",Feuil1!$E$2:$E$1001,"faible") -> 0 | L27: =COUNTIFS(Feuil1!$C$2:$C$1001, "*pôle services publics*", Feuil1!$D$2:$D$1001, "*Intranquilité publique/Incivilités/Dégradations/Insécurité*",Feuil1!$E$2:$E$1001,"élevée") -> 0 | M27: =COUNTIFS(Feuil1!$C$2:$C$1001, "*pôle services publics*", Feuil1!$D$2:$D$1001, "*Entretien espaces verts/luminaires/voiries/résidences*",Feuil1!$E$2:$E$1001,"faible") -> 0 | N27: =COUNTIFS(Feuil1!$C$2:$C$1001, "*pôle services publics*", Feuil1!$D$2:$D$1001, "*Entretien espaces verts/luminaires/voiries/résidences*",Feuil1!$E$2:$E$1001,"élevée") -> 1 | O27: =COUNTIFS(Feuil1!$C$2:$C$1001, "*pôle services publics*", Feuil1!$D$2:$D$1001, "*Parfait achèvement et SAV des constructions et réhabilitations*",Feuil1!$E$2:$E$1001,"faible") -> 1 | P27: =COUNTIFS(Feuil1!$C$2:$C$1001, "*pôle services publics*", Feuil1!$D$2:$D$1001, "*Parfait achèvement et SAV des constructions et réhabilitations*",Feuil1!$E$2:$E$1001,"élevée") -> 0 | Q27: =COUNTIFS(Feuil1!$C$2:$C$1001, "*pôle services publics*", Feuil1!$D$2:$D$1001, "*Gestion locative/humaine/sociale*",Feuil1!$E$2:$E$1001,"faible") -> 0 | R27: =COUNTIFS(Feuil1!$C$2:$C$1001, "*pôle services publics*", Feuil1!$D$2:$D$1001, "*Gestion locative/humaine/sociale*",Feuil1!$E$2:$E$1001,"élevée") -> 0
A28: Quartier du Fort | B28: VILLE | D28: Maison de Quartier Les Hortensias | E28: E19 | G28: =COUNTIFS(Feuil1!$C$2:$C$1001, "*Les Hortensias*", Feuil1!$D$2:$D$1001, "*Tri sélectif et déchets*",Feuil1!$E$2:$E$1001,"faible") -> 3 | H28: =COUNTIFS(Feuil1!$C$2:$C$1001, "*Les Hortensias*", Feuil1!$D$2:$D$1001, "*Tri sélectif et déchets*",Feuil1!$E$2:$E$1001,"élevée") -> 0 | I28: =COUNTIFS(Feuil1!$C$2:$C$1001, "*Les Hortensias*", Feuil1!$D$2:$D$1001, "*Stationnement et voitures*",Feuil1!$E$2:$E$1001,"faible") -> 0 | J28: =COUNTIFS(Feuil1!$C$2:$C$1001, "*Les Hortensias*", Feuil1!$D$2:$D$1001, "*Stationnement et voitures*",Feuil1!$E$2:$E$1001,"élevée") -> 0 | K28: =COUNTIFS(Feuil1!$C$2:$C$1001, "*Les Hortensias*", Feuil1!$D$2:$D$1001, "*Intranquilité publique/Incivilités/Dégradations/Insécurité*",Feuil1!$E$2:$E$1001,"faible") -> 0 | L28: =COUNTIFS(Feuil1!$C$2:$C$1001, "*Les Hortensias*", Feuil1!$D$2:$D$1001, "*Intranquilité publique/Incivilités/Dégradations/Insécurité*",Feuil1!$E$2:$E$1001,"élevée") -> 0 | M28: =COUNTIFS(Feuil1!$C$2:$C$1001, "*Les Hortensias*", Feuil1!$D$2:$D$1001, "*Entretien espaces verts/luminaires/voiries/résidences*",Feuil1!$E$2:$E$1001,"faible") -> 3 | N28: =COUNTIFS(Feuil1!$C$2:$C$1001, "*Les Hortensias*", Feuil1!$D$2:$D$1001, "*Entretien espaces verts/luminaires/voiries/résidences*",Feuil1!$E$2:$E$1001,"élevée") -> 2 | O28: =COUNTIFS(Feuil1!$C$2:$C$1001, "*Les Hortensias*", Feuil1!$D$2:$D$1001, "*Parfait achèvement et SAV des constructions et réhabilitations*",Feuil1!$E$2:$E$1001,"faible") -> 4 | P28: =COUNTIFS(Feuil1!$C$2:$C$1001, "*Les Hortensias*", Feuil1!$D$2:$D$1001, "*Parfait achèvement et SAV des constructions et réhabilitations*",Feuil1!$E$2:$E$1001,"élevée") -> 0 | Q28: =COUNTIFS(Feuil1!$C$2:$C$1001, "*Les Hortensias*", Feuil1!$D$2:$D$1001, "*Gestion locative/humaine/sociale*",Feuil1!$E$2:$E$1001,"faible") -> 8 | R28: =COUNTIFS(Feuil1!$C$2:$C$1001, "*Les Hortensias*", Feuil1!$D$2:$D$1001, "*Gestion locative/humaine/sociale*",Feuil1!$E$2:$E$1001,"élevée") -> 0
A29: Rive-Gauche | B29: VILLE | D29: maison de quartier du Port | E29: E3 | G29: =COUNTIFS(Feuil1!$C$2:$C$1001, "*du Port*", Feuil1!$D$2:$D$1001, "*Tri sélectif et déchets*",Feuil1!$E$2:$E$1001,"faible") -> 0 | H29: =COUNTIFS(Feuil1!$C$2:$C$1001, "*du Port*", Feuil1!$D$2:$D$1001, "*Tri sélectif et déchets*",Feuil1!$E$2:$E$1001,"élevée") -> 0 | I29: =COUNTIFS(Feuil1!$C$2:$C$1001, "*du Port*", Feuil1!$D$2:$D$1001, "*Stationnement et voitures*",Feuil1!$E$2:$E$1001,"faible") -> 0 | J29: =COUNTIFS(Feuil1!$C$2:$C$1001, "*du Port*", Feuil1!$D$2:$D$1001, "*Stationnement et voitures*",Feuil1!$E$2:$E$1001,"élevée") -> 0 | K29: =COUNTIFS(Feuil1!$C$2:$C$1001, "*du Port*", Feuil1!$D$2:$D$1001, "*Intranquilité publique/Incivilités/Dégradations/Insécurité*",Feuil1!$E$2:$E$1001,"faible") -> 1 | L29: =COUNTIFS(Feuil1!$C$2:$C$1001, "*du Port*", Feuil1!$D$2:$D$1001, "*Intranquilité publique/Incivilités/Dégradations/Insécurité*",Feuil1!$E$2:$E$1001,"élevée") -> 0 | M29: =COUNTIFS(Feuil1!$C$2:$C$1001, "*du Port*", Feuil1!$D$2:$D$1001, "*Entretien espaces verts/luminaires/voiries/résidences*",Feuil1!$E$2:$E$1001,"faible") -> 1 | N29: =COUNTIFS(Feuil1!$C$2:$C$1001, "*du Port*", Feuil1!$D$2:$D$1001, "*Entretien espaces verts/luminaires/voiries/résidences*",Feuil1!$E$2:$E$1001,"élevée") -> 0 | O29: =COUNTIFS(Feuil1!$C$2:$C$1001, "*du Port*", Feuil1!$D$2:$D$1001, "*Parfait achèvement et SAV des constructions et réhabilitations*",Feuil1!$E$2:$E$1001,"faible") -> 2 | P29: =COUNTIFS(Feuil1!$C$2:$C$1001, "*du Port*", Feuil1!$D$2:$D$1001, "*Parfait achèvement et SAV des constructions et réhabilitations*",Feuil1!$E$2:$E$1001,"élevée") -> 0 | Q29: =COUNTIFS(Feuil1!$C$2:$C$1001, "*du Port*", Feuil1!$D$2:$D$1001, "*Gestion locative/humaine/sociale*",Feuil1!$E$2:$E$1001,"faible") -> 0 | R29: =COUNTIFS(Feuil1!$C$2:$C$1001, "*du Port*", Feuil1!$D$2:$D$1001, "*Gestion locative/humaine/sociale*",Feuil1!$E$2:$E$1001,"élevée") -> 0
A30: Rive-Gauche | B30: VILLE | D30: maison de quartier Guy de Maupassant | E30: E17 | G30: =COUNTIFS(Feuil1!$C$2:$C$1001, "*Guy de Maupassant*", Feuil1!$D$2:$D$1001, "*Tri sélectif et déchets*",Feuil1!$E$2:$E$1001,"faible") -> 1 | H30: =COUNTIFS(Feuil1!$C$2:$C$1001, "*Guy de Maupassant*", Feuil1!$D$2:$D$1001, "*Tri sélectif et déchets*",Feuil1!$E$2:$E$1001,"élevée") -> 0 | I30: =COUNTIFS(Feuil1!$C$2:$C$1001, "*Guy de Maupassant*", Feuil1!$D$2:$D$1001, "*Stationnement et voitures*",Feuil1!$E$2:$E$1001,"faible") -> 1 | J30: =COUNTIFS(Feuil1!$C$2:$C$1001, "*Guy de Maupassant*", Feuil1!$D$2:$D$1001, "*Stationnement et voitures*",Feuil1!$E$2:$E$1001,"élevée") -> 0 | K30: =COUNTIFS(Feuil1!$C$2:$C$1001, "*Guy de Maupassant*", Feuil1!$D$2:$D$1001, "*Intranquilité publique/Incivilités/Dégradations/Insécurité*",Feuil1!$E$2:$E$1001,"faible") -> 0 | L30: =COUNTIFS(Feuil1!$C$2:$C$1001, "*Guy de Maupassant*", Feuil1!$D$2:$D$1001, "*Intranquilité publique/Incivilités/Dégradations/Insécurité*",Feuil1!$E$2:$E$1001,"élevée") -> 0 | M30: =COUNTIFS(Feuil1!$C$2:$C$1001, "*Guy de Maupassant*", Feuil1!$D$2:$D$1001, "*Entretien espaces verts/luminaires/voiries/résidences*",Feuil1!$E$2:$E$1001,"faible") -> 4 | N30: =COUNTIFS(Feuil1!$C$2:$C$1001, "*Guy de Maupassant*", Feuil1!$D$2:$D$1001, "*Entretien espaces verts/luminaires/voiries/résidences*",Feuil1!$E$2:$E$1001,"élevée") -> 0 | O30: =COUNTIFS(Feuil1!$C$2:$C$1001, "*Guy de Maupassant*", Feuil1!$D$2:$D$1001, "*Parfait achèvement et SAV des constructions et réhabilitations*",Feuil1!$E$2:$E$1001,"faible") -> 5 | P30: =COUNTIFS(Feuil1!$C$2:$C$1001, "*Guy de Maupassant*", Feuil1!$D$2:$D$1001, "*Parfait achèvement et SAV des constructions et réhabilitations*",Feuil1!$E$2:$E$1001,"élevée") -> 0 | Q30: =COUNTIFS(Feuil1!$C$2:$C$1001, "*Guy de Maupassant*", Feuil1!$D$2:$D$1001, "*Gestion locative/humaine/sociale*",Feuil1!$E$2:$E$1001,"faible") -> 0 | R30: =COUNTIFS(Feuil1!$C$2:$C$1001, "*Guy de Maupassant*", Feuil1!$D$2:$D$1001, "*Gestion locative/humaine/sociale*",Feuil1!$E$2:$E$1001,"élevée") -> 0
A31: Centre-ville | D31: école Jules Ferry | E31: E8C | G31: =COUNTIFS(Feuil1!$C$2:$C$1001, "*Jules Ferry*", Feuil1!$D$2:$D$1001, "*Tri sélectif et déchets*",Feuil1!$E$2:$E$1001,"faible") -> 0 | H31: =COUNTIFS(Feuil1!$C$2:$C$1001, "*Jules Ferry*", Feuil1!$D$2:$D$1001, "*Tri sélectif et déchets*",Feuil1!$E$2:$E$1001,"élevée") -> 0 | I31: =COUNTIFS(Feuil1!$C$2:$C$1001, "*Jules Ferry*", Feuil1!$D$2:$D$1001, "*Stationnement et voitures*",Feuil1!$E$2:$E$1001,"faible") -> 0 | J31: =COUNTIFS(Feuil1!$C$2:$C$1001, "*Jules Ferry*", Feuil1!$D$2:$D$1001, "*Stationnement et voitures*",Feuil1!$E$2:$E$1001,"élevée") -> 0 | K31: =COUNTIFS(Feuil1!$C$2:$C$1001, "*Jules Ferry*", Feuil1!$D$2:$D$1001, "*Intranquilité publique/Incivilités/Dégradations/Insécurité*",Feuil1!$E$2:$E$1001,"faible") -> 0 | L31: =COUNTIFS(Feuil1!$C$2:$C$1001, "*Jules Ferry*", Feuil1!$D$2:$D$1001, "*Intranquilité publique/Incivilités/Dégradations/Insécurité*",Feuil1!$E$2:$E$1001,"élevée") -> 0 | M31: =COUNTIFS(Feuil1!$C$2:$C$1001, "*Jules Ferry*", Feuil1!$D$2:$D$1001, "*Entretien espaces verts/luminaires/voiries/résidences*",Feuil1!$E$2:$E$1001,"faible") -> 0 | N31: =COUNTIFS(Feuil1!$C$2:$C$1001, "*Jules Ferry*", Feuil1!$D$2:$D$1001, "*Entretien espaces verts/luminaires/voiries/résidences*",Feuil1!$E$2:$E$1001,"élevée") -> 1 | O31: =COUNTIFS(Feuil1!$C$2:$C$1001, "*Jules Ferry*", Feuil1!$D$2:$D$1001, "*Parfait achèvement et SAV des constructions et réhabilitations*",Feuil1!$E$2:$E$1001,"faible") -> 0 | P31: =COUNTIFS(Feuil1!$C$2:$C$1001, "*Jules Ferry*", Feuil1!$D$2:$D$1001, "*Parfait achèvement et SAV des constructions et réhabilitations*",Feuil1!$E$2:$E$1001,"élevée") -> 0 | Q31: =COUNTIFS(Feuil1!$C$2:$C$1001, "*Jules Ferry*", Feuil1!$D$2:$D$1001, "*Gestion locative/humaine/sociale*",Feuil1!$E$2:$E$1001,"faible") -> 0 | R31: =COUNTIFS(Feuil1!$C$2:$C$1001, "*Jules Ferry*", Feuil1!$D$2:$D$1001, "*Gestion locative/humaine/sociale*",Feuil1!$E$2:$E$1001,"élevée") -> 0
A32: Rive-Gauche | B32: VILLE | D32: Square Suzanne Noël | G32: =COUNTIFS(Feuil1!$C$2:$C$1001, "*Suzanne Noël*", Feuil1!$D$2:$D$1001, "*Tri sélectif et déchets*",Feuil1!$E$2:$E$1001,"faible") -> 0 | H32: =COUNTIFS(Feuil1!$C$2:$C$1001, "*Suzanne Noël*", Feuil1!$D$2:$D$1001, "*Tri sélectif et déchets*",Feuil1!$E$2:$E$1001,"élevée") -> 0 | I32: =COUNTIFS(Feuil1!$C$2:$C$1001, "*Suzanne Noël*", Feuil1!$D$2:$D$1001, "*Stationnement et voitures*",Feuil1!$E$2:$E$1001,"faible") -> 0 | J32: =COUNTIFS(Feuil1!$C$2:$C$1001, "*Suzanne Noël*", Feuil1!$D$2:$D$1001, "*Stationnement et voitures*",Feuil1!$E$2:$E$1001,"élevée") -> 0 | K32: =COUNTIFS(Feuil1!$C$2:$C$1001, "*Suzanne Noël*", Feuil1!$D$2:$D$1001, "*Intranquilité publique/Incivilités/Dégradations/Insécurité*",Feuil1!$E$2:$E$1001,"faible") -> 1 | L32: =COUNTIFS(Feuil1!$C$2:$C$1001, "*Suzanne Noël*", Feuil1!$D$2:$D$1001, "*Intranquilité publique/Incivilités/Dégradations/Insécurité*",Feuil1!$E$2:$E$1001,"élevée") -> 0 | M32: =COUNTIFS(Feuil1!$C$2:$C$1001, "*Suzanne Noël*", Feuil1!$D$2:$D$1001, "*Entretien espaces verts/luminaires/voiries/résidences*",Feuil1!$E$2:$E$1001,"faible") -> 2 | N32: =COUNTIFS(Feuil1!$C$2:$C$1001, "*Suzanne Noël*", Feuil1!$D$2:$D$1001, "*Entretien espaces verts/luminaires/voiries/résidences*",Feuil1!$E$2:$E$1001,"élevée") -> 1 | O32: =COUNTIFS(Feuil1!$C$2:$C$1001, "*Suzanne Noël*", Feuil1!$D$2:$D$1001, "*Parfait achèvement et SAV des constructions et réhabilitations*",Feuil1!$E$2:$E$1001,"faible") -> 4 | P32: =COUNTIFS(Feuil1!$C$2:$C$1001, "*Suzanne Noël*", Feuil1!$D$2:$D$1001, "*Parfait achèvement et SAV des constructions et réhabilitations*",Feuil1!$E$2:$E$1001,"élevée") -> 1 | Q32: =COUNTIFS(Feuil1!$C$2:$C$1001, "*Suzanne Noël*", Feuil1!$D$2:$D$1001, "*Gestion locative/humaine/sociale*",Feuil1!$E$2:$E$1001,"faible") -> 1 | R32: =COUNTIFS(Feuil1!$C$2:$C$1001, "*Suzanne Noël*", Feuil1!$D$2:$D$1001, "*Gestion locative/humaine/sociale*",Feuil1!$E$2:$E$1001,"élevée") -> 0
B33: PROMOCIL | C33: Bois du Quesnoy | D33: C24N | E33: C24N | F33: 20
B34: PROMOCIL | C34: Bois du Quesnoy | D34: C24Nc Muguet | E34: C24Nc Muguet | F34: 7
B35: PROMOCIL | C35: Hortensias | D35: C21 (Fort) | E35: C21 (Fort) | F35: 17
B36: HABITAT DU NORD | C36: Hortensias | D36: C22 | E36: C22 | F36: 37
B37: HABITAT DU NORD | C37: Hortensias | D37: C23 | E37: C23 | F37: 28
B38: PROMOCIL | C38: Port | D38: St Anne | E38: C36 | F38: 15
B39: HABITAT DU NORD | D39: Ancien Boussière | E39: C15 | F39: 20
F40: 1115
B42: SOCIAL HORS PNRU
B43: HABITAT DU NORD | D43: Côtes de Sambre | F43: {=INDEX(C3:C100,MIN(IF(SUBTOTAL(3,OFFSET(C4,ROW(C3:C100),)),ROW(C5:C100))),1)} -> Hortensias
B44: PROMOCIL | D44: LA CHESNAIE | G44: (1) | H44: (2) | I44: (3) | J44: (4) | K44: (5) | L44: (6)
F45: {=TRANSPOSE(G3:H3)} -> Gravité faible | G45: =_xlfn.AGGREGATE(9,5,G4:G32) -> 1 | H45: =_xlfn.AGGREGATE(9,5,I4:I32) -> 5 | I45: =_xlfn.AGGREGATE(9,5,K4:K32) -> 4 | J45: =_xlfn.AGGREGATE(9,5,M4:M32) -> 5 | K45: =_xlfn.AGGREGATE(9,5,O4:O32) -> 7 | L45: =_xlfn.AGGREGATE(9,5,Q4:Q32) -> 4
B46: PRIVE | F46: Gravité élevée | G46: =_xlfn.AGGREGATE(9,5,H4:H32) -> 0 | H46: =_xlfn.AGGREGATE(9,5,J4:J32) -> 0 | I46: =_xlfn.AGGREGATE(9,5,L4:L32) -> 1 | J46: =_xlfn.AGGREGATE(9,5,N4:N32) -> 0 | K46: =_xlfn.AGGREGATE(9,5,P4:P32) -> 3 | L46: =_xlfn.AGGREGATE(9,5,R4:R32) -> 2
D47: rue des narcisses
T52: (1) | U52: Tri sélectif et déchets
T53: (2) | U53: Stationnement et voitures
B54: MAISON DE QUARTIER | T54: (3) | U54: Intranquilité publique/ Incivilités/ Dégradations/Insécurité
B55: Bois du Quesnoy | T55: (4) | U55: Entretien espaces verts/ luminaires/voiries/résidences
B56: Guy de Maupassant | T56: (5) | U56: Parfait achèvement et SAV des constructions et réhabilitations
B57: Hortensias | T57: (6) | U57: Gestion locative/ humaine/sociale
B58: Port
