Workbook

Sheet Synthèse
A1: Toto
B3: 2017 | C3: 2018 | D3: 2019 | E3: 2020 | F3: 2021 | G3: 2022 | H3: 2023 | I3: 2024 | J3: 2025
A4: Prod1 total | B4: =GETPIVOTDATA("Valeur",TCD!$A$3,"Compagnie","Toto","Production","Prod1","Année",B$3) -> 42507 | C4: =GETPIVOTDATA("Valeur",TCD!$A$3,"Compagnie","Toto","Production","Prod1","Année",C$3) -> 44571 | D4: =GETPIVOTDATA("Valeur",TCD!$A$3,"Compagnie","Toto","Production","Prod1","Année",D$3) -> 46635 | E4: =GETPIVOTDATA("Valeur",TCD!$A$3,"Compagnie","Toto","Production","Prod1","Année",E$3) -> 48699 | F4: =GETPIVOTDATA("Valeur",TCD!$A$3,"Compagnie","Toto","Production","Prod1","Année",F$3) -> 50763 | G4: =GETPIVOTDATA("Valeur",TCD!$A$3,"Compagnie","Toto","Production","Prod1","Année",G$3) -> 52827 | H4: =GETPIVOTDATA("Valeur",TCD!$A$3,"Compagnie","Toto","Production","Prod1","Année",H$3) -> 54891 | I4: =GETPIVOTDATA("Valeur",TCD!$A$3,"Compagnie","Toto","Production","Prod1","Année",I$3) -> 56955 | J4: =GETPIVOTDATA("Valeur",TCD!$A$3,"Compagnie","Toto","Production","Prod1","Année",J$3) -> 59019
A5: Prod1 Secteur1 (Pomme+Prune) | B5: =GETPIVOTDATA("Valeur",TCD!$A$3,"Compagnie","Toto","Secteur","Secteur 1","Produits","Pommes + Prune","Production","Prod1","Année",B$3) -> 2528 | C5: =GETPIVOTDATA("Valeur",TCD!$A$3,"Compagnie","Toto","Secteur","Secteur 1","Produits","Pommes + Prune","Production","Prod1","Année",C$3) -> 2768 | D5: =GETPIVOTDATA("Valeur",TCD!$A$3,"Compagnie","Toto","Secteur","Secteur 1","Produits","Pommes + Prune","Production","Prod1","Année",D$3) -> 3008 | E5: =GETPIVOTDATA("Valeur",TCD!$A$3,"Compagnie","Toto","Secteur","Secteur 1","Produits","Pommes + Prune","Production","Prod1","Année",E$3) -> 3248 | F5: =GETPIVOTDATA("Valeur",TCD!$A$3,"Compagnie","Toto","Secteur","Secteur 1","Produits","Pommes + Prune","Production","Prod1","Année",F$3) -> 3488 | G5: =GETPIVOTDATA("Valeur",TCD!$A$3,"Compagnie","Toto","Secteur","Secteur 1","Produits","Pommes + Prune","Production","Prod1","Année",G$3) -> 3728 | H5: =GETPIVOTDATA("Valeur",TCD!$A$3,"Compagnie","Toto","Secteur","Secteur 1","Produits","Pommes + Prune","Production","Prod1","Année",H$3) -> 3968 | I5: =GETPIVOTDATA("Valeur",TCD!$A$3,"Compagnie","Toto","Secteur","Secteur 1","Produits","Pommes + Prune","Production","Prod1","Année",I$3) -> 4208 | J5: =GETPIVOTDATA("Valeur",TCD!$A$3,"Compagnie","Toto","Secteur","Secteur 1","Produits","Pommes + Prune","Production","Prod1","Année",J$3) -> 4448
A6: Prod1 Secteur2 (Pomme+Poire) | B6: =GETPIVOTDATA("Valeur",TCD!$A$3,"Compagnie","Toto","Secteur","Secteur 2","Produits","Pomme + Poire","Production","Prod1","Année",B$3) -> 0 | C6: =GETPIVOTDATA("Valeur",TCD!$A$3,"Compagnie","Toto","Secteur","Secteur 2","Produits","Pomme + Poire","Production","Prod1","Année",C$3) -> 0 | D6: =GETPIVOTDATA("Valeur",TCD!$A$3,"Compagnie","Toto","Secteur","Secteur 2","Produits","Pomme + Poire","Production","Prod1","Année",D$3) -> 0 | E6: =GETPIVOTDATA("Valeur",TCD!$A$3,"Compagnie","Toto","Secteur","Secteur 2","Produits","Pomme + Poire","Production","Prod1","Année",E$3) -> 0 | F6: =GETPIVOTDATA("Valeur",TCD!$A$3,"Compagnie","Toto","Secteur","Secteur 2","Produits","Pomme + Poire","Production","Prod1","Année",F$3) -> 0 | G6: =GETPIVOTDATA("Valeur",TCD!$A$3,"Compagnie","Toto","Secteur","Secteur 2","Produits","Pomme + Poire","Production","Prod1","Année",G$3) -> 0 | H6: =GETPIVOTDATA("Valeur",TCD!$A$3,"Compagnie","Toto","Secteur","Secteur 2","Produits","Pomme + Poire","Production","Prod1","Année",H$3) -> 0 | I6: =GETPIVOTDATA("Valeur",TCD!$A$3,"Compagnie","Toto","Secteur","Secteur 2","Produits","Pomme + Poire","Production","Prod1","Année",I$3) -> 0 | J6: =GETPIVOTDATA("Valeur",TCD!$A$3,"Compagnie","Toto","Secteur","Secteur 2","Produits","Pomme + Poire","Production","Prod1","Année",J$3) -> 0
A7: Prod1 Secteur3 (Pomme+Prune+Poire) | B7: =GETPIVOTDATA("Valeur",TCD!$A$3,"Compagnie","Toto","Secteur","Secteur 3","Produits","Pomme + Prune + Poire","Production","Prod1","Année",B3) -> 0 | C7: =GETPIVOTDATA("Valeur",TCD!$A$3,"Compagnie","Toto","Secteur","Secteur 3","Produits","Pomme + Prune + Poire","Production","Prod1","Année",C3) -> 0 | D7: =GETPIVOTDATA("Valeur",TCD!$A$3,"Compagnie","Toto","Secteur","Secteur 3","Produits","Pomme + Prune + Poire","Production","Prod1","Année",D3) -> 0 | E7: =GETPIVOTDATA("Valeur",TCD!$A$3,"Compagnie","Toto","Secteur","Secteur 3","Produits","Pomme + Prune + Poire","Production","Prod1","Année",E3) -> 0 | F7: =GETPIVOTDATA("Valeur",TCD!$A$3,"Compagnie","Toto","Secteur","Secteur 3","Produits","Pomme + Prune + Poire","Production","Prod1","Année",F3) -> 0 | G7: =GETPIVOTDATA("Valeur",TCD!$A$3,"Compagnie","Toto","Secteur","Secteur 3","Produits","Pomme + Prune + Poire","Production","Prod1","Année",G3) -> 0 | H7: =GETPIVOTDATA("Valeur",TCD!$A$3,"Compagnie","Toto","Secteur","Secteur 3","Produits","Pomme + Prune + Poire","Production","Prod1","Année",H3) -> 0 | I7: =GETPIVOTDATA("Valeur",TCD!$A$3,"Compagnie","Toto","Secteur","Secteur 3","Produits","Pomme + Prune + Poire","Production","Prod1","Année",I3) -> 0 | J7: =GETPIVOTDATA("Valeur",TCD!$A$3,"Compagnie","Toto","Secteur","Secteur 3","Produits","Pomme + Prune + Poire","Production","Prod1","Année",J3) -> 0
B9: 2017 | C9: 2018 | D9: 2019 | E9: 2020 | F9: 2021 | G9: 2022 | H9: 2023 | I9: 2024 | J9: 2025
A10: Prod2 total | B10: =GETPIVOTDATA("Valeur",TCD!$A$3,"Compagnie","Toto","Production","Prod2","Année",B9) -> 66157 | C10: =GETPIVOTDATA("Valeur",TCD!$A$3,"Compagnie","Toto","Production","Prod2","Année",C9) -> 68221 | D10: =GETPIVOTDATA("Valeur",TCD!$A$3,"Compagnie","Toto","Production","Prod2","Année",D9) -> 70285 | E10: =GETPIVOTDATA("Valeur",TCD!$A$3,"Compagnie","Toto","Production","Prod2","Année",E9) -> 72349 | F10: =GETPIVOTDATA("Valeur",TCD!$A$3,"Compagnie","Toto","Production","Prod2","Année",F9) -> 74413 | G10: =GETPIVOTDATA("Valeur",TCD!$A$3,"Compagnie","Toto","Production","Prod2","Année",G9) -> 81551 | H10: =GETPIVOTDATA("Valeur",TCD!$A$3,"Compagnie","Toto","Production","Prod2","Année",H9) -> 83615 | I10: =GETPIVOTDATA("Valeur",TCD!$A$3,"Compagnie","Toto","Production","Prod2","Année",I9) -> 85679 | J10: =GETPIVOTDATA("Valeur",TCD!$A$3,"Compagnie","Toto","Production","Prod2","Année",J9) -> 87743
A11: Prod2 Secteur1 (Pomme+Prune) | B11: =GETPIVOTDATA("Valeur",TCD!$A$3,"Compagnie","Toto","Secteur","Secteur 1","Produits","Pommes + Prune","Production","Prod2","Année",B3) -> 5278 | C11: =GETPIVOTDATA("Valeur",TCD!$A$3,"Compagnie","Toto","Secteur","Secteur 1","Produits","Pommes + Prune","Production","Prod2","Année",C3) -> 5518 | D11: =GETPIVOTDATA("Valeur",TCD!$A$3,"Compagnie","Toto","Secteur","Secteur 1","Produits","Pommes + Prune","Production","Prod2","Année",D3) -> 5758 | E11: =GETPIVOTDATA("Valeur",TCD!$A$3,"Compagnie","Toto","Secteur","Secteur 1","Produits","Pommes + Prune","Production","Prod2","Année",E3) -> 5998 | F11: =GETPIVOTDATA("Valeur",TCD!$A$3,"Compagnie","Toto","Secteur","Secteur 1","Produits","Pommes + Prune","Production","Prod2","Année",F3) -> 6238 | G11: =GETPIVOTDATA("Valeur",TCD!$A$3,"Compagnie","Toto","Secteur","Secteur 1","Produits","Pommes + Prune","Production","Prod2","Année",G3) -> 7068 | H11: =GETPIVOTDATA("Valeur",TCD!$A$3,"Compagnie","Toto","Secteur","Secteur 1","Produits","Pommes + Prune","Production","Prod2","Année",H3) -> 7308 | I11: =GETPIVOTDATA("Valeur",TCD!$A$3,"Compagnie","Toto","Secteur","Secteur 1","Produits","Pommes + Prune","Production","Prod2","Année",I3) -> 7548 | J11: =GETPIVOTDATA("Valeur",TCD!$A$3,"Compagnie","Toto","Secteur","Secteur 1","Produits","Pommes + Prune","Production","Prod2","Année",J3) -> 7788
A12: Prod Secteur2 (Pomme+Poire) | B12: =GETPIVOTDATA("Valeur",TCD!$A$3,"Compagnie","Toto","Secteur","Secteur 2","Produits","Pomme + Poire","Production","Prod2","Année",B9) -> 0 | C12: =GETPIVOTDATA("Valeur",TCD!$A$3,"Compagnie","Toto","Secteur","Secteur 2","Produits","Pomme + Poire","Production","Prod2","Année",C9) -> 0 | D12: =GETPIVOTDATA("Valeur",TCD!$A$3,"Compagnie","Toto","Secteur","Secteur 2","Produits","Pomme + Poire","Production","Prod2","Année",D9) -> 0 | E12: =GETPIVOTDATA("Valeur",TCD!$A$3,"Compagnie","Toto","Secteur","Secteur 2","Produits","Pomme + Poire","Production","Prod2","Année",E9) -> 0 | F12: =GETPIVOTDATA("Valeur",TCD!$A$3,"Compagnie","Toto","Secteur","Secteur 2","Produits","Pomme + Poire","Production","Prod2","Année",F9) -> 0 | G12: =GETPIVOTDATA("Valeur",TCD!$A$3,"Compagnie","Toto","Secteur","Secteur 2","Produits","Pomme + Poire","Production","Prod2","Année",G9) -> 0 | H12: =GETPIVOTDATA("Valeur",TCD!$A$3,"Compagnie","Toto","Secteur","Secteur 2","Produits","Pomme + Poire","Production","Prod2","Année",H9) -> 0 | I12: =GETPIVOTDATA("Valeur",TCD!$A$3,"Compagnie","Toto","Secteur","Secteur 2","Produits","Pomme + Poire","Production","Prod2","Année",I9) -> 0 | J12: =GETPIVOTDATA("Valeur",TCD!$A$3,"Compagnie","Toto","Secteur","Secteur 2","Produits","Pomme + Poire","Production","Prod2","Année",J9) -> 0
A13: Prod2 Secteur3 (Pomme+Prune+Poire) | B13: =GETPIVOTDATA("Valeur",TCD!$A$3,"Compagnie","Toto","Secteur","Secteur 2","Produits","Pomme + Prune + Poire","Production","Prod2","Année",B9) -> 22022 | C13: =GETPIVOTDATA("Valeur",TCD!$A$3,"Compagnie","Toto","Secteur","Secteur 2","Produits","Pomme + Prune + Poire","Production","Prod2","Année",C9) -> 22550 | D13: =GETPIVOTDATA("Valeur",TCD!$A$3,"Compagnie","Toto","Secteur","Secteur 2","Produits","Pomme + Prune + Poire","Production","Prod2","Année",D9) -> 23078 | E13: =GETPIVOTDATA("Valeur",TCD!$A$3,"Compagnie","Toto","Secteur","Secteur 2","Produits","Pomme + Prune + Poire","Production","Prod2","Année",E9) -> 23606 | F13: =GETPIVOTDATA("Valeur",TCD!$A$3,"Compagnie","Toto","Secteur","Secteur 2","Produits","Pomme + Prune + Poire","Production","Prod2","Année",F9) -> 24134 | G13: =GETPIVOTDATA("Valeur",TCD!$A$3,"Compagnie","Toto","Secteur","Secteur 2","Produits","Pomme + Prune + Poire","Production","Prod2","Année",G9) -> 25960 | H13: =GETPIVOTDATA("Valeur",TCD!$A$3,"Compagnie","Toto","Secteur","Secteur 2","Produits","Pomme + Prune + Poire","Production","Prod2","Année",H9) -> 26488 | I13: =GETPIVOTDATA("Valeur",TCD!$A$3,"Compagnie","Toto","Secteur","Secteur 2","Produits","Pomme + Prune + Poire","Production","Prod2","Année",I9) -> 27016 | J13: =GETPIVOTDATA("Valeur",TCD!$A$3,"Compagnie","Toto","Secteur","Secteur 2","Produits","Pomme + Prune + Poire","Production","Prod2","Année",J9) -> 27544
A17: Tutu
B19: 2017 | C19: 2018 | D19: 2019 | E19: 2020 | F19: 2021 | G19: 2022 | H19: 2023 | I19: 2024 | J19: 2025
A20: Prod1 total
A21: Prod1 Secteur1 (Pomme+Prune)
A22: Prod1 Secteur2 (Pomme+Poire)
A23: Prod1 Secteur3 (Pomme+Prune+Poire)
B25: 2017 | C25: 2018 | D25: 2019 | E25: 2020 | F25: 2021 | G25: 2022 | H25: 2023 | I25: 2024 | J25: 2025
A26: Prod2 total
A27: Prod2 Secteur1 (Pomme+Prune)
A28: Prod Secteur2 (Pomme+Poire)
A29: Prod2 Secteur3 (Pomme+Prune+Poire)
A33: Tyty
B35: 2017 | C35: 2018 | D35: 2019 | E35: 2020 | F35: 2021 | G35: 2022 | H35: 2023 | I35: 2024 | J35: 2025
A36: Prod1 total
A37: Prod1 Secteur1 (Pomme+Prune)
A38: Prod1 Secteur2 (Pomme+Poire)
A39: Prod1 Secteur3 (Pomme+Prune+Poire)
B41: 2017 | C41: 2018 | D41: 2019 | E41: 2020 | F41: 2021 | G41: 2022 | H41: 2023 | I41: 2024 | J41: 2025
A42: Prod2 total
A43: Prod2 Secteur1 (Pomme+Prune)
A44: Prod Secteur2 (Pomme+Poire)
A45: Prod2 Secteur3 (Pomme+Prune+Poire)

Sheet TCD
A3: Σ Valeur | E3: Année
A4: Compagnie | B4: Production | C4: Secteur | D4: Produits | E4: 2017 | F4: 2018 | G4: 2019 | H4: 2020 | I4: 2021 | J4: 2022 | K4: 2023 | L4: 2024 | M4: 2025 | N4: Total général
A5: Toto | B5: Prod1 | E5: 42507 | F5: 44571 | G5: 46635 | H5: 48699 | I5: 50763 | J5: 52827 | K5: 54891 | L5: 56955 | M5: 59019 | N5: 456867
C6: Secteur 1 | D6: Pommes + Prune | E6: 2528 | F6: 2768 | G6: 3008 | H6: 3248 | I6: 3488 | J6: 3728 | K6: 3968 | L6: 4208 | M6: 4448 | N6: 31392
D7: Pomme + Poire | E7: 3157 | F7: 3493 | G7: 3829 | H7: 4165 | I7: 4501 | J7: 4837 | K7: 5173 | L7: 5509 | M7: 5845 | N7: 40509
D8: Pomme + Prune + Poire | E8: 4878 | F8: 5310 | G8: 5742 | H8: 6174 | I8: 6606 | J8: 7038 | K8: 7470 | L8: 7902 | M8: 8334 | N8: 59454
C9: Total Secteur 1 | E9: 10563 | F9: 11571 | G9: 12579 | H9: 13587 | I9: 14595 | J9: 15603 | K9: 16611 | L9: 17619 | M9: 18627 | N9: 131355
C10: Secteur 2 | D10: Pommes + Prune | E10: 15972 | F10: 16500 | G10: 17028 | H10: 17556 | I10: 18084 | J10: 18612 | K10: 19140 | L10: 19668 | M10: 20196 | N10: 162756
D11: Pomme + Poire | E11: 0 | F11: 0 | G11: 0 | H11: 0 | I11: 0 | J11: 0 | K11: 0 | L11: 0 | M11: 0 | N11: 0
D12: Pomme + Prune + Poire | E12: 15972 | F12: 16500 | G12: 17028 | H12: 17556 | I12: 18084 | J12: 18612 | K12: 19140 | L12: 19668 | M12: 20196 | N12: 162756
C13: Total Secteur 2 | E13: 31944 | F13: 33000 | G13: 34056 | H13: 35112 | I13: 36168 | J13: 37224 | K13: 38280 | L13: 39336 | M13: 40392 | N13: 325512
C14: Secteur 3 | D14: Pommes + Prune | E14: 0 | F14: 0 | G14: 0 | H14: 0 | I14: 0 | J14: 0 | K14: 0 | L14: 0 | M14: 0 | N14: 0
D15: Pomme + Poire | E15: 0 | F15: 0 | G15: 0 | H15: 0 | I15: 0 | J15: 0 | K15: 0 | L15: 0 | M15: 0 | N15: 0
D16: Pomme + Prune + Poire | E16: 0 | F16: 0 | G16: 0 | H16: 0 | I16: 0 | J16: 0 | K16: 0 | L16: 0 | M16: 0 | N16: 0
C17: Total Secteur 3 | E17: 0 | F17: 0 | G17: 0 | H17: 0 | I17: 0 | J17: 0 | K17: 0 | L17: 0 | M17: 0 | N17: 0
B18: Prod2 | E18: 66157 | F18: 68221 | G18: 70285 | H18: 72349 | I18: 74413 | J18: 81551 | K18: 83615 | L18: 85679 | M18: 87743 | N18: 690013
C19: Secteur 1 | D19: Pommes + Prune | E19: 5278 | F19: 5518 | G19: 5758 | H19: 5998 | I19: 6238 | J19: 7068 | K19: 7308 | L19: 7548 | M19: 7788 | N19: 58502
D20: Pomme + Poire | E20: 7007 | F20: 7343 | G20: 7679 | H20: 8015 | I20: 8351 | J20: 9513 | K20: 9849 | L20: 10185 | M20: 10521 | N20: 78463
D21: Pomme + Prune + Poire | E21: 9828 | F21: 10260 | G21: 10692 | H21: 11124 | I21: 11556 | J21: 13050 | K21: 13482 | L21: 13914 | M21: 14346 | N21: 108252
C22: Total Secteur 1 | E22: 22113 | F22: 23121 | G22: 24129 | H22: 25137 | I22: 26145 | J22: 29631 | K22: 30639 | L22: 31647 | M22: 32655 | N22: 245217
C23: Secteur 2 | D23: Pommes + Prune | E23: 22022 | F23: 22550 | G23: 23078 | H23: 23606 | I23: 24134 | J23: 25960 | K23: 26488 | L23: 27016 | M23: 27544 | N23: 222398
D24: Pomme + Poire | E24: 0 | F24: 0 | G24: 0 | H24: 0 | I24: 0 | J24: 0 | K24: 0 | L24: 0 | M24: 0 | N24: 0
D25: Pomme + Prune + Poire | E25: 22022 | F25: 22550 | G25: 23078 | H25: 23606 | I25: 24134 | J25: 25960 | K25: 26488 | L25: 27016 | M25: 27544 | N25: 222398
C26: Total Secteur 2 | E26: 44044 | F26: 45100 | G26: 46156 | H26: 47212 | I26: 48268 | J26: 51920 | K26: 52976 | L26: 54032 | M26: 55088 | N26: 444796
C27: Secteur 3 | D27: Pommes + Prune | E27: 0 | F27: 0 | G27: 0 | H27: 0 | I27: 0 | J27: 0 | K27: 0 | L27: 0 | M27: 0 | N27: 0
D28: Pomme + Poire | E28: 0 | F28: 0 | G28: 0 | H28: 0 | I28: 0 | J28: 0 | K28: 0 | L28: 0 | M28: 0 | N28: 0
D29: Pomme + Prune + Poire | E29: 0 | F29: 0 | G29: 0 | H29: 0 | I29: 0 | J29: 0 | K29: 0 | L29: 0 | M29: 0 | N29: 0
C30: Total Secteur 3 | E30: 0 | F30: 0 | G30: 0 | H30: 0 | I30: 0 | J30: 0 | K30: 0 | L30: 0 | M30: 0 | N30: 0
A31: Total Toto | E31: 108664 | F31: 112792 | G31: 116920 | H31: 121048 | I31: 125176 | J31: 134378 | K31: 138506 | L31: 142634 | M31: 146762 | N31: 1146880
A32: Tutu | B32: Prod1 | E32: 245127 | F32: 248727 | G32: 252327 | H32: 255927 | I32: 259527 | J32: 263127 | K32: 266727 | L32: 270327 | M32: 273927 | N32: 2335743
C33: Secteur 1 | D33: Pommes + Prune | E33: 6267 | F33: 6411 | G33: 6555 | H33: 6699 | I33: 6843 | J33: 6987 | K33: 7131 | L33: 7275 | M33: 7419 | N33: 61587
D34: Pomme + Poire | E34: 6267 | F34: 6411 | G34: 6555 | H34: 6699 | I34: 6843 | J34: 6987 | K34: 7131 | L34: 7275 | M34: 7419 | N34: 61587
D35: Pomme + Prune + Poire | E35: 6267 | F35: 6411 | G35: 6555 | H35: 6699 | I35: 6843 | J35: 6987 | K35: 7131 | L35: 7275 | M35: 7419 | N35: 61587
C36: Total Secteur 1 | E36: 18801 | F36: 19233 | G36: 19665 | H36: 20097 | I36: 20529 | J36: 20961 | K36: 21393 | L36: 21825 | M36: 22257 | N36: 184761
C37: Secteur 2 | D37: Pommes + Prune | E37: 20716 | F37: 21100 | G37: 21484 | H37: 21868 | I37: 22252 | J37: 22636 | K37: 23020 | L37: 23404 | M37: 23788 | N37: 200268
D38: Pomme + Poire | E38: 40075 | F38: 40747 | G38: 41419 | H38: 42091 | I38: 42763 | J38: 43435 | K38: 44107 | L38: 44779 | M38: 45451 | N38: 384867
D39: Pomme + Prune + Poire | E39: 40075 | F39: 40747 | G39: 41419 | H39: 42091 | I39: 42763 | J39: 43435 | K39: 44107 | L39: 44779 | M39: 45451 | N39: 384867
C40: Total Secteur 2 | E40: 100866 | F40: 102594 | G40: 104322 | H40: 106050 | I40: 107778 | J40: 109506 | K40: 111234 | L40: 112962 | M40: 114690 | N40: 970002
C41: Secteur 3 | D41: Pommes + Prune | E41: 4819 | F41: 4867 | G41: 4915 | H41: 4963 | I41: 5011 | J41: 5059 | K41: 5107 | L41: 5155 | M41: 5203 | N41: 45099
D42: Pomme + Poire | E42: 57911 | F42: 58583 | G42: 59255 | H42: 59927 | I42: 60599 | J42: 61271 | K42: 61943 | L42: 62615 | M42: 63287 | N42: 545391
...

Sheet BDD
A1: Compagnie | B1: Secteur | C1: Produits | D1: Prod1 2017 | E1: Prod1 2018 | F1: Prod1 2019 | G1: Prod1 2020 | H1: Prod1 2021 | I1: Prod1 2022 | J1: Prod1 2023 | K1: Prod1 2024 | L1: Prod1 2025 | M1: Prod2 2017 | N1: Prod2 2018 | O1: Prod2 2019 | P1: Prod2 2020 | Q1: Prod2 2021 | R1: Prod2 2022 | S1: Prod2 2023 | T1: Prod2 2024 | U1: Prod2 2025
A2: Toto | B2: Secteur 1 | C2: Pomme | D2: =178 -> 178 | E2: =D2+48 -> 226 | F2: =E2+48 -> 274 | G2: =F2+48 -> 322 | H2: =G2+48 -> 370 | I2: =H2+48 -> 418 | J2: =I2+48 -> 466 | K2: =J2+48 -> 514 | L2: =K2+48 -> 562 | M2: =H2+358 -> 728 | N2: =I2+358 -> 776 | O2: =J2+358 -> 824 | P2: =K2+358 -> 872 | Q2: =L2+358 -> 920 | R2: =M2+358 -> 1086 | S2: =N2+358 -> 1134 | T2: =O2+358 -> 1182 | U2: =P2+358 -> 1230
A3: Toto | B3: Secteur 1 | C3: Pomme | D3: =D2+91 -> 269 | E3: =D3+48 -> 317 | F3: =E3+48 -> 365 | G3: =F3+48 -> 413 | H3: =G3+48 -> 461 | I3: =H3+48 -> 509 | J3: =I3+48 -> 557 | K3: =J3+48 -> 605 | L3: =K3+48 -> 653 | M3: =H3+358 -> 819 | N3: =I3+358 -> 867 | O3: =J3+358 -> 915 | P3: =K3+358 -> 963 | Q3: =L3+358 -> 1011 | R3: =M3+358 -> 1177 | S3: =N3+358 -> 1225 | T3: =O3+358 -> 1273 | U3: =P3+358 -> 1321
A4: Toto | B4: Secteur 1 | C4: Pomme | D4: =D3+91 -> 360 | E4: =D4+48 -> 408 | F4: =E4+48 -> 456 | G4: =F4+48 -> 504 | H4: =G4+48 -> 552 | I4: =H4+48 -> 600 | J4: =I4+48 -> 648 | K4: =J4+48 -> 696 | L4: =K4+48 -> 744 | M4: =H4+358 -> 910 | N4: =I4+358 -> 958 | O4: =J4+358 -> 1006 | P4: =K4+358 -> 1054 | Q4: =L4+358 -> 1102 | R4: =M4+358 -> 1268 | S4: =N4+358 -> 1316 | T4: =O4+358 -> 1364 | U4: =P4+358 -> 1412
A5: Toto | B5: Secteur 1 | C5: Poire | D5: =D4+91 -> 451 | E5: =D5+48 -> 499 | F5: =E5+48 -> 547 | G5: =F5+48 -> 595 | H5: =G5+48 -> 643 | I5: =H5+48 -> 691 | J5: =I5+48 -> 739 | K5: =J5+48 -> 787 | L5: =K5+48 -> 835 | M5: =H5+358 -> 1001 | N5: =I5+358 -> 1049 | O5: =J5+358 -> 1097 | P5: =K5+358 -> 1145 | Q5: =L5+358 -> 1193 | R5: =M5+358 -> 1359 | S5: =N5+358 -> 1407 | T5: =O5+358 -> 1455 | U5: =P5+358 -> 1503
A6: Toto | B6: Secteur 1 | C6: Poire | D6: =D5+91 -> 542 | E6: =D6+48 -> 590 | F6: =E6+48 -> 638 | G6: =F6+48 -> 686 | H6: =G6+48 -> 734 | I6: =H6+48 -> 782 | J6: =I6+48 -> 830 | K6: =J6+48 -> 878 | L6: =K6+48 -> 926 | M6: =H6+358 -> 1092 | N6: =I6+358 -> 1140 | O6: =J6+358 -> 1188 | P6: =K6+358 -> 1236 | Q6: =L6+358 -> 1284 | R6: =M6+358 -> 1450 | S6: =N6+358 -> 1498 | T6: =O6+358 -> 1546 | U6: =P6+358 -> 1594
A7: Toto | B7: Secteur 1 | C7: Poire | D7: =D6+91 -> 633 | E7: =D7+48 -> 681 | F7: =E7+48 -> 729 | G7: =F7+48 -> 777 | H7: =G7+48 -> 825 | I7: =H7+48 -> 873 | J7: =I7+48 -> 921 | K7: =J7+48 -> 969 | L7: =K7+48 -> 1017 | M7: =H7+358 -> 1183 | N7: =I7+358 -> 1231 | O7: =J7+358 -> 1279 | P7: =K7+358 -> 1327 | Q7: =L7+358 -> 1375 | R7: =M7+358 -> 1541 | S7: =N7+358 -> 1589 | T7: =O7+358 -> 1637 | U7: =P7+358 -> 1685
A8: Toto | B8: Secteur 1 | C8: Poire | D8: =D7+91 -> 724 | E8: =D8+48 -> 772 | F8: =E8+48 -> 820 | G8: =F8+48 -> 868 | H8: =G8+48 -> 916 | I8: =H8+48 -> 964 | J8: =I8+48 -> 1012 | K8: =J8+48 -> 1060 | L8: =K8+48 -> 1108 | M8: =H8+358 -> 1274 | N8: =I8+358 -> 1322 | O8: =J8+358 -> 1370 | P8: =K8+358 -> 1418 | Q8: =L8+358 -> 1466 | R8: =M8+358 -> 1632 | S8: =N8+358 -> 1680 | T8: =O8+358 -> 1728 | U8: =P8+358 -> 1776
A9: Toto | B9: Secteur 1 | C9: Prune | D9: =D8+91 -> 815 | E9: =D9+48 -> 863 | F9: =E9+48 -> 911 | G9: =F9+48 -> 959 | H9: =G9+48 -> 1007 | I9: =H9+48 -> 1055 | J9: =I9+48 -> 1103 | K9: =J9+48 -> 1151 | L9: =K9+48 -> 1199 | M9: =H9+358 -> 1365 | N9: =I9+358 -> 1413 | O9: =J9+358 -> 1461 | P9: =K9+358 -> 1509 | Q9: =L9+358 -> 1557 | R9: =M9+358 -> 1723 | S9: =N9+358 -> 1771 | T9: =O9+358 -> 1819 | U9: =P9+358 -> 1867
A10: Toto | B10: Secteur 1 | C10: Prune | D10: =D9+91 -> 906 | E10: =D10+48 -> 954 | F10: =E10+48 -> 1002 | G10: =F10+48 -> 1050 | H10: =G10+48 -> 1098 | I10: =H10+48 -> 1146 | J10: =I10+48 -> 1194 | K10: =J10+48 -> 1242 | L10: =K10+48 -> 1290 | M10: =H10+358 -> 1456 | N10: =I10+358 -> 1504 | O10: =J10+358 -> 1552 | P10: =K10+358 -> 1600 | Q10: =L10+358 -> 1648 | R10: =M10+358 -> 1814 | S10: =N10+358 -> 1862 | T10: =O10+358 -> 1910 | U10: =P10+358 -> 1958
A11: Toto | B11: Secteur 2 | C11: Prune | D11: =D10+91 -> 997 | E11: =D11+48 -> 1045 | F11: =E11+48 -> 1093 | G11: =F11+48 -> 1141 | H11: =G11+48 -> 1189 | I11: =H11+48 -> 1237 | J11: =I11+48 -> 1285 | K11: =J11+48 -> 1333 | L11: =K11+48 -> 1381 | M11: =H11+358 -> 1547 | N11: =I11+358 -> 1595 | O11: =J11+358 -> 1643 | P11: =K11+358 -> 1691 | Q11: =L11+358 -> 1739 | R11: =M11+358 -> 1905 | S11: =N11+358 -> 1953 | T11: =O11+358 -> 2001 | U11: =P11+358 -> 2049
A12: Toto | B12: Secteur 2 | C12: Prune | D12: =D11+91 -> 1088 | E12: =D12+48 -> 1136 | F12: =E12+48 -> 1184 | G12: =F12+48 -> 1232 | H12: =G12+48 -> 1280 | I12: =H12+48 -> 1328 | J12: =I12+48 -> 1376 | K12: =J12+48 -> 1424 | L12: =K12+48 -> 1472 | M12: =H12+358 -> 1638 | N12: =I12+358 -> 1686 | O12: =J12+358 -> 1734 | P12: =K12+358 -> 1782 | Q12: =L12+358 -> 1830 | R12: =M12+358 -> 1996 | S12: =N12+358 -> 2044 | T12: =O12+358 -> 2092 | U12: =P12+358 -> 2140
A13: Toto | B13: Secteur 2 | C13: Prune | D13: =D12+91 -> 1179 | E13: =D13+48 -> 1227 | F13: =E13+48 -> 1275 | G13: =F13+48 -> 1323 | H13: =G13+48 -> 1371 | I13: =H13+48 -> 1419 | J13: =I13+48 -> 1467 | K13: =J13+48 -> 1515 | L13: =K13+48 -> 1563 | M13: =H13+358 -> 1729 | N13: =I13+358 -> 1777 | O13: =J13+358 -> 1825 | P13: =K13+358 -> 1873 | Q13: =L13+358 -> 1921 | R13: =M13+358 -> 2087 | S13: =N13+358 -> 2135 | T13: =O13+358 -> 2183 | U13: =P13+358 -> 2231
A14: Toto | B14: Secteur 2 | C14: Prune | D14: =D13+91 -> 1270 | E14: =D14+48 -> 1318 | F14: =E14+48 -> 1366 | G14: =F14+48 -> 1414 | H14: =G14+48 -> 1462 | I14: =H14+48 -> 1510 | J14: =I14+48 -> 1558 | K14: =J14+48 -> 1606 | L14: =K14+48 -> 1654 | M14: =H14+358 -> 1820 | N14: =I14+358 -> 1868 | O14: =J14+358 -> 1916 | P14: =K14+358 -> 1964 | Q14: =L14+358 -> 2012 | R14: =M14+358 -> 2178 | S14: =N14+358 -> 2226 | T14: =O14+358 -> 2274 | U14: =P14+358 -> 2322
... A75: Tyty | B75: Secteur 2 | C75: Poire | D75: =D74+91 -> 6821 | E75: =D75+48 -> 6869 | F75: =E75+48 -> 6917 | G75: =F75+48 -> 6965 | H75: =G75+48 -> 7013 | I75: =H75+48 -> 7061 | J75: =I75+48 -> 7109 | K75: =J75+48 -> 7157 | L75: =K75+48 -> 7205 | M75: =H75+358 -> 7371 | N75: =I75+358 -> 7419 | O75: =J75+358 -> 7467 | P75: =K75+358 -> 7515 | Q75: =L75+358 -> 7563 | R75: =M75+358 -> 7729 | S75: =N75+358 -> 7777 | T75: =O75+358 -> 7825 | U75: =P75+358 -> 7873
