Workbook
Name list: [1]Feuil1!$S$2:$S$3
Name liste: [2]N°DAI!#REF!

Sheet TCD 2013 - 2014 
A3: Sum of Montant | C3: Type
A4: Année | B4: Mois | C4: elec | D4: meca | E4: mu&ac | F4: #N/A | G4: Grand Total
A5: 2013 | B5: 004 | D5: 9222 | G5: 9222
B6: 005 | C6: 24962.6 | D6: 250663.37 | E6: 24962.6 | G6: 300588.57
B7: 006 | D7: 65878.61 | G7: 65878.61
B8: 007 | C8: 2713 | D8: 54109 | G8: 56822
B9: 008 | D9: 78043.93 | G9: 78043.93
B10: 009 | D10: 2811 | G10: 2811
B11: 010 | D11: 105581.68 | E11: 7398 | G11: 112979.68
B12: 011 | C12: 26 | D12: 159435.78 | E12: 99748 | G12: 259209.78
B13: 012 | C13: 8870 | D13: -12567.1 | F13: 322.25 | G13: -3374.85
A14: 2013 Total | C14: 36571.6 | D14: 713178.27 | E14: 132108.6 | F14: 322.25 | G14: 882180.72
A15: 2014 | B15: 001 | C15: 86749 | D15: 84398.98 | E15: 181213 | F15: 19930 | G15: 372290.98
B16: 002 | C16: 136273.2 | D16: 46387.14 | E16: 39595 | F16: 33691.98 | G16: 255947.32
B17: 003 | C17: 5189.05 | D17: 6177.77 | E17: 6800 | F17: 8842.9 | G17: 27009.72
B18: 004 | C18: 72870 | D18: 58645.29 | E18: 45638.1 | F18: 192151.46 | G18: 369304.85
B19: 005 | C19: 6985 | D19: -28647 | E19: 57059.75 | F19: 4583.87 | G19: 39981.62
A20: 2014 Total | C20: 308066.25 | D20: 166962.18 | E20: 330305.85 | F20: 259200.21 | G20: 1064534.5
A21: Grand Total | C21: 344637.85 | D21: 880140.45 | E21: 462414.45 | F21: 259522.46 | G21: 1946715.2

Sheet Consolidation
A2: Year | B2: Month | C2: elec | D2: meca | E2: mu&ac | F2: Total in K€ | G2: Real Cumulative | H2: Budget in K€ | I2: Budget Cumulative
A3: 2013 | B3: 001 | C3: =IFERROR(GETPIVOTDATA("Montant",'TCD 2013 - 2014 '!$A$3,"Mois",$B3,"Année",$A$3,"Type",C$2)/1000,0) -> 0 | D3: =IFERROR(GETPIVOTDATA("Montant",'TCD 2013 - 2014 '!$A$3,"Mois",$B3,"Année",$A$3,"Type",D$2)/1000,0) -> 0 | E3: =IFERROR(GETPIVOTDATA("Montant",'TCD 2013 - 2014 '!$A$3,"Mois",$B3,"Année",$A$3,"Type",E$2)/1000,0) -> 0 | F3: =SUM(C3:E3) -> 0 | G3: =F3 -> 0 | H3: 15.02 | I3: =H3 -> 15.02
B4: 002 | C4: =IFERROR(GETPIVOTDATA("Montant",'TCD 2013 - 2014 '!$A$3,"Mois",$B4,"Année",$A$3,"Type",C$2)/1000,0) -> 0 | D4: =IFERROR(GETPIVOTDATA("Montant",'TCD 2013 - 2014 '!$A$3,"Mois",$B4,"Année",$A$3,"Type",D$2)/1000,0) -> 0 | E4: =IFERROR(GETPIVOTDATA("Montant",'TCD 2013 - 2014 '!$A$3,"Mois",$B4,"Année",$A$3,"Type",E$2)/1000,0) -> 0 | F4: =SUM(C4:E4) -> 0 | G4: =G3+F4 -> 0 | H4: 15.02 | I4: =I3+H4 -> 30.04
B5: 003 | C5: =IFERROR(GETPIVOTDATA("Montant",'TCD 2013 - 2014 '!$A$3,"Mois",$B5,"Année",$A$3,"Type",C$2)/1000,0) -> 0 | D5: =IFERROR(GETPIVOTDATA("Montant",'TCD 2013 - 2014 '!$A$3,"Mois",$B5,"Année",$A$3,"Type",D$2)/1000,0) -> 0 | E5: =IFERROR(GETPIVOTDATA("Montant",'TCD 2013 - 2014 '!$A$3,"Mois",$B5,"Année",$A$3,"Type",E$2)/1000,0) -> 0 | F5: =SUM(C5:E5) -> 0 | G5: =G4+F5 -> 0 | H5: 15.02 | I5: =I4+H5 -> 45.06
B6: 004 | C6: =IFERROR(GETPIVOTDATA("Montant",'TCD 2013 - 2014 '!$A$3,"Mois",$B6,"Année",$A$3,"Type",C$2)/1000,0) -> 0 | D6: =IFERROR(GETPIVOTDATA("Montant",'TCD 2013 - 2014 '!$A$3,"Mois",$B6,"Année",$A$3,"Type",D$2)/1000,0) -> 9.222 | E6: =IFERROR(GETPIVOTDATA("Montant",'TCD 2013 - 2014 '!$A$3,"Mois",$B6,"Année",$A$3,"Type",E$2)/1000,0) -> 0 | F6: =SUM(C6:E6) -> 9.222 | G6: =G5+F6 -> 9.222 | H6: 15.02 | I6: =I5+H6 -> 60.08
B7: 005 | C7: =IFERROR(GETPIVOTDATA("Montant",'TCD 2013 - 2014 '!$A$3,"Mois",$B7,"Année",$A$3,"Type",C$2)/1000,0) -> 24.9626 | D7: =IFERROR(GETPIVOTDATA("Montant",'TCD 2013 - 2014 '!$A$3,"Mois",$B7,"Année",$A$3,"Type",D$2)/1000,0) -> 250.66337 | E7: =IFERROR(GETPIVOTDATA("Montant",'TCD 2013 - 2014 '!$A$3,"Mois",$B7,"Année",$A$3,"Type",E$2)/1000,0) -> 24.9626 | F7: =SUM(C7:E7) -> 300.58857 | G7: =G6+F7 -> 309.81057 | H7: 15.02 | I7: =I6+H7 -> 75.1
B8: 006 | C8: =IFERROR(GETPIVOTDATA("Montant",'TCD 2013 - 2014 '!$A$3,"Mois",$B8,"Année",$A$3,"Type",C$2)/1000,0) -> 0 | D8: =IFERROR(GETPIVOTDATA("Montant",'TCD 2013 - 2014 '!$A$3,"Mois",$B8,"Année",$A$3,"Type",D$2)/1000,0) -> 65.87861 | E8: =IFERROR(GETPIVOTDATA("Montant",'TCD 2013 - 2014 '!$A$3,"Mois",$B8,"Année",$A$3,"Type",E$2)/1000,0) -> 0 | F8: =SUM(C8:E8) -> 65.87861 | G8: =G7+F8 -> 375.68918 | H8: 15.02 | I8: =I7+H8 -> 90.12
B9: 007 | C9: =IFERROR(GETPIVOTDATA("Montant",'TCD 2013 - 2014 '!$A$3,"Mois",$B9,"Année",$A$3,"Type",C$2)/1000,0) -> 2.713 | D9: =IFERROR(GETPIVOTDATA("Montant",'TCD 2013 - 2014 '!$A$3,"Mois",$B9,"Année",$A$3,"Type",D$2)/1000,0) -> 54.109 | E9: =IFERROR(GETPIVOTDATA("Montant",'TCD 2013 - 2014 '!$A$3,"Mois",$B9,"Année",$A$3,"Type",E$2)/1000,0) -> 0 | F9: =SUM(C9:E9) -> 56.822 | G9: =G8+F9 -> 432.51118 | H9: 15.02 | I9: =I8+H9 -> 105.14
B10: 008 | C10: =IFERROR(GETPIVOTDATA("Montant",'TCD 2013 - 2014 '!$A$3,"Mois",$B10,"Année",$A$3,"Type",C$2)/1000,0) -> 0 | D10: =IFERROR(GETPIVOTDATA("Montant",'TCD 2013 - 2014 '!$A$3,"Mois",$B10,"Année",$A$3,"Type",D$2)/1000,0) -> 78.04393 | E10: =IFERROR(GETPIVOTDATA("Montant",'TCD 2013 - 2014 '!$A$3,"Mois",$B10,"Année",$A$3,"Type",E$2)/1000,0) -> 0 | F10: =SUM(C10:E10) -> 78.04393 | G10: =G9+F10 -> 510.55511 | H10: 15.02 | I10: =I9+H10 -> 120.16
B11: 009 | C11: =IFERROR(GETPIVOTDATA("Montant",'TCD 2013 - 2014 '!$A$3,"Mois",$B11,"Année",$A$3,"Type",C$2)/1000,0) -> 0 | D11: =IFERROR(GETPIVOTDATA("Montant",'TCD 2013 - 2014 '!$A$3,"Mois",$B11,"Année",$A$3,"Type",D$2)/1000,0) -> 2.811 | E11: =IFERROR(GETPIVOTDATA("Montant",'TCD 2013 - 2014 '!$A$3,"Mois",$B11,"Année",$A$3,"Type",E$2)/1000,0) -> 0 | F11: =SUM(C11:E11) -> 2.811 | G11: =G10+F11 -> 513.36611 | H11: 15.02 | I11: =I10+H11 -> 135.18
B12: 010 | C12: =IFERROR(GETPIVOTDATA("Montant",'TCD 2013 - 2014 '!$A$3,"Mois",$B12,"Année",$A$3,"Type",C$2)/1000,0) -> 0 | D12: =IFERROR(GETPIVOTDATA("Montant",'TCD 2013 - 2014 '!$A$3,"Mois",$B12,"Année",$A$3,"Type",D$2)/1000,0) -> 105.58168 | E12: =IFERROR(GETPIVOTDATA("Montant",'TCD 2013 - 2014 '!$A$3,"Mois",$B12,"Année",$A$3,"Type",E$2)/1000,0) -> 7.398 | F12: =SUM(C12:E12) -> 112.97968 | G12: =G11+F12 -> 626.34579 | H12: 15.02 | I12: =I11+H12 -> 150.2
B13: 011 | C13: =IFERROR(GETPIVOTDATA("Montant",'TCD 2013 - 2014 '!$A$3,"Mois",$B13,"Année",$A$3,"Type",C$2)/1000,0) -> 0.026 | D13: =IFERROR(GETPIVOTDATA("Montant",'TCD 2013 - 2014 '!$A$3,"Mois",$B13,"Année",$A$3,"Type",D$2)/1000,0) -> 159.43578 | E13: =IFERROR(GETPIVOTDATA("Montant",'TCD 2013 - 2014 '!$A$3,"Mois",$B13,"Année",$A$3,"Type",E$2)/1000,0) -> 99.748 | F13: =SUM(C13:E13) -> 259.20978 | G13: =G12+F13 -> 885.55557 | H13: 15.02 | I13: =I12+H13 -> 165.22
B14: 012 | C14: =IFERROR(GETPIVOTDATA("Montant",'TCD 2013 - 2014 '!$A$3,"Mois",$B14,"Année",$A$3,"Type",C$2)/1000,0) -> 8.87 | D14: =IFERROR(GETPIVOTDATA("Montant",'TCD 2013 - 2014 '!$A$3,"Mois",$B14,"Année",$A$3,"Type",D$2)/1000,0) -> -12.5671 | E14: =IFERROR(GETPIVOTDATA("Montant",'TCD 2013 - 2014 '!$A$3,"Mois",$B14,"Année",$A$3,"Type",E$2)/1000,0) -> 0 | F14: =SUM(C14:E14) -> -3.6971 | G14: =G13+F14 -> 881.85847 | H14: 15.02 | I14: =I13+H14 -> 180.24
A15: 2014 | B15: 001 | C15: =IFERROR(GETPIVOTDATA("Montant",'TCD 2013 - 2014 '!$A$3,"Mois",$B15,"Année",$A$15,"Type",C$2)/1000,0) -> 86.749 | D15: =IFERROR(GETPIVOTDATA("Montant",'TCD 2013 - 2014 '!$A$3,"Mois",$B15,"Année",$A$15,"Type",D$2)/1000,0) -> 84.39898 | E15: =IFERROR(GETPIVOTDATA("Montant",'TCD 2013 - 2014 '!$A$3,"Mois",$B15,"Année",$A$15,"Type",E$2)/1000,0) -> 181.213 | F15: =SUM(C15:E15) -> 352.36098 | G15: =G14+F15 -> 1234.2195 | H15: 17.17 | I15: =I14+H15 -> 197.41
B16: 002 | C16: =IFERROR(GETPIVOTDATA("Montant",'TCD 2013 - 2014 '!$A$3,"Mois",$B16,"Année",$A$15,"Type",C$2)/1000,0) -> 136.2732 | D16: =IFERROR(GETPIVOTDATA("Montant",'TCD 2013 - 2014 '!$A$3,"Mois",$B16,"Année",$A$15,"Type",D$2)/1000,0) -> 46.38714 | E16: =IFERROR(GETPIVOTDATA("Montant",'TCD 2013 - 2014 '!$A$3,"Mois",$B16,"Année",$A$15,"Type",E$2)/1000,0) -> 39.595 | F16: =SUM(C16:E16) -> 222.25534 | G16: =G15+F16 -> 1456.4748 | H16: 17.17 | I16: =I15+H16 -> 214.58
B17: 003 | C17: =IFERROR(GETPIVOTDATA("Montant",'TCD 2013 - 2014 '!$A$3,"Mois",$B17,"Année",$A$15,"Type",C$2)/1000,0) -> 5.18905 | D17: =IFERROR(GETPIVOTDATA("Montant",'TCD 2013 - 2014 '!$A$3,"Mois",$B17,"Année",$A$15,"Type",D$2)/1000,0) -> 6.17777 | E17: =IFERROR(GETPIVOTDATA("Montant",'TCD 2013 - 2014 '!$A$3,"Mois",$B17,"Année",$A$15,"Type",E$2)/1000,0) -> 6.8 | F17: =SUM(C17:E17) -> 18.16682 | G17: =G16+F17 -> 1474.6416 | H17: 17.17 | I17: =I16+H17 -> 231.75
B18: 004 | C18: =IFERROR(GETPIVOTDATA("Montant",'TCD 2013 - 2014 '!$A$3,"Mois",$B18,"Année",$A$15,"Type",C$2)/1000,0) -> 72.87 | D18: =IFERROR(GETPIVOTDATA("Montant",'TCD 2013 - 2014 '!$A$3,"Mois",$B18,"Année",$A$15,"Type",D$2)/1000,0) -> 58.64529 | E18: =IFERROR(GETPIVOTDATA("Montant",'TCD 2013 - 2014 '!$A$3,"Mois",$B18,"Année",$A$15,"Type",E$2)/1000,0) -> 45.6381 | F18: =SUM(C18:E18) -> 177.15339 | G18: =G17+F18 -> 1651.795 | H18: 17.17 | I18: =I17+H18 -> 248.92
B19: 005 | C19: =IFERROR(GETPIVOTDATA("Montant",'TCD 2013 - 2014 '!$A$3,"Mois",$B19,"Année",$A$15,"Type",C$2)/1000,0) -> 6.985 | D19: =IFERROR(GETPIVOTDATA("Montant",'TCD 2013 - 2014 '!$A$3,"Mois",$B19,"Année",$A$15,"Type",D$2)/1000,0) -> -28.647 | E19: =IFERROR(GETPIVOTDATA("Montant",'TCD 2013 - 2014 '!$A$3,"Mois",$B19,"Année",$A$15,"Type",E$2)/1000,0) -> 57.05975 | F19: =SUM(C19:E19) -> 35.39775 | G19: =G18+F19 -> 1687.1927 | H19: 17.17 | I19: =I18+H19 -> 266.09
B20: 006 | C20: =IFERROR(GETPIVOTDATA("Montant",'TCD 2013 - 2014 '!$A$3,"Mois",$B20,"Année",$A$15,"Type",C$2)/1000,0) -> 0 | D20: =IFERROR(GETPIVOTDATA("Montant",'TCD 2013 - 2014 '!$A$3,"Mois",$B20,"Année",$A$15,"Type",D$2)/1000,0) -> 0 | E20: =IFERROR(GETPIVOTDATA("Montant",'TCD 2013 - 2014 '!$A$3,"Mois",$B20,"Année",$A$15,"Type",E$2)/1000,0) -> 0 | F20: =SUM(C20:E20) -> 0 | G20: =G19+F20 -> 1687.1927 | H20: 17.17 | I20: =I19+H20 -> 283.26
B21: 007 | C21: =IFERROR(GETPIVOTDATA("Montant",'TCD 2013 - 2014 '!$A$3,"Mois",$B21,"Année",$A$15,"Type",C$2)/1000,0) -> 0 | D21: =IFERROR(GETPIVOTDATA("Montant",'TCD 2013 - 2014 '!$A$3,"Mois",$B21,"Année",$A$15,"Type",D$2)/1000,0) -> 0 | E21: =IFERROR(GETPIVOTDATA("Montant",'TCD 2013 - 2014 '!$A$3,"Mois",$B21,"Année",$A$15,"Type",E$2)/1000,0) -> 0 | F21: =SUM(C21:E21) -> 0 | G21: =G20+F21 -> 1687.1927 | H21: 17.17 | I21: =I20+H21 -> 300.43
B22: 008 | C22: =IFERROR(GETPIVOTDATA("Montant",'TCD 2013 - 2014 '!$A$3,"Mois",$B22,"Année",$A$15,"Type",C$2)/1000,0) -> 0 | D22: =IFERROR(GETPIVOTDATA("Montant",'TCD 2013 - 2014 '!$A$3,"Mois",$B22,"Année",$A$15,"Type",D$2)/1000,0) -> 0 | E22: =IFERROR(GETPIVOTDATA("Montant",'TCD 2013 - 2014 '!$A$3,"Mois",$B22,"Année",$A$15,"Type",E$2)/1000,0) -> 0 | F22: =SUM(C22:E22) -> 0 | G22: =G21+F22 -> 1687.1927 | H22: 17.17 | I22: =I21+H22 -> 317.6
B23: 009 | C23: =IFERROR(GETPIVOTDATA("Montant",'TCD 2013 - 2014 '!$A$3,"Mois",$B23,"Année",$A$15,"Type",C$2)/1000,0) -> 0 | D23: =IFERROR(GETPIVOTDATA("Montant",'TCD 2013 - 2014 '!$A$3,"Mois",$B23,"Année",$A$15,"Type",D$2)/1000,0) -> 0 | E23: =IFERROR(GETPIVOTDATA("Montant",'TCD 2013 - 2014 '!$A$3,"Mois",$B23,"Année",$A$15,"Type",E$2)/1000,0) -> 0 | F23: =SUM(C23:E23) -> 0 | G23: =G22+F23 -> 1687.1927 | H23: 17.17 | I23: =I22+H23 -> 334.77
B24: 010 | C24: =IFERROR(GETPIVOTDATA("Montant",'TCD 2013 - 2014 '!$A$3,"Mois",$B24,"Année",$A$15,"Type",C$2)/1000,0) -> 0 | D24: =IFERROR(GETPIVOTDATA("Montant",'TCD 2013 - 2014 '!$A$3,"Mois",$B24,"Année",$A$15,"Type",D$2)/1000,0) -> 0 | E24: =IFERROR(GETPIVOTDATA("Montant",'TCD 2013 - 2014 '!$A$3,"Mois",$B24,"Année",$A$15,"Type",E$2)/1000,0) -> 0 | F24: =SUM(C24:E24) -> 0 | G24: =G23+F24 -> 1687.1927 | H24: 17.17 | I24: =I23+H24 -> 351.94
B25: 011 | C25: =IFERROR(GETPIVOTDATA("Montant",'TCD 2013 - 2014 '!$A$3,"Mois",$B25,"Année",$A$15,"Type",C$2)/1000,0) -> 0 | D25: =IFERROR(GETPIVOTDATA("Montant",'TCD 2013 - 2014 '!$A$3,"Mois",$B25,"Année",$A$15,"Type",D$2)/1000,0) -> 0 | E25: =IFERROR(GETPIVOTDATA("Montant",'TCD 2013 - 2014 '!$A$3,"Mois",$B25,"Année",$A$15,"Type",E$2)/1000,0) -> 0 | F25: =SUM(C25:E25) -> 0 | G25: =G24+F25 -> 1687.1927 | H25: 17.17 | I25: =I24+H25 -> 369.11
B26: 012 | C26: =IFERROR(GETPIVOTDATA("Montant",'TCD 2013 - 2014 '!$A$3,"Mois",$B26,"Année",$A$15,"Type",C$2)/1000,0) -> 0 | D26: =IFERROR(GETPIVOTDATA("Montant",'TCD 2013 - 2014 '!$A$3,"Mois",$B26,"Année",$A$15,"Type",D$2)/1000,0) -> 0 | E26: =IFERROR(GETPIVOTDATA("Montant",'TCD 2013 - 2014 '!$A$3,"Mois",$B26,"Année",$A$15,"Type",E$2)/1000,0) -> 0 | F26: =SUM(C26:E26) -> 0 | G26: =G25+F26 -> 1687.1927 | H26: 17.17 | I26: =I25+H26 -> 386.28
A27: 2015 | B27: 001 | C27: =IFERROR(GETPIVOTDATA("Montant",'TCD 2013 - 2014 '!$A$3,"Mois",$B27,"Année",$A$27,"Type",C$2)/1000,0) -> 0 | D27: =IFERROR(GETPIVOTDATA("Montant",'TCD 2013 - 2014 '!$A$3,"Mois",$B27,"Année",$A$27,"Type",D$2)/1000,0) -> 0 | E27: =IFERROR(GETPIVOTDATA("Montant",'TCD 2013 - 2014 '!$A$3,"Mois",$B27,"Année",$A$27,"Type",E$2)/1000,0) -> 0 | F27: =SUM(C27:E27) -> 0 | G27: =G26+F27 -> 1687.1927 | H27: 28.83 | I27: =I26+H27 -> 415.11
B28: 002 | C28: =IFERROR(GETPIVOTDATA("Montant",'TCD 2013 - 2014 '!$A$3,"Mois",$B28,"Année",$A$27,"Type",C$2)/1000,0) -> 0 | D28: =IFERROR(GETPIVOTDATA("Montant",'TCD 2013 - 2014 '!$A$3,"Mois",$B28,"Année",$A$27,"Type",D$2)/1000,0) -> 0 | E28: =IFERROR(GETPIVOTDATA("Montant",'TCD 2013 - 2014 '!$A$3,"Mois",$B28,"Année",$A$27,"Type",E$2)/1000,0) -> 0 | F28: =SUM(C28:E28) -> 0 | G28: =G27+F28 -> 1687.1927 | H28: 28.83 | I28: =I27+H28 -> 443.94
B29: 003 | C29: =IFERROR(GETPIVOTDATA("Montant",'TCD 2013 - 2014 '!$A$3,"Mois",$B29,"Année",$A$27,"Type",C$2)/1000,0) -> 0 | D29: =IFERROR(GETPIVOTDATA("Montant",'TCD 2013 - 2014 '!$A$3,"Mois",$B29,"Année",$A$27,"Type",D$2)/1000,0) -> 0 | E29: =IFERROR(GETPIVOTDATA("Montant",'TCD 2013 - 2014 '!$A$3,"Mois",$B29,"Année",$A$27,"Type",E$2)/1000,0) -> 0 | F29: =SUM(C29:E29) -> 0 | G29: =G28+F29 -> 1687.1927 | H29: 28.83 | I29: =I28+H29 -> 472.77
B30: 004 | C30: =IFERROR(GETPIVOTDATA("Montant",'TCD 2013 - 2014 '!$A$3,"Mois",$B30,"Année",$A$27,"Type",C$2)/1000,0) -> 0 | D30: =IFERROR(GETPIVOTDATA("Montant",'TCD 2013 - 2014 '!$A$3,"Mois",$B30,"Année",$A$27,"Type",D$2)/1000,0) -> 0 | E30: =IFERROR(GETPIVOTDATA("Montant",'TCD 2013 - 2014 '!$A$3,"Mois",$B30,"Année",$A$27,"Type",E$2)/1000,0) -> 0 | F30: =SUM(C30:E30) -> 0 | G30: =G29+F30 -> 1687.1927 | H30: 28.83 | I30: =I29+H30 -> 501.6
B31: 005 | C31: =IFERROR(GETPIVOTDATA("Montant",'TCD 2013 - 2014 '!$A$3,"Mois",$B31,"Année",$A$27,"Type",C$2)/1000,0) -> 0 | D31: =IFERROR(GETPIVOTDATA("Montant",'TCD 2013 - 2014 '!$A$3,"Mois",$B31,"Année",$A$27,"Type",D$2)/1000,0) -> 0 | E31: =IFERROR(GETPIVOTDATA("Montant",'TCD 2013 - 2014 '!$A$3,"Mois",$B31,"Année",$A$27,"Type",E$2)/1000,0) -> 0 | F31: =SUM(C31:E31) -> 0 | G31: =G30+F31 -> 1687.1927 | H31: 28.83 | I31: =I30+H31 -> 530.43
B32: 006 | C32: =IFERROR(GETPIVOTDATA("Montant",'TCD 2013 - 2014 '!$A$3,"Mois",$B32,"Année",$A$27,"Type",C$2)/1000,0) -> 0 | D32: =IFERROR(GETPIVOTDATA("Montant",'TCD 2013 - 2014 '!$A$3,"Mois",$B32,"Année",$A$27,"Type",D$2)/1000,0) -> 0 | E32: =IFERROR(GETPIVOTDATA("Montant",'TCD 2013 - 2014 '!$A$3,"Mois",$B32,"Année",$A$27,"Type",E$2)/1000,0) -> 0 | F32: =SUM(C32:E32) -> 0 | G32: =G31+F32 -> 1687.1927 | H32: 28.83 | I32: =I31+H32 -> 559.26
B33: 007 | C33: =IFERROR(GETPIVOTDATA("Montant",'TCD 2013 - 2014 '!$A$3,"Mois",$B33,"Année",$A$27,"Type",C$2)/1000,0) -> 0 | D33: =IFERROR(GETPIVOTDATA("Montant",'TCD 2013 - 2014 '!$A$3,"Mois",$B33,"Année",$A$27,"Type",D$2)/1000,0) -> 0 | E33: =IFERROR(GETPIVOTDATA("Montant",'TCD 2013 - 2014 '!$A$3,"Mois",$B33,"Année",$A$27,"Type",E$2)/1000,0) -> 0 | F33: =SUM(C33:E33) -> 0 | G33: =G32+F33 -> 1687.1927 | H33: 28.83 | I33: =I32+H33 -> 588.09
B34: 008 | C34: =IFERROR(GETPIVOTDATA("Montant",'TCD 2013 - 2014 '!$A$3,"Mois",$B34,"Année",$A$27,"Type",C$2)/1000,0) -> 0 | D34: =IFERROR(GETPIVOTDATA("Montant",'TCD 2013 - 2014 '!$A$3,"Mois",$B34,"Année",$A$27,"Type",D$2)/1000,0) -> 0 | E34: =IFERROR(GETPIVOTDATA("Montant",'TCD 2013 - 2014 '!$A$3,"Mois",$B34,"Année",$A$27,"Type",E$2)/1000,0) -> 0 | F34: =SUM(C34:E34) -> 0 | G34: =G33+F34 -> 1687.1927 | H34: 28.83 | I34: =I33+H34 -> 616.92
B35: 009 | C35: =IFERROR(GETPIVOTDATA("Montant",'TCD 2013 - 2014 '!$A$3,"Mois",$B35,"Année",$A$27,"Type",C$2)/1000,0) -> 0 | D35: =IFERROR(GETPIVOTDATA("Montant",'TCD 2013 - 2014 '!$A$3,"Mois",$B35,"Année",$A$27,"Type",D$2)/1000,0) -> 0 | E35: =IFERROR(GETPIVOTDATA("Montant",'TCD 2013 - 2014 '!$A$3,"Mois",$B35,"Année",$A$27,"Type",E$2)/1000,0) -> 0 | F35: =SUM(C35:E35) -> 0 | G35: =G34+F35 -> 1687.1927 | H35: 28.83 | I35: =I34+H35 -> 645.75
B36: 010 | C36: =IFERROR(GETPIVOTDATA("Montant",'TCD 2013 - 2014 '!$A$3,"Mois",$B36,"Année",$A$27,"Type",C$2)/1000,0) -> 0 | D36: =IFERROR(GETPIVOTDATA("Montant",'TCD 2013 - 2014 '!$A$3,"Mois",$B36,"Année",$A$27,"Type",D$2)/1000,0) -> 0 | E36: =IFERROR(GETPIVOTDATA("Montant",'TCD 2013 - 2014 '!$A$3,"Mois",$B36,"Année",$A$27,"Type",E$2)/1000,0) -> 0 | F36: =SUM(C36:E36) -> 0 | G36: =G35+F36 -> 1687.1927 | H36: 28.83 | I36: =I35+H36 -> 674.58
B37: 011 | C37: =IFERROR(GETPIVOTDATA("Montant",'TCD 2013 - 2014 '!$A$3,"Mois",$B37,"Année",$A$27,"Type",C$2)/1000,0) -> 0 | D37: =IFERROR(GETPIVOTDATA("Montant",'TCD 2013 - 2014 '!$A$3,"Mois",$B37,"Année",$A$27,"Type",D$2)/1000,0) -> 0 | E37: =IFERROR(GETPIVOTDATA("Montant",'TCD 2013 - 2014 '!$A$3,"Mois",$B37,"Année",$A$27,"Type",E$2)/1000,0) -> 0 | F37: =SUM(C37:E37) -> 0 | G37: =G36+F37 -> 1687.1927 | H37: 28.83 | I37: =I36+H37 -> 703.41
B38: 012 | C38: =IFERROR(GETPIVOTDATA("Montant",'TCD 2013 - 2014 '!$A$3,"Mois",$B38,"Année",$A$27,"Type",C$2)/1000,0) -> 0 | D38: =IFERROR(GETPIVOTDATA("Montant",'TCD 2013 - 2014 '!$A$3,"Mois",$B38,"Année",$A$27,"Type",D$2)/1000,0) -> 0 | E38: =IFERROR(GETPIVOTDATA("Montant",'TCD 2013 - 2014 '!$A$3,"Mois",$B38,"Année",$A$27,"Type",E$2)/1000,0) -> 0 | F38: =SUM(C38:E38) -> 0 | G38: =G37+F38 -> 1687.1927 | H38: 28.83 | I38: =I37+H38 -> 732.24
A39: 2016 | B39: 001 | C39: =IFERROR(GETPIVOTDATA("Montant",'TCD 2013 - 2014 '!$A$3,"Mois",$B39,"Année",$A$39,"Type",C$2)/1000,0) -> 0 | D39: =IFERROR(GETPIVOTDATA("Montant",'TCD 2013 - 2014 '!$A$3,"Mois",$B39,"Année",$A$39,"Type",D$2)/1000,0) -> 0 | E39: =IFERROR(GETPIVOTDATA("Montant",'TCD 2013 - 2014 '!$A$3,"Mois",$B39,"Année",$A$39,"Type",E$2)/1000,0) -> 0 | F39: =SUM(C39:E39) -> 0 | G39: =G38+F39 -> 1687.1927 | H39: 7.33 | I39: =I38+H39 -> 739.57
B40: 002 | C40: =IFERROR(GETPIVOTDATA("Montant",'TCD 2013 - 2014 '!$A$3,"Mois",$B40,"Année",$A$39,"Type",C$2)/1000,0) -> 0 | D40: =IFERROR(GETPIVOTDATA("Montant",'TCD 2013 - 2014 '!$A$3,"Mois",$B40,"Année",$A$39,"Type",D$2)/1000,0) -> 0 | E40: =IFERROR(GETPIVOTDATA("Montant",'TCD 2013 - 2014 '!$A$3,"Mois",$B40,"Année",$A$39,"Type",E$2)/1000,0) -> 0 | F40: =SUM(C40:E40) -> 0 | G40: =G39+F40 -> 1687.1927 | H40: 7.33 | I40: =I39+H40 -> 746.9
B41: 003 | C41: =IFERROR(GETPIVOTDATA("Montant",'TCD 2013 - 2014 '!$A$3,"Mois",$B41,"Année",$A$39,"Type",C$2)/1000,0) -> 0 | D41: =IFERROR(GETPIVOTDATA("Montant",'TCD 2013 - 2014 '!$A$3,"Mois",$B41,"Année",$A$39,"Type",D$2)/1000,0) -> 0 | E41: =IFERROR(GETPIVOTDATA("Montant",'TCD 2013 - 2014 '!$A$3,"Mois",$B41,"Année",$A$39,"Type",E$2)/1000,0) -> 0 | F41: =SUM(C41:E41) -> 0 | G41: =G40+F41 -> 1687.1927 | H41: 7.33 | I41: =I40+H41 -> 754.23
B42: 004 | C42: =IFERROR(GETPIVOTDATA("Montant",'TCD 2013 - 2014 '!$A$3,"Mois",$B42,"Année",$A$39,"Type",C$2)/1000,0) -> 0 | D42: =IFERROR(GETPIVOTDATA("Montant",'TCD 2013 - 2014 '!$A$3,"Mois",$B42,"Année",$A$39,"Type",D$2)/1000,0) -> 0 | E42: =IFERROR(GETPIVOTDATA("Montant",'TCD 2013 - 2014 '!$A$3,"Mois",$B42,"Année",$A$39,"Type",E$2)/1000,0) -> 0 | F42: =SUM(C42:E42) -> 0 | G42: =G41+F42 -> 1687.1927 | H42: 7.33 | I42: =I41+H42 -> 761.56
B43: 005 | C43: =IFERROR(GETPIVOTDATA("Montant",'TCD 2013 - 2014 '!$A$3,"Mois",$B43,"Année",$A$39,"Type",C$2)/1000,0) -> 0 | D43: =IFERROR(GETPIVOTDATA("Montant",'TCD 2013 - 2014 '!$A$3,"Mois",$B43,"Année",$A$39,"Type",D$2)/1000,0) -> 0 | E43: =IFERROR(GETPIVOTDATA("Montant",'TCD 2013 - 2014 '!$A$3,"Mois",$B43,"Année",$A$39,"Type",E$2)/1000,0) -> 0 | F43: =SUM(C43:E43) -> 0 | G43: =G42+F43 -> 1687.1927 | H43: 7.33 | I43: =I42+H43 -> 768.89
B44: 006 | C44: =IFERROR(GETPIVOTDATA("Montant",'TCD 2013 - 2014 '!$A$3,"Mois",$B44,"Année",$A$39,"Type",C$2)/1000,0) -> 0 | D44: =IFERROR(GETPIVOTDATA("Montant",'TCD 2013 - 2014 '!$A$3,"Mois",$B44,"Année",$A$39,"Type",D$2)/1000,0) -> 0 | E44: =IFERROR(GETPIVOTDATA("Montant",'TCD 2013 - 2014 '!$A$3,"Mois",$B44,"Année",$A$39,"Type",E$2)/1000,0) -> 0 | F44: =SUM(C44:E44) -> 0 | G44: =G43+F44 -> 1687.1927 | H44: 7.33 | I44: =I43+H44 -> 776.22
B45: 007 | C45: =IFERROR(GETPIVOTDATA("Montant",'TCD 2013 - 2014 '!$A$3,"Mois",$B45,"Année",$A$39,"Type",C$2)/1000,0) -> 0 | D45: =IFERROR(GETPIVOTDATA("Montant",'TCD 2013 - 2014 '!$A$3,"Mois",$B45,"Année",$A$39,"Type",D$2)/1000,0) -> 0 | E45: =IFERROR(GETPIVOTDATA("Montant",'TCD 2013 - 2014 '!$A$3,"Mois",$B45,"Année",$A$39,"Type",E$2)/1000,0) -> 0 | F45: =SUM(C45:E45) -> 0 | G45: =G44+F45 -> 1687.1927 | H45: 7.33 | I45: =I44+H45 -> 783.55
B46: 008 | C46: =IFERROR(GETPIVOTDATA("Montant",'TCD 2013 - 2014 '!$A$3,"Mois",$B46,"Année",$A$39,"Type",C$2)/1000,0) -> 0 | D46: =IFERROR(GETPIVOTDATA("Montant",'TCD 2013 - 2014 '!$A$3,"Mois",$B46,"Année",$A$39,"Type",D$2)/1000,0) -> 0 | E46: =IFERROR(GETPIVOTDATA("Montant",'TCD 2013 - 2014 '!$A$3,"Mois",$B46,"Année",$A$39,"Type",E$2)/1000,0) -> 0 | F46: =SUM(C46:E46) -> 0 | G46: =G45+F46 -> 1687.1927 | H46: 7.33 | I46: =I45+H46 -> 790.88
B47: 009 | C47: =IFERROR(GETPIVOTDATA("Montant",'TCD 2013 - 2014 '!$A$3,"Mois",$B47,"Année",$A$39,"Type",C$2)/1000,0) -> 0 | D47: =IFERROR(GETPIVOTDATA("Montant",'TCD 2013 - 2014 '!$A$3,"Mois",$B47,"Année",$A$39,"Type",D$2)/1000,0) -> 0 | E47: =IFERROR(GETPIVOTDATA("Montant",'TCD 2013 - 2014 '!$A$3,"Mois",$B47,"Année",$A$39,"Type",E$2)/1000,0) -> 0 | F47: =SUM(C47:E47) -> 0 | G47: =G46+F47 -> 1687.1927 | H47: 7.33 | I47: =I46+H47 -> 798.21
B48: 010 | C48: =IFERROR(GETPIVOTDATA("Montant",'TCD 2013 - 2014 '!$A$3,"Mois",$B48,"Année",$A$39,"Type",C$2)/1000,0) -> 0 | D48: =IFERROR(GETPIVOTDATA("Montant",'TCD 2013 - 2014 '!$A$3,"Mois",$B48,"Année",$A$39,"Type",D$2)/1000,0) -> 0 | E48: =IFERROR(GETPIVOTDATA("Montant",'TCD 2013 - 2014 '!$A$3,"Mois",$B48,"Année",$A$39,"Type",E$2)/1000,0) -> 0 | F48: =SUM(C48:E48) -> 0 | G48: =G47+F48 -> 1687.1927 | H48: 7.33 | I48: =I47+H48 -> 805.54
B49: 011 | C49: =IFERROR(GETPIVOTDATA("Montant",'TCD 2013 - 2014 '!$A$3,"Mois",$B49,"Année",$A$39,"Type",C$2)/1000,0) -> 0 | D49: =IFERROR(GETPIVOTDATA("Montant",'TCD 2013 - 2014 '!$A$3,"Mois",$B49,"Année",$A$39,"Type",D$2)/1000,0) -> 0 | E49: =IFERROR(GETPIVOTDATA("Montant",'TCD 2013 - 2014 '!$A$3,"Mois",$B49,"Année",$A$39,"Type",E$2)/1000,0) -> 0 | F49: =SUM(C49:E49) -> 0 | G49: =G48+F49 -> 1687.1927 | H49: 7.33 | I49: =I48+H49 -> 812.87
B50: 012 | C50: =IFERROR(GETPIVOTDATA("Montant",'TCD 2013 - 2014 '!$A$3,"Mois",$B50,"Année",$A$39,"Type",C$2)/1000,0) -> 0 | D50: =IFERROR(GETPIVOTDATA("Montant",'TCD 2013 - 2014 '!$A$3,"Mois",$B50,"Année",$A$39,"Type",D$2)/1000,0) -> 0 | E50: =IFERROR(GETPIVOTDATA("Montant",'TCD 2013 - 2014 '!$A$3,"Mois",$B50,"Année",$A$39,"Type",E$2)/1000,0) -> 0 | F50: =SUM(C50:E50) -> 0 | G50: =G49+F50 -> 1687.1927 | H50: 7.33 | I50: =I49+H50 -> 820.2
