Workbook

Sheet Feuil2
A1: HomeTeam | B1: AwayTeam | C1: FTHG | D1: FTAG | E1: Concat
A2: QPR | B2: Birmingham | C2: 0 | D2: 0 | E2: 0,0
A3: Wimbledon | B3: Tranmere | C3: 0 | D3: 0 | E3: 0,0
A4: Crewe | B4: Blackburn | C4: 0 | D4: 0 | E4: 0,0
A5: Norwich | B5: Nott'm Forest | C5: 0 | D5: 0 | E5: 0,0
A6: Wimbledon | B6: Norwich | C6: 0 | D6: 0 | E6: 0,0
A7: Sheffield Weds | B7: Crewe | C7: 0 | D7: 0 | E7: 0,0
A8: Wimbledon | B8: Watford | C8: 0 | D8: 0 | E8: 0,0
A9: Wolves | B9: Blackburn | C9: 0 | D9: 0 | E9: 0,0
A10: Stockport | B10: Huddersfield | C10: 0 | D10: 0 | E10: 0,0
A11: Burnley | B11: Birmingham | C11: 0 | D11: 0 | E11: 0,0
A12: Crewe | B12: Norwich | C12: 0 | D12: 0 | E12: 0,0
A13: Birmingham | B13: Portsmouth | C13: 0 | D13: 0 | E13: 0,0
... A47: Barnsley | B47: Sheffield United | C47: 0 | D47: 0 | E47: 0,0

Sheet Feuil1
A1: HomeTeam | B1: AwayTeam | C1: FTHG | D1: FTAG | E1: Score | F1: Commentaire | H1: Étiquettes de lignes | I1: Nombre de Score | J1: Nombre de Score2
C2: 0 | D2: 0 | E2: =C2&","&D2 -> 0,0 | F2: =IF(C2=D2,"mn "&C2,"gp") -> mn 0 | H2: mn 0 | I2: 20 | J2: 0.091324201
C3: 5 | D3: 0 | E3: =C3&","&D3 -> 5,0 | F3: =IF(C3=D3,"mn "&C3,"gp") -> gp | H3: mn 1 | I3: 29 | J3: 0.13242009
C4: 2 | D4: 1 | E4: =C4&","&D4 -> 2,1 | F4: =IF(C4=D4,"mn "&C4,"gp") -> gp | H4: mn 2 | I4: 13 | J4: 0.059360731
C5: 0 | D5: 5 | E5: =C5&","&D5 -> 0,5 | F5: =IF(C5=D5,"mn "&C5,"gp") -> gp | H5: mn 3 | I5: 3 | J5: 0.01369863
C6: 1 | D6: 1 | E6: =C6&","&D6 -> 1,1 | F6: =IF(C6=D6,"mn "&C6,"gp") -> mn 1 | H6: gp | I6: 154 | J6: 0.70319635
C7: 3 | D7: 0 | E7: =C7&","&D7 -> 3,0 | F7: =IF(C7=D7,"mn "&C7,"gp") -> gp | H7: Total général | I7: 219 | J7: 1
C8: 1 | D8: 0 | E8: =C8&","&D8 -> 1,0 | F8: =IF(C8=D8,"mn "&C8,"gp") -> gp
C9: 3 | D9: 2 | E9: =C9&","&D9 -> 3,2 | F9: =IF(C9=D9,"mn "&C9,"gp") -> gp
C10: 0 | D10: 2 | E10: =C10&","&D10 -> 0,2 | F10: =IF(C10=D10,"mn "&C10,"gp") -> gp
C11: 1 | D11: 0 | E11: =C11&","&D11 -> 1,0 | F11: =IF(C11=D11,"mn "&C11,"gp") -> gp
C12: 4 | D12: 2 | E12: =C12&","&D12 -> 4,2 | F12: =IF(C12=D12,"mn "&C12,"gp") -> gp
C13: 1 | D13: 3 | E13: =C13&","&D13 -> 1,3 | F13: =IF(C13=D13,"mn "&C13,"gp") -> gp
C14: 2 | D14: 0 | E14: =C14&","&D14 -> 2,0 | F14: =IF(C14=D14,"mn "&C14,"gp") -> gp
C15: 3 | D15: 2 | E15: =C15&","&D15 -> 3,2 | F15: =IF(C15=D15,"mn "&C15,"gp") -> gp
C16: 1 | D16: 1 | E16: =C16&","&D16 -> 1,1 | F16: =IF(C16=D16,"mn "&C16,"gp") -> mn 1
C17: 0 | D17: 2 | E17: =C17&","&D17 -> 0,2 | F17: =IF(C17=D17,"mn "&C17,"gp") -> gp
C18: 3 | D18: 0 | E18: =C18&","&D18 -> 3,0 | F18: =IF(C18=D18,"mn "&C18,"gp") -> gp
C19: 1 | D19: 1 | E19: =C19&","&D19 -> 1,1 | F19: =IF(C19=D19,"mn "&C19,"gp") -> mn 1
... C34: 4 | D34: 0 | E34: =C34&","&D34 -> 4,0 | F34: =IF(C34=D34,"mn "&C34,"gp") -> gp
C35: 0 | D35: 0 | E35: =C35&","&D35 -> 0,0 | F35: =IF(C35=D35,"mn "&C35,"gp") -> mn 0 | I35: =I33/$N$33 -> #DIV/0! | J35: =J33/$N$33 -> #DIV/0! | K35: =K33/$N$33 -> #DIV/0! | M35: =M33/$N$33 -> #DIV/0! | N35: =SUM(I35:M35) -> #DIV/0!
C36: 0 | D36: 0 | E36: =C36&","&D36 -> 0,0 | F36: =IF(C36=D36,"mn "&C36,"gp") -> mn 0
C37: 1 | D37: 1 | E37: =C37&","&D37 -> 1,1 | F37: =IF(C37=D37,"mn "&C37,"gp") -> mn 1
C38: 1 | D38: 1 | E38: =C38&","&D38 -> 1,1 | F38: =IF(C38=D38,"mn "&C38,"gp") -> mn 1
C39: 1 | D39: 3 | E39: =C39&","&D39 -> 1,3 | F39: =IF(C39=D39,"mn "&C39,"gp") -> gp
C40: 2 | D40: 2 | E40: =C40&","&D40 -> 2,2 | F40: =IF(C40=D40,"mn "&C40,"gp") -> mn 2
C41: 1 | D41: 0 | E41: =C41&","&D41 -> 1,0 | F41: =IF(C41=D41,"mn "&C41,"gp") -> gp
C42: 4 | D42: 1 | E42: =C42&","&D42 -> 4,1 | F42: =IF(C42=D42,"mn "&C42,"gp") -> gp
C43: 0 | D43: 3 | E43: =C43&","&D43 -> 0,3 | F43: =IF(C43=D43,"mn "&C43,"gp") -> gp
C44: 1 | D44: 0 | E44: =C44&","&D44 -> 1,0 | F44: =IF(C44=D44,"mn "&C44,"gp") -> gp
C45: 1 | D45: 1 | E45: =C45&","&D45 -> 1,1 | F45: =IF(C45=D45,"mn "&C45,"gp") -> mn 1
C46: 1 | D46: 2 | E46: =C46&","&D46 -> 1,2 | F46: =IF(C46=D46,"mn "&C46,"gp") -> gp
C47: 1 | D47: 2 | E47: =C47&","&D47 -> 1,2 | F47: =IF(C47=D47,"mn "&C47,"gp") -> gp
... C220: 2 | D220: 2 | E220: =C220&","&D220 -> 2,2 | F220: =IF(C220=D220,"mn "&C220,"gp") -> mn 2

Sheet DV-IDENTITY-0
A1: =IF(Feuil2!1:1,"AAAAADL/7wA=",0) -> #VALUE! | B1: =AND(Feuil2!A1,"AAAAADL/7wE=") -> #VALUE! | C1: =AND(Feuil2!B1,"AAAAADL/7wI=") -> #VALUE! | D1: =AND(Feuil2!C1,"AAAAADL/7wM=") -> #VALUE! | E1: =AND(Feuil2!D1,"AAAAADL/7wQ=") -> #VALUE! | F1: =AND(Feuil2!E1,"AAAAADL/7wU=") -> #VALUE! | G1: =IF(Feuil2!2:2,"AAAAADL/7wY=",0) -> 0 | H1: =AND(Feuil2!A2,"AAAAADL/7wc=") -> #VALUE! | I1: =AND(Feuil2!B2,"AAAAADL/7wg=") -> #VALUE! | J1: =AND(Feuil2!C2,"AAAAADL/7wk=") -> #VALUE! | K1: =AND(Feuil2!D2,"AAAAADL/7wo=") -> #VALUE! | L1: =AND(Feuil2!E2,"AAAAADL/7ws=") -> #VALUE! | M1: =IF(Feuil2!3:3,"AAAAADL/7ww=",0) -> 0 | N1: =AND(Feuil2!A3,"AAAAADL/7w0=") -> #VALUE! | O1: =AND(Feuil2!B3,"AAAAADL/7w4=") -> #VALUE! | P1: =AND(Feuil2!C3,"AAAAADL/7w8=") -> #VALUE! | Q1: =AND(Feuil2!D3,"AAAAADL/7xA=") -> #VALUE! | R1: =AND(Feuil2!E3,"AAAAADL/7xE=") -> #VALUE! | S1: =IF(Feuil2!4:4,"AAAAADL/7xI=",0) -> 0 | T1: =AND(Feuil2!A4,"AAAAADL/7xM=") -> #VALUE! | U1: =AND(Feuil2!B4,"AAAAADL/7xQ=") -> #VALUE! | V1: =AND(Feuil2!C4,"AAAAADL/7xU=") -> #VALUE! | W1: =AND(Feuil2!D4,"AAAAADL/7xY=") -> #VALUE! | X1: =AND(Feuil2!E4,"AAAAADL/7xc=") -> #VALUE! | Y1: =IF(Feuil2!5:5,"AAAAADL/7xg=",0) -> 0 | Z1: =AND(Feuil2!A5,"AAAAADL/7xk=") -> #VALUE! | AA1: =AND(Feuil2!B5,"AAAAADL/7xo=") -> #VALUE! | AB1: =AND(Feuil2!C5,"AAAAADL/7xs=") -> #VALUE! | AC1: =AND(Feuil2!D5,"AAAAADL/7xw=") -> #VALUE! | AD1: =AND(Feuil2!E5,"AAAAADL/7x0=") -> #VALUE! | AE1: =IF(Feuil2!6:6,"AAAAADL/7x4=",0) -> 0 | AF1: =AND(Feuil2!A6,"AAAAADL/7x8=") -> #VALUE! | AG1: =AND(Feuil2!B6,"AAAAADL/7yA=") -> #VALUE! | AH1: =AND(Feuil2!C6,"AAAAADL/7yE=") -> #VALUE! | AI1: =AND(Feuil2!D6,"AAAAADL/7yI=") -> #VALUE! | AJ1: =AND(Feuil2!E6,"AAAAADL/7yM=") -> #VALUE! | AK1: =IF(Feuil2!7:7,"AAAAADL/7yQ=",0) -> 0 | AL1: =AND(Feuil2!A7,"AAAAADL/7yU=") -> #VALUE! | AM1: =AND(Feuil2!B7,"AAAAADL/7yY=") -> #VALUE! | AN1: =AND(Feuil2!C7,"AAAAADL/7yc=") -> #VALUE! | AO1: =AND(Feuil2!D7,"AAAAADL/7yg=") -> #VALUE! | AP1: =AND(Feuil2!E7,"AAAAADL/7yk=") -> #VALUE! | AQ1: =IF(Feuil2!8:8,"AAAAADL/7yo=",0) -> 0 | AR1: =AND(Feuil2!A8,"AAAAADL/7ys=") -> #VALUE! | AS1: =AND(Feuil2!B8,"AAAAADL/7yw=") -> #VALUE! | AT1: =AND(Feuil2!C8,"AAAAADL/7y0=") -> #VALUE! | AU1: =AND(Feuil2!D8,"AAAAADL/7y4=") -> #VALUE! | AV1: =AND(Feuil2!E8,"AAAAADL/7y8=") -> #VALUE! | AW1: =IF(Feuil2!9:9,"AAAAADL/7zA=",0) -> 0 | AX1: =AND(Feuil2!A9,"AAAAADL/7zE=") -> #VALUE! | AY1: =AND(Feuil2!B9,"AAAAADL/7zI=") -> #VALUE! | AZ1: =AND(Feuil2!C9,"AAAAADL/7zM=") -> #VALUE! | BA1: =AND(Feuil2!D9,"AAAAADL/7zQ=") -> #VALUE! | BB1: =AND(Feuil2!E9,"AAAAADL/7zU=") -> #VALUE! | BC1: =IF(Feuil2!10:10,"AAAAADL/7zY=",0) -> 0 | BD1: =AND(Feuil2!A10,"AAAAADL/7zc=") -> #VALUE! | BE1: =AND(Feuil2!B10,"AAAAADL/7zg=") -> #VALUE! | BF1: =AND(Feuil2!C10,"AAAAADL/7zk=") -> #VALUE! | BG1: =AND(Feuil2!D10,"AAAAADL/7zo=") -> #VALUE! | BH1: =AND(Feuil2!E10,"AAAAADL/7zs=") -> #VALUE! | BI1: =IF(Feuil2!11:11,"AAAAADL/7zw=",0) -> 0 | BJ1: =AND(Feuil2!A11,"AAAAADL/7z0=") -> #VALUE! | BK1: =AND(Feuil2!B11,"AAAAADL/7z4=") -> #VALUE! | BL1: =AND(Feuil2!C11,"AAAAADL/7z8=") -> #VALUE! | BM1: =AND(Feuil2!D11,"AAAAADL/70A=") -> #VALUE! | BN1: =AND(Feuil2!E11,"AAAAADL/70E=") -> #VALUE! | BO1: =IF(Feuil2!12:12,"AAAAADL/70I=",0) -> 0 | BP1: =AND(Feuil2!A12,"AAAAADL/70M=") -> #VALUE! | BQ1: =AND(Feuil2!B12,"AAAAADL/70Q=") -> #VALUE! | BR1: =AND(Feuil2!C12,"AAAAADL/70U=") -> #VALUE! | BS1: =AND(Feuil2!D12,"AAAAADL/70Y=") -> #VALUE! | BT1: =AND(Feuil2!E12,"AAAAADL/70c=") -> #VALUE! | BU1: =IF(Feuil2!13:13,"AAAAADL/70g=",0) -> 0 | BV1: =AND(Feuil2!A13,"AAAAADL/70k=") -> #VALUE! | BW1: =AND(Feuil2!B13,"AAAAADL/70o=") -> #VALUE! | BX1: =AND(Feuil2!C13,"AAAAADL/70s=") -> #VALUE! | BY1: =AND(Feuil2!D13,"AAAAADL/70w=") -> #VALUE! | BZ1: =AND(Feuil2!E13,"AAAAADL/700=") -> #VALUE! | CA1: =IF(Feuil2!14:14,"AAAAADL/704=",0) -> 0 | CB1: =AND(Feuil2!A14,"AAAAADL/708=") -> #VALUE! | CC1: =AND(Feuil2!B14,"AAAAADL/71A=") -> #VALUE! | CD1: =AND(Feuil2!C14,"AAAAADL/71E=") -> #VALUE! | CE1: =AND(Feuil2!D14,"AAAAADL/71I=") -> #VALUE! | CF1: =AND(Feuil2!E14,"AAAAADL/71M=") -> #VALUE! | CG1: =IF(Feuil2!15:15,"AAAAADL/71Q=",0) -> 0 | CH1: =AND(Feuil2!A15,"AAAAADL/71U=") -> #VALUE! | CI1: =AND(Feuil2!B15,"AAAAADL/71Y=") -> #VALUE! | CJ1: =AND(Feuil2!C15,"AAAAADL/71c=") -> #VALUE! | CK1: =AND(Feuil2!D15,"AAAAADL/71g=") -> #VALUE! | CL1: =AND(Feuil2!E15,"AAAAADL/71k=") -> #VALUE! | CM1: =IF(Feuil2!16:16,"AAAAADL/71o=",0) -> 0 | CN1: =AND(Feuil2!A16,"AAAAADL/71s=") -> #VALUE! | CO1: =AND(Feuil2!B16,"AAAAADL/71w=") -> #VALUE! | CP1: =AND(Feuil2!C16,"AAAAADL/710=") -> #VALUE! | CQ1: =AND(Feuil2!D16,"AAAAADL/714=") -> #VALUE! | CR1: =AND(Feuil2!E16,"AAAAADL/718=") -> #VALUE! | CS1: =IF(Feuil2!17:17,"AAAAADL/72A=",0) -> 0 | CT1: =AND(Feuil2!A17,"AAAAADL/72E=") -> #VALUE! | CU1: =AND(Feuil2!B17,"AAAAADL/72I=") -> #VALUE! | CV1: =AND(Feuil2!C17,"AAAAADL/72M=") -> #VALUE! | CW1: =AND(Feuil2!D17,"AAAAADL/72Q=") -> #VALUE! | CX1: =AND(Feuil2!E17,"AAAAADL/72U=") -> #VALUE! | CY1: =IF(Feuil2!18:18,"AAAAADL/72Y=",0) -> 0 | CZ1: =AND(Feuil2!A18,"AAAAADL/72c=") -> #VALUE! | DA1: =AND(Feuil2!B18,"AAAAADL/72g=") -> #VALUE! | DB1: =AND(Feuil2!C18,"AAAAADL/72k=") -> #VALUE! | DC1: =AND(Feuil2!D18,"AAAAADL/72o=") -> #VALUE! | DD1: =AND(Feuil2!E18,"AAAAADL/72s=") -> #VALUE! | DE1: =IF(Feuil2!19:19,"AAAAADL/72w=",0) -> 0 | DF1: =AND(Feuil2!A19,"AAAAADL/720=") -> #VALUE! | DG1: =AND(Feuil2!B19,"AAAAADL/724=") -> #VALUE! | DH1: =AND(Feuil2!C19,"AAAAADL/728=") -> #VALUE! | DI1: =AND(Feuil2!D19,"AAAAADL/73A=") -> #VALUE! | DJ1: =AND(Feuil2!E19,"AAAAADL/73E=") -> #VALUE! | DK1: =IF(Feuil2!20:20,"AAAAADL/73I=",0) -> 0 | DL1: =AND(Feuil2!A20,"AAAAADL/73M=") -> #VALUE! | DM1: =AND(Feuil2!B20,"AAAAADL/73Q=") -> #VALUE! | DN1: =AND(Feuil2!C20,"AAAAADL/73U=") -> #VALUE! | DO1: =AND(Feuil2!D20,"AAAAADL/73Y=") -> #VALUE! | DP1: =AND(Feuil2!E20,"AAAAADL/73c=") -> #VALUE! | DQ1: =IF(Feuil2!21:21,"AAAAADL/73g=",0) -> 0 | DR1: =AND(Feuil2!A21,"AAAAADL/73k=") -> #VALUE! | DS1: =AND(Feuil2!B21,"AAAAADL/73o=") -> #VALUE! | DT1: =AND(Feuil2!C21,"AAAAADL/73s=") -> #VALUE! | DU1: =AND(Feuil2!D21,"AAAAADL/73w=") -> #VALUE! | DV1: =AND(Feuil2!E21,"AAAAADL/730=") -> #VALUE! | DW1: =IF(Feuil2!22:22,"AAAAADL/734=",0) -> 0 | DX1: =AND(Feuil2!A22,"AAAAADL/738=") -> #VALUE! | DY1: =AND(Feuil2!B22,"AAAAADL/74A=") -> #VALUE! | DZ1: =AND(Feuil2!C22,"AAAAADL/74E=") -> #VALUE! | EA1: =AND(Feuil2!D22,"AAAAADL/74I=") -> #VALUE! | EB1: =AND(Feuil2!E22,"AAAAADL/74M=") -> #VALUE! | EC1: =IF(Feuil2!23:23,"AAAAADL/74Q=",0) -> 0 | ED1: =AND(Feuil2!A23,"AAAAADL/74U=") -> #VALUE! | EE1: =AND(Feuil2!B23,"AAAAADL/74Y=") -> #VALUE! | EF1: =AND(Feuil2!C23,"AAAAADL/74c=") -> #VALUE! | EG1: =AND(Feuil2!D23,"AAAAADL/74g=") -> #VALUE! | EH1: =AND(Feuil2!E23,"AAAAADL/74k=") -> #VALUE! | EI1: =IF(Feuil2!24:24,"AAAAADL/74o=",0) -> 0 | EJ1: =AND(Feuil2!A24,"AAAAADL/74s=") -> #VALUE! | EK1: =AND(Feuil2!B24,"AAAAADL/74w=") -> #VALUE! | EL1: =AND(Feuil2!C24,"AAAAADL/740=") -> #VALUE! | EM1: =AND(Feuil2!D24,"AAAAADL/744=") -> #VALUE! | EN1: =AND(Feuil2!E24,"AAAAADL/748=") -> #VALUE! | EO1: =IF(Feuil2!25:25,"AAAAADL/75A=",0) -> 0 | EP1: =AND(Feuil2!A25,"AAAAADL/75E=") -> #VALUE! | EQ1: =AND(Feuil2!B25,"AAAAADL/75I=") -> #VALUE! | ER1: =AND(Feuil2!C25,"AAAAADL/75M=") -> #VALUE! | ES1: =AND(Feuil2!D25,"AAAAADL/75Q=") -> #VALUE! | ET1: =AND(Feuil2!E25,"AAAAADL/75U=") -> #VALUE! | EU1: =IF(Feuil2!26:26,"AAAAADL/75Y=",0) -> 0 | EV1: =AND(Feuil2!A26,"AAAAADL/75c=") -> #VALUE! | EW1: =AND(Feuil2!B26,"AAAAADL/75g=") -> #VALUE! | EX1: =AND(Feuil2!C26,"AAAAADL/75k=") -> #VALUE! | EY1: =AND(Feuil2!D26,"AAAAADL/75o=") -> #VALUE! | EZ1: =AND(Feuil2!E26,"AAAAADL/75s=") -> #VALUE! | FA1: =IF(Feuil2!27:27,"AAAAADL/75w=",0) -> 0 | FB1: =AND(Feuil2!A27,"AAAAADL/750=") -> #VALUE! | FC1: =AND(Feuil2!B27,"AAAAADL/754=") -> #VALUE! | FD1: =AND(Feuil2!C27,"AAAAADL/758=") -> #VALUE! | FE1: =AND(Feuil2!D27,"AAAAADL/76A=") -> #VALUE! | FF1: =AND(Feuil2!E27,"AAAAADL/76E=") -> #VALUE! | FG1: =IF(Feuil2!28:28,"AAAAADL/76I=",0) -> 0 | FH1: =AND(Feuil2!A28,"AAAAADL/76M=") -> #VALUE! | FI1: =AND(Feuil2!B28,"AAAAADL/76Q=") -> #VALUE! | FJ1: =AND(Feuil2!C28,"AAAAADL/76U=") -> #VALUE! | FK1: =AND(Feuil2!D28,"AAAAADL/76Y=") -> #VALUE! | FL1: =AND(Feuil2!E28,"AAAAADL/76c=") -> #VALUE! | FM1: =IF(Feuil2!29:29,"AAAAADL/76g=",0) -> 0 | FN1: =AND(Feuil2!A29,"AAAAADL/76k=") -> #VALUE! | FO1: =AND(Feuil2!B29,"AAAAADL/76o=") -> #VALUE! | FP1: =AND(Feuil2!C29,"AAAAADL/76s=") -> #VALUE! | FQ1: =AND(Feuil2!D29,"AAAAADL/76w=") -> #VALUE! | FR1: =AND(Feuil2!E29,"AAAAADL/760=") -> #VALUE! | FS1: =IF(Feuil2!30:30,"AAAAADL/764=",0) -> 0 | FT1: =AND(Feuil2!A30,"AAAAADL/768=") -> #VALUE! | FU1: =AND(Feuil2!B30,"AAAAADL/77A=") -> #VALUE! | FV1: =AND(Feuil2!C30,"AAAAADL/77E=") -> #VALUE! | FW1: =AND(Feuil2!D30,"AAAAADL/77I=") -> #VALUE! | FX1: =AND(Feuil2!E30,"AAAAADL/77M=") -> #VALUE! | FY1: =IF(Feuil2!31:31,"AAAAADL/77Q=",0) -> 0 | FZ1: =AND(Feuil2!A31,"AAAAADL/77U=") -> #VALUE! | GA1: =AND(Feuil2!B31,"AAAAADL/77Y=") -> #VALUE! | GB1: =AND(Feuil2!C31,"AAAAADL/77c=") -> #VALUE! | GC1: =AND(Feuil2!D31,"AAAAADL/77g=") -> #VALUE! | GD1: =AND(Feuil2!E31,"AAAAADL/77k=") -> #VALUE! | GE1: =IF(Feuil2!32:32,"AAAAADL/77o=",0) -> 0 | GF1: =AND(Feuil2!A32,"AAAAADL/77s=") -> #VALUE! | GG1: =AND(Feuil2!B32,"AAAAADL/77w=") -> #VALUE! | GH1: =AND(Feuil2!C32,"AAAAADL/770=") -> #VALUE! | GI1: =AND(Feuil2!D32,"AAAAADL/774=") -> #VALUE! | GJ1: =AND(Feuil2!E32,"AAAAADL/778=") -> #VALUE! | GK1: =IF(Feuil2!33:33,"AAAAADL/78A=",0) -> 0 | GL1: =AND(Feuil2!A33,"AAAAADL/78E=") -> #VALUE! | GM1: =AND(Feuil2!B33,"AAAAADL/78I=") -> #VALUE! | GN1: =AND(Feuil2!C33,"AAAAADL/78M=") -> #VALUE! | GO1: =AND(Feuil2!D33,"AAAAADL/78Q=") -> #VALUE! | GP1: =AND(Feuil2!E33,"AAAAADL/78U=") -> #VALUE! | GQ1: =IF(Feuil2!34:34,"AAAAADL/78Y=",0) -> 0 | GR1: =AND(Feuil2!A34,"AAAAADL/78c=") -> #VALUE! | GS1: =AND(Feuil2!B34,"AAAAADL/78g=") -> #VALUE! | GT1: =AND(Feuil2!C34,"AAAAADL/78k=") -> #VALUE! | GU1: =AND(Feuil2!D34,"AAAAADL/78o=") -> #VALUE! | GV1: =AND(Feuil2!E34,"AAAAADL/78s=") -> #VALUE! | GW1: =IF(Feuil2!35:35,"AAAAADL/78w=",0) -> 0 | GX1: =AND(Feuil2!A35,"AAAAADL/780=") -> #VALUE! | GY1: =AND(Feuil2!B35,"AAAAADL/784=") -> #VALUE! | GZ1: =AND(Feuil2!C35,"AAAAADL/788=") -> #VALUE! | HA1: =AND(Feuil2!D35,"AAAAADL/79A=") -> #VALUE! | HB1: =AND(Feuil2!E35,"AAAAADL/79E=") -> #VALUE! | HC1: =IF(Feuil2!36:36,"AAAAADL/79I=",0) -> 0 | HD1: =AND(Feuil2!A36,"AAAAADL/79M=") -> #VALUE! | HE1: =AND(Feuil2!B36,"AAAAADL/79Q=") -> #VALUE! | HF1: =AND(Feuil2!C36,"AAAAADL/79U=") -> #VALUE! | HG1: =AND(Feuil2!D36,"AAAAADL/79Y=") -> #VALUE! | HH1: =AND(Feuil2!E36,"AAAAADL/79c=") -> #VALUE! | HI1: =IF(Feuil2!37:37,"AAAAADL/79g=",0) -> 0 | HJ1: =AND(Feuil2!A37,"AAAAADL/79k=") -> #VALUE! | HK1: =AND(Feuil2!B37,"AAAAADL/79o=") -> #VALUE! | HL1: =AND(Feuil2!C37,"AAAAADL/79s=") -> #VALUE! | HM1: =AND(Feuil2!D37,"AAAAADL/79w=") -> #VALUE! | HN1: =AND(Feuil2!E37,"AAAAADL/790=") -> #VALUE! | HO1: =IF(Feuil2!38:38,"AAAAADL/794=",0) -> 0 | HP1: =AND(Feuil2!A38,"AAAAADL/798=") -> #VALUE! | HQ1: =AND(Feuil2!B38,"AAAAADL/7+A=") -> #VALUE! | HR1: =AND(Feuil2!C38,"AAAAADL/7+E=") -> #VALUE! | HS1: =AND(Feuil2!D38,"AAAAADL/7+I=") -> #VALUE! | HT1: =AND(Feuil2!E38,"AAAAADL/7+M=") -> #VALUE! | HU1: =IF(Feuil2!39:39,"AAAAADL/7+Q=",0) -> 0 | HV1: =AND(Feuil2!A39,"AAAAADL/7+U=") -> #VALUE! | HW1: =AND(Feuil2!B39,"AAAAADL/7+Y=") -> #VALUE! | HX1: =AND(Feuil2!C39,"AAAAADL/7+c=") -> #VALUE! | HY1: =AND(Feuil2!D39,"AAAAADL/7+g=") -> #VALUE! | HZ1: =AND(Feuil2!E39,"AAAAADL/7+k=") -> #VALUE! | IA1: =IF(Feuil2!40:40,"AAAAADL/7+o=",0) -> 0 | IB1: =AND(Feuil2!A40,"AAAAADL/7+s=") -> #VALUE! | IC1: =AND(Feuil2!B40,"AAAAADL/7+w=") -> #VALUE! | ID1: =AND(Feuil2!C40,"AAAAADL/7+0=") -> #VALUE! | IE1: =AND(Feuil2!D40,"AAAAADL/7+4=") -> #VALUE! | IF1: =AND(Feuil2!E40,"AAAAADL/7+8=") -> #VALUE! | IG1: =IF(Feuil2!41:41,"AAAAADL/7/A=",0) -> 0 | IH1: =AND(Feuil2!A41,"AAAAADL/7/E=") -> #VALUE! | II1: =AND(Feuil2!B41,"AAAAADL/7/I=") -> #VALUE! | IJ1: =AND(Feuil2!C41,"AAAAADL/7/M=") -> #VALUE! | IK1: =AND(Feuil2!D41,"AAAAADL/7/Q=") -> #VALUE! | IL1: =AND(Feuil2!E41,"AAAAADL/7/U=") -> #VALUE! | IM1: =IF(Feuil2!42:42,"AAAAADL/7/Y=",0) -> 0 | IN1: =AND(Feuil2!A42,"AAAAADL/7/c=") -> #VALUE! | IO1: =AND(Feuil2!B42,"AAAAADL/7/g=") -> #VALUE! | IP1: =AND(Feuil2!C42,"AAAAADL/7/k=") -> #VALUE! | IQ1: =AND(Feuil2!D42,"AAAAADL/7/o=") -> #VALUE! | IR1: =AND(Feuil2!E42,"AAAAADL/7/s=") -> #VALUE! | IS1: =IF(Feuil2!43:43,"AAAAADL/7/w=",0) -> 0 | IT1: =AND(Feuil2!A43,"AAAAADL/7/0=") -> #VALUE! | IU1: =AND(Feuil2!B43,"AAAAADL/7/4=") -> #VALUE! | IV1: =AND(Feuil2!C43,"AAAAADL/7/8=") -> #VALUE!
A2: =AND(Feuil2!D43,"AAAAAB26/gA=") -> #VALUE! | B2: =AND(Feuil2!E43,"AAAAAB26/gE=") -> #VALUE! | C2: =IF(Feuil2!44:44,"AAAAAB26/gI=",0) -> 0 | D2: =AND(Feuil2!A44,"AAAAAB26/gM=") -> #VALUE! | E2: =AND(Feuil2!B44,"AAAAAB26/gQ=") -> #VALUE! | F2: =AND(Feuil2!C44,"AAAAAB26/gU=") -> #VALUE! | G2: =AND(Feuil2!D44,"AAAAAB26/gY=") -> #VALUE! | H2: =AND(Feuil2!E44,"AAAAAB26/gc=") -> #VALUE! | I2: =IF(Feuil2!45:45,"AAAAAB26/gg=",0) -> 0 | J2: =AND(Feuil2!A45,"AAAAAB26/gk=") -> #VALUE! | K2: =AND(Feuil2!B45,"AAAAAB26/go=") -> #VALUE! | L2: =AND(Feuil2!C45,"AAAAAB26/gs=") -> #VALUE! | M2: =AND(Feuil2!D45,"AAAAAB26/gw=") -> #VALUE! | N2: =AND(Feuil2!E45,"AAAAAB26/g0=") -> #VALUE! | O2: =IF(Feuil2!46:46,"AAAAAB26/g4=",0) -> 0 | P2: =AND(Feuil2!A46,"AAAAAB26/g8=") -> #VALUE! | Q2: =AND(Feuil2!B46,"AAAAAB26/hA=") -> #VALUE! | R2: =AND(Feuil2!C46,"AAAAAB26/hE=") -> #VALUE! | S2: =AND(Feuil2!D46,"AAAAAB26/hI=") -> #VALUE! | T2: =AND(Feuil2!E46,"AAAAAB26/hM=") -> #VALUE! | U2: =IF(Feuil2!47:47,"AAAAAB26/hQ=",0) -> 0 | V2: =AND(Feuil2!A47,"AAAAAB26/hU=") -> #VALUE! | W2: =AND(Feuil2!B47,"AAAAAB26/hY=") -> #VALUE! | X2: =AND(Feuil2!C47,"AAAAAB26/hc=") -> #VALUE! | Y2: =AND(Feuil2!D47,"AAAAAB26/hg=") -> #VALUE! | Z2: =AND(Feuil2!E47,"AAAAAB26/hk=") -> #VALUE! | AA2: =IF(Feuil2!A:A,"AAAAAB26/ho=",0) -> #VALUE! | AB2: =IF(Feuil2!B:B,"AAAAAB26/hs=",0) -> #VALUE! | AC2: =IF(Feuil2!C:C,"AAAAAB26/hw=",0) -> 0 | AD2: =IF(Feuil2!D:D,"AAAAAB26/h0=",0) -> 0 | AE2: =IF(Feuil2!E:E,"AAAAAB26/h4=",0) -> #VALUE! | AF2: =IF(Feuil1!1:1,"AAAAAB26/h8=",0) -> 0 | AG2: =AND(Feuil1!A1,"AAAAAB26/iA=") -> #VALUE! | AH2: =AND(Feuil1!B1,"AAAAAB26/iE=") -> #VALUE! | AI2: =AND(Feuil1!C1,"AAAAAB26/iI=") -> #VALUE! | AJ2: =AND(Feuil1!D1,"AAAAAB26/iM=") -> #VALUE! | AK2: =AND(Feuil1!E1,"AAAAAB26/iQ=") -> #VALUE! | AL2: =AND(Feuil1!F1,"AAAAAB26/iU=") -> #VALUE! | AM2: =AND(Feuil1!H1,"AAAAAB26/iY=") -> #VALUE! | AN2: =AND(Feuil1!I1,"AAAAAB26/ic=") -> #VALUE! | AO2: =AND(Feuil1!#REF!,"AAAAAB26/ig=") -> #REF! | AP2: =AND(Feuil1!#REF!,"AAAAAB26/ik=") -> #REF! | AQ2: =AND(Feuil1!#REF!,"AAAAAB26/io=") -> #REF! | AR2: =AND(Feuil1!#REF!,"AAAAAB26/is=") -> #REF! | AS2: =AND(Feuil1!#REF!,"AAAAAB26/iw=") -> #REF! | AT2: =AND(Feuil1!#REF!,"AAAAAB26/i0=") -> #REF! | AU2: =IF(Feuil1!2:2,"AAAAAB26/i4=",0) -> 0 | AV2: =AND(Feuil1!A2,"AAAAAB26/i8=") -> #VALUE! | AW2: =AND(Feuil1!B2,"AAAAAB26/jA=") -> #VALUE! | AX2: =AND(Feuil1!C2,"AAAAAB26/jE=") -> #VALUE! | AY2: =AND(Feuil1!D2,"AAAAAB26/jI=") -> #VALUE! | AZ2: =AND(Feuil1!E2,"AAAAAB26/jM=") -> #VALUE! | BA2: =AND(Feuil1!F2,"AAAAAB26/jQ=") -> #VALUE! | BB2: =AND(Feuil1!H2,"AAAAAB26/jU=") -> #VALUE! | BC2: =AND(Feuil1!I2,"AAAAAB26/jY=") -> #VALUE! | BD2: =AND(Feuil1!#REF!,"AAAAAB26/jc=") -> #REF! | BE2: =AND(Feuil1!#REF!,"AAAAAB26/jg=") -> #REF! | BF2: =AND(Feuil1!#REF!,"AAAAAB26/jk=") -> #REF! | BG2: =AND(Feuil1!#REF!,"AAAAAB26/jo=") -> #REF! | BH2: =AND(Feuil1!#REF!,"AAAAAB26/js=") -> #REF! | BI2: =AND(Feuil1!#REF!,"AAAAAB26/jw=") -> #REF! | BJ2: =IF(Feuil1!3:3,"AAAAAB26/j0=",0) -> 0 | BK2: =AND(Feuil1!A3,"AAAAAB26/j4=") -> #VALUE! | BL2: =AND(Feuil1!B3,"AAAAAB26/j8=") -> #VALUE! | BM2: =AND(Feuil1!C3,"AAAAAB26/kA=") -> #VALUE! | BN2: =AND(Feuil1!D3,"AAAAAB26/kE=") -> #VALUE! | BO2: =AND(Feuil1!E3,"AAAAAB26/kI=") -> #VALUE! | BP2: =AND(Feuil1!F3,"AAAAAB26/kM=") -> #VALUE! | BQ2: =AND(Feuil1!H3,"AAAAAB26/kQ=") -> #VALUE! | BR2: =AND(Feuil1!I3,"AAAAAB26/kU=") -> #VALUE! | BS2: =AND(Feuil1!#REF!,"AAAAAB26/kY=") -> #REF! | BT2: =AND(Feuil1!#REF!,"AAAAAB26/kc=") -> #REF! | BU2: =AND(Feuil1!#REF!,"AAAAAB26/kg=") -> #REF! | BV2: =AND(Feuil1!#REF!,"AAAAAB26/kk=") -> #REF! | BW2: =AND(Feuil1!#REF!,"AAAAAB26/ko=") -> #REF! | BX2: =AND(Feuil1!#REF!,"AAAAAB26/ks=") -> #REF! | BY2: =IF(Feuil1!4:4,"AAAAAB26/kw=",0) -> 0 | BZ2: =AND(Feuil1!A4,"AAAAAB26/k0=") -> #VALUE! | CA2: =AND(Feuil1!B4,"AAAAAB26/k4=") -> #VALUE! | CB2: =AND(Feuil1!C4,"AAAAAB26/k8=") -> #VALUE! | CC2: =AND(Feuil1!D4,"AAAAAB26/lA=") -> #VALUE! | CD2: =AND(Feuil1!E4,"AAAAAB26/lE=") -> #VALUE! | CE2: =AND(Feuil1!F4,"AAAAAB26/lI=") -> #VALUE! | CF2: =AND(Feuil1!H4,"AAAAAB26/lM=") -> #VALUE! | CG2: =AND(Feuil1!I4,"AAAAAB26/lQ=") -> #VALUE! | CH2: =AND(Feuil1!#REF!,"AAAAAB26/lU=") -> #REF! | CI2: =AND(Feuil1!#REF!,"AAAAAB26/lY=") -> #REF! | CJ2: =AND(Feuil1!#REF!,"AAAAAB26/lc=") -> #REF! | CK2: =AND(Feuil1!#REF!,"AAAAAB26/lg=") -> #REF! | CL2: =AND(Feuil1!#REF!,"AAAAAB26/lk=") -> #REF! | CM2: =AND(Feuil1!#REF!,"AAAAAB26/lo=") -> #REF! | CN2: =IF(Feuil1!5:5,"AAAAAB26/ls=",0) -> 0 | CO2: =AND(Feuil1!A5,"AAAAAB26/lw=") -> #VALUE! | CP2: =AND(Feuil1!B5,"AAAAAB26/l0=") -> #VALUE! | CQ2: =AND(Feuil1!C5,"AAAAAB26/l4=") -> #VALUE! | CR2: =AND(Feuil1!D5,"AAAAAB26/l8=") -> #VALUE! | CS2: =AND(Feuil1!E5,"AAAAAB26/mA=") -> #VALUE! | CT2: =AND(Feuil1!F5,"AAAAAB26/mE=") -> #VALUE! | CU2: =AND(Feuil1!H5,"AAAAAB26/mI=") -> #VALUE! | CV2: =AND(Feuil1!I5,"AAAAAB26/mM=") -> #VALUE! | CW2: =AND(Feuil1!#REF!,"AAAAAB26/mQ=") -> #REF! | CX2: =AND(Feuil1!#REF!,"AAAAAB26/mU=") -> #REF! | CY2: =AND(Feuil1!#REF!,"AAAAAB26/mY=") -> #REF! | CZ2: =AND(Feuil1!#REF!,"AAAAAB26/mc=") -> #REF! | DA2: =AND(Feuil1!#REF!,"AAAAAB26/mg=") -> #REF! | DB2: =AND(Feuil1!#REF!,"AAAAAB26/mk=") -> #REF! | DC2: =IF(Feuil1!6:6,"AAAAAB26/mo=",0) -> 0 | DD2: =AND(Feuil1!A6,"AAAAAB26/ms=") -> #VALUE! | DE2: =AND(Feuil1!B6,"AAAAAB26/mw=") -> #VALUE! | DF2: =AND(Feuil1!C6,"AAAAAB26/m0=") -> #VALUE! | DG2: =AND(Feuil1!D6,"AAAAAB26/m4=") -> #VALUE! | DH2: =AND(Feuil1!E6,"AAAAAB26/m8=") -> #VALUE! | DI2: =AND(Feuil1!F6,"AAAAAB26/nA=") -> #VALUE! | DJ2: =AND(Feuil1!H6,"AAAAAB26/nE=") -> #VALUE! | DK2: =AND(Feuil1!I6,"AAAAAB26/nI=") -> #VALUE! | DL2: =AND(Feuil1!#REF!,"AAAAAB26/nM=") -> #REF! | DM2: =AND(Feuil1!#REF!,"AAAAAB26/nQ=") -> #REF! | DN2: =AND(Feuil1!#REF!,"AAAAAB26/nU=") -> #REF! | DO2: =AND(Feuil1!#REF!,"AAAAAB26/nY=") -> #REF! | DP2: =AND(Feuil1!#REF!,"AAAAAB26/nc=") -> #REF! | DQ2: =AND(Feuil1!#REF!,"AAAAAB26/ng=") -> #REF! | DR2: =IF(Feuil1!7:7,"AAAAAB26/nk=",0) -> 0 | DS2: =AND(Feuil1!A7,"AAAAAB26/no=") -> #VALUE! | DT2: =AND(Feuil1!B7,"AAAAAB26/ns=") -> #VALUE! | DU2: =AND(Feuil1!C7,"AAAAAB26/nw=") -> #VALUE! | DV2: =AND(Feuil1!D7,"AAAAAB26/n0=") -> #VALUE! | DW2: =AND(Feuil1!E7,"AAAAAB26/n4=") -> #VALUE! | DX2: =AND(Feuil1!F7,"AAAAAB26/n8=") -> #VALUE! | DY2: =AND(Feuil1!H7,"AAAAAB26/oA=") -> #VALUE! | DZ2: =AND(Feuil1!I7,"AAAAAB26/oE=") -> #VALUE! | EA2: =AND(Feuil1!#REF!,"AAAAAB26/oI=") -> #REF! | EB2: =AND(Feuil1!#REF!,"AAAAAB26/oM=") -> #REF! | EC2: =AND(Feuil1!#REF!,"AAAAAB26/oQ=") -> #REF! | ED2: =AND(Feuil1!#REF!,"AAAAAB26/oU=") -> #REF! | EE2: =AND(Feuil1!#REF!,"AAAAAB26/oY=") -> #REF! | EF2: =AND(Feuil1!#REF!,"AAAAAB26/oc=") -> #REF! | EG2: =IF(Feuil1!8:8,"AAAAAB26/og=",0) -> 0 | EH2: =AND(Feuil1!A8,"AAAAAB26/ok=") -> #VALUE! | EI2: =AND(Feuil1!B8,"AAAAAB26/oo=") -> #VALUE! | EJ2: =AND(Feuil1!C8,"AAAAAB26/os=") -> #VALUE! | EK2: =AND(Feuil1!D8,"AAAAAB26/ow=") -> #VALUE! | EL2: =AND(Feuil1!E8,"AAAAAB26/o0=") -> #VALUE! | EM2: =AND(Feuil1!F8,"AAAAAB26/o4=") -> #VALUE! | EN2: =AND(Feuil1!H8,"AAAAAB26/o8=") -> #VALUE! | EO2: =AND(Feuil1!I8,"AAAAAB26/pA=") -> #VALUE! | EP2: =AND(Feuil1!#REF!,"AAAAAB26/pE=") -> #REF! | EQ2: =AND(Feuil1!#REF!,"AAAAAB26/pI=") -> #REF! | ER2: =AND(Feuil1!#REF!,"AAAAAB26/pM=") -> #REF! | ES2: =AND(Feuil1!#REF!,"AAAAAB26/pQ=") -> #REF! | ET2: =AND(Feuil1!#REF!,"AAAAAB26/pU=") -> #REF! | EU2: =AND(Feuil1!#REF!,"AAAAAB26/pY=") -> #REF! | EV2: =IF(Feuil1!9:9,"AAAAAB26/pc=",0) -> 0 | EW2: =AND(Feuil1!A9,"AAAAAB26/pg=") -> #VALUE! | EX2: =AND(Feuil1!B9,"AAAAAB26/pk=") -> #VALUE! | EY2: =AND(Feuil1!C9,"AAAAAB26/po=") -> #VALUE! | EZ2: =AND(Feuil1!D9,"AAAAAB26/ps=") -> #VALUE! | FA2: =AND(Feuil1!E9,"AAAAAB26/pw=") -> #VALUE! | FB2: =AND(Feuil1!F9,"AAAAAB26/p0=") -> #VALUE! | FC2: =AND(Feuil1!H9,"AAAAAB26/p4=") -> #VALUE! | FD2: =AND(Feuil1!I9,"AAAAAB26/p8=") -> #VALUE! | FE2: =AND(Feuil1!#REF!,"AAAAAB26/qA=") -> #REF! | FF2: =AND(Feuil1!#REF!,"AAAAAB26/qE=") -> #REF! | FG2: =AND(Feuil1!#REF!,"AAAAAB26/qI=") -> #REF! | FH2: =AND(Feuil1!#REF!,"AAAAAB26/qM=") -> #REF! | FI2: =AND(Feuil1!#REF!,"AAAAAB26/qQ=") -> #REF! | FJ2: =AND(Feuil1!#REF!,"AAAAAB26/qU=") -> #REF! | FK2: =IF(Feuil1!10:10,"AAAAAB26/qY=",0) -> 0 | FL2: =AND(Feuil1!A10,"AAAAAB26/qc=") -> #VALUE! | FM2: =AND(Feuil1!B10,"AAAAAB26/qg=") -> #VALUE! | FN2: =AND(Feuil1!C10,"AAAAAB26/qk=") -> #VALUE! | FO2: =AND(Feuil1!D10,"AAAAAB26/qo=") -> #VALUE! | FP2: =AND(Feuil1!E10,"AAAAAB26/qs=") -> #VALUE! | FQ2: =AND(Feuil1!F10,"AAAAAB26/qw=") -> #VALUE! | FR2: =AND(Feuil1!H10,"AAAAAB26/q0=") -> #VALUE! | FS2: =AND(Feuil1!I10,"AAAAAB26/q4=") -> #VALUE! | FT2: =AND(Feuil1!#REF!,"AAAAAB26/q8=") -> #REF! | FU2: =AND(Feuil1!#REF!,"AAAAAB26/rA=") -> #REF! | FV2: =AND(Feuil1!#REF!,"AAAAAB26/rE=") -> #REF! | FW2: =AND(Feuil1!#REF!,"AAAAAB26/rI=") -> #REF! | FX2: =AND(Feuil1!#REF!,"AAAAAB26/rM=") -> #REF! | FY2: =AND(Feuil1!#REF!,"AAAAAB26/rQ=") -> #REF! | FZ2: =IF(Feuil1!11:11,"AAAAAB26/rU=",0) -> 0 | GA2: =AND(Feuil1!A11,"AAAAAB26/rY=") -> #VALUE! | GB2: =AND(Feuil1!B11,"AAAAAB26/rc=") -> #VALUE! | GC2: =AND(Feuil1!C11,"AAAAAB26/rg=") -> #VALUE! | GD2: =AND(Feuil1!D11,"AAAAAB26/rk=") -> #VALUE! | GE2: =AND(Feuil1!E11,"AAAAAB26/ro=") -> #VALUE! | GF2: =AND(Feuil1!F11,"AAAAAB26/rs=") -> #VALUE! | GG2: =AND(Feuil1!H11,"AAAAAB26/rw=") -> #VALUE! | GH2: =AND(Feuil1!I11,"AAAAAB26/r0=") -> #VALUE! | GI2: =AND(Feuil1!#REF!,"AAAAAB26/r4=") -> #REF! | GJ2: =AND(Feuil1!#REF!,"AAAAAB26/r8=") -> #REF! | GK2: =AND(Feuil1!#REF!,"AAAAAB26/sA=") -> #REF! | GL2: =AND(Feuil1!#REF!,"AAAAAB26/sE=") -> #REF! | GM2: =AND(Feuil1!#REF!,"AAAAAB26/sI=") -> #REF! | GN2: =AND(Feuil1!#REF!,"AAAAAB26/sM=") -> #REF! | GO2: =IF(Feuil1!12:12,"AAAAAB26/sQ=",0) -> 0 | GP2: =AND(Feuil1!A12,"AAAAAB26/sU=") -> #VALUE! | GQ2: =AND(Feuil1!B12,"AAAAAB26/sY=") -> #VALUE! | GR2: =AND(Feuil1!C12,"AAAAAB26/sc=") -> #VALUE! | GS2: =AND(Feuil1!D12,"AAAAAB26/sg=") -> #VALUE! | GT2: =AND(Feuil1!E12,"AAAAAB26/sk=") -> #VALUE! | GU2: =AND(Feuil1!F12,"AAAAAB26/so=") -> #VALUE! | GV2: =AND(Feuil1!H12,"AAAAAB26/ss=") -> #VALUE! | GW2: =AND(Feuil1!I12,"AAAAAB26/sw=") -> #VALUE! | GX2: =AND(Feuil1!#REF!,"AAAAAB26/s0=") -> #REF! | GY2: =AND(Feuil1!#REF!,"AAAAAB26/s4=") -> #REF! | GZ2: =AND(Feuil1!#REF!,"AAAAAB26/s8=") -> #REF! | HA2: =AND(Feuil1!#REF!,"AAAAAB26/tA=") -> #REF! | HB2: =AND(Feuil1!#REF!,"AAAAAB26/tE=") -> #REF! | HC2: =AND(Feuil1!#REF!,"AAAAAB26/tI=") -> #REF! | HD2: =IF(Feuil1!13:13,"AAAAAB26/tM=",0) -> 0 | HE2: =AND(Feuil1!A13,"AAAAAB26/tQ=") -> #VALUE! | HF2: =AND(Feuil1!B13,"AAAAAB26/tU=") -> #VALUE! | HG2: =AND(Feuil1!C13,"AAAAAB26/tY=") -> #VALUE! | HH2: =AND(Feuil1!D13,"AAAAAB26/tc=") -> #VALUE! | HI2: =AND(Feuil1!E13,"AAAAAB26/tg=") -> #VALUE! | HJ2: =AND(Feuil1!F13,"AAAAAB26/tk=") -> #VALUE! | HK2: =AND(Feuil1!H13,"AAAAAB26/to=") -> #VALUE! | HL2: =AND(Feuil1!I13,"AAAAAB26/ts=") -> #VALUE! | HM2: =AND(Feuil1!#REF!,"AAAAAB26/tw=") -> #REF! | HN2: =AND(Feuil1!#REF!,"AAAAAB26/t0=") -> #REF! | HO2: =AND(Feuil1!#REF!,"AAAAAB26/t4=") -> #REF! | HP2: =AND(Feuil1!#REF!,"AAAAAB26/t8=") -> #REF! | HQ2: =AND(Feuil1!#REF!,"AAAAAB26/uA=") -> #REF! | HR2: =AND(Feuil1!#REF!,"AAAAAB26/uE=") -> #REF! | HS2: =IF(Feuil1!14:14,"AAAAAB26/uI=",0) -> 0 | HT2: =AND(Feuil1!A14,"AAAAAB26/uM=") -> #VALUE! | HU2: =AND(Feuil1!B14,"AAAAAB26/uQ=") -> #VALUE! | HV2: =AND(Feuil1!C14,"AAAAAB26/uU=") -> #VALUE! | HW2: =AND(Feuil1!D14,"AAAAAB26/uY=") -> #VALUE! | HX2: =AND(Feuil1!E14,"AAAAAB26/uc=") -> #VALUE! | HY2: =AND(Feuil1!F14,"AAAAAB26/ug=") -> #VALUE! | HZ2: =AND(Feuil1!H14,"AAAAAB26/uk=") -> #VALUE! | IA2: =AND(Feuil1!I14,"AAAAAB26/uo=") -> #VALUE! | IB2: =AND(Feuil1!#REF!,"AAAAAB26/us=") -> #REF! | IC2: =AND(Feuil1!#REF!,"AAAAAB26/uw=") -> #REF! | ID2: =AND(Feuil1!#REF!,"AAAAAB26/u0=") -> #REF! | IE2: =AND(Feuil1!#REF!,"AAAAAB26/u4=") -> #REF! | IF2: =AND(Feuil1!#REF!,"AAAAAB26/u8=") -> #REF! | IG2: =AND(Feuil1!#REF!,"AAAAAB26/vA=") -> #REF! | IH2: =IF(Feuil1!15:15,"AAAAAB26/vE=",0) -> 0 | II2: =AND(Feuil1!A15,"AAAAAB26/vI=") -> #VALUE! | IJ2: =AND(Feuil1!B15,"AAAAAB26/vM=") -> #VALUE! | IK2: =AND(Feuil1!C15,"AAAAAB26/vQ=") -> #VALUE! | IL2: =AND(Feuil1!D15,"AAAAAB26/vU=") -> #VALUE! | IM2: =AND(Feuil1!E15,"AAAAAB26/vY=") -> #VALUE! | IN2: =AND(Feuil1!F15,"AAAAAB26/vc=") -> #VALUE! | IO2: =AND(Feuil1!H15,"AAAAAB26/vg=") -> #VALUE! | IP2: =AND(Feuil1!I15,"AAAAAB26/vk=") -> #VALUE! | IQ2: =AND(Feuil1!#REF!,"AAAAAB26/vo=") -> #REF! | IR2: =AND(Feuil1!#REF!,"AAAAAB26/vs=") -> #REF! | IS2: =AND(Feuil1!#REF!,"AAAAAB26/vw=") -> #REF! | IT2: =AND(Feuil1!#REF!,"AAAAAB26/v0=") -> #REF! | IU2: =AND(Feuil1!#REF!,"AAAAAB26/v4=") -> #REF! | IV2: =AND(Feuil1!#REF!,"AAAAAB26/v8=") -> #REF!
A3: =IF(Feuil1!16:16,"AAAAADX+1wA=",0) -> 0 | B3: =AND(Feuil1!A16,"AAAAADX+1wE=") -> #VALUE! | C3: =AND(Feuil1!B16,"AAAAADX+1wI=") -> #VALUE! | D3: =AND(Feuil1!C16,"AAAAADX+1wM=") -> #VALUE! | E3: =AND(Feuil1!D16,"AAAAADX+1wQ=") -> #VALUE! | F3: =AND(Feuil1!E16,"AAAAADX+1wU=") -> #VALUE! | G3: =AND(Feuil1!F16,"AAAAADX+1wY=") -> #VALUE! | H3: =AND(Feuil1!H16,"AAAAADX+1wc=") -> #VALUE! | I3: =AND(Feuil1!I16,"AAAAADX+1wg=") -> #VALUE! | J3: =AND(Feuil1!#REF!,"AAAAADX+1wk=") -> #REF! | K3: =AND(Feuil1!#REF!,"AAAAADX+1wo=") -> #REF! | L3: =AND(Feuil1!#REF!,"AAAAADX+1ws=") -> #REF! | M3: =AND(Feuil1!#REF!,"AAAAADX+1ww=") -> #REF! | N3: =AND(Feuil1!#REF!,"AAAAADX+1w0=") -> #REF! | O3: =AND(Feuil1!#REF!,"AAAAADX+1w4=") -> #REF! | P3: =IF(Feuil1!17:17,"AAAAADX+1w8=",0) -> 0 | Q3: =AND(Feuil1!A17,"AAAAADX+1xA=") -> #VALUE! | R3: =AND(Feuil1!B17,"AAAAADX+1xE=") -> #VALUE! | S3: =AND(Feuil1!C17,"AAAAADX+1xI=") -> #VALUE! | T3: =AND(Feuil1!D17,"AAAAADX+1xM=") -> #VALUE! | U3: =AND(Feuil1!E17,"AAAAADX+1xQ=") -> #VALUE! | V3: =AND(Feuil1!F17,"AAAAADX+1xU=") -> #VALUE! | W3: =AND(Feuil1!H17,"AAAAADX+1xY=") -> #VALUE! | X3: =AND(Feuil1!I17,"AAAAADX+1xc=") -> #VALUE! | Y3: =AND(Feuil1!#REF!,"AAAAADX+1xg=") -> #REF! | Z3: =AND(Feuil1!#REF!,"AAAAADX+1xk=") -> #REF! | AA3: =AND(Feuil1!#REF!,"AAAAADX+1xo=") -> #REF! | AB3: =AND(Feuil1!#REF!,"AAAAADX+1xs=") -> #REF! | AC3: =AND(Feuil1!#REF!,"AAAAADX+1xw=") -> #REF! | AD3: =AND(Feuil1!#REF!,"AAAAADX+1x0=") -> #REF! | AE3: =IF(Feuil1!18:18,"AAAAADX+1x4=",0) -> 0 | AF3: =AND(Feuil1!A18,"AAAAADX+1x8=") -> #VALUE! | AG3: =AND(Feuil1!B18,"AAAAADX+1yA=") -> #VALUE! | AH3: =AND(Feuil1!C18,"AAAAADX+1yE=") -> #VALUE! | AI3: =AND(Feuil1!D18,"AAAAADX+1yI=") -> #VALUE! | AJ3: =AND(Feuil1!E18,"AAAAADX+1yM=") -> #VALUE! | AK3: =AND(Feuil1!F18,"AAAAADX+1yQ=") -> #VALUE! | AL3: =AND(Feuil1!H18,"AAAAADX+1yU=") -> #VALUE! | AM3: =AND(Feuil1!I18,"AAAAADX+1yY=") -> #VALUE! | AN3: =AND(Feuil1!#REF!,"AAAAADX+1yc=") -> #REF! | AO3: =AND(Feuil1!#REF!,"AAAAADX+1yg=") -> #REF! | AP3: =AND(Feuil1!#REF!,"AAAAADX+1yk=") -> #REF! | AQ3: =AND(Feuil1!#REF!,"AAAAADX+1yo=") -> #REF! | AR3: =AND(Feuil1!#REF!,"AAAAADX+1ys=") -> #REF! | AS3: =AND(Feuil1!#REF!,"AAAAADX+1yw=") -> #REF! | AT3: =IF(Feuil1!19:19,"AAAAADX+1y0=",0) -> 0 | AU3: =AND(Feuil1!A19,"AAAAADX+1y4=") -> #VALUE! | AV3: =AND(Feuil1!B19,"AAAAADX+1y8=") -> #VALUE! | AW3: =AND(Feuil1!C19,"AAAAADX+1zA=") -> #VALUE! | AX3: =AND(Feuil1!D19,"AAAAADX+1zE=") -> #VALUE! | AY3: =AND(Feuil1!E19,"AAAAADX+1zI=") -> #VALUE! | AZ3: =AND(Feuil1!F19,"AAAAADX+1zM=") -> #VALUE! | BA3: =AND(Feuil1!H19,"AAAAADX+1zQ=") -> #VALUE! | BB3: =AND(Feuil1!I19,"AAAAADX+1zU=") -> #VALUE! | BC3: =AND(Feuil1!#REF!,"AAAAADX+1zY=") -> #REF! | BD3: =AND(Feuil1!#REF!,"AAAAADX+1zc=") -> #REF! | BE3: =AND(Feuil1!#REF!,"AAAAADX+1zg=") -> #REF! | BF3: =AND(Feuil1!#REF!,"AAAAADX+1zk=") -> #REF! | BG3: =AND(Feuil1!#REF!,"AAAAADX+1zo=") -> #REF! | BH3: =AND(Feuil1!#REF!,"AAAAADX+1zs=") -> #REF! | BI3: =IF(Feuil1!20:20,"AAAAADX+1zw=",0) -> 0 | BJ3: =AND(Feuil1!A20,"AAAAADX+1z0=") -> #VALUE! | BK3: =AND(Feuil1!B20,"AAAAADX+1z4=") -> #VALUE! | BL3: =AND(Feuil1!C20,"AAAAADX+1z8=") -> #VALUE! | BM3: =AND(Feuil1!D20,"AAAAADX+10A=") -> #VALUE! | BN3: =AND(Feuil1!E20,"AAAAADX+10E=") -> #VALUE! | BO3: =AND(Feuil1!F20,"AAAAADX+10I=") -> #VALUE! | BP3: =AND(Feuil1!H20,"AAAAADX+10M=") -> #VALUE! | BQ3: =AND(Feuil1!I20,"AAAAADX+10Q=") -> #VALUE! | BR3: =AND(Feuil1!#REF!,"AAAAADX+10U=") -> #REF! | BS3: =AND(Feuil1!#REF!,"AAAAADX+10Y=") -> #REF! | BT3: =AND(Feuil1!#REF!,"AAAAADX+10c=") -> #REF! | BU3: =AND(Feuil1!#REF!,"AAAAADX+10g=") -> #REF! | BV3: =AND(Feuil1!#REF!,"AAAAADX+10k=") -> #REF! | BW3: =AND(Feuil1!#REF!,"AAAAADX+10o=") -> #REF! | BX3: =IF(Feuil1!21:21,"AAAAADX+10s=",0) -> 0 | BY3: =AND(Feuil1!A21,"AAAAADX+10w=") -> #VALUE! | BZ3: =AND(Feuil1!B21,"AAAAADX+100=") -> #VALUE! | CA3: =AND(Feuil1!C21,"AAAAADX+104=") -> #VALUE! | CB3: =AND(Feuil1!D21,"AAAAADX+108=") -> #VALUE! | CC3: =AND(Feuil1!E21,"AAAAADX+11A=") -> #VALUE! | CD3: =AND(Feuil1!F21,"AAAAADX+11E=") -> #VALUE! | CE3: =AND(Feuil1!H21,"AAAAADX+11I=") -> #VALUE! | CF3: =AND(Feuil1!I21,"AAAAADX+11M=") -> #VALUE! | CG3: =AND(Feuil1!#REF!,"AAAAADX+11Q=") -> #REF! | CH3: =AND(Feuil1!#REF!,"AAAAADX+11U=") -> #REF! | CI3: =AND(Feuil1!#REF!,"AAAAADX+11Y=") -> #REF! | CJ3: =AND(Feuil1!#REF!,"AAAAADX+11c=") -> #REF! | CK3: =AND(Feuil1!#REF!,"AAAAADX+11g=") -> #REF! | CL3: =AND(Feuil1!#REF!,"AAAAADX+11k=") -> #REF! | CM3: =IF(Feuil1!22:22,"AAAAADX+11o=",0) -> 0 | CN3: =AND(Feuil1!A22,"AAAAADX+11s=") -> #VALUE! | CO3: =AND(Feuil1!B22,"AAAAADX+11w=") -> #VALUE! | CP3: =AND(Feuil1!C22,"AAAAADX+110=") -> #VALUE! | CQ3: =AND(Feuil1!D22,"AAAAADX+114=") -> #VALUE! | CR3: =AND(Feuil1!E22,"AAAAADX+118=") -> #VALUE! | CS3: =AND(Feuil1!F22,"AAAAADX+12A=") -> #VALUE! | CT3: =AND(Feuil1!H22,"AAAAADX+12E=") -> #VALUE! | CU3: =AND(Feuil1!I22,"AAAAADX+12I=") -> #VALUE! | CV3: =AND(Feuil1!#REF!,"AAAAADX+12M=") -> #REF! | CW3: =AND(Feuil1!#REF!,"AAAAADX+12Q=") -> #REF! | CX3: =AND(Feuil1!#REF!,"AAAAADX+12U=") -> #REF! | CY3: =AND(Feuil1!#REF!,"AAAAADX+12Y=") -> #REF! | CZ3: =AND(Feuil1!#REF!,"AAAAADX+12c=") -> #REF! | DA3: =AND(Feuil1!#REF!,"AAAAADX+12g=") -> #REF! | DB3: =IF(Feuil1!23:23,"AAAAADX+12k=",0) -> 0 | DC3: =AND(Feuil1!A23,"AAAAADX+12o=") -> #VALUE! | DD3: =AND(Feuil1!B23,"AAAAADX+12s=") -> #VALUE! | DE3: =AND(Feuil1!C23,"AAAAADX+12w=") -> #VALUE! | DF3: =AND(Feuil1!D23,"AAAAADX+120=") -> #VALUE! | DG3: =AND(Feuil1!E23,"AAAAADX+124=") -> #VALUE! | DH3: =AND(Feuil1!F23,"AAAAADX+128=") -> #VALUE! | DI3: =AND(Feuil1!H23,"AAAAADX+13A=") -> #VALUE! | DJ3: =AND(Feuil1!I23,"AAAAADX+13E=") -> #VALUE! | DK3: =AND(Feuil1!#REF!,"AAAAADX+13I=") -> #REF! | DL3: =AND(Feuil1!#REF!,"AAAAADX+13M=") -> #REF! | DM3: =AND(Feuil1!#REF!,"AAAAADX+13Q=") -> #REF! | DN3: =AND(Feuil1!#REF!,"AAAAADX+13U=") -> #REF! | DO3: =AND(Feuil1!#REF!,"AAAAADX+13Y=") -> #REF! | DP3: =AND(Feuil1!#REF!,"AAAAADX+13c=") -> #REF! | DQ3: =IF(Feuil1!24:24,"AAAAADX+13g=",0) -> 0 | DR3: =AND(Feuil1!A24,"AAAAADX+13k=") -> #VALUE! | DS3: =AND(Feuil1!B24,"AAAAADX+13o=") -> #VALUE! | DT3: =AND(Feuil1!C24,"AAAAADX+13s=") -> #VALUE! | DU3: =AND(Feuil1!D24,"AAAAADX+13w=") -> #VALUE! | DV3: =AND(Feuil1!E24,"AAAAADX+130=") -> #VALUE! | DW3: =AND(Feuil1!F24,"AAAAADX+134=") -> #VALUE! | DX3: =AND(Feuil1!H24,"AAAAADX+138=") -> #VALUE! | DY3: =AND(Feuil1!I24,"AAAAADX+14A=") -> #VALUE! | DZ3: =AND(Feuil1!#REF!,"AAAAADX+14E=") -> #REF! | EA3: =AND(Feuil1!#REF!,"AAAAADX+14I=") -> #REF! | EB3: =AND(Feuil1!#REF!,"AAAAADX+14M=") -> #REF! | EC3: =AND(Feuil1!#REF!,"AAAAADX+14Q=") -> #REF! | ED3: =AND(Feuil1!#REF!,"AAAAADX+14U=") -> #REF! | EE3: =AND(Feuil1!#REF!,"AAAAADX+14Y=") -> #REF! | EF3: =IF(Feuil1!25:25,"AAAAADX+14c=",0) -> 0 | EG3: =AND(Feuil1!A25,"AAAAADX+14g=") -> #VALUE! | EH3: =AND(Feuil1!B25,"AAAAADX+14k=") -> #VALUE! | EI3: =AND(Feuil1!C25,"AAAAADX+14o=") -> #VALUE! | EJ3: =AND(Feuil1!D25,"AAAAADX+14s=") -> #VALUE! | EK3: =AND(Feuil1!E25,"AAAAADX+14w=") -> #VALUE! | EL3: =AND(Feuil1!F25,"AAAAADX+140=") -> #VALUE! | EM3: =AND(Feuil1!H25,"AAAAADX+144=") -> #VALUE! | EN3: =AND(Feuil1!I25,"AAAAADX+148=") -> #VALUE! | EO3: =AND(Feuil1!#REF!,"AAAAADX+15A=") -> #REF! | EP3: =AND(Feuil1!#REF!,"AAAAADX+15E=") -> #REF! | EQ3: =AND(Feuil1!#REF!,"AAAAADX+15I=") -> #REF! | ER3: =AND(Feuil1!#REF!,"AAAAADX+15M=") -> #REF! | ES3: =AND(Feuil1!#REF!,"AAAAADX+15Q=") -> #REF! | ET3: =AND(Feuil1!#REF!,"AAAAADX+15U=") -> #REF! | EU3: =IF(Feuil1!26:26,"AAAAADX+15Y=",0) -> 0 | EV3: =AND(Feuil1!A26,"AAAAADX+15c=") -> #VALUE! | EW3: =AND(Feuil1!B26,"AAAAADX+15g=") -> #VALUE! | EX3: =AND(Feuil1!C26,"AAAAADX+15k=") -> #VALUE! | EY3: =AND(Feuil1!D26,"AAAAADX+15o=") -> #VALUE! | EZ3: =AND(Feuil1!E26,"AAAAADX+15s=") -> #VALUE! | FA3: =AND(Feuil1!F26,"AAAAADX+15w=") -> #VALUE! | FB3: =AND(Feuil1!H26,"AAAAADX+150=") -> #VALUE! | FC3: =AND(Feuil1!I26,"AAAAADX+154=") -> #VALUE! | FD3: =AND(Feuil1!#REF!,"AAAAADX+158=") -> #REF! | FE3: =AND(Feuil1!#REF!,"AAAAADX+16A=") -> #REF! | FF3: =AND(Feuil1!#REF!,"AAAAADX+16E=") -> #REF! | FG3: =AND(Feuil1!#REF!,"AAAAADX+16I=") -> #REF! | FH3: =AND(Feuil1!#REF!,"AAAAADX+16M=") -> #REF! | FI3: =AND(Feuil1!#REF!,"AAAAADX+16Q=") -> #REF! | FJ3: =IF(Feuil1!27:27,"AAAAADX+16U=",0) -> 0 | FK3: =AND(Feuil1!A27,"AAAAADX+16Y=") -> #VALUE! | FL3: =AND(Feuil1!B27,"AAAAADX+16c=") -> #VALUE! | FM3: =AND(Feuil1!C27,"AAAAADX+16g=") -> #VALUE! | FN3: =AND(Feuil1!D27,"AAAAADX+16k=") -> #VALUE! | FO3: =AND(Feuil1!E27,"AAAAADX+16o=") -> #VALUE! | FP3: =AND(Feuil1!F27,"AAAAADX+16s=") -> #VALUE! | FQ3: =AND(Feuil1!H27,"AAAAADX+16w=") -> #VALUE! | FR3: =AND(Feuil1!I27,"AAAAADX+160=") -> #VALUE! | FS3: =AND(Feuil1!#REF!,"AAAAADX+164=") -> #REF! | FT3: =AND(Feuil1!#REF!,"AAAAADX+168=") -> #REF! | FU3: =AND(Feuil1!#REF!,"AAAAADX+17A=") -> #REF! | FV3: =AND(Feuil1!#REF!,"AAAAADX+17E=") -> #REF! | FW3: =AND(Feuil1!#REF!,"AAAAADX+17I=") -> #REF! | FX3: =AND(Feuil1!#REF!,"AAAAADX+17M=") -> #REF! | FY3: =IF(Feuil1!28:28,"AAAAADX+17Q=",0) -> 0 | FZ3: =AND(Feuil1!A28,"AAAAADX+17U=") -> #VALUE! | GA3: =AND(Feuil1!B28,"AAAAADX+17Y=") -> #VALUE! | GB3: =AND(Feuil1!C28,"AAAAADX+17c=") -> #VALUE! | GC3: =AND(Feuil1!D28,"AAAAADX+17g=") -> #VALUE! | GD3: =AND(Feuil1!E28,"AAAAADX+17k=") -> #VALUE! | GE3: =AND(Feuil1!F28,"AAAAADX+17o=") -> #VALUE! | GF3: =AND(Feuil1!H28,"AAAAADX+17s=") -> #VALUE! | GG3: =AND(Feuil1!I28,"AAAAADX+17w=") -> #VALUE! | GH3: =AND(Feuil1!#REF!,"AAAAADX+170=") -> #REF! | GI3: =AND(Feuil1!#REF!,"AAAAADX+174=") -> #REF! | GJ3: =AND(Feuil1!#REF!,"AAAAADX+178=") -> #REF! | GK3: =AND(Feuil1!#REF!,"AAAAADX+18A=") -> #REF! | GL3: =AND(Feuil1!#REF!,"AAAAADX+18E=") -> #REF! | GM3: =AND(Feuil1!#REF!,"AAAAADX+18I=") -> #REF! | GN3: =IF(Feuil1!29:29,"AAAAADX+18M=",0) -> 0 | GO3: =AND(Feuil1!A29,"AAAAADX+18Q=") -> #VALUE! | GP3: =AND(Feuil1!B29,"AAAAADX+18U=") -> #VALUE! | GQ3: =AND(Feuil1!C29,"AAAAADX+18Y=") -> #VALUE! | GR3: =AND(Feuil1!D29,"AAAAADX+18c=") -> #VALUE! | GS3: =AND(Feuil1!E29,"AAAAADX+18g=") -> #VALUE! | GT3: =AND(Feuil1!F29,"AAAAADX+18k=") -> #VALUE! | GU3: =AND(Feuil1!H29,"AAAAADX+18o=") -> #VALUE! | GV3: =AND(Feuil1!I29,"AAAAADX+18s=") -> #VALUE! | GW3: =AND(Feuil1!#REF!,"AAAAADX+18w=") -> #REF! | GX3: =AND(Feuil1!#REF!,"AAAAADX+180=") -> #REF! | GY3: =AND(Feuil1!#REF!,"AAAAADX+184=") -> #REF! | GZ3: =AND(Feuil1!#REF!,"AAAAADX+188=") -> #REF! | HA3: =AND(Feuil1!#REF!,"AAAAADX+19A=") -> #REF! | HB3: =AND(Feuil1!#REF!,"AAAAADX+19E=") -> #REF! | HC3: =IF(Feuil1!30:30,"AAAAADX+19I=",0) -> 0 | HD3: =AND(Feuil1!A30,"AAAAADX+19M=") -> #VALUE! | HE3: =AND(Feuil1!B30,"AAAAADX+19Q=") -> #VALUE! | HF3: =AND(Feuil1!C30,"AAAAADX+19U=") -> #VALUE! | HG3: =AND(Feuil1!D30,"AAAAADX+19Y=") -> #VALUE! | HH3: =AND(Feuil1!E30,"AAAAADX+19c=") -> #VALUE! | HI3: =AND(Feuil1!F30,"AAAAADX+19g=") -> #VALUE! | HJ3: =AND(Feuil1!H30,"AAAAADX+19k=") -> #VALUE! | HK3: =AND(Feuil1!I30,"AAAAADX+19o=") -> #VALUE! | HL3: =AND(Feuil1!#REF!,"AAAAADX+19s=") -> #REF! | HM3: =AND(Feuil1!#REF!,"AAAAADX+19w=") -> #REF! | HN3: =AND(Feuil1!#REF!,"AAAAADX+190=") -> #REF! | HO3: =AND(Feuil1!#REF!,"AAAAADX+194=") -> #REF! | HP3: =AND(Feuil1!#REF!,"AAAAADX+198=") -> #REF! | HQ3: =AND(Feuil1!#REF!,"AAAAADX+1+A=") -> #REF! | HR3: =IF(Feuil1!31:31,"AAAAADX+1+E=",0) -> 0 | HS3: =AND(Feuil1!A31,"AAAAADX+1+I=") -> #VALUE! | HT3: =AND(Feuil1!B31,"AAAAADX+1+M=") -> #VALUE! | HU3: =AND(Feuil1!C31,"AAAAADX+1+Q=") -> #VALUE! | HV3: =AND(Feuil1!D31,"AAAAADX+1+U=") -> #VALUE! | HW3: =AND(Feuil1!E31,"AAAAADX+1+Y=") -> #VALUE! | HX3: =AND(Feuil1!F31,"AAAAADX+1+c=") -> #VALUE! | HY3: =AND(Feuil1!H31,"AAAAADX+1+g=") -> #VALUE! | HZ3: =AND(Feuil1!I31,"AAAAADX+1+k=") -> #VALUE! | IA3: =AND(Feuil1!#REF!,"AAAAADX+1+o=") -> #REF! | IB3: =AND(Feuil1!#REF!,"AAAAADX+1+s=") -> #REF! | IC3: =AND(Feuil1!#REF!,"AAAAADX+1+w=") -> #REF! | ID3: =AND(Feuil1!#REF!,"AAAAADX+1+0=") -> #REF! | IE3: =AND(Feuil1!#REF!,"AAAAADX+1+4=") -> #REF! | IF3: =AND(Feuil1!#REF!,"AAAAADX+1+8=") -> #REF! | IG3: =IF(Feuil1!32:32,"AAAAADX+1/A=",0) -> 0 | IH3: =AND(Feuil1!A32,"AAAAADX+1/E=") -> #VALUE! | II3: =AND(Feuil1!B32,"AAAAADX+1/I=") -> #VALUE! | IJ3: =AND(Feuil1!C32,"AAAAADX+1/M=") -> #VALUE! | IK3: =AND(Feuil1!D32,"AAAAADX+1/Q=") -> #VALUE! | IL3: =AND(Feuil1!E32,"AAAAADX+1/U=") -> #VALUE! | IM3: =AND(Feuil1!F32,"AAAAADX+1/Y=") -> #VALUE! | IN3: =AND(Feuil1!H32,"AAAAADX+1/c=") -> #VALUE! | IO3: =AND(Feuil1!I32,"AAAAADX+1/g=") -> #VALUE! | IP3: =AND(Feuil1!#REF!,"AAAAADX+1/k=") -> #REF! | IQ3: =AND(Feuil1!#REF!,"AAAAADX+1/o=") -> #REF! | IR3: =AND(Feuil1!#REF!,"AAAAADX+1/s=") -> #REF! | IS3: =AND(Feuil1!#REF!,"AAAAADX+1/w=") -> #REF! | IT3: =AND(Feuil1!#REF!,"AAAAADX+1/0=") -> #REF! | IU3: =AND(Feuil1!#REF!,"AAAAADX+1/4=") -> #REF! | IV3: =IF(Feuil1!33:33,"AAAAADX+1/8=",0) -> 0
A4: =AND(Feuil1!A33,"AAAAAHtz1wA=") -> #VALUE! | B4: =AND(Feuil1!B33,"AAAAAHtz1wE=") -> #VALUE! | C4: =AND(Feuil1!C33,"AAAAAHtz1wI=") -> #VALUE! | D4: =AND(Feuil1!D33,"AAAAAHtz1wM=") -> #VALUE! | E4: =AND(Feuil1!E33,"AAAAAHtz1wQ=") -> #VALUE! | F4: =AND(Feuil1!F33,"AAAAAHtz1wU=") -> #VALUE! | G4: =AND(Feuil1!H33,"AAAAAHtz1wY=") -> #VALUE! | H4: =AND(Feuil1!I33,"AAAAAHtz1wc=") -> #VALUE! | I4: =AND(Feuil1!#REF!,"AAAAAHtz1wg=") -> #REF! | J4: =AND(Feuil1!#REF!,"AAAAAHtz1wk=") -> #REF! | K4: =AND(Feuil1!#REF!,"AAAAAHtz1wo=") -> #REF! | L4: =AND(Feuil1!#REF!,"AAAAAHtz1ws=") -> #REF! | M4: =AND(Feuil1!#REF!,"AAAAAHtz1ww=") -> #REF! | N4: =AND(Feuil1!#REF!,"AAAAAHtz1w0=") -> #REF! | O4: =IF(Feuil1!34:34,"AAAAAHtz1w4=",0) -> 0 | P4: =AND(Feuil1!A34,"AAAAAHtz1w8=") -> #VALUE! | Q4: =AND(Feuil1!B34,"AAAAAHtz1xA=") -> #VALUE! | R4: =AND(Feuil1!C34,"AAAAAHtz1xE=") -> #VALUE! | S4: =AND(Feuil1!D34,"AAAAAHtz1xI=") -> #VALUE! | T4: =AND(Feuil1!E34,"AAAAAHtz1xM=") -> #VALUE! | U4: =AND(Feuil1!F34,"AAAAAHtz1xQ=") -> #VALUE! | V4: =AND(Feuil1!H34,"AAAAAHtz1xU=") -> #VALUE! | W4: =AND(Feuil1!I34,"AAAAAHtz1xY=") -> #VALUE! | X4: =AND(Feuil1!#REF!,"AAAAAHtz1xc=") -> #REF! | Y4: =AND(Feuil1!#REF!,"AAAAAHtz1xg=") -> #REF! | Z4: =AND(Feuil1!#REF!,"AAAAAHtz1xk=") -> #REF! | AA4: =AND(Feuil1!#REF!,"AAAAAHtz1xo=") -> #REF! | AB4: =AND(Feuil1!#REF!,"AAAAAHtz1xs=") -> #REF! | AC4: =AND(Feuil1!#REF!,"AAAAAHtz1xw=") -> #REF! | AD4: =IF(Feuil1!35:35,"AAAAAHtz1x0=",0) -> 0 | AE4: =AND(Feuil1!A35,"AAAAAHtz1x4=") -> #VALUE! | AF4: =AND(Feuil1!B35,"AAAAAHtz1x8=") -> #VALUE! | AG4: =AND(Feuil1!C35,"AAAAAHtz1yA=") -> #VALUE! | AH4: =AND(Feuil1!D35,"AAAAAHtz1yE=") -> #VALUE! | AI4: =AND(Feuil1!E35,"AAAAAHtz1yI=") -> #VALUE! | AJ4: =AND(Feuil1!F35,"AAAAAHtz1yM=") -> #VALUE! | AK4: =AND(Feuil1!H35,"AAAAAHtz1yQ=") -> #VALUE! | AL4: =AND(Feuil1!I35,"AAAAAHtz1yU=") -> #VALUE! | AM4: =AND(Feuil1!#REF!,"AAAAAHtz1yY=") -> #REF! | AN4: =AND(Feuil1!#REF!,"AAAAAHtz1yc=") -> #REF! | AO4: =AND(Feuil1!#REF!,"AAAAAHtz1yg=") -> #REF! | AP4: =AND(Feuil1!#REF!,"AAAAAHtz1yk=") -> #REF! | AQ4: =AND(Feuil1!#REF!,"AAAAAHtz1yo=") -> #REF! | AR4: =AND(Feuil1!#REF!,"AAAAAHtz1ys=") -> #REF! | AS4: =IF(Feuil1!36:36,"AAAAAHtz1yw=",0) -> 0 | AT4: =AND(Feuil1!A36,"AAAAAHtz1y0=") -> #VALUE! | AU4: =AND(Feuil1!B36,"AAAAAHtz1y4=") -> #VALUE! | AV4: =AND(Feuil1!C36,"AAAAAHtz1y8=") -> #VALUE! | AW4: =AND(Feuil1!D36,"AAAAAHtz1zA=") -> #VALUE! | AX4: =AND(Feuil1!E36,"AAAAAHtz1zE=") -> #VALUE! | AY4: =AND(Feuil1!F36,"AAAAAHtz1zI=") -> #VALUE! | AZ4: =AND(Feuil1!H36,"AAAAAHtz1zM=") -> #VALUE! | BA4: =AND(Feuil1!I36,"AAAAAHtz1zQ=") -> #VALUE! | BB4: =AND(Feuil1!#REF!,"AAAAAHtz1zU=") -> #REF! | BC4: =AND(Feuil1!#REF!,"AAAAAHtz1zY=") -> #REF! | BD4: =AND(Feuil1!#REF!,"AAAAAHtz1zc=") -> #REF! | BE4: =AND(Feuil1!#REF!,"AAAAAHtz1zg=") -> #REF! | BF4: =AND(Feuil1!#REF!,"AAAAAHtz1zk=") -> #REF! | BG4: =AND(Feuil1!#REF!,"AAAAAHtz1zo=") -> #REF! | BH4: =IF(Feuil1!37:37,"AAAAAHtz1zs=",0) -> 0 | BI4: =AND(Feuil1!A37,"AAAAAHtz1zw=") -> #VALUE! | BJ4: =AND(Feuil1!B37,"AAAAAHtz1z0=") -> #VALUE! | BK4: =AND(Feuil1!C37,"AAAAAHtz1z4=") -> #VALUE! | BL4: =AND(Feuil1!D37,"AAAAAHtz1z8=") -> #VALUE! | BM4: =AND(Feuil1!E37,"AAAAAHtz10A=") -> #VALUE! | BN4: =AND(Feuil1!F37,"AAAAAHtz10E=") -> #VALUE! | BO4: =AND(Feuil1!H37,"AAAAAHtz10I=") -> #VALUE! | BP4: =AND(Feuil1!I37,"AAAAAHtz10M=") -> #VALUE! | BQ4: =AND(Feuil1!#REF!,"AAAAAHtz10Q=") -> #REF! | BR4: =AND(Feuil1!#REF!,"AAAAAHtz10U=") -> #REF! | BS4: =AND(Feuil1!#REF!,"AAAAAHtz10Y=") -> #REF! | BT4: =AND(Feuil1!#REF!,"AAAAAHtz10c=") -> #REF! | BU4: =AND(Feuil1!#REF!,"AAAAAHtz10g=") -> #REF! | BV4: =AND(Feuil1!#REF!,"AAAAAHtz10k=") -> #REF! | BW4: =IF(Feuil1!38:38,"AAAAAHtz10o=",0) -> 0 | BX4: =AND(Feuil1!A38,"AAAAAHtz10s=") -> #VALUE! | BY4: =AND(Feuil1!B38,"AAAAAHtz10w=") -> #VALUE! | BZ4: =AND(Feuil1!C38,"AAAAAHtz100=") -> #VALUE! | CA4: =AND(Feuil1!D38,"AAAAAHtz104=") -> #VALUE! | CB4: =AND(Feuil1!E38,"AAAAAHtz108=") -> #VALUE! | CC4: =AND(Feuil1!F38,"AAAAAHtz11A=") -> #VALUE! | CD4: =AND(Feuil1!H38,"AAAAAHtz11E=") -> #VALUE! | CE4: =AND(Feuil1!I38,"AAAAAHtz11I=") -> #VALUE! | CF4: =AND(Feuil1!#REF!,"AAAAAHtz11M=") -> #REF! | CG4: =AND(Feuil1!#REF!,"AAAAAHtz11Q=") -> #REF! | CH4: =AND(Feuil1!#REF!,"AAAAAHtz11U=") -> #REF! | CI4: =AND(Feuil1!#REF!,"AAAAAHtz11Y=") -> #REF! | CJ4: =AND(Feuil1!#REF!,"AAAAAHtz11c=") -> #REF! | CK4: =AND(Feuil1!#REF!,"AAAAAHtz11g=") -> #REF! | CL4: =IF(Feuil1!39:39,"AAAAAHtz11k=",0) -> 0 | CM4: =AND(Feuil1!A39,"AAAAAHtz11o=") -> #VALUE! | CN4: =AND(Feuil1!B39,"AAAAAHtz11s=") -> #VALUE! | CO4: =AND(Feuil1!C39,"AAAAAHtz11w=") -> #VALUE! | CP4: =AND(Feuil1!D39,"AAAAAHtz110=") -> #VALUE! | CQ4: =AND(Feuil1!E39,"AAAAAHtz114=") -> #VALUE! | CR4: =AND(Feuil1!F39,"AAAAAHtz118=") -> #VALUE! | CS4: =AND(Feuil1!H39,"AAAAAHtz12A=") -> #VALUE! | CT4: =AND(Feuil1!I39,"AAAAAHtz12E=") -> #VALUE! | CU4: =AND(Feuil1!#REF!,"AAAAAHtz12I=") -> #REF! | CV4: =AND(Feuil1!#REF!,"AAAAAHtz12M=") -> #REF! | CW4: =AND(Feuil1!#REF!,"AAAAAHtz12Q=") -> #REF! | CX4: =AND(Feuil1!#REF!,"AAAAAHtz12U=") -> #REF! | CY4: =AND(Feuil1!#REF!,"AAAAAHtz12Y=") -> #REF! | CZ4: =AND(Feuil1!#REF!,"AAAAAHtz12c=") -> #REF! | DA4: =IF(Feuil1!40:40,"AAAAAHtz12g=",0) -> 0 | DB4: =AND(Feuil1!A40,"AAAAAHtz12k=") -> #VALUE! | DC4: =AND(Feuil1!B40,"AAAAAHtz12o=") -> #VALUE! | DD4: =AND(Feuil1!C40,"AAAAAHtz12s=") -> #VALUE! | DE4: =AND(Feuil1!D40,"AAAAAHtz12w=") -> #VALUE! | DF4: =AND(Feuil1!E40,"AAAAAHtz120=") -> #VALUE! | DG4: =IF(Feuil1!41:41,"AAAAAHtz124=",0) -> 0 | DH4: =AND(Feuil1!A41,"AAAAAHtz128=") -> #VALUE! | DI4: =AND(Feuil1!B41,"AAAAAHtz13A=") -> #VALUE! | DJ4: =AND(Feuil1!C41,"AAAAAHtz13E=") -> #VALUE! | DK4: =AND(Feuil1!D41,"AAAAAHtz13I=") -> #VALUE! | DL4: =AND(Feuil1!E41,"AAAAAHtz13M=") -> #VALUE! | DM4: =IF(Feuil1!42:42,"AAAAAHtz13Q=",0) -> 0 | DN4: =AND(Feuil1!A42,"AAAAAHtz13U=") -> #VALUE! | DO4: =AND(Feuil1!B42,"AAAAAHtz13Y=") -> #VALUE! | DP4: =AND(Feuil1!C42,"AAAAAHtz13c=") -> #VALUE! | DQ4: =AND(Feuil1!D42,"AAAAAHtz13g=") -> #VALUE! | DR4: =AND(Feuil1!E42,"AAAAAHtz13k=") -> #VALUE! | DS4: =IF(Feuil1!43:43,"AAAAAHtz13o=",0) -> 0 | DT4: =AND(Feuil1!A43,"AAAAAHtz13s=") -> #VALUE! | DU4: =AND(Feuil1!B43,"AAAAAHtz13w=") -> #VALUE! | DV4: =AND(Feuil1!C43,"AAAAAHtz130=") -> #VALUE! | DW4: =AND(Feuil1!D43,"AAAAAHtz134=") -> #VALUE! | DX4: =AND(Feuil1!E43,"AAAAAHtz138=") -> #VALUE! | DY4: =IF(Feuil1!44:44,"AAAAAHtz14A=",0) -> 0 | DZ4: =AND(Feuil1!A44,"AAAAAHtz14E=") -> #VALUE! | EA4: =AND(Feuil1!B44,"AAAAAHtz14I=") -> #VALUE! | EB4: =AND(Feuil1!C44,"AAAAAHtz14M=") -> #VALUE! | EC4: =AND(Feuil1!D44,"AAAAAHtz14Q=") -> #VALUE! | ED4: =AND(Feuil1!E44,"AAAAAHtz14U=") -> #VALUE! | EE4: =IF(Feuil1!45:45,"AAAAAHtz14Y=",0) -> 0 | EF4: =AND(Feuil1!A45,"AAAAAHtz14c=") -> #VALUE! | EG4: =AND(Feuil1!B45,"AAAAAHtz14g=") -> #VALUE! | EH4: =AND(Feuil1!C45,"AAAAAHtz14k=") -> #VALUE! | EI4: =AND(Feuil1!D45,"AAAAAHtz14o=") -> #VALUE! | EJ4: =AND(Feuil1!E45,"AAAAAHtz14s=") -> #VALUE! | EK4: =IF(Feuil1!46:46,"AAAAAHtz14w=",0) -> 0 | EL4: =AND(Feuil1!A46,"AAAAAHtz140=") -> #VALUE! | EM4: =AND(Feuil1!B46,"AAAAAHtz144=") -> #VALUE! | EN4: =AND(Feuil1!C46,"AAAAAHtz148=") -> #VALUE! | EO4: =AND(Feuil1!D46,"AAAAAHtz15A=") -> #VALUE! | EP4: =AND(Feuil1!E46,"AAAAAHtz15E=") -> #VALUE! | EQ4: =IF(Feuil1!47:47,"AAAAAHtz15I=",0) -> 0 | ER4: =AND(Feuil1!A47,"AAAAAHtz15M=") -> #VALUE! | ES4: =AND(Feuil1!B47,"AAAAAHtz15Q=") -> #VALUE! | ET4: =AND(Feuil1!C47,"AAAAAHtz15U=") -> #VALUE! | EU4: =AND(Feuil1!D47,"AAAAAHtz15Y=") -> #VALUE! | EV4: =AND(Feuil1!E47,"AAAAAHtz15c=") -> #VALUE! | EW4: =IF(Feuil1!48:48,"AAAAAHtz15g=",0) -> 0 | EX4: =AND(Feuil1!A48,"AAAAAHtz15k=") -> #VALUE! | EY4: =AND(Feuil1!B48,"AAAAAHtz15o=") -> #VALUE! | EZ4: =AND(Feuil1!C48,"AAAAAHtz15s=") -> #VALUE! | FA4: =AND(Feuil1!D48,"AAAAAHtz15w=") -> #VALUE! | FB4: =AND(Feuil1!E48,"AAAAAHtz150=") -> #VALUE! | FC4: =IF(Feuil1!49:49,"AAAAAHtz154=",0) -> 0 | FD4: =AND(Feuil1!A49,"AAAAAHtz158=") -> #VALUE! | FE4: =AND(Feuil1!B49,"AAAAAHtz16A=") -> #VALUE! | FF4: =AND(Feuil1!C49,"AAAAAHtz16E=") -> #VALUE! | FG4: =AND(Feuil1!D49,"AAAAAHtz16I=") -> #VALUE! | FH4: =AND(Feuil1!E49,"AAAAAHtz16M=") -> #VALUE! | FI4: =IF(Feuil1!50:50,"AAAAAHtz16Q=",0) -> 0 | FJ4: =AND(Feuil1!A50,"AAAAAHtz16U=") -> #VALUE! | FK4: =AND(Feuil1!B50,"AAAAAHtz16Y=") -> #VALUE! | FL4: =AND(Feuil1!C50,"AAAAAHtz16c=") -> #VALUE! | FM4: =AND(Feuil1!D50,"AAAAAHtz16g=") -> #VALUE! | FN4: =AND(Feuil1!E50,"AAAAAHtz16k=") -> #VALUE! | FO4: =IF(Feuil1!51:51,"AAAAAHtz16o=",0) -> 0 | FP4: =AND(Feuil1!A51,"AAAAAHtz16s=") -> #VALUE! | FQ4: =AND(Feuil1!B51,"AAAAAHtz16w=") -> #VALUE! | FR4: =AND(Feuil1!C51,"AAAAAHtz160=") -> #VALUE! | FS4: =AND(Feuil1!D51,"AAAAAHtz164=") -> #VALUE! | FT4: =AND(Feuil1!E51,"AAAAAHtz168=") -> #VALUE! | FU4: =IF(Feuil1!52:52,"AAAAAHtz17A=",0) -> 0 | FV4: =AND(Feuil1!A52,"AAAAAHtz17E=") -> #VALUE! | FW4: =AND(Feuil1!B52,"AAAAAHtz17I=") -> #VALUE! | FX4: =AND(Feuil1!C52,"AAAAAHtz17M=") -> #VALUE! | FY4: =AND(Feuil1!D52,"AAAAAHtz17Q=") -> #VALUE! | FZ4: =AND(Feuil1!E52,"AAAAAHtz17U=") -> #VALUE! | GA4: =IF(Feuil1!53:53,"AAAAAHtz17Y=",0) -> 0 | GB4: =AND(Feuil1!A53,"AAAAAHtz17c=") -> #VALUE! | GC4: =AND(Feuil1!B53,"AAAAAHtz17g=") -> #VALUE! | GD4: =AND(Feuil1!C53,"AAAAAHtz17k=") -> #VALUE! | GE4: =AND(Feuil1!D53,"AAAAAHtz17o=") -> #VALUE! | GF4: =AND(Feuil1!E53,"AAAAAHtz17s=") -> #VALUE! | GG4: =IF(Feuil1!54:54,"AAAAAHtz17w=",0) -> 0 | GH4: =AND(Feuil1!A54,"AAAAAHtz170=") -> #VALUE! | GI4: =AND(Feuil1!B54,"AAAAAHtz174=") -> #VALUE! | GJ4: =AND(Feuil1!C54,"AAAAAHtz178=") -> #VALUE! | GK4: =AND(Feuil1!D54,"AAAAAHtz18A=") -> #VALUE! | GL4: =AND(Feuil1!E54,"AAAAAHtz18E=") -> #VALUE! | GM4: =IF(Feuil1!55:55,"AAAAAHtz18I=",0) -> 0 | GN4: =AND(Feuil1!A55,"AAAAAHtz18M=") -> #VALUE! | GO4: =AND(Feuil1!B55,"AAAAAHtz18Q=") -> #VALUE! | GP4: =AND(Feuil1!C55,"AAAAAHtz18U=") -> #VALUE! | GQ4: =AND(Feuil1!D55,"AAAAAHtz18Y=") -> #VALUE! | GR4: =AND(Feuil1!E55,"AAAAAHtz18c=") -> #VALUE! | GS4: =IF(Feuil1!56:56,"AAAAAHtz18g=",0) -> 0 | GT4: =AND(Feuil1!A56,"AAAAAHtz18k=") -> #VALUE! | GU4: =AND(Feuil1!B56,"AAAAAHtz18o=") -> #VALUE! | GV4: =AND(Feuil1!C56,"AAAAAHtz18s=") -> #VALUE! | GW4: =AND(Feuil1!D56,"AAAAAHtz18w=") -> #VALUE! | GX4: =AND(Feuil1!E56,"AAAAAHtz180=") -> #VALUE! | GY4: =IF(Feuil1!57:57,"AAAAAHtz184=",0) -> 0 | GZ4: =AND(Feuil1!A57,"AAAAAHtz188=") -> #VALUE! | HA4: =AND(Feuil1!B57,"AAAAAHtz19A=") -> #VALUE! | HB4: =AND(Feuil1!C57,"AAAAAHtz19E=") -> #VALUE! | HC4: =AND(Feuil1!D57,"AAAAAHtz19I=") -> #VALUE! | HD4: =AND(Feuil1!E57,"AAAAAHtz19M=") -> #VALUE! | HE4: =IF(Feuil1!58:58,"AAAAAHtz19Q=",0) -> 0 | HF4: =AND(Feuil1!A58,"AAAAAHtz19U=") -> #VALUE! | HG4: =AND(Feuil1!B58,"AAAAAHtz19Y=") -> #VALUE! | HH4: =AND(Feuil1!C58,"AAAAAHtz19c=") -> #VALUE! | HI4: =AND(Feuil1!D58,"AAAAAHtz19g=") -> #VALUE! | HJ4: =AND(Feuil1!E58,"AAAAAHtz19k=") -> #VALUE! | HK4: =IF(Feuil1!59:59,"AAAAAHtz19o=",0) -> 0 | HL4: =AND(Feuil1!A59,"AAAAAHtz19s=") -> #VALUE! | HM4: =AND(Feuil1!B59,"AAAAAHtz19w=") -> #VALUE! | HN4: =AND(Feuil1!C59,"AAAAAHtz190=") -> #VALUE! | HO4: =AND(Feuil1!D59,"AAAAAHtz194=") -> #VALUE! | HP4: =AND(Feuil1!E59,"AAAAAHtz198=") -> #VALUE! | HQ4: =IF(Feuil1!60:60,"AAAAAHtz1+A=",0) -> 0 | HR4: =AND(Feuil1!A60,"AAAAAHtz1+E=") -> #VALUE! | HS4: =AND(Feuil1!B60,"AAAAAHtz1+I=") -> #VALUE! | HT4: =AND(Feuil1!C60,"AAAAAHtz1+M=") -> #VALUE! | HU4: =AND(Feuil1!D60,"AAAAAHtz1+Q=") -> #VALUE! | HV4: =AND(Feuil1!E60,"AAAAAHtz1+U=") -> #VALUE! | HW4: =IF(Feuil1!61:61,"AAAAAHtz1+Y=",0) -> 0 | HX4: =AND(Feuil1!A61,"AAAAAHtz1+c=") -> #VALUE! | HY4: =AND(Feuil1!B61,"AAAAAHtz1+g=") -> #VALUE! | HZ4: =AND(Feuil1!C61,"AAAAAHtz1+k=") -> #VALUE! | IA4: =AND(Feuil1!D61,"AAAAAHtz1+o=") -> #VALUE! | IB4: =AND(Feuil1!E61,"AAAAAHtz1+s=") -> #VALUE! | IC4: =IF(Feuil1!62:62,"AAAAAHtz1+w=",0) -> 0 | ID4: =AND(Feuil1!A62,"AAAAAHtz1+0=") -> #VALUE! | IE4: =AND(Feuil1!B62,"AAAAAHtz1+4=") -> #VALUE! | IF4: =AND(Feuil1!C62,"AAAAAHtz1+8=") -> #VALUE! | IG4: =AND(Feuil1!D62,"AAAAAHtz1/A=") -> #VALUE! | IH4: =AND(Feuil1!E62,"AAAAAHtz1/E=") -> #VALUE! | II4: =IF(Feuil1!63:63,"AAAAAHtz1/I=",0) -> 0 | IJ4: =AND(Feuil1!A63,"AAAAAHtz1/M=") -> #VALUE! | IK4: =AND(Feuil1!B63,"AAAAAHtz1/Q=") -> #VALUE! | IL4: =AND(Feuil1!C63,"AAAAAHtz1/U=") -> #VALUE! | IM4: =AND(Feuil1!D63,"AAAAAHtz1/Y=") -> #VALUE! | IN4: =AND(Feuil1!E63,"AAAAAHtz1/c=") -> #VALUE! | IO4: =IF(Feuil1!64:64,"AAAAAHtz1/g=",0) -> 0 | IP4: =AND(Feuil1!A64,"AAAAAHtz1/k=") -> #VALUE! | IQ4: =AND(Feuil1!B64,"AAAAAHtz1/o=") -> #VALUE! | IR4: =AND(Feuil1!C64,"AAAAAHtz1/s=") -> #VALUE! | IS4: =AND(Feuil1!D64,"AAAAAHtz1/w=") -> #VALUE! | IT4: =AND(Feuil1!E64,"AAAAAHtz1/0=") -> #VALUE! | IU4: =IF(Feuil1!65:65,"AAAAAHtz1/4=",0) -> 0 | IV4: =AND(Feuil1!A65,"AAAAAHtz1/8=") -> #VALUE!
