Workbook

Sheet Feuil2
A1: HomeTeam | B1: AwayTeam | C1: FTHG | D1: FTAG | E1: Concat
A2: QPR | B2: Birmingham | C2: 0 | D2: 0 | E2: 0,0
A3: Wimbledon | B3: Tranmere | C3: 0 | D3: 0 | E3: 0,0
A4: Crewe | B4: Blackburn | C4: 0 | D4: 0 | E4: 0,0
A5: Norwich | B5: Nott'm Forest | C5: 0 | D5: 0 | E5: 0,0
A6: Wimbledon | B6: Norwich | C6: 0 | D6: 0 | E6: 0,0
A7: Sheffield Weds | B7: Crewe | C7: 0 | D7: 0 | E7: 0,0
A8: Wimbledon | B8: Watford | C8: 0 | D8: 0 | E8: 0,0
A9: Wolves | B9: Blackburn | C9: 0 | D9: 0 | E9: 0,0
A10: Stockport | B10: Huddersfield | C10: 0 | D10: 0 | E10: 0,0
A11: Burnley | B11: Birmingham | C11: 0 | D11: 0 | E11: 0,0
A12: Crewe | B12: Norwich | C12: 0 | D12: 0 | E12: 0,0
A13: Birmingham | B13: Portsmouth | C13: 0 | D13: 0 | E13: 0,0
... A47: Barnsley | B47: Sheffield United | C47: 0 | D47: 0 | E47: 0,0

Sheet Feuil1
A1: HomeTeam | B1: AwayTeam | C1: FTHG | D1: FTAG | E1: Score | F1: Commentaire | H1: Étiquettes de lignes | I1: Nombre de Score | J1: Nombre de Score2
C2: 0 | D2: 0 | E2: =C2&","&D2 -> 0,0 | F2: =IF(C2=D2,"mn "&C2,"gp") -> mn 0 | H2: mn 0 | I2: 20 | J2: 0.091324201
C3: 5 | D3: 0 | E3: =C3&","&D3 -> 5,0 | F3: =IF(C3=D3,"mn "&C3,"gp") -> gp | H3: mn 1 | I3: 29 | J3: 0.13242009
C4: 2 | D4: 1 | E4: =C4&","&D4 -> 2,1 | F4: =IF(C4=D4,"mn "&C4,"gp") -> gp | H4: mn 2 | I4: 13 | J4: 0.059360731
C5: 0 | D5: 5 | E5: =C5&","&D5 -> 0,5 | F5: =IF(C5=D5,"mn "&C5,"gp") -> gp | H5: mn 3 | I5: 3 | J5: 0.01369863
C6: 1 | D6: 1 | E6: =C6&","&D6 -> 1,1 | F6: =IF(C6=D6,"mn "&C6,"gp") -> mn 1 | H6: gp | I6: 154 | J6: 0.70319635
C7: 3 | D7: 0 | E7: =C7&","&D7 -> 3,0 | F7: =IF(C7=D7,"mn "&C7,"gp") -> gp | H7: Total général | I7: 219 | J7: 1
C8: 1 | D8: 0 | E8: =C8&","&D8 -> 1,0 | F8: =IF(C8=D8,"mn "&C8,"gp") -> gp
C9: 3 | D9: 2 | E9: =C9&","&D9 -> 3,2 | F9: =IF(C9=D9,"mn "&C9,"gp") -> gp
C10: 0 | D10: 2 | E10: =C10&","&D10 -> 0,2 | F10: =IF(C10=D10,"mn "&C10,"gp") -> gp
C11: 1 | D11: 0 | E11: =C11&","&D11 -> 1,0 | F11: =IF(C11=D11,"mn "&C11,"gp") -> gp
C12: 4 | D12: 2 | E12: =C12&","&D12 -> 4,2 | F12: =IF(C12=D12,"mn "&C12,"gp") -> gp
C13: 1 | D13: 3 | E13: =C13&","&D13 -> 1,3 | F13: =IF(C13=D13,"mn "&C13,"gp") -> gp
C14: 2 | D14: 0 | E14: =C14&","&D14 -> 2,0 | F14: =IF(C14=D14,"mn "&C14,"gp") -> gp
C15: 3 | D15: 2 | E15: =C15&","&D15 -> 3,2 | F15: =IF(C15=D15,"mn "&C15,"gp") -> gp
C16: 1 | D16: 1 | E16: =C16&","&D16 -> 1,1 | F16: =IF(C16=D16,"mn "&C16,"gp") -> mn 1
C17: 0 | D17: 2 | E17: =C17&","&D17 -> 0,2 | F17: =IF(C17=D17,"mn "&C17,"gp") -> gp
C18: 3 | D18: 0 | E18: =C18&","&D18 -> 3,0 | F18: =IF(C18=D18,"mn "&C18,"gp") -> gp
C19: 1 | D19: 1 | E19: =C19&","&D19 -> 1,1 | F19: =IF(C19=D19,"mn "&C19,"gp") -> mn 1
... C34: 4 | D34: 0 | E34: =C34&","&D34 -> 4,0 | F34: =IF(C34=D34,"mn "&C34,"gp") -> gp
C35: 0 | D35: 0 | E35: =C35&","&D35 -> 0,0 | F35: =IF(C35=D35,"mn "&C35,"gp") -> mn 0 | I35: =I33/$N$33 -> #DIV/0! | J35: =J33/$N$33 -> #DIV/0! | K35: =K33/$N$33 -> #DIV/0! | M35: =M33/$N$33 -> #DIV/0! | N35: =SUM(I35:M35) -> #DIV/0!
C36: 0 | D36: 0 | E36: =C36&","&D36 -> 0,0 | F36: =IF(C36=D36,"mn "&C36,"gp") -> mn 0
C37: 1 | D37: 1 | E37: =C37&","&D37 -> 1,1 | F37: =IF(C37=D37,"mn "&C37,"gp") -> mn 1
C38: 1 | D38: 1 | E38: =C38&","&D38 -> 1,1 | F38: =IF(C38=D38,"mn "&C38,"gp") -> mn 1
C39: 1 | D39: 3 | E39: =C39&","&D39 -> 1,3 | F39: =IF(C39=D39,"mn "&C39,"gp") -> gp
C40: 2 | D40: 2 | E40: =C40&","&D40 -> 2,2 | F40: =IF(C40=D40,"mn "&C40,"gp") -> mn 2
C41: 1 | D41: 0 | E41: =C41&","&D41 -> 1,0 | F41: =IF(C41=D41,"mn "&C41,"gp") -> gp
C42: 4 | D42: 1 | E42: =C42&","&D42 -> 4,1 | F42: =IF(C42=D42,"mn "&C42,"gp") -> gp
C43: 0 | D43: 3 | E43: =C43&","&D43 -> 0,3 | F43: =IF(C43=D43,"mn "&C43,"gp") -> gp
C44: 1 | D44: 0 | E44: =C44&","&D44 -> 1,0 | F44: =IF(C44=D44,"mn "&C44,"gp") -> gp
C45: 1 | D45: 1 | E45: =C45&","&D45 -> 1,1 | F45: =IF(C45=D45,"mn "&C45,"gp") -> mn 1
C46: 1 | D46: 2 | E46: =C46&","&D46 -> 1,2 | F46: =IF(C46=D46,"mn "&C46,"gp") -> gp
C47: 1 | D47: 2 | E47: =C47&","&D47 -> 1,2 | F47: =IF(C47=D47,"mn "&C47,"gp") -> gp
... C220: 2 | D220: 2 | E220: =C220&","&D220 -> 2,2 | F220: =IF(C220=D220,"mn "&C220,"gp") -> mn 2

Sheet DV-IDENTITY-0
A1: =IF(Feuil2!1:1,"AAAAADL/7wA=",0) -> #VALUE! | B1: =AND(Feuil2!A1,"AAAAADL/7wE=") -> #VALUE! | C1: =AND(Feuil2!B1,"AAAAADL/7wI=") -> #VALUE! | D1: =AND(Feuil2!C1,"AAAAADL/7wM=") -> #VALUE! | E1: =AND(Feuil2!D1,"AAAAADL/7wQ=") -> #VALUE! | F1: =AND(Feuil2!E1,"AAAAADL/7wU=") -> #VALUE! | G1: =IF(Feuil2!2:2,"AAAAADL/7wY=",0) -> 0 | H1: =AND(Feuil2!A2,"AAAAADL/7wc=") -> #VALUE! | I1: =AND(Feuil2!B2,"AAAAADL/7wg=") -> #VALUE! | J1: =AND(Feuil2!C2,"AAAAADL/7wk=") -> #VALUE! | K1: =AND(Feuil2!D2,"AAAAADL/7wo=") -> #VALUE! | L1: =AND(Feuil2!E2,"AAAAADL/7ws=") -> #VALUE! | M1: =IF(Feuil2!3:3,"AAAAADL/7ww=",0) -> 0 | N1: =AND(Feuil2!A3,"AAAAADL/7w0=") -> #VALUE! | O1: =AND(Feuil2!B3,"AAAAADL/7w4=") -> #VALUE! | P1: =AND(Feuil2!C3,"AAAAADL/7w8=") -> #VALUE! | Q1: =AND(Feuil2!D3,"AAAAADL/7xA=") -> #VALUE! | R1: =AND(Feuil2!E3,"AAAAADL/7xE=") -> #VALUE! | S1: =IF(Feuil2!4:4,"AAAAADL/7xI=",0) -> 0 | T1: =AND(Feuil2!A4,"AAAAADL/7xM=") -> #VALUE! | U1: =AND(Feuil2!B4,"AAAAADL/7xQ=") -> #VALUE! | V1: =AND(Feuil2!C4,"AAAAADL/7xU=") -> #VALUE! | W1: =AND(Feuil2!D4,"AAAAADL/7xY=") -> #VALUE! | X1: =AND(Feuil2!E4,"AAAAADL/7xc=") -> #VALUE! | Y1: =IF(Feuil2!5:5,"AAAAADL/7xg=",0) -> 0 | Z1: =AND(Feuil2!A5,"AAAAADL/7xk=") -> #VALUE! | AA1: =AND(Feuil2!B5,"AAAAADL/7xo=") -> #VALUE! | AB1: =AND(Feuil2!C5,"AAAAADL/7xs=") -> #VALUE! | AC1: =AND(Feuil2!D5,"AAAAADL/7xw=") -> #VALUE! | AD1: =AND(Feuil2!E5,"AAAAADL/7x0=") -> #VALUE! | AE1: =IF(Feuil2!6:6,"AAAAADL/7x4=",0) -> 0 | AF1: =AND(Feuil2!A6,"AAAAADL/7x8=") -> #VALUE! | AG1: =AND(Feuil2!B6,"AAAAADL/7yA=") -> #VALUE! | AH1: =AND(Feuil2!C6,"AAAAADL/7yE=") -> #VALUE! | AI1: =AND(Feuil2!D6,"AAAAADL/7yI=") -> #VALUE! | AJ1: =AND(Feuil2!E6,"AAAAADL/7yM=") -> #VALUE! | AK1: =IF(Feuil2!7:7,"AAAAADL/7yQ=",0) -> 0 | AL1: =AND(Feuil2!A7,"AAAAADL/7yU=") -> #VALUE! | AM1: =AND(Feuil2!B7,"AAAAADL/7yY=") -> #VALUE! | AN1: =AND(Feuil2!C7,"AAAAADL/7yc=") -> #VALUE! | AO1: =AND(Feuil2!D7,"AAAAADL/7yg=") -> #VALUE! | AP1: =AND(Feuil2!E7,"AAAAADL/7yk=") -> #VALUE! | AQ1: =IF(Feuil2!8:8,"AAAAADL/7yo=",0) -> 0 | AR1: =AND(Feuil2!A8,"AAAAADL/7ys=") -> #VALUE! | AS1: =AND(Feuil2!B8,"AAAAADL/7yw=") -> #VALUE! | AT1: =AND(Feuil2!C8,"AAAAADL/7y0=") -> #VALUE! | AU1: =AND(Feuil2!D8,"AAAAADL/7y4=") -> #VALUE! | AV1: =AND(Feuil2!E8,"AAAAADL/7y8=") -> #VALUE! | AW1: =IF(Feuil2!9:9,"AAAAADL/7zA=",0) -> 0 | AX1: =AND(Feuil2!A9,"AAAAADL/7zE=") -> #VALUE! | AY1: =AND(Feuil2!B9,"AAAAADL/7zI=") -> #VALUE! | AZ1: =AND(Feuil2!C9,"AAAAADL/7zM=") -> #VALUE! | BA1: =AND(Feuil2!D9,"AAAAADL/7zQ=") -> #VALUE! | BB1: =AND(Feuil2!E9,"AAAAADL/7zU=") -> #VALUE! | BC1: =IF(Feuil2!10:10,"AAAAADL/7zY=",0) -> 0 | BD1: =AND(Feuil2!A10,"AAAAADL/7zc=") -> #VALUE! | BE1: =AND(Feuil2!B10,"AAAAADL/7zg=") -> #VALUE! | BF1: =AND(Feuil2!C10,"AAAAADL/7zk=") -> #VALUE! | BG1: =AND(Feuil2!D10,"AAAAADL/7zo=") -> #VALUE! | BH1: =AND(Feuil2!E10,"AAAAADL/7zs=") -> #VALUE! | BI1: =IF(Feuil2!11:11,"AAAAADL/7zw=",0) -> 0 | BJ1: =AND(Feuil2!A11,"AAAAADL/7z0=") -> #VALUE! | BK1: =AND(Feuil2!B11,"AAAAADL/7z4=") -> #VALUE! | BL1: =AND(Feuil2!C11,"AAAAADL/7z8=") -> #VALUE! | BM1: =AND(Feuil2!D11,"AAAAADL/70A=") -> #VALUE! | BN1: =AND(Feuil2!E11,"AAAAADL/70E=") -> #VALUE! | BO1: =IF(Feuil2!12:12,"AAAAADL/70I=",0) -> 0 | BP1: =AND(Feuil2!A12,"AAAAADL/70M=") -> #VALUE! | BQ1: =AND(Feuil2!B12,"AAAAADL/70Q=") -> #VALUE! | BR1: =AND(Feuil2!C12,"AAAAADL/70U=") -> #VALUE! | BS1: =AND(Feuil2!D12,"AAAAADL/70Y=") -> #VALUE! | BT1: =AND(Feuil2!E12,"AAAAADL/70c=") -> #VALUE! | BU1: =IF(Feuil2!13:13,"AAAAADL/70g=",0) -> 0 | BV1: =AND(Feuil2!A13,"AAAAADL/70k=") -> #VALUE! | BW1: =AND(Feuil2!B13,"AAAAADL/70o=") -> #VALUE! | BX1: =AND(Feuil2!C13,"AAAAADL/70s=") -> #VALUE! | BY1: =AND(Feuil2!D13,"AAAAADL/70w=") -> #VALUE! | BZ1: =AND(Feuil2!E13,"AAAAADL/700=") -> #VALUE! | CA1: =IF(Feuil2!14:14,"AAAAADL/704=",0) -> 0 | CB1: =AND(Feuil2!A14,"AAAAADL/708=") -> #VALUE! | CC1: =AND(Feuil2!B14,"AAAAADL/71A=") -> #VALUE! | CD1: =AND(Feuil2!C14,"AAAAADL/71E=") -> #VALUE! | CE1: =AND(Feuil2!D14,"AAAAADL/71I=") -> #VALUE! | CF1: =AND(Feuil2!E14,"AAAAADL/71M=") -> #VALUE! | CG1: =IF(Feuil2!15:15,"AAAAADL/71Q=",0) -> 0 | CH1: =AND(Feuil2!A15,"AAAAADL/71U=") -> #VALUE! | CI1: =AND(Feuil2!B15,"AAAAADL/71Y=") -> #VALUE! | CJ1: =AND(Feuil2!C15,"AAAAADL/71c=") -> #VALUE! | CK1: =AND(Feuil2!D15,"AAAAADL/71g=") -> #VALUE! | CL1: =AND(Feuil2!E15,"AAAAADL/71k=") -> #VALUE! | CM1: =IF(Feuil2!16:16,"AAAAADL/71o=",0) -> 0 | CN1: =AND(Feuil2!A16,"AAAAADL/71s=") -> #VALUE! | CO1: =AND(Feuil2!B16,"AAAAADL/71w=") -> #VALUE! | CP1: =AND(Feuil2!C16,"AAAAADL/710=") -> #VALUE! | CQ1: =AND(Feuil2!D16,"AAAAADL/714=") -> #VALUE! | CR1: =AND(Feuil2!E16,"AAAAADL/718=") -> #VALUE! | CS1: =IF(Feuil2!17:17,"AAAAADL/72A=",0) -> 0 | CT1: =AND(Feuil2!A17,"AAAAADL/72E=") -> #VALUE! | CU1: =AND(Feuil2!B17,"AAAAADL/72I=") -> #VALUE! | CV1: =AND(Feuil2!C17,"AAAAADL/72M=") -> #VALUE! | CW1: =AND(Feuil2!D17,"AAAAADL/72Q=") -> #VALUE! | CX1: =AND(Feuil2!E17,"AAAAADL/72U=") -> #VALUE! | CY1: =IF(Feuil2!18:18,"AAAAADL/72Y=",0) -> 0 | CZ1: =AND(Feuil2!A18,"AAAAADL/72c=") -> #VALUE! | DA1: =AND(Feuil2!B18,"AAAAADL/72g=") -> #VALUE! | DB1: =AND(Feuil2!C18,"AAAAADL/72k=") -> #VALUE! | DC1: =AND(Feuil2!D18,"AAAAADL/72o=") -> #VALUE! | DD1: =AND(Feuil2!E18,"AAAAADL/72s=") -> #VALUE! | DE1: =IF(Feuil2!19:19,"AAAAADL/72w=",0) -> 0 | DF1: =AND(Feuil2!A19,"AAAAADL/720=") -> #VALUE! | DG1: =AND(Feuil2!B19,"AAAAADL/724=") -> #VALUE! | DH1: =AND(Feuil2!C19,"AAAAADL/728=") -> #VALUE! | DI1: =AND(Feuil2!D19,"AAAAADL/73A=") -> #VALUE! | DJ1: =AND(Feuil2!E19,"AAAAADL/73E=") -> #VALUE! | DK1: =IF(Feuil2!20:20,"AAAAADL/73I=",0) -> 0 | DL1: =AND(Feuil2!A20,"AAAAADL/73M=") -> #VALUE! | DM1: =AND(Feuil2!B20,"AAAAADL/73Q=") -> #VALUE! | DN1: =AND(Feuil2!C20,"AAAAADL/73U=") -> #VALUE! | DO1: =AND(Feuil2!D20,"AAAAADL/73Y=") -> #VALUE! | DP1: =AND(Feuil2!E20,"AAAAADL/73c=") -> #VALUE! | DQ1: =IF(Feuil2!21:21,"AAAAADL/73g=",0) -> 0 | DR1: =AND(Feuil2!A21,"AAAAADL/73k=") -> #VALUE! | DS1: =AND(Feuil2!B21,"AAAAADL/73o=") -> #VALUE! | DT1: =AND(Feuil2!C21,"AAAAADL/73s=") -> #VALUE! | DU1: =AND(Feuil2!D21,"AAAAADL/73w=") -> #VALUE! | DV1: =AND(Feuil2!E21,"AAAAADL/730=") -> #VALUE! | DW1: =IF(Feuil2!22:22,"AAAAADL/734=",0) -> 0 | DX1: =AND(Feuil2!A22,"AAAAADL/738=") -> #VALUE! | DY1: =AND(Feuil2!B22,"AAAAADL/74A=") -> #VALUE! | DZ1: =AND(Feuil2!C22,"AAAAADL/74E=") -> #VALUE! | EA1: =AND(Feuil2!D22,"AAAAADL/74I=") -> #VALUE! | EB1: =AND(Feuil2!E22,"AAAAADL/74M=") -> #VALUE! | EC1: =IF(Feuil2!23:23,"AAAAADL/74Q=",0) -> 0 | ED1: =AND(Feuil2!A23,"AAAAADL/74U=") -> #VALUE! | EE1: =AND(Feuil2!B23,"AAAAADL/74Y=") -> #VALUE! | EF1: =AND(Feuil2!C23,"AAAAADL/74c=") -> #VALUE! | EG1: =AND(Feuil2!D23,"AAAAADL/74g=") -> #VALUE! | EH1: =AND(Feuil2!E23,"AAAAADL/74k=") -> #VALUE! | EI1: =IF(Feuil2!24:24,"AAAAADL/74o=",0) -> 0 | EJ1: =AND(Feuil2!A24,"AAAAADL/74s=") -> #VALUE! | EK1: =AND(Feuil2!B24,"AAAAADL/74w=") -> #VALUE! | EL1: =AND(Feuil2!C24,"AAAAADL/740=") -> #VALUE! | EM1: =AND(Feuil2!D24,"AAAAADL/744=") -> #VALUE! | EN1: =AND(Feuil2!E24,"AAAAADL/748=") -> #VALUE! | EO1: =IF(Feuil2!25:25,"AAAAADL/75A=",0) -> 0 | EP1: =AND(Feuil2!A25,"AAAAADL/75E=") -> #VALUE! | EQ1: =AND(Feuil2!B25,"AAAAADL/75I=") -> #VALUE! | ER1: =AND(Feuil2!C25,"AAAAADL/75M=") -> #VALUE! | ES1: =AND(Feuil2!D25,"AAAAADL/75Q=") -> #VALUE! | ET1: =AND(Feuil2!E25,"AAAAADL/75U=") -> #VALUE! | EU1: =IF(Feuil2!26:26,"AAAAADL/75Y=",0) -> 0 | EV1: =AND(Feuil2!A26,"AAAAADL/75c=") -> #VALUE! | EW1: =AND(Feuil2!B26,"AAAAADL/75g=") -> #VALUE! | EX1: =AND(Feuil2!C26,"AAAAADL/75k=") -> #VALUE! | EY1: =AND(Feuil2!D26,"AAAAADL/75o=") -> #VALUE! | EZ1: =AND(Feuil2!E26,"AAAAADL/75s=") -> #VALUE! | FA1: =IF(Feuil2!27:27,"AAAAADL/75w=",0) -> 0 | FB1: =AND(Feuil2!A27,"AAAAADL/750=") -> #VALUE! | FC1: =AND(Feuil2!B27,"AAAAADL/754=") -> #VALUE! | FD1: =AND(Feuil2!C27,"AAAAADL/758=") -> #VALUE! | FE1: =AND(Feuil2!D27,"AAAAADL/76A=") -> #VALUE! | FF1: =AND(Feuil2!E27,"AAAAADL/76E=") -> #VALUE! | FG1: =IF(Feuil2!28:28,"AAAAADL/76I=",0) -> 0 | FH1: =AND(Feuil2!A28,"AAAAADL/76M=") -> #VALUE! | FI1: =AND(Feuil2!B28,"AAAAADL/76Q=") -> #VALUE! | FJ1: =AND(Feuil2!C28,"AAAAADL/76U=") -> #VALUE! | FK1: =AND(Feuil2!D28,"AAAAADL/76Y=") -> #VALUE! | FL1: =AND(Feuil2!E28,"AAAAADL/76c=") -> #VALUE! | FM1: =IF(Feuil2!29:29,"AAAAADL/76g=",0) -> 0 | FN1: =AND(Feuil2!A29,"AAAAADL/76k=") -> #VALUE! | FO1: =AND(Feuil2!B29,"AAAAADL/76o=") -> #VALUE! | FP1: =AND(Feuil2!C29,"AAAAADL/76s=") -> #VALUE! | FQ1: =AND(Feuil2!D29,"AAAAADL/76w=") -> #VALUE! | FR1: =AND(Feuil2!E29,"AAAAADL/760=") -> #VALUE! | FS1: =IF(Feuil2!30:30,"AAAAADL/764=",0) -> 0 | FT1: =AND(Feuil2!A30,"AAAAADL/768=") -> #VALUE! | FU1: =AND(Feuil2!B30,"AAAAADL/77A=") -> #VALUE! | FV1: =AND(Feuil2!C30,"AAAAADL/77E=") -> #VALUE! | FW1: =AND(Feuil2!D30,"AAAAADL/77I=") -> #VALUE! | FX1: =AND(Feuil2!E30,"AAAAADL/77M=") -> #VALUE! | FY1: =IF(Feuil2!31:31,"AAAAADL/77Q=",0) -> 0 | FZ1: =AND(Feuil2!A31,"AAAAADL/77U=") -> #VALUE! | GA1: =AND(Feuil2!B31,"AAAAADL/77Y=") -> #VALUE! | GB1: =AND(Feuil2!C31,"AAAAADL/77c=") -> #VALUE! | GC1: =AND(Feuil2!D31,"AAAAADL/77g=") -> #VALUE! | GD1: =AND(Feuil2!E31,"AAAAADL/77k=") -> #VALUE! | GE1: =IF(Feuil2!32:32,"AAAAADL/77o=",0) -> 0 | GF1: =AND(Feuil2!A32,"AAAAADL/77s=") -> #VALUE! | GG1: =AND(Feuil2!B32,"AAAAADL/77w=") -> #VALUE! | GH1: =AND(Feuil2!C32,"AAAAADL/770=") -> #VALUE! | GI1: =AND(Feuil2!D32,"AAAAADL/774=") -> #VALUE! | GJ1: =AND(Feuil2!E32,"AAAAADL/778=") -> #VALUE! | GK1: =IF(Feuil2!33:33,"AAAAADL/78A=",0) -> 0 | GL1: =AND(Feuil2!A33,"AAAAADL/78E=") -> #VALUE! | GM1: =AND(Feuil2!B33,"AAAAADL/78I=") -> #VALUE! | GN1: =AND(Feuil2!C33,"AAAAADL/78M=") -> #VALUE! | GO1: =AND(Feuil2!D33,"AAAAADL/78Q=") -> #VALUE! | GP1: =AND(Feuil2!E33,"AAAAADL/78U=") -> #VALUE! | GQ1: =IF(Feuil2!34:34,"AAAAADL/78Y=",0) -> 0 | GR1: =AND(Feuil2!A34,"AAAAADL/78c=") -> #VALUE! | GS1: =AND(Feuil2!B34,"AAAAADL/78g=") -> #VALUE! | GT1: =AND(Feuil2!C34,"AAAAADL/78k=") -> #VALUE! | GU1: =AND(Feuil2!D34,"AAAAADL/78o=") -> #VALUE! | GV1: =AND(Feuil2!E34,"AAAAADL/78s=") -> #VALUE! | GW1: =IF(Feuil2!35:35,"AAAAADL/78w=",0) -> 0 | GX1: =AND(Feuil2!A35,"AAAAADL/780=") -> #VALUE! | GY1: =AND(Feuil2!B35,"AAAAADL/784=") -> #VALUE! | GZ1: =AND(Feuil2!C35,"AAAAADL/788=") -> #VALUE! | HA1: =AND(Feuil2!D35,"AAAAADL/79A=") -> #VALUE! | HB1: =AND(Feuil2!E35,"AAAAADL/79E=") -> #VALUE! | HC1: =IF(Feuil2!36:36,"AAAAADL/79I=",0) -> 0 | HD1: =AND(Feuil2!A36,"AAAAADL/79M=") -> #VALUE! | HE1: =AND(Feuil2!B36,"AAAAADL/79Q=") -> #VALUE! | HF1: =AND(Feuil2!C36,"AAAAADL/79U=") -> #VALUE! | HG1: =AND(Feuil2!D36,"AAAAADL/79Y=") -> #VALUE! | HH1: =AND(Feuil2!E36,"AAAAADL/79c=") -> #VALUE! | HI1: =IF(Feuil2!37:37,"AAAAADL/79g=",0) -> 0 | HJ1: =AND(Feuil2!A37,"AAAAADL/79k=") -> #VALUE! | HK1: =AND(Feuil2!B37,"AAAAADL/79o=") -> #VALUE! | HL1: =AND(Feuil2!C37,"AAAAADL/79s=") -> #VALUE! | HM1: =AND(Feuil2!D37,"AAAAADL/79w=") -> #VALUE! | HN1: =AND(Feuil2!E37,"AAAAADL/790=") -> #VALUE! | HO1: =IF(Feuil2!38:38,"AAAAADL/794=",0) -> 0 | HP1: =AND(Feuil2!A38,"AAAAADL/798=") -> #VALUE! | HQ1: =AND(Feuil2!B38,"AAAAADL/7+A=") -> #VALUE! | HR1: =AND(Feuil2!C38,"AAAAADL/7+E=") -> #VALUE! | HS1: =AND(Feuil2!D38,"AAAAADL/7+I=") -> #VALUE! | HT1: =AND(Feuil2!E38,"AAAAADL/7+M=") -> #VALUE! | HU1: =IF(Feuil2!39:39,"AAAAADL/7+Q=",0) -> 0 | HV1: =AND(Feuil2!A39,"AAAAADL/7+U=") -> #VALUE! | HW1: =AND(Feuil2!B39,"AAAAADL/7+Y=") -> #VALUE! | HX1: =AND(Feuil2!C39,"AAAAADL/7+c=") -> #VALUE! | HY1: =AND(Feuil2!D39,"AAAAADL/7+g=") -> #VALUE! | HZ1: =AND(Feuil2!E39,"AAAAADL/7+k=") -> #VALUE! | IA1: =IF(Feuil2!40:40,"AAAAADL/7+o=",0) -> 0 | IB1: =AND(Feuil2!A40,"AAAAADL/7+s=") -> #VALUE! | IC1: =AND(Feuil2!B40,"AAAAADL/7+w=") -> #VALUE! | ID1: =AND(Feuil2!C40,"AAAAADL/7+0=") -> #VALUE! | IE1: =AND(Feuil2!D40,"AAAAADL/7+4=") -> #VALUE! | IF1: =AND(Feuil2!E40,"AAAAADL/7+8=") -> #VALUE! | IG1: =IF(Feuil2!41:41,"AAAAADL/7/A=",0) -> 0 | IH1: =AND(Feuil2!A41,"AAAAADL/7/E=") -> #VALUE! | II1: =AND(Feuil2!B41,"AAAAADL/7/I=") -> #VALUE! | IJ1: =AND(Feuil2!C41,"AAAAADL/7/M=") -> #VALUE! | IK1: =AND(Feuil2!D41,"AAAAADL/7/Q=") -> #VALUE! | IL1: =AND(Feuil2!E41,"AAAAADL/7/U=") -> #VALUE! | IM1: =IF(Feuil2!42:42,"AAAAADL/7/Y=",0) -> 0 | IN1: =AND(Feuil2!A42,"AAAAADL/7/c=") -> #VALUE! | IO1: =AND(Feuil2!B42,"AAAAADL/7/g=") -> #VALUE! | IP1: =AND(Feuil2!C42,"AAAAADL/7/k=") -> #VALUE! | IQ1: =AND(Feuil2!D42,"AAAAADL/7/o=") -> #VALUE! | IR1: =AND(Feuil2!E42,"AAAAADL/7/s=") -> #VALUE! | IS1: =IF(Feuil2!43:43,"AAAAADL/7/w=",0) -> 0 | IT1: =AND(Feuil2!A43,"AAAAADL/7/0=") -> #VALUE! | IU1: =AND(Feuil2!B43,"AAAAADL/7/4=") -> #VALUE! | IV1: =AND(Feuil2!C43,"AAAAADL/7/8=") -> #VALUE!
A2: =AND(Feuil2!D43,"AAAAAB26/gA=") -> #VALUE! | B2: =AND(Feuil2!E43,"AAAAAB26/gE=") -> #VALUE! | C2: =IF(Feuil2!44:44,"AAAAAB26/gI=",0) -> 0 | D2: =AND(Feuil2!A44,"AAAAAB26/gM=") -> #VALUE! | E2: =AND(Feuil2!B44,"AAAAAB26/gQ=") -> #VALUE! | F2: =AND(Feuil2!C44,"AAAAAB26/gU=") -> #VALUE! | G2: =AND(Feuil2!D44,"AAAAAB26/gY=") -> #VALUE! | H2: =AND(Feuil2!E44,"AAAAAB26/gc=") -> #VALUE! | I2: =IF(Feuil2!45:45,"AAAAAB26/gg=",0) -> 0 | J2: =AND(Feuil2!A45,"AAAAAB26/gk=") -> #VALUE! | K2: =AND(Feuil2!B45,"AAAAAB26/go=") -> #VALUE! | L2: =AND(Feuil2!C45,"AAAAAB26/gs=") -> #VALUE! | M2: =AND(Feuil2!D45,"AAAAAB26/gw=") -> #VALUE! | N2: =AND(Feuil2!E45,"AAAAAB26/g0=") -> #VALUE! | O2: =IF(Feuil2!46:46,"AAAAAB26/g4=",0) -> 0 | P2: =AND(Feuil2!A46,"AAAAAB26/g8=") -> #VALUE! | Q2: =AND(Feuil2!B46,"AAAAAB26/hA=") -> #VALUE! | R2: =AND(Feuil2!C46,"AAAAAB26/hE=") -> #VALUE! | S2: =AND(Feuil2!D46,"AAAAAB26/hI=") -> #VALUE! | T2: =AND(Feuil2!E46,"AAAAAB26/hM=") -> #VALUE! | U2: =IF(Feuil2!47:47,"AAAAAB26/hQ=",0) -> 0 | V2: =AND(Feuil2!A47,"AAAAAB26/hU=") -> #VALUE! | W2: =AND(Feuil2!B47,"AAAAAB26/hY=") -> #VALUE! | X2: =AND(Feuil2!C47,"AAAAAB26/hc=") -> #VALUE! | Y2: =AND(Feuil2!D47,"AAAAAB26/hg=") -> #VALUE! | Z2: =AND(Feuil2!E47,"AAAAAB26/hk=") -> #VALUE! | AA2: =IF(Feuil2!A:A,"AAAAAB26/ho=",0) -> #VALUE! | AB2: =IF(Feuil2!B:B,"AAAAAB26/hs=",0) -> #VALUE! | AC2: =IF(Feuil2!C:C,"AAAAAB26/hw=",0) -> 0 | AD2: =IF(Feuil2!D:D,"AAAAAB26/h0=",0) -> 0 | AE2: =IF(Feuil2!E:E,"AAAAAB26/h4=",0) -> #VALUE! | AF2: =IF(Feuil1!1:1,"AAAAAB26/h8=",0) -> 0 | AG2: =AND(Feuil1!A1,"AAAAAB26/iA=") -> #VALUE! | AH2: =AND(Feuil1!B1,"AAAAAB26/iE=") -> #VALUE! | AI2: =AND(Feuil1!C1,"AAAAAB26/iI=") -> #VALUE! | AJ2: =AND(Feuil1!D1,"AAAAAB26/iM=") -> #VALUE! | AK2: =AND(Feuil1!E1,"AAAAAB26/iQ=") -> #VALUE! | AL2: =AND(Feuil1!F1,"AAAAAB26/iU=") -> #VALUE! | AM2: =AND(Feuil1!H1,"AAAAAB26/iY=") -> #VALUE! | AN2: =AND(Feuil1!I1,"AAAAAB26/ic=") -> #VALUE! | AO2: =AND(Feuil1!#REF!,"AAAAAB26/ig=") -> #REF! | AP2: =AND(Feuil1!#REF!,"AAAAAB26/ik=") -> #REF! | AQ2: =AND(Feuil1!#REF!,"AAAAAB26/io=") -> #REF! | AR2: =AND(Feuil1!#REF!,"AAAAAB26/is=") -> #REF! | AS2: =AND(Feuil1!#REF!,"AAAAAB26/iw=") -> #REF! | AT2: =AND(Feuil1!#REF!,"AAAAAB26/i0=") -> #REF! | AU2: =IF(Feuil1!2:2,"AAAAAB26/i4=",0) -> 0 | AV2: =AND(Feuil1!A2,"AAAAAB26/i8=") -> #VALUE! | AW2: =AND(Feuil1!B2,"AAAAAB26/jA=") -> #VALUE! | AX2: =AND(Feuil1!C2,"AAAAAB26/jE=") -> #VALUE! | AY2: =AND(Feuil1!D2,"AAAAAB26/jI=") -> #VALUE! | AZ2: =AND(Feuil1!E2,"AAAAAB26/jM=") -> #VALUE! | BA2: =AND(Feuil1!F2,"AAAAAB26/jQ=") -> #VALUE! | BB2: =AND(Feuil1!H2,"AAAAAB26/jU=") -> #VALUE! | BC2: =AND(Feuil1!I2,"AAAAAB26/jY=") -> #VALUE! | BD2: =AND(Feuil1!#REF!,"AAAAAB26/jc=") -> #REF! | BE2: =AND(Feuil1!#REF!,"AAAAAB26/jg=") -> #REF! | BF2: =AND(Feuil1!#REF!,"AAAAAB26/jk=") -> #REF! | BG2: =AND(Feuil1!#REF!,"AAAAAB26/jo=") -> #REF! | BH2: =AND(Feuil1!#REF!,"AAAAAB26/js=") -> #REF! | BI2: =AND(Feuil1!#REF!,"AAAAAB26/jw=") -> #REF! | BJ2: =IF(Feuil1!3:3,"AAAAAB26/j0=",0) -> 0 | BK2: =AND(Feuil1!A3,"AAAAAB26/j4=") -> #VALUE! | BL2: =AND(Feuil1!B3,"AAAAAB26/j8=") -> #VALUE! | BM2: =AND(Feuil1!C3,"AAAAAB26/kA=") -> #VALUE! | BN2: =AND(Feuil1!D3,"AAAAAB26/kE=") -> #VALUE! | BO2: =AND(Feuil1!E3,"AAAAAB26/kI=") -> #VALUE! | BP2: =AND(Feuil1!F3,"AAAAAB26/kM=") -> #VALUE! | BQ2: =AND(Feuil1!H3,"AAAAAB26/kQ=") -> #VALUE! | BR2: =AND(Feuil1!I3,"AAAAAB26/kU=") -> #VALUE! | BS2: =AND(Feuil1!#REF!,"AAAAAB26/kY=") -> #REF! | BT2: =AND(Feuil1!#REF!,"AAAAAB26/kc=") -> #REF! | BU2: =AND(Feuil1!#REF!,"AAAAAB26/kg=") -> #REF! | BV2: =AND(Feuil1!#REF!,"AAAAAB26/kk=") -> #REF! | BW2: =AND(Feuil1!#REF!,"AAAAAB26/ko=") -> #REF! | BX2: =AND(Feuil1!#REF!,"AAAAAB26/ks=") -> #REF! | BY2: =IF(Feuil1!4:4,"AAAAAB26/kw=",0) -> 0 | BZ2: =AND(Feuil1!A4,"AAAAAB26/k0=") -> #VALUE! | CA2: =AND(Feuil1!B4,"AAAAAB26/k4=") -> #VALUE! | CB2: =AND(Feuil1!C4,"AAAAAB26/k8=") -> #VALUE! | CC2: =AND(Feuil1!D4,"AAAAAB26/lA=") -> #VALUE! | CD2: =AND(Feuil1!E4,"AAAAAB26/lE=") -> #VALUE! | CE2: =AND(Feuil1!F4,"AAAAAB26/lI=") -> #VALUE! | CF2: =AND(Feuil1!H4,"AAAAAB26/lM=") -> #VALUE! | CG2: =AND(Feuil1!I4,"AAAAAB26/lQ=") -> #VALUE! | CH2: =AND(Feuil1!#REF!,"AAAAAB26/lU=") -> #REF! | CI2: =AND(Feuil1!#REF!,"AAAAAB26/lY=") -> #REF! | CJ2: =AND(Feuil1!#REF!,"AAAAAB26/lc=") -> #REF! | CK2: =AND(Feuil1!#REF!,"AAAAAB26/lg=") -> #REF! | CL2: =AND(Feuil1!#REF!,"AAAAAB26/lk=") -> #REF! | CM2: =AND(Feuil1!#REF!,"AAAAAB26/lo=") -> #REF! | CN2: =IF(Feuil1!5:5,"AAAAAB26/ls=",0) -> 0 | CO2: =AND(Feuil1!A5,"AAAAAB26/lw=") -> #VALUE! | CP2: =AND(Feuil1!B5,"AAAAAB26/l0=") -> #VALUE! | CQ2: =AND(Feuil1!C5,"AAAAAB26/l4=") -> #VALUE! | CR2: =AND(Feuil1!D5,"AAAAAB26/l8=") -> #VALUE! | CS2: =AND(Feuil1!E5,"AAAAAB26/mA=") -> #VALUE! | CT2: =AND(Feuil1!F5,"AAAAAB26/mE=") -> #VALUE! | CU2: =AND(Feuil1!H5,"AAAAAB26/mI=") -> #VALUE! | CV2: =AND(Feuil1!I5,"AAAAAB26/mM=") -> #VALUE! | CW2: =AND(Feuil1!#REF!,"AAAAAB26/mQ=") -> #REF! | CX2: =AND(Feuil1!#REF!,"AAAAAB26/mU=") -> #REF! | CY2: =AND(Feuil1!#REF!,"AAAAAB26/mY=") -> #REF! | CZ2: =AND(Feuil1!#REF!,"AAAAAB26/mc=") -> #REF! | DA2: =AND(Feuil1!#REF!,"AAAAAB26/mg=") -> #REF! | DB2: =AND(Feuil1!#REF!,"AAAAAB26/mk=") -> #REF! | DC2: =IF(Feuil1!6:6,"AAAAAB26/mo=",0) -> 0 | DD2: =AND(Feuil1!A6,"AAAAAB26/ms=") -> #VALUE! | DE2: =AND(Feuil1!B6,"AAAAAB26/mw=") -> #VALUE! | DF2: =AND(Feuil1!C6,"AAAAAB26/m0=") -> #VALUE! | DG2: =AND(Feuil1!D6,"AAAAAB26/m4=") -> #VALUE! | DH2: =AND(Feuil1!E6,"AAAAAB26/m8=") -> #VALUE! | DI2: =AND(Feuil1!F6,"AAAAAB26/nA=") -> #VALUE! | DJ2: =AND(Feuil1!H6,"AAAAAB26/nE=") -> #VALUE! | DK2: =AND(Feuil1!I6,"AAAAAB26/nI=") -> #VALUE! | DL2: =AND(Feuil1!#REF!,"AAAAAB26/nM=") -> #REF! | DM2: =AND(Feuil1!#REF!,"AAAAAB26/nQ=") -> #REF! | DN2: =AND(Feuil1!#REF!,"AAAAAB26/nU=") -> #REF! | DO2: =AND(Feuil1!#REF!,"AAAAAB26/nY=") -> #REF! | DP2: =AND(Feuil1!#REF!,"AAAAAB26/nc=") -> #REF! | DQ2: =AND(Feuil1!#REF!,"AAAAAB26/ng=") -> #REF! | DR2: =IF(Feuil1!7:7,"AAAAAB26/nk=",0) -> 0 | DS2: =AND(Feuil1!A7,"AAAAAB26/no=") -> #VALUE! | DT2: =AND(Feuil1!B7,"AAAAAB26/ns=") -> #VALUE! | DU2: =AND(Feuil1!C7,"AAAAAB26/nw=") -> #VALUE! | DV2: =AND(Feuil1!D7,"AAAAAB26/n0=") -> #VALUE! | DW2: =AND(Feuil1!E7,"AAAAAB26/n4=") -> #VALUE! | DX2: =AND(Feuil1!F7,"AAAAAB26/n8=") -> #VALUE! | DY2: =AND(Feuil1!H7,"AAAAAB26/oA=") -> #VALUE! | DZ2: =AND(Feuil1!I7,"AAAAAB26/oE=") -> #VALUE! | EA2: =AND(Feuil1!#REF!,"AAAAAB26/oI=") -> #REF! | EB2: =AND(Feuil1!#REF!,"AAAAAB26/oM=") -> #REF! | EC2: =AND(Feuil1!#REF!,"AAAAAB26/oQ=") -> #REF! | ED2: =AND(Feuil1!#REF!,"AAAAAB26/oU=") -> #REF! | EE2: =AND(Feuil1!#REF!,"AAAAAB26/oY=") -> #REF! | EF2: =AND(Feuil1!#REF!,"AAAAAB26/oc=") -> #REF! | EG2: =IF(Feuil1!8:8,"AAAAAB26/og=",0) -> 0 | EH2: =AND(Feuil1!A8,"AAAAAB26/ok=") -> #VALUE! | EI2: =AND(Feuil1!B8,"AAAAAB26/oo=") -> #VALUE! | EJ2: =AND(Feuil1!C8,"AAAAAB26/os=") -> #VALUE! | EK2: =AND(Feuil1!D8,"AAAAAB26/ow=") -> #VALUE! | EL2: =AND(Feuil1!E8,"AAAAAB26/o0=") -> #VALUE! | EM2: =AND(Feuil1!F8,"AAAAAB26/o4=") -> #VALUE! | EN2: =AND(Feuil1!H8,"AAAAAB26/o8=") -> #VALUE! | EO2: =AND(Feuil1!I8,"AAAAAB26/pA=") -> #VALUE! | EP2: =AND(Feuil1!#REF!,"AAAAAB26/pE=") -> #REF! | EQ2: =AND(Feuil1!#REF!,"AAAAAB26/pI=") -> #REF! | ER2: =AND(Feuil1!#REF!,"AAAAAB26/pM=") -> #REF! | ES2: =AND(Feuil1!#REF!,"AAAAAB26/pQ=") -> #REF! | ET2: =AND(Feuil1!#REF!,"AAAAAB26/pU=") -> #REF! | EU2: =AND(Feuil1!#REF!,"AAAAAB26/pY=") -> #REF! | EV2: =IF(Feuil1!9:9,"AAAAAB26/pc=",0) -> 0 | EW2: =AND(Feuil1!A9,"AAAAAB26/pg=") -> #VALUE! | EX2: =AND(Feuil1!B9,"AAAAAB26/pk=") -> #VALUE! | EY2: =AND(Feuil1!C9,"AAAAAB26/po=") -> #VALUE! | EZ2: =AND(Feuil1!D9,"AAAAAB26/ps=") -> #VALUE! | FA2: =AND(Feuil1!E9,"AAAAAB26/pw=") -> #VALUE! | FB2: =AND(Feuil1!F9,"AAAAAB26/p0=") -> #VALUE! | FC2: =AND(Feuil1!H9,"AAAAAB26/p4=") -> #VALUE! | FD2: =AND(Feuil1!I9,"AAAAAB26/p8=") -> #VALUE! | FE2: =AND(Feuil1!#REF!,"AAAAAB26/qA=") -> #REF! | FF2: =AND(Feuil1!#REF!,"AAAAAB26/qE=") -> #REF! | FG2: =AND(Feuil1!#REF!,"AAAAAB26/qI=") -> #REF! | FH2: =AND(Feuil1!#REF!,"AAAAAB26/qM=") -> #REF! | FI2: =AND(Feuil1!#REF!,"AAAAAB26/qQ=") -> #REF! | FJ2: =AND(Feuil1!#REF!,"AAAAAB26/qU=") -> #REF! | FK2: =IF(Feuil1!10:10,"AAAAAB26/qY=",0) -> 0 | FL2: =AND(Feuil1!A10,"AAAAAB26/qc=") -> #VALUE! | FM2: =AND(Feuil1!B10,"AAAAAB26/qg=") -> #VALUE! | FN2: =AND(Feuil1!C10,"AAAAAB26/qk=") -> #VALUE! | FO2: =AND(Feuil1!D10,"AAAAAB26/qo=") -> #VALUE! | FP2: =AND(Feuil1!E10,"AAAAAB26/qs=") -> #VALUE! | FQ2: =AND(Feuil1!F10,"AAAAAB26/qw=") -> #VALUE! | FR2: =AND(Feuil1!H10,"AAAAAB26/q0=") -> #VALUE! | FS2: =AND(Feuil1!I10,"AAAAAB26/q4=") -> #VALUE! | FT2: =AND(Feuil1!#REF!,"AAAAAB26/q8=") -> #REF! | FU2: =AND(Feuil1!#REF!,"AAAAAB26/rA=") -> #REF! | FV2: =AND(Feuil1!#REF!,"AAAAAB26/rE=") -> #REF! | FW2: =AND(Feuil1!#REF!,"AAAAAB26/rI=") -> #REF! | FX2: =AND(Feuil1!#REF!,"AAAAAB26/rM=") -> #REF! | FY2: =AND(Feuil1!#REF!,"AAAAAB26/rQ=") -> #REF! | FZ2: =IF(Feuil1!11:11,"AAAAAB26/rU=",0) -> 0 | GA2: =AND(Feuil1!A11,"AAAAAB26/rY=") -> #VALUE! | GB2: =AND(Feuil1!B11,"AAAAAB26/rc=") -> #VALUE! | GC2: =AND(Feuil1!C11,"AAAAAB26/rg=") -> #VALUE! | GD2: =AND(Feuil1!D11,"AAAAAB26/rk=") -> #VALUE! | GE2: =AND(Feuil1!E11,"AAAAAB26/ro=") -> #VALUE! | GF2: =AND(Feuil1!F11,"AAAAAB26/rs=") -> #VALUE! | GG2: =AND(Feuil1!H11,"AAAAAB26/rw=") -> #VALUE! | GH2: =AND(Feuil1!I11,"AAAAAB26/r0=") -> #VALUE! | GI2: =AND(Feuil1!#REF!,"AAAAAB26/r4=") -> #REF! | GJ2: =AND(Feuil1!#REF!,"AAAAAB26/r8=") -> #REF! | GK2: =AND(Feuil1!#REF!,"AAAAAB26/sA=") -> #REF! | GL2: =AND(Feuil1!#REF!,"AAAAAB26/sE=") -> #REF! | GM2: =AND(Feuil1!#REF!,"AAAAAB26/sI=") -> #REF! | GN2: =AND(Feuil1!#REF!,"AAAAAB26/sM=") -> #REF! | GO2: =IF(Feuil1!12:12,"AAAAAB26/sQ=",0) -> 0 | GP2: =AND(Feuil1!A12,"AAAAAB26/sU=") -> #VALUE! | GQ2: =AND(Feuil1!B12,"AAAAAB26/sY=") -> #VALUE! | GR2: =AND(Feuil1!C12,"AAAAAB26/sc=") -> #VALUE! | GS2: =AND(Feuil1!D12,"AAAAAB26/sg=") -> #VALUE! | GT2: =AND(Feuil1!E12,"AAAAAB26/sk=") -> #VALUE! | GU2: =AND(Feuil1!F12,"AAAAAB26/so=") -> #VALUE! | GV2: =AND(Feuil1!H12,"AAAAAB26/ss=") -> #VALUE! | GW2: =AND(Feuil1!I12,"AAAAAB26/sw=") -> #VALUE! | GX2: =AND(Feuil1!#REF!,"AAAAAB26/s0=") -> #REF! | GY2: =AND(Feuil1!#REF!,"AAAAAB26/s4=") -> #REF! | GZ2: =AND(Feuil1!#REF!,"AAAAAB26/s8=") -> #REF! | HA2: =AND(Feuil1!#REF!,"AAAAAB26/tA=") -> #REF! | HB2: =AND(Feuil1!#REF!,"AAAAAB26/tE=") -> #REF! | HC2: =AND(Feuil1!#REF!,"AAAAAB26/tI=") -> #REF! | HD2: =IF(Feuil1!13:13,"AAAAAB26/tM=",0) -> 0 | HE2: =AND(Feuil1!A13,"AAAAAB26/tQ=") -> #VALUE! | HF2: =AND(Feuil1!B13,"AAAAAB26/tU=") -> #VALUE! | HG2: =AND(Feuil1!C13,"AAAAAB26/tY=") -> #VALUE! | HH2: =AND(Feuil1!D13,"AAAAAB26/tc=") -> #VALUE! | HI2: =AND(Feuil1!E13,"AAAAAB26/tg=") -> #VALUE! | HJ2: =AND(Feuil1!F13,"AAAAAB26/tk=") -> #VALUE! | HK2: =AND(Feuil1!H13,"AAAAAB26/to=") -> #VALUE! | HL2: =AND(Feuil1!I13,"AAAAAB26/ts=") -> #VALUE! | HM2: =AND(Feuil1!#REF!,"AAAAAB26/tw=") -> #REF! | HN2: =AND(Feuil1!#REF!,"AAAAAB26/t0=") -> #REF! | HO2: =AND(Feuil1!#REF!,"AAAAAB26/t4=") -> #REF! | HP2: =AND(Feuil1!#REF!,"AAAAAB26/t8=") -> #REF! | HQ2: =AND(Feuil1!#REF!,"AAAAAB26/uA=") -> #REF! | HR2: =AND(Feuil1!#REF!,"AAAAAB26/uE=") -> #REF! | HS2: =IF(Feuil1!14:14,"AAAAAB26/uI=",0) -> 0 | HT2: =AND(Feuil1!A14,"AAAAAB26/uM=") -> #VALUE! | HU2: =AND(Feuil1!B14,"AAAAAB26/uQ=") -> #VALUE! | HV2: =AND(Feuil1!C14,"AAAAAB26/uU=") -> #VALUE! | HW2: =AND(Feuil1!D14,"AAAAAB26/uY=") -> #VALUE! | HX2: =AND(Feuil1!E14,"AAAAAB26/uc=") -> #VALUE! | HY2: =AND(Feuil1!F14,"AAAAAB26/ug=") -> #VALUE! | HZ2: =AND(Feuil1!H14,"AAAAAB26/uk=") -> #VALUE! | IA2: =AND(Feuil1!I14,"AAAAAB26/uo=") -> #VALUE! | IB2: =AND(Feuil1!#REF!,"AAAAAB26/us=") -> #REF! | IC2: =AND(Feuil1!#REF!,"AAAAAB26/uw=") -> #REF! | ID2: =AND(Feuil1!#REF!,"AAAAAB26/u0=") -> #REF! | IE2: =AND(Feuil1!#REF!,"AAAAAB26/u4=") -> #REF! | IF2: =AND(Feuil1!#REF!,"AAAAAB26/u8=") -> #REF! | IG2: =AND(Feuil1!#REF!,"AAAAAB26/vA=") -> #REF! | IH2: =IF(Feuil1!15:15,"AAAAAB26/vE=",0) -> 0 | II2: =AND(Feuil1!A15,"AAAAAB26/vI=") -> #VALUE! | IJ2: =AND(Feuil1!B15,"AAAAAB26/vM=") -> #VALUE! | IK2: =AND(Feuil1!C15,"AAAAAB26/vQ=") -> #VALUE! | IL2: =AND(Feuil1!D15,"AAAAAB26/vU=") -> #VALUE! | IM2: =AND(Feuil1!E15,"AAAAAB26/vY=") -> #VALUE! | IN2: =AND(Feuil1!F15,"AAAAAB26/vc=") -> #VALUE! | IO2: =AND(Feuil1!H15,"AAAAAB26/vg=") -> #VALUE! | IP2: =AND(Feuil1!I15,"AAAAAB26/vk=") -> #VALUE! | IQ2: =AND(Feuil1!#REF!,"AAAAAB26/vo=") -> #REF! | IR2: =AND(Feuil1!#REF!,"AAAAAB26/vs=") -> #REF! | IS2: =AND(Feuil1!#REF!,"AAAAAB26/vw=") -> #REF! | IT2: =AND(Feuil1!#REF!,"AAAAAB26/v0=") -> #REF! | IU2: =AND(Feuil1!#REF!,"AAAAAB26/v4=") -> #REF! | IV2: =AND(Feuil1!#REF!,"AAAAAB26/v8=") -> #REF!
A3: =IF(Feuil1!16:16,"AAAAADX+1wA=",0) -> 0 | B3: =AND(Feuil1!A16,"AAAAADX+1wE=") -> #VALUE! | C3: =AND(Feuil1!B16,"AAAAADX+1wI=") -> #VALUE! | D3: =AND(Feuil1!C16,"AAAAADX+1wM=") -> #VALUE! | E3: =AND(Feuil1!D16,"AAAAADX+1wQ=") -> #VALUE! | F3: =AND(Feuil1!E16,"AAAAADX+1wU=") -> #VALUE! | G3: =AND(Feuil1!F16,"AAAAADX+1wY=") -> #VALUE! | H3: =AND(Feuil1!H16,"AAAAADX+1wc=") -> #VALUE! | I3: =AND(Feuil1!I16,"AAAAADX+1wg=") -> #VALUE! | J3: =AND(Feuil1!#REF!,"AAAAADX+1wk=") -> #REF! | K3: =AND(Feuil1!#REF!,"AAAAADX+1wo=") -> #REF! | L3: =AND(Feuil1!#REF!,"AAAAADX+1ws=") -> #REF! | M3: =AND(Feuil1!#REF!,"AAAAADX+1ww=") -> #REF! | N3: =AND(Feuil1!#REF!,"AAAAADX+1w0=") -> #REF! | O3: =AND(Feuil1!#REF!,"AAAAADX+1w4=") -> #REF! | P3: =IF(Feuil1!17:17,"AAAAADX+1w8=",0) -> 0 | Q3: =AND(Feuil1!A17,"AAAAADX+1xA=") -> #VALUE! | R3: =AND(Feuil1!B17,"AAAAADX+1xE=") -> #VALUE! | S3: =AND(Feuil1!C17,"AAAAADX+1xI=") -> #VALUE! | T3: =AND(Feuil1!D17,"AAAAADX+1xM=") -> #VALUE! | U3: =AND(Feuil1!E17,"AAAAADX+1xQ=") -> #VALUE! | V3: =AND(Feuil1!F17,"AAAAADX+1xU=") -> #VALUE! | W3: =AND(Feuil1!H17,"AAAAADX+1xY=") -> #VALUE! | X3: =AND(Feuil1!I17,"AAAAADX+1xc=") -> #VALUE! | Y3: =AND(Feuil1!#REF!,"AAAAADX+1xg=") -> #REF! | Z3: =AND(Feuil1!#REF!,"AAAAADX+1xk=") -> #REF! | AA3: =AND(Feuil1!#REF!,"AAAAADX+1xo=") -> #REF! | AB3: =AND(Feuil1!#REF!,"AAAAADX+1xs=") -> #REF! | AC3: =AND(Feuil1!#REF!,"AAAAADX+1xw=") -> #REF! | AD3: =AND(Feuil1!#REF!,"AAAAADX+1x0=") -> #REF! | AE3: =IF(Feuil1!18:18,"AAAAADX+1x4=",0) -> 0 | AF3: =AND(Feuil1!A18,"AAAAADX+1x8=") -> #VALUE! | AG3: =AND(Feuil1!B18,"AAAAADX+1yA=") -> #VALUE! | AH3: =AND(Feuil1!C18,"AAAAADX+1yE=") -> #VALUE! | AI3: =AND(Feuil1!D18,"AAAAADX+1yI=") -> #VALUE! | AJ3: =AND(Feuil1!E18,"AAAAADX+1yM=") -> #VALUE! | AK3: =AND(Feuil1!F18,"AAAAADX+1yQ=") -> #VALUE! | AL3: =AND(Feuil1!H18,"AAAAADX+1yU=") -> #VALUE! | AM3: =AND(Feuil1!I18,"AAAAADX+1yY=") -> #VALUE! | AN3: =AND(Feuil1!#REF!,"AAAAADX+1yc=") -> #REF! | AO3: =AND(Feuil1!#REF!,"AAAAADX+1yg=") -> #REF! | AP3: =AND(Feuil1!#REF!,"AAAAADX+1yk=") -> #REF! | AQ3: =AND(Feuil1!#REF!,"AAAAADX+1yo=") -> #REF! | AR3: =AND(Feuil1!#REF!,"AAAAADX+1ys=") -> #REF! | AS3: =AND(Feuil1!#REF!,"AAAAADX+1yw=") -> #REF! | AT3: =IF(Feuil1!19:19,"AAAAADX+1y0=",0) -> 0 | AU3: =AND(Feuil1!A19,"AAAAADX+1y4=") -> #VALUE! | AV3: =AND(Feuil1!B19,"AAAAADX+1y8=") -> #VALUE! | AW3: =AND(Feuil1!C19,"AAAAADX+1zA=") -> #VALUE! | AX3: =AND(Feuil1!D19,"AAAAADX+1zE=") -> #VALUE! | AY3: =AND(Feuil1!E19,"AAAAADX+1zI=") -> #VALUE! | AZ3: =AND(Feuil1!F19,"AAAAADX+1zM=") -> #VALUE! | BA3: =AND(Feuil1!H19,"AAAAADX+1zQ=") -> #VALUE! | BB3: =AND(Feuil1!I19,"AAAAADX+1zU=") -> #VALUE! | BC3: =AND(Feuil1!#REF!,"AAAAADX+1zY=") -> #REF! | BD3: =AND(Feuil1!#REF!,"AAAAADX+1zc=") -> #REF! | BE3: =AND(Feuil1!#REF!,"AAAAADX+1zg=") -> #REF! | BF3: =AND(Feuil1!#REF!,"AAAAADX+1zk=") -> #REF! | BG3: =AND(Feuil1!#REF!,"AAAAADX+1zo=") -> #REF! | BH3: =AND(Feuil1!#REF!,"AAAAADX+1zs=") -> #REF! | BI3: =IF(Feuil1!20:20,"AAAAADX+1zw=",0) -> 0 | BJ3: =AND(Feuil1!A20,"AAAAADX+1z0=") -> #VALUE! | BK3: =AND(Feuil1!B20,"AAAAADX+1z4=") -> #VALUE! | BL3: =AND(Feuil1!C20,"AAAAADX+1z8=") -> #VALUE! | BM3: =AND(Feuil1!D20,"AAAAADX+10A=") -> #VALUE! | BN3: =AND(Feuil1!E20,"AAAAADX+10E=") -> #VALUE! | BO3: =AND(Feuil1!F20,"AAAAADX+10I=") -> #VALUE! | BP3: =AND(Feuil1!H20,"AAAAADX+10M=") -> #VALUE! | BQ3: =AND(Feuil1!I20,"AAAAADX+10Q=") -> #VALUE! | BR3: =AND(Feuil1!#REF!,"AAAAADX+10U=") -> #REF! | BS3: =AND(Feuil1!#REF!,"AAAAADX+10Y=") -> #REF! | BT3: =AND(Feuil1!#REF!,"AAAAADX+10c=") -> #REF! | BU3: =AND(Feuil1!#REF!,"AAAAADX+10g=") -> #REF! | BV3: =AND(Feuil1!#REF!,"AAAAADX+10k=") -> #REF! | BW3: =AND(Feuil1!#REF!,"AAAAADX+10o=") -> #REF! | BX3: =IF(Feuil1!21:21,"AAAAADX+10s=",0) -> 0 | BY3: =AND(Feuil1!A21,"AAAAADX+10w=") -> #VALUE! | BZ3: =AND(Feuil1!B21,"AAAAADX+100=") -> #VALUE! | CA3: =AND(Feuil1!C21,"AAAAADX+104=") -> #VALUE! | CB3: =AND(Feuil1!D21,"AAAAADX+108=") -> #VALUE! | CC3: =AND(Feuil1!E21,"AAAAADX+11A=") -> #VALUE! | CD3: =AND(Feuil1!F21,"AAAAADX+11E=") -> #VALUE! | CE3: =AND(Feuil1!H21,"AAAAADX+11I=") -> #VALUE! | CF3: =AND(Feuil1!I21,"AAAAADX+11M=") -> #VALUE! | CG3: =AND(Feuil1!#REF!,"AAAAADX+11Q=") -> #REF! | CH3: =AND(Feuil1!#REF!,"AAAAADX+11U=") -> #REF! | CI3: =AND(Feuil1!#REF!,"AAAAADX+11Y=") -> #REF! | CJ3: =AND(Feuil1!#REF!,"AAAAADX+11c=") -> #REF! | CK3: =AND(Feuil1!#REF!,"AAAAADX+11g=") -> #REF! | CL3: =AND(Feuil1!#REF!,"AAAAADX+11k=") -> #REF! | CM3: =IF(Feuil1!22:22,"AAAAADX+11o=",0) -> 0 | CN3: =AND(Feuil1!A22,"AAAAADX+11s=") -> #VALUE! | CO3: =AND(Feuil1!B22,"AAAAADX+11w=") -> #VALUE! | CP3: =AND(Feuil1!C22,"AAAAADX+110=") -> #VALUE! | CQ3: =AND(Feuil1!D22,"AAAAADX+114=") -> #VALUE! | CR3: =AND(Feuil1!E22,"AAAAADX+118=") -> #VALUE! | CS3: =AND(Feuil1!F22,"AAAAADX+12A=") -> #VALUE! | CT3: =AND(Feuil1!H22,"AAAAADX+12E=") -> #VALUE! | CU3: =AND(Feuil1!I22,"AAAAADX+12I=") -> #VALUE! | CV3: =AND(Feuil1!#REF!,"AAAAADX+12M=") -> #REF! | CW3: =AND(Feuil1!#REF!,"AAAAADX+12Q=") -> #REF! | CX3: =AND(Feuil1!#REF!,"AAAAADX+12U=") -> #REF! | CY3: =AND(Feuil1!#REF!,"AAAAADX+12Y=") -> #REF! | CZ3: =AND(Feuil1!#REF!,"AAAAADX+12c=") -> #REF! | DA3: =AND(Feuil1!#REF!,"AAAAADX+12g=") -> #REF! | DB3: =IF(Feuil1!23:23,"AAAAADX+12k=",0) -> 0 | DC3: =AND(Feuil1!A23,"AAAAADX+12o=") -> #VALUE! | DD3: =AND(Feuil1!B23,"AAAAADX+12s=") -> #VALUE! | DE3: =AND(Feuil1!C23,"AAAAADX+12w=") -> #VALUE! | DF3: =AND(Feuil1!D23,"AAAAADX+120=") -> #VALUE! | DG3: =AND(Feuil1!E23,"AAAAADX+124=") -> #VALUE! | DH3: =AND(Feuil1!F23,"AAAAADX+128=") -> #VALUE! | DI3: =AND(Feuil1!H23,"AAAAADX+13A=") -> #VALUE! | DJ3: =AND(Feuil1!I23,"AAAAADX+13E=") -> #VALUE! | DK3: =AND(Feuil1!#REF!,"AAAAADX+13I=") -> #REF! | DL3: =AND(Feuil1!#REF!,"AAAAADX+13M=") -> #REF! | DM3: =AND(Feuil1!#REF!,"AAAAADX+13Q=") -> #REF! | DN3: =AND(Feuil1!#REF!,"AAAAADX+13U=") -> #REF! | DO3: =AND(Feuil1!#REF!,"AAAAADX+13Y=") -> #REF! | DP3: =AND(Feuil1!#REF!,"AAAAADX+13c=") -> #REF! | DQ3: =IF(Feuil1!24:24,"AAAAADX+13g=",0) -> 0 | DR3: =AND(Feuil1!A24,"AAAAADX+13k=") -> #VALUE! | DS3: =AND(Feuil1!B24,"AAAAADX+13o=") -> #VALUE! | DT3: =AND(Feuil1!C24,"AAAAADX+13s=") -> #VALUE! | DU3: =AND(Feuil1!D24,"AAAAADX+13w=") -> #VALUE! | DV3: =AND(Feuil1!E24,"AAAAADX+130=") -> #VALUE! | DW3: =AND(Feuil1!F24,"AAAAADX+134=") -> #VALUE! | DX3: =AND(Feuil1!H24,"AAAAADX+138=") -> #VALUE! | DY3: =AND(Feuil1!I24,"AAAAADX+14A=") -> #VALUE! | DZ3: =AND(Feuil1!#REF!,"AAAAADX+14E=") -> #REF! | EA3: =AND(Feuil1!#REF!,"AAAAADX+14I=") -> #REF! | EB3: =AND(Feuil1!#REF!,"AAAAADX+14M=") -> #REF! | EC3: =AND(Feuil1!#REF!,"AAAAADX+14Q=") -> #REF! | ED3: =AND(Feuil1!#REF!,"AAAAADX+14U=") -> #REF! | EE3: =AND(Feuil1!#REF!,"AAAAADX+14Y=") -> #REF! | EF3: =IF(Feuil1!25:25,"AAAAADX+14c=",0) -> 0 | EG3: =AND(Feuil1!A25,"AAAAADX+14g=") -> #VALUE! | EH3: =AND(Feuil1!B25,"AAAAADX+14k=") -> #VALUE! | EI3: =AND(Feuil1!C25,"AAAAADX+14o=") -> #VALUE! | EJ3: =AND(Feuil1!D25,"AAAAADX+14s=") -> #VALUE! | EK3: =AND(Feuil1!E25,"AAAAADX+14w=") -> #VALUE! | EL3: =AND(Feuil1!F25,"AAAAADX+140=") -> #VALUE! | EM3: =AND(Feuil1!H25,"AAAAADX+144=") -> #VALUE! | EN3: =AND(Feuil1!I25,"AAAAADX+148=") -> #VALUE! | EO3: =AND(Feuil1!#REF!,"AAAAADX+15A=") -> #REF! | EP3: =AND(Feuil1!#REF!,"AAAAADX+15E=") -> #REF! | EQ3: =AND(Feuil1!#REF!,"AAAAADX+15I=") -> #REF! | ER3: =AND(Feuil1!#REF!,"AAAAADX+15M=") -> #REF! | ES3: =AND(Feuil1!#REF!,"AAAAADX+15Q=") -> #REF! | ET3: =AND(Feuil1!#REF!,"AAAAADX+15U=") -> #REF! | EU3: =IF(Feuil1!26:26,"AAAAADX+15Y=",0) -> 0 | EV3: =AND(Feuil1!A26,"AAAAADX+15c=") -> #VALUE! | EW3: =AND(Feuil1!B26,"AAAAADX+15g=") -> #VALUE! | EX3: =AND(Feuil1!C26,"AAAAADX+15k=") -> #VALUE! | EY3: =AND(Feuil1!D26,"AAAAADX+15o=") -> #VALUE! | EZ3: =AND(Feuil1!E26,"AAAAADX+15s=") -> #VALUE! | FA3: =AND(Feuil1!F26,"AAAAADX+15w=") -> #VALUE! | FB3: =AND(Feuil1!H26,"AAAAADX+150=") -> #VALUE! | FC3: =AND(Feuil1!I26,"AAAAADX+154=") -> #VALUE! | FD3: =AND(Feuil1!#REF!,"AAAAADX+158=") -> #REF! | FE3: =AND(Feuil1!#REF!,"AAAAADX+16A=") -> #REF! | FF3: =AND(Feuil1!#REF!,"AAAAADX+16E=") -> #REF! | FG3: =AND(Feuil1!#REF!,"AAAAADX+16I=") -> #REF! | FH3: =AND(Feuil1!#REF!,"AAAAADX+16M=") -> #REF! | FI3: =AND(Feuil1!#REF!,"AAAAADX+16Q=") -> #REF! | FJ3: =IF(Feuil1!27:27,"AAAAADX+16U=",0) -> 0 | FK3: =AND(Feuil1!A27,"AAAAADX+16Y=") -> #VALUE! | FL3: =AND(Feuil1!B27,"AAAAADX+16c=") -> #VALUE! | FM3: =AND(Feuil1!C27,"AAAAADX+16g=") -> #VALUE! | FN3: =AND(Feuil1!D27,"AAAAADX+16k=") -> #VALUE! | FO3: =AND(Feuil1!E27,"AAAAADX+16o=") -> #VALUE! | FP3: =AND(Feuil1!F27,"AAAAADX+16s=") -> #VALUE! | FQ3: =AND(Feuil1!H27,"AAAAADX+16w=") -> #VALUE! | FR3: =AND(Feuil1!I27,"AAAAADX+160=") -> #VALUE! | FS3: =AND(Feuil1!#REF!,"AAAAADX+164=") -> #REF! | FT3: =AND(Feuil1!#REF!,"AAAAADX+168=") -> #REF! | FU3: =AND(Feuil1!#REF!,"AAAAADX+17A=") -> #REF! | FV3: =AND(Feuil1!#REF!,"AAAAADX+17E=") -> #REF! | FW3: =AND(Feuil1!#REF!,"AAAAADX+17I=") -> #REF! | FX3: =AND(Feuil1!#REF!,"AAAAADX+17M=") -> #REF! | FY3: =IF(Feuil1!28:28,"AAAAADX+17Q=",0) -> 0 | FZ3: =AND(Feuil1!A28,"AAAAADX+17U=") -> #VALUE! | GA3: =AND(Feuil1!B28,"AAAAADX+17Y=") -> #VALUE! | GB3: =AND(Feuil1!C28,"AAAAADX+17c=") -> #VALUE! | GC3: =AND(Feuil1!D28,"AAAAADX+17g=") -> #VALUE! | GD3: =AND(Feuil1!E28,"AAAAADX+17k=") -> #VALUE! | GE3: =AND(Feuil1!F28,"AAAAADX+17o=") -> #VALUE! | GF3: =AND(Feuil1!H28,"AAAAADX+17s=") -> #VALUE! | GG3: =AND(Feuil1!I28,"AAAAADX+17w=") -> #VALUE! | GH3: =AND(Feuil1!#REF!,"AAAAADX+170=") -> #REF! | GI3: =AND(Feuil1!#REF!,"AAAAADX+174=") -> #REF! | GJ3: =AND(Feuil1!#REF!,"AAAAADX+178=") -> #REF! | GK3: =AND(Feuil1!#REF!,"AAAAADX+18A=") -> #REF! | GL3: =AND(Feuil1!#REF!,"AAAAADX+18E=") -> #REF! | GM3: =AND(Feuil1!#REF!,"AAAAADX+18I=") -> #REF! | GN3: =IF(Feuil1!29:29,"AAAAADX+18M=",0) -> 0 | GO3: =AND(Feuil1!A29,"AAAAADX+18Q=") -> #VALUE! | GP3: =AND(Feuil1!B29,"AAAAADX+18U=") -> #VALUE! | GQ3: =AND(Feuil1!C29,"AAAAADX+18Y=") -> #VALUE! | GR3: =AND(Feuil1!D29,"AAAAADX+18c=") -> #VALUE! | GS3: =AND(Feuil1!E29,"AAAAADX+18g=") -> #VALUE! | GT3: =AND(Feuil1!F29,"AAAAADX+18k=") -> #VALUE! | GU3: =AND(Feuil1!H29,"AAAAADX+18o=") -> #VALUE! | GV3: =AND(Feuil1!I29,"AAAAADX+18s=") -> #VALUE! | GW3: =AND(Feuil1!#REF!,"AAAAADX+18w=") -> #REF! | GX3: =AND(Feuil1!#REF!,"AAAAADX+180=") -> #REF! | GY3: =AND(Feuil1!#REF!,"AAAAADX+184=") -> #REF! | GZ3: =AND(Feuil1!#REF!,"AAAAADX+188=") -> #REF! | HA3: =AND(Feuil1!#REF!,"AAAAADX+19A=") -> #REF! | HB3: =AND(Feuil1!#REF!,"AAAAADX+19E=") -> #REF! | HC3: =IF(Feuil1!30:30,"AAAAADX+19I=",0) -> 0 | HD3: =AND(Feuil1!A30,"AAAAADX+19M=") -> #VALUE! | HE3: =AND(Feuil1!B30,"AAAAADX+19Q=") -> #VALUE! | HF3: =AND(Feuil1!C30,"AAAAADX+19U=") -> #VALUE! | HG3: =AND(Feuil1!D30,"AAAAADX+19Y=") -> #VALUE! | HH3: =AND(Feuil1!E30,"AAAAADX+19c=") -> #VALUE! | HI3: =AND(Feuil1!F30,"AAAAADX+19g=") -> #VALUE! | HJ3: =AND(Feuil1!H30,"AAAAADX+19k=") -> #VALUE! | HK3: =AND(Feuil1!I30,"AAAAADX+19o=") -> #VALUE! | HL3: =AND(Feuil1!#REF!,"AAAAADX+19s=") -> #REF! | HM3: =AND(Feuil1!#REF!,"AAAAADX+19w=") -> #REF! | HN3: =AND(Feuil1!#REF!,"AAAAADX+190=") -> #REF! | HO3: =AND(Feuil1!#REF!,"AAAAADX+194=") -> #REF! | HP3: =AND(Feuil1!#REF!,"AAAAADX+198=") -> #REF! | HQ3: =AND(Feuil1!#REF!,"AAAAADX+1+A=") -> #REF! | HR3: =IF(Feuil1!31:31,"AAAAADX+1+E=",0) -> 0 | HS3: =AND(Feuil1!A31,"AAAAADX+1+I=") -> #VALUE! | HT3: =AND(Feuil1!B31,"AAAAADX+1+M=") -> #VALUE! | HU3: =AND(Feuil1!C31,"AAAAADX+1+Q=") -> #VALUE! | HV3: =AND(Feuil1!D31,"AAAAADX+1+U=") -> #VALUE! | HW3: =AND(Feuil1!E31,"AAAAADX+1+Y=") -> #VALUE! | HX3: =AND(Feuil1!F31,"AAAAADX+1+c=") -> #VALUE! | HY3: =AND(Feuil1!H31,"AAAAADX+1+g=") -> #VALUE! | HZ3: =AND(Feuil1!I31,"AAAAADX+1+k=") -> #VALUE! | IA3: =AND(Feuil1!#REF!,"AAAAADX+1+o=") -> #REF! | IB3: =AND(Feuil1!#REF!,"AAAAADX+1+s=") -> #REF! | IC3: =AND(Feuil1!#REF!,"AAAAADX+1+w=") -> #REF! | ID3: =AND(Feuil1!#REF!,"AAAAADX+1+0=") -> #REF! | IE3: =AND(Feuil1!#REF!,"AAAAADX+1+4=") -> #REF! | IF3: =AND(Feuil1!#REF!,"AAAAADX+1+8=") -> #REF! | IG3: =IF(Feuil1!32:32,"AAAAADX+1/A=",0) -> 0 | IH3: =AND(Feuil1!A32,"AAAAADX+1/E=") -> #VALUE! | II3: =AND(Feuil1!B32,"AAAAADX+1/I=") -> #VALUE! | IJ3: =AND(Feuil1!C32,"AAAAADX+1/M=") -> #VALUE! | IK3: =AND(Feuil1!D32,"AAAAADX+1/Q=") -> #VALUE! | IL3: =AND(Feuil1!E32,"AAAAADX+1/U=") -> #VALUE! | IM3: =AND(Feuil1!F32,"AAAAADX+1/Y=") -> #VALUE! | IN3: =AND(Feuil1!H32,"AAAAADX+1/c=") -> #VALUE! | IO3: =AND(Feuil1!I32,"AAAAADX+1/g=") -> #VALUE! | IP3: =AND(Feuil1!#REF!,"AAAAADX+1/k=") -> #REF! | IQ3: =AND(Feuil1!#REF!,"AAAAADX+1/o=") -> #REF! | IR3: =AND(Feuil1!#REF!,"AAAAADX+1/s=") -> #REF! | IS3: =AND(Feuil1!#REF!,"AAAAADX+1/w=") -> #REF! | IT3: =AND(Feuil1!#REF!,"AAAAADX+1/0=") -> #REF! | IU3: =AND(Feuil1!#REF!,"AAAAADX+1/4=") -> #REF! | IV3: =IF(Feuil1!33:33,"AAAAADX+1/8=",0) -> 0
A4: =AND(Feuil1!A33,"AAAAAHtz1wA=") -> #VALUE! | B4: =AND(Feuil1!B33,"AAAAAHtz1wE=") -> #VALUE! | C4: =AND(Feuil1!C33,"AAAAAHtz1wI=") -> #VALUE! | D4: =AND(Feuil1!D33,"AAAAAHtz1wM=") -> #VALUE! | E4: =AND(Feuil1!E33,"AAAAAHtz1wQ=") -> #VALUE! | F4: =AND(Feuil1!F33,"AAAAAHtz1wU=") -> #VALUE! | G4: =AND(Feuil1!H33,"AAAAAHtz1wY=") -> #VALUE! | H4: =AND(Feuil1!I33,"AAAAAHtz1wc=") -> #VALUE! | I4: =AND(Feuil1!#REF!,"AAAAAHtz1wg=") -> #REF! | J4: =AND(Feuil1!#REF!,"AAAAAHtz1wk=") -> #REF! | K4: =AND(Feuil1!#REF!,"AAAAAHtz1wo=") -> #REF! | L4: =AND(Feuil1!#REF!,"AAAAAHtz1ws=") -> #REF! | M4: =AND(Feuil1!#REF!,"AAAAAHtz1ww=") -> #REF! | N4: =AND(Feuil1!#REF!,"AAAAAHtz1w0=") -> #REF! | O4: =IF(Feuil1!34:34,"AAAAAHtz1w4=",0) -> 0 | P4: =AND(Feuil1!A34,"AAAAAHtz1w8=") -> #VALUE! | Q4: =AND(Feuil1!B34,"AAAAAHtz1xA=") -> #VALUE! | R4: =AND(Feuil1!C34,"AAAAAHtz1xE=") -> #VALUE! | S4: =AND(Feuil1!D34,"AAAAAHtz1xI=") -> #VALUE! | T4: =AND(Feuil1!E34,"AAAAAHtz1xM=") -> #VALUE! | U4: =AND(Feuil1!F34,"AAAAAHtz1xQ=") -> #VALUE! | V4: =AND(Feuil1!H34,"AAAAAHtz1xU=") -> #VALUE! | W4: =AND(Feuil1!I34,"AAAAAHtz1xY=") -> #VALUE! | X4: =AND(Feuil1!#REF!,"AAAAAHtz1xc=") -> #REF! | Y4: =AND(Feuil1!#REF!,"AAAAAHtz1xg=") -> #REF! | Z4: =AND(Feuil1!#REF!,"AAAAAHtz1xk=") -> #REF! | AA4: =AND(Feuil1!#REF!,"AAAAAHtz1xo=") -> #REF! | AB4: =AND(Feuil1!#REF!,"AAAAAHtz1xs=") -> #REF! | AC4: =AND(Feuil1!#REF!,"AAAAAHtz1xw=") -> #REF! | AD4: =IF(Feuil1!35:35,"AAAAAHtz1x0=",0) -> 0 | AE4: =AND(Feuil1!A35,"AAAAAHtz1x4=") -> #VALUE! | AF4: =AND(Feuil1!B35,"AAAAAHtz1x8=") -> #VALUE! | AG4: =AND(Feuil1!C35,"AAAAAHtz1yA=") -> #VALUE! | AH4: =AND(Feuil1!D35,"AAAAAHtz1yE=") -> #VALUE! | AI4: =AND(Feuil1!E35,"AAAAAHtz1yI=") -> #VALUE! | AJ4: =AND(Feuil1!F35,"AAAAAHtz1yM=") -> #VALUE! | AK4: =AND(Feuil1!H35,"AAAAAHtz1yQ=") -> #VALUE! | AL4: =AND(Feuil1!I35,"AAAAAHtz1yU=") -> #VALUE! | AM4: =AND(Feuil1!#REF!,"AAAAAHtz1yY=") -> #REF! | AN4: =AND(Feuil1!#REF!,"AAAAAHtz1yc=") -> #REF! | AO4: =AND(Feuil1!#REF!,"AAAAAHtz1yg=") -> #REF! | AP4: =AND(Feuil1!#REF!,"AAAAAHtz1yk=") -> #REF! | AQ4: =AND(Feuil1!#REF!,"AAAAAHtz1yo=") -> #REF! | AR4: =AND(Feuil1!#REF!,"AAAAAHtz1ys=") -> #REF! | AS4: =IF(Feuil1!36:36,"AAAAAHtz1yw=",0) -> 0 | AT4: =AND(Feuil1!A36,"AAAAAHtz1y0=") -> #VALUE! | AU4: =AND(Feuil1!B36,"AAAAAHtz1y4=") -> #VALUE! | AV4: =AND(Feuil1!C36,"AAAAAHtz1y8=") -> #VALUE! | AW4: =AND(Feuil1!D36,"AAAAAHtz1zA=") -> #VALUE! | AX4: =AND(Feuil1!E36,"AAAAAHtz1zE=") -> #VALUE! | AY4: =AND(Feuil1!F36,"AAAAAHtz1zI=") -> #VALUE! | AZ4: =AND(Feuil1!H36,"AAAAAHtz1zM=") -> #VALUE! | BA4: =AND(Feuil1!I36,"AAAAAHtz1zQ=") -> #VALUE! | BB4: =AND(Feuil1!#REF!,"AAAAAHtz1zU=") -> #REF! | BC4: =AND(Feuil1!#REF!,"AAAAAHtz1zY=") -> #REF! | BD4: =AND(Feuil1!#REF!,"AAAAAHtz1zc=") -> #REF! | BE4: =AND(Feuil1!#REF!,"AAAAAHtz1zg=") -> #REF! | BF4: =AND(Feuil1!#REF!,"AAAAAHtz1zk=") -> #REF! | BG4: =AND(Feuil1!#REF!,"AAAAAHtz1zo=") -> #REF! | BH4: =IF(Feuil1!37:37,"AAAAAHtz1zs=",0) -> 0 | BI4: =AND(Feuil1!A37,"AAAAAHtz1zw=") -> #VALUE! | BJ4: =AND(Feuil1!B37,"AAAAAHtz1z0=") -> #VALUE! | BK4: =AND(Feuil1!C37,"AAAAAHtz1z4=") -> #VALUE! | BL4: =AND(Feuil1!D37,"AAAAAHtz1z8=") -> #VALUE! | BM4: =AND(Feuil1!E37,"AAAAAHtz10A=") -> #VALUE! | BN4: =AND(Feuil1!F37,"AAAAAHtz10E=") -> #VALUE! | BO4: =AND(Feuil1!H37,"AAAAAHtz10I=") -> #VALUE! | BP4: =AND(Feuil1!I37,"AAAAAHtz10M=") -> #VALUE! | BQ4: =AND(Feuil1!#REF!,"AAAAAHtz10Q=") -> #REF! | BR4: =AND(Feuil1!#REF!,"AAAAAHtz10U=") -> #REF! | BS4: =AND(Feuil1!#REF!,"AAAAAHtz10Y=") -> #REF! | BT4: =AND(Feuil1!#REF!,"AAAAAHtz10c=") -> #REF! | BU4: =AND(Feuil1!#REF!,"AAAAAHtz10g=") -> #REF! | BV4: =AND(Feuil1!#REF!,"AAAAAHtz10k=") -> #REF! | BW4: =IF(Feuil1!38:38,"AAAAAHtz10o=",0) -> 0 | BX4: =AND(Feuil1!A38,"AAAAAHtz10s=") -> #VALUE! | BY4: =AND(Feuil1!B38,"AAAAAHtz10w=") -> #VALUE! | BZ4: =AND(Feuil1!C38,"AAAAAHtz100=") -> #VALUE! | CA4: =AND(Feuil1!D38,"AAAAAHtz104=") -> #VALUE! | CB4: =AND(Feuil1!E38,"AAAAAHtz108=") -> #VALUE! | CC4: =AND(Feuil1!F38,"AAAAAHtz11A=") -> #VALUE! | CD4: =AND(Feuil1!H38,"AAAAAHtz11E=") -> #VALUE! | CE4: =AND(Feuil1!I38,"AAAAAHtz11I=") -> #VALUE! | CF4: =AND(Feuil1!#REF!,"AAAAAHtz11M=") -> #REF! | CG4: =AND(Feuil1!#REF!,"AAAAAHtz11Q=") -> #REF! | CH4: =AND(Feuil1!#REF!,"AAAAAHtz11U=") -> #REF! | CI4: =AND(Feuil1!#REF!,"AAAAAHtz11Y=") -> #REF! | CJ4: =AND(Feuil1!#REF!,"AAAAAHtz11c=") -> #REF! | CK4: =AND(Feuil1!#REF!,"AAAAAHtz11g=") -> #REF! | CL4: =IF(Feuil1!39:39,"AAAAAHtz11k=",0) -> 0 | CM4: =AND(Feuil1!A39,"AAAAAHtz11o=") -> #VALUE! | CN4: =AND(Feuil1!B39,"AAAAAHtz11s=") -> #VALUE! | CO4: =AND(Feuil1!C39,"AAAAAHtz11w=") -> #VALUE! | CP4: =AND(Feuil1!D39,"AAAAAHtz110=") -> #VALUE! | CQ4: =AND(Feuil1!E39,"AAAAAHtz114=") -> #VALUE! | CR4: =AND(Feuil1!F39,"AAAAAHtz118=") -> #VALUE! | CS4: =AND(Feuil1!H39,"AAAAAHtz12A=") -> #VALUE! | CT4: =AND(Feuil1!I39,"AAAAAHtz12E=") -> #VALUE! | CU4: =AND(Feuil1!#REF!,"AAAAAHtz12I=") -> #REF! | CV4: =AND(Feuil1!#REF!,"AAAAAHtz12M=") -> #REF! | CW4: =AND(Feuil1!#REF!,"AAAAAHtz12Q=") -> #REF! | CX4: =AND(Feuil1!#REF!,"AAAAAHtz12U=") -> #REF! | CY4: =AND(Feuil1!#REF!,"AAAAAHtz12Y=") -> #REF! | CZ4: =AND(Feuil1!#REF!,"AAAAAHtz12c=") -> #REF! | DA4: =IF(Feuil1!40:40,"AAAAAHtz12g=",0) -> 0 | DB4: =AND(Feuil1!A40,"AAAAAHtz12k=") -> #VALUE! | DC4: =AND(Feuil1!B40,"AAAAAHtz12o=") -> #VALUE! | DD4: =AND(Feuil1!C40,"AAAAAHtz12s=") -> #VALUE! | DE4: =AND(Feuil1!D40,"AAAAAHtz12w=") -> #VALUE! | DF4: =AND(Feuil1!E40,"AAAAAHtz120=") -> #VALUE! | DG4: =IF(Feuil1!41:41,"AAAAAHtz124=",0) -> 0 | DH4: =AND(Feuil1!A41,"AAAAAHtz128=") -> #VALUE! | DI4: =AND(Feuil1!B41,"AAAAAHtz13A=") -> #VALUE! | DJ4: =AND(Feuil1!C41,"AAAAAHtz13E=") -> #VALUE! | DK4: =AND(Feuil1!D41,"AAAAAHtz13I=") -> #VALUE! | DL4: =AND(Feuil1!E41,"AAAAAHtz13M=") -> #VALUE! | DM4: =IF(Feuil1!42:42,"AAAAAHtz13Q=",0) -> 0 | DN4: =AND(Feuil1!A42,"AAAAAHtz13U=") -> #VALUE! | DO4: =AND(Feuil1!B42,"AAAAAHtz13Y=") -> #VALUE! | DP4: =AND(Feuil1!C42,"AAAAAHtz13c=") -> #VALUE! | DQ4: =AND(Feuil1!D42,"AAAAAHtz13g=") -> #VALUE! | DR4: =AND(Feuil1!E42,"AAAAAHtz13k=") -> #VALUE! | DS4: =IF(Feuil1!43:43,"AAAAAHtz13o=",0) -> 0 | DT4: =AND(Feuil1!A43,"AAAAAHtz13s=") -> #VALUE! | DU4: =AND(Feuil1!B43,"AAAAAHtz13w=") -> #VALUE! | DV4: =AND(Feuil1!C43,"AAAAAHtz130=") -> #VALUE! | DW4: =AND(Feuil1!D43,"AAAAAHtz134=") -> #VALUE! | DX4: =AND(Feuil1!E43,"AAAAAHtz138=") -> #VALUE! | DY4: =IF(Feuil1!44:44,"AAAAAHtz14A=",0) -> 0 | DZ4: =AND(Feuil1!A44,"AAAAAHtz14E=") -> #VALUE! | EA4: =AND(Feuil1!B44,"AAAAAHtz14I=") -> #VALUE! | EB4: =AND(Feuil1!C44,"AAAAAHtz14M=") -> #VALUE! | EC4: =AND(Feuil1!D44,"AAAAAHtz14Q=") -> #VALUE! | ED4: =AND(Feuil1!E44,"AAAAAHtz14U=") -> #VALUE! | EE4: =IF(Feuil1!45:45,"AAAAAHtz14Y=",0) -> 0 | EF4: =AND(Feuil1!A45,"AAAAAHtz14c=") -> #VALUE! | EG4: =AND(Feuil1!B45,"AAAAAHtz14g=") -> #VALUE! | EH4: =AND(Feuil1!C45,"AAAAAHtz14k=") -> #VALUE! | EI4: =AND(Feuil1!D45,"AAAAAHtz14o=") -> #VALUE! | EJ4: =AND(Feuil1!E45,"AAAAAHtz14s=") -> #VALUE! | EK4: =IF(Feuil1!46:46,"AAAAAHtz14w=",0) -> 0 | EL4: =AND(Feuil1!A46,"AAAAAHtz140=") -> #VALUE! | EM4: =AND(Feuil1!B46,"AAAAAHtz144=") -> #VALUE! | EN4: =AND(Feuil1!C46,"AAAAAHtz148=") -> #VALUE! | EO4: =AND(Feuil1!D46,"AAAAAHtz15A=") -> #VALUE! | EP4: =AND(Feuil1!E46,"AAAAAHtz15E=") -> #VALUE! | EQ4: =IF(Feuil1!47:47,"AAAAAHtz15I=",0) -> 0 | ER4: =AND(Feuil1!A47,"AAAAAHtz15M=") -> #VALUE! | ES4: =AND(Feuil1!B47,"AAAAAHtz15Q=") -> #VALUE! | ET4: =AND(Feuil1!C47,"AAAAAHtz15U=") -> #VALUE! | EU4: =AND(Feuil1!D47,"AAAAAHtz15Y=") -> #VALUE! | EV4: =AND(Feuil1!E47,"AAAAAHtz15c=") -> #VALUE! | EW4: =IF(Feuil1!48:48,"AAAAAHtz15g=",0) -> 0 | EX4: =AND(Feuil1!A48,"AAAAAHtz15k=") -> #VALUE! | EY4: =AND(Feuil1!B48,"AAAAAHtz15o=") -> #VALUE! | EZ4: =AND(Feuil1!C48,"AAAAAHtz15s=") -> #VALUE! | FA4: =AND(Feuil1!D48,"AAAAAHtz15w=") -> #VALUE! | FB4: =AND(Feuil1!E48,"AAAAAHtz150=") -> #VALUE! | FC4: =IF(Feuil1!49:49,"AAAAAHtz154=",0) -> 0 | FD4: =AND(Feuil1!A49,"AAAAAHtz158=") -> #VALUE! | FE4: =AND(Feuil1!B49,"AAAAAHtz16A=") -> #VALUE! | FF4: =AND(Feuil1!C49,"AAAAAHtz16E=") -> #VALUE! | FG4: =AND(Feuil1!D49,"AAAAAHtz16I=") -> #VALUE! | FH4: =AND(Feuil1!E49,"AAAAAHtz16M=") -> #VALUE! | FI4: =IF(Feuil1!50:50,"AAAAAHtz16Q=",0) -> 0 | FJ4: =AND(Feuil1!A50,"AAAAAHtz16U=") -> #VALUE! | FK4: =AND(Feuil1!B50,"AAAAAHtz16Y=") -> #VALUE! | FL4: =AND(Feuil1!C50,"AAAAAHtz16c=") -> #VALUE! | FM4: =AND(Feuil1!D50,"AAAAAHtz16g=") -> #VALUE! | FN4: =AND(Feuil1!E50,"AAAAAHtz16k=") -> #VALUE! | FO4: =IF(Feuil1!51:51,"AAAAAHtz16o=",0) -> 0 | FP4: =AND(Feuil1!A51,"AAAAAHtz16s=") -> #VALUE! | FQ4: =AND(Feuil1!B51,"AAAAAHtz16w=") -> #VALUE! | FR4: =AND(Feuil1!C51,"AAAAAHtz160=") -> #VALUE! | FS4: =AND(Feuil1!D51,"AAAAAHtz164=") -> #VALUE! | FT4: =AND(Feuil1!E51,"AAAAAHtz168=") -> #VALUE! | FU4: =IF(Feuil1!52:52,"AAAAAHtz17A=",0) -> 0 | FV4: =AND(Feuil1!A52,"AAAAAHtz17E=") -> #VALUE! | FW4: =AND(Feuil1!B52,"AAAAAHtz17I=") -> #VALUE! | FX4: =AND(Feuil1!C52,"AAAAAHtz17M=") -> #VALUE! | FY4: =AND(Feuil1!D52,"AAAAAHtz17Q=") -> #VALUE! | FZ4: =AND(Feuil1!E52,"AAAAAHtz17U=") -> #VALUE! | GA4: =IF(Feuil1!53:53,"AAAAAHtz17Y=",0) -> 0 | GB4: =AND(Feuil1!A53,"AAAAAHtz17c=") -> #VALUE! | GC4: =AND(Feuil1!B53,"AAAAAHtz17g=") -> #VALUE! | GD4: =AND(Feuil1!C53,"AAAAAHtz17k=") -> #VALUE! | GE4: =AND(Feuil1!D53,"AAAAAHtz17o=") -> #VALUE! | GF4: =AND(Feuil1!E53,"AAAAAHtz17s=") -> #VALUE! | GG4: =IF(Feuil1!54:54,"AAAAAHtz17w=",0) -> 0 | GH4: =AND(Feuil1!A54,"AAAAAHtz170=") -> #VALUE! | GI4: =AND(Feuil1!B54,"AAAAAHtz174=") -> #VALUE! | GJ4: =AND(Feuil1!C54,"AAAAAHtz178=") -> #VALUE! | GK4: =AND(Feuil1!D54,"AAAAAHtz18A=") -> #VALUE! | GL4: =AND(Feuil1!E54,"AAAAAHtz18E=") -> #VALUE! | GM4: =IF(Feuil1!55:55,"AAAAAHtz18I=",0) -> 0 | GN4: =AND(Feuil1!A55,"AAAAAHtz18M=") -> #VALUE! | GO4: =AND(Feuil1!B55,"AAAAAHtz18Q=") -> #VALUE! | GP4: =AND(Feuil1!C55,"AAAAAHtz18U=") -> #VALUE! | GQ4: =AND(Feuil1!D55,"AAAAAHtz18Y=") -> #VALUE! | GR4: =AND(Feuil1!E55,"AAAAAHtz18c=") -> #VALUE! | GS4: =IF(Feuil1!56:56,"AAAAAHtz18g=",0) -> 0 | GT4: =AND(Feuil1!A56,"AAAAAHtz18k=") -> #VALUE! | GU4: =AND(Feuil1!B56,"AAAAAHtz18o=") -> #VALUE! | GV4: =AND(Feuil1!C56,"AAAAAHtz18s=") -> #VALUE! | GW4: =AND(Feuil1!D56,"AAAAAHtz18w=") -> #VALUE! | GX4: =AND(Feuil1!E56,"AAAAAHtz180=") -> #VALUE! | GY4: =IF(Feuil1!57:57,"AAAAAHtz184=",0) -> 0 | GZ4: =AND(Feuil1!A57,"AAAAAHtz188=") -> #VALUE! | HA4: =AND(Feuil1!B57,"AAAAAHtz19A=") -> #VALUE! | HB4: =AND(Feuil1!C57,"AAAAAHtz19E=") -> #VALUE! | HC4: =AND(Feuil1!D57,"AAAAAHtz19I=") -> #VALUE! | HD4: =AND(Feuil1!E57,"AAAAAHtz19M=") -> #VALUE! | HE4: =IF(Feuil1!58:58,"AAAAAHtz19Q=",0) -> 0 | HF4: =AND(Feuil1!A58,"AAAAAHtz19U=") -> #VALUE! | HG4: =AND(Feuil1!B58,"AAAAAHtz19Y=") -> #VALUE! | HH4: =AND(Feuil1!C58,"AAAAAHtz19c=") -> #VALUE! | HI4: =AND(Feuil1!D58,"AAAAAHtz19g=") -> #VALUE! | HJ4: =AND(Feuil1!E58,"AAAAAHtz19k=") -> #VALUE! | HK4: =IF(Feuil1!59:59,"AAAAAHtz19o=",0) -> 0 | HL4: =AND(Feuil1!A59,"AAAAAHtz19s=") -> #VALUE! | HM4: =AND(Feuil1!B59,"AAAAAHtz19w=") -> #VALUE! | HN4: =AND(Feuil1!C59,"AAAAAHtz190=") -> #VALUE! | HO4: =AND(Feuil1!D59,"AAAAAHtz194=") -> #VALUE! | HP4: =AND(Feuil1!E59,"AAAAAHtz198=") -> #VALUE! | HQ4: =IF(Feuil1!60:60,"AAAAAHtz1+A=",0) -> 0 | HR4: =AND(Feuil1!A60,"AAAAAHtz1+E=") -> #VALUE! | HS4: =AND(Feuil1!B60,"AAAAAHtz1+I=") -> #VALUE! | HT4: =AND(Feuil1!C60,"AAAAAHtz1+M=") -> #VALUE! | HU4: =AND(Feuil1!D60,"AAAAAHtz1+Q=") -> #VALUE! | HV4: =AND(Feuil1!E60,"AAAAAHtz1+U=") -> #VALUE! | HW4: =IF(Feuil1!61:61,"AAAAAHtz1+Y=",0) -> 0 | HX4: =AND(Feuil1!A61,"AAAAAHtz1+c=") -> #VALUE! | HY4: =AND(Feuil1!B61,"AAAAAHtz1+g=") -> #VALUE! | HZ4: =AND(Feuil1!C61,"AAAAAHtz1+k=") -> #VALUE! | IA4: =AND(Feuil1!D61,"AAAAAHtz1+o=") -> #VALUE! | IB4: =AND(Feuil1!E61,"AAAAAHtz1+s=") -> #VALUE! | IC4: =IF(Feuil1!62:62,"AAAAAHtz1+w=",0) -> 0 | ID4: =AND(Feuil1!A62,"AAAAAHtz1+0=") -> #VALUE! | IE4: =AND(Feuil1!B62,"AAAAAHtz1+4=") -> #VALUE! | IF4: =AND(Feuil1!C62,"AAAAAHtz1+8=") -> #VALUE! | IG4: =AND(Feuil1!D62,"AAAAAHtz1/A=") -> #VALUE! | IH4: =AND(Feuil1!E62,"AAAAAHtz1/E=") -> #VALUE! | II4: =IF(Feuil1!63:63,"AAAAAHtz1/I=",0) -> 0 | IJ4: =AND(Feuil1!A63,"AAAAAHtz1/M=") -> #VALUE! | IK4: =AND(Feuil1!B63,"AAAAAHtz1/Q=") -> #VALUE! | IL4: =AND(Feuil1!C63,"AAAAAHtz1/U=") -> #VALUE! | IM4: =AND(Feuil1!D63,"AAAAAHtz1/Y=") -> #VALUE! | IN4: =AND(Feuil1!E63,"AAAAAHtz1/c=") -> #VALUE! | IO4: =IF(Feuil1!64:64,"AAAAAHtz1/g=",0) -> 0 | IP4: =AND(Feuil1!A64,"AAAAAHtz1/k=") -> #VALUE! | IQ4: =AND(Feuil1!B64,"AAAAAHtz1/o=") -> #VALUE! | IR4: =AND(Feuil1!C64,"AAAAAHtz1/s=") -> #VALUE! | IS4: =AND(Feuil1!D64,"AAAAAHtz1/w=") -> #VALUE! | IT4: =AND(Feuil1!E64,"AAAAAHtz1/0=") -> #VALUE! | IU4: =IF(Feuil1!65:65,"AAAAAHtz1/4=",0) -> 0 | IV4: =AND(Feuil1!A65,"AAAAAHtz1/8=") -> #VALUE!
A5: =AND(Feuil1!B65,"AAAAAG6/3wA=") -> #VALUE! | B5: =AND(Feuil1!C65,"AAAAAG6/3wE=") -> #VALUE! | C5: =AND(Feuil1!D65,"AAAAAG6/3wI=") -> #VALUE! | D5: =AND(Feuil1!E65,"AAAAAG6/3wM=") -> #VALUE! | E5: =IF(Feuil1!66:66,"AAAAAG6/3wQ=",0) -> #VALUE! | F5: =AND(Feuil1!A66,"AAAAAG6/3wU=") -> #VALUE! | G5: =AND(Feuil1!B66,"AAAAAG6/3wY=") -> #VALUE! | H5: =AND(Feuil1!C66,"AAAAAG6/3wc=") -> #VALUE! | I5: =AND(Feuil1!D66,"AAAAAG6/3wg=") -> #VALUE! | J5: =AND(Feuil1!E66,"AAAAAG6/3wk=") -> #VALUE! | K5: =IF(Feuil1!67:67,"AAAAAG6/3wo=",0) -> 0 | L5: =AND(Feuil1!A67,"AAAAAG6/3ws=") -> #VALUE! | M5: =AND(Feuil1!B67,"AAAAAG6/3ww=") -> #VALUE! | N5: =AND(Feuil1!C67,"AAAAAG6/3w0=") -> #VALUE! | O5: =AND(Feuil1!D67,"AAAAAG6/3w4=") -> #VALUE! | P5: =AND(Feuil1!E67,"AAAAAG6/3w8=") -> #VALUE! | Q5: =IF(Feuil1!68:68,"AAAAAG6/3xA=",0) -> 0 | R5: =AND(Feuil1!A68,"AAAAAG6/3xE=") -> #VALUE! | S5: =AND(Feuil1!B68,"AAAAAG6/3xI=") -> #VALUE! | T5: =AND(Feuil1!C68,"AAAAAG6/3xM=") -> #VALUE! | U5: =AND(Feuil1!D68,"AAAAAG6/3xQ=") -> #VALUE! | V5: =AND(Feuil1!E68,"AAAAAG6/3xU=") -> #VALUE! | W5: =IF(Feuil1!69:69,"AAAAAG6/3xY=",0) -> 0 | X5: =AND(Feuil1!A69,"AAAAAG6/3xc=") -> #VALUE! | Y5: =AND(Feuil1!B69,"AAAAAG6/3xg=") -> #VALUE! | Z5: =AND(Feuil1!C69,"AAAAAG6/3xk=") -> #VALUE! | AA5: =AND(Feuil1!D69,"AAAAAG6/3xo=") -> #VALUE! | AB5: =AND(Feuil1!E69,"AAAAAG6/3xs=") -> #VALUE! | AC5: =IF(Feuil1!70:70,"AAAAAG6/3xw=",0) -> 0 | AD5: =AND(Feuil1!A70,"AAAAAG6/3x0=") -> #VALUE! | AE5: =AND(Feuil1!B70,"AAAAAG6/3x4=") -> #VALUE! | AF5: =AND(Feuil1!C70,"AAAAAG6/3x8=") -> #VALUE! | AG5: =AND(Feuil1!D70,"AAAAAG6/3yA=") -> #VALUE! | AH5: =AND(Feuil1!E70,"AAAAAG6/3yE=") -> #VALUE! | AI5: =IF(Feuil1!71:71,"AAAAAG6/3yI=",0) -> 0 | AJ5: =AND(Feuil1!A71,"AAAAAG6/3yM=") -> #VALUE! | AK5: =AND(Feuil1!B71,"AAAAAG6/3yQ=") -> #VALUE! | AL5: =AND(Feuil1!C71,"AAAAAG6/3yU=") -> #VALUE! | AM5: =AND(Feuil1!D71,"AAAAAG6/3yY=") -> #VALUE! | AN5: =AND(Feuil1!E71,"AAAAAG6/3yc=") -> #VALUE! | AO5: =IF(Feuil1!72:72,"AAAAAG6/3yg=",0) -> 0 | AP5: =AND(Feuil1!A72,"AAAAAG6/3yk=") -> #VALUE! | AQ5: =AND(Feuil1!B72,"AAAAAG6/3yo=") -> #VALUE! | AR5: =AND(Feuil1!C72,"AAAAAG6/3ys=") -> #VALUE! | AS5: =AND(Feuil1!D72,"AAAAAG6/3yw=") -> #VALUE! | AT5: =AND(Feuil1!E72,"AAAAAG6/3y0=") -> #VALUE! | AU5: =IF(Feuil1!73:73,"AAAAAG6/3y4=",0) -> 0 | AV5: =AND(Feuil1!A73,"AAAAAG6/3y8=") -> #VALUE! | AW5: =AND(Feuil1!B73,"AAAAAG6/3zA=") -> #VALUE! | AX5: =AND(Feuil1!C73,"AAAAAG6/3zE=") -> #VALUE! | AY5: =AND(Feuil1!D73,"AAAAAG6/3zI=") -> #VALUE! | AZ5: =AND(Feuil1!E73,"AAAAAG6/3zM=") -> #VALUE! | BA5: =IF(Feuil1!74:74,"AAAAAG6/3zQ=",0) -> 0 | BB5: =AND(Feuil1!A74,"AAAAAG6/3zU=") -> #VALUE! | BC5: =AND(Feuil1!B74,"AAAAAG6/3zY=") -> #VALUE! | BD5: =AND(Feuil1!C74,"AAAAAG6/3zc=") -> #VALUE! | BE5: =AND(Feuil1!D74,"AAAAAG6/3zg=") -> #VALUE! | BF5: =AND(Feuil1!E74,"AAAAAG6/3zk=") -> #VALUE! | BG5: =IF(Feuil1!75:75,"AAAAAG6/3zo=",0) -> 0 | BH5: =AND(Feuil1!A75,"AAAAAG6/3zs=") -> #VALUE! | BI5: =AND(Feuil1!B75,"AAAAAG6/3zw=") -> #VALUE! | BJ5: =AND(Feuil1!C75,"AAAAAG6/3z0=") -> #VALUE! | BK5: =AND(Feuil1!D75,"AAAAAG6/3z4=") -> #VALUE! | BL5: =AND(Feuil1!E75,"AAAAAG6/3z8=") -> #VALUE! | BM5: =IF(Feuil1!76:76,"AAAAAG6/30A=",0) -> 0 | BN5: =AND(Feuil1!A76,"AAAAAG6/30E=") -> #VALUE! | BO5: =AND(Feuil1!B76,"AAAAAG6/30I=") -> #VALUE! | BP5: =AND(Feuil1!C76,"AAAAAG6/30M=") -> #VALUE! | BQ5: =AND(Feuil1!D76,"AAAAAG6/30Q=") -> #VALUE! | BR5: =AND(Feuil1!E76,"AAAAAG6/30U=") -> #VALUE! | BS5: =IF(Feuil1!77:77,"AAAAAG6/30Y=",0) -> 0 | BT5: =AND(Feuil1!A77,"AAAAAG6/30c=") -> #VALUE! | BU5: =AND(Feuil1!B77,"AAAAAG6/30g=") -> #VALUE! | BV5: =AND(Feuil1!C77,"AAAAAG6/30k=") -> #VALUE! | BW5: =AND(Feuil1!D77,"AAAAAG6/30o=") -> #VALUE! | BX5: =AND(Feuil1!E77,"AAAAAG6/30s=") -> #VALUE! | BY5: =IF(Feuil1!78:78,"AAAAAG6/30w=",0) -> 0 | BZ5: =AND(Feuil1!A78,"AAAAAG6/300=") -> #VALUE! | CA5: =AND(Feuil1!B78,"AAAAAG6/304=") -> #VALUE! | CB5: =AND(Feuil1!C78,"AAAAAG6/308=") -> #VALUE! | CC5: =AND(Feuil1!D78,"AAAAAG6/31A=") -> #VALUE! | CD5: =AND(Feuil1!E78,"AAAAAG6/31E=") -> #VALUE! | CE5: =IF(Feuil1!79:79,"AAAAAG6/31I=",0) -> 0 | CF5: =AND(Feuil1!A79,"AAAAAG6/31M=") -> #VALUE! | CG5: =AND(Feuil1!B79,"AAAAAG6/31Q=") -> #VALUE! | CH5: =AND(Feuil1!C79,"AAAAAG6/31U=") -> #VALUE! | CI5: =AND(Feuil1!D79,"AAAAAG6/31Y=") -> #VALUE! | CJ5: =AND(Feuil1!E79,"AAAAAG6/31c=") -> #VALUE! | CK5: =IF(Feuil1!80:80,"AAAAAG6/31g=",0) -> 0 | CL5: =AND(Feuil1!A80,"AAAAAG6/31k=") -> #VALUE! | CM5: =AND(Feuil1!B80,"AAAAAG6/31o=") -> #VALUE! | CN5: =AND(Feuil1!C80,"AAAAAG6/31s=") -> #VALUE! | CO5: =AND(Feuil1!D80,"AAAAAG6/31w=") -> #VALUE! | CP5: =AND(Feuil1!E80,"AAAAAG6/310=") -> #VALUE! | CQ5: =IF(Feuil1!81:81,"AAAAAG6/314=",0) -> 0 | CR5: =AND(Feuil1!A81,"AAAAAG6/318=") -> #VALUE! | CS5: =AND(Feuil1!B81,"AAAAAG6/32A=") -> #VALUE! | CT5: =AND(Feuil1!C81,"AAAAAG6/32E=") -> #VALUE! | CU5: =AND(Feuil1!D81,"AAAAAG6/32I=") -> #VALUE! | CV5: =AND(Feuil1!E81,"AAAAAG6/32M=") -> #VALUE! | CW5: =IF(Feuil1!82:82,"AAAAAG6/32Q=",0) -> 0 | CX5: =AND(Feuil1!A82,"AAAAAG6/32U=") -> #VALUE! | CY5: =AND(Feuil1!B82,"AAAAAG6/32Y=") -> #VALUE! | CZ5: =AND(Feuil1!C82,"AAAAAG6/32c=") -> #VALUE! | DA5: =AND(Feuil1!D82,"AAAAAG6/32g=") -> #VALUE! | DB5: =AND(Feuil1!E82,"AAAAAG6/32k=") -> #VALUE! | DC5: =IF(Feuil1!83:83,"AAAAAG6/32o=",0) -> 0 | DD5: =AND(Feuil1!A83,"AAAAAG6/32s=") -> #VALUE! | DE5: =AND(Feuil1!B83,"AAAAAG6/32w=") -> #VALUE! | DF5: =AND(Feuil1!C83,"AAAAAG6/320=") -> #VALUE! | DG5: =AND(Feuil1!D83,"AAAAAG6/324=") -> #VALUE! | DH5: =AND(Feuil1!E83,"AAAAAG6/328=") -> #VALUE! | DI5: =IF(Feuil1!84:84,"AAAAAG6/33A=",0) -> 0 | DJ5: =AND(Feuil1!A84,"AAAAAG6/33E=") -> #VALUE! | DK5: =AND(Feuil1!B84,"AAAAAG6/33I=") -> #VALUE! | DL5: =AND(Feuil1!C84,"AAAAAG6/33M=") -> #VALUE! | DM5: =AND(Feuil1!D84,"AAAAAG6/33Q=") -> #VALUE! | DN5: =AND(Feuil1!E84,"AAAAAG6/33U=") -> #VALUE! | DO5: =IF(Feuil1!85:85,"AAAAAG6/33Y=",0) -> 0 | DP5: =AND(Feuil1!A85,"AAAAAG6/33c=") -> #VALUE! | DQ5: =AND(Feuil1!B85,"AAAAAG6/33g=") -> #VALUE! | DR5: =AND(Feuil1!C85,"AAAAAG6/33k=") -> #VALUE! | DS5: =AND(Feuil1!D85,"AAAAAG6/33o=") -> #VALUE! | DT5: =AND(Feuil1!E85,"AAAAAG6/33s=") -> #VALUE! | DU5: =IF(Feuil1!86:86,"AAAAAG6/33w=",0) -> 0 | DV5: =AND(Feuil1!A86,"AAAAAG6/330=") -> #VALUE! | DW5: =AND(Feuil1!B86,"AAAAAG6/334=") -> #VALUE! | DX5: =AND(Feuil1!C86,"AAAAAG6/338=") -> #VALUE! | DY5: =AND(Feuil1!D86,"AAAAAG6/34A=") -> #VALUE! | DZ5: =AND(Feuil1!E86,"AAAAAG6/34E=") -> #VALUE! | EA5: =IF(Feuil1!87:87,"AAAAAG6/34I=",0) -> 0 | EB5: =AND(Feuil1!A87,"AAAAAG6/34M=") -> #VALUE! | EC5: =AND(Feuil1!B87,"AAAAAG6/34Q=") -> #VALUE! | ED5: =AND(Feuil1!C87,"AAAAAG6/34U=") -> #VALUE! | EE5: =AND(Feuil1!D87,"AAAAAG6/34Y=") -> #VALUE! | EF5: =AND(Feuil1!E87,"AAAAAG6/34c=") -> #VALUE! | EG5: =IF(Feuil1!88:88,"AAAAAG6/34g=",0) -> 0 | EH5: =AND(Feuil1!A88,"AAAAAG6/34k=") -> #VALUE! | EI5: =AND(Feuil1!B88,"AAAAAG6/34o=") -> #VALUE! | EJ5: =AND(Feuil1!C88,"AAAAAG6/34s=") -> #VALUE! | EK5: =AND(Feuil1!D88,"AAAAAG6/34w=") -> #VALUE! | EL5: =AND(Feuil1!E88,"AAAAAG6/340=") -> #VALUE! | EM5: =IF(Feuil1!89:89,"AAAAAG6/344=",0) -> 0 | EN5: =AND(Feuil1!A89,"AAAAAG6/348=") -> #VALUE! | EO5: =AND(Feuil1!B89,"AAAAAG6/35A=") -> #VALUE! | EP5: =AND(Feuil1!C89,"AAAAAG6/35E=") -> #VALUE! | EQ5: =AND(Feuil1!D89,"AAAAAG6/35I=") -> #VALUE! | ER5: =AND(Feuil1!E89,"AAAAAG6/35M=") -> #VALUE! | ES5: =IF(Feuil1!90:90,"AAAAAG6/35Q=",0) -> 0 | ET5: =AND(Feuil1!A90,"AAAAAG6/35U=") -> #VALUE! | EU5: =AND(Feuil1!B90,"AAAAAG6/35Y=") -> #VALUE! | EV5: =AND(Feuil1!C90,"AAAAAG6/35c=") -> #VALUE! | EW5: =AND(Feuil1!D90,"AAAAAG6/35g=") -> #VALUE! | EX5: =AND(Feuil1!E90,"AAAAAG6/35k=") -> #VALUE! | EY5: =IF(Feuil1!91:91,"AAAAAG6/35o=",0) -> 0 | EZ5: =AND(Feuil1!A91,"AAAAAG6/35s=") -> #VALUE! | FA5: =AND(Feuil1!B91,"AAAAAG6/35w=") -> #VALUE! | FB5: =AND(Feuil1!C91,"AAAAAG6/350=") -> #VALUE! | FC5: =AND(Feuil1!D91,"AAAAAG6/354=") -> #VALUE! | FD5: =AND(Feuil1!E91,"AAAAAG6/358=") -> #VALUE! | FE5: =IF(Feuil1!92:92,"AAAAAG6/36A=",0) -> 0 | FF5: =AND(Feuil1!A92,"AAAAAG6/36E=") -> #VALUE! | FG5: =AND(Feuil1!B92,"AAAAAG6/36I=") -> #VALUE! | FH5: =AND(Feuil1!C92,"AAAAAG6/36M=") -> #VALUE! | FI5: =AND(Feuil1!D92,"AAAAAG6/36Q=") -> #VALUE! | FJ5: =AND(Feuil1!E92,"AAAAAG6/36U=") -> #VALUE! | FK5: =IF(Feuil1!93:93,"AAAAAG6/36Y=",0) -> 0 | FL5: =AND(Feuil1!A93,"AAAAAG6/36c=") -> #VALUE! | FM5: =AND(Feuil1!B93,"AAAAAG6/36g=") -> #VALUE! | FN5: =AND(Feuil1!C93,"AAAAAG6/36k=") -> #VALUE! | FO5: =AND(Feuil1!D93,"AAAAAG6/36o=") -> #VALUE! | FP5: =AND(Feuil1!E93,"AAAAAG6/36s=") -> #VALUE! | FQ5: =IF(Feuil1!94:94,"AAAAAG6/36w=",0) -> 0 | FR5: =AND(Feuil1!A94,"AAAAAG6/360=") -> #VALUE! | FS5: =AND(Feuil1!B94,"AAAAAG6/364=") -> #VALUE! | FT5: =AND(Feuil1!C94,"AAAAAG6/368=") -> #VALUE! | FU5: =AND(Feuil1!D94,"AAAAAG6/37A=") -> #VALUE! | FV5: =AND(Feuil1!E94,"AAAAAG6/37E=") -> #VALUE! | FW5: =IF(Feuil1!95:95,"AAAAAG6/37I=",0) -> 0 | FX5: =AND(Feuil1!A95,"AAAAAG6/37M=") -> #VALUE! | FY5: =AND(Feuil1!B95,"AAAAAG6/37Q=") -> #VALUE! | FZ5: =AND(Feuil1!C95,"AAAAAG6/37U=") -> #VALUE! | GA5: =AND(Feuil1!D95,"AAAAAG6/37Y=") -> #VALUE! | GB5: =AND(Feuil1!E95,"AAAAAG6/37c=") -> #VALUE! | GC5: =IF(Feuil1!96:96,"AAAAAG6/37g=",0) -> 0 | GD5: =AND(Feuil1!A96,"AAAAAG6/37k=") -> #VALUE! | GE5: =AND(Feuil1!B96,"AAAAAG6/37o=") -> #VALUE! | GF5: =AND(Feuil1!C96,"AAAAAG6/37s=") -> #VALUE! | GG5: =AND(Feuil1!D96,"AAAAAG6/37w=") -> #VALUE! | GH5: =AND(Feuil1!E96,"AAAAAG6/370=") -> #VALUE! | GI5: =IF(Feuil1!97:97,"AAAAAG6/374=",0) -> 0 | GJ5: =AND(Feuil1!A97,"AAAAAG6/378=") -> #VALUE! | GK5: =AND(Feuil1!B97,"AAAAAG6/38A=") -> #VALUE! | GL5: =AND(Feuil1!C97,"AAAAAG6/38E=") -> #VALUE! | GM5: =AND(Feuil1!D97,"AAAAAG6/38I=") -> #VALUE! | GN5: =AND(Feuil1!E97,"AAAAAG6/38M=") -> #VALUE! | GO5: =IF(Feuil1!98:98,"AAAAAG6/38Q=",0) -> 0 | GP5: =AND(Feuil1!A98,"AAAAAG6/38U=") -> #VALUE! | GQ5: =AND(Feuil1!B98,"AAAAAG6/38Y=") -> #VALUE! | GR5: =AND(Feuil1!C98,"AAAAAG6/38c=") -> #VALUE! | GS5: =AND(Feuil1!D98,"AAAAAG6/38g=") -> #VALUE! | GT5: =AND(Feuil1!E98,"AAAAAG6/38k=") -> #VALUE! | GU5: =IF(Feuil1!99:99,"AAAAAG6/38o=",0) -> 0 | GV5: =AND(Feuil1!A99,"AAAAAG6/38s=") -> #VALUE! | GW5: =AND(Feuil1!B99,"AAAAAG6/38w=") -> #VALUE! | GX5: =AND(Feuil1!C99,"AAAAAG6/380=") -> #VALUE! | GY5: =AND(Feuil1!D99,"AAAAAG6/384=") -> #VALUE! | GZ5: =AND(Feuil1!E99,"AAAAAG6/388=") -> #VALUE! | HA5: =IF(Feuil1!100:100,"AAAAAG6/39A=",0) -> 0 | HB5: =AND(Feuil1!A100,"AAAAAG6/39E=") -> #VALUE! | HC5: =AND(Feuil1!B100,"AAAAAG6/39I=") -> #VALUE! | HD5: =AND(Feuil1!C100,"AAAAAG6/39M=") -> #VALUE! | HE5: =AND(Feuil1!D100,"AAAAAG6/39Q=") -> #VALUE! | HF5: =AND(Feuil1!E100,"AAAAAG6/39U=") -> #VALUE! | HG5: =IF(Feuil1!101:101,"AAAAAG6/39Y=",0) -> 0 | HH5: =AND(Feuil1!A101,"AAAAAG6/39c=") -> #VALUE! | HI5: =AND(Feuil1!B101,"AAAAAG6/39g=") -> #VALUE! | HJ5: =AND(Feuil1!C101,"AAAAAG6/39k=") -> #VALUE! | HK5: =AND(Feuil1!D101,"AAAAAG6/39o=") -> #VALUE! | HL5: =AND(Feuil1!E101,"AAAAAG6/39s=") -> #VALUE! | HM5: =IF(Feuil1!102:102,"AAAAAG6/39w=",0) -> 0 | HN5: =AND(Feuil1!A102,"AAAAAG6/390=") -> #VALUE! | HO5: =AND(Feuil1!B102,"AAAAAG6/394=") -> #VALUE! | HP5: =AND(Feuil1!C102,"AAAAAG6/398=") -> #VALUE! | HQ5: =AND(Feuil1!D102,"AAAAAG6/3+A=") -> #VALUE! | HR5: =AND(Feuil1!E102,"AAAAAG6/3+E=") -> #VALUE! | HS5: =IF(Feuil1!103:103,"AAAAAG6/3+I=",0) -> 0 | HT5: =AND(Feuil1!A103,"AAAAAG6/3+M=") -> #VALUE! | HU5: =AND(Feuil1!B103,"AAAAAG6/3+Q=") -> #VALUE! | HV5: =AND(Feuil1!C103,"AAAAAG6/3+U=") -> #VALUE! | HW5: =AND(Feuil1!D103,"AAAAAG6/3+Y=") -> #VALUE! | HX5: =AND(Feuil1!E103,"AAAAAG6/3+c=") -> #VALUE! | HY5: =IF(Feuil1!104:104,"AAAAAG6/3+g=",0) -> 0 | HZ5: =AND(Feuil1!A104,"AAAAAG6/3+k=") -> #VALUE! | IA5: =AND(Feuil1!B104,"AAAAAG6/3+o=") -> #VALUE! | IB5: =AND(Feuil1!C104,"AAAAAG6/3+s=") -> #VALUE! | IC5: =AND(Feuil1!D104,"AAAAAG6/3+w=") -> #VALUE! | ID5: =AND(Feuil1!E104,"AAAAAG6/3+0=") -> #VALUE! | IE5: =IF(Feuil1!105:105,"AAAAAG6/3+4=",0) -> 0 | IF5: =AND(Feuil1!A105,"AAAAAG6/3+8=") -> #VALUE! | IG5: =AND(Feuil1!B105,"AAAAAG6/3/A=") -> #VALUE! | IH5: =AND(Feuil1!C105,"AAAAAG6/3/E=") -> #VALUE! | II5: =AND(Feuil1!D105,"AAAAAG6/3/I=") -> #VALUE! | IJ5: =AND(Feuil1!E105,"AAAAAG6/3/M=") -> #VALUE! | IK5: =IF(Feuil1!106:106,"AAAAAG6/3/Q=",0) -> 0 | IL5: =AND(Feuil1!A106,"AAAAAG6/3/U=") -> #VALUE! | IM5: =AND(Feuil1!B106,"AAAAAG6/3/Y=") -> #VALUE! | IN5: =AND(Feuil1!C106,"AAAAAG6/3/c=") -> #VALUE! | IO5: =AND(Feuil1!D106,"AAAAAG6/3/g=") -> #VALUE! | IP5: =AND(Feuil1!E106,"AAAAAG6/3/k=") -> #VALUE! | IQ5: =IF(Feuil1!107:107,"AAAAAG6/3/o=",0) -> 0 | IR5: =AND(Feuil1!A107,"AAAAAG6/3/s=") -> #VALUE! | IS5: =AND(Feuil1!B107,"AAAAAG6/3/w=") -> #VALUE! | IT5: =AND(Feuil1!C107,"AAAAAG6/3/0=") -> #VALUE! | IU5: =AND(Feuil1!D107,"AAAAAG6/3/4=") -> #VALUE! | IV5: =AND(Feuil1!E107,"AAAAAG6/3/8=") -> #VALUE!
A6: =IF(Feuil1!108:108,"AAAAAH8+5wA=",0) -> 0 | B6: =AND(Feuil1!A108,"AAAAAH8+5wE=") -> #VALUE! | C6: =AND(Feuil1!B108,"AAAAAH8+5wI=") -> #VALUE! | D6: =AND(Feuil1!C108,"AAAAAH8+5wM=") -> #VALUE! | E6: =AND(Feuil1!D108,"AAAAAH8+5wQ=") -> #VALUE! | F6: =AND(Feuil1!E108,"AAAAAH8+5wU=") -> #VALUE! | G6: =IF(Feuil1!109:109,"AAAAAH8+5wY=",0) -> 0 | H6: =AND(Feuil1!A109,"AAAAAH8+5wc=") -> #VALUE! | I6: =AND(Feuil1!B109,"AAAAAH8+5wg=") -> #VALUE! | J6: =AND(Feuil1!C109,"AAAAAH8+5wk=") -> #VALUE! | K6: =AND(Feuil1!D109,"AAAAAH8+5wo=") -> #VALUE! | L6: =AND(Feuil1!E109,"AAAAAH8+5ws=") -> #VALUE! | M6: =IF(Feuil1!110:110,"AAAAAH8+5ww=",0) -> 0 | N6: =AND(Feuil1!A110,"AAAAAH8+5w0=") -> #VALUE! | O6: =AND(Feuil1!B110,"AAAAAH8+5w4=") -> #VALUE! | P6: =AND(Feuil1!C110,"AAAAAH8+5w8=") -> #VALUE! | Q6: =AND(Feuil1!D110,"AAAAAH8+5xA=") -> #VALUE! | R6: =AND(Feuil1!E110,"AAAAAH8+5xE=") -> #VALUE! | S6: =IF(Feuil1!111:111,"AAAAAH8+5xI=",0) -> 0 | T6: =AND(Feuil1!A111,"AAAAAH8+5xM=") -> #VALUE! | U6: =AND(Feuil1!B111,"AAAAAH8+5xQ=") -> #VALUE! | V6: =AND(Feuil1!C111,"AAAAAH8+5xU=") -> #VALUE! | W6: =AND(Feuil1!D111,"AAAAAH8+5xY=") -> #VALUE! | X6: =AND(Feuil1!E111,"AAAAAH8+5xc=") -> #VALUE! | Y6: =IF(Feuil1!112:112,"AAAAAH8+5xg=",0) -> 0 | Z6: =AND(Feuil1!A112,"AAAAAH8+5xk=") -> #VALUE! | AA6: =AND(Feuil1!B112,"AAAAAH8+5xo=") -> #VALUE! | AB6: =AND(Feuil1!C112,"AAAAAH8+5xs=") -> #VALUE! | AC6: =AND(Feuil1!D112,"AAAAAH8+5xw=") -> #VALUE! | AD6: =AND(Feuil1!E112,"AAAAAH8+5x0=") -> #VALUE! | AE6: =IF(Feuil1!113:113,"AAAAAH8+5x4=",0) -> 0 | AF6: =AND(Feuil1!A113,"AAAAAH8+5x8=") -> #VALUE! | AG6: =AND(Feuil1!B113,"AAAAAH8+5yA=") -> #VALUE! | AH6: =AND(Feuil1!C113,"AAAAAH8+5yE=") -> #VALUE! | AI6: =AND(Feuil1!D113,"AAAAAH8+5yI=") -> #VALUE! | AJ6: =AND(Feuil1!E113,"AAAAAH8+5yM=") -> #VALUE! | AK6: =IF(Feuil1!114:114,"AAAAAH8+5yQ=",0) -> 0 | AL6: =AND(Feuil1!A114,"AAAAAH8+5yU=") -> #VALUE! | AM6: =AND(Feuil1!B114,"AAAAAH8+5yY=") -> #VALUE! | AN6: =AND(Feuil1!C114,"AAAAAH8+5yc=") -> #VALUE! | AO6: =AND(Feuil1!D114,"AAAAAH8+5yg=") -> #VALUE! | AP6: =AND(Feuil1!E114,"AAAAAH8+5yk=") -> #VALUE! | AQ6: =IF(Feuil1!115:115,"AAAAAH8+5yo=",0) -> 0 | AR6: =AND(Feuil1!A115,"AAAAAH8+5ys=") -> #VALUE! | AS6: =AND(Feuil1!B115,"AAAAAH8+5yw=") -> #VALUE! | AT6: =AND(Feuil1!C115,"AAAAAH8+5y0=") -> #VALUE! | AU6: =AND(Feuil1!D115,"AAAAAH8+5y4=") -> #VALUE! | AV6: =AND(Feuil1!E115,"AAAAAH8+5y8=") -> #VALUE! | AW6: =IF(Feuil1!116:116,"AAAAAH8+5zA=",0) -> 0 | AX6: =AND(Feuil1!A116,"AAAAAH8+5zE=") -> #VALUE! | AY6: =AND(Feuil1!B116,"AAAAAH8+5zI=") -> #VALUE! | AZ6: =AND(Feuil1!C116,"AAAAAH8+5zM=") -> #VALUE! | BA6: =AND(Feuil1!D116,"AAAAAH8+5zQ=") -> #VALUE! | BB6: =AND(Feuil1!E116,"AAAAAH8+5zU=") -> #VALUE! | BC6: =IF(Feuil1!117:117,"AAAAAH8+5zY=",0) -> 0 | BD6: =AND(Feuil1!A117,"AAAAAH8+5zc=") -> #VALUE! | BE6: =AND(Feuil1!B117,"AAAAAH8+5zg=") -> #VALUE! | BF6: =AND(Feuil1!C117,"AAAAAH8+5zk=") -> #VALUE! | BG6: =AND(Feuil1!D117,"AAAAAH8+5zo=") -> #VALUE! | BH6: =AND(Feuil1!E117,"AAAAAH8+5zs=") -> #VALUE! | BI6: =IF(Feuil1!118:118,"AAAAAH8+5zw=",0) -> 0 | BJ6: =AND(Feuil1!A118,"AAAAAH8+5z0=") -> #VALUE! | BK6: =AND(Feuil1!B118,"AAAAAH8+5z4=") -> #VALUE! | BL6: =AND(Feuil1!C118,"AAAAAH8+5z8=") -> #VALUE! | BM6: =AND(Feuil1!D118,"AAAAAH8+50A=") -> #VALUE! | BN6: =AND(Feuil1!E118,"AAAAAH8+50E=") -> #VALUE! | BO6: =IF(Feuil1!119:119,"AAAAAH8+50I=",0) -> 0 | BP6: =AND(Feuil1!A119,"AAAAAH8+50M=") -> #VALUE! | BQ6: =AND(Feuil1!B119,"AAAAAH8+50Q=") -> #VALUE! | BR6: =AND(Feuil1!C119,"AAAAAH8+50U=") -> #VALUE! | BS6: =AND(Feuil1!D119,"AAAAAH8+50Y=") -> #VALUE! | BT6: =AND(Feuil1!E119,"AAAAAH8+50c=") -> #VALUE! | BU6: =IF(Feuil1!120:120,"AAAAAH8+50g=",0) -> 0 | BV6: =AND(Feuil1!A120,"AAAAAH8+50k=") -> #VALUE! | BW6: =AND(Feuil1!B120,"AAAAAH8+50o=") -> #VALUE! | BX6: =AND(Feuil1!C120,"AAAAAH8+50s=") -> #VALUE! | BY6: =AND(Feuil1!D120,"AAAAAH8+50w=") -> #VALUE! | BZ6: =AND(Feuil1!E120,"AAAAAH8+500=") -> #VALUE! | CA6: =IF(Feuil1!121:121,"AAAAAH8+504=",0) -> 0 | CB6: =AND(Feuil1!A121,"AAAAAH8+508=") -> #VALUE! | CC6: =AND(Feuil1!B121,"AAAAAH8+51A=") -> #VALUE! | CD6: =AND(Feuil1!C121,"AAAAAH8+51E=") -> #VALUE! | CE6: =AND(Feuil1!D121,"AAAAAH8+51I=") -> #VALUE! | CF6: =AND(Feuil1!E121,"AAAAAH8+51M=") -> #VALUE! | CG6: =IF(Feuil1!122:122,"AAAAAH8+51Q=",0) -> 0 | CH6: =AND(Feuil1!A122,"AAAAAH8+51U=") -> #VALUE! | CI6: =AND(Feuil1!B122,"AAAAAH8+51Y=") -> #VALUE! | CJ6: =AND(Feuil1!C122,"AAAAAH8+51c=") -> #VALUE! | CK6: =AND(Feuil1!D122,"AAAAAH8+51g=") -> #VALUE! | CL6: =AND(Feuil1!E122,"AAAAAH8+51k=") -> #VALUE! | CM6: =IF(Feuil1!123:123,"AAAAAH8+51o=",0) -> 0 | CN6: =AND(Feuil1!A123,"AAAAAH8+51s=") -> #VALUE! | CO6: =AND(Feuil1!B123,"AAAAAH8+51w=") -> #VALUE! | CP6: =AND(Feuil1!C123,"AAAAAH8+510=") -> #VALUE! | CQ6: =AND(Feuil1!D123,"AAAAAH8+514=") -> #VALUE! | CR6: =AND(Feuil1!E123,"AAAAAH8+518=") -> #VALUE! | CS6: =IF(Feuil1!124:124,"AAAAAH8+52A=",0) -> 0 | CT6: =AND(Feuil1!A124,"AAAAAH8+52E=") -> #VALUE! | CU6: =AND(Feuil1!B124,"AAAAAH8+52I=") -> #VALUE! | CV6: =AND(Feuil1!C124,"AAAAAH8+52M=") -> #VALUE! | CW6: =AND(Feuil1!D124,"AAAAAH8+52Q=") -> #VALUE! | CX6: =AND(Feuil1!E124,"AAAAAH8+52U=") -> #VALUE! | CY6: =IF(Feuil1!125:125,"AAAAAH8+52Y=",0) -> 0 | CZ6: =AND(Feuil1!A125,"AAAAAH8+52c=") -> #VALUE! | DA6: =AND(Feuil1!B125,"AAAAAH8+52g=") -> #VALUE! | DB6: =AND(Feuil1!C125,"AAAAAH8+52k=") -> #VALUE! | DC6: =AND(Feuil1!D125,"AAAAAH8+52o=") -> #VALUE! | DD6: =AND(Feuil1!E125,"AAAAAH8+52s=") -> #VALUE! | DE6: =IF(Feuil1!126:126,"AAAAAH8+52w=",0) -> 0 | DF6: =AND(Feuil1!A126,"AAAAAH8+520=") -> #VALUE! | DG6: =AND(Feuil1!B126,"AAAAAH8+524=") -> #VALUE! | DH6: =AND(Feuil1!C126,"AAAAAH8+528=") -> #VALUE! | DI6: =AND(Feuil1!D126,"AAAAAH8+53A=") -> #VALUE! | DJ6: =AND(Feuil1!E126,"AAAAAH8+53E=") -> #VALUE! | DK6: =IF(Feuil1!127:127,"AAAAAH8+53I=",0) -> 0 | DL6: =AND(Feuil1!A127,"AAAAAH8+53M=") -> #VALUE! | DM6: =AND(Feuil1!B127,"AAAAAH8+53Q=") -> #VALUE! | DN6: =AND(Feuil1!C127,"AAAAAH8+53U=") -> #VALUE! | DO6: =AND(Feuil1!D127,"AAAAAH8+53Y=") -> #VALUE! | DP6: =AND(Feuil1!E127,"AAAAAH8+53c=") -> #VALUE! | DQ6: =IF(Feuil1!128:128,"AAAAAH8+53g=",0) -> 0 | DR6: =AND(Feuil1!A128,"AAAAAH8+53k=") -> #VALUE! | DS6: =AND(Feuil1!B128,"AAAAAH8+53o=") -> #VALUE! | DT6: =AND(Feuil1!C128,"AAAAAH8+53s=") -> #VALUE! | DU6: =AND(Feuil1!D128,"AAAAAH8+53w=") -> #VALUE! | DV6: =AND(Feuil1!E128,"AAAAAH8+530=") -> #VALUE! | DW6: =IF(Feuil1!129:129,"AAAAAH8+534=",0) -> 0 | DX6: =AND(Feuil1!A129,"AAAAAH8+538=") -> #VALUE! | DY6: =AND(Feuil1!B129,"AAAAAH8+54A=") -> #VALUE! | DZ6: =AND(Feuil1!C129,"AAAAAH8+54E=") -> #VALUE! | EA6: =AND(Feuil1!D129,"AAAAAH8+54I=") -> #VALUE! | EB6: =AND(Feuil1!E129,"AAAAAH8+54M=") -> #VALUE! | EC6: =IF(Feuil1!130:130,"AAAAAH8+54Q=",0) -> 0 | ED6: =AND(Feuil1!A130,"AAAAAH8+54U=") -> #VALUE! | EE6: =AND(Feuil1!B130,"AAAAAH8+54Y=") -> #VALUE! | EF6: =AND(Feuil1!C130,"AAAAAH8+54c=") -> #VALUE! | EG6: =AND(Feuil1!D130,"AAAAAH8+54g=") -> #VALUE! | EH6: =AND(Feuil1!E130,"AAAAAH8+54k=") -> #VALUE! | EI6: =IF(Feuil1!131:131,"AAAAAH8+54o=",0) -> 0 | EJ6: =AND(Feuil1!A131,"AAAAAH8+54s=") -> #VALUE! | EK6: =AND(Feuil1!B131,"AAAAAH8+54w=") -> #VALUE! | EL6: =AND(Feuil1!C131,"AAAAAH8+540=") -> #VALUE! | EM6: =AND(Feuil1!D131,"AAAAAH8+544=") -> #VALUE! | EN6: =AND(Feuil1!E131,"AAAAAH8+548=") -> #VALUE! | EO6: =IF(Feuil1!132:132,"AAAAAH8+55A=",0) -> 0 | EP6: =AND(Feuil1!A132,"AAAAAH8+55E=") -> #VALUE! | EQ6: =AND(Feuil1!B132,"AAAAAH8+55I=") -> #VALUE! | ER6: =AND(Feuil1!C132,"AAAAAH8+55M=") -> #VALUE! | ES6: =AND(Feuil1!D132,"AAAAAH8+55Q=") -> #VALUE! | ET6: =AND(Feuil1!E132,"AAAAAH8+55U=") -> #VALUE! | EU6: =IF(Feuil1!133:133,"AAAAAH8+55Y=",0) -> 0 | EV6: =AND(Feuil1!A133,"AAAAAH8+55c=") -> #VALUE! | EW6: =AND(Feuil1!B133,"AAAAAH8+55g=") -> #VALUE! | EX6: =AND(Feuil1!C133,"AAAAAH8+55k=") -> #VALUE! | EY6: =AND(Feuil1!D133,"AAAAAH8+55o=") -> #VALUE! | EZ6: =AND(Feuil1!E133,"AAAAAH8+55s=") -> #VALUE! | FA6: =IF(Feuil1!134:134,"AAAAAH8+55w=",0) -> 0 | FB6: =AND(Feuil1!A134,"AAAAAH8+550=") -> #VALUE! | FC6: =AND(Feuil1!B134,"AAAAAH8+554=") -> #VALUE! | FD6: =AND(Feuil1!C134,"AAAAAH8+558=") -> #VALUE! | FE6: =AND(Feuil1!D134,"AAAAAH8+56A=") -> #VALUE! | FF6: =AND(Feuil1!E134,"AAAAAH8+56E=") -> #VALUE! | FG6: =IF(Feuil1!135:135,"AAAAAH8+56I=",0) -> 0 | FH6: =AND(Feuil1!A135,"AAAAAH8+56M=") -> #VALUE! | FI6: =AND(Feuil1!B135,"AAAAAH8+56Q=") -> #VALUE! | FJ6: =AND(Feuil1!C135,"AAAAAH8+56U=") -> #VALUE! | FK6: =AND(Feuil1!D135,"AAAAAH8+56Y=") -> #VALUE! | FL6: =AND(Feuil1!E135,"AAAAAH8+56c=") -> #VALUE! | FM6: =IF(Feuil1!136:136,"AAAAAH8+56g=",0) -> 0 | FN6: =AND(Feuil1!A136,"AAAAAH8+56k=") -> #VALUE! | FO6: =AND(Feuil1!B136,"AAAAAH8+56o=") -> #VALUE! | FP6: =AND(Feuil1!C136,"AAAAAH8+56s=") -> #VALUE! | FQ6: =AND(Feuil1!D136,"AAAAAH8+56w=") -> #VALUE! | FR6: =AND(Feuil1!E136,"AAAAAH8+560=") -> #VALUE! | FS6: =IF(Feuil1!137:137,"AAAAAH8+564=",0) -> 0 | FT6: =AND(Feuil1!A137,"AAAAAH8+568=") -> #VALUE! | FU6: =AND(Feuil1!B137,"AAAAAH8+57A=") -> #VALUE! | FV6: =AND(Feuil1!C137,"AAAAAH8+57E=") -> #VALUE! | FW6: =AND(Feuil1!D137,"AAAAAH8+57I=") -> #VALUE! | FX6: =AND(Feuil1!E137,"AAAAAH8+57M=") -> #VALUE! | FY6: =IF(Feuil1!138:138,"AAAAAH8+57Q=",0) -> 0 | FZ6: =AND(Feuil1!A138,"AAAAAH8+57U=") -> #VALUE! | GA6: =AND(Feuil1!B138,"AAAAAH8+57Y=") -> #VALUE! | GB6: =AND(Feuil1!C138,"AAAAAH8+57c=") -> #VALUE! | GC6: =AND(Feuil1!D138,"AAAAAH8+57g=") -> #VALUE! | GD6: =AND(Feuil1!E138,"AAAAAH8+57k=") -> #VALUE! | GE6: =IF(Feuil1!139:139,"AAAAAH8+57o=",0) -> 0 | GF6: =AND(Feuil1!A139,"AAAAAH8+57s=") -> #VALUE! | GG6: =AND(Feuil1!B139,"AAAAAH8+57w=") -> #VALUE! | GH6: =AND(Feuil1!C139,"AAAAAH8+570=") -> #VALUE! | GI6: =AND(Feuil1!D139,"AAAAAH8+574=") -> #VALUE! | GJ6: =AND(Feuil1!E139,"AAAAAH8+578=") -> #VALUE! | GK6: =IF(Feuil1!140:140,"AAAAAH8+58A=",0) -> 0 | GL6: =AND(Feuil1!A140,"AAAAAH8+58E=") -> #VALUE! | GM6: =AND(Feuil1!B140,"AAAAAH8+58I=") -> #VALUE! | GN6: =AND(Feuil1!C140,"AAAAAH8+58M=") -> #VALUE! | GO6: =AND(Feuil1!D140,"AAAAAH8+58Q=") -> #VALUE! | GP6: =AND(Feuil1!E140,"AAAAAH8+58U=") -> #VALUE! | GQ6: =IF(Feuil1!141:141,"AAAAAH8+58Y=",0) -> 0 | GR6: =AND(Feuil1!A141,"AAAAAH8+58c=") -> #VALUE! | GS6: =AND(Feuil1!B141,"AAAAAH8+58g=") -> #VALUE! | GT6: =AND(Feuil1!C141,"AAAAAH8+58k=") -> #VALUE! | GU6: =AND(Feuil1!D141,"AAAAAH8+58o=") -> #VALUE! | GV6: =AND(Feuil1!E141,"AAAAAH8+58s=") -> #VALUE! | GW6: =IF(Feuil1!142:142,"AAAAAH8+58w=",0) -> 0 | GX6: =AND(Feuil1!A142,"AAAAAH8+580=") -> #VALUE! | GY6: =AND(Feuil1!B142,"AAAAAH8+584=") -> #VALUE! | GZ6: =AND(Feuil1!C142,"AAAAAH8+588=") -> #VALUE! | HA6: =AND(Feuil1!D142,"AAAAAH8+59A=") -> #VALUE! | HB6: =AND(Feuil1!E142,"AAAAAH8+59E=") -> #VALUE! | HC6: =IF(Feuil1!143:143,"AAAAAH8+59I=",0) -> 0 | HD6: =AND(Feuil1!A143,"AAAAAH8+59M=") -> #VALUE! | HE6: =AND(Feuil1!B143,"AAAAAH8+59Q=") -> #VALUE! | HF6: =AND(Feuil1!C143,"AAAAAH8+59U=") -> #VALUE! | HG6: =AND(Feuil1!D143,"AAAAAH8+59Y=") -> #VALUE! | HH6: =AND(Feuil1!E143,"AAAAAH8+59c=") -> #VALUE! | HI6: =IF(Feuil1!144:144,"AAAAAH8+59g=",0) -> 0 | HJ6: =AND(Feuil1!A144,"AAAAAH8+59k=") -> #VALUE! | HK6: =AND(Feuil1!B144,"AAAAAH8+59o=") -> #VALUE! | HL6: =AND(Feuil1!C144,"AAAAAH8+59s=") -> #VALUE! | HM6: =AND(Feuil1!D144,"AAAAAH8+59w=") -> #VALUE! | HN6: =AND(Feuil1!E144,"AAAAAH8+590=") -> #VALUE! | HO6: =IF(Feuil1!145:145,"AAAAAH8+594=",0) -> 0 | HP6: =AND(Feuil1!A145,"AAAAAH8+598=") -> #VALUE! | HQ6: =AND(Feuil1!B145,"AAAAAH8+5+A=") -> #VALUE! | HR6: =AND(Feuil1!C145,"AAAAAH8+5+E=") -> #VALUE! | HS6: =AND(Feuil1!D145,"AAAAAH8+5+I=") -> #VALUE! | HT6: =AND(Feuil1!E145,"AAAAAH8+5+M=") -> #VALUE! | HU6: =IF(Feuil1!146:146,"AAAAAH8+5+Q=",0) -> 0 | HV6: =AND(Feuil1!A146,"AAAAAH8+5+U=") -> #VALUE! | HW6: =AND(Feuil1!B146,"AAAAAH8+5+Y=") -> #VALUE! | HX6: =AND(Feuil1!C146,"AAAAAH8+5+c=") -> #VALUE! | HY6: =AND(Feuil1!D146,"AAAAAH8+5+g=") -> #VALUE! | HZ6: =AND(Feuil1!E146,"AAAAAH8+5+k=") -> #VALUE! | IA6: =IF(Feuil1!147:147,"AAAAAH8+5+o=",0) -> 0 | IB6: =AND(Feuil1!A147,"AAAAAH8+5+s=") -> #VALUE! | IC6: =AND(Feuil1!B147,"AAAAAH8+5+w=") -> #VALUE! | ID6: =AND(Feuil1!C147,"AAAAAH8+5+0=") -> #VALUE! | IE6: =AND(Feuil1!D147,"AAAAAH8+5+4=") -> #VALUE! | IF6: =AND(Feuil1!E147,"AAAAAH8+5+8=") -> #VALUE! | IG6: =IF(Feuil1!148:148,"AAAAAH8+5/A=",0) -> 0 | IH6: =AND(Feuil1!A148,"AAAAAH8+5/E=") -> #VALUE! | II6: =AND(Feuil1!B148,"AAAAAH8+5/I=") -> #VALUE! | IJ6: =AND(Feuil1!C148,"AAAAAH8+5/M=") -> #VALUE! | IK6: =AND(Feuil1!D148,"AAAAAH8+5/Q=") -> #VALUE! | IL6: =AND(Feuil1!E148,"AAAAAH8+5/U=") -> #VALUE! | IM6: =IF(Feuil1!149:149,"AAAAAH8+5/Y=",0) -> 0 | IN6: =AND(Feuil1!A149,"AAAAAH8+5/c=") -> #VALUE! | IO6: =AND(Feuil1!B149,"AAAAAH8+5/g=") -> #VALUE! | IP6: =AND(Feuil1!C149,"AAAAAH8+5/k=") -> #VALUE! | IQ6: =AND(Feuil1!D149,"AAAAAH8+5/o=") -> #VALUE! | IR6: =AND(Feuil1!E149,"AAAAAH8+5/s=") -> #VALUE! | IS6: =IF(Feuil1!150:150,"AAAAAH8+5/w=",0) -> 0 | IT6: =AND(Feuil1!A150,"AAAAAH8+5/0=") -> #VALUE! | IU6: =AND(Feuil1!B150,"AAAAAH8+5/4=") -> #VALUE! | IV6: =AND(Feuil1!C150,"AAAAAH8+5/8=") -> #VALUE!
A7: =AND(Feuil1!D150,"AAAAAFWu5wA=") -> #VALUE! | B7: =AND(Feuil1!E150,"AAAAAFWu5wE=") -> #VALUE! | C7: =IF(Feuil1!151:151,"AAAAAFWu5wI=",0) -> AAAAAFWu5wI= | D7: =AND(Feuil1!A151,"AAAAAFWu5wM=") -> #VALUE! | E7: =AND(Feuil1!B151,"AAAAAFWu5wQ=") -> #VALUE! | F7: =AND(Feuil1!C151,"AAAAAFWu5wU=") -> #VALUE! | G7: =AND(Feuil1!D151,"AAAAAFWu5wY=") -> #VALUE! | H7: =AND(Feuil1!E151,"AAAAAFWu5wc=") -> #VALUE! | I7: =IF(Feuil1!152:152,"AAAAAFWu5wg=",0) -> 0 | J7: =AND(Feuil1!A152,"AAAAAFWu5wk=") -> #VALUE! | K7: =AND(Feuil1!B152,"AAAAAFWu5wo=") -> #VALUE! | L7: =AND(Feuil1!C152,"AAAAAFWu5ws=") -> #VALUE! | M7: =AND(Feuil1!D152,"AAAAAFWu5ww=") -> #VALUE! | N7: =AND(Feuil1!E152,"AAAAAFWu5w0=") -> #VALUE! | O7: =IF(Feuil1!153:153,"AAAAAFWu5w4=",0) -> 0 | P7: =AND(Feuil1!A153,"AAAAAFWu5w8=") -> #VALUE! | Q7: =AND(Feuil1!B153,"AAAAAFWu5xA=") -> #VALUE! | R7: =AND(Feuil1!C153,"AAAAAFWu5xE=") -> #VALUE! | S7: =AND(Feuil1!D153,"AAAAAFWu5xI=") -> #VALUE! | T7: =AND(Feuil1!E153,"AAAAAFWu5xM=") -> #VALUE! | U7: =IF(Feuil1!154:154,"AAAAAFWu5xQ=",0) -> 0 | V7: =AND(Feuil1!A154,"AAAAAFWu5xU=") -> #VALUE! | W7: =AND(Feuil1!B154,"AAAAAFWu5xY=") -> #VALUE! | X7: =AND(Feuil1!C154,"AAAAAFWu5xc=") -> #VALUE! | Y7: =AND(Feuil1!D154,"AAAAAFWu5xg=") -> #VALUE! | Z7: =AND(Feuil1!E154,"AAAAAFWu5xk=") -> #VALUE! | AA7: =IF(Feuil1!155:155,"AAAAAFWu5xo=",0) -> 0 | AB7: =AND(Feuil1!A155,"AAAAAFWu5xs=") -> #VALUE! | AC7: =AND(Feuil1!B155,"AAAAAFWu5xw=") -> #VALUE! | AD7: =AND(Feuil1!C155,"AAAAAFWu5x0=") -> #VALUE! | AE7: =AND(Feuil1!D155,"AAAAAFWu5x4=") -> #VALUE! | AF7: =AND(Feuil1!E155,"AAAAAFWu5x8=") -> #VALUE! | AG7: =IF(Feuil1!156:156,"AAAAAFWu5yA=",0) -> 0 | AH7: =AND(Feuil1!A156,"AAAAAFWu5yE=") -> #VALUE! | AI7: =AND(Feuil1!B156,"AAAAAFWu5yI=") -> #VALUE! | AJ7: =AND(Feuil1!C156,"AAAAAFWu5yM=") -> #VALUE! | AK7: =AND(Feuil1!D156,"AAAAAFWu5yQ=") -> #VALUE! | AL7: =AND(Feuil1!E156,"AAAAAFWu5yU=") -> #VALUE! | AM7: =IF(Feuil1!157:157,"AAAAAFWu5yY=",0) -> 0 | AN7: =AND(Feuil1!A157,"AAAAAFWu5yc=") -> #VALUE! | AO7: =AND(Feuil1!B157,"AAAAAFWu5yg=") -> #VALUE! | AP7: =AND(Feuil1!C157,"AAAAAFWu5yk=") -> #VALUE! | AQ7: =AND(Feuil1!D157,"AAAAAFWu5yo=") -> #VALUE! | AR7: =AND(Feuil1!E157,"AAAAAFWu5ys=") -> #VALUE! | AS7: =IF(Feuil1!158:158,"AAAAAFWu5yw=",0) -> 0 | AT7: =AND(Feuil1!A158,"AAAAAFWu5y0=") -> #VALUE! | AU7: =AND(Feuil1!B158,"AAAAAFWu5y4=") -> #VALUE! | AV7: =AND(Feuil1!C158,"AAAAAFWu5y8=") -> #VALUE! | AW7: =AND(Feuil1!D158,"AAAAAFWu5zA=") -> #VALUE! | AX7: =AND(Feuil1!E158,"AAAAAFWu5zE=") -> #VALUE! | AY7: =IF(Feuil1!159:159,"AAAAAFWu5zI=",0) -> 0 | AZ7: =AND(Feuil1!A159,"AAAAAFWu5zM=") -> #VALUE! | BA7: =AND(Feuil1!B159,"AAAAAFWu5zQ=") -> #VALUE! | BB7: =AND(Feuil1!C159,"AAAAAFWu5zU=") -> #VALUE! | BC7: =AND(Feuil1!D159,"AAAAAFWu5zY=") -> #VALUE! | BD7: =AND(Feuil1!E159,"AAAAAFWu5zc=") -> #VALUE! | BE7: =IF(Feuil1!160:160,"AAAAAFWu5zg=",0) -> 0 | BF7: =AND(Feuil1!A160,"AAAAAFWu5zk=") -> #VALUE! | BG7: =AND(Feuil1!B160,"AAAAAFWu5zo=") -> #VALUE! | BH7: =AND(Feuil1!C160,"AAAAAFWu5zs=") -> #VALUE! | BI7: =AND(Feuil1!D160,"AAAAAFWu5zw=") -> #VALUE! | BJ7: =AND(Feuil1!E160,"AAAAAFWu5z0=") -> #VALUE! | BK7: =IF(Feuil1!161:161,"AAAAAFWu5z4=",0) -> 0 | BL7: =AND(Feuil1!A161,"AAAAAFWu5z8=") -> #VALUE! | BM7: =AND(Feuil1!B161,"AAAAAFWu50A=") -> #VALUE! | BN7: =AND(Feuil1!C161,"AAAAAFWu50E=") -> #VALUE! | BO7: =AND(Feuil1!D161,"AAAAAFWu50I=") -> #VALUE! | BP7: =AND(Feuil1!E161,"AAAAAFWu50M=") -> #VALUE! | BQ7: =IF(Feuil1!162:162,"AAAAAFWu50Q=",0) -> 0 | BR7: =AND(Feuil1!A162,"AAAAAFWu50U=") -> #VALUE! | BS7: =AND(Feuil1!B162,"AAAAAFWu50Y=") -> #VALUE! | BT7: =AND(Feuil1!C162,"AAAAAFWu50c=") -> #VALUE! | BU7: =AND(Feuil1!D162,"AAAAAFWu50g=") -> #VALUE! | BV7: =AND(Feuil1!E162,"AAAAAFWu50k=") -> #VALUE! | BW7: =IF(Feuil1!163:163,"AAAAAFWu50o=",0) -> 0 | BX7: =AND(Feuil1!A163,"AAAAAFWu50s=") -> #VALUE! | BY7: =AND(Feuil1!B163,"AAAAAFWu50w=") -> #VALUE! | BZ7: =AND(Feuil1!C163,"AAAAAFWu500=") -> #VALUE! | CA7: =AND(Feuil1!D163,"AAAAAFWu504=") -> #VALUE! | CB7: =AND(Feuil1!E163,"AAAAAFWu508=") -> #VALUE! | CC7: =IF(Feuil1!164:164,"AAAAAFWu51A=",0) -> 0 | CD7: =AND(Feuil1!A164,"AAAAAFWu51E=") -> #VALUE! | CE7: =AND(Feuil1!B164,"AAAAAFWu51I=") -> #VALUE! | CF7: =AND(Feuil1!C164,"AAAAAFWu51M=") -> #VALUE! | CG7: =AND(Feuil1!D164,"AAAAAFWu51Q=") -> #VALUE! | CH7: =AND(Feuil1!E164,"AAAAAFWu51U=") -> #VALUE! | CI7: =IF(Feuil1!165:165,"AAAAAFWu51Y=",0) -> 0 | CJ7: =AND(Feuil1!A165,"AAAAAFWu51c=") -> #VALUE! | CK7: =AND(Feuil1!B165,"AAAAAFWu51g=") -> #VALUE! | CL7: =AND(Feuil1!C165,"AAAAAFWu51k=") -> #VALUE! | CM7: =AND(Feuil1!D165,"AAAAAFWu51o=") -> #VALUE! | CN7: =AND(Feuil1!E165,"AAAAAFWu51s=") -> #VALUE! | CO7: =IF(Feuil1!166:166,"AAAAAFWu51w=",0) -> 0 | CP7: =AND(Feuil1!A166,"AAAAAFWu510=") -> #VALUE! | CQ7: =AND(Feuil1!B166,"AAAAAFWu514=") -> #VALUE! | CR7: =AND(Feuil1!C166,"AAAAAFWu518=") -> #VALUE! | CS7: =AND(Feuil1!D166,"AAAAAFWu52A=") -> #VALUE! | CT7: =AND(Feuil1!E166,"AAAAAFWu52E=") -> #VALUE! | CU7: =IF(Feuil1!167:167,"AAAAAFWu52I=",0) -> 0 | CV7: =AND(Feuil1!A167,"AAAAAFWu52M=") -> #VALUE! | CW7: =AND(Feuil1!B167,"AAAAAFWu52Q=") -> #VALUE! | CX7: =AND(Feuil1!C167,"AAAAAFWu52U=") -> #VALUE! | CY7: =AND(Feuil1!D167,"AAAAAFWu52Y=") -> #VALUE! | CZ7: =AND(Feuil1!E167,"AAAAAFWu52c=") -> #VALUE! | DA7: =IF(Feuil1!168:168,"AAAAAFWu52g=",0) -> 0 | DB7: =AND(Feuil1!A168,"AAAAAFWu52k=") -> #VALUE! | DC7: =AND(Feuil1!B168,"AAAAAFWu52o=") -> #VALUE! | DD7: =AND(Feuil1!C168,"AAAAAFWu52s=") -> #VALUE! | DE7: =AND(Feuil1!D168,"AAAAAFWu52w=") -> #VALUE! | DF7: =AND(Feuil1!E168,"AAAAAFWu520=") -> #VALUE! | DG7: =IF(Feuil1!169:169,"AAAAAFWu524=",0) -> 0 | DH7: =AND(Feuil1!A169,"AAAAAFWu528=") -> #VALUE! | DI7: =AND(Feuil1!B169,"AAAAAFWu53A=") -> #VALUE! | DJ7: =AND(Feuil1!C169,"AAAAAFWu53E=") -> #VALUE! | DK7: =AND(Feuil1!D169,"AAAAAFWu53I=") -> #VALUE! | DL7: =AND(Feuil1!E169,"AAAAAFWu53M=") -> #VALUE! | DM7: =IF(Feuil1!170:170,"AAAAAFWu53Q=",0) -> 0 | DN7: =AND(Feuil1!A170,"AAAAAFWu53U=") -> #VALUE! | DO7: =AND(Feuil1!B170,"AAAAAFWu53Y=") -> #VALUE! | DP7: =AND(Feuil1!C170,"AAAAAFWu53c=") -> #VALUE! | DQ7: =AND(Feuil1!D170,"AAAAAFWu53g=") -> #VALUE! | DR7: =AND(Feuil1!E170,"AAAAAFWu53k=") -> #VALUE! | DS7: =IF(Feuil1!171:171,"AAAAAFWu53o=",0) -> 0 | DT7: =AND(Feuil1!A171,"AAAAAFWu53s=") -> #VALUE! | DU7: =AND(Feuil1!B171,"AAAAAFWu53w=") -> #VALUE! | DV7: =AND(Feuil1!C171,"AAAAAFWu530=") -> #VALUE! | DW7: =AND(Feuil1!D171,"AAAAAFWu534=") -> #VALUE! | DX7: =AND(Feuil1!E171,"AAAAAFWu538=") -> #VALUE! | DY7: =IF(Feuil1!172:172,"AAAAAFWu54A=",0) -> 0 | DZ7: =AND(Feuil1!A172,"AAAAAFWu54E=") -> #VALUE! | EA7: =AND(Feuil1!B172,"AAAAAFWu54I=") -> #VALUE! | EB7: =AND(Feuil1!C172,"AAAAAFWu54M=") -> #VALUE! | EC7: =AND(Feuil1!D172,"AAAAAFWu54Q=") -> #VALUE! | ED7: =AND(Feuil1!E172,"AAAAAFWu54U=") -> #VALUE! | EE7: =IF(Feuil1!173:173,"AAAAAFWu54Y=",0) -> 0 | EF7: =AND(Feuil1!A173,"AAAAAFWu54c=") -> #VALUE! | EG7: =AND(Feuil1!B173,"AAAAAFWu54g=") -> #VALUE! | EH7: =AND(Feuil1!C173,"AAAAAFWu54k=") -> #VALUE! | EI7: =AND(Feuil1!D173,"AAAAAFWu54o=") -> #VALUE! | EJ7: =AND(Feuil1!E173,"AAAAAFWu54s=") -> #VALUE! | EK7: =IF(Feuil1!174:174,"AAAAAFWu54w=",0) -> 0 | EL7: =AND(Feuil1!A174,"AAAAAFWu540=") -> #VALUE! | EM7: =AND(Feuil1!B174,"AAAAAFWu544=") -> #VALUE! | EN7: =AND(Feuil1!C174,"AAAAAFWu548=") -> #VALUE! | EO7: =AND(Feuil1!D174,"AAAAAFWu55A=") -> #VALUE! | EP7: =AND(Feuil1!E174,"AAAAAFWu55E=") -> #VALUE! | EQ7: =IF(Feuil1!175:175,"AAAAAFWu55I=",0) -> 0 | ER7: =AND(Feuil1!A175,"AAAAAFWu55M=") -> #VALUE! | ES7: =AND(Feuil1!B175,"AAAAAFWu55Q=") -> #VALUE! | ET7: =AND(Feuil1!C175,"AAAAAFWu55U=") -> #VALUE! | EU7: =AND(Feuil1!D175,"AAAAAFWu55Y=") -> #VALUE! | EV7: =AND(Feuil1!E175,"AAAAAFWu55c=") -> #VALUE! | EW7: =IF(Feuil1!176:176,"AAAAAFWu55g=",0) -> 0 | EX7: =AND(Feuil1!A176,"AAAAAFWu55k=") -> #VALUE! | EY7: =AND(Feuil1!B176,"AAAAAFWu55o=") -> #VALUE! | EZ7: =AND(Feuil1!C176,"AAAAAFWu55s=") -> #VALUE! | FA7: =AND(Feuil1!D176,"AAAAAFWu55w=") -> #VALUE! | FB7: =AND(Feuil1!E176,"AAAAAFWu550=") -> #VALUE! | FC7: =IF(Feuil1!177:177,"AAAAAFWu554=",0) -> 0 | FD7: =AND(Feuil1!A177,"AAAAAFWu558=") -> #VALUE! | FE7: =AND(Feuil1!B177,"AAAAAFWu56A=") -> #VALUE! | FF7: =AND(Feuil1!C177,"AAAAAFWu56E=") -> #VALUE! | FG7: =AND(Feuil1!D177,"AAAAAFWu56I=") -> #VALUE! | FH7: =AND(Feuil1!E177,"AAAAAFWu56M=") -> #VALUE! | FI7: =IF(Feuil1!178:178,"AAAAAFWu56Q=",0) -> 0 | FJ7: =AND(Feuil1!A178,"AAAAAFWu56U=") -> #VALUE! | FK7: =AND(Feuil1!B178,"AAAAAFWu56Y=") -> #VALUE! | FL7: =AND(Feuil1!C178,"AAAAAFWu56c=") -> #VALUE! | FM7: =AND(Feuil1!D178,"AAAAAFWu56g=") -> #VALUE! | FN7: =AND(Feuil1!E178,"AAAAAFWu56k=") -> #VALUE! | FO7: =IF(Feuil1!179:179,"AAAAAFWu56o=",0) -> 0 | FP7: =AND(Feuil1!A179,"AAAAAFWu56s=") -> #VALUE! | FQ7: =AND(Feuil1!B179,"AAAAAFWu56w=") -> #VALUE! | FR7: =AND(Feuil1!C179,"AAAAAFWu560=") -> #VALUE! | FS7: =AND(Feuil1!D179,"AAAAAFWu564=") -> #VALUE! | FT7: =AND(Feuil1!E179,"AAAAAFWu568=") -> #VALUE! | FU7: =IF(Feuil1!180:180,"AAAAAFWu57A=",0) -> 0 | FV7: =AND(Feuil1!A180,"AAAAAFWu57E=") -> #VALUE! | FW7: =AND(Feuil1!B180,"AAAAAFWu57I=") -> #VALUE! | FX7: =AND(Feuil1!C180,"AAAAAFWu57M=") -> #VALUE! | FY7: =AND(Feuil1!D180,"AAAAAFWu57Q=") -> #VALUE! | FZ7: =AND(Feuil1!E180,"AAAAAFWu57U=") -> #VALUE! | GA7: =IF(Feuil1!181:181,"AAAAAFWu57Y=",0) -> 0 | GB7: =AND(Feuil1!A181,"AAAAAFWu57c=") -> #VALUE! | GC7: =AND(Feuil1!B181,"AAAAAFWu57g=") -> #VALUE! | GD7: =AND(Feuil1!C181,"AAAAAFWu57k=") -> #VALUE! | GE7: =AND(Feuil1!D181,"AAAAAFWu57o=") -> #VALUE! | GF7: =AND(Feuil1!E181,"AAAAAFWu57s=") -> #VALUE! | GG7: =IF(Feuil1!182:182,"AAAAAFWu57w=",0) -> 0 | GH7: =AND(Feuil1!A182,"AAAAAFWu570=") -> #VALUE! | GI7: =AND(Feuil1!B182,"AAAAAFWu574=") -> #VALUE! | GJ7: =AND(Feuil1!C182,"AAAAAFWu578=") -> #VALUE! | GK7: =AND(Feuil1!D182,"AAAAAFWu58A=") -> #VALUE! | GL7: =AND(Feuil1!E182,"AAAAAFWu58E=") -> #VALUE! | GM7: =IF(Feuil1!183:183,"AAAAAFWu58I=",0) -> 0 | GN7: =AND(Feuil1!A183,"AAAAAFWu58M=") -> #VALUE! | GO7: =AND(Feuil1!B183,"AAAAAFWu58Q=") -> #VALUE! | GP7: =AND(Feuil1!C183,"AAAAAFWu58U=") -> #VALUE! | GQ7: =AND(Feuil1!D183,"AAAAAFWu58Y=") -> #VALUE! | GR7: =AND(Feuil1!E183,"AAAAAFWu58c=") -> #VALUE! | GS7: =IF(Feuil1!184:184,"AAAAAFWu58g=",0) -> 0 | GT7: =AND(Feuil1!A184,"AAAAAFWu58k=") -> #VALUE! | GU7: =AND(Feuil1!B184,"AAAAAFWu58o=") -> #VALUE! | GV7: =AND(Feuil1!C184,"AAAAAFWu58s=") -> #VALUE! | GW7: =AND(Feuil1!D184,"AAAAAFWu58w=") -> #VALUE! | GX7: =AND(Feuil1!E184,"AAAAAFWu580=") -> #VALUE! | GY7: =IF(Feuil1!185:185,"AAAAAFWu584=",0) -> 0 | GZ7: =AND(Feuil1!A185,"AAAAAFWu588=") -> #VALUE! | HA7: =AND(Feuil1!B185,"AAAAAFWu59A=") -> #VALUE! | HB7: =AND(Feuil1!C185,"AAAAAFWu59E=") -> #VALUE! | HC7: =AND(Feuil1!D185,"AAAAAFWu59I=") -> #VALUE! | HD7: =AND(Feuil1!E185,"AAAAAFWu59M=") -> #VALUE! | HE7: =IF(Feuil1!186:186,"AAAAAFWu59Q=",0) -> 0 | HF7: =AND(Feuil1!A186,"AAAAAFWu59U=") -> #VALUE! | HG7: =AND(Feuil1!B186,"AAAAAFWu59Y=") -> #VALUE! | HH7: =AND(Feuil1!C186,"AAAAAFWu59c=") -> #VALUE! | HI7: =AND(Feuil1!D186,"AAAAAFWu59g=") -> #VALUE! | HJ7: =AND(Feuil1!E186,"AAAAAFWu59k=") -> #VALUE! | HK7: =IF(Feuil1!187:187,"AAAAAFWu59o=",0) -> 0 | HL7: =AND(Feuil1!A187,"AAAAAFWu59s=") -> #VALUE! | HM7: =AND(Feuil1!B187,"AAAAAFWu59w=") -> #VALUE! | HN7: =AND(Feuil1!C187,"AAAAAFWu590=") -> #VALUE! | HO7: =AND(Feuil1!D187,"AAAAAFWu594=") -> #VALUE! | HP7: =AND(Feuil1!E187,"AAAAAFWu598=") -> #VALUE! | HQ7: =IF(Feuil1!188:188,"AAAAAFWu5+A=",0) -> 0 | HR7: =AND(Feuil1!A188,"AAAAAFWu5+E=") -> #VALUE! | HS7: =AND(Feuil1!B188,"AAAAAFWu5+I=") -> #VALUE! | HT7: =AND(Feuil1!C188,"AAAAAFWu5+M=") -> #VALUE! | HU7: =AND(Feuil1!D188,"AAAAAFWu5+Q=") -> #VALUE! | HV7: =AND(Feuil1!E188,"AAAAAFWu5+U=") -> #VALUE! | HW7: =IF(Feuil1!189:189,"AAAAAFWu5+Y=",0) -> 0 | HX7: =AND(Feuil1!A189,"AAAAAFWu5+c=") -> #VALUE! | HY7: =AND(Feuil1!B189,"AAAAAFWu5+g=") -> #VALUE! | HZ7: =AND(Feuil1!C189,"AAAAAFWu5+k=") -> #VALUE! | IA7: =AND(Feuil1!D189,"AAAAAFWu5+o=") -> #VALUE! | IB7: =AND(Feuil1!E189,"AAAAAFWu5+s=") -> #VALUE! | IC7: =IF(Feuil1!190:190,"AAAAAFWu5+w=",0) -> 0 | ID7: =AND(Feuil1!A190,"AAAAAFWu5+0=") -> #VALUE! | IE7: =AND(Feuil1!B190,"AAAAAFWu5+4=") -> #VALUE! | IF7: =AND(Feuil1!C190,"AAAAAFWu5+8=") -> #VALUE! | IG7: =AND(Feuil1!D190,"AAAAAFWu5/A=") -> #VALUE! | IH7: =AND(Feuil1!E190,"AAAAAFWu5/E=") -> #VALUE! | II7: =IF(Feuil1!191:191,"AAAAAFWu5/I=",0) -> 0 | IJ7: =AND(Feuil1!A191,"AAAAAFWu5/M=") -> #VALUE! | IK7: =AND(Feuil1!B191,"AAAAAFWu5/Q=") -> #VALUE! | IL7: =AND(Feuil1!C191,"AAAAAFWu5/U=") -> #VALUE! | IM7: =AND(Feuil1!D191,"AAAAAFWu5/Y=") -> #VALUE! | IN7: =AND(Feuil1!E191,"AAAAAFWu5/c=") -> #VALUE! | IO7: =IF(Feuil1!192:192,"AAAAAFWu5/g=",0) -> 0 | IP7: =AND(Feuil1!A192,"AAAAAFWu5/k=") -> #VALUE! | IQ7: =AND(Feuil1!B192,"AAAAAFWu5/o=") -> #VALUE! | IR7: =AND(Feuil1!C192,"AAAAAFWu5/s=") -> #VALUE! | IS7: =AND(Feuil1!D192,"AAAAAFWu5/w=") -> #VALUE! | IT7: =AND(Feuil1!E192,"AAAAAFWu5/0=") -> #VALUE! | IU7: =IF(Feuil1!193:193,"AAAAAFWu5/4=",0) -> 0 | IV7: =AND(Feuil1!A193,"AAAAAFWu5/8=") -> #VALUE!
A8: =AND(Feuil1!B193,"AAAAAF/+6wA=") -> #VALUE! | B8: =AND(Feuil1!C193,"AAAAAF/+6wE=") -> #VALUE! | C8: =AND(Feuil1!D193,"AAAAAF/+6wI=") -> #VALUE! | D8: =AND(Feuil1!E193,"AAAAAF/+6wM=") -> #VALUE! | E8: =IF(Feuil1!194:194,"AAAAAF/+6wQ=",0) -> #VALUE! | F8: =AND(Feuil1!A194,"AAAAAF/+6wU=") -> #VALUE! | G8: =AND(Feuil1!B194,"AAAAAF/+6wY=") -> #VALUE! | H8: =AND(Feuil1!C194,"AAAAAF/+6wc=") -> #VALUE! | I8: =AND(Feuil1!D194,"AAAAAF/+6wg=") -> #VALUE! | J8: =AND(Feuil1!E194,"AAAAAF/+6wk=") -> #VALUE! | K8: =IF(Feuil1!195:195,"AAAAAF/+6wo=",0) -> 0 | L8: =AND(Feuil1!A195,"AAAAAF/+6ws=") -> #VALUE! | M8: =AND(Feuil1!B195,"AAAAAF/+6ww=") -> #VALUE! | N8: =AND(Feuil1!C195,"AAAAAF/+6w0=") -> #VALUE! | O8: =AND(Feuil1!D195,"AAAAAF/+6w4=") -> #VALUE! | P8: =AND(Feuil1!E195,"AAAAAF/+6w8=") -> #VALUE! | Q8: =IF(Feuil1!196:196,"AAAAAF/+6xA=",0) -> 0 | R8: =AND(Feuil1!A196,"AAAAAF/+6xE=") -> #VALUE! | S8: =AND(Feuil1!B196,"AAAAAF/+6xI=") -> #VALUE! | T8: =AND(Feuil1!C196,"AAAAAF/+6xM=") -> #VALUE! | U8: =AND(Feuil1!D196,"AAAAAF/+6xQ=") -> #VALUE! | V8: =AND(Feuil1!E196,"AAAAAF/+6xU=") -> #VALUE! | W8: =IF(Feuil1!197:197,"AAAAAF/+6xY=",0) -> 0 | X8: =AND(Feuil1!A197,"AAAAAF/+6xc=") -> #VALUE! | Y8: =AND(Feuil1!B197,"AAAAAF/+6xg=") -> #VALUE! | Z8: =AND(Feuil1!C197,"AAAAAF/+6xk=") -> #VALUE! | AA8: =AND(Feuil1!D197,"AAAAAF/+6xo=") -> #VALUE! | AB8: =AND(Feuil1!E197,"AAAAAF/+6xs=") -> #VALUE! | AC8: =IF(Feuil1!198:198,"AAAAAF/+6xw=",0) -> 0 | AD8: =AND(Feuil1!A198,"AAAAAF/+6x0=") -> #VALUE! | AE8: =AND(Feuil1!B198,"AAAAAF/+6x4=") -> #VALUE! | AF8: =AND(Feuil1!C198,"AAAAAF/+6x8=") -> #VALUE! | AG8: =AND(Feuil1!D198,"AAAAAF/+6yA=") -> #VALUE! | AH8: =AND(Feuil1!E198,"AAAAAF/+6yE=") -> #VALUE! | AI8: =IF(Feuil1!199:199,"AAAAAF/+6yI=",0) -> 0 | AJ8: =AND(Feuil1!A199,"AAAAAF/+6yM=") -> #VALUE! | AK8: =AND(Feuil1!B199,"AAAAAF/+6yQ=") -> #VALUE! | AL8: =AND(Feuil1!C199,"AAAAAF/+6yU=") -> #VALUE! | AM8: =AND(Feuil1!D199,"AAAAAF/+6yY=") -> #VALUE! | AN8: =AND(Feuil1!E199,"AAAAAF/+6yc=") -> #VALUE! | AO8: =IF(Feuil1!200:200,"AAAAAF/+6yg=",0) -> 0 | AP8: =AND(Feuil1!A200,"AAAAAF/+6yk=") -> #VALUE! | AQ8: =AND(Feuil1!B200,"AAAAAF/+6yo=") -> #VALUE! | AR8: =AND(Feuil1!C200,"AAAAAF/+6ys=") -> #VALUE! | AS8: =AND(Feuil1!D200,"AAAAAF/+6yw=") -> #VALUE! | AT8: =AND(Feuil1!E200,"AAAAAF/+6y0=") -> #VALUE! | AU8: =IF(Feuil1!201:201,"AAAAAF/+6y4=",0) -> 0 | AV8: =AND(Feuil1!A201,"AAAAAF/+6y8=") -> #VALUE! | AW8: =AND(Feuil1!B201,"AAAAAF/+6zA=") -> #VALUE! | AX8: =AND(Feuil1!C201,"AAAAAF/+6zE=") -> #VALUE! | AY8: =AND(Feuil1!D201,"AAAAAF/+6zI=") -> #VALUE! | AZ8: =AND(Feuil1!E201,"AAAAAF/+6zM=") -> #VALUE! | BA8: =IF(Feuil1!202:202,"AAAAAF/+6zQ=",0) -> 0 | BB8: =AND(Feuil1!A202,"AAAAAF/+6zU=") -> #VALUE! | BC8: =AND(Feuil1!B202,"AAAAAF/+6zY=") -> #VALUE! | BD8: =AND(Feuil1!C202,"AAAAAF/+6zc=") -> #VALUE! | BE8: =AND(Feuil1!D202,"AAAAAF/+6zg=") -> #VALUE! | BF8: =AND(Feuil1!E202,"AAAAAF/+6zk=") -> #VALUE! | BG8: =IF(Feuil1!203:203,"AAAAAF/+6zo=",0) -> 0 | BH8: =AND(Feuil1!A203,"AAAAAF/+6zs=") -> #VALUE! | BI8: =AND(Feuil1!B203,"AAAAAF/+6zw=") -> #VALUE! | BJ8: =AND(Feuil1!C203,"AAAAAF/+6z0=") -> #VALUE! | BK8: =AND(Feuil1!D203,"AAAAAF/+6z4=") -> #VALUE! | BL8: =AND(Feuil1!E203,"AAAAAF/+6z8=") -> #VALUE! | BM8: =IF(Feuil1!204:204,"AAAAAF/+60A=",0) -> 0 | BN8: =AND(Feuil1!A204,"AAAAAF/+60E=") -> #VALUE! | BO8: =AND(Feuil1!B204,"AAAAAF/+60I=") -> #VALUE! | BP8: =AND(Feuil1!C204,"AAAAAF/+60M=") -> #VALUE! | BQ8: =AND(Feuil1!D204,"AAAAAF/+60Q=") -> #VALUE! | BR8: =AND(Feuil1!E204,"AAAAAF/+60U=") -> #VALUE! | BS8: =IF(Feuil1!205:205,"AAAAAF/+60Y=",0) -> 0 | BT8: =AND(Feuil1!A205,"AAAAAF/+60c=") -> #VALUE! | BU8: =AND(Feuil1!B205,"AAAAAF/+60g=") -> #VALUE! | BV8: =AND(Feuil1!C205,"AAAAAF/+60k=") -> #VALUE! | BW8: =AND(Feuil1!D205,"AAAAAF/+60o=") -> #VALUE! | BX8: =AND(Feuil1!E205,"AAAAAF/+60s=") -> #VALUE! | BY8: =IF(Feuil1!206:206,"AAAAAF/+60w=",0) -> 0 | BZ8: =AND(Feuil1!A206,"AAAAAF/+600=") -> #VALUE! | CA8: =AND(Feuil1!B206,"AAAAAF/+604=") -> #VALUE! | CB8: =AND(Feuil1!C206,"AAAAAF/+608=") -> #VALUE! | CC8: =AND(Feuil1!D206,"AAAAAF/+61A=") -> #VALUE! | CD8: =AND(Feuil1!E206,"AAAAAF/+61E=") -> #VALUE! | CE8: =IF(Feuil1!207:207,"AAAAAF/+61I=",0) -> 0 | CF8: =AND(Feuil1!A207,"AAAAAF/+61M=") -> #VALUE! | CG8: =AND(Feuil1!B207,"AAAAAF/+61Q=") -> #VALUE! | CH8: =AND(Feuil1!C207,"AAAAAF/+61U=") -> #VALUE! | CI8: =AND(Feuil1!D207,"AAAAAF/+61Y=") -> #VALUE! | CJ8: =AND(Feuil1!E207,"AAAAAF/+61c=") -> #VALUE! | CK8: =IF(Feuil1!208:208,"AAAAAF/+61g=",0) -> 0 | CL8: =AND(Feuil1!A208,"AAAAAF/+61k=") -> #VALUE! | CM8: =AND(Feuil1!B208,"AAAAAF/+61o=") -> #VALUE! | CN8: =AND(Feuil1!C208,"AAAAAF/+61s=") -> #VALUE! | CO8: =AND(Feuil1!D208,"AAAAAF/+61w=") -> #VALUE! | CP8: =AND(Feuil1!E208,"AAAAAF/+610=") -> #VALUE! | CQ8: =IF(Feuil1!209:209,"AAAAAF/+614=",0) -> 0 | CR8: =AND(Feuil1!A209,"AAAAAF/+618=") -> #VALUE! | CS8: =AND(Feuil1!B209,"AAAAAF/+62A=") -> #VALUE! | CT8: =AND(Feuil1!C209,"AAAAAF/+62E=") -> #VALUE! | CU8: =AND(Feuil1!D209,"AAAAAF/+62I=") -> #VALUE! | CV8: =AND(Feuil1!E209,"AAAAAF/+62M=") -> #VALUE! | CW8: =IF(Feuil1!210:210,"AAAAAF/+62Q=",0) -> 0 | CX8: =AND(Feuil1!A210,"AAAAAF/+62U=") -> #VALUE! | CY8: =AND(Feuil1!B210,"AAAAAF/+62Y=") -> #VALUE! | CZ8: =AND(Feuil1!C210,"AAAAAF/+62c=") -> #VALUE! | DA8: =AND(Feuil1!D210,"AAAAAF/+62g=") -> #VALUE! | DB8: =AND(Feuil1!E210,"AAAAAF/+62k=") -> #VALUE! | DC8: =IF(Feuil1!211:211,"AAAAAF/+62o=",0) -> 0 | DD8: =AND(Feuil1!A211,"AAAAAF/+62s=") -> #VALUE! | DE8: =AND(Feuil1!B211,"AAAAAF/+62w=") -> #VALUE! | DF8: =AND(Feuil1!C211,"AAAAAF/+620=") -> #VALUE! | DG8: =AND(Feuil1!D211,"AAAAAF/+624=") -> #VALUE! | DH8: =AND(Feuil1!E211,"AAAAAF/+628=") -> #VALUE! | DI8: =IF(Feuil1!212:212,"AAAAAF/+63A=",0) -> 0 | DJ8: =AND(Feuil1!A212,"AAAAAF/+63E=") -> #VALUE! | DK8: =AND(Feuil1!B212,"AAAAAF/+63I=") -> #VALUE! | DL8: =AND(Feuil1!C212,"AAAAAF/+63M=") -> #VALUE! | DM8: =AND(Feuil1!D212,"AAAAAF/+63Q=") -> #VALUE! | DN8: =AND(Feuil1!E212,"AAAAAF/+63U=") -> #VALUE! | DO8: =IF(Feuil1!213:213,"AAAAAF/+63Y=",0) -> 0 | DP8: =AND(Feuil1!A213,"AAAAAF/+63c=") -> #VALUE! | DQ8: =AND(Feuil1!B213,"AAAAAF/+63g=") -> #VALUE! | DR8: =AND(Feuil1!C213,"AAAAAF/+63k=") -> #VALUE! | DS8: =AND(Feuil1!D213,"AAAAAF/+63o=") -> #VALUE! | DT8: =AND(Feuil1!E213,"AAAAAF/+63s=") -> #VALUE! | DU8: =IF(Feuil1!214:214,"AAAAAF/+63w=",0) -> 0 | DV8: =AND(Feuil1!A214,"AAAAAF/+630=") -> #VALUE! | DW8: =AND(Feuil1!B214,"AAAAAF/+634=") -> #VALUE! | DX8: =AND(Feuil1!C214,"AAAAAF/+638=") -> #VALUE! | DY8: =AND(Feuil1!D214,"AAAAAF/+64A=") -> #VALUE! | DZ8: =AND(Feuil1!E214,"AAAAAF/+64E=") -> #VALUE! | EA8: =IF(Feuil1!215:215,"AAAAAF/+64I=",0) -> 0 | EB8: =AND(Feuil1!A215,"AAAAAF/+64M=") -> #VALUE! | EC8: =AND(Feuil1!B215,"AAAAAF/+64Q=") -> #VALUE! | ED8: =AND(Feuil1!C215,"AAAAAF/+64U=") -> #VALUE! | EE8: =AND(Feuil1!D215,"AAAAAF/+64Y=") -> #VALUE! | EF8: =AND(Feuil1!E215,"AAAAAF/+64c=") -> #VALUE! | EG8: =IF(Feuil1!216:216,"AAAAAF/+64g=",0) -> 0 | EH8: =AND(Feuil1!A216,"AAAAAF/+64k=") -> #VALUE! | EI8: =AND(Feuil1!B216,"AAAAAF/+64o=") -> #VALUE! | EJ8: =AND(Feuil1!C216,"AAAAAF/+64s=") -> #VALUE! | EK8: =AND(Feuil1!D216,"AAAAAF/+64w=") -> #VALUE! | EL8: =AND(Feuil1!E216,"AAAAAF/+640=") -> #VALUE! | EM8: =IF(Feuil1!217:217,"AAAAAF/+644=",0) -> 0 | EN8: =AND(Feuil1!A217,"AAAAAF/+648=") -> #VALUE! | EO8: =AND(Feuil1!B217,"AAAAAF/+65A=") -> #VALUE! | EP8: =AND(Feuil1!C217,"AAAAAF/+65E=") -> #VALUE! | EQ8: =AND(Feuil1!D217,"AAAAAF/+65I=") -> #VALUE! | ER8: =AND(Feuil1!E217,"AAAAAF/+65M=") -> #VALUE! | ES8: =IF(Feuil1!218:218,"AAAAAF/+65Q=",0) -> 0 | ET8: =AND(Feuil1!A218,"AAAAAF/+65U=") -> #VALUE! | EU8: =AND(Feuil1!B218,"AAAAAF/+65Y=") -> #VALUE! | EV8: =AND(Feuil1!C218,"AAAAAF/+65c=") -> #VALUE! | EW8: =AND(Feuil1!D218,"AAAAAF/+65g=") -> #VALUE! | EX8: =AND(Feuil1!E218,"AAAAAF/+65k=") -> #VALUE! | EY8: =IF(Feuil1!219:219,"AAAAAF/+65o=",0) -> 0 | EZ8: =AND(Feuil1!A219,"AAAAAF/+65s=") -> #VALUE! | FA8: =AND(Feuil1!B219,"AAAAAF/+65w=") -> #VALUE! | FB8: =AND(Feuil1!C219,"AAAAAF/+650=") -> #VALUE! | FC8: =AND(Feuil1!D219,"AAAAAF/+654=") -> #VALUE! | FD8: =AND(Feuil1!E219,"AAAAAF/+658=") -> #VALUE! | FE8: =IF(Feuil1!220:220,"AAAAAF/+66A=",0) -> 0 | FF8: =AND(Feuil1!A220,"AAAAAF/+66E=") -> #VALUE! | FG8: =AND(Feuil1!B220,"AAAAAF/+66I=") -> #VALUE! | FH8: =AND(Feuil1!C220,"AAAAAF/+66M=") -> #VALUE! | FI8: =AND(Feuil1!D220,"AAAAAF/+66Q=") -> #VALUE! | FJ8: =AND(Feuil1!E220,"AAAAAF/+66U=") -> #VALUE! | FK8: =IF(Feuil1!221:221,"AAAAAF/+66Y=",0) -> 0 | FL8: =AND(Feuil1!A221,"AAAAAF/+66c=") -> #VALUE! | FM8: =AND(Feuil1!B221,"AAAAAF/+66g=") -> #VALUE! | FN8: =AND(Feuil1!C221,"AAAAAF/+66k=") -> #VALUE! | FO8: =AND(Feuil1!D221,"AAAAAF/+66o=") -> #VALUE! | FP8: =AND(Feuil1!E221,"AAAAAF/+66s=") -> #VALUE! | FQ8: =IF(Feuil1!222:222,"AAAAAF/+66w=",0) -> 0 | FR8: =AND(Feuil1!A222,"AAAAAF/+660=") -> #VALUE! | FS8: =AND(Feuil1!B222,"AAAAAF/+664=") -> #VALUE! | FT8: =AND(Feuil1!C222,"AAAAAF/+668=") -> #VALUE! | FU8: =AND(Feuil1!D222,"AAAAAF/+67A=") -> #VALUE! | FV8: =AND(Feuil1!E222,"AAAAAF/+67E=") -> #VALUE! | FW8: =IF(Feuil1!223:223,"AAAAAF/+67I=",0) -> 0 | FX8: =AND(Feuil1!A223,"AAAAAF/+67M=") -> #VALUE! | FY8: =AND(Feuil1!B223,"AAAAAF/+67Q=") -> #VALUE! | FZ8: =AND(Feuil1!C223,"AAAAAF/+67U=") -> #VALUE! | GA8: =AND(Feuil1!D223,"AAAAAF/+67Y=") -> #VALUE! | GB8: =AND(Feuil1!E223,"AAAAAF/+67c=") -> #VALUE! | GC8: =IF(Feuil1!224:224,"AAAAAF/+67g=",0) -> 0 | GD8: =AND(Feuil1!A224,"AAAAAF/+67k=") -> #VALUE! | GE8: =AND(Feuil1!B224,"AAAAAF/+67o=") -> #VALUE! | GF8: =AND(Feuil1!C224,"AAAAAF/+67s=") -> #VALUE! | GG8: =AND(Feuil1!D224,"AAAAAF/+67w=") -> #VALUE! | GH8: =AND(Feuil1!E224,"AAAAAF/+670=") -> #VALUE! | GI8: =IF(Feuil1!225:225,"AAAAAF/+674=",0) -> 0 | GJ8: =AND(Feuil1!A225,"AAAAAF/+678=") -> #VALUE! | GK8: =AND(Feuil1!B225,"AAAAAF/+68A=") -> #VALUE! | GL8: =AND(Feuil1!C225,"AAAAAF/+68E=") -> #VALUE! | GM8: =AND(Feuil1!D225,"AAAAAF/+68I=") -> #VALUE! | GN8: =AND(Feuil1!E225,"AAAAAF/+68M=") -> #VALUE! | GO8: =IF(Feuil1!226:226,"AAAAAF/+68Q=",0) -> 0 | GP8: =AND(Feuil1!A226,"AAAAAF/+68U=") -> #VALUE! | GQ8: =AND(Feuil1!B226,"AAAAAF/+68Y=") -> #VALUE! | GR8: =AND(Feuil1!C226,"AAAAAF/+68c=") -> #VALUE! | GS8: =AND(Feuil1!D226,"AAAAAF/+68g=") -> #VALUE! | GT8: =AND(Feuil1!E226,"AAAAAF/+68k=") -> #VALUE! | GU8: =IF(Feuil1!227:227,"AAAAAF/+68o=",0) -> 0 | GV8: =AND(Feuil1!A227,"AAAAAF/+68s=") -> #VALUE! | GW8: =AND(Feuil1!B227,"AAAAAF/+68w=") -> #VALUE! | GX8: =AND(Feuil1!C227,"AAAAAF/+680=") -> #VALUE! | GY8: =AND(Feuil1!D227,"AAAAAF/+684=") -> #VALUE! | GZ8: =AND(Feuil1!E227,"AAAAAF/+688=") -> #VALUE! | HA8: =IF(Feuil1!228:228,"AAAAAF/+69A=",0) -> 0 | HB8: =AND(Feuil1!A228,"AAAAAF/+69E=") -> #VALUE! | HC8: =AND(Feuil1!B228,"AAAAAF/+69I=") -> #VALUE! | HD8: =AND(Feuil1!C228,"AAAAAF/+69M=") -> #VALUE! | HE8: =AND(Feuil1!D228,"AAAAAF/+69Q=") -> #VALUE! | HF8: =AND(Feuil1!E228,"AAAAAF/+69U=") -> #VALUE! | HG8: =IF(Feuil1!229:229,"AAAAAF/+69Y=",0) -> 0 | HH8: =AND(Feuil1!A229,"AAAAAF/+69c=") -> #VALUE! | HI8: =AND(Feuil1!B229,"AAAAAF/+69g=") -> #VALUE! | HJ8: =AND(Feuil1!C229,"AAAAAF/+69k=") -> #VALUE! | HK8: =AND(Feuil1!D229,"AAAAAF/+69o=") -> #VALUE! | HL8: =AND(Feuil1!E229,"AAAAAF/+69s=") -> #VALUE! | HM8: =IF(Feuil1!230:230,"AAAAAF/+69w=",0) -> 0 | HN8: =AND(Feuil1!A230,"AAAAAF/+690=") -> #VALUE! | HO8: =AND(Feuil1!B230,"AAAAAF/+694=") -> #VALUE! | HP8: =AND(Feuil1!C230,"AAAAAF/+698=") -> #VALUE! | HQ8: =AND(Feuil1!D230,"AAAAAF/+6+A=") -> #VALUE! | HR8: =AND(Feuil1!E230,"AAAAAF/+6+E=") -> #VALUE! | HS8: =IF(Feuil1!231:231,"AAAAAF/+6+I=",0) -> 0 | HT8: =AND(Feuil1!A231,"AAAAAF/+6+M=") -> #VALUE! | HU8: =AND(Feuil1!B231,"AAAAAF/+6+Q=") -> #VALUE! | HV8: =AND(Feuil1!C231,"AAAAAF/+6+U=") -> #VALUE! | HW8: =AND(Feuil1!D231,"AAAAAF/+6+Y=") -> #VALUE! | HX8: =AND(Feuil1!E231,"AAAAAF/+6+c=") -> #VALUE! | HY8: =IF(Feuil1!232:232,"AAAAAF/+6+g=",0) -> 0 | HZ8: =AND(Feuil1!A232,"AAAAAF/+6+k=") -> #VALUE! | IA8: =AND(Feuil1!B232,"AAAAAF/+6+o=") -> #VALUE! | IB8: =AND(Feuil1!C232,"AAAAAF/+6+s=") -> #VALUE! | IC8: =AND(Feuil1!D232,"AAAAAF/+6+w=") -> #VALUE! | ID8: =AND(Feuil1!E232,"AAAAAF/+6+0=") -> #VALUE! | IE8: =IF(Feuil1!233:233,"AAAAAF/+6+4=",0) -> 0 | IF8: =AND(Feuil1!A233,"AAAAAF/+6+8=") -> #VALUE! | IG8: =AND(Feuil1!B233,"AAAAAF/+6/A=") -> #VALUE! | IH8: =AND(Feuil1!C233,"AAAAAF/+6/E=") -> #VALUE! | II8: =AND(Feuil1!D233,"AAAAAF/+6/I=") -> #VALUE! | IJ8: =AND(Feuil1!E233,"AAAAAF/+6/M=") -> #VALUE! | IK8: =IF(Feuil1!234:234,"AAAAAF/+6/Q=",0) -> 0 | IL8: =AND(Feuil1!A234,"AAAAAF/+6/U=") -> #VALUE! | IM8: =AND(Feuil1!B234,"AAAAAF/+6/Y=") -> #VALUE! | IN8: =AND(Feuil1!C234,"AAAAAF/+6/c=") -> #VALUE! | IO8: =AND(Feuil1!D234,"AAAAAF/+6/g=") -> #VALUE! | IP8: =AND(Feuil1!E234,"AAAAAF/+6/k=") -> #VALUE! | IQ8: =IF(Feuil1!235:235,"AAAAAF/+6/o=",0) -> 0 | IR8: =AND(Feuil1!A235,"AAAAAF/+6/s=") -> #VALUE! | IS8: =AND(Feuil1!B235,"AAAAAF/+6/w=") -> #VALUE! | IT8: =AND(Feuil1!C235,"AAAAAF/+6/0=") -> #VALUE! | IU8: =AND(Feuil1!D235,"AAAAAF/+6/4=") -> #VALUE! | IV8: =AND(Feuil1!E235,"AAAAAF/+6/8=") -> #VALUE!
A9: =IF(Feuil1!236:236,"AAAAAF5+XwA=",0) -> 0 | B9: =AND(Feuil1!A236,"AAAAAF5+XwE=") -> #VALUE! | C9: =AND(Feuil1!B236,"AAAAAF5+XwI=") -> #VALUE! | D9: =AND(Feuil1!C236,"AAAAAF5+XwM=") -> #VALUE! | E9: =AND(Feuil1!D236,"AAAAAF5+XwQ=") -> #VALUE! | F9: =AND(Feuil1!E236,"AAAAAF5+XwU=") -> #VALUE! | G9: =IF(Feuil1!237:237,"AAAAAF5+XwY=",0) -> 0 | H9: =AND(Feuil1!A237,"AAAAAF5+Xwc=") -> #VALUE! | I9: =AND(Feuil1!B237,"AAAAAF5+Xwg=") -> #VALUE! | J9: =AND(Feuil1!C237,"AAAAAF5+Xwk=") -> #VALUE! | K9: =AND(Feuil1!D237,"AAAAAF5+Xwo=") -> #VALUE! | L9: =AND(Feuil1!E237,"AAAAAF5+Xws=") -> #VALUE! | M9: =IF(Feuil1!238:238,"AAAAAF5+Xww=",0) -> 0 | N9: =AND(Feuil1!A238,"AAAAAF5+Xw0=") -> #VALUE! | O9: =AND(Feuil1!B238,"AAAAAF5+Xw4=") -> #VALUE! | P9: =AND(Feuil1!C238,"AAAAAF5+Xw8=") -> #VALUE! | Q9: =AND(Feuil1!D238,"AAAAAF5+XxA=") -> #VALUE! | R9: =AND(Feuil1!E238,"AAAAAF5+XxE=") -> #VALUE! | S9: =IF(Feuil1!239:239,"AAAAAF5+XxI=",0) -> 0 | T9: =AND(Feuil1!A239,"AAAAAF5+XxM=") -> #VALUE! | U9: =AND(Feuil1!B239,"AAAAAF5+XxQ=") -> #VALUE! | V9: =AND(Feuil1!C239,"AAAAAF5+XxU=") -> #VALUE! | W9: =AND(Feuil1!D239,"AAAAAF5+XxY=") -> #VALUE! | X9: =AND(Feuil1!E239,"AAAAAF5+Xxc=") -> #VALUE! | Y9: =IF(Feuil1!240:240,"AAAAAF5+Xxg=",0) -> 0 | Z9: =AND(Feuil1!A240,"AAAAAF5+Xxk=") -> #VALUE! | AA9: =AND(Feuil1!B240,"AAAAAF5+Xxo=") -> #VALUE! | AB9: =AND(Feuil1!C240,"AAAAAF5+Xxs=") -> #VALUE! | AC9: =AND(Feuil1!D240,"AAAAAF5+Xxw=") -> #VALUE! | AD9: =AND(Feuil1!E240,"AAAAAF5+Xx0=") -> #VALUE! | AE9: =IF(Feuil1!241:241,"AAAAAF5+Xx4=",0) -> 0 | AF9: =AND(Feuil1!A241,"AAAAAF5+Xx8=") -> #VALUE! | AG9: =AND(Feuil1!B241,"AAAAAF5+XyA=") -> #VALUE! | AH9: =AND(Feuil1!C241,"AAAAAF5+XyE=") -> #VALUE! | AI9: =AND(Feuil1!D241,"AAAAAF5+XyI=") -> #VALUE! | AJ9: =AND(Feuil1!E241,"AAAAAF5+XyM=") -> #VALUE! | AK9: =IF(Feuil1!242:242,"AAAAAF5+XyQ=",0) -> 0 | AL9: =AND(Feuil1!A242,"AAAAAF5+XyU=") -> #VALUE! | AM9: =AND(Feuil1!B242,"AAAAAF5+XyY=") -> #VALUE! | AN9: =AND(Feuil1!C242,"AAAAAF5+Xyc=") -> #VALUE! | AO9: =AND(Feuil1!D242,"AAAAAF5+Xyg=") -> #VALUE! | AP9: =AND(Feuil1!E242,"AAAAAF5+Xyk=") -> #VALUE! | AQ9: =IF(Feuil1!243:243,"AAAAAF5+Xyo=",0) -> 0 | AR9: =AND(Feuil1!A243,"AAAAAF5+Xys=") -> #VALUE! | AS9: =AND(Feuil1!B243,"AAAAAF5+Xyw=") -> #VALUE! | AT9: =AND(Feuil1!C243,"AAAAAF5+Xy0=") -> #VALUE! | AU9: =AND(Feuil1!D243,"AAAAAF5+Xy4=") -> #VALUE! | AV9: =AND(Feuil1!E243,"AAAAAF5+Xy8=") -> #VALUE! | AW9: =IF(Feuil1!244:244,"AAAAAF5+XzA=",0) -> 0 | AX9: =AND(Feuil1!A244,"AAAAAF5+XzE=") -> #VALUE! | AY9: =AND(Feuil1!B244,"AAAAAF5+XzI=") -> #VALUE! | AZ9: =AND(Feuil1!C244,"AAAAAF5+XzM=") -> #VALUE! | BA9: =AND(Feuil1!D244,"AAAAAF5+XzQ=") -> #VALUE! | BB9: =AND(Feuil1!E244,"AAAAAF5+XzU=") -> #VALUE! | BC9: =IF(Feuil1!245:245,"AAAAAF5+XzY=",0) -> 0 | BD9: =AND(Feuil1!A245,"AAAAAF5+Xzc=") -> #VALUE! | BE9: =AND(Feuil1!B245,"AAAAAF5+Xzg=") -> #VALUE! | BF9: =AND(Feuil1!C245,"AAAAAF5+Xzk=") -> #VALUE! | BG9: =AND(Feuil1!D245,"AAAAAF5+Xzo=") -> #VALUE! | BH9: =AND(Feuil1!E245,"AAAAAF5+Xzs=") -> #VALUE! | BI9: =IF(Feuil1!246:246,"AAAAAF5+Xzw=",0) -> 0 | BJ9: =AND(Feuil1!A246,"AAAAAF5+Xz0=") -> #VALUE! | BK9: =AND(Feuil1!B246,"AAAAAF5+Xz4=") -> #VALUE! | BL9: =AND(Feuil1!C246,"AAAAAF5+Xz8=") -> #VALUE! | BM9: =AND(Feuil1!D246,"AAAAAF5+X0A=") -> #VALUE! | BN9: =AND(Feuil1!E246,"AAAAAF5+X0E=") -> #VALUE! | BO9: =IF(Feuil1!247:247,"AAAAAF5+X0I=",0) -> 0 | BP9: =AND(Feuil1!A247,"AAAAAF5+X0M=") -> #VALUE! | BQ9: =AND(Feuil1!B247,"AAAAAF5+X0Q=") -> #VALUE! | BR9: =AND(Feuil1!C247,"AAAAAF5+X0U=") -> #VALUE! | BS9: =AND(Feuil1!D247,"AAAAAF5+X0Y=") -> #VALUE! | BT9: =AND(Feuil1!E247,"AAAAAF5+X0c=") -> #VALUE! | BU9: =IF(Feuil1!248:248,"AAAAAF5+X0g=",0) -> 0 | BV9: =AND(Feuil1!A248,"AAAAAF5+X0k=") -> #VALUE! | BW9: =AND(Feuil1!B248,"AAAAAF5+X0o=") -> #VALUE! | BX9: =AND(Feuil1!C248,"AAAAAF5+X0s=") -> #VALUE! | BY9: =AND(Feuil1!D248,"AAAAAF5+X0w=") -> #VALUE! | BZ9: =AND(Feuil1!E248,"AAAAAF5+X00=") -> #VALUE! | CA9: =IF(Feuil1!249:249,"AAAAAF5+X04=",0) -> 0 | CB9: =AND(Feuil1!A249,"AAAAAF5+X08=") -> #VALUE! | CC9: =AND(Feuil1!B249,"AAAAAF5+X1A=") -> #VALUE! | CD9: =AND(Feuil1!C249,"AAAAAF5+X1E=") -> #VALUE! | CE9: =AND(Feuil1!D249,"AAAAAF5+X1I=") -> #VALUE! | CF9: =AND(Feuil1!E249,"AAAAAF5+X1M=") -> #VALUE! | CG9: =IF(Feuil1!250:250,"AAAAAF5+X1Q=",0) -> 0 | CH9: =AND(Feuil1!A250,"AAAAAF5+X1U=") -> #VALUE! | CI9: =AND(Feuil1!B250,"AAAAAF5+X1Y=") -> #VALUE! | CJ9: =AND(Feuil1!C250,"AAAAAF5+X1c=") -> #VALUE! | CK9: =AND(Feuil1!D250,"AAAAAF5+X1g=") -> #VALUE! | CL9: =AND(Feuil1!E250,"AAAAAF5+X1k=") -> #VALUE! | CM9: =IF(Feuil1!251:251,"AAAAAF5+X1o=",0) -> 0 | CN9: =AND(Feuil1!A251,"AAAAAF5+X1s=") -> #VALUE! | CO9: =AND(Feuil1!B251,"AAAAAF5+X1w=") -> #VALUE! | CP9: =AND(Feuil1!C251,"AAAAAF5+X10=") -> #VALUE! | CQ9: =AND(Feuil1!D251,"AAAAAF5+X14=") -> #VALUE! | CR9: =AND(Feuil1!E251,"AAAAAF5+X18=") -> #VALUE! | CS9: =IF(Feuil1!252:252,"AAAAAF5+X2A=",0) -> 0 | CT9: =AND(Feuil1!A252,"AAAAAF5+X2E=") -> #VALUE! | CU9: =AND(Feuil1!B252,"AAAAAF5+X2I=") -> #VALUE! | CV9: =AND(Feuil1!C252,"AAAAAF5+X2M=") -> #VALUE! | CW9: =AND(Feuil1!D252,"AAAAAF5+X2Q=") -> #VALUE! | CX9: =AND(Feuil1!E252,"AAAAAF5+X2U=") -> #VALUE! | CY9: =IF(Feuil1!253:253,"AAAAAF5+X2Y=",0) -> 0 | CZ9: =AND(Feuil1!A253,"AAAAAF5+X2c=") -> #VALUE! | DA9: =AND(Feuil1!B253,"AAAAAF5+X2g=") -> #VALUE! | DB9: =AND(Feuil1!C253,"AAAAAF5+X2k=") -> #VALUE! | DC9: =AND(Feuil1!D253,"AAAAAF5+X2o=") -> #VALUE! | DD9: =AND(Feuil1!E253,"AAAAAF5+X2s=") -> #VALUE! | DE9: =IF(Feuil1!254:254,"AAAAAF5+X2w=",0) -> 0 | DF9: =AND(Feuil1!A254,"AAAAAF5+X20=") -> #VALUE! | DG9: =AND(Feuil1!B254,"AAAAAF5+X24=") -> #VALUE! | DH9: =AND(Feuil1!C254,"AAAAAF5+X28=") -> #VALUE! | DI9: =AND(Feuil1!D254,"AAAAAF5+X3A=") -> #VALUE! | DJ9: =AND(Feuil1!E254,"AAAAAF5+X3E=") -> #VALUE! | DK9: =IF(Feuil1!255:255,"AAAAAF5+X3I=",0) -> 0 | DL9: =AND(Feuil1!A255,"AAAAAF5+X3M=") -> #VALUE! | DM9: =AND(Feuil1!B255,"AAAAAF5+X3Q=") -> #VALUE! | DN9: =AND(Feuil1!C255,"AAAAAF5+X3U=") -> #VALUE! | DO9: =AND(Feuil1!D255,"AAAAAF5+X3Y=") -> #VALUE! | DP9: =AND(Feuil1!E255,"AAAAAF5+X3c=") -> #VALUE! | DQ9: =IF(Feuil1!256:256,"AAAAAF5+X3g=",0) -> 0 | DR9: =AND(Feuil1!A256,"AAAAAF5+X3k=") -> #VALUE! | DS9: =AND(Feuil1!B256,"AAAAAF5+X3o=") -> #VALUE! | DT9: =AND(Feuil1!C256,"AAAAAF5+X3s=") -> #VALUE! | DU9: =AND(Feuil1!D256,"AAAAAF5+X3w=") -> #VALUE! | DV9: =AND(Feuil1!E256,"AAAAAF5+X30=") -> #VALUE! | DW9: =IF(Feuil1!257:257,"AAAAAF5+X34=",0) -> 0 | DX9: =AND(Feuil1!A257,"AAAAAF5+X38=") -> #VALUE! | DY9: =AND(Feuil1!B257,"AAAAAF5+X4A=") -> #VALUE! | DZ9: =AND(Feuil1!C257,"AAAAAF5+X4E=") -> #VALUE! | EA9: =AND(Feuil1!D257,"AAAAAF5+X4I=") -> #VALUE! | EB9: =AND(Feuil1!E257,"AAAAAF5+X4M=") -> #VALUE! | EC9: =IF(Feuil1!258:258,"AAAAAF5+X4Q=",0) -> 0 | ED9: =AND(Feuil1!A258,"AAAAAF5+X4U=") -> #VALUE! | EE9: =AND(Feuil1!B258,"AAAAAF5+X4Y=") -> #VALUE! | EF9: =AND(Feuil1!C258,"AAAAAF5+X4c=") -> #VALUE! | EG9: =AND(Feuil1!D258,"AAAAAF5+X4g=") -> #VALUE! | EH9: =AND(Feuil1!E258,"AAAAAF5+X4k=") -> #VALUE! | EI9: =IF(Feuil1!259:259,"AAAAAF5+X4o=",0) -> 0 | EJ9: =AND(Feuil1!A259,"AAAAAF5+X4s=") -> #VALUE! | EK9: =AND(Feuil1!B259,"AAAAAF5+X4w=") -> #VALUE! | EL9: =AND(Feuil1!C259,"AAAAAF5+X40=") -> #VALUE! | EM9: =AND(Feuil1!D259,"AAAAAF5+X44=") -> #VALUE! | EN9: =AND(Feuil1!E259,"AAAAAF5+X48=") -> #VALUE! | EO9: =IF(Feuil1!260:260,"AAAAAF5+X5A=",0) -> 0 | EP9: =AND(Feuil1!A260,"AAAAAF5+X5E=") -> #VALUE! | EQ9: =AND(Feuil1!B260,"AAAAAF5+X5I=") -> #VALUE! | ER9: =AND(Feuil1!C260,"AAAAAF5+X5M=") -> #VALUE! | ES9: =AND(Feuil1!D260,"AAAAAF5+X5Q=") -> #VALUE! | ET9: =AND(Feuil1!E260,"AAAAAF5+X5U=") -> #VALUE! | EU9: =IF(Feuil1!261:261,"AAAAAF5+X5Y=",0) -> 0 | EV9: =AND(Feuil1!A261,"AAAAAF5+X5c=") -> #VALUE! | EW9: =AND(Feuil1!B261,"AAAAAF5+X5g=") -> #VALUE! | EX9: =AND(Feuil1!C261,"AAAAAF5+X5k=") -> #VALUE! | EY9: =AND(Feuil1!D261,"AAAAAF5+X5o=") -> #VALUE! | EZ9: =AND(Feuil1!E261,"AAAAAF5+X5s=") -> #VALUE! | FA9: =IF(Feuil1!262:262,"AAAAAF5+X5w=",0) -> 0 | FB9: =AND(Feuil1!A262,"AAAAAF5+X50=") -> #VALUE! | FC9: =AND(Feuil1!B262,"AAAAAF5+X54=") -> #VALUE! | FD9: =AND(Feuil1!C262,"AAAAAF5+X58=") -> #VALUE! | FE9: =AND(Feuil1!D262,"AAAAAF5+X6A=") -> #VALUE! | FF9: =AND(Feuil1!E262,"AAAAAF5+X6E=") -> #VALUE! | FG9: =IF(Feuil1!263:263,"AAAAAF5+X6I=",0) -> 0 | FH9: =AND(Feuil1!A263,"AAAAAF5+X6M=") -> #VALUE! | FI9: =AND(Feuil1!B263,"AAAAAF5+X6Q=") -> #VALUE! | FJ9: =AND(Feuil1!C263,"AAAAAF5+X6U=") -> #VALUE! | FK9: =AND(Feuil1!D263,"AAAAAF5+X6Y=") -> #VALUE! | FL9: =AND(Feuil1!E263,"AAAAAF5+X6c=") -> #VALUE! | FM9: =IF(Feuil1!264:264,"AAAAAF5+X6g=",0) -> 0 | FN9: =AND(Feuil1!A264,"AAAAAF5+X6k=") -> #VALUE! | FO9: =AND(Feuil1!B264,"AAAAAF5+X6o=") -> #VALUE! | FP9: =AND(Feuil1!C264,"AAAAAF5+X6s=") -> #VALUE! | FQ9: =AND(Feuil1!D264,"AAAAAF5+X6w=") -> #VALUE! | FR9: =AND(Feuil1!E264,"AAAAAF5+X60=") -> #VALUE! | FS9: =IF(Feuil1!265:265,"AAAAAF5+X64=",0) -> 0 | FT9: =AND(Feuil1!A265,"AAAAAF5+X68=") -> #VALUE! | FU9: =AND(Feuil1!B265,"AAAAAF5+X7A=") -> #VALUE! | FV9: =AND(Feuil1!C265,"AAAAAF5+X7E=") -> #VALUE! | FW9: =AND(Feuil1!D265,"AAAAAF5+X7I=") -> #VALUE! | FX9: =AND(Feuil1!E265,"AAAAAF5+X7M=") -> #VALUE! | FY9: =IF(Feuil1!266:266,"AAAAAF5+X7Q=",0) -> 0 | FZ9: =AND(Feuil1!A266,"AAAAAF5+X7U=") -> #VALUE! | GA9: =AND(Feuil1!B266,"AAAAAF5+X7Y=") -> #VALUE! | GB9: =AND(Feuil1!C266,"AAAAAF5+X7c=") -> #VALUE! | GC9: =AND(Feuil1!D266,"AAAAAF5+X7g=") -> #VALUE! | GD9: =AND(Feuil1!E266,"AAAAAF5+X7k=") -> #VALUE! | GE9: =IF(Feuil1!267:267,"AAAAAF5+X7o=",0) -> 0 | GF9: =AND(Feuil1!A267,"AAAAAF5+X7s=") -> #VALUE! | GG9: =AND(Feuil1!B267,"AAAAAF5+X7w=") -> #VALUE! | GH9: =AND(Feuil1!C267,"AAAAAF5+X70=") -> #VALUE! | GI9: =AND(Feuil1!D267,"AAAAAF5+X74=") -> #VALUE! | GJ9: =AND(Feuil1!E267,"AAAAAF5+X78=") -> #VALUE! | GK9: =IF(Feuil1!268:268,"AAAAAF5+X8A=",0) -> 0 | GL9: =AND(Feuil1!A268,"AAAAAF5+X8E=") -> #VALUE! | GM9: =AND(Feuil1!B268,"AAAAAF5+X8I=") -> #VALUE! | GN9: =AND(Feuil1!C268,"AAAAAF5+X8M=") -> #VALUE! | GO9: =AND(Feuil1!D268,"AAAAAF5+X8Q=") -> #VALUE! | GP9: =AND(Feuil1!E268,"AAAAAF5+X8U=") -> #VALUE! | GQ9: =IF(Feuil1!269:269,"AAAAAF5+X8Y=",0) -> 0 | GR9: =AND(Feuil1!A269,"AAAAAF5+X8c=") -> #VALUE! | GS9: =AND(Feuil1!B269,"AAAAAF5+X8g=") -> #VALUE! | GT9: =AND(Feuil1!C269,"AAAAAF5+X8k=") -> #VALUE! | GU9: =AND(Feuil1!D269,"AAAAAF5+X8o=") -> #VALUE! | GV9: =AND(Feuil1!E269,"AAAAAF5+X8s=") -> #VALUE! | GW9: =IF(Feuil1!270:270,"AAAAAF5+X8w=",0) -> 0 | GX9: =AND(Feuil1!A270,"AAAAAF5+X80=") -> #VALUE! | GY9: =AND(Feuil1!B270,"AAAAAF5+X84=") -> #VALUE! | GZ9: =AND(Feuil1!C270,"AAAAAF5+X88=") -> #VALUE! | HA9: =AND(Feuil1!D270,"AAAAAF5+X9A=") -> #VALUE! | HB9: =AND(Feuil1!E270,"AAAAAF5+X9E=") -> #VALUE! | HC9: =IF(Feuil1!271:271,"AAAAAF5+X9I=",0) -> 0 | HD9: =AND(Feuil1!A271,"AAAAAF5+X9M=") -> #VALUE! | HE9: =AND(Feuil1!B271,"AAAAAF5+X9Q=") -> #VALUE! | HF9: =AND(Feuil1!C271,"AAAAAF5+X9U=") -> #VALUE! | HG9: =AND(Feuil1!D271,"AAAAAF5+X9Y=") -> #VALUE! | HH9: =AND(Feuil1!E271,"AAAAAF5+X9c=") -> #VALUE! | HI9: =IF(Feuil1!272:272,"AAAAAF5+X9g=",0) -> 0 | HJ9: =AND(Feuil1!A272,"AAAAAF5+X9k=") -> #VALUE! | HK9: =AND(Feuil1!B272,"AAAAAF5+X9o=") -> #VALUE! | HL9: =AND(Feuil1!C272,"AAAAAF5+X9s=") -> #VALUE! | HM9: =AND(Feuil1!D272,"AAAAAF5+X9w=") -> #VALUE! | HN9: =AND(Feuil1!E272,"AAAAAF5+X90=") -> #VALUE! | HO9: =IF(Feuil1!273:273,"AAAAAF5+X94=",0) -> 0 | HP9: =AND(Feuil1!A273,"AAAAAF5+X98=") -> #VALUE! | HQ9: =AND(Feuil1!B273,"AAAAAF5+X+A=") -> #VALUE! | HR9: =AND(Feuil1!C273,"AAAAAF5+X+E=") -> #VALUE! | HS9: =AND(Feuil1!D273,"AAAAAF5+X+I=") -> #VALUE! | HT9: =AND(Feuil1!E273,"AAAAAF5+X+M=") -> #VALUE! | HU9: =IF(Feuil1!274:274,"AAAAAF5+X+Q=",0) -> 0 | HV9: =AND(Feuil1!A274,"AAAAAF5+X+U=") -> #VALUE! | HW9: =AND(Feuil1!B274,"AAAAAF5+X+Y=") -> #VALUE! | HX9: =AND(Feuil1!C274,"AAAAAF5+X+c=") -> #VALUE! | HY9: =AND(Feuil1!D274,"AAAAAF5+X+g=") -> #VALUE! | HZ9: =AND(Feuil1!E274,"AAAAAF5+X+k=") -> #VALUE! | IA9: =IF(Feuil1!275:275,"AAAAAF5+X+o=",0) -> 0 | IB9: =AND(Feuil1!A275,"AAAAAF5+X+s=") -> #VALUE! | IC9: =AND(Feuil1!B275,"AAAAAF5+X+w=") -> #VALUE! | ID9: =AND(Feuil1!C275,"AAAAAF5+X+0=") -> #VALUE! | IE9: =AND(Feuil1!D275,"AAAAAF5+X+4=") -> #VALUE! | IF9: =AND(Feuil1!E275,"AAAAAF5+X+8=") -> #VALUE! | IG9: =IF(Feuil1!276:276,"AAAAAF5+X/A=",0) -> 0 | IH9: =AND(Feuil1!A276,"AAAAAF5+X/E=") -> #VALUE! | II9: =AND(Feuil1!B276,"AAAAAF5+X/I=") -> #VALUE! | IJ9: =AND(Feuil1!C276,"AAAAAF5+X/M=") -> #VALUE! | IK9: =AND(Feuil1!D276,"AAAAAF5+X/Q=") -> #VALUE! | IL9: =AND(Feuil1!E276,"AAAAAF5+X/U=") -> #VALUE! | IM9: =IF(Feuil1!277:277,"AAAAAF5+X/Y=",0) -> 0 | IN9: =AND(Feuil1!A277,"AAAAAF5+X/c=") -> #VALUE! | IO9: =AND(Feuil1!B277,"AAAAAF5+X/g=") -> #VALUE! | IP9: =AND(Feuil1!C277,"AAAAAF5+X/k=") -> #VALUE! | IQ9: =AND(Feuil1!D277,"AAAAAF5+X/o=") -> #VALUE! | IR9: =AND(Feuil1!E277,"AAAAAF5+X/s=") -> #VALUE! | IS9: =IF(Feuil1!278:278,"AAAAAF5+X/w=",0) -> 0 | IT9: =AND(Feuil1!A278,"AAAAAF5+X/0=") -> #VALUE! | IU9: =AND(Feuil1!B278,"AAAAAF5+X/4=") -> #VALUE! | IV9: =AND(Feuil1!C278,"AAAAAF5+X/8=") -> #VALUE!
A10: =AND(Feuil1!D278,"AAAAAG/4+wA=") -> #VALUE! | B10: =AND(Feuil1!E278,"AAAAAG/4+wE=") -> #VALUE! | C10: =IF(Feuil1!279:279,"AAAAAG/4+wI=",0) -> 0 | D10: =AND(Feuil1!A279,"AAAAAG/4+wM=") -> #VALUE! | E10: =AND(Feuil1!B279,"AAAAAG/4+wQ=") -> #VALUE! | F10: =AND(Feuil1!C279,"AAAAAG/4+wU=") -> #VALUE! | G10: =AND(Feuil1!D279,"AAAAAG/4+wY=") -> #VALUE! | H10: =AND(Feuil1!E279,"AAAAAG/4+wc=") -> #VALUE! | I10: =IF(Feuil1!280:280,"AAAAAG/4+wg=",0) -> 0 | J10: =AND(Feuil1!A280,"AAAAAG/4+wk=") -> #VALUE! | K10: =AND(Feuil1!B280,"AAAAAG/4+wo=") -> #VALUE! | L10: =AND(Feuil1!C280,"AAAAAG/4+ws=") -> #VALUE! | M10: =AND(Feuil1!D280,"AAAAAG/4+ww=") -> #VALUE! | N10: =AND(Feuil1!E280,"AAAAAG/4+w0=") -> #VALUE! | O10: =IF(Feuil1!281:281,"AAAAAG/4+w4=",0) -> 0 | P10: =AND(Feuil1!A281,"AAAAAG/4+w8=") -> #VALUE! | Q10: =AND(Feuil1!B281,"AAAAAG/4+xA=") -> #VALUE! | R10: =AND(Feuil1!C281,"AAAAAG/4+xE=") -> #VALUE! | S10: =AND(Feuil1!D281,"AAAAAG/4+xI=") -> #VALUE! | T10: =AND(Feuil1!E281,"AAAAAG/4+xM=") -> #VALUE! | U10: =IF(Feuil1!282:282,"AAAAAG/4+xQ=",0) -> 0 | V10: =AND(Feuil1!A282,"AAAAAG/4+xU=") -> #VALUE! | W10: =AND(Feuil1!B282,"AAAAAG/4+xY=") -> #VALUE! | X10: =AND(Feuil1!C282,"AAAAAG/4+xc=") -> #VALUE! | Y10: =AND(Feuil1!D282,"AAAAAG/4+xg=") -> #VALUE! | Z10: =AND(Feuil1!E282,"AAAAAG/4+xk=") -> #VALUE! | AA10: =IF(Feuil1!283:283,"AAAAAG/4+xo=",0) -> 0 | AB10: =AND(Feuil1!A283,"AAAAAG/4+xs=") -> #VALUE! | AC10: =AND(Feuil1!B283,"AAAAAG/4+xw=") -> #VALUE! | AD10: =AND(Feuil1!C283,"AAAAAG/4+x0=") -> #VALUE! | AE10: =AND(Feuil1!D283,"AAAAAG/4+x4=") -> #VALUE! | AF10: =AND(Feuil1!E283,"AAAAAG/4+x8=") -> #VALUE! | AG10: =IF(Feuil1!284:284,"AAAAAG/4+yA=",0) -> 0 | AH10: =AND(Feuil1!A284,"AAAAAG/4+yE=") -> #VALUE! | AI10: =AND(Feuil1!B284,"AAAAAG/4+yI=") -> #VALUE! | AJ10: =AND(Feuil1!C284,"AAAAAG/4+yM=") -> #VALUE! | AK10: =AND(Feuil1!D284,"AAAAAG/4+yQ=") -> #VALUE! | AL10: =AND(Feuil1!E284,"AAAAAG/4+yU=") -> #VALUE! | AM10: =IF(Feuil1!285:285,"AAAAAG/4+yY=",0) -> 0 | AN10: =AND(Feuil1!A285,"AAAAAG/4+yc=") -> #VALUE! | AO10: =AND(Feuil1!B285,"AAAAAG/4+yg=") -> #VALUE! | AP10: =AND(Feuil1!C285,"AAAAAG/4+yk=") -> #VALUE! | AQ10: =AND(Feuil1!D285,"AAAAAG/4+yo=") -> #VALUE! | AR10: =AND(Feuil1!E285,"AAAAAG/4+ys=") -> #VALUE! | AS10: =IF(Feuil1!286:286,"AAAAAG/4+yw=",0) -> 0 | AT10: =AND(Feuil1!A286,"AAAAAG/4+y0=") -> #VALUE! | AU10: =AND(Feuil1!B286,"AAAAAG/4+y4=") -> #VALUE! | AV10: =AND(Feuil1!C286,"AAAAAG/4+y8=") -> #VALUE! | AW10: =AND(Feuil1!D286,"AAAAAG/4+zA=") -> #VALUE! | AX10: =AND(Feuil1!E286,"AAAAAG/4+zE=") -> #VALUE! | AY10: =IF(Feuil1!287:287,"AAAAAG/4+zI=",0) -> 0 | AZ10: =AND(Feuil1!A287,"AAAAAG/4+zM=") -> #VALUE! | BA10: =AND(Feuil1!B287,"AAAAAG/4+zQ=") -> #VALUE! | BB10: =AND(Feuil1!C287,"AAAAAG/4+zU=") -> #VALUE! | BC10: =AND(Feuil1!D287,"AAAAAG/4+zY=") -> #VALUE! | BD10: =AND(Feuil1!E287,"AAAAAG/4+zc=") -> #VALUE! | BE10: =IF(Feuil1!288:288,"AAAAAG/4+zg=",0) -> 0 | BF10: =AND(Feuil1!A288,"AAAAAG/4+zk=") -> #VALUE! | BG10: =AND(Feuil1!B288,"AAAAAG/4+zo=") -> #VALUE! | BH10: =AND(Feuil1!C288,"AAAAAG/4+zs=") -> #VALUE! | BI10: =AND(Feuil1!D288,"AAAAAG/4+zw=") -> #VALUE! | BJ10: =AND(Feuil1!E288,"AAAAAG/4+z0=") -> #VALUE! | BK10: =IF(Feuil1!289:289,"AAAAAG/4+z4=",0) -> 0 | BL10: =AND(Feuil1!A289,"AAAAAG/4+z8=") -> #VALUE! | BM10: =AND(Feuil1!B289,"AAAAAG/4+0A=") -> #VALUE! | BN10: =AND(Feuil1!C289,"AAAAAG/4+0E=") -> #VALUE! | BO10: =AND(Feuil1!D289,"AAAAAG/4+0I=") -> #VALUE! | BP10: =AND(Feuil1!E289,"AAAAAG/4+0M=") -> #VALUE! | BQ10: =IF(Feuil1!290:290,"AAAAAG/4+0Q=",0) -> 0 | BR10: =AND(Feuil1!A290,"AAAAAG/4+0U=") -> #VALUE! | BS10: =AND(Feuil1!B290,"AAAAAG/4+0Y=") -> #VALUE! | BT10: =AND(Feuil1!C290,"AAAAAG/4+0c=") -> #VALUE! | BU10: =AND(Feuil1!D290,"AAAAAG/4+0g=") -> #VALUE! | BV10: =AND(Feuil1!E290,"AAAAAG/4+0k=") -> #VALUE! | BW10: =IF(Feuil1!291:291,"AAAAAG/4+0o=",0) -> 0 | BX10: =AND(Feuil1!A291,"AAAAAG/4+0s=") -> #VALUE! | BY10: =AND(Feuil1!B291,"AAAAAG/4+0w=") -> #VALUE! | BZ10: =AND(Feuil1!C291,"AAAAAG/4+00=") -> #VALUE! | CA10: =AND(Feuil1!D291,"AAAAAG/4+04=") -> #VALUE! | CB10: =AND(Feuil1!E291,"AAAAAG/4+08=") -> #VALUE! | CC10: =IF(Feuil1!292:292,"AAAAAG/4+1A=",0) -> 0 | CD10: =AND(Feuil1!A292,"AAAAAG/4+1E=") -> #VALUE! | CE10: =AND(Feuil1!B292,"AAAAAG/4+1I=") -> #VALUE! | CF10: =AND(Feuil1!C292,"AAAAAG/4+1M=") -> #VALUE! | CG10: =AND(Feuil1!D292,"AAAAAG/4+1Q=") -> #VALUE! | CH10: =AND(Feuil1!E292,"AAAAAG/4+1U=") -> #VALUE! | CI10: =IF(Feuil1!293:293,"AAAAAG/4+1Y=",0) -> 0 | CJ10: =AND(Feuil1!A293,"AAAAAG/4+1c=") -> #VALUE! | CK10: =AND(Feuil1!B293,"AAAAAG/4+1g=") -> #VALUE! | CL10: =AND(Feuil1!C293,"AAAAAG/4+1k=") -> #VALUE! | CM10: =AND(Feuil1!D293,"AAAAAG/4+1o=") -> #VALUE! | CN10: =AND(Feuil1!E293,"AAAAAG/4+1s=") -> #VALUE! | CO10: =IF(Feuil1!294:294,"AAAAAG/4+1w=",0) -> 0 | CP10: =AND(Feuil1!A294,"AAAAAG/4+10=") -> #VALUE! | CQ10: =AND(Feuil1!B294,"AAAAAG/4+14=") -> #VALUE! | CR10: =AND(Feuil1!C294,"AAAAAG/4+18=") -> #VALUE! | CS10: =AND(Feuil1!D294,"AAAAAG/4+2A=") -> #VALUE! | CT10: =AND(Feuil1!E294,"AAAAAG/4+2E=") -> #VALUE! | CU10: =IF(Feuil1!295:295,"AAAAAG/4+2I=",0) -> 0 | CV10: =AND(Feuil1!A295,"AAAAAG/4+2M=") -> #VALUE! | CW10: =AND(Feuil1!B295,"AAAAAG/4+2Q=") -> #VALUE! | CX10: =AND(Feuil1!C295,"AAAAAG/4+2U=") -> #VALUE! | CY10: =AND(Feuil1!D295,"AAAAAG/4+2Y=") -> #VALUE! | CZ10: =AND(Feuil1!E295,"AAAAAG/4+2c=") -> #VALUE! | DA10: =IF(Feuil1!296:296,"AAAAAG/4+2g=",0) -> 0 | DB10: =AND(Feuil1!A296,"AAAAAG/4+2k=") -> #VALUE! | DC10: =AND(Feuil1!B296,"AAAAAG/4+2o=") -> #VALUE! | DD10: =AND(Feuil1!C296,"AAAAAG/4+2s=") -> #VALUE! | DE10: =AND(Feuil1!D296,"AAAAAG/4+2w=") -> #VALUE! | DF10: =AND(Feuil1!E296,"AAAAAG/4+20=") -> #VALUE! | DG10: =IF(Feuil1!297:297,"AAAAAG/4+24=",0) -> 0 | DH10: =AND(Feuil1!A297,"AAAAAG/4+28=") -> #VALUE! | DI10: =AND(Feuil1!B297,"AAAAAG/4+3A=") -> #VALUE! | DJ10: =AND(Feuil1!C297,"AAAAAG/4+3E=") -> #VALUE! | DK10: =AND(Feuil1!D297,"AAAAAG/4+3I=") -> #VALUE! | DL10: =AND(Feuil1!E297,"AAAAAG/4+3M=") -> #VALUE! | DM10: =IF(Feuil1!298:298,"AAAAAG/4+3Q=",0) -> 0 | DN10: =AND(Feuil1!A298,"AAAAAG/4+3U=") -> #VALUE! | DO10: =AND(Feuil1!B298,"AAAAAG/4+3Y=") -> #VALUE! | DP10: =AND(Feuil1!C298,"AAAAAG/4+3c=") -> #VALUE! | DQ10: =AND(Feuil1!D298,"AAAAAG/4+3g=") -> #VALUE! | DR10: =AND(Feuil1!E298,"AAAAAG/4+3k=") -> #VALUE! | DS10: =IF(Feuil1!299:299,"AAAAAG/4+3o=",0) -> 0 | DT10: =AND(Feuil1!A299,"AAAAAG/4+3s=") -> #VALUE! | DU10: =AND(Feuil1!B299,"AAAAAG/4+3w=") -> #VALUE! | DV10: =AND(Feuil1!C299,"AAAAAG/4+30=") -> #VALUE! | DW10: =AND(Feuil1!D299,"AAAAAG/4+34=") -> #VALUE! | DX10: =AND(Feuil1!E299,"AAAAAG/4+38=") -> #VALUE! | DY10: =IF(Feuil1!300:300,"AAAAAG/4+4A=",0) -> 0 | DZ10: =AND(Feuil1!A300,"AAAAAG/4+4E=") -> #VALUE! | EA10: =AND(Feuil1!B300,"AAAAAG/4+4I=") -> #VALUE! | EB10: =AND(Feuil1!C300,"AAAAAG/4+4M=") -> #VALUE! | EC10: =AND(Feuil1!D300,"AAAAAG/4+4Q=") -> #VALUE! | ED10: =AND(Feuil1!E300,"AAAAAG/4+4U=") -> #VALUE! | EE10: =IF(Feuil1!301:301,"AAAAAG/4+4Y=",0) -> 0 | EF10: =AND(Feuil1!A301,"AAAAAG/4+4c=") -> #VALUE! | EG10: =AND(Feuil1!B301,"AAAAAG/4+4g=") -> #VALUE! | EH10: =AND(Feuil1!C301,"AAAAAG/4+4k=") -> #VALUE! | EI10: =AND(Feuil1!D301,"AAAAAG/4+4o=") -> #VALUE! | EJ10: =AND(Feuil1!E301,"AAAAAG/4+4s=") -> #VALUE! | EK10: =IF(Feuil1!302:302,"AAAAAG/4+4w=",0) -> 0 | EL10: =AND(Feuil1!A302,"AAAAAG/4+40=") -> #VALUE! | EM10: =AND(Feuil1!B302,"AAAAAG/4+44=") -> #VALUE! | EN10: =AND(Feuil1!C302,"AAAAAG/4+48=") -> #VALUE! | EO10: =AND(Feuil1!D302,"AAAAAG/4+5A=") -> #VALUE! | EP10: =AND(Feuil1!E302,"AAAAAG/4+5E=") -> #VALUE! | EQ10: =IF(Feuil1!303:303,"AAAAAG/4+5I=",0) -> 0 | ER10: =AND(Feuil1!A303,"AAAAAG/4+5M=") -> #VALUE! | ES10: =AND(Feuil1!B303,"AAAAAG/4+5Q=") -> #VALUE! | ET10: =AND(Feuil1!C303,"AAAAAG/4+5U=") -> #VALUE! | EU10: =AND(Feuil1!D303,"AAAAAG/4+5Y=") -> #VALUE! | EV10: =AND(Feuil1!E303,"AAAAAG/4+5c=") -> #VALUE! | EW10: =IF(Feuil1!304:304,"AAAAAG/4+5g=",0) -> 0 | EX10: =AND(Feuil1!A304,"AAAAAG/4+5k=") -> #VALUE! | EY10: =AND(Feuil1!B304,"AAAAAG/4+5o=") -> #VALUE! | EZ10: =AND(Feuil1!C304,"AAAAAG/4+5s=") -> #VALUE! | FA10: =AND(Feuil1!D304,"AAAAAG/4+5w=") -> #VALUE! | FB10: =AND(Feuil1!E304,"AAAAAG/4+50=") -> #VALUE! | FC10: =IF(Feuil1!305:305,"AAAAAG/4+54=",0) -> 0 | FD10: =AND(Feuil1!A305,"AAAAAG/4+58=") -> #VALUE! | FE10: =AND(Feuil1!B305,"AAAAAG/4+6A=") -> #VALUE! | FF10: =AND(Feuil1!C305,"AAAAAG/4+6E=") -> #VALUE! | FG10: =AND(Feuil1!D305,"AAAAAG/4+6I=") -> #VALUE! | FH10: =AND(Feuil1!E305,"AAAAAG/4+6M=") -> #VALUE! | FI10: =IF(Feuil1!306:306,"AAAAAG/4+6Q=",0) -> 0 | FJ10: =AND(Feuil1!A306,"AAAAAG/4+6U=") -> #VALUE! | FK10: =AND(Feuil1!B306,"AAAAAG/4+6Y=") -> #VALUE! | FL10: =AND(Feuil1!C306,"AAAAAG/4+6c=") -> #VALUE! | FM10: =AND(Feuil1!D306,"AAAAAG/4+6g=") -> #VALUE! | FN10: =AND(Feuil1!E306,"AAAAAG/4+6k=") -> #VALUE! | FO10: =IF(Feuil1!307:307,"AAAAAG/4+6o=",0) -> 0 | FP10: =AND(Feuil1!A307,"AAAAAG/4+6s=") -> #VALUE! | FQ10: =AND(Feuil1!B307,"AAAAAG/4+6w=") -> #VALUE! | FR10: =AND(Feuil1!C307,"AAAAAG/4+60=") -> #VALUE! | FS10: =AND(Feuil1!D307,"AAAAAG/4+64=") -> #VALUE! | FT10: =AND(Feuil1!E307,"AAAAAG/4+68=") -> #VALUE! | FU10: =IF(Feuil1!308:308,"AAAAAG/4+7A=",0) -> 0 | FV10: =AND(Feuil1!A308,"AAAAAG/4+7E=") -> #VALUE! | FW10: =AND(Feuil1!B308,"AAAAAG/4+7I=") -> #VALUE! | FX10: =AND(Feuil1!C308,"AAAAAG/4+7M=") -> #VALUE! | FY10: =AND(Feuil1!D308,"AAAAAG/4+7Q=") -> #VALUE! | FZ10: =AND(Feuil1!E308,"AAAAAG/4+7U=") -> #VALUE! | GA10: =IF(Feuil1!309:309,"AAAAAG/4+7Y=",0) -> 0 | GB10: =AND(Feuil1!A309,"AAAAAG/4+7c=") -> #VALUE! | GC10: =AND(Feuil1!B309,"AAAAAG/4+7g=") -> #VALUE! | GD10: =AND(Feuil1!C309,"AAAAAG/4+7k=") -> #VALUE! | GE10: =AND(Feuil1!D309,"AAAAAG/4+7o=") -> #VALUE! | GF10: =AND(Feuil1!E309,"AAAAAG/4+7s=") -> #VALUE! | GG10: =IF(Feuil1!310:310,"AAAAAG/4+7w=",0) -> 0 | GH10: =AND(Feuil1!A310,"AAAAAG/4+70=") -> #VALUE! | GI10: =AND(Feuil1!B310,"AAAAAG/4+74=") -> #VALUE! | GJ10: =AND(Feuil1!C310,"AAAAAG/4+78=") -> #VALUE! | GK10: =AND(Feuil1!D310,"AAAAAG/4+8A=") -> #VALUE! | GL10: =AND(Feuil1!E310,"AAAAAG/4+8E=") -> #VALUE! | GM10: =IF(Feuil1!311:311,"AAAAAG/4+8I=",0) -> 0 | GN10: =AND(Feuil1!A311,"AAAAAG/4+8M=") -> #VALUE! | GO10: =AND(Feuil1!B311,"AAAAAG/4+8Q=") -> #VALUE! | GP10: =AND(Feuil1!C311,"AAAAAG/4+8U=") -> #VALUE! | GQ10: =AND(Feuil1!D311,"AAAAAG/4+8Y=") -> #VALUE! | GR10: =AND(Feuil1!E311,"AAAAAG/4+8c=") -> #VALUE! | GS10: =IF(Feuil1!312:312,"AAAAAG/4+8g=",0) -> 0 | GT10: =AND(Feuil1!A312,"AAAAAG/4+8k=") -> #VALUE! | GU10: =AND(Feuil1!B312,"AAAAAG/4+8o=") -> #VALUE! | GV10: =AND(Feuil1!C312,"AAAAAG/4+8s=") -> #VALUE! | GW10: =AND(Feuil1!D312,"AAAAAG/4+8w=") -> #VALUE! | GX10: =AND(Feuil1!E312,"AAAAAG/4+80=") -> #VALUE! | GY10: =IF(Feuil1!313:313,"AAAAAG/4+84=",0) -> 0 | GZ10: =AND(Feuil1!A313,"AAAAAG/4+88=") -> #VALUE! | HA10: =AND(Feuil1!B313,"AAAAAG/4+9A=") -> #VALUE! | HB10: =AND(Feuil1!C313,"AAAAAG/4+9E=") -> #VALUE! | HC10: =AND(Feuil1!D313,"AAAAAG/4+9I=") -> #VALUE! | HD10: =AND(Feuil1!E313,"AAAAAG/4+9M=") -> #VALUE! | HE10: =IF(Feuil1!314:314,"AAAAAG/4+9Q=",0) -> 0 | HF10: =AND(Feuil1!A314,"AAAAAG/4+9U=") -> #VALUE! | HG10: =AND(Feuil1!B314,"AAAAAG/4+9Y=") -> #VALUE! | HH10: =AND(Feuil1!C314,"AAAAAG/4+9c=") -> #VALUE! | HI10: =AND(Feuil1!D314,"AAAAAG/4+9g=") -> #VALUE! | HJ10: =AND(Feuil1!E314,"AAAAAG/4+9k=") -> #VALUE! | HK10: =IF(Feuil1!315:315,"AAAAAG/4+9o=",0) -> 0 | HL10: =AND(Feuil1!A315,"AAAAAG/4+9s=") -> #VALUE! | HM10: =AND(Feuil1!B315,"AAAAAG/4+9w=") -> #VALUE! | HN10: =AND(Feuil1!C315,"AAAAAG/4+90=") -> #VALUE! | HO10: =AND(Feuil1!D315,"AAAAAG/4+94=") -> #VALUE! | HP10: =AND(Feuil1!E315,"AAAAAG/4+98=") -> #VALUE! | HQ10: =IF(Feuil1!316:316,"AAAAAG/4++A=",0) -> 0 | HR10: =AND(Feuil1!A316,"AAAAAG/4++E=") -> #VALUE! | HS10: =AND(Feuil1!B316,"AAAAAG/4++I=") -> #VALUE! | HT10: =AND(Feuil1!C316,"AAAAAG/4++M=") -> #VALUE! | HU10: =AND(Feuil1!D316,"AAAAAG/4++Q=") -> #VALUE! | HV10: =AND(Feuil1!E316,"AAAAAG/4++U=") -> #VALUE! | HW10: =IF(Feuil1!317:317,"AAAAAG/4++Y=",0) -> 0 | HX10: =AND(Feuil1!A317,"AAAAAG/4++c=") -> #VALUE! | HY10: =AND(Feuil1!B317,"AAAAAG/4++g=") -> #VALUE! | HZ10: =AND(Feuil1!C317,"AAAAAG/4++k=") -> #VALUE! | IA10: =AND(Feuil1!D317,"AAAAAG/4++o=") -> #VALUE! | IB10: =AND(Feuil1!E317,"AAAAAG/4++s=") -> #VALUE! | IC10: =IF(Feuil1!318:318,"AAAAAG/4++w=",0) -> 0 | ID10: =AND(Feuil1!A318,"AAAAAG/4++0=") -> #VALUE! | IE10: =AND(Feuil1!B318,"AAAAAG/4++4=") -> #VALUE! | IF10: =AND(Feuil1!C318,"AAAAAG/4++8=") -> #VALUE! | IG10: =AND(Feuil1!D318,"AAAAAG/4+/A=") -> #VALUE! | IH10: =AND(Feuil1!E318,"AAAAAG/4+/E=") -> #VALUE! | II10: =IF(Feuil1!319:319,"AAAAAG/4+/I=",0) -> 0 | IJ10: =AND(Feuil1!A319,"AAAAAG/4+/M=") -> #VALUE! | IK10: =AND(Feuil1!B319,"AAAAAG/4+/Q=") -> #VALUE! | IL10: =AND(Feuil1!C319,"AAAAAG/4+/U=") -> #VALUE! | IM10: =AND(Feuil1!D319,"AAAAAG/4+/Y=") -> #VALUE! | IN10: =AND(Feuil1!E319,"AAAAAG/4+/c=") -> #VALUE! | IO10: =IF(Feuil1!320:320,"AAAAAG/4+/g=",0) -> 0 | IP10: =AND(Feuil1!A320,"AAAAAG/4+/k=") -> #VALUE! | IQ10: =AND(Feuil1!B320,"AAAAAG/4+/o=") -> #VALUE! | IR10: =AND(Feuil1!C320,"AAAAAG/4+/s=") -> #VALUE! | IS10: =AND(Feuil1!D320,"AAAAAG/4+/w=") -> #VALUE! | IT10: =AND(Feuil1!E320,"AAAAAG/4+/0=") -> #VALUE! | IU10: =IF(Feuil1!321:321,"AAAAAG/4+/4=",0) -> 0 | IV10: =AND(Feuil1!A321,"AAAAAG/4+/8=") -> #VALUE!
A11: =AND(Feuil1!B321,"AAAAAH/T4wA=") -> #VALUE! | B11: =AND(Feuil1!C321,"AAAAAH/T4wE=") -> #VALUE! | C11: =AND(Feuil1!D321,"AAAAAH/T4wI=") -> #VALUE! | D11: =AND(Feuil1!E321,"AAAAAH/T4wM=") -> #VALUE! | E11: =IF(Feuil1!322:322,"AAAAAH/T4wQ=",0) -> 0 | F11: =AND(Feuil1!A322,"AAAAAH/T4wU=") -> #VALUE! | G11: =AND(Feuil1!B322,"AAAAAH/T4wY=") -> #VALUE! | H11: =AND(Feuil1!C322,"AAAAAH/T4wc=") -> #VALUE! | I11: =AND(Feuil1!D322,"AAAAAH/T4wg=") -> #VALUE! | J11: =AND(Feuil1!E322,"AAAAAH/T4wk=") -> #VALUE! | K11: =IF(Feuil1!323:323,"AAAAAH/T4wo=",0) -> 0 | L11: =AND(Feuil1!A323,"AAAAAH/T4ws=") -> #VALUE! | M11: =AND(Feuil1!B323,"AAAAAH/T4ww=") -> #VALUE! | N11: =AND(Feuil1!C323,"AAAAAH/T4w0=") -> #VALUE! | O11: =AND(Feuil1!D323,"AAAAAH/T4w4=") -> #VALUE! | P11: =AND(Feuil1!E323,"AAAAAH/T4w8=") -> #VALUE! | Q11: =IF(Feuil1!324:324,"AAAAAH/T4xA=",0) -> 0 | R11: =AND(Feuil1!A324,"AAAAAH/T4xE=") -> #VALUE! | S11: =AND(Feuil1!B324,"AAAAAH/T4xI=") -> #VALUE! | T11: =AND(Feuil1!C324,"AAAAAH/T4xM=") -> #VALUE! | U11: =AND(Feuil1!D324,"AAAAAH/T4xQ=") -> #VALUE! | V11: =AND(Feuil1!E324,"AAAAAH/T4xU=") -> #VALUE! | W11: =IF(Feuil1!325:325,"AAAAAH/T4xY=",0) -> 0 | X11: =AND(Feuil1!A325,"AAAAAH/T4xc=") -> #VALUE! | Y11: =AND(Feuil1!B325,"AAAAAH/T4xg=") -> #VALUE! | Z11: =AND(Feuil1!C325,"AAAAAH/T4xk=") -> #VALUE! | AA11: =AND(Feuil1!D325,"AAAAAH/T4xo=") -> #VALUE! | AB11: =AND(Feuil1!E325,"AAAAAH/T4xs=") -> #VALUE! | AC11: =IF(Feuil1!326:326,"AAAAAH/T4xw=",0) -> 0 | AD11: =AND(Feuil1!A326,"AAAAAH/T4x0=") -> #VALUE! | AE11: =AND(Feuil1!B326,"AAAAAH/T4x4=") -> #VALUE! | AF11: =AND(Feuil1!C326,"AAAAAH/T4x8=") -> #VALUE! | AG11: =AND(Feuil1!D326,"AAAAAH/T4yA=") -> #VALUE! | AH11: =AND(Feuil1!E326,"AAAAAH/T4yE=") -> #VALUE! | AI11: =IF(Feuil1!327:327,"AAAAAH/T4yI=",0) -> 0 | AJ11: =AND(Feuil1!A327,"AAAAAH/T4yM=") -> #VALUE! | AK11: =AND(Feuil1!B327,"AAAAAH/T4yQ=") -> #VALUE! | AL11: =AND(Feuil1!C327,"AAAAAH/T4yU=") -> #VALUE! | AM11: =AND(Feuil1!D327,"AAAAAH/T4yY=") -> #VALUE! | AN11: =AND(Feuil1!E327,"AAAAAH/T4yc=") -> #VALUE! | AO11: =IF(Feuil1!328:328,"AAAAAH/T4yg=",0) -> 0 | AP11: =AND(Feuil1!A328,"AAAAAH/T4yk=") -> #VALUE! | AQ11: =AND(Feuil1!B328,"AAAAAH/T4yo=") -> #VALUE! | AR11: =AND(Feuil1!C328,"AAAAAH/T4ys=") -> #VALUE! | AS11: =AND(Feuil1!D328,"AAAAAH/T4yw=") -> #VALUE! | AT11: =AND(Feuil1!E328,"AAAAAH/T4y0=") -> #VALUE! | AU11: =IF(Feuil1!329:329,"AAAAAH/T4y4=",0) -> 0 | AV11: =AND(Feuil1!A329,"AAAAAH/T4y8=") -> #VALUE! | AW11: =AND(Feuil1!B329,"AAAAAH/T4zA=") -> #VALUE! | AX11: =AND(Feuil1!C329,"AAAAAH/T4zE=") -> #VALUE! | AY11: =AND(Feuil1!D329,"AAAAAH/T4zI=") -> #VALUE! | AZ11: =AND(Feuil1!E329,"AAAAAH/T4zM=") -> #VALUE! | BA11: =IF(Feuil1!330:330,"AAAAAH/T4zQ=",0) -> 0 | BB11: =AND(Feuil1!A330,"AAAAAH/T4zU=") -> #VALUE! | BC11: =AND(Feuil1!B330,"AAAAAH/T4zY=") -> #VALUE! | BD11: =AND(Feuil1!C330,"AAAAAH/T4zc=") -> #VALUE! | BE11: =AND(Feuil1!D330,"AAAAAH/T4zg=") -> #VALUE! | BF11: =AND(Feuil1!E330,"AAAAAH/T4zk=") -> #VALUE! | BG11: =IF(Feuil1!331:331,"AAAAAH/T4zo=",0) -> 0 | BH11: =AND(Feuil1!A331,"AAAAAH/T4zs=") -> #VALUE! | BI11: =AND(Feuil1!B331,"AAAAAH/T4zw=") -> #VALUE! | BJ11: =AND(Feuil1!C331,"AAAAAH/T4z0=") -> #VALUE! | BK11: =AND(Feuil1!D331,"AAAAAH/T4z4=") -> #VALUE! | BL11: =AND(Feuil1!E331,"AAAAAH/T4z8=") -> #VALUE! | BM11: =IF(Feuil1!332:332,"AAAAAH/T40A=",0) -> 0 | BN11: =AND(Feuil1!A332,"AAAAAH/T40E=") -> #VALUE! | BO11: =AND(Feuil1!B332,"AAAAAH/T40I=") -> #VALUE! | BP11: =AND(Feuil1!C332,"AAAAAH/T40M=") -> #VALUE! | BQ11: =AND(Feuil1!D332,"AAAAAH/T40Q=") -> #VALUE! | BR11: =AND(Feuil1!E332,"AAAAAH/T40U=") -> #VALUE! | BS11: =IF(Feuil1!333:333,"AAAAAH/T40Y=",0) -> 0 | BT11: =AND(Feuil1!A333,"AAAAAH/T40c=") -> #VALUE! | BU11: =AND(Feuil1!B333,"AAAAAH/T40g=") -> #VALUE! | BV11: =AND(Feuil1!C333,"AAAAAH/T40k=") -> #VALUE! | BW11: =AND(Feuil1!D333,"AAAAAH/T40o=") -> #VALUE! | BX11: =AND(Feuil1!E333,"AAAAAH/T40s=") -> #VALUE! | BY11: =IF(Feuil1!334:334,"AAAAAH/T40w=",0) -> 0 | BZ11: =AND(Feuil1!A334,"AAAAAH/T400=") -> #VALUE! | CA11: =AND(Feuil1!B334,"AAAAAH/T404=") -> #VALUE! | CB11: =AND(Feuil1!C334,"AAAAAH/T408=") -> #VALUE! | CC11: =AND(Feuil1!D334,"AAAAAH/T41A=") -> #VALUE! | CD11: =AND(Feuil1!E334,"AAAAAH/T41E=") -> #VALUE! | CE11: =IF(Feuil1!335:335,"AAAAAH/T41I=",0) -> 0 | CF11: =AND(Feuil1!A335,"AAAAAH/T41M=") -> #VALUE! | CG11: =AND(Feuil1!B335,"AAAAAH/T41Q=") -> #VALUE! | CH11: =AND(Feuil1!C335,"AAAAAH/T41U=") -> #VALUE! | CI11: =AND(Feuil1!D335,"AAAAAH/T41Y=") -> #VALUE! | CJ11: =AND(Feuil1!E335,"AAAAAH/T41c=") -> #VALUE! | CK11: =IF(Feuil1!336:336,"AAAAAH/T41g=",0) -> 0 | CL11: =AND(Feuil1!A336,"AAAAAH/T41k=") -> #VALUE! | CM11: =AND(Feuil1!B336,"AAAAAH/T41o=") -> #VALUE! | CN11: =AND(Feuil1!C336,"AAAAAH/T41s=") -> #VALUE! | CO11: =AND(Feuil1!D336,"AAAAAH/T41w=") -> #VALUE! | CP11: =AND(Feuil1!E336,"AAAAAH/T410=") -> #VALUE! | CQ11: =IF(Feuil1!337:337,"AAAAAH/T414=",0) -> 0 | CR11: =AND(Feuil1!A337,"AAAAAH/T418=") -> #VALUE! | CS11: =AND(Feuil1!B337,"AAAAAH/T42A=") -> #VALUE! | CT11: =AND(Feuil1!C337,"AAAAAH/T42E=") -> #VALUE! | CU11: =AND(Feuil1!D337,"AAAAAH/T42I=") -> #VALUE! | CV11: =AND(Feuil1!E337,"AAAAAH/T42M=") -> #VALUE! | CW11: =IF(Feuil1!338:338,"AAAAAH/T42Q=",0) -> 0 | CX11: =AND(Feuil1!A338,"AAAAAH/T42U=") -> #VALUE! | CY11: =AND(Feuil1!B338,"AAAAAH/T42Y=") -> #VALUE! | CZ11: =AND(Feuil1!C338,"AAAAAH/T42c=") -> #VALUE! | DA11: =AND(Feuil1!D338,"AAAAAH/T42g=") -> #VALUE! | DB11: =AND(Feuil1!E338,"AAAAAH/T42k=") -> #VALUE! | DC11: =IF(Feuil1!339:339,"AAAAAH/T42o=",0) -> 0 | DD11: =AND(Feuil1!A339,"AAAAAH/T42s=") -> #VALUE! | DE11: =AND(Feuil1!B339,"AAAAAH/T42w=") -> #VALUE! | DF11: =AND(Feuil1!C339,"AAAAAH/T420=") -> #VALUE! | DG11: =AND(Feuil1!D339,"AAAAAH/T424=") -> #VALUE! | DH11: =AND(Feuil1!E339,"AAAAAH/T428=") -> #VALUE! | DI11: =IF(Feuil1!340:340,"AAAAAH/T43A=",0) -> 0 | DJ11: =AND(Feuil1!A340,"AAAAAH/T43E=") -> #VALUE! | DK11: =AND(Feuil1!B340,"AAAAAH/T43I=") -> #VALUE! | DL11: =AND(Feuil1!C340,"AAAAAH/T43M=") -> #VALUE! | DM11: =AND(Feuil1!D340,"AAAAAH/T43Q=") -> #VALUE! | DN11: =AND(Feuil1!E340,"AAAAAH/T43U=") -> #VALUE! | DO11: =IF(Feuil1!341:341,"AAAAAH/T43Y=",0) -> 0 | DP11: =AND(Feuil1!A341,"AAAAAH/T43c=") -> #VALUE! | DQ11: =AND(Feuil1!B341,"AAAAAH/T43g=") -> #VALUE! | DR11: =AND(Feuil1!C341,"AAAAAH/T43k=") -> #VALUE! | DS11: =AND(Feuil1!D341,"AAAAAH/T43o=") -> #VALUE! | DT11: =AND(Feuil1!E341,"AAAAAH/T43s=") -> #VALUE! | DU11: =IF(Feuil1!342:342,"AAAAAH/T43w=",0) -> 0 | DV11: =AND(Feuil1!A342,"AAAAAH/T430=") -> #VALUE! | DW11: =AND(Feuil1!B342,"AAAAAH/T434=") -> #VALUE! | DX11: =AND(Feuil1!C342,"AAAAAH/T438=") -> #VALUE! | DY11: =AND(Feuil1!D342,"AAAAAH/T44A=") -> #VALUE! | DZ11: =AND(Feuil1!E342,"AAAAAH/T44E=") -> #VALUE! | EA11: =IF(Feuil1!343:343,"AAAAAH/T44I=",0) -> 0 | EB11: =AND(Feuil1!A343,"AAAAAH/T44M=") -> #VALUE! | EC11: =AND(Feuil1!B343,"AAAAAH/T44Q=") -> #VALUE! | ED11: =AND(Feuil1!C343,"AAAAAH/T44U=") -> #VALUE! | EE11: =AND(Feuil1!D343,"AAAAAH/T44Y=") -> #VALUE! | EF11: =AND(Feuil1!E343,"AAAAAH/T44c=") -> #VALUE! | EG11: =IF(Feuil1!344:344,"AAAAAH/T44g=",0) -> 0 | EH11: =AND(Feuil1!A344,"AAAAAH/T44k=") -> #VALUE! | EI11: =AND(Feuil1!B344,"AAAAAH/T44o=") -> #VALUE! | EJ11: =AND(Feuil1!C344,"AAAAAH/T44s=") -> #VALUE! | EK11: =AND(Feuil1!D344,"AAAAAH/T44w=") -> #VALUE! | EL11: =AND(Feuil1!E344,"AAAAAH/T440=") -> #VALUE! | EM11: =IF(Feuil1!345:345,"AAAAAH/T444=",0) -> 0 | EN11: =AND(Feuil1!A345,"AAAAAH/T448=") -> #VALUE! | EO11: =AND(Feuil1!B345,"AAAAAH/T45A=") -> #VALUE! | EP11: =AND(Feuil1!C345,"AAAAAH/T45E=") -> #VALUE! | EQ11: =AND(Feuil1!D345,"AAAAAH/T45I=") -> #VALUE! | ER11: =AND(Feuil1!E345,"AAAAAH/T45M=") -> #VALUE! | ES11: =IF(Feuil1!346:346,"AAAAAH/T45Q=",0) -> 0 | ET11: =AND(Feuil1!A346,"AAAAAH/T45U=") -> #VALUE! | EU11: =AND(Feuil1!B346,"AAAAAH/T45Y=") -> #VALUE! | EV11: =AND(Feuil1!C346,"AAAAAH/T45c=") -> #VALUE! | EW11: =AND(Feuil1!D346,"AAAAAH/T45g=") -> #VALUE! | EX11: =AND(Feuil1!E346,"AAAAAH/T45k=") -> #VALUE! | EY11: =IF(Feuil1!347:347,"AAAAAH/T45o=",0) -> 0 | EZ11: =AND(Feuil1!A347,"AAAAAH/T45s=") -> #VALUE! | FA11: =AND(Feuil1!B347,"AAAAAH/T45w=") -> #VALUE! | FB11: =AND(Feuil1!C347,"AAAAAH/T450=") -> #VALUE! | FC11: =AND(Feuil1!D347,"AAAAAH/T454=") -> #VALUE! | FD11: =AND(Feuil1!E347,"AAAAAH/T458=") -> #VALUE! | FE11: =IF(Feuil1!348:348,"AAAAAH/T46A=",0) -> 0 | FF11: =AND(Feuil1!A348,"AAAAAH/T46E=") -> #VALUE! | FG11: =AND(Feuil1!B348,"AAAAAH/T46I=") -> #VALUE! | FH11: =AND(Feuil1!C348,"AAAAAH/T46M=") -> #VALUE! | FI11: =AND(Feuil1!D348,"AAAAAH/T46Q=") -> #VALUE! | FJ11: =AND(Feuil1!E348,"AAAAAH/T46U=") -> #VALUE! | FK11: =IF(Feuil1!349:349,"AAAAAH/T46Y=",0) -> 0 | FL11: =AND(Feuil1!A349,"AAAAAH/T46c=") -> #VALUE! | FM11: =AND(Feuil1!B349,"AAAAAH/T46g=") -> #VALUE! | FN11: =AND(Feuil1!C349,"AAAAAH/T46k=") -> #VALUE! | FO11: =AND(Feuil1!D349,"AAAAAH/T46o=") -> #VALUE! | FP11: =AND(Feuil1!E349,"AAAAAH/T46s=") -> #VALUE! | FQ11: =IF(Feuil1!350:350,"AAAAAH/T46w=",0) -> 0 | FR11: =AND(Feuil1!A350,"AAAAAH/T460=") -> #VALUE! | FS11: =AND(Feuil1!B350,"AAAAAH/T464=") -> #VALUE! | FT11: =AND(Feuil1!C350,"AAAAAH/T468=") -> #VALUE! | FU11: =AND(Feuil1!D350,"AAAAAH/T47A=") -> #VALUE! | FV11: =AND(Feuil1!E350,"AAAAAH/T47E=") -> #VALUE! | FW11: =IF(Feuil1!351:351,"AAAAAH/T47I=",0) -> 0 | FX11: =AND(Feuil1!A351,"AAAAAH/T47M=") -> #VALUE! | FY11: =AND(Feuil1!B351,"AAAAAH/T47Q=") -> #VALUE! | FZ11: =AND(Feuil1!C351,"AAAAAH/T47U=") -> #VALUE! | GA11: =AND(Feuil1!D351,"AAAAAH/T47Y=") -> #VALUE! | GB11: =AND(Feuil1!E351,"AAAAAH/T47c=") -> #VALUE! | GC11: =IF(Feuil1!352:352,"AAAAAH/T47g=",0) -> 0 | GD11: =AND(Feuil1!A352,"AAAAAH/T47k=") -> #VALUE! | GE11: =AND(Feuil1!B352,"AAAAAH/T47o=") -> #VALUE! | GF11: =AND(Feuil1!C352,"AAAAAH/T47s=") -> #VALUE! | GG11: =AND(Feuil1!D352,"AAAAAH/T47w=") -> #VALUE! | GH11: =AND(Feuil1!E352,"AAAAAH/T470=") -> #VALUE! | GI11: =IF(Feuil1!353:353,"AAAAAH/T474=",0) -> 0 | GJ11: =AND(Feuil1!A353,"AAAAAH/T478=") -> #VALUE! | GK11: =AND(Feuil1!B353,"AAAAAH/T48A=") -> #VALUE! | GL11: =AND(Feuil1!C353,"AAAAAH/T48E=") -> #VALUE! | GM11: =AND(Feuil1!D353,"AAAAAH/T48I=") -> #VALUE! | GN11: =AND(Feuil1!E353,"AAAAAH/T48M=") -> #VALUE! | GO11: =IF(Feuil1!354:354,"AAAAAH/T48Q=",0) -> 0 | GP11: =AND(Feuil1!A354,"AAAAAH/T48U=") -> #VALUE! | GQ11: =AND(Feuil1!B354,"AAAAAH/T48Y=") -> #VALUE! | GR11: =AND(Feuil1!C354,"AAAAAH/T48c=") -> #VALUE! | GS11: =AND(Feuil1!D354,"AAAAAH/T48g=") -> #VALUE! | GT11: =AND(Feuil1!E354,"AAAAAH/T48k=") -> #VALUE! | GU11: =IF(Feuil1!355:355,"AAAAAH/T48o=",0) -> 0 | GV11: =AND(Feuil1!A355,"AAAAAH/T48s=") -> #VALUE! | GW11: =AND(Feuil1!B355,"AAAAAH/T48w=") -> #VALUE! | GX11: =AND(Feuil1!C355,"AAAAAH/T480=") -> #VALUE! | GY11: =AND(Feuil1!D355,"AAAAAH/T484=") -> #VALUE! | GZ11: =AND(Feuil1!E355,"AAAAAH/T488=") -> #VALUE! | HA11: =IF(Feuil1!356:356,"AAAAAH/T49A=",0) -> 0 | HB11: =AND(Feuil1!A356,"AAAAAH/T49E=") -> #VALUE! | HC11: =AND(Feuil1!B356,"AAAAAH/T49I=") -> #VALUE! | HD11: =AND(Feuil1!C356,"AAAAAH/T49M=") -> #VALUE! | HE11: =AND(Feuil1!D356,"AAAAAH/T49Q=") -> #VALUE! | HF11: =AND(Feuil1!E356,"AAAAAH/T49U=") -> #VALUE! | HG11: =IF(Feuil1!357:357,"AAAAAH/T49Y=",0) -> 0 | HH11: =AND(Feuil1!A357,"AAAAAH/T49c=") -> #VALUE! | HI11: =AND(Feuil1!B357,"AAAAAH/T49g=") -> #VALUE! | HJ11: =AND(Feuil1!C357,"AAAAAH/T49k=") -> #VALUE! | HK11: =AND(Feuil1!D357,"AAAAAH/T49o=") -> #VALUE! | HL11: =AND(Feuil1!E357,"AAAAAH/T49s=") -> #VALUE! | HM11: =IF(Feuil1!358:358,"AAAAAH/T49w=",0) -> 0 | HN11: =AND(Feuil1!A358,"AAAAAH/T490=") -> #VALUE! | HO11: =AND(Feuil1!B358,"AAAAAH/T494=") -> #VALUE! | HP11: =AND(Feuil1!C358,"AAAAAH/T498=") -> #VALUE! | HQ11: =AND(Feuil1!D358,"AAAAAH/T4+A=") -> #VALUE! | HR11: =AND(Feuil1!E358,"AAAAAH/T4+E=") -> #VALUE! | HS11: =IF(Feuil1!359:359,"AAAAAH/T4+I=",0) -> 0 | HT11: =AND(Feuil1!A359,"AAAAAH/T4+M=") -> #VALUE! | HU11: =AND(Feuil1!B359,"AAAAAH/T4+Q=") -> #VALUE! | HV11: =AND(Feuil1!C359,"AAAAAH/T4+U=") -> #VALUE! | HW11: =AND(Feuil1!D359,"AAAAAH/T4+Y=") -> #VALUE! | HX11: =AND(Feuil1!E359,"AAAAAH/T4+c=") -> #VALUE! | HY11: =IF(Feuil1!360:360,"AAAAAH/T4+g=",0) -> 0 | HZ11: =AND(Feuil1!A360,"AAAAAH/T4+k=") -> #VALUE! | IA11: =AND(Feuil1!B360,"AAAAAH/T4+o=") -> #VALUE! | IB11: =AND(Feuil1!C360,"AAAAAH/T4+s=") -> #VALUE! | IC11: =AND(Feuil1!D360,"AAAAAH/T4+w=") -> #VALUE! | ID11: =AND(Feuil1!E360,"AAAAAH/T4+0=") -> #VALUE! | IE11: =IF(Feuil1!361:361,"AAAAAH/T4+4=",0) -> 0 | IF11: =AND(Feuil1!A361,"AAAAAH/T4+8=") -> #VALUE! | IG11: =AND(Feuil1!B361,"AAAAAH/T4/A=") -> #VALUE! | IH11: =AND(Feuil1!C361,"AAAAAH/T4/E=") -> #VALUE! | II11: =AND(Feuil1!D361,"AAAAAH/T4/I=") -> #VALUE! | IJ11: =AND(Feuil1!E361,"AAAAAH/T4/M=") -> #VALUE! | IK11: =IF(Feuil1!362:362,"AAAAAH/T4/Q=",0) -> 0 | IL11: =AND(Feuil1!A362,"AAAAAH/T4/U=") -> #VALUE! | IM11: =AND(Feuil1!B362,"AAAAAH/T4/Y=") -> #VALUE! | IN11: =AND(Feuil1!C362,"AAAAAH/T4/c=") -> #VALUE! | IO11: =AND(Feuil1!D362,"AAAAAH/T4/g=") -> #VALUE! | IP11: =AND(Feuil1!E362,"AAAAAH/T4/k=") -> #VALUE! | IQ11: =IF(Feuil1!363:363,"AAAAAH/T4/o=",0) -> 0 | IR11: =AND(Feuil1!A363,"AAAAAH/T4/s=") -> #VALUE! | IS11: =AND(Feuil1!B363,"AAAAAH/T4/w=") -> #VALUE! | IT11: =AND(Feuil1!C363,"AAAAAH/T4/0=") -> #VALUE! | IU11: =AND(Feuil1!D363,"AAAAAH/T4/4=") -> #VALUE! | IV11: =AND(Feuil1!E363,"AAAAAH/T4/8=") -> #VALUE!
A12: =IF(Feuil1!364:364,"AAAAADz33gA=",0) -> 0 | B12: =AND(Feuil1!A364,"AAAAADz33gE=") -> #VALUE! | C12: =AND(Feuil1!B364,"AAAAADz33gI=") -> #VALUE! | D12: =AND(Feuil1!C364,"AAAAADz33gM=") -> #VALUE! | E12: =AND(Feuil1!D364,"AAAAADz33gQ=") -> #VALUE! | F12: =AND(Feuil1!E364,"AAAAADz33gU=") -> #VALUE! | G12: =IF(Feuil1!365:365,"AAAAADz33gY=",0) -> 0 | H12: =AND(Feuil1!A365,"AAAAADz33gc=") -> #VALUE! | I12: =AND(Feuil1!B365,"AAAAADz33gg=") -> #VALUE! | J12: =AND(Feuil1!C365,"AAAAADz33gk=") -> #VALUE! | K12: =AND(Feuil1!D365,"AAAAADz33go=") -> #VALUE! | L12: =AND(Feuil1!E365,"AAAAADz33gs=") -> #VALUE! | M12: =IF(Feuil1!366:366,"AAAAADz33gw=",0) -> 0 | N12: =AND(Feuil1!A366,"AAAAADz33g0=") -> #VALUE! | O12: =AND(Feuil1!B366,"AAAAADz33g4=") -> #VALUE! | P12: =AND(Feuil1!C366,"AAAAADz33g8=") -> #VALUE! | Q12: =AND(Feuil1!D366,"AAAAADz33hA=") -> #VALUE! | R12: =AND(Feuil1!E366,"AAAAADz33hE=") -> #VALUE! | S12: =IF(Feuil1!367:367,"AAAAADz33hI=",0) -> 0 | T12: =AND(Feuil1!A367,"AAAAADz33hM=") -> #VALUE! | U12: =AND(Feuil1!B367,"AAAAADz33hQ=") -> #VALUE! | V12: =AND(Feuil1!C367,"AAAAADz33hU=") -> #VALUE! | W12: =AND(Feuil1!D367,"AAAAADz33hY=") -> #VALUE! | X12: =AND(Feuil1!E367,"AAAAADz33hc=") -> #VALUE! | Y12: =IF(Feuil1!368:368,"AAAAADz33hg=",0) -> 0 | Z12: =AND(Feuil1!A368,"AAAAADz33hk=") -> #VALUE! | AA12: =AND(Feuil1!B368,"AAAAADz33ho=") -> #VALUE! | AB12: =AND(Feuil1!C368,"AAAAADz33hs=") -> #VALUE! | AC12: =AND(Feuil1!D368,"AAAAADz33hw=") -> #VALUE! | AD12: =AND(Feuil1!E368,"AAAAADz33h0=") -> #VALUE! | AE12: =IF(Feuil1!369:369,"AAAAADz33h4=",0) -> 0 | AF12: =AND(Feuil1!A369,"AAAAADz33h8=") -> #VALUE! | AG12: =AND(Feuil1!B369,"AAAAADz33iA=") -> #VALUE! | AH12: =AND(Feuil1!C369,"AAAAADz33iE=") -> #VALUE! | AI12: =AND(Feuil1!D369,"AAAAADz33iI=") -> #VALUE! | AJ12: =AND(Feuil1!E369,"AAAAADz33iM=") -> #VALUE! | AK12: =IF(Feuil1!370:370,"AAAAADz33iQ=",0) -> 0 | AL12: =AND(Feuil1!A370,"AAAAADz33iU=") -> #VALUE! | AM12: =AND(Feuil1!B370,"AAAAADz33iY=") -> #VALUE! | AN12: =AND(Feuil1!C370,"AAAAADz33ic=") -> #VALUE! | AO12: =AND(Feuil1!D370,"AAAAADz33ig=") -> #VALUE! | AP12: =AND(Feuil1!E370,"AAAAADz33ik=") -> #VALUE! | AQ12: =IF(Feuil1!371:371,"AAAAADz33io=",0) -> 0 | AR12: =AND(Feuil1!A371,"AAAAADz33is=") -> #VALUE! | AS12: =AND(Feuil1!B371,"AAAAADz33iw=") -> #VALUE! | AT12: =AND(Feuil1!C371,"AAAAADz33i0=") -> #VALUE! | AU12: =AND(Feuil1!D371,"AAAAADz33i4=") -> #VALUE! | AV12: =AND(Feuil1!E371,"AAAAADz33i8=") -> #VALUE! | AW12: =IF(Feuil1!372:372,"AAAAADz33jA=",0) -> 0 | AX12: =AND(Feuil1!A372,"AAAAADz33jE=") -> #VALUE! | AY12: =AND(Feuil1!B372,"AAAAADz33jI=") -> #VALUE! | AZ12: =AND(Feuil1!C372,"AAAAADz33jM=") -> #VALUE! | BA12: =AND(Feuil1!D372,"AAAAADz33jQ=") -> #VALUE! | BB12: =AND(Feuil1!E372,"AAAAADz33jU=") -> #VALUE! | BC12: =IF(Feuil1!373:373,"AAAAADz33jY=",0) -> 0 | BD12: =AND(Feuil1!A373,"AAAAADz33jc=") -> #VALUE! | BE12: =AND(Feuil1!B373,"AAAAADz33jg=") -> #VALUE! | BF12: =AND(Feuil1!C373,"AAAAADz33jk=") -> #VALUE! | BG12: =AND(Feuil1!D373,"AAAAADz33jo=") -> #VALUE! | BH12: =AND(Feuil1!E373,"AAAAADz33js=") -> #VALUE! | BI12: =IF(Feuil1!374:374,"AAAAADz33jw=",0) -> 0 | BJ12: =AND(Feuil1!A374,"AAAAADz33j0=") -> #VALUE! | BK12: =AND(Feuil1!B374,"AAAAADz33j4=") -> #VALUE! | BL12: =AND(Feuil1!C374,"AAAAADz33j8=") -> #VALUE! | BM12: =AND(Feuil1!D374,"AAAAADz33kA=") -> #VALUE! | BN12: =AND(Feuil1!E374,"AAAAADz33kE=") -> #VALUE! | BO12: =IF(Feuil1!375:375,"AAAAADz33kI=",0) -> 0 | BP12: =AND(Feuil1!A375,"AAAAADz33kM=") -> #VALUE! | BQ12: =AND(Feuil1!B375,"AAAAADz33kQ=") -> #VALUE! | BR12: =AND(Feuil1!C375,"AAAAADz33kU=") -> #VALUE! | BS12: =AND(Feuil1!D375,"AAAAADz33kY=") -> #VALUE! | BT12: =AND(Feuil1!E375,"AAAAADz33kc=") -> #VALUE! | BU12: =IF(Feuil1!376:376,"AAAAADz33kg=",0) -> 0 | BV12: =AND(Feuil1!A376,"AAAAADz33kk=") -> #VALUE! | BW12: =AND(Feuil1!B376,"AAAAADz33ko=") -> #VALUE! | BX12: =AND(Feuil1!C376,"AAAAADz33ks=") -> #VALUE! | BY12: =AND(Feuil1!D376,"AAAAADz33kw=") -> #VALUE! | BZ12: =AND(Feuil1!E376,"AAAAADz33k0=") -> #VALUE! | CA12: =IF(Feuil1!377:377,"AAAAADz33k4=",0) -> 0 | CB12: =AND(Feuil1!A377,"AAAAADz33k8=") -> #VALUE! | CC12: =AND(Feuil1!B377,"AAAAADz33lA=") -> #VALUE! | CD12: =AND(Feuil1!C377,"AAAAADz33lE=") -> #VALUE! | CE12: =AND(Feuil1!D377,"AAAAADz33lI=") -> #VALUE! | CF12: =AND(Feuil1!E377,"AAAAADz33lM=") -> #VALUE! | CG12: =IF(Feuil1!378:378,"AAAAADz33lQ=",0) -> 0 | CH12: =AND(Feuil1!A378,"AAAAADz33lU=") -> #VALUE! | CI12: =AND(Feuil1!B378,"AAAAADz33lY=") -> #VALUE! | CJ12: =AND(Feuil1!C378,"AAAAADz33lc=") -> #VALUE! | CK12: =AND(Feuil1!D378,"AAAAADz33lg=") -> #VALUE! | CL12: =AND(Feuil1!E378,"AAAAADz33lk=") -> #VALUE! | CM12: =IF(Feuil1!379:379,"AAAAADz33lo=",0) -> 0 | CN12: =AND(Feuil1!A379,"AAAAADz33ls=") -> #VALUE! | CO12: =AND(Feuil1!B379,"AAAAADz33lw=") -> #VALUE! | CP12: =AND(Feuil1!C379,"AAAAADz33l0=") -> #VALUE! | CQ12: =AND(Feuil1!D379,"AAAAADz33l4=") -> #VALUE! | CR12: =AND(Feuil1!E379,"AAAAADz33l8=") -> #VALUE! | CS12: =IF(Feuil1!380:380,"AAAAADz33mA=",0) -> 0 | CT12: =AND(Feuil1!A380,"AAAAADz33mE=") -> #VALUE! | CU12: =AND(Feuil1!B380,"AAAAADz33mI=") -> #VALUE! | CV12: =AND(Feuil1!C380,"AAAAADz33mM=") -> #VALUE! | CW12: =AND(Feuil1!D380,"AAAAADz33mQ=") -> #VALUE! | CX12: =AND(Feuil1!E380,"AAAAADz33mU=") -> #VALUE! | CY12: =IF(Feuil1!381:381,"AAAAADz33mY=",0) -> 0 | CZ12: =AND(Feuil1!A381,"AAAAADz33mc=") -> #VALUE! | DA12: =AND(Feuil1!B381,"AAAAADz33mg=") -> #VALUE! | DB12: =AND(Feuil1!C381,"AAAAADz33mk=") -> #VALUE! | DC12: =AND(Feuil1!D381,"AAAAADz33mo=") -> #VALUE! | DD12: =AND(Feuil1!E381,"AAAAADz33ms=") -> #VALUE! | DE12: =IF(Feuil1!382:382,"AAAAADz33mw=",0) -> 0 | DF12: =AND(Feuil1!A382,"AAAAADz33m0=") -> #VALUE! | DG12: =AND(Feuil1!B382,"AAAAADz33m4=") -> #VALUE! | DH12: =AND(Feuil1!C382,"AAAAADz33m8=") -> #VALUE! | DI12: =AND(Feuil1!D382,"AAAAADz33nA=") -> #VALUE! | DJ12: =AND(Feuil1!E382,"AAAAADz33nE=") -> #VALUE! | DK12: =IF(Feuil1!383:383,"AAAAADz33nI=",0) -> 0 | DL12: =AND(Feuil1!A383,"AAAAADz33nM=") -> #VALUE! | DM12: =AND(Feuil1!B383,"AAAAADz33nQ=") -> #VALUE! | DN12: =AND(Feuil1!C383,"AAAAADz33nU=") -> #VALUE! | DO12: =AND(Feuil1!D383,"AAAAADz33nY=") -> #VALUE! | DP12: =AND(Feuil1!E383,"AAAAADz33nc=") -> #VALUE! | DQ12: =IF(Feuil1!384:384,"AAAAADz33ng=",0) -> 0 | DR12: =AND(Feuil1!A384,"AAAAADz33nk=") -> #VALUE! | DS12: =AND(Feuil1!B384,"AAAAADz33no=") -> #VALUE! | DT12: =AND(Feuil1!C384,"AAAAADz33ns=") -> #VALUE! | DU12: =AND(Feuil1!D384,"AAAAADz33nw=") -> #VALUE! | DV12: =AND(Feuil1!E384,"AAAAADz33n0=") -> #VALUE! | DW12: =IF(Feuil1!385:385,"AAAAADz33n4=",0) -> 0 | DX12: =AND(Feuil1!A385,"AAAAADz33n8=") -> #VALUE! | DY12: =AND(Feuil1!B385,"AAAAADz33oA=") -> #VALUE! | DZ12: =AND(Feuil1!C385,"AAAAADz33oE=") -> #VALUE! | EA12: =AND(Feuil1!D385,"AAAAADz33oI=") -> #VALUE! | EB12: =AND(Feuil1!E385,"AAAAADz33oM=") -> #VALUE! | EC12: =IF(Feuil1!386:386,"AAAAADz33oQ=",0) -> 0 | ED12: =AND(Feuil1!A386,"AAAAADz33oU=") -> #VALUE! | EE12: =AND(Feuil1!B386,"AAAAADz33oY=") -> #VALUE! | EF12: =AND(Feuil1!C386,"AAAAADz33oc=") -> #VALUE! | EG12: =AND(Feuil1!D386,"AAAAADz33og=") -> #VALUE! | EH12: =AND(Feuil1!E386,"AAAAADz33ok=") -> #VALUE! | EI12: =IF(Feuil1!387:387,"AAAAADz33oo=",0) -> 0 | EJ12: =AND(Feuil1!A387,"AAAAADz33os=") -> #VALUE! | EK12: =AND(Feuil1!B387,"AAAAADz33ow=") -> #VALUE! | EL12: =AND(Feuil1!C387,"AAAAADz33o0=") -> #VALUE! | EM12: =AND(Feuil1!D387,"AAAAADz33o4=") -> #VALUE! | EN12: =AND(Feuil1!E387,"AAAAADz33o8=") -> #VALUE! | EO12: =IF(Feuil1!388:388,"AAAAADz33pA=",0) -> 0 | EP12: =AND(Feuil1!A388,"AAAAADz33pE=") -> #VALUE! | EQ12: =AND(Feuil1!B388,"AAAAADz33pI=") -> #VALUE! | ER12: =AND(Feuil1!C388,"AAAAADz33pM=") -> #VALUE! | ES12: =AND(Feuil1!D388,"AAAAADz33pQ=") -> #VALUE! | ET12: =AND(Feuil1!E388,"AAAAADz33pU=") -> #VALUE! | EU12: =IF(Feuil1!389:389,"AAAAADz33pY=",0) -> 0 | EV12: =AND(Feuil1!A389,"AAAAADz33pc=") -> #VALUE! | EW12: =AND(Feuil1!B389,"AAAAADz33pg=") -> #VALUE! | EX12: =AND(Feuil1!C389,"AAAAADz33pk=") -> #VALUE! | EY12: =AND(Feuil1!D389,"AAAAADz33po=") -> #VALUE! | EZ12: =AND(Feuil1!E389,"AAAAADz33ps=") -> #VALUE! | FA12: =IF(Feuil1!390:390,"AAAAADz33pw=",0) -> 0 | FB12: =AND(Feuil1!A390,"AAAAADz33p0=") -> #VALUE! | FC12: =AND(Feuil1!B390,"AAAAADz33p4=") -> #VALUE! | FD12: =AND(Feuil1!C390,"AAAAADz33p8=") -> #VALUE! | FE12: =AND(Feuil1!D390,"AAAAADz33qA=") -> #VALUE! | FF12: =AND(Feuil1!E390,"AAAAADz33qE=") -> #VALUE! | FG12: =IF(Feuil1!391:391,"AAAAADz33qI=",0) -> 0 | FH12: =AND(Feuil1!A391,"AAAAADz33qM=") -> #VALUE! | FI12: =AND(Feuil1!B391,"AAAAADz33qQ=") -> #VALUE! | FJ12: =AND(Feuil1!C391,"AAAAADz33qU=") -> #VALUE! | FK12: =AND(Feuil1!D391,"AAAAADz33qY=") -> #VALUE! | FL12: =AND(Feuil1!E391,"AAAAADz33qc=") -> #VALUE! | FM12: =IF(Feuil1!392:392,"AAAAADz33qg=",0) -> 0 | FN12: =AND(Feuil1!A392,"AAAAADz33qk=") -> #VALUE! | FO12: =AND(Feuil1!B392,"AAAAADz33qo=") -> #VALUE! | FP12: =AND(Feuil1!C392,"AAAAADz33qs=") -> #VALUE! | FQ12: =AND(Feuil1!D392,"AAAAADz33qw=") -> #VALUE! | FR12: =AND(Feuil1!E392,"AAAAADz33q0=") -> #VALUE! | FS12: =IF(Feuil1!393:393,"AAAAADz33q4=",0) -> 0 | FT12: =AND(Feuil1!A393,"AAAAADz33q8=") -> #VALUE! | FU12: =AND(Feuil1!B393,"AAAAADz33rA=") -> #VALUE! | FV12: =AND(Feuil1!C393,"AAAAADz33rE=") -> #VALUE! | FW12: =AND(Feuil1!D393,"AAAAADz33rI=") -> #VALUE! | FX12: =AND(Feuil1!E393,"AAAAADz33rM=") -> #VALUE! | FY12: =IF(Feuil1!394:394,"AAAAADz33rQ=",0) -> 0 | FZ12: =AND(Feuil1!A394,"AAAAADz33rU=") -> #VALUE! | GA12: =AND(Feuil1!B394,"AAAAADz33rY=") -> #VALUE! | GB12: =AND(Feuil1!C394,"AAAAADz33rc=") -> #VALUE! | GC12: =AND(Feuil1!D394,"AAAAADz33rg=") -> #VALUE! | GD12: =AND(Feuil1!E394,"AAAAADz33rk=") -> #VALUE! | GE12: =IF(Feuil1!395:395,"AAAAADz33ro=",0) -> 0 | GF12: =AND(Feuil1!A395,"AAAAADz33rs=") -> #VALUE! | GG12: =AND(Feuil1!B395,"AAAAADz33rw=") -> #VALUE! | GH12: =AND(Feuil1!C395,"AAAAADz33r0=") -> #VALUE! | GI12: =AND(Feuil1!D395,"AAAAADz33r4=") -> #VALUE! | GJ12: =AND(Feuil1!E395,"AAAAADz33r8=") -> #VALUE! | GK12: =IF(Feuil1!396:396,"AAAAADz33sA=",0) -> 0 | GL12: =AND(Feuil1!A396,"AAAAADz33sE=") -> #VALUE! | GM12: =AND(Feuil1!B396,"AAAAADz33sI=") -> #VALUE! | GN12: =AND(Feuil1!C396,"AAAAADz33sM=") -> #VALUE! | GO12: =AND(Feuil1!D396,"AAAAADz33sQ=") -> #VALUE! | GP12: =AND(Feuil1!E396,"AAAAADz33sU=") -> #VALUE! | GQ12: =IF(Feuil1!397:397,"AAAAADz33sY=",0) -> 0 | GR12: =AND(Feuil1!A397,"AAAAADz33sc=") -> #VALUE! | GS12: =AND(Feuil1!B397,"AAAAADz33sg=") -> #VALUE! | GT12: =AND(Feuil1!C397,"AAAAADz33sk=") -> #VALUE! | GU12: =AND(Feuil1!D397,"AAAAADz33so=") -> #VALUE! | GV12: =AND(Feuil1!E397,"AAAAADz33ss=") -> #VALUE! | GW12: =IF(Feuil1!398:398,"AAAAADz33sw=",0) -> 0 | GX12: =AND(Feuil1!A398,"AAAAADz33s0=") -> #VALUE! | GY12: =AND(Feuil1!B398,"AAAAADz33s4=") -> #VALUE! | GZ12: =AND(Feuil1!C398,"AAAAADz33s8=") -> #VALUE! | HA12: =AND(Feuil1!D398,"AAAAADz33tA=") -> #VALUE! | HB12: =AND(Feuil1!E398,"AAAAADz33tE=") -> #VALUE! | HC12: =IF(Feuil1!399:399,"AAAAADz33tI=",0) -> 0 | HD12: =AND(Feuil1!A399,"AAAAADz33tM=") -> #VALUE! | HE12: =AND(Feuil1!B399,"AAAAADz33tQ=") -> #VALUE! | HF12: =AND(Feuil1!C399,"AAAAADz33tU=") -> #VALUE! | HG12: =AND(Feuil1!D399,"AAAAADz33tY=") -> #VALUE! | HH12: =AND(Feuil1!E399,"AAAAADz33tc=") -> #VALUE! | HI12: =IF(Feuil1!400:400,"AAAAADz33tg=",0) -> 0 | HJ12: =AND(Feuil1!A400,"AAAAADz33tk=") -> #VALUE! | HK12: =AND(Feuil1!B400,"AAAAADz33to=") -> #VALUE! | HL12: =AND(Feuil1!C400,"AAAAADz33ts=") -> #VALUE! | HM12: =AND(Feuil1!D400,"AAAAADz33tw=") -> #VALUE! | HN12: =AND(Feuil1!E400,"AAAAADz33t0=") -> #VALUE! | HO12: =IF(Feuil1!401:401,"AAAAADz33t4=",0) -> 0 | HP12: =AND(Feuil1!A401,"AAAAADz33t8=") -> #VALUE! | HQ12: =AND(Feuil1!B401,"AAAAADz33uA=") -> #VALUE! | HR12: =AND(Feuil1!C401,"AAAAADz33uE=") -> #VALUE! | HS12: =AND(Feuil1!D401,"AAAAADz33uI=") -> #VALUE! | HT12: =AND(Feuil1!E401,"AAAAADz33uM=") -> #VALUE! | HU12: =IF(Feuil1!402:402,"AAAAADz33uQ=",0) -> 0 | HV12: =AND(Feuil1!A402,"AAAAADz33uU=") -> #VALUE! | HW12: =AND(Feuil1!B402,"AAAAADz33uY=") -> #VALUE! | HX12: =AND(Feuil1!C402,"AAAAADz33uc=") -> #VALUE! | HY12: =AND(Feuil1!D402,"AAAAADz33ug=") -> #VALUE! | HZ12: =AND(Feuil1!E402,"AAAAADz33uk=") -> #VALUE! | IA12: =IF(Feuil1!403:403,"AAAAADz33uo=",0) -> 0 | IB12: =AND(Feuil1!A403,"AAAAADz33us=") -> #VALUE! | IC12: =AND(Feuil1!B403,"AAAAADz33uw=") -> #VALUE! | ID12: =AND(Feuil1!C403,"AAAAADz33u0=") -> #VALUE! | IE12: =AND(Feuil1!D403,"AAAAADz33u4=") -> #VALUE! | IF12: =AND(Feuil1!E403,"AAAAADz33u8=") -> #VALUE! | IG12: =IF(Feuil1!404:404,"AAAAADz33vA=",0) -> 0 | IH12: =AND(Feuil1!A404,"AAAAADz33vE=") -> #VALUE! | II12: =AND(Feuil1!B404,"AAAAADz33vI=") -> #VALUE! | IJ12: =AND(Feuil1!C404,"AAAAADz33vM=") -> #VALUE! | IK12: =AND(Feuil1!D404,"AAAAADz33vQ=") -> #VALUE! | IL12: =AND(Feuil1!E404,"AAAAADz33vU=") -> #VALUE! | IM12: =IF(Feuil1!405:405,"AAAAADz33vY=",0) -> 0 | IN12: =AND(Feuil1!A405,"AAAAADz33vc=") -> #VALUE! | IO12: =AND(Feuil1!B405,"AAAAADz33vg=") -> #VALUE! | IP12: =AND(Feuil1!C405,"AAAAADz33vk=") -> #VALUE! | IQ12: =AND(Feuil1!D405,"AAAAADz33vo=") -> #VALUE! | IR12: =AND(Feuil1!E405,"AAAAADz33vs=") -> #VALUE! | IS12: =IF(Feuil1!406:406,"AAAAADz33vw=",0) -> 0 | IT12: =AND(Feuil1!A406,"AAAAADz33v0=") -> #VALUE! | IU12: =AND(Feuil1!B406,"AAAAADz33v4=") -> #VALUE! | IV12: =AND(Feuil1!C406,"AAAAADz33v8=") -> #VALUE!
A13: =AND(Feuil1!D406,"AAAAAH7v/QA=") -> #VALUE! | B13: =AND(Feuil1!E406,"AAAAAH7v/QE=") -> #VALUE! | C13: =IF(Feuil1!407:407,"AAAAAH7v/QI=",0) -> 0 | D13: =AND(Feuil1!A407,"AAAAAH7v/QM=") -> #VALUE! | E13: =AND(Feuil1!B407,"AAAAAH7v/QQ=") -> #VALUE! | F13: =AND(Feuil1!C407,"AAAAAH7v/QU=") -> #VALUE! | G13: =AND(Feuil1!D407,"AAAAAH7v/QY=") -> #VALUE! | H13: =AND(Feuil1!E407,"AAAAAH7v/Qc=") -> #VALUE! | I13: =IF(Feuil1!408:408,"AAAAAH7v/Qg=",0) -> 0 | J13: =AND(Feuil1!A408,"AAAAAH7v/Qk=") -> #VALUE! | K13: =AND(Feuil1!B408,"AAAAAH7v/Qo=") -> #VALUE! | L13: =AND(Feuil1!C408,"AAAAAH7v/Qs=") -> #VALUE! | M13: =AND(Feuil1!D408,"AAAAAH7v/Qw=") -> #VALUE! | N13: =AND(Feuil1!E408,"AAAAAH7v/Q0=") -> #VALUE! | O13: =IF(Feuil1!409:409,"AAAAAH7v/Q4=",0) -> 0 | P13: =AND(Feuil1!A409,"AAAAAH7v/Q8=") -> #VALUE! | Q13: =AND(Feuil1!B409,"AAAAAH7v/RA=") -> #VALUE! | R13: =AND(Feuil1!C409,"AAAAAH7v/RE=") -> #VALUE! | S13: =AND(Feuil1!D409,"AAAAAH7v/RI=") -> #VALUE! | T13: =AND(Feuil1!E409,"AAAAAH7v/RM=") -> #VALUE! | U13: =IF(Feuil1!410:410,"AAAAAH7v/RQ=",0) -> 0 | V13: =AND(Feuil1!A410,"AAAAAH7v/RU=") -> #VALUE! | W13: =AND(Feuil1!B410,"AAAAAH7v/RY=") -> #VALUE! | X13: =AND(Feuil1!C410,"AAAAAH7v/Rc=") -> #VALUE! | Y13: =AND(Feuil1!D410,"AAAAAH7v/Rg=") -> #VALUE! | Z13: =AND(Feuil1!E410,"AAAAAH7v/Rk=") -> #VALUE! | AA13: =IF(Feuil1!411:411,"AAAAAH7v/Ro=",0) -> 0 | AB13: =AND(Feuil1!A411,"AAAAAH7v/Rs=") -> #VALUE! | AC13: =AND(Feuil1!B411,"AAAAAH7v/Rw=") -> #VALUE! | AD13: =AND(Feuil1!C411,"AAAAAH7v/R0=") -> #VALUE! | AE13: =AND(Feuil1!D411,"AAAAAH7v/R4=") -> #VALUE! | AF13: =AND(Feuil1!E411,"AAAAAH7v/R8=") -> #VALUE! | AG13: =IF(Feuil1!412:412,"AAAAAH7v/SA=",0) -> 0 | AH13: =AND(Feuil1!A412,"AAAAAH7v/SE=") -> #VALUE! | AI13: =AND(Feuil1!B412,"AAAAAH7v/SI=") -> #VALUE! | AJ13: =AND(Feuil1!C412,"AAAAAH7v/SM=") -> #VALUE! | AK13: =AND(Feuil1!D412,"AAAAAH7v/SQ=") -> #VALUE! | AL13: =AND(Feuil1!E412,"AAAAAH7v/SU=") -> #VALUE! | AM13: =IF(Feuil1!413:413,"AAAAAH7v/SY=",0) -> 0 | AN13: =AND(Feuil1!A413,"AAAAAH7v/Sc=") -> #VALUE! | AO13: =AND(Feuil1!B413,"AAAAAH7v/Sg=") -> #VALUE! | AP13: =AND(Feuil1!C413,"AAAAAH7v/Sk=") -> #VALUE! | AQ13: =AND(Feuil1!D413,"AAAAAH7v/So=") -> #VALUE! | AR13: =AND(Feuil1!E413,"AAAAAH7v/Ss=") -> #VALUE! | AS13: =IF(Feuil1!414:414,"AAAAAH7v/Sw=",0) -> 0 | AT13: =AND(Feuil1!A414,"AAAAAH7v/S0=") -> #VALUE! | AU13: =AND(Feuil1!B414,"AAAAAH7v/S4=") -> #VALUE! | AV13: =AND(Feuil1!C414,"AAAAAH7v/S8=") -> #VALUE! | AW13: =AND(Feuil1!D414,"AAAAAH7v/TA=") -> #VALUE! | AX13: =AND(Feuil1!E414,"AAAAAH7v/TE=") -> #VALUE! | AY13: =IF(Feuil1!415:415,"AAAAAH7v/TI=",0) -> 0 | AZ13: =AND(Feuil1!A415,"AAAAAH7v/TM=") -> #VALUE! | BA13: =AND(Feuil1!B415,"AAAAAH7v/TQ=") -> #VALUE! | BB13: =AND(Feuil1!C415,"AAAAAH7v/TU=") -> #VALUE! | BC13: =AND(Feuil1!D415,"AAAAAH7v/TY=") -> #VALUE! | BD13: =AND(Feuil1!E415,"AAAAAH7v/Tc=") -> #VALUE! | BE13: =IF(Feuil1!416:416,"AAAAAH7v/Tg=",0) -> 0 | BF13: =AND(Feuil1!A416,"AAAAAH7v/Tk=") -> #VALUE! | BG13: =AND(Feuil1!B416,"AAAAAH7v/To=") -> #VALUE! | BH13: =AND(Feuil1!C416,"AAAAAH7v/Ts=") -> #VALUE! | BI13: =AND(Feuil1!D416,"AAAAAH7v/Tw=") -> #VALUE! | BJ13: =AND(Feuil1!E416,"AAAAAH7v/T0=") -> #VALUE! | BK13: =IF(Feuil1!417:417,"AAAAAH7v/T4=",0) -> 0 | BL13: =AND(Feuil1!A417,"AAAAAH7v/T8=") -> #VALUE! | BM13: =AND(Feuil1!B417,"AAAAAH7v/UA=") -> #VALUE! | BN13: =AND(Feuil1!C417,"AAAAAH7v/UE=") -> #VALUE! | BO13: =AND(Feuil1!D417,"AAAAAH7v/UI=") -> #VALUE! | BP13: =AND(Feuil1!E417,"AAAAAH7v/UM=") -> #VALUE! | BQ13: =IF(Feuil1!418:418,"AAAAAH7v/UQ=",0) -> 0 | BR13: =AND(Feuil1!A418,"AAAAAH7v/UU=") -> #VALUE! | BS13: =AND(Feuil1!B418,"AAAAAH7v/UY=") -> #VALUE! | BT13: =AND(Feuil1!C418,"AAAAAH7v/Uc=") -> #VALUE! | BU13: =AND(Feuil1!D418,"AAAAAH7v/Ug=") -> #VALUE! | BV13: =AND(Feuil1!E418,"AAAAAH7v/Uk=") -> #VALUE! | BW13: =IF(Feuil1!419:419,"AAAAAH7v/Uo=",0) -> 0 | BX13: =AND(Feuil1!A419,"AAAAAH7v/Us=") -> #VALUE! | BY13: =AND(Feuil1!B419,"AAAAAH7v/Uw=") -> #VALUE! | BZ13: =AND(Feuil1!C419,"AAAAAH7v/U0=") -> #VALUE! | CA13: =AND(Feuil1!D419,"AAAAAH7v/U4=") -> #VALUE! | CB13: =AND(Feuil1!E419,"AAAAAH7v/U8=") -> #VALUE! | CC13: =IF(Feuil1!420:420,"AAAAAH7v/VA=",0) -> 0 | CD13: =AND(Feuil1!A420,"AAAAAH7v/VE=") -> #VALUE! | CE13: =AND(Feuil1!B420,"AAAAAH7v/VI=") -> #VALUE! | CF13: =AND(Feuil1!C420,"AAAAAH7v/VM=") -> #VALUE! | CG13: =AND(Feuil1!D420,"AAAAAH7v/VQ=") -> #VALUE! | CH13: =AND(Feuil1!E420,"AAAAAH7v/VU=") -> #VALUE! | CI13: =IF(Feuil1!421:421,"AAAAAH7v/VY=",0) -> 0 | CJ13: =AND(Feuil1!A421,"AAAAAH7v/Vc=") -> #VALUE! | CK13: =AND(Feuil1!B421,"AAAAAH7v/Vg=") -> #VALUE! | CL13: =AND(Feuil1!C421,"AAAAAH7v/Vk=") -> #VALUE! | CM13: =AND(Feuil1!D421,"AAAAAH7v/Vo=") -> #VALUE! | CN13: =AND(Feuil1!E421,"AAAAAH7v/Vs=") -> #VALUE! | CO13: =IF(Feuil1!422:422,"AAAAAH7v/Vw=",0) -> 0 | CP13: =AND(Feuil1!A422,"AAAAAH7v/V0=") -> #VALUE! | CQ13: =AND(Feuil1!B422,"AAAAAH7v/V4=") -> #VALUE! | CR13: =AND(Feuil1!C422,"AAAAAH7v/V8=") -> #VALUE! | CS13: =AND(Feuil1!D422,"AAAAAH7v/WA=") -> #VALUE! | CT13: =AND(Feuil1!E422,"AAAAAH7v/WE=") -> #VALUE! | CU13: =IF(Feuil1!423:423,"AAAAAH7v/WI=",0) -> 0 | CV13: =AND(Feuil1!A423,"AAAAAH7v/WM=") -> #VALUE! | CW13: =AND(Feuil1!B423,"AAAAAH7v/WQ=") -> #VALUE! | CX13: =AND(Feuil1!C423,"AAAAAH7v/WU=") -> #VALUE! | CY13: =AND(Feuil1!D423,"AAAAAH7v/WY=") -> #VALUE! | CZ13: =AND(Feuil1!E423,"AAAAAH7v/Wc=") -> #VALUE! | DA13: =IF(Feuil1!424:424,"AAAAAH7v/Wg=",0) -> 0 | DB13: =AND(Feuil1!A424,"AAAAAH7v/Wk=") -> #VALUE! | DC13: =AND(Feuil1!B424,"AAAAAH7v/Wo=") -> #VALUE! | DD13: =AND(Feuil1!C424,"AAAAAH7v/Ws=") -> #VALUE! | DE13: =AND(Feuil1!D424,"AAAAAH7v/Ww=") -> #VALUE! | DF13: =AND(Feuil1!E424,"AAAAAH7v/W0=") -> #VALUE! | DG13: =IF(Feuil1!425:425,"AAAAAH7v/W4=",0) -> 0 | DH13: =AND(Feuil1!A425,"AAAAAH7v/W8=") -> #VALUE! | DI13: =AND(Feuil1!B425,"AAAAAH7v/XA=") -> #VALUE! | DJ13: =AND(Feuil1!C425,"AAAAAH7v/XE=") -> #VALUE! | DK13: =AND(Feuil1!D425,"AAAAAH7v/XI=") -> #VALUE! | DL13: =AND(Feuil1!E425,"AAAAAH7v/XM=") -> #VALUE! | DM13: =IF(Feuil1!426:426,"AAAAAH7v/XQ=",0) -> 0 | DN13: =AND(Feuil1!A426,"AAAAAH7v/XU=") -> #VALUE! | DO13: =AND(Feuil1!B426,"AAAAAH7v/XY=") -> #VALUE! | DP13: =AND(Feuil1!C426,"AAAAAH7v/Xc=") -> #VALUE! | DQ13: =AND(Feuil1!D426,"AAAAAH7v/Xg=") -> #VALUE! | DR13: =AND(Feuil1!E426,"AAAAAH7v/Xk=") -> #VALUE! | DS13: =IF(Feuil1!427:427,"AAAAAH7v/Xo=",0) -> 0 | DT13: =AND(Feuil1!A427,"AAAAAH7v/Xs=") -> #VALUE! | DU13: =AND(Feuil1!B427,"AAAAAH7v/Xw=") -> #VALUE! | DV13: =AND(Feuil1!C427,"AAAAAH7v/X0=") -> #VALUE! | DW13: =AND(Feuil1!D427,"AAAAAH7v/X4=") -> #VALUE! | DX13: =AND(Feuil1!E427,"AAAAAH7v/X8=") -> #VALUE! | DY13: =IF(Feuil1!428:428,"AAAAAH7v/YA=",0) -> 0 | DZ13: =AND(Feuil1!A428,"AAAAAH7v/YE=") -> #VALUE! | EA13: =AND(Feuil1!B428,"AAAAAH7v/YI=") -> #VALUE! | EB13: =AND(Feuil1!C428,"AAAAAH7v/YM=") -> #VALUE! | EC13: =AND(Feuil1!D428,"AAAAAH7v/YQ=") -> #VALUE! | ED13: =AND(Feuil1!E428,"AAAAAH7v/YU=") -> #VALUE! | EE13: =IF(Feuil1!429:429,"AAAAAH7v/YY=",0) -> 0 | EF13: =AND(Feuil1!A429,"AAAAAH7v/Yc=") -> #VALUE! | EG13: =AND(Feuil1!B429,"AAAAAH7v/Yg=") -> #VALUE! | EH13: =AND(Feuil1!C429,"AAAAAH7v/Yk=") -> #VALUE! | EI13: =AND(Feuil1!D429,"AAAAAH7v/Yo=") -> #VALUE! | EJ13: =AND(Feuil1!E429,"AAAAAH7v/Ys=") -> #VALUE! | EK13: =IF(Feuil1!430:430,"AAAAAH7v/Yw=",0) -> 0 | EL13: =AND(Feuil1!A430,"AAAAAH7v/Y0=") -> #VALUE! | EM13: =AND(Feuil1!B430,"AAAAAH7v/Y4=") -> #VALUE! | EN13: =AND(Feuil1!C430,"AAAAAH7v/Y8=") -> #VALUE! | EO13: =AND(Feuil1!D430,"AAAAAH7v/ZA=") -> #VALUE! | EP13: =AND(Feuil1!E430,"AAAAAH7v/ZE=") -> #VALUE! | EQ13: =IF(Feuil1!431:431,"AAAAAH7v/ZI=",0) -> 0 | ER13: =AND(Feuil1!A431,"AAAAAH7v/ZM=") -> #VALUE! | ES13: =AND(Feuil1!B431,"AAAAAH7v/ZQ=") -> #VALUE! | ET13: =AND(Feuil1!C431,"AAAAAH7v/ZU=") -> #VALUE! | EU13: =AND(Feuil1!D431,"AAAAAH7v/ZY=") -> #VALUE! | EV13: =AND(Feuil1!E431,"AAAAAH7v/Zc=") -> #VALUE! | EW13: =IF(Feuil1!432:432,"AAAAAH7v/Zg=",0) -> 0 | EX13: =AND(Feuil1!A432,"AAAAAH7v/Zk=") -> #VALUE! | EY13: =AND(Feuil1!B432,"AAAAAH7v/Zo=") -> #VALUE! | EZ13: =AND(Feuil1!C432,"AAAAAH7v/Zs=") -> #VALUE! | FA13: =AND(Feuil1!D432,"AAAAAH7v/Zw=") -> #VALUE! | FB13: =AND(Feuil1!E432,"AAAAAH7v/Z0=") -> #VALUE! | FC13: =IF(Feuil1!433:433,"AAAAAH7v/Z4=",0) -> 0 | FD13: =AND(Feuil1!A433,"AAAAAH7v/Z8=") -> #VALUE! | FE13: =AND(Feuil1!B433,"AAAAAH7v/aA=") -> #VALUE! | FF13: =AND(Feuil1!C433,"AAAAAH7v/aE=") -> #VALUE! | FG13: =AND(Feuil1!D433,"AAAAAH7v/aI=") -> #VALUE! | FH13: =AND(Feuil1!E433,"AAAAAH7v/aM=") -> #VALUE! | FI13: =IF(Feuil1!434:434,"AAAAAH7v/aQ=",0) -> 0 | FJ13: =AND(Feuil1!A434,"AAAAAH7v/aU=") -> #VALUE! | FK13: =AND(Feuil1!B434,"AAAAAH7v/aY=") -> #VALUE! | FL13: =AND(Feuil1!C434,"AAAAAH7v/ac=") -> #VALUE! | FM13: =AND(Feuil1!D434,"AAAAAH7v/ag=") -> #VALUE! | FN13: =AND(Feuil1!E434,"AAAAAH7v/ak=") -> #VALUE! | FO13: =IF(Feuil1!435:435,"AAAAAH7v/ao=",0) -> 0 | FP13: =AND(Feuil1!A435,"AAAAAH7v/as=") -> #VALUE! | FQ13: =AND(Feuil1!B435,"AAAAAH7v/aw=") -> #VALUE! | FR13: =AND(Feuil1!C435,"AAAAAH7v/a0=") -> #VALUE! | FS13: =AND(Feuil1!D435,"AAAAAH7v/a4=") -> #VALUE! | FT13: =AND(Feuil1!E435,"AAAAAH7v/a8=") -> #VALUE! | FU13: =IF(Feuil1!436:436,"AAAAAH7v/bA=",0) -> 0 | FV13: =AND(Feuil1!A436,"AAAAAH7v/bE=") -> #VALUE! | FW13: =AND(Feuil1!B436,"AAAAAH7v/bI=") -> #VALUE! | FX13: =AND(Feuil1!C436,"AAAAAH7v/bM=") -> #VALUE! | FY13: =AND(Feuil1!D436,"AAAAAH7v/bQ=") -> #VALUE! | FZ13: =AND(Feuil1!E436,"AAAAAH7v/bU=") -> #VALUE! | GA13: =IF(Feuil1!437:437,"AAAAAH7v/bY=",0) -> 0 | GB13: =AND(Feuil1!A437,"AAAAAH7v/bc=") -> #VALUE! | GC13: =AND(Feuil1!B437,"AAAAAH7v/bg=") -> #VALUE! | GD13: =AND(Feuil1!C437,"AAAAAH7v/bk=") -> #VALUE! | GE13: =AND(Feuil1!D437,"AAAAAH7v/bo=") -> #VALUE! | GF13: =AND(Feuil1!E437,"AAAAAH7v/bs=") -> #VALUE! | GG13: =IF(Feuil1!438:438,"AAAAAH7v/bw=",0) -> 0 | GH13: =AND(Feuil1!A438,"AAAAAH7v/b0=") -> #VALUE! | GI13: =AND(Feuil1!B438,"AAAAAH7v/b4=") -> #VALUE! | GJ13: =AND(Feuil1!C438,"AAAAAH7v/b8=") -> #VALUE! | GK13: =AND(Feuil1!D438,"AAAAAH7v/cA=") -> #VALUE! | GL13: =AND(Feuil1!E438,"AAAAAH7v/cE=") -> #VALUE! | GM13: =IF(Feuil1!439:439,"AAAAAH7v/cI=",0) -> 0 | GN13: =AND(Feuil1!A439,"AAAAAH7v/cM=") -> #VALUE! | GO13: =AND(Feuil1!B439,"AAAAAH7v/cQ=") -> #VALUE! | GP13: =AND(Feuil1!C439,"AAAAAH7v/cU=") -> #VALUE! | GQ13: =AND(Feuil1!D439,"AAAAAH7v/cY=") -> #VALUE! | GR13: =AND(Feuil1!E439,"AAAAAH7v/cc=") -> #VALUE! | GS13: =IF(Feuil1!440:440,"AAAAAH7v/cg=",0) -> 0 | GT13: =AND(Feuil1!A440,"AAAAAH7v/ck=") -> #VALUE! | GU13: =AND(Feuil1!B440,"AAAAAH7v/co=") -> #VALUE! | GV13: =AND(Feuil1!C440,"AAAAAH7v/cs=") -> #VALUE! | GW13: =AND(Feuil1!D440,"AAAAAH7v/cw=") -> #VALUE! | GX13: =AND(Feuil1!E440,"AAAAAH7v/c0=") -> #VALUE! | GY13: =IF(Feuil1!441:441,"AAAAAH7v/c4=",0) -> 0 | GZ13: =AND(Feuil1!A441,"AAAAAH7v/c8=") -> #VALUE! | HA13: =AND(Feuil1!B441,"AAAAAH7v/dA=") -> #VALUE! | HB13: =AND(Feuil1!C441,"AAAAAH7v/dE=") -> #VALUE! | HC13: =AND(Feuil1!D441,"AAAAAH7v/dI=") -> #VALUE! | HD13: =AND(Feuil1!E441,"AAAAAH7v/dM=") -> #VALUE! | HE13: =IF(Feuil1!442:442,"AAAAAH7v/dQ=",0) -> 0 | HF13: =AND(Feuil1!A442,"AAAAAH7v/dU=") -> #VALUE! | HG13: =AND(Feuil1!B442,"AAAAAH7v/dY=") -> #VALUE! | HH13: =AND(Feuil1!C442,"AAAAAH7v/dc=") -> #VALUE! | HI13: =AND(Feuil1!D442,"AAAAAH7v/dg=") -> #VALUE! | HJ13: =AND(Feuil1!E442,"AAAAAH7v/dk=") -> #VALUE! | HK13: =IF(Feuil1!443:443,"AAAAAH7v/do=",0) -> 0 | HL13: =AND(Feuil1!A443,"AAAAAH7v/ds=") -> #VALUE! | HM13: =AND(Feuil1!B443,"AAAAAH7v/dw=") -> #VALUE! | HN13: =AND(Feuil1!C443,"AAAAAH7v/d0=") -> #VALUE! | HO13: =AND(Feuil1!D443,"AAAAAH7v/d4=") -> #VALUE! | HP13: =AND(Feuil1!E443,"AAAAAH7v/d8=") -> #VALUE! | HQ13: =IF(Feuil1!444:444,"AAAAAH7v/eA=",0) -> 0 | HR13: =AND(Feuil1!A444,"AAAAAH7v/eE=") -> #VALUE! | HS13: =AND(Feuil1!B444,"AAAAAH7v/eI=") -> #VALUE! | HT13: =AND(Feuil1!C444,"AAAAAH7v/eM=") -> #VALUE! | HU13: =AND(Feuil1!D444,"AAAAAH7v/eQ=") -> #VALUE! | HV13: =AND(Feuil1!E444,"AAAAAH7v/eU=") -> #VALUE! | HW13: =IF(Feuil1!445:445,"AAAAAH7v/eY=",0) -> 0 | HX13: =AND(Feuil1!A445,"AAAAAH7v/ec=") -> #VALUE! | HY13: =AND(Feuil1!B445,"AAAAAH7v/eg=") -> #VALUE! | HZ13: =AND(Feuil1!C445,"AAAAAH7v/ek=") -> #VALUE! | IA13: =AND(Feuil1!D445,"AAAAAH7v/eo=") -> #VALUE! | IB13: =AND(Feuil1!E445,"AAAAAH7v/es=") -> #VALUE! | IC13: =IF(Feuil1!446:446,"AAAAAH7v/ew=",0) -> 0 | ID13: =AND(Feuil1!A446,"AAAAAH7v/e0=") -> #VALUE! | IE13: =AND(Feuil1!B446,"AAAAAH7v/e4=") -> #VALUE! | IF13: =AND(Feuil1!C446,"AAAAAH7v/e8=") -> #VALUE! | IG13: =AND(Feuil1!D446,"AAAAAH7v/fA=") -> #VALUE! | IH13: =AND(Feuil1!E446,"AAAAAH7v/fE=") -> #VALUE! | II13: =IF(Feuil1!447:447,"AAAAAH7v/fI=",0) -> 0 | IJ13: =AND(Feuil1!A447,"AAAAAH7v/fM=") -> #VALUE! | IK13: =AND(Feuil1!B447,"AAAAAH7v/fQ=") -> #VALUE! | IL13: =AND(Feuil1!C447,"AAAAAH7v/fU=") -> #VALUE! | IM13: =AND(Feuil1!D447,"AAAAAH7v/fY=") -> #VALUE! | IN13: =AND(Feuil1!E447,"AAAAAH7v/fc=") -> #VALUE! | IO13: =IF(Feuil1!448:448,"AAAAAH7v/fg=",0) -> 0 | IP13: =AND(Feuil1!A448,"AAAAAH7v/fk=") -> #VALUE! | IQ13: =AND(Feuil1!B448,"AAAAAH7v/fo=") -> #VALUE! | IR13: =AND(Feuil1!C448,"AAAAAH7v/fs=") -> #VALUE! | IS13: =AND(Feuil1!D448,"AAAAAH7v/fw=") -> #VALUE! | IT13: =AND(Feuil1!E448,"AAAAAH7v/f0=") -> #VALUE! | IU13: =IF(Feuil1!449:449,"AAAAAH7v/f4=",0) -> 0 | IV13: =AND(Feuil1!A449,"AAAAAH7v/f8=") -> #VALUE!
A14: =AND(Feuil1!B449,"AAAAAF//fgA=") -> #VALUE! | B14: =AND(Feuil1!C449,"AAAAAF//fgE=") -> #VALUE! | C14: =AND(Feuil1!D449,"AAAAAF//fgI=") -> #VALUE! | D14: =AND(Feuil1!E449,"AAAAAF//fgM=") -> #VALUE! | E14: =IF(Feuil1!450:450,"AAAAAF//fgQ=",0) -> 0 | F14: =AND(Feuil1!A450,"AAAAAF//fgU=") -> #VALUE! | G14: =AND(Feuil1!B450,"AAAAAF//fgY=") -> #VALUE! | H14: =AND(Feuil1!C450,"AAAAAF//fgc=") -> #VALUE! | I14: =AND(Feuil1!D450,"AAAAAF//fgg=") -> #VALUE! | J14: =AND(Feuil1!E450,"AAAAAF//fgk=") -> #VALUE! | K14: =IF(Feuil1!451:451,"AAAAAF//fgo=",0) -> 0 | L14: =AND(Feuil1!A451,"AAAAAF//fgs=") -> #VALUE! | M14: =AND(Feuil1!B451,"AAAAAF//fgw=") -> #VALUE! | N14: =AND(Feuil1!C451,"AAAAAF//fg0=") -> #VALUE! | O14: =AND(Feuil1!D451,"AAAAAF//fg4=") -> #VALUE! | P14: =AND(Feuil1!E451,"AAAAAF//fg8=") -> #VALUE! | Q14: =IF(Feuil1!452:452,"AAAAAF//fhA=",0) -> 0 | R14: =AND(Feuil1!A452,"AAAAAF//fhE=") -> #VALUE! | S14: =AND(Feuil1!B452,"AAAAAF//fhI=") -> #VALUE! | T14: =AND(Feuil1!C452,"AAAAAF//fhM=") -> #VALUE! | U14: =AND(Feuil1!D452,"AAAAAF//fhQ=") -> #VALUE! | V14: =AND(Feuil1!E452,"AAAAAF//fhU=") -> #VALUE! | W14: =IF(Feuil1!453:453,"AAAAAF//fhY=",0) -> 0 | X14: =AND(Feuil1!A453,"AAAAAF//fhc=") -> #VALUE! | Y14: =AND(Feuil1!B453,"AAAAAF//fhg=") -> #VALUE! | Z14: =AND(Feuil1!C453,"AAAAAF//fhk=") -> #VALUE! | AA14: =AND(Feuil1!D453,"AAAAAF//fho=") -> #VALUE! | AB14: =AND(Feuil1!E453,"AAAAAF//fhs=") -> #VALUE! | AC14: =IF(Feuil1!454:454,"AAAAAF//fhw=",0) -> 0 | AD14: =AND(Feuil1!A454,"AAAAAF//fh0=") -> #VALUE! | AE14: =AND(Feuil1!B454,"AAAAAF//fh4=") -> #VALUE! | AF14: =AND(Feuil1!C454,"AAAAAF//fh8=") -> #VALUE! | AG14: =AND(Feuil1!D454,"AAAAAF//fiA=") -> #VALUE! | AH14: =AND(Feuil1!E454,"AAAAAF//fiE=") -> #VALUE! | AI14: =IF(Feuil1!455:455,"AAAAAF//fiI=",0) -> 0 | AJ14: =AND(Feuil1!A455,"AAAAAF//fiM=") -> #VALUE! | AK14: =AND(Feuil1!B455,"AAAAAF//fiQ=") -> #VALUE! | AL14: =AND(Feuil1!C455,"AAAAAF//fiU=") -> #VALUE! | AM14: =AND(Feuil1!D455,"AAAAAF//fiY=") -> #VALUE! | AN14: =AND(Feuil1!E455,"AAAAAF//fic=") -> #VALUE! | AO14: =IF(Feuil1!456:456,"AAAAAF//fig=",0) -> 0 | AP14: =AND(Feuil1!A456,"AAAAAF//fik=") -> #VALUE! | AQ14: =AND(Feuil1!B456,"AAAAAF//fio=") -> #VALUE! | AR14: =AND(Feuil1!C456,"AAAAAF//fis=") -> #VALUE! | AS14: =AND(Feuil1!D456,"AAAAAF//fiw=") -> #VALUE! | AT14: =AND(Feuil1!E456,"AAAAAF//fi0=") -> #VALUE! | AU14: =IF(Feuil1!457:457,"AAAAAF//fi4=",0) -> 0 | AV14: =AND(Feuil1!A457,"AAAAAF//fi8=") -> #VALUE! | AW14: =AND(Feuil1!B457,"AAAAAF//fjA=") -> #VALUE! | AX14: =AND(Feuil1!C457,"AAAAAF//fjE=") -> #VALUE! | AY14: =AND(Feuil1!D457,"AAAAAF//fjI=") -> #VALUE! | AZ14: =AND(Feuil1!E457,"AAAAAF//fjM=") -> #VALUE! | BA14: =IF(Feuil1!458:458,"AAAAAF//fjQ=",0) -> 0 | BB14: =AND(Feuil1!A458,"AAAAAF//fjU=") -> #VALUE! | BC14: =AND(Feuil1!B458,"AAAAAF//fjY=") -> #VALUE! | BD14: =AND(Feuil1!C458,"AAAAAF//fjc=") -> #VALUE! | BE14: =AND(Feuil1!D458,"AAAAAF//fjg=") -> #VALUE! | BF14: =AND(Feuil1!E458,"AAAAAF//fjk=") -> #VALUE! | BG14: =IF(Feuil1!459:459,"AAAAAF//fjo=",0) -> 0 | BH14: =AND(Feuil1!A459,"AAAAAF//fjs=") -> #VALUE! | BI14: =AND(Feuil1!B459,"AAAAAF//fjw=") -> #VALUE! | BJ14: =AND(Feuil1!C459,"AAAAAF//fj0=") -> #VALUE! | BK14: =AND(Feuil1!D459,"AAAAAF//fj4=") -> #VALUE! | BL14: =AND(Feuil1!E459,"AAAAAF//fj8=") -> #VALUE! | BM14: =IF(Feuil1!460:460,"AAAAAF//fkA=",0) -> 0 | BN14: =AND(Feuil1!A460,"AAAAAF//fkE=") -> #VALUE! | BO14: =AND(Feuil1!B460,"AAAAAF//fkI=") -> #VALUE! | BP14: =AND(Feuil1!C460,"AAAAAF//fkM=") -> #VALUE! | BQ14: =AND(Feuil1!D460,"AAAAAF//fkQ=") -> #VALUE! | BR14: =AND(Feuil1!E460,"AAAAAF//fkU=") -> #VALUE! | BS14: =IF(Feuil1!461:461,"AAAAAF//fkY=",0) -> 0 | BT14: =AND(Feuil1!A461,"AAAAAF//fkc=") -> #VALUE! | BU14: =AND(Feuil1!B461,"AAAAAF//fkg=") -> #VALUE! | BV14: =AND(Feuil1!C461,"AAAAAF//fkk=") -> #VALUE! | BW14: =AND(Feuil1!D461,"AAAAAF//fko=") -> #VALUE! | BX14: =AND(Feuil1!E461,"AAAAAF//fks=") -> #VALUE! | BY14: =IF(Feuil1!462:462,"AAAAAF//fkw=",0) -> 0 | BZ14: =AND(Feuil1!A462,"AAAAAF//fk0=") -> #VALUE! | CA14: =AND(Feuil1!B462,"AAAAAF//fk4=") -> #VALUE! | CB14: =AND(Feuil1!C462,"AAAAAF//fk8=") -> #VALUE! | CC14: =AND(Feuil1!D462,"AAAAAF//flA=") -> #VALUE! | CD14: =AND(Feuil1!E462,"AAAAAF//flE=") -> #VALUE! | CE14: =IF(Feuil1!463:463,"AAAAAF//flI=",0) -> 0 | CF14: =AND(Feuil1!A463,"AAAAAF//flM=") -> #VALUE! | CG14: =AND(Feuil1!B463,"AAAAAF//flQ=") -> #VALUE! | CH14: =AND(Feuil1!C463,"AAAAAF//flU=") -> #VALUE! | CI14: =AND(Feuil1!D463,"AAAAAF//flY=") -> #VALUE! | CJ14: =AND(Feuil1!E463,"AAAAAF//flc=") -> #VALUE! | CK14: =IF(Feuil1!464:464,"AAAAAF//flg=",0) -> 0 | CL14: =AND(Feuil1!A464,"AAAAAF//flk=") -> #VALUE! | CM14: =AND(Feuil1!B464,"AAAAAF//flo=") -> #VALUE! | CN14: =AND(Feuil1!C464,"AAAAAF//fls=") -> #VALUE! | CO14: =AND(Feuil1!D464,"AAAAAF//flw=") -> #VALUE! | CP14: =AND(Feuil1!E464,"AAAAAF//fl0=") -> #VALUE! | CQ14: =IF(Feuil1!465:465,"AAAAAF//fl4=",0) -> 0 | CR14: =AND(Feuil1!A465,"AAAAAF//fl8=") -> #VALUE! | CS14: =AND(Feuil1!B465,"AAAAAF//fmA=") -> #VALUE! | CT14: =AND(Feuil1!C465,"AAAAAF//fmE=") -> #VALUE! | CU14: =AND(Feuil1!D465,"AAAAAF//fmI=") -> #VALUE! | CV14: =AND(Feuil1!E465,"AAAAAF//fmM=") -> #VALUE! | CW14: =IF(Feuil1!466:466,"AAAAAF//fmQ=",0) -> 0 | CX14: =AND(Feuil1!A466,"AAAAAF//fmU=") -> #VALUE! | CY14: =AND(Feuil1!B466,"AAAAAF//fmY=") -> #VALUE! | CZ14: =AND(Feuil1!C466,"AAAAAF//fmc=") -> #VALUE! | DA14: =AND(Feuil1!D466,"AAAAAF//fmg=") -> #VALUE! | DB14: =AND(Feuil1!E466,"AAAAAF//fmk=") -> #VALUE! | DC14: =IF(Feuil1!467:467,"AAAAAF//fmo=",0) -> 0 | DD14: =AND(Feuil1!A467,"AAAAAF//fms=") -> #VALUE! | DE14: =AND(Feuil1!B467,"AAAAAF//fmw=") -> #VALUE! | DF14: =AND(Feuil1!C467,"AAAAAF//fm0=") -> #VALUE! | DG14: =AND(Feuil1!D467,"AAAAAF//fm4=") -> #VALUE! | DH14: =AND(Feuil1!E467,"AAAAAF//fm8=") -> #VALUE! | DI14: =IF(Feuil1!468:468,"AAAAAF//fnA=",0) -> 0 | DJ14: =AND(Feuil1!A468,"AAAAAF//fnE=") -> #VALUE! | DK14: =AND(Feuil1!B468,"AAAAAF//fnI=") -> #VALUE! | DL14: =AND(Feuil1!C468,"AAAAAF//fnM=") -> #VALUE! | DM14: =AND(Feuil1!D468,"AAAAAF//fnQ=") -> #VALUE! | DN14: =AND(Feuil1!E468,"AAAAAF//fnU=") -> #VALUE! | DO14: =IF(Feuil1!469:469,"AAAAAF//fnY=",0) -> 0 | DP14: =AND(Feuil1!A469,"AAAAAF//fnc=") -> #VALUE! | DQ14: =AND(Feuil1!B469,"AAAAAF//fng=") -> #VALUE! | DR14: =AND(Feuil1!C469,"AAAAAF//fnk=") -> #VALUE! | DS14: =AND(Feuil1!D469,"AAAAAF//fno=") -> #VALUE! | DT14: =AND(Feuil1!E469,"AAAAAF//fns=") -> #VALUE! | DU14: =IF(Feuil1!470:470,"AAAAAF//fnw=",0) -> 0 | DV14: =AND(Feuil1!A470,"AAAAAF//fn0=") -> #VALUE! | DW14: =AND(Feuil1!B470,"AAAAAF//fn4=") -> #VALUE! | DX14: =AND(Feuil1!C470,"AAAAAF//fn8=") -> #VALUE! | DY14: =AND(Feuil1!D470,"AAAAAF//foA=") -> #VALUE! | DZ14: =AND(Feuil1!E470,"AAAAAF//foE=") -> #VALUE! | EA14: =IF(Feuil1!471:471,"AAAAAF//foI=",0) -> 0 | EB14: =AND(Feuil1!A471,"AAAAAF//foM=") -> #VALUE! | EC14: =AND(Feuil1!B471,"AAAAAF//foQ=") -> #VALUE! | ED14: =AND(Feuil1!C471,"AAAAAF//foU=") -> #VALUE! | EE14: =AND(Feuil1!D471,"AAAAAF//foY=") -> #VALUE! | EF14: =AND(Feuil1!E471,"AAAAAF//foc=") -> #VALUE! | EG14: =IF(Feuil1!472:472,"AAAAAF//fog=",0) -> 0 | EH14: =AND(Feuil1!A472,"AAAAAF//fok=") -> #VALUE! | EI14: =AND(Feuil1!B472,"AAAAAF//foo=") -> #VALUE! | EJ14: =AND(Feuil1!C472,"AAAAAF//fos=") -> #VALUE! | EK14: =AND(Feuil1!D472,"AAAAAF//fow=") -> #VALUE! | EL14: =AND(Feuil1!E472,"AAAAAF//fo0=") -> #VALUE! | EM14: =IF(Feuil1!473:473,"AAAAAF//fo4=",0) -> 0 | EN14: =AND(Feuil1!A473,"AAAAAF//fo8=") -> #VALUE! | EO14: =AND(Feuil1!B473,"AAAAAF//fpA=") -> #VALUE! | EP14: =AND(Feuil1!C473,"AAAAAF//fpE=") -> #VALUE! | EQ14: =AND(Feuil1!D473,"AAAAAF//fpI=") -> #VALUE! | ER14: =AND(Feuil1!E473,"AAAAAF//fpM=") -> #VALUE! | ES14: =IF(Feuil1!474:474,"AAAAAF//fpQ=",0) -> 0 | ET14: =AND(Feuil1!A474,"AAAAAF//fpU=") -> #VALUE! | EU14: =AND(Feuil1!B474,"AAAAAF//fpY=") -> #VALUE! | EV14: =AND(Feuil1!C474,"AAAAAF//fpc=") -> #VALUE! | EW14: =AND(Feuil1!D474,"AAAAAF//fpg=") -> #VALUE! | EX14: =AND(Feuil1!E474,"AAAAAF//fpk=") -> #VALUE! | EY14: =IF(Feuil1!475:475,"AAAAAF//fpo=",0) -> 0 | EZ14: =AND(Feuil1!A475,"AAAAAF//fps=") -> #VALUE! | FA14: =AND(Feuil1!B475,"AAAAAF//fpw=") -> #VALUE! | FB14: =AND(Feuil1!C475,"AAAAAF//fp0=") -> #VALUE! | FC14: =AND(Feuil1!D475,"AAAAAF//fp4=") -> #VALUE! | FD14: =AND(Feuil1!E475,"AAAAAF//fp8=") -> #VALUE! | FE14: =IF(Feuil1!476:476,"AAAAAF//fqA=",0) -> 0 | FF14: =AND(Feuil1!A476,"AAAAAF//fqE=") -> #VALUE! | FG14: =AND(Feuil1!B476,"AAAAAF//fqI=") -> #VALUE! | FH14: =AND(Feuil1!C476,"AAAAAF//fqM=") -> #VALUE! | FI14: =AND(Feuil1!D476,"AAAAAF//fqQ=") -> #VALUE! | FJ14: =AND(Feuil1!E476,"AAAAAF//fqU=") -> #VALUE! | FK14: =IF(Feuil1!477:477,"AAAAAF//fqY=",0) -> 0 | FL14: =AND(Feuil1!A477,"AAAAAF//fqc=") -> #VALUE! | FM14: =AND(Feuil1!B477,"AAAAAF//fqg=") -> #VALUE! | FN14: =AND(Feuil1!C477,"AAAAAF//fqk=") -> #VALUE! | FO14: =AND(Feuil1!D477,"AAAAAF//fqo=") -> #VALUE! | FP14: =AND(Feuil1!E477,"AAAAAF//fqs=") -> #VALUE! | FQ14: =IF(Feuil1!478:478,"AAAAAF//fqw=",0) -> 0 | FR14: =AND(Feuil1!A478,"AAAAAF//fq0=") -> #VALUE! | FS14: =AND(Feuil1!B478,"AAAAAF//fq4=") -> #VALUE! | FT14: =AND(Feuil1!C478,"AAAAAF//fq8=") -> #VALUE! | FU14: =AND(Feuil1!D478,"AAAAAF//frA=") -> #VALUE! | FV14: =AND(Feuil1!E478,"AAAAAF//frE=") -> #VALUE! | FW14: =IF(Feuil1!479:479,"AAAAAF//frI=",0) -> 0 | FX14: =AND(Feuil1!A479,"AAAAAF//frM=") -> #VALUE! | FY14: =AND(Feuil1!B479,"AAAAAF//frQ=") -> #VALUE! | FZ14: =AND(Feuil1!C479,"AAAAAF//frU=") -> #VALUE! | GA14: =AND(Feuil1!D479,"AAAAAF//frY=") -> #VALUE! | GB14: =AND(Feuil1!E479,"AAAAAF//frc=") -> #VALUE! | GC14: =IF(Feuil1!480:480,"AAAAAF//frg=",0) -> 0 | GD14: =AND(Feuil1!A480,"AAAAAF//frk=") -> #VALUE! | GE14: =AND(Feuil1!B480,"AAAAAF//fro=") -> #VALUE! | GF14: =AND(Feuil1!C480,"AAAAAF//frs=") -> #VALUE! | GG14: =AND(Feuil1!D480,"AAAAAF//frw=") -> #VALUE! | GH14: =AND(Feuil1!E480,"AAAAAF//fr0=") -> #VALUE! | GI14: =IF(Feuil1!481:481,"AAAAAF//fr4=",0) -> 0 | GJ14: =AND(Feuil1!A481,"AAAAAF//fr8=") -> #VALUE! | GK14: =AND(Feuil1!B481,"AAAAAF//fsA=") -> #VALUE! | GL14: =AND(Feuil1!C481,"AAAAAF//fsE=") -> #VALUE! | GM14: =AND(Feuil1!D481,"AAAAAF//fsI=") -> #VALUE! | GN14: =AND(Feuil1!E481,"AAAAAF//fsM=") -> #VALUE! | GO14: =IF(Feuil1!482:482,"AAAAAF//fsQ=",0) -> 0 | GP14: =AND(Feuil1!A482,"AAAAAF//fsU=") -> #VALUE! | GQ14: =AND(Feuil1!B482,"AAAAAF//fsY=") -> #VALUE! | GR14: =AND(Feuil1!C482,"AAAAAF//fsc=") -> #VALUE! | GS14: =AND(Feuil1!D482,"AAAAAF//fsg=") -> #VALUE! | GT14: =AND(Feuil1!E482,"AAAAAF//fsk=") -> #VALUE! | GU14: =IF(Feuil1!483:483,"AAAAAF//fso=",0) -> 0 | GV14: =AND(Feuil1!A483,"AAAAAF//fss=") -> #VALUE! | GW14: =AND(Feuil1!B483,"AAAAAF//fsw=") -> #VALUE! | GX14: =AND(Feuil1!C483,"AAAAAF//fs0=") -> #VALUE! | GY14: =AND(Feuil1!D483,"AAAAAF//fs4=") -> #VALUE! | GZ14: =AND(Feuil1!E483,"AAAAAF//fs8=") -> #VALUE! | HA14: =IF(Feuil1!484:484,"AAAAAF//ftA=",0) -> 0 | HB14: =AND(Feuil1!A484,"AAAAAF//ftE=") -> #VALUE! | HC14: =AND(Feuil1!B484,"AAAAAF//ftI=") -> #VALUE! | HD14: =AND(Feuil1!C484,"AAAAAF//ftM=") -> #VALUE! | HE14: =AND(Feuil1!D484,"AAAAAF//ftQ=") -> #VALUE! | HF14: =AND(Feuil1!E484,"AAAAAF//ftU=") -> #VALUE! | HG14: =IF(Feuil1!485:485,"AAAAAF//ftY=",0) -> 0 | HH14: =AND(Feuil1!A485,"AAAAAF//ftc=") -> #VALUE! | HI14: =AND(Feuil1!B485,"AAAAAF//ftg=") -> #VALUE! | HJ14: =AND(Feuil1!C485,"AAAAAF//ftk=") -> #VALUE! | HK14: =AND(Feuil1!D485,"AAAAAF//fto=") -> #VALUE! | HL14: =AND(Feuil1!E485,"AAAAAF//fts=") -> #VALUE! | HM14: =IF(Feuil1!486:486,"AAAAAF//ftw=",0) -> 0 | HN14: =AND(Feuil1!A486,"AAAAAF//ft0=") -> #VALUE! | HO14: =AND(Feuil1!B486,"AAAAAF//ft4=") -> #VALUE! | HP14: =AND(Feuil1!C486,"AAAAAF//ft8=") -> #VALUE! | HQ14: =AND(Feuil1!D486,"AAAAAF//fuA=") -> #VALUE! | HR14: =AND(Feuil1!E486,"AAAAAF//fuE=") -> #VALUE! | HS14: =IF(Feuil1!487:487,"AAAAAF//fuI=",0) -> 0 | HT14: =AND(Feuil1!A487,"AAAAAF//fuM=") -> #VALUE! | HU14: =AND(Feuil1!B487,"AAAAAF//fuQ=") -> #VALUE! | HV14: =AND(Feuil1!C487,"AAAAAF//fuU=") -> #VALUE! | HW14: =AND(Feuil1!D487,"AAAAAF//fuY=") -> #VALUE! | HX14: =AND(Feuil1!E487,"AAAAAF//fuc=") -> #VALUE! | HY14: =IF(Feuil1!488:488,"AAAAAF//fug=",0) -> 0 | HZ14: =AND(Feuil1!A488,"AAAAAF//fuk=") -> #VALUE! | IA14: =AND(Feuil1!B488,"AAAAAF//fuo=") -> #VALUE! | IB14: =AND(Feuil1!C488,"AAAAAF//fus=") -> #VALUE! | IC14: =AND(Feuil1!D488,"AAAAAF//fuw=") -> #VALUE! | ID14: =AND(Feuil1!E488,"AAAAAF//fu0=") -> #VALUE! | IE14: =IF(Feuil1!489:489,"AAAAAF//fu4=",0) -> 0 | IF14: =AND(Feuil1!A489,"AAAAAF//fu8=") -> #VALUE! | IG14: =AND(Feuil1!B489,"AAAAAF//fvA=") -> #VALUE! | IH14: =AND(Feuil1!C489,"AAAAAF//fvE=") -> #VALUE! | II14: =AND(Feuil1!D489,"AAAAAF//fvI=") -> #VALUE! | IJ14: =AND(Feuil1!E489,"AAAAAF//fvM=") -> #VALUE! | IK14: =IF(Feuil1!490:490,"AAAAAF//fvQ=",0) -> 0 | IL14: =AND(Feuil1!A490,"AAAAAF//fvU=") -> #VALUE! | IM14: =AND(Feuil1!B490,"AAAAAF//fvY=") -> #VALUE! | IN14: =AND(Feuil1!C490,"AAAAAF//fvc=") -> #VALUE! | IO14: =AND(Feuil1!D490,"AAAAAF//fvg=") -> #VALUE! | IP14: =AND(Feuil1!E490,"AAAAAF//fvk=") -> #VALUE! | IQ14: =IF(Feuil1!491:491,"AAAAAF//fvo=",0) -> 0 | IR14: =AND(Feuil1!A491,"AAAAAF//fvs=") -> #VALUE! | IS14: =AND(Feuil1!B491,"AAAAAF//fvw=") -> #VALUE! | IT14: =AND(Feuil1!C491,"AAAAAF//fv0=") -> #VALUE! | IU14: =AND(Feuil1!D491,"AAAAAF//fv4=") -> #VALUE! | IV14: =AND(Feuil1!E491,"AAAAAF//fv8=") -> #VALUE!
A15: =IF(Feuil1!492:492,"AAAAAH9t+wA=",0) -> 0 | B15: =AND(Feuil1!A492,"AAAAAH9t+wE=") -> #VALUE! | C15: =AND(Feuil1!B492,"AAAAAH9t+wI=") -> #VALUE! | D15: =AND(Feuil1!C492,"AAAAAH9t+wM=") -> #VALUE! | E15: =AND(Feuil1!D492,"AAAAAH9t+wQ=") -> #VALUE! | F15: =AND(Feuil1!E492,"AAAAAH9t+wU=") -> #VALUE! | G15: =IF(Feuil1!493:493,"AAAAAH9t+wY=",0) -> 0 | H15: =AND(Feuil1!A493,"AAAAAH9t+wc=") -> #VALUE! | I15: =AND(Feuil1!B493,"AAAAAH9t+wg=") -> #VALUE! | J15: =AND(Feuil1!C493,"AAAAAH9t+wk=") -> #VALUE! | K15: =AND(Feuil1!D493,"AAAAAH9t+wo=") -> #VALUE! | L15: =AND(Feuil1!E493,"AAAAAH9t+ws=") -> #VALUE! | M15: =IF(Feuil1!494:494,"AAAAAH9t+ww=",0) -> 0 | N15: =AND(Feuil1!A494,"AAAAAH9t+w0=") -> #VALUE! | O15: =AND(Feuil1!B494,"AAAAAH9t+w4=") -> #VALUE! | P15: =AND(Feuil1!C494,"AAAAAH9t+w8=") -> #VALUE! | Q15: =AND(Feuil1!D494,"AAAAAH9t+xA=") -> #VALUE! | R15: =AND(Feuil1!E494,"AAAAAH9t+xE=") -> #VALUE! | S15: =IF(Feuil1!495:495,"AAAAAH9t+xI=",0) -> 0 | T15: =AND(Feuil1!A495,"AAAAAH9t+xM=") -> #VALUE! | U15: =AND(Feuil1!B495,"AAAAAH9t+xQ=") -> #VALUE! | V15: =AND(Feuil1!C495,"AAAAAH9t+xU=") -> #VALUE! | W15: =AND(Feuil1!D495,"AAAAAH9t+xY=") -> #VALUE! | X15: =AND(Feuil1!E495,"AAAAAH9t+xc=") -> #VALUE! | Y15: =IF(Feuil1!496:496,"AAAAAH9t+xg=",0) -> 0 | Z15: =AND(Feuil1!A496,"AAAAAH9t+xk=") -> #VALUE! | AA15: =AND(Feuil1!B496,"AAAAAH9t+xo=") -> #VALUE! | AB15: =AND(Feuil1!C496,"AAAAAH9t+xs=") -> #VALUE! | AC15: =AND(Feuil1!D496,"AAAAAH9t+xw=") -> #VALUE! | AD15: =AND(Feuil1!E496,"AAAAAH9t+x0=") -> #VALUE! | AE15: =IF(Feuil1!497:497,"AAAAAH9t+x4=",0) -> 0 | AF15: =AND(Feuil1!A497,"AAAAAH9t+x8=") -> #VALUE! | AG15: =AND(Feuil1!B497,"AAAAAH9t+yA=") -> #VALUE! | AH15: =AND(Feuil1!C497,"AAAAAH9t+yE=") -> #VALUE! | AI15: =AND(Feuil1!D497,"AAAAAH9t+yI=") -> #VALUE! | AJ15: =AND(Feuil1!E497,"AAAAAH9t+yM=") -> #VALUE! | AK15: =IF(Feuil1!498:498,"AAAAAH9t+yQ=",0) -> 0 | AL15: =AND(Feuil1!A498,"AAAAAH9t+yU=") -> #VALUE! | AM15: =AND(Feuil1!B498,"AAAAAH9t+yY=") -> #VALUE! | AN15: =AND(Feuil1!C498,"AAAAAH9t+yc=") -> #VALUE! | AO15: =AND(Feuil1!D498,"AAAAAH9t+yg=") -> #VALUE! | AP15: =AND(Feuil1!E498,"AAAAAH9t+yk=") -> #VALUE! | AQ15: =IF(Feuil1!499:499,"AAAAAH9t+yo=",0) -> 0 | AR15: =AND(Feuil1!A499,"AAAAAH9t+ys=") -> #VALUE! | AS15: =AND(Feuil1!B499,"AAAAAH9t+yw=") -> #VALUE! | AT15: =AND(Feuil1!C499,"AAAAAH9t+y0=") -> #VALUE! | AU15: =AND(Feuil1!D499,"AAAAAH9t+y4=") -> #VALUE! | AV15: =AND(Feuil1!E499,"AAAAAH9t+y8=") -> #VALUE! | AW15: =IF(Feuil1!500:500,"AAAAAH9t+zA=",0) -> 0 | AX15: =AND(Feuil1!A500,"AAAAAH9t+zE=") -> #VALUE! | AY15: =AND(Feuil1!B500,"AAAAAH9t+zI=") -> #VALUE! | AZ15: =AND(Feuil1!C500,"AAAAAH9t+zM=") -> #VALUE! | BA15: =AND(Feuil1!D500,"AAAAAH9t+zQ=") -> #VALUE! | BB15: =AND(Feuil1!E500,"AAAAAH9t+zU=") -> #VALUE! | BC15: =IF(Feuil1!501:501,"AAAAAH9t+zY=",0) -> 0 | BD15: =AND(Feuil1!A501,"AAAAAH9t+zc=") -> #VALUE! | BE15: =AND(Feuil1!B501,"AAAAAH9t+zg=") -> #VALUE! | BF15: =AND(Feuil1!C501,"AAAAAH9t+zk=") -> #VALUE! | BG15: =AND(Feuil1!D501,"AAAAAH9t+zo=") -> #VALUE! | BH15: =AND(Feuil1!E501,"AAAAAH9t+zs=") -> #VALUE! | BI15: =IF(Feuil1!502:502,"AAAAAH9t+zw=",0) -> 0 | BJ15: =AND(Feuil1!A502,"AAAAAH9t+z0=") -> #VALUE! | BK15: =AND(Feuil1!B502,"AAAAAH9t+z4=") -> #VALUE! | BL15: =AND(Feuil1!C502,"AAAAAH9t+z8=") -> #VALUE! | BM15: =AND(Feuil1!D502,"AAAAAH9t+0A=") -> #VALUE! | BN15: =AND(Feuil1!E502,"AAAAAH9t+0E=") -> #VALUE! | BO15: =IF(Feuil1!503:503,"AAAAAH9t+0I=",0) -> 0 | BP15: =AND(Feuil1!A503,"AAAAAH9t+0M=") -> #VALUE! | BQ15: =AND(Feuil1!B503,"AAAAAH9t+0Q=") -> #VALUE! | BR15: =AND(Feuil1!C503,"AAAAAH9t+0U=") -> #VALUE! | BS15: =AND(Feuil1!D503,"AAAAAH9t+0Y=") -> #VALUE! | BT15: =AND(Feuil1!E503,"AAAAAH9t+0c=") -> #VALUE! | BU15: =IF(Feuil1!504:504,"AAAAAH9t+0g=",0) -> 0 | BV15: =AND(Feuil1!A504,"AAAAAH9t+0k=") -> #VALUE! | BW15: =AND(Feuil1!B504,"AAAAAH9t+0o=") -> #VALUE! | BX15: =AND(Feuil1!C504,"AAAAAH9t+0s=") -> #VALUE! | BY15: =AND(Feuil1!D504,"AAAAAH9t+0w=") -> #VALUE! | BZ15: =AND(Feuil1!E504,"AAAAAH9t+00=") -> #VALUE! | CA15: =IF(Feuil1!505:505,"AAAAAH9t+04=",0) -> 0 | CB15: =AND(Feuil1!A505,"AAAAAH9t+08=") -> #VALUE! | CC15: =AND(Feuil1!B505,"AAAAAH9t+1A=") -> #VALUE! | CD15: =AND(Feuil1!C505,"AAAAAH9t+1E=") -> #VALUE! | CE15: =AND(Feuil1!D505,"AAAAAH9t+1I=") -> #VALUE! | CF15: =AND(Feuil1!E505,"AAAAAH9t+1M=") -> #VALUE! | CG15: =IF(Feuil1!506:506,"AAAAAH9t+1Q=",0) -> 0 | CH15: =AND(Feuil1!A506,"AAAAAH9t+1U=") -> #VALUE! | CI15: =AND(Feuil1!B506,"AAAAAH9t+1Y=") -> #VALUE! | CJ15: =AND(Feuil1!C506,"AAAAAH9t+1c=") -> #VALUE! | CK15: =AND(Feuil1!D506,"AAAAAH9t+1g=") -> #VALUE! | CL15: =AND(Feuil1!E506,"AAAAAH9t+1k=") -> #VALUE! | CM15: =IF(Feuil1!507:507,"AAAAAH9t+1o=",0) -> 0 | CN15: =AND(Feuil1!A507,"AAAAAH9t+1s=") -> #VALUE! | CO15: =AND(Feuil1!B507,"AAAAAH9t+1w=") -> #VALUE! | CP15: =AND(Feuil1!C507,"AAAAAH9t+10=") -> #VALUE! | CQ15: =AND(Feuil1!D507,"AAAAAH9t+14=") -> #VALUE! | CR15: =AND(Feuil1!E507,"AAAAAH9t+18=") -> #VALUE! | CS15: =IF(Feuil1!508:508,"AAAAAH9t+2A=",0) -> 0 | CT15: =AND(Feuil1!A508,"AAAAAH9t+2E=") -> #VALUE! | CU15: =AND(Feuil1!B508,"AAAAAH9t+2I=") -> #VALUE! | CV15: =AND(Feuil1!C508,"AAAAAH9t+2M=") -> #VALUE! | CW15: =AND(Feuil1!D508,"AAAAAH9t+2Q=") -> #VALUE! | CX15: =AND(Feuil1!E508,"AAAAAH9t+2U=") -> #VALUE! | CY15: =IF(Feuil1!509:509,"AAAAAH9t+2Y=",0) -> 0 | CZ15: =AND(Feuil1!A509,"AAAAAH9t+2c=") -> #VALUE! | DA15: =AND(Feuil1!B509,"AAAAAH9t+2g=") -> #VALUE! | DB15: =AND(Feuil1!C509,"AAAAAH9t+2k=") -> #VALUE! | DC15: =AND(Feuil1!D509,"AAAAAH9t+2o=") -> #VALUE! | DD15: =AND(Feuil1!E509,"AAAAAH9t+2s=") -> #VALUE! | DE15: =IF(Feuil1!510:510,"AAAAAH9t+2w=",0) -> 0 | DF15: =AND(Feuil1!A510,"AAAAAH9t+20=") -> #VALUE! | DG15: =AND(Feuil1!B510,"AAAAAH9t+24=") -> #VALUE! | DH15: =AND(Feuil1!C510,"AAAAAH9t+28=") -> #VALUE! | DI15: =AND(Feuil1!D510,"AAAAAH9t+3A=") -> #VALUE! | DJ15: =AND(Feuil1!E510,"AAAAAH9t+3E=") -> #VALUE! | DK15: =IF(Feuil1!511:511,"AAAAAH9t+3I=",0) -> 0 | DL15: =AND(Feuil1!A511,"AAAAAH9t+3M=") -> #VALUE! | DM15: =AND(Feuil1!B511,"AAAAAH9t+3Q=") -> #VALUE! | DN15: =AND(Feuil1!C511,"AAAAAH9t+3U=") -> #VALUE! | DO15: =AND(Feuil1!D511,"AAAAAH9t+3Y=") -> #VALUE! | DP15: =AND(Feuil1!E511,"AAAAAH9t+3c=") -> #VALUE! | DQ15: =IF(Feuil1!512:512,"AAAAAH9t+3g=",0) -> 0 | DR15: =AND(Feuil1!A512,"AAAAAH9t+3k=") -> #VALUE! | DS15: =AND(Feuil1!B512,"AAAAAH9t+3o=") -> #VALUE! | DT15: =AND(Feuil1!C512,"AAAAAH9t+3s=") -> #VALUE! | DU15: =AND(Feuil1!D512,"AAAAAH9t+3w=") -> #VALUE! | DV15: =AND(Feuil1!E512,"AAAAAH9t+30=") -> #VALUE! | DW15: =IF(Feuil1!513:513,"AAAAAH9t+34=",0) -> 0 | DX15: =AND(Feuil1!A513,"AAAAAH9t+38=") -> #VALUE! | DY15: =AND(Feuil1!B513,"AAAAAH9t+4A=") -> #VALUE! | DZ15: =AND(Feuil1!C513,"AAAAAH9t+4E=") -> #VALUE! | EA15: =AND(Feuil1!D513,"AAAAAH9t+4I=") -> #VALUE! | EB15: =AND(Feuil1!E513,"AAAAAH9t+4M=") -> #VALUE! | EC15: =IF(Feuil1!514:514,"AAAAAH9t+4Q=",0) -> 0 | ED15: =AND(Feuil1!A514,"AAAAAH9t+4U=") -> #VALUE! | EE15: =AND(Feuil1!B514,"AAAAAH9t+4Y=") -> #VALUE! | EF15: =AND(Feuil1!C514,"AAAAAH9t+4c=") -> #VALUE! | EG15: =AND(Feuil1!D514,"AAAAAH9t+4g=") -> #VALUE! | EH15: =AND(Feuil1!E514,"AAAAAH9t+4k=") -> #VALUE! | EI15: =IF(Feuil1!515:515,"AAAAAH9t+4o=",0) -> 0 | EJ15: =AND(Feuil1!A515,"AAAAAH9t+4s=") -> #VALUE! | EK15: =AND(Feuil1!B515,"AAAAAH9t+4w=") -> #VALUE! | EL15: =AND(Feuil1!C515,"AAAAAH9t+40=") -> #VALUE! | EM15: =AND(Feuil1!D515,"AAAAAH9t+44=") -> #VALUE! | EN15: =AND(Feuil1!E515,"AAAAAH9t+48=") -> #VALUE! | EO15: =IF(Feuil1!516:516,"AAAAAH9t+5A=",0) -> 0 | EP15: =AND(Feuil1!A516,"AAAAAH9t+5E=") -> #VALUE! | EQ15: =AND(Feuil1!B516,"AAAAAH9t+5I=") -> #VALUE! | ER15: =AND(Feuil1!C516,"AAAAAH9t+5M=") -> #VALUE! | ES15: =AND(Feuil1!D516,"AAAAAH9t+5Q=") -> #VALUE! | ET15: =AND(Feuil1!E516,"AAAAAH9t+5U=") -> #VALUE! | EU15: =IF(Feuil1!517:517,"AAAAAH9t+5Y=",0) -> 0 | EV15: =AND(Feuil1!A517,"AAAAAH9t+5c=") -> #VALUE! | EW15: =AND(Feuil1!B517,"AAAAAH9t+5g=") -> #VALUE! | EX15: =AND(Feuil1!C517,"AAAAAH9t+5k=") -> #VALUE! | EY15: =AND(Feuil1!D517,"AAAAAH9t+5o=") -> #VALUE! | EZ15: =AND(Feuil1!E517,"AAAAAH9t+5s=") -> #VALUE! | FA15: =IF(Feuil1!518:518,"AAAAAH9t+5w=",0) -> 0 | FB15: =AND(Feuil1!A518,"AAAAAH9t+50=") -> #VALUE! | FC15: =AND(Feuil1!B518,"AAAAAH9t+54=") -> #VALUE! | FD15: =AND(Feuil1!C518,"AAAAAH9t+58=") -> #VALUE! | FE15: =AND(Feuil1!D518,"AAAAAH9t+6A=") -> #VALUE! | FF15: =AND(Feuil1!E518,"AAAAAH9t+6E=") -> #VALUE! | FG15: =IF(Feuil1!519:519,"AAAAAH9t+6I=",0) -> 0 | FH15: =AND(Feuil1!A519,"AAAAAH9t+6M=") -> #VALUE! | FI15: =AND(Feuil1!B519,"AAAAAH9t+6Q=") -> #VALUE! | FJ15: =AND(Feuil1!C519,"AAAAAH9t+6U=") -> #VALUE! | FK15: =AND(Feuil1!D519,"AAAAAH9t+6Y=") -> #VALUE! | FL15: =AND(Feuil1!E519,"AAAAAH9t+6c=") -> #VALUE! | FM15: =IF(Feuil1!520:520,"AAAAAH9t+6g=",0) -> 0 | FN15: =AND(Feuil1!A520,"AAAAAH9t+6k=") -> #VALUE! | FO15: =AND(Feuil1!B520,"AAAAAH9t+6o=") -> #VALUE! | FP15: =AND(Feuil1!C520,"AAAAAH9t+6s=") -> #VALUE! | FQ15: =AND(Feuil1!D520,"AAAAAH9t+6w=") -> #VALUE! | FR15: =AND(Feuil1!E520,"AAAAAH9t+60=") -> #VALUE! | FS15: =IF(Feuil1!521:521,"AAAAAH9t+64=",0) -> 0 | FT15: =AND(Feuil1!A521,"AAAAAH9t+68=") -> #VALUE! | FU15: =AND(Feuil1!B521,"AAAAAH9t+7A=") -> #VALUE! | FV15: =AND(Feuil1!C521,"AAAAAH9t+7E=") -> #VALUE! | FW15: =AND(Feuil1!D521,"AAAAAH9t+7I=") -> #VALUE! | FX15: =AND(Feuil1!E521,"AAAAAH9t+7M=") -> #VALUE! | FY15: =IF(Feuil1!522:522,"AAAAAH9t+7Q=",0) -> 0 | FZ15: =AND(Feuil1!A522,"AAAAAH9t+7U=") -> #VALUE! | GA15: =AND(Feuil1!B522,"AAAAAH9t+7Y=") -> #VALUE! | GB15: =AND(Feuil1!C522,"AAAAAH9t+7c=") -> #VALUE! | GC15: =AND(Feuil1!D522,"AAAAAH9t+7g=") -> #VALUE! | GD15: =AND(Feuil1!E522,"AAAAAH9t+7k=") -> #VALUE! | GE15: =IF(Feuil1!523:523,"AAAAAH9t+7o=",0) -> 0 | GF15: =AND(Feuil1!A523,"AAAAAH9t+7s=") -> #VALUE! | GG15: =AND(Feuil1!B523,"AAAAAH9t+7w=") -> #VALUE! | GH15: =AND(Feuil1!C523,"AAAAAH9t+70=") -> #VALUE! | GI15: =AND(Feuil1!D523,"AAAAAH9t+74=") -> #VALUE! | GJ15: =AND(Feuil1!E523,"AAAAAH9t+78=") -> #VALUE! | GK15: =IF(Feuil1!524:524,"AAAAAH9t+8A=",0) -> 0 | GL15: =AND(Feuil1!A524,"AAAAAH9t+8E=") -> #VALUE! | GM15: =AND(Feuil1!B524,"AAAAAH9t+8I=") -> #VALUE! | GN15: =AND(Feuil1!C524,"AAAAAH9t+8M=") -> #VALUE! | GO15: =AND(Feuil1!D524,"AAAAAH9t+8Q=") -> #VALUE! | GP15: =AND(Feuil1!E524,"AAAAAH9t+8U=") -> #VALUE! | GQ15: =IF(Feuil1!525:525,"AAAAAH9t+8Y=",0) -> 0 | GR15: =AND(Feuil1!A525,"AAAAAH9t+8c=") -> #VALUE! | GS15: =AND(Feuil1!B525,"AAAAAH9t+8g=") -> #VALUE! | GT15: =AND(Feuil1!C525,"AAAAAH9t+8k=") -> #VALUE! | GU15: =AND(Feuil1!D525,"AAAAAH9t+8o=") -> #VALUE! | GV15: =AND(Feuil1!E525,"AAAAAH9t+8s=") -> #VALUE! | GW15: =IF(Feuil1!526:526,"AAAAAH9t+8w=",0) -> 0 | GX15: =AND(Feuil1!A526,"AAAAAH9t+80=") -> #VALUE! | GY15: =AND(Feuil1!B526,"AAAAAH9t+84=") -> #VALUE! | GZ15: =AND(Feuil1!C526,"AAAAAH9t+88=") -> #VALUE! | HA15: =AND(Feuil1!D526,"AAAAAH9t+9A=") -> #VALUE! | HB15: =AND(Feuil1!E526,"AAAAAH9t+9E=") -> #VALUE! | HC15: =IF(Feuil1!527:527,"AAAAAH9t+9I=",0) -> 0 | HD15: =AND(Feuil1!A527,"AAAAAH9t+9M=") -> #VALUE! | HE15: =AND(Feuil1!B527,"AAAAAH9t+9Q=") -> #VALUE! | HF15: =AND(Feuil1!C527,"AAAAAH9t+9U=") -> #VALUE! | HG15: =AND(Feuil1!D527,"AAAAAH9t+9Y=") -> #VALUE! | HH15: =AND(Feuil1!E527,"AAAAAH9t+9c=") -> #VALUE! | HI15: =IF(Feuil1!528:528,"AAAAAH9t+9g=",0) -> 0 | HJ15: =AND(Feuil1!A528,"AAAAAH9t+9k=") -> #VALUE! | HK15: =AND(Feuil1!B528,"AAAAAH9t+9o=") -> #VALUE! | HL15: =AND(Feuil1!C528,"AAAAAH9t+9s=") -> #VALUE! | HM15: =AND(Feuil1!D528,"AAAAAH9t+9w=") -> #VALUE! | HN15: =AND(Feuil1!E528,"AAAAAH9t+90=") -> #VALUE! | HO15: =IF(Feuil1!529:529,"AAAAAH9t+94=",0) -> 0 | HP15: =AND(Feuil1!A529,"AAAAAH9t+98=") -> #VALUE! | HQ15: =AND(Feuil1!B529,"AAAAAH9t++A=") -> #VALUE! | HR15: =AND(Feuil1!C529,"AAAAAH9t++E=") -> #VALUE! | HS15: =AND(Feuil1!D529,"AAAAAH9t++I=") -> #VALUE! | HT15: =AND(Feuil1!E529,"AAAAAH9t++M=") -> #VALUE! | HU15: =IF(Feuil1!530:530,"AAAAAH9t++Q=",0) -> 0 | HV15: =AND(Feuil1!A530,"AAAAAH9t++U=") -> #VALUE! | HW15: =AND(Feuil1!B530,"AAAAAH9t++Y=") -> #VALUE! | HX15: =AND(Feuil1!C530,"AAAAAH9t++c=") -> #VALUE! | HY15: =AND(Feuil1!D530,"AAAAAH9t++g=") -> #VALUE! | HZ15: =AND(Feuil1!E530,"AAAAAH9t++k=") -> #VALUE! | IA15: =IF(Feuil1!531:531,"AAAAAH9t++o=",0) -> 0 | IB15: =AND(Feuil1!A531,"AAAAAH9t++s=") -> #VALUE! | IC15: =AND(Feuil1!B531,"AAAAAH9t++w=") -> #VALUE! | ID15: =AND(Feuil1!C531,"AAAAAH9t++0=") -> #VALUE! | IE15: =AND(Feuil1!D531,"AAAAAH9t++4=") -> #VALUE! | IF15: =AND(Feuil1!E531,"AAAAAH9t++8=") -> #VALUE! | IG15: =IF(Feuil1!532:532,"AAAAAH9t+/A=",0) -> 0 | IH15: =AND(Feuil1!A532,"AAAAAH9t+/E=") -> #VALUE! | II15: =AND(Feuil1!B532,"AAAAAH9t+/I=") -> #VALUE! | IJ15: =AND(Feuil1!C532,"AAAAAH9t+/M=") -> #VALUE! | IK15: =AND(Feuil1!D532,"AAAAAH9t+/Q=") -> #VALUE! | IL15: =AND(Feuil1!E532,"AAAAAH9t+/U=") -> #VALUE! | IM15: =IF(Feuil1!533:533,"AAAAAH9t+/Y=",0) -> 0 | IN15: =AND(Feuil1!A533,"AAAAAH9t+/c=") -> #VALUE! | IO15: =AND(Feuil1!B533,"AAAAAH9t+/g=") -> #VALUE! | IP15: =AND(Feuil1!C533,"AAAAAH9t+/k=") -> #VALUE! | IQ15: =AND(Feuil1!D533,"AAAAAH9t+/o=") -> #VALUE! | IR15: =AND(Feuil1!E533,"AAAAAH9t+/s=") -> #VALUE! | IS15: =IF(Feuil1!534:534,"AAAAAH9t+/w=",0) -> 0 | IT15: =AND(Feuil1!A534,"AAAAAH9t+/0=") -> #VALUE! | IU15: =AND(Feuil1!B534,"AAAAAH9t+/4=") -> #VALUE! | IV15: =AND(Feuil1!C534,"AAAAAH9t+/8=") -> #VALUE!
