Workbook
Name Plage01: Liste!$E$1:$U$172
Name Plage02: Livre!$B$2:$B$31

Sheet Livre
B1: Le sujet du verbe
B2: 1 - Soulignez le sujet des verbes dans chacune des phrases suivantes :
B3: Le soir, nous admirions le coucher du soleil sur la mer.
B4: Dans la rue du village, on voyait des groupes joyeux.
B5: Maître Corbeau, sur un arbre perché, tenait en son bec un fromage.
B6: Le chasseur, à l'abri derrière le buisson, guette le gibier.
B7: Les aviateurs, en panne dans le désert, signalèrent leur position.
B8: 2 - Soulignez le sujet des verbes dans chacune des phrases suivantes :
B9: Le chien, de tous les animaux, est le plus fidèle à l'homme.
B10: Il faut donc veiller.
B11: Nous nettoyons les allées qu'envahissent les mauvaises herbes.
B12: Pouvez-vous me dire d'où viennent ces odeurs insupportables ?
... B31: Quiconque a beaucoup vu peut avoir beaucoup retenu.

Sheet Liste
E1: Ordre | F1: Sujets de cours | G1: Niveau | H1: Niveau | I1: CP | J1: CE1 | K1: CE2 | L1: CM1 | M1: CM2 | N1: 6e | O1: 5e | P1: 4e | Q1: 3e | R1: 2e | S1: 1e | T1: T
E2: 118 | F2: Accents | G2: =VLOOKUP(H2,Niveaux!$C$2:$D$12,2,FALSE) -> CP | H2: =SUM(I2:T2)-1 -> 11 | I2: 1 | J2: 1 | K2: 1 | L2: 1 | M2: 1 | N2: 1 | O2: 1 | P2: 1 | Q2: 1 | R2: 1 | S2: 1 | T2: 1 | U2: Nous avons ici sans doute les sujets qui ne sont pas traités dans le livre d'analyse grammaticale.
E3: 42 | F3: Adjectif qualificatif | G3: =VLOOKUP(H3,Niveaux!$C$2:$D$12,2,FALSE) -> CP | H3: =SUM(I3:T3)-1 -> 11 | I3: 1 | J3: 1 | K3: 1 | L3: 1 | M3: 1 | N3: 1 | O3: 1 | P3: 1 | Q3: 1 | R3: 1 | S3: 1 | T3: 1
E4: 73 | F4: Adjectifs démonstratifs | G4: =VLOOKUP(H4,Niveaux!$C$2:$D$12,2,FALSE) -> CE2 | H4: =SUM(I4:T4)-1 -> 9 | K4: 1 | L4: 1 | M4: 1 | N4: 1 | O4: 1 | P4: 1 | Q4: 1 | R4: 1 | S4: 1 | T4: 1
E5: 155 | F5: Adjectifs exclamatifs | G5: =VLOOKUP(H5,Niveaux!$C$2:$D$12,2,FALSE) -> CM1 | H5: =SUM(I5:T5)-1 -> 8 | L5: 1 | M5: 1 | N5: 1 | O5: 1 | P5: 1 | Q5: 1 | R5: 1 | S5: 1 | T5: 1 | U5: Nous avons ici sans doute les sujets qui ne sont pas traités dans le livre d'analyse grammaticale.
E6: 78 | F6: Adjectifs indéfinis | G6: =VLOOKUP(H6,Niveaux!$C$2:$D$12,2,FALSE) -> CM1 | H6: =SUM(I6:T6)-1 -> 8 | L6: 1 | M6: 1 | N6: 1 | O6: 1 | P6: 1 | Q6: 1 | R6: 1 | S6: 1 | T6: 1
E7: 76 | F7: Adjectifs interrogatifs | G7: =VLOOKUP(H7,Niveaux!$C$2:$D$12,2,FALSE) -> CM1 | H7: =SUM(I7:T7)-1 -> 8 | L7: 1 | M7: 1 | N7: 1 | O7: 1 | P7: 1 | Q7: 1 | R7: 1 | S7: 1 | T7: 1
E8: 157 | F8: Adjectifs numéraux cardinaux | G8: =VLOOKUP(H8,Niveaux!$C$2:$D$12,2,FALSE) -> CE2 | H8: =SUM(I8:T8)-1 -> 9 | K8: 1 | L8: 1 | M8: 1 | N8: 1 | O8: 1 | P8: 1 | Q8: 1 | R8: 1 | S8: 1 | T8: 1 | U8: Nous avons ici sans doute les sujets qui ne sont pas traités dans le livre d'analyse grammaticale.
E9: 158 | F9: Adjectifs numéraux ordinaux | G9: =VLOOKUP(H9,Niveaux!$C$2:$D$12,2,FALSE) -> CE2 | H9: =SUM(I9:T9)-1 -> 9 | K9: 1 | L9: 1 | M9: 1 | N9: 1 | O9: 1 | P9: 1 | Q9: 1 | R9: 1 | S9: 1 | T9: 1 | U9: Nous avons ici sans doute les sujets qui ne sont pas traités dans le livre d'analyse grammaticale.
E10: 71 | F10: Adjectifs possessifs | G10: =VLOOKUP(H10,Niveaux!$C$2:$D$12,2,FALSE) -> CE2 | H10: =SUM(I10:T10)-1 -> 9 | K10: 1 | L10: 1 | M10: 1 | N10: 1 | O10: 1 | P10: 1 | Q10: 1 | R10: 1 | S10: 1 | T10: 1
E11: 79 | F11: Adverbes | G11: =VLOOKUP(H11,Niveaux!$C$2:$D$12,2,FALSE) -> CM1 | H11: =SUM(I11:T11)-1 -> 8 | L11: 1 | M11: 1 | N11: 1 | O11: 1 | P11: 1 | Q11: 1 | R11: 1 | S11: 1 | T11: 1
E12: 84 | F12: Adverbes d'affirmation | G12: =VLOOKUP(H12,Niveaux!$C$2:$D$12,2,FALSE) -> CM1 | H12: =SUM(I12:T12)-1 -> 8 | L12: 1 | M12: 1 | N12: 1 | O12: 1 | P12: 1 | Q12: 1 | R12: 1 | S12: 1 | T12: 1
E13: 86 | F13: Adverbes de doute | G13: =VLOOKUP(H13,Niveaux!$C$2:$D$12,2,FALSE) -> CM1 | H13: =SUM(I13:T13)-1 -> 8 | L13: 1 | M13: 1 | N13: 1 | O13: 1 | P13: 1 | Q13: 1 | R13: 1 | S13: 1 | T13: 1
E14: 82 | F14: Adverbes de lieu | G14: =VLOOKUP(H14,Niveaux!$C$2:$D$12,2,FALSE) -> CM1 | H14: =SUM(I14:T14)-1 -> 8 | L14: 1 | M14: 1 | N14: 1 | O14: 1 | P14: 1 | Q14: 1 | R14: 1 | S14: 1 | T14: 1
E15: 80 | F15: Adverbes de manière | G15: =VLOOKUP(H15,Niveaux!$C$2:$D$12,2,FALSE) -> CM1 | H15: =SUM(I15:T15)-1 -> 8 | L15: 1 | M15: 1 | N15: 1 | O15: 1 | P15: 1 | Q15: 1 | R15: 1 | S15: 1 | T15: 1
E16: 85 | F16: Adverbes de négation | G16: =VLOOKUP(H16,Niveaux!$C$2:$D$12,2,FALSE) -> CM1 | H16: =SUM(I16:T16)-1 -> 8 | L16: 1 | M16: 1 | N16: 1 | O16: 1 | P16: 1 | Q16: 1 | R16: 1 | S16: 1 | T16: 1
E17: 83 | F17: Adverbes de quantité | G17: =VLOOKUP(H17,Niveaux!$C$2:$D$12,2,FALSE) -> CM1 | H17: =SUM(I17:T17)-1 -> 8 | L17: 1 | M17: 1 | N17: 1 | O17: 1 | P17: 1 | Q17: 1 | R17: 1 | S17: 1 | T17: 1
E18: 81 | F18: Adverbes de temps | G18: =VLOOKUP(H18,Niveaux!$C$2:$D$12,2,FALSE) -> CM1 | H18: =SUM(I18:T18)-1 -> 8 | L18: 1 | M18: 1 | N18: 1 | O18: 1 | P18: 1 | Q18: 1 | R18: 1 | S18: 1 | T18: 1
E19: 87 | F19: Adverbes d'interrogation | G19: =VLOOKUP(H19,Niveaux!$C$2:$D$12,2,FALSE) -> CM1 | H19: =SUM(I19:T19)-1 -> 8 | L19: 1 | M19: 1 | N19: 1 | O19: 1 | P19: 1 | Q19: 1 | R19: 1 | S19: 1 | T19: 1
E20: 159 | F20: Adverbes numéraux | G20: =VLOOKUP(H20,Niveaux!$C$2:$D$12,2,FALSE) -> CM1 | H20: =SUM(I20:T20)-1 -> 8 | L20: 1 | M20: 1 | N20: 1 | O20: 1 | P20: 1 | Q20: 1 | R20: 1 | S20: 1 | T20: 1 | U20: Nous avons ici sans doute les sujets qui ne sont pas traités dans le livre d'analyse grammaticale.
E21: 47 | F21: Analyse d'un verbe | G21: =VLOOKUP(H21,Niveaux!$C$2:$D$12,2,FALSE) -> CE2 | H21: =SUM(I21:T21)-1 -> 9 | K21: 1 | L21: 1 | M21: 1 | N21: 1 | O21: 1 | P21: 1 | Q21: 1 | R21: 1 | S21: 1 | T21: 1
E22: 113 | F22: Analyser une phrase | G22: =VLOOKUP(H22,Niveaux!$C$2:$D$12,2,FALSE) -> CE2 | H22: =SUM(I22:T22)-1 -> 9 | K22: 1 | L22: 1 | M22: 1 | N22: 1 | O22: 1 | P22: 1 | Q22: 1 | R22: 1 | S22: 1 | T22: 1
E23: 167 | F23: Antonymes | G23: =VLOOKUP(H23,Niveaux!$C$2:$D$12,2,FALSE) -> CM1 | H23: =SUM(I23:T23)-1 -> 8 | L23: 1 | M23: 1 | N23: 1 | O23: 1 | P23: 1 | Q23: 1 | R23: 1 | S23: 1 | T23: 1 | U23: Nous avons ici sans doute les sujets qui ne sont pas traités dans le livre d'analyse grammaticale.
E24: 121 | F24: Apostrophe | G24: =VLOOKUP(H24,Niveaux!$C$2:$D$12,2,FALSE) -> CP | H24: =SUM(I24:T24)-1 -> 11 | I24: 1 | J24: 1 | K24: 1 | L24: 1 | M24: 1 | N24: 1 | O24: 1 | P24: 1 | Q24: 1 | R24: 1 | S24: 1 | T24: 1 | U24: Nous avons ici sans doute les sujets qui ne sont pas traités dans le livre d'analyse grammaticale.
E25: 170 | F25: Apostrophe (mise en apostrophe) | G25: =VLOOKUP(H25,Niveaux!$C$2:$D$12,2,FALSE) -> CM1 | H25: =SUM(I25:T25)-1 -> 8 | L25: 1 | M25: 1 | N25: 1 | O25: 1 | P25: 1 | Q25: 1 | R25: 1 | S25: 1 | T25: 1 | U25: Nous avons ici sans doute les sujets qui ne sont pas traités dans le livre d'analyse grammaticale.
E26: 25 | F26: Apposition | G26: =VLOOKUP(H26,Niveaux!$C$2:$D$12,2,FALSE) -> CM1 | H26: =SUM(I26:T26)-1 -> 8 | L26: 1 | M26: 1 | N26: 1 | O26: 1 | P26: 1 | Q26: 1 | R26: 1 | S26: 1 | T26: 1
E27: 36 | F27: Article contracté | G27: =VLOOKUP(H27,Niveaux!$C$2:$D$12,2,FALSE) -> CM1 | H27: =SUM(I27:T27)-1 -> 8 | L27: 1 | M27: 1 | N27: 1 | O27: 1 | P27: 1 | Q27: 1 | R27: 1 | S27: 1 | T27: 1
E28: 38 | F28: Article contracté "des" | G28: =VLOOKUP(H28,Niveaux!$C$2:$D$12,2,FALSE) -> CM1 | H28: =SUM(I28:T28)-1 -> 8 | L28: 1 | M28: 1 | N28: 1 | O28: 1 | P28: 1 | Q28: 1 | R28: 1 | S28: 1 | T28: 1
E29: 37 | F29: Article contracté "du" | G29: =VLOOKUP(H29,Niveaux!$C$2:$D$12,2,FALSE) -> CM1 | H29: =SUM(I29:T29)-1 -> 8 | L29: 1 | M29: 1 | N29: 1 | O29: 1 | P29: 1 | Q29: 1 | R29: 1 | S29: 1 | T29: 1
E30: 39 | F30: Article contractés "au" et "aux" | G30: =VLOOKUP(H30,Niveaux!$C$2:$D$12,2,FALSE) -> CM1 | H30: =SUM(I30:T30)-1 -> 8 | L30: 1 | M30: 1 | N30: 1 | O30: 1 | P30: 1 | Q30: 1 | R30: 1 | S30: 1 | T30: 1
E31: 40 | F31: Article contractés "ès" | G31: =VLOOKUP(H31,Niveaux!$C$2:$D$12,2,FALSE) -> CM1 | H31: =SUM(I31:T31)-1 -> 8 | L31: 1 | M31: 1 | N31: 1 | O31: 1 | P31: 1 | Q31: 1 | R31: 1 | S31: 1 | T31: 1
E32: 33 | F32: Articles définis | G32: =VLOOKUP(H32,Niveaux!$C$2:$D$12,2,FALSE) -> CE1 | H32: =SUM(I32:T32)-1 -> 10 | J32: 1 | K32: 1 | L32: 1 | M32: 1 | N32: 1 | O32: 1 | P32: 1 | Q32: 1 | R32: 1 | S32: 1 | T32: 1
E33: 34 | F33: Articles indéfinis | G33: =VLOOKUP(H33,Niveaux!$C$2:$D$12,2,FALSE) -> CE1 | H33: =SUM(I33:T33)-1 -> 10 | J33: 1 | K33: 1 | L33: 1 | M33: 1 | N33: 1 | O33: 1 | P33: 1 | Q33: 1 | R33: 1 | S33: 1 | T33: 1
E34: 35 | F34: Articles partitifs | G34: =VLOOKUP(H34,Niveaux!$C$2:$D$12,2,FALSE) -> CM1 | H34: =SUM(I34:T34)-1 -> 8 | L34: 1 | M34: 1 | N34: 1 | O34: 1 | P34: 1 | Q34: 1 | R34: 1 | S34: 1 | T34: 1
E35: 6 | F35: Attribut du complément d'objet | G35: =VLOOKUP(H35,Niveaux!$C$2:$D$12,2,FALSE) -> CM2 | H35: =SUM(I35:T35)-1 -> 7 | M35: 1 | N35: 1 | O35: 1 | P35: 1 | Q35: 1 | R35: 1 | S35: 1 | T35: 1
E36: 5 | F36: Attribut du sujet | G36: CE1 | H36: =SUM(I36:T36)-1 -> 9 | K36: 1 | L36: 1 | M36: 1 | N36: 1 | O36: 1 | P36: 1 | Q36: 1 | R36: 1 | S36: 1 | T36: 1
E37: 43 | F37: Comparatifs | G37: =VLOOKUP(H37,Niveaux!$C$2:$D$12,2,FALSE) -> CM1 | H37: =SUM(I37:T37)-1 -> 8 | L37: 1 | M37: 1 | N37: 1 | O37: 1 | P37: 1 | Q37: 1 | R37: 1 | S37: 1 | T37: 1
E38: 15 | F38: Complément circonstanciel | G38: =VLOOKUP(H38,Niveaux!$C$2:$D$12,2,FALSE) -> CM1 | H38: =SUM(I38:T38)-1 -> 8 | L38: 1 | M38: 1 | N38: 1 | O38: 1 | P38: 1 | Q38: 1 | R38: 1 | S38: 1 | T38: 1
E39: 23 | F39: Complément circonstanciel de moyen | G39: =VLOOKUP(H39,Niveaux!$C$2:$D$12,2,FALSE) -> CM1 | H39: =SUM(I39:T39)-1 -> 8 | L39: 1 | M39: 1 | N39: 1 | O39: 1 | P39: 1 | Q39: 1 | R39: 1 | S39: 1 | T39: 1
E40: 21 | F40: Complément circonstanciel d'accompagnement | G40: =VLOOKUP(H40,Niveaux!$C$2:$D$12,2,FALSE) -> CM1 | H40: =SUM(I40:T40)-1 -> 8 | L40: 1 | M40: 1 | N40: 1 | O40: 1 | P40: 1 | Q40: 1 | R40: 1 | S40: 1 | T40: 1
E41: 20 | F41: Complément circonstanciel de but | G41: =VLOOKUP(H41,Niveaux!$C$2:$D$12,2,FALSE) -> CM1 | H41: =SUM(I41:T41)-1 -> 8 | L41: 1 | M41: 1 | N41: 1 | O41: 1 | P41: 1 | Q41: 1 | R41: 1 | S41: 1 | T41: 1
E42: 19 | F42: Complément circonstanciel de cause | G42: =VLOOKUP(H42,Niveaux!$C$2:$D$12,2,FALSE) -> CM1 | H42: =SUM(I42:T42)-1 -> 8 | L42: 1 | M42: 1 | N42: 1 | O42: 1 | P42: 1 | Q42: 1 | R42: 1 | S42: 1 | T42: 1
E43: 16 | F43: Complément circonstanciel de lieu | G43: =VLOOKUP(H43,Niveaux!$C$2:$D$12,2,FALSE) -> CM1 | H43: =SUM(I43:T43)-1 -> 8 | L43: 1 | M43: 1 | N43: 1 | O43: 1 | P43: 1 | Q43: 1 | R43: 1 | S43: 1 | T43: 1
E44: 17 | F44: Complément circonstanciel de manière | G44: =VLOOKUP(H44,Niveaux!$C$2:$D$12,2,FALSE) -> CM1 | H44: =SUM(I44:T44)-1 -> 8 | L44: 1 | M44: 1 | N44: 1 | O44: 1 | P44: 1 | Q44: 1 | R44: 1 | S44: 1 | T44: 1
E45: 24 | F45: Complément circonstanciel de matière | G45: =VLOOKUP(H45,Niveaux!$C$2:$D$12,2,FALSE) -> CM1 | H45: =SUM(I45:T45)-1 -> 8 | L45: 1 | M45: 1 | N45: 1 | O45: 1 | P45: 1 | Q45: 1 | R45: 1 | S45: 1 | T45: 1
E46: 22 | F46: Complément circonstanciel de mesure | G46: =VLOOKUP(H46,Niveaux!$C$2:$D$12,2,FALSE) -> CM1 | H46: =SUM(I46:T46)-1 -> 8 | L46: 1 | M46: 1 | N46: 1 | O46: 1 | P46: 1 | Q46: 1 | R46: 1 | S46: 1 | T46: 1
E47: 18 | F47: Complément circonstanciel de temps | G47: =VLOOKUP(H47,Niveaux!$C$2:$D$12,2,FALSE) -> CM1 | H47: =SUM(I47:T47)-1 -> 8 | L47: 1 | M47: 1 | N47: 1 | O47: 1 | P47: 1 | Q47: 1 | R47: 1 | S47: 1 | T47: 1
E48: 8 | F48: Complément d'adjectif | G48: =VLOOKUP(H48,Niveaux!$C$2:$D$12,2,FALSE) -> CM1 | H48: =SUM(I48:T48)-1 -> 8 | L48: 1 | M48: 1 | N48: 1 | O48: 1 | P48: 1 | Q48: 1 | R48: 1 | S48: 1 | T48: 1
E49: 13 | F49: Complément d'agent | G49: =VLOOKUP(H49,Niveaux!$C$2:$D$12,2,FALSE) -> CE2 | H49: =SUM(I49:T49)-1 -> 9 | K49: 1 | L49: 1 | M49: 1 | N49: 1 | O49: 1 | P49: 1 | Q49: 1 | R49: 1 | S49: 1 | T49: 1
E50: 14 | F50: Complément d'attribution | G50: =VLOOKUP(H50,Niveaux!$C$2:$D$12,2,FALSE) -> CM2 | H50: =SUM(I50:T50)-1 -> 7 | M50: 1 | N50: 1 | O50: 1 | P50: 1 | Q50: 1 | R50: 1 | S50: 1 | T50: 1
E51: 9 | F51: Complément d'objet | G51: =VLOOKUP(H51,Niveaux!$C$2:$D$12,2,FALSE) -> CE2 | H51: =SUM(I51:T51)-1 -> 9 | K51: 1 | L51: 1 | M51: 1 | N51: 1 | O51: 1 | P51: 1 | Q51: 1 | R51: 1 | S51: 1 | T51: 1
E52: 10 | F52: Complément d'objet direct | G52: =VLOOKUP(H52,Niveaux!$C$2:$D$12,2,FALSE) -> CE2 | H52: =SUM(I52:T52)-1 -> 9 | K52: 1 | L52: 1 | M52: 1 | N52: 1 | O52: 1 | P52: 1 | Q52: 1 | R52: 1 | S52: 1 | T52: 1
E53: 11 | F53: Complément d'objet indirect | G53: =VLOOKUP(H53,Niveaux!$C$2:$D$12,2,FALSE) -> CE2 | H53: =SUM(I53:T53)-1 -> 9 | K53: 1 | L53: 1 | M53: 1 | N53: 1 | O53: 1 | P53: 1 | Q53: 1 | R53: 1 | S53: 1 | T53: 1
E54: 12 | F54: Complément d'objet second | G54: =VLOOKUP(H54,Niveaux!$C$2:$D$12,2,FALSE) -> CM2 | H54: =SUM(I54:T54)-1 -> 7 | M54: 1 | N54: 1 | O54: 1 | P54: 1 | Q54: 1 | R54: 1 | S54: 1 | T54: 1
E55: 7 | F55: Complément du nom | G55: =VLOOKUP(H55,Niveaux!$C$2:$D$12,2,FALSE) -> CM1 | H55: =SUM(I55:T55)-1 -> 8 | L55: 1 | M55: 1 | N55: 1 | O55: 1 | P55: 1 | Q55: 1 | R55: 1 | S55: 1 | T55: 1
E56: 147 | F56: Concordance des temps | G56: =VLOOKUP(H56,Niveaux!$C$2:$D$12,2,FALSE) -> CM2 | H56: =SUM(I56:T56)-1 -> 7 | M56: 1 | N56: 1 | O56: 1 | P56: 1 | Q56: 1 | R56: 1 | S56: 1 | T56: 1 | U56: Nous avons ici sans doute les sujets qui ne sont pas traités dans le livre d'analyse grammaticale.
E57: 134 | F57: Conditionnel | G57: =VLOOKUP(H57,Niveaux!$C$2:$D$12,2,FALSE) -> CM1 | H57: =SUM(I57:T57)-1 -> 8 | L57: 1 | M57: 1 | N57: 1 | O57: 1 | P57: 1 | Q57: 1 | R57: 1 | S57: 1 | T57: 1 | U57: Nous avons ici sans doute les sujets qui ne sont pas traités dans le livre d'analyse grammaticale.
E58: 90 | F58: Conjonctions de coordination | G58: =VLOOKUP(H58,Niveaux!$C$2:$D$12,2,FALSE) -> CE2 | H58: =SUM(I58:T58)-1 -> 9 | K58: 1 | L58: 1 | M58: 1 | N58: 1 | O58: 1 | P58: 1 | Q58: 1 | R58: 1 | S58: 1 | T58: 1
E59: 91 | F59: Conjonctions de subordination | G59: =VLOOKUP(H59,Niveaux!$C$2:$D$12,2,FALSE) -> CM2 | H59: =SUM(I59:T59)-1 -> 7 | M59: 1 | N59: 1 | O59: 1 | P59: 1 | Q59: 1 | R59: 1 | S59: 1 | T59: 1
E60: 32 | F60: Déterminants | G60: =VLOOKUP(H60,Niveaux!$C$2:$D$12,2,FALSE) -> CE2 | H60: =SUM(I60:T60)-1 -> 9 | K60: 1 | L60: 1 | M60: 1 | N60: 1 | O60: 1 | P60: 1 | Q60: 1 | R60: 1 | S60: 1 | T60: 1
E61: 115 | F61: Dites les consonnes et les voyelles. | G61: =VLOOKUP(H61,Niveaux!$C$2:$D$12,2,FALSE) -> CP | H61: =SUM(I61:T61)-1 -> 11 | I61: 1 | J61: 1 | K61: 1 | L61: 1 | M61: 1 | N61: 1 | O61: 1 | P61: 1 | Q61: 1 | R61: 1 | S61: 1 | T61: 1 | U61: Nous avons ici sans doute les sujets qui ne sont pas traités dans le livre d'analyse grammaticale.
E62: 117 | F62: E muet, ouvert ou fermé | G62: =VLOOKUP(H62,Niveaux!$C$2:$D$12,2,FALSE) -> CE1 | H62: =SUM(I62:T62)-1 -> 10 | J62: 1 | K62: 1 | L62: 1 | M62: 1 | N62: 1 | O62: 1 | P62: 1 | Q62: 1 | R62: 1 | S62: 1 | T62: 1 | U62: Nous avons ici sans doute les sujets qui ne sont pas traités dans le livre d'analyse grammaticale.
E63: 169 | F63: Épithète | G63: =VLOOKUP(H63,Niveaux!$C$2:$D$12,2,FALSE) -> CE2 | H63: =SUM(I63:T63)-1 -> 9 | K63: 1 | L63: 1 | M63: 1 | N63: 1 | O63: 1 | P63: 1 | Q63: 1 | R63: 1 | S63: 1 | T63: 1 | U63: Nous avons ici sans doute les sujets qui ne sont pas traités dans le livre d'analyse grammaticale.
E64: 123 | F64: Féminin | G64: =VLOOKUP(H64,Niveaux!$C$2:$D$12,2,FALSE) -> CP | H64: =SUM(I64:T64)-1 -> 11 | I64: 1 | J64: 1 | K64: 1 | L64: 1 | M64: 1 | N64: 1 | O64: 1 | P64: 1 | Q64: 1 | R64: 1 | S64: 1 | T64: 1 | U64: Nous avons ici sans doute les sujets qui ne sont pas traités dans le livre d'analyse grammaticale.
E65: 41 | F65: Fonctions syntaxiques | G65: =VLOOKUP(H65,Niveaux!$C$2:$D$12,2,FALSE) -> CM1 | H65: =SUM(I65:T65)-1 -> 8 | L65: 1 | M65: 1 | N65: 1 | O65: 1 | P65: 1 | Q65: 1 | R65: 1 | S65: 1 | T65: 1
E66: 129 | F66: Forme active | G66: =VLOOKUP(H66,Niveaux!$C$2:$D$12,2,FALSE) -> CE2 | H66: =SUM(I66:T66)-1 -> 9 | K66: 1 | L66: 1 | M66: 1 | N66: 1 | O66: 1 | P66: 1 | Q66: 1 | R66: 1 | S66: 1 | T66: 1 | U66: Nous avons ici sans doute les sujets qui ne sont pas traités dans le livre d'analyse grammaticale.
E67: 130 | F67: Forme passive | G67: =VLOOKUP(H67,Niveaux!$C$2:$D$12,2,FALSE) -> CE2 | H67: =SUM(I67:T67)-1 -> 9 | K67: 1 | L67: 1 | M67: 1 | N67: 1 | O67: 1 | P67: 1 | Q67: 1 | R67: 1 | S67: 1 | T67: 1 | U67: Nous avons ici sans doute les sujets qui ne sont pas traités dans le livre d'analyse grammaticale.
E68: 131 | F68: Forme pronominale | G68: =VLOOKUP(H68,Niveaux!$C$2:$D$12,2,FALSE) -> CM1 | H68: =SUM(I68:T68)-1 -> 8 | L68: 1 | M68: 1 | N68: 1 | O68: 1 | P68: 1 | Q68: 1 | R68: 1 | S68: 1 | T68: 1 | U68: Nous avons ici sans doute les sujets qui ne sont pas traités dans le livre d'analyse grammaticale.
E69: 146 | F69: Futur antérieur | G69: =VLOOKUP(H69,Niveaux!$C$2:$D$12,2,FALSE) -> CM1 | H69: =SUM(I69:T69)-1 -> 8 | L69: 1 | M69: 1 | N69: 1 | O69: 1 | P69: 1 | Q69: 1 | R69: 1 | S69: 1 | T69: 1 | U69: Nous avons ici sans doute les sujets qui ne sont pas traités dans le livre d'analyse grammaticale.
E70: 145 | F70: Futur simple | G70: =VLOOKUP(H70,Niveaux!$C$2:$D$12,2,FALSE) -> CE1 | H70: =SUM(I70:T70)-1 -> 10 | J70: 1 | K70: 1 | L70: 1 | M70: 1 | N70: 1 | O70: 1 | P70: 1 | Q70: 1 | R70: 1 | S70: 1 | T70: 1 | U70: Nous avons ici sans doute les sujets qui ne sont pas traités dans le livre d'analyse grammaticale.
E71: 124 | F71: Genre d'un mot | G71: =VLOOKUP(H71,Niveaux!$C$2:$D$12,2,FALSE) -> CE1 | H71: =SUM(I71:T71)-1 -> 10 | J71: 1 | K71: 1 | L71: 1 | M71: 1 | N71: 1 | O71: 1 | P71: 1 | Q71: 1 | R71: 1 | S71: 1 | T71: 1 | U71: Nous avons ici sans doute les sujets qui ne sont pas traités dans le livre d'analyse grammaticale.
E72: 137 | F72: Gérondif | G72: =VLOOKUP(H72,Niveaux!$C$2:$D$12,2,FALSE) -> CM1 | H72: =SUM(I72:T72)-1 -> 8 | L72: 1 | M72: 1 | N72: 1 | O72: 1 | P72: 1 | Q72: 1 | R72: 1 | S72: 1 | T72: 1 | U72: Nous avons ici sans doute les sujets qui ne sont pas traités dans le livre d'analyse grammaticale.
E73: 151 | F73: Groupe adjectival | G73: =VLOOKUP(H73,Niveaux!$C$2:$D$12,2,FALSE) -> CE2 | H73: =SUM(I73:T73)-1 -> 9 | K73: 1 | L73: 1 | M73: 1 | N73: 1 | O73: 1 | P73: 1 | Q73: 1 | R73: 1 | S73: 1 | T73: 1 | U73: Nous avons ici sans doute les sujets qui ne sont pas traités dans le livre d'analyse grammaticale.
E74: 153 | F74: Groupe adverbiale | G74: =VLOOKUP(H74,Niveaux!$C$2:$D$12,2,FALSE) -> CM1 | H74: =SUM(I74:T74)-1 -> 8 | L74: 1 | M74: 1 | N74: 1 | O74: 1 | P74: 1 | Q74: 1 | R74: 1 | S74: 1 | T74: 1 | U74: Nous avons ici sans doute les sujets qui ne sont pas traités dans le livre d'analyse grammaticale.
E75: 149 | F75: Groupe nominal | G75: =VLOOKUP(H75,Niveaux!$C$2:$D$12,2,FALSE) -> CE2 | H75: =SUM(I75:T75)-1 -> 9 | K75: 1 | L75: 1 | M75: 1 | N75: 1 | O75: 1 | P75: 1 | Q75: 1 | R75: 1 | S75: 1 | T75: 1 | U75: Nous avons ici sans doute les sujets qui ne sont pas traités dans le livre d'analyse grammaticale.
E76: 152 | F76: Groupe pronominal | G76: =VLOOKUP(H76,Niveaux!$C$2:$D$12,2,FALSE) -> CE2 | H76: =SUM(I76:T76)-1 -> 9 | K76: 1 | L76: 1 | M76: 1 | N76: 1 | O76: 1 | P76: 1 | Q76: 1 | R76: 1 | S76: 1 | T76: 1 | U76: Nous avons ici sans doute les sujets qui ne sont pas traités dans le livre d'analyse grammaticale.
E77: 150 | F77: Groupe verbal | G77: =VLOOKUP(H77,Niveaux!$C$2:$D$12,2,FALSE) -> CE2 | H77: =SUM(I77:T77)-1 -> 9 | K77: 1 | L77: 1 | M77: 1 | N77: 1 | O77: 1 | P77: 1 | Q77: 1 | R77: 1 | S77: 1 | T77: 1 | U77: Nous avons ici sans doute les sujets qui ne sont pas traités dans le livre d'analyse grammaticale.
E78: 148 | F78: Groupe, noyau et satellite | G78: =VLOOKUP(H78,Niveaux!$C$2:$D$12,2,FALSE) -> CE2 | H78: =SUM(I78:T78)-1 -> 9 | K78: 1 | L78: 1 | M78: 1 | N78: 1 | O78: 1 | P78: 1 | Q78: 1 | R78: 1 | S78: 1 | T78: 1 | U78: Nous avons ici sans doute les sujets qui ne sont pas traités dans le livre d'analyse grammaticale.
E79: 53 | F79: Groupes de verbes | G79: =VLOOKUP(H79,Niveaux!$C$2:$D$12,2,FALSE) -> CE1 | H79: =SUM(I79:T79)-1 -> 10 | J79: 1 | K79: 1 | L79: 1 | M79: 1 | N79: 1 | O79: 1 | P79: 1 | Q79: 1 | R79: 1 | S79: 1 | T79: 1
E80: 165 | F80: Homographes | G80: =VLOOKUP(H80,Niveaux!$C$2:$D$12,2,FALSE) -> CM1 | H80: =SUM(I80:T80)-1 -> 8 | L80: 1 | M80: 1 | N80: 1 | O80: 1 | P80: 1 | Q80: 1 | R80: 1 | S80: 1 | T80: 1 | U80: Nous avons ici sans doute les sujets qui ne sont pas traités dans le livre d'analyse grammaticale.
E81: 166 | F81: Homographes-homophones | G81: =VLOOKUP(H81,Niveaux!$C$2:$D$12,2,FALSE) -> CM1 | H81: =SUM(I81:T81)-1 -> 8 | L81: 1 | M81: 1 | N81: 1 | O81: 1 | P81: 1 | Q81: 1 | R81: 1 | S81: 1 | T81: 1 | U81: Nous avons ici sans doute les sujets qui ne sont pas traités dans le livre d'analyse grammaticale.
E82: 163 | F82: Homonymes | G82: =VLOOKUP(H82,Niveaux!$C$2:$D$12,2,FALSE) -> CE2 | H82: =SUM(I82:T82)-1 -> 9 | K82: 1 | L82: 1 | M82: 1 | N82: 1 | O82: 1 | P82: 1 | Q82: 1 | R82: 1 | S82: 1 | T82: 1 | U82: Nous avons ici sans doute les sujets qui ne sont pas traités dans le livre d'analyse grammaticale.
E83: 164 | F83: Homophones | G83: =VLOOKUP(H83,Niveaux!$C$2:$D$12,2,FALSE) -> CM1 | H83: =SUM(I83:T83)-1 -> 8 | L83: 1 | M83: 1 | N83: 1 | O83: 1 | P83: 1 | Q83: 1 | R83: 1 | S83: 1 | T83: 1 | U83: Nous avons ici sans doute les sujets qui ne sont pas traités dans le livre d'analyse grammaticale.
E84: 141 | F84: Imparfait | G84: =VLOOKUP(H84,Niveaux!$C$2:$D$12,2,FALSE) -> CE1 | H84: =SUM(I84:T84)-1 -> 10 | J84: 1 | K84: 1 | L84: 1 | M84: 1 | N84: 1 | O84: 1 | P84: 1 | Q84: 1 | R84: 1 | S84: 1 | T84: 1 | U84: Nous avons ici sans doute les sujets qui ne sont pas traités dans le livre d'analyse grammaticale.
E85: 135 | F85: Impératif | G85: =VLOOKUP(H85,Niveaux!$C$2:$D$12,2,FALSE) -> CM1 | H85: =SUM(I85:T85)-1 -> 8 | L85: 1 | M85: 1 | N85: 1 | O85: 1 | P85: 1 | Q85: 1 | R85: 1 | S85: 1 | T85: 1 | U85: Nous avons ici sans doute les sujets qui ne sont pas traités dans le livre d'analyse grammaticale.
E86: 133 | F86: Indicatif | G86: =VLOOKUP(H86,Niveaux!$C$2:$D$12,2,FALSE) -> CM1 | H86: =SUM(I86:T86)-1 -> 8 | L86: 1 | M86: 1 | N86: 1 | O86: 1 | P86: 1 | Q86: 1 | R86: 1 | S86: 1 | T86: 1 | U86: Nous avons ici sans doute les sujets qui ne sont pas traités dans le livre d'analyse grammaticale.
E87: 61 | F87: Infinitif | G87: =VLOOKUP(H87,Niveaux!$C$2:$D$12,2,FALSE) -> CM1 | H87: =SUM(I87:T87)-1 -> 8 | L87: 1 | M87: 1 | N87: 1 | O87: 1 | P87: 1 | Q87: 1 | R87: 1 | S87: 1 | T87: 1
E88: 92 | F88: Interjections | G88: =VLOOKUP(H88,Niveaux!$C$2:$D$12,2,FALSE) -> CM1 | H88: =SUM(I88:T88)-1 -> 8 | L88: 1 | M88: 1 | N88: 1 | O88: 1 | P88: 1 | Q88: 1 | R88: 1 | S88: 1 | T88: 1
E89: 128 | F89: La nature des mots : les classes | G89: =VLOOKUP(H89,Niveaux!$C$2:$D$12,2,FALSE) -> CM1 | H89: =SUM(I89:T89)-1 -> 8 | L89: 1 | M89: 1 | N89: 1 | O89: 1 | P89: 1 | Q89: 1 | R89: 1 | S89: 1 | T89: 1 | U89: Nous avons ici sans doute les sujets qui ne sont pas traités dans le livre d'analyse grammaticale.
E90: 93 | F90: La phrase | G90: =VLOOKUP(H90,Niveaux!$C$2:$D$12,2,FALSE) -> CM2 | H90: =SUM(I90:T90)-1 -> 7 | M90: 1 | N90: 1 | O90: 1 | P90: 1 | Q90: 1 | R90: 1 | S90: 1 | T90: 1
E91: 106 | F91: La sub. conj. circ. de but | G91: =VLOOKUP(H91,Niveaux!$C$2:$D$12,2,FALSE) -> CM2 | H91: =SUM(I91:T91)-1 -> 7 | M91: 1 | N91: 1 | O91: 1 | P91: 1 | Q91: 1 | R91: 1 | S91: 1 | T91: 1
E92: 100 | F92: La sub. conj. circ. de cause | G92: =VLOOKUP(H92,Niveaux!$C$2:$D$12,2,FALSE) -> CM2 | H92: =SUM(I92:T92)-1 -> 7 | M92: 1 | N92: 1 | O92: 1 | P92: 1 | Q92: 1 | R92: 1 | S92: 1 | T92: 1
E93: 105 | F93: La sub. conj. circ. de comparaison | G93: =VLOOKUP(H93,Niveaux!$C$2:$D$12,2,FALSE) -> CM2 | H93: =SUM(I93:T93)-1 -> 7 | M93: 1 | N93: 1 | O93: 1 | P93: 1 | Q93: 1 | R93: 1 | S93: 1 | T93: 1
E94: 104 | F94: La sub. conj. circ. de condition | G94: =VLOOKUP(H94,Niveaux!$C$2:$D$12,2,FALSE) -> CM2 | H94: =SUM(I94:T94)-1 -> 7 | M94: 1 | N94: 1 | O94: 1 | P94: 1 | Q94: 1 | R94: 1 | S94: 1 | T94: 1
E95: 101 | F95: La sub. conj. circ. de conséquence | G95: =VLOOKUP(H95,Niveaux!$C$2:$D$12,2,FALSE) -> CM2 | H95: =SUM(I95:T95)-1 -> 7 | M95: 1 | N95: 1 | O95: 1 | P95: 1 | Q95: 1 | R95: 1 | S95: 1 | T95: 1
E96: 102 | F96: La sub. conj. circ. de manière | G96: =VLOOKUP(H96,Niveaux!$C$2:$D$12,2,FALSE) -> CM2 | H96: =SUM(I96:T96)-1 -> 7 | M96: 1 | N96: 1 | O96: 1 | P96: 1 | Q96: 1 | R96: 1 | S96: 1 | T96: 1
E97: 103 | F97: La sub. conj. circ. de opposition | G97: =VLOOKUP(H97,Niveaux!$C$2:$D$12,2,FALSE) -> CM2 | H97: =SUM(I97:T97)-1 -> 7 | M97: 1 | N97: 1 | O97: 1 | P97: 1 | Q97: 1 | R97: 1 | S97: 1 | T97: 1
E98: 107 | F98: La sub. conj. circ. de temps | G98: =VLOOKUP(H98,Niveaux!$C$2:$D$12,2,FALSE) -> CM2 | H98: =SUM(I98:T98)-1 -> 7 | M98: 1 | N98: 1 | O98: 1 | P98: 1 | Q98: 1 | R98: 1 | S98: 1 | T98: 1
E99: 99 | F99: La subordonnée conjonctive par que | G99: =VLOOKUP(H99,Niveaux!$C$2:$D$12,2,FALSE) -> 6e | H99: =SUM(I99:T99)-1 -> 6 | N99: 1 | O99: 1 | P99: 1 | Q99: 1 | R99: 1 | S99: 1 | T99: 1
E100: 108 | F100: La subordonnée infinitive | G100: =VLOOKUP(H100,Niveaux!$C$2:$D$12,2,FALSE) -> 6e | H100: =SUM(I100:T100)-1 -> 6 | N100: 1 | O100: 1 | P100: 1 | Q100: 1 | R100: 1 | S100: 1 | T100: 1
...

Sheet Niveaux
C2: 1 | D2: T
C3: 2 | D3: 2e
C4: 3 | D4: 3e
C5: 4 | D5: 4e
C6: 5 | D6: 5e
C7: 6 | D7: 6e
C8: 7 | D8: CM2
C9: 8 | D9: CM1
C10: 9 | D10: CE2
C11: 10 | D11: CE1
C12: 11 | D12: CP
