Workbook
Name Plage01: Liste!$E$1:$U$172
Name Plage02: Livre!$B$2:$B$31

Sheet Livre
B1: Le sujet du verbe
B2: 1 - Soulignez le sujet des verbes dans chacune des phrases suivantes :
B3: Le soir, nous admirions le coucher du soleil sur la mer.
B4: Dans la rue du village, on voyait des groupes joyeux.
B5: Maître Corbeau, sur un arbre perché, tenait en son bec un fromage.
B6: Le chasseur, à l'abri derrière le buisson, guette le gibier.
B7: Les aviateurs, en panne dans le désert, signalèrent leur position.
B8: 2 - Soulignez le sujet des verbes dans chacune des phrases suivantes :
B9: Le chien, de tous les animaux, est le plus fidèle à l'homme.
B10: Il faut donc veiller.
B11: Nous nettoyons les allées qu'envahissent les mauvaises herbes.
B12: Pouvez-vous me dire d'où viennent ces odeurs insupportables ?
... B31: Quiconque a beaucoup vu peut avoir beaucoup retenu.

Sheet Liste
E1: Ordre | F1: Sujets de cours | G1: Niveau | H1: Niveau | I1: CP | J1: CE1 | K1: CE2 | L1: CM1 | M1: CM2 | N1: 6e | O1: 5e | P1: 4e | Q1: 3e | R1: 2e | S1: 1e | T1: T
E2: 118 | F2: Accents | G2: =VLOOKUP(H2,Niveaux!$C$2:$D$12,2,FALSE) -> CP | H2: =SUM(I2:T2)-1 -> 11 | I2: 1 | J2: 1 | K2: 1 | L2: 1 | M2: 1 | N2: 1 | O2: 1 | P2: 1 | Q2: 1 | R2: 1 | S2: 1 | T2: 1 | U2: Nous avons ici sans doute les sujets qui ne sont pas traités dans le livre d'analyse grammaticale.
E3: 42 | F3: Adjectif qualificatif | G3: =VLOOKUP(H3,Niveaux!$C$2:$D$12,2,FALSE) -> CP | H3: =SUM(I3:T3)-1 -> 11 | I3: 1 | J3: 1 | K3: 1 | L3: 1 | M3: 1 | N3: 1 | O3: 1 | P3: 1 | Q3: 1 | R3: 1 | S3: 1 | T3: 1
E4: 73 | F4: Adjectifs démonstratifs | G4: =VLOOKUP(H4,Niveaux!$C$2:$D$12,2,FALSE) -> CE2 | H4: =SUM(I4:T4)-1 -> 9 | K4: 1 | L4: 1 | M4: 1 | N4: 1 | O4: 1 | P4: 1 | Q4: 1 | R4: 1 | S4: 1 | T4: 1
E5: 155 | F5: Adjectifs exclamatifs | G5: =VLOOKUP(H5,Niveaux!$C$2:$D$12,2,FALSE) -> CM1 | H5: =SUM(I5:T5)-1 -> 8 | L5: 1 | M5: 1 | N5: 1 | O5: 1 | P5: 1 | Q5: 1 | R5: 1 | S5: 1 | T5: 1 | U5: Nous avons ici sans doute les sujets qui ne sont pas traités dans le livre d'analyse grammaticale.
E6: 78 | F6: Adjectifs indéfinis | G6: =VLOOKUP(H6,Niveaux!$C$2:$D$12,2,FALSE) -> CM1 | H6: =SUM(I6:T6)-1 -> 8 | L6: 1 | M6: 1 | N6: 1 | O6: 1 | P6: 1 | Q6: 1 | R6: 1 | S6: 1 | T6: 1
E7: 76 | F7: Adjectifs interrogatifs | G7: =VLOOKUP(H7,Niveaux!$C$2:$D$12,2,FALSE) -> CM1 | H7: =SUM(I7:T7)-1 -> 8 | L7: 1 | M7: 1 | N7: 1 | O7: 1 | P7: 1 | Q7: 1 | R7: 1 | S7: 1 | T7: 1
E8: 157 | F8: Adjectifs numéraux cardinaux | G8: =VLOOKUP(H8,Niveaux!$C$2:$D$12,2,FALSE) -> CE2 | H8: =SUM(I8:T8)-1 -> 9 | K8: 1 | L8: 1 | M8: 1 | N8: 1 | O8: 1 | P8: 1 | Q8: 1 | R8: 1 | S8: 1 | T8: 1 | U8: Nous avons ici sans doute les sujets qui ne sont pas traités dans le livre d'analyse grammaticale.
E9: 158 | F9: Adjectifs numéraux ordinaux | G9: =VLOOKUP(H9,Niveaux!$C$2:$D$12,2,FALSE) -> CE2 | H9: =SUM(I9:T9)-1 -> 9 | K9: 1 | L9: 1 | M9: 1 | N9: 1 | O9: 1 | P9: 1 | Q9: 1 | R9: 1 | S9: 1 | T9: 1 | U9: Nous avons ici sans doute les sujets qui ne sont pas traités dans le livre d'analyse grammaticale.
E10: 71 | F10: Adjectifs possessifs | G10: =VLOOKUP(H10,Niveaux!$C$2:$D$12,2,FALSE) -> CE2 | H10: =SUM(I10:T10)-1 -> 9 | K10: 1 | L10: 1 | M10: 1 | N10: 1 | O10: 1 | P10: 1 | Q10: 1 | R10: 1 | S10: 1 | T10: 1
E11: 79 | F11: Adverbes | G11: =VLOOKUP(H11,Niveaux!$C$2:$D$12,2,FALSE) -> CM1 | H11: =SUM(I11:T11)-1 -> 8 | L11: 1 | M11: 1 | N11: 1 | O11: 1 | P11: 1 | Q11: 1 | R11: 1 | S11: 1 | T11: 1
E12: 84 | F12: Adverbes d'affirmation | G12: =VLOOKUP(H12,Niveaux!$C$2:$D$12,2,FALSE) -> CM1 | H12: =SUM(I12:T12)-1 -> 8 | L12: 1 | M12: 1 | N12: 1 | O12: 1 | P12: 1 | Q12: 1 | R12: 1 | S12: 1 | T12: 1
E13: 86 | F13: Adverbes de doute | G13: =VLOOKUP(H13,Niveaux!$C$2:$D$12,2,FALSE) -> CM1 | H13: =SUM(I13:T13)-1 -> 8 | L13: 1 | M13: 1 | N13: 1 | O13: 1 | P13: 1 | Q13: 1 | R13: 1 | S13: 1 | T13: 1
E14: 82 | F14: Adverbes de lieu | G14: =VLOOKUP(H14,Niveaux!$C$2:$D$12,2,FALSE) -> CM1 | H14: =SUM(I14:T14)-1 -> 8 | L14: 1 | M14: 1 | N14: 1 | O14: 1 | P14: 1 | Q14: 1 | R14: 1 | S14: 1 | T14: 1
E15: 80 | F15: Adverbes de manière | G15: =VLOOKUP(H15,Niveaux!$C$2:$D$12,2,FALSE) -> CM1 | H15: =SUM(I15:T15)-1 -> 8 | L15: 1 | M15: 1 | N15: 1 | O15: 1 | P15: 1 | Q15: 1 | R15: 1 | S15: 1 | T15: 1
E16: 85 | F16: Adverbes de négation | G16: =VLOOKUP(H16,Niveaux!$C$2:$D$12,2,FALSE) -> CM1 | H16: =SUM(I16:T16)-1 -> 8 | L16: 1 | M16: 1 | N16: 1 | O16: 1 | P16: 1 | Q16: 1 | R16: 1 | S16: 1 | T16: 1
E17: 83 | F17: Adverbes de quantité | G17: =VLOOKUP(H17,Niveaux!$C$2:$D$12,2,FALSE) -> CM1 | H17: =SUM(I17:T17)-1 -> 8 | L17: 1 | M17: 1 | N17: 1 | O17: 1 | P17: 1 | Q17: 1 | R17: 1 | S17: 1 | T17: 1
E18: 81 | F18: Adverbes de temps | G18: =VLOOKUP(H18,Niveaux!$C$2:$D$12,2,FALSE) -> CM1 | H18: =SUM(I18:T18)-1 -> 8 | L18: 1 | M18: 1 | N18: 1 | O18: 1 | P18: 1 | Q18: 1 | R18: 1 | S18: 1 | T18: 1
E19: 87 | F19: Adverbes d'interrogation | G19: =VLOOKUP(H19,Niveaux!$C$2:$D$12,2,FALSE) -> CM1 | H19: =SUM(I19:T19)-1 -> 8 | L19: 1 | M19: 1 | N19: 1 | O19: 1 | P19: 1 | Q19: 1 | R19: 1 | S19: 1 | T19: 1
E20: 159 | F20: Adverbes numéraux | G20: =VLOOKUP(H20,Niveaux!$C$2:$D$12,2,FALSE) -> CM1 | H20: =SUM(I20:T20)-1 -> 8 | L20: 1 | M20: 1 | N20: 1 | O20: 1 | P20: 1 | Q20: 1 | R20: 1 | S20: 1 | T20: 1 | U20: Nous avons ici sans doute les sujets qui ne sont pas traités dans le livre d'analyse grammaticale.
E21: 47 | F21: Analyse d'un verbe | G21: =VLOOKUP(H21,Niveaux!$C$2:$D$12,2,FALSE) -> CE2 | H21: =SUM(I21:T21)-1 -> 9 | K21: 1 | L21: 1 | M21: 1 | N21: 1 | O21: 1 | P21: 1 | Q21: 1 | R21: 1 | S21: 1 | T21: 1
E22: 113 | F22: Analyser une phrase | G22: =VLOOKUP(H22,Niveaux!$C$2:$D$12,2,FALSE) -> CE2 | H22: =SUM(I22:T22)-1 -> 9 | K22: 1 | L22: 1 | M22: 1 | N22: 1 | O22: 1 | P22: 1 | Q22: 1 | R22: 1 | S22: 1 | T22: 1
E23: 167 | F23: Antonymes | G23: =VLOOKUP(H23,Niveaux!$C$2:$D$12,2,FALSE) -> CM1 | H23: =SUM(I23:T23)-1 -> 8 | L23: 1 | M23: 1 | N23: 1 | O23: 1 | P23: 1 | Q23: 1 | R23: 1 | S23: 1 | T23: 1 | U23: Nous avons ici sans doute les sujets qui ne sont pas traités dans le livre d'analyse grammaticale.
E24: 121 | F24: Apostrophe | G24: =VLOOKUP(H24,Niveaux!$C$2:$D$12,2,FALSE) -> CP | H24: =SUM(I24:T24)-1 -> 11 | I24: 1 | J24: 1 | K24: 1 | L24: 1 | M24: 1 | N24: 1 | O24: 1 | P24: 1 | Q24: 1 | R24: 1 | S24: 1 | T24: 1 | U24: Nous avons ici sans doute les sujets qui ne sont pas traités dans le livre d'analyse grammaticale.
E25: 170 | F25: Apostrophe (mise en apostrophe) | G25: =VLOOKUP(H25,Niveaux!$C$2:$D$12,2,FALSE) -> CM1 | H25: =SUM(I25:T25)-1 -> 8 | L25: 1 | M25: 1 | N25: 1 | O25: 1 | P25: 1 | Q25: 1 | R25: 1 | S25: 1 | T25: 1 | U25: Nous avons ici sans doute les sujets qui ne sont pas traités dans le livre d'analyse grammaticale.
E26: 25 | F26: Apposition | G26: =VLOOKUP(H26,Niveaux!$C$2:$D$12,2,FALSE) -> CM1 | H26: =SUM(I26:T26)-1 -> 8 | L26: 1 | M26: 1 | N26: 1 | O26: 1 | P26: 1 | Q26: 1 | R26: 1 | S26: 1 | T26: 1
E27: 36 | F27: Article contracté | G27: =VLOOKUP(H27,Niveaux!$C$2:$D$12,2,FALSE) -> CM1 | H27: =SUM(I27:T27)-1 -> 8 | L27: 1 | M27: 1 | N27: 1 | O27: 1 | P27: 1 | Q27: 1 | R27: 1 | S27: 1 | T27: 1
E28: 38 | F28: Article contracté "des" | G28: =VLOOKUP(H28,Niveaux!$C$2:$D$12,2,FALSE) -> CM1 | H28: =SUM(I28:T28)-1 -> 8 | L28: 1 | M28: 1 | N28: 1 | O28: 1 | P28: 1 | Q28: 1 | R28: 1 | S28: 1 | T28: 1
E29: 37 | F29: Article contracté "du" | G29: =VLOOKUP(H29,Niveaux!$C$2:$D$12,2,FALSE) -> CM1 | H29: =SUM(I29:T29)-1 -> 8 | L29: 1 | M29: 1 | N29: 1 | O29: 1 | P29: 1 | Q29: 1 | R29: 1 | S29: 1 | T29: 1
E30: 39 | F30: Article contractés "au" et "aux" | G30: =VLOOKUP(H30,Niveaux!$C$2:$D$12,2,FALSE) -> CM1 | H30: =SUM(I30:T30)-1 -> 8 | L30: 1 | M30: 1 | N30: 1 | O30: 1 | P30: 1 | Q30: 1 | R30: 1 | S30: 1 | T30: 1
E31: 40 | F31: Article contractés "ès" | G31: =VLOOKUP(H31,Niveaux!$C$2:$D$12,2,FALSE) -> CM1 | H31: =SUM(I31:T31)-1 -> 8 | L31: 1 | M31: 1 | N31: 1 | O31: 1 | P31: 1 | Q31: 1 | R31: 1 | S31: 1 | T31: 1
E32: 33 | F32: Articles définis | G32: =VLOOKUP(H32,Niveaux!$C$2:$D$12,2,FALSE) -> CE1 | H32: =SUM(I32:T32)-1 -> 10 | J32: 1 | K32: 1 | L32: 1 | M32: 1 | N32: 1 | O32: 1 | P32: 1 | Q32: 1 | R32: 1 | S32: 1 | T32: 1
E33: 34 | F33: Articles indéfinis | G33: =VLOOKUP(H33,Niveaux!$C$2:$D$12,2,FALSE) -> CE1 | H33: =SUM(I33:T33)-1 -> 10 | J33: 1 | K33: 1 | L33: 1 | M33: 1 | N33: 1 | O33: 1 | P33: 1 | Q33: 1 | R33: 1 | S33: 1 | T33: 1
E34: 35 | F34: Articles partitifs | G34: =VLOOKUP(H34,Niveaux!$C$2:$D$12,2,FALSE) -> CM1 | H34: =SUM(I34:T34)-1 -> 8 | L34: 1 | M34: 1 | N34: 1 | O34: 1 | P34: 1 | Q34: 1 | R34: 1 | S34: 1 | T34: 1
E35: 6 | F35: Attribut du complément d'objet | G35: =VLOOKUP(H35,Niveaux!$C$2:$D$12,2,FALSE) -> CM2 | H35: =SUM(I35:T35)-1 -> 7 | M35: 1 | N35: 1 | O35: 1 | P35: 1 | Q35: 1 | R35: 1 | S35: 1 | T35: 1
E36: 5 | F36: Attribut du sujet | G36: CE1 | H36: =SUM(I36:T36)-1 -> 9 | K36: 1 | L36: 1 | M36: 1 | N36: 1 | O36: 1 | P36: 1 | Q36: 1 | R36: 1 | S36: 1 | T36: 1
E37: 43 | F37: Comparatifs | G37: =VLOOKUP(H37,Niveaux!$C$2:$D$12,2,FALSE) -> CM1 | H37: =SUM(I37:T37)-1 -> 8 | L37: 1 | M37: 1 | N37: 1 | O37: 1 | P37: 1 | Q37: 1 | R37: 1 | S37: 1 | T37: 1
E38: 15 | F38: Complément circonstanciel | G38: =VLOOKUP(H38,Niveaux!$C$2:$D$12,2,FALSE) -> CM1 | H38: =SUM(I38:T38)-1 -> 8 | L38: 1 | M38: 1 | N38: 1 | O38: 1 | P38: 1 | Q38: 1 | R38: 1 | S38: 1 | T38: 1
E39: 23 | F39: Complément circonstanciel de moyen | G39: =VLOOKUP(H39,Niveaux!$C$2:$D$12,2,FALSE) -> CM1 | H39: =SUM(I39:T39)-1 -> 8 | L39: 1 | M39: 1 | N39: 1 | O39: 1 | P39: 1 | Q39: 1 | R39: 1 | S39: 1 | T39: 1
E40: 21 | F40: Complément circonstanciel d'accompagnement | G40: =VLOOKUP(H40,Niveaux!$C$2:$D$12,2,FALSE) -> CM1 | H40: =SUM(I40:T40)-1 -> 8 | L40: 1 | M40: 1 | N40: 1 | O40: 1 | P40: 1 | Q40: 1 | R40: 1 | S40: 1 | T40: 1
...

Sheet Niveaux
C2: 1 | D2: T
C3: 2 | D3: 2e
C4: 3 | D4: 3e
C5: 4 | D5: 4e
C6: 5 | D6: 5e
C7: 6 | D7: 6e
C8: 7 | D8: CM2
C9: 8 | D9: CM1
C10: 9 | D10: CE2
C11: 10 | D11: CE1
C12: 11 | D12: CP
