Workbook
Name alphabetchiffre: #REF!
Name alphabetchiffre2: #REF!
Name BD: #REF!
Name BD_1: 'Base de données'!$A$3:$I$102
Name BD_NomPrénom: 'Base de données'!$A$3:$A$102
Name BD_nomprénomalpha: '[1]Liste noms'!$A$2:$A$101
Name BD_NomPrénomprospect: #REF!
Name BD_prospect: #REF!
Name BDProspect: #REF!
Name DateReference: #REF!
Name département: '[1]table des codes '!$C$86:$C$187
Name ENTOURAGE_FAMILIAL: 'tableau de commandes'!#REF!
Name Etat_civil: '[1]listes infos résidents'!$B$1:$B$5
Name Etat_civil_1: '[1]listes infos résidents'!$D$1:$D$2
Name Gir_entree: '[1]listes infos résidents'!$B$37:$B$42
Name H_F: 'tableau de commandes'!#REF!
Name H_Fprospect: 'tableau de commandes'!#REF!
Name Lien_Parenté: '[1]listes infos résidents'!$F$2:$F$21
Name listealphaprospect: #REF!
Name Logement_avant_entree: '[1]table des codes '!$G$60:$G$73
Name Mesure_de_protection: '[1]listes infos résidents'!$A$25:$A$28
Name Motifs_de_sorties: 'tableau de commandes'!#REF!
Name Motifs_dentrees: '[1]table des codes '!$B$9:$B$15
Name Origines_geographiques: '[1]table des codes '!$B$51:$B$57
Name Oui_Non: '[1]listes infos résidents'!$A$21:$A$22
Name Payant_Aidesoc: '[1]listes infos résidents'!$A$11:$A$12
Name Saint_Paul: '[1]listes infos résidents'!$C$45:$C$49
Name Table_socio_professionelle: '[1]table des codes '!$G$50:$G$56
Name teleassistance: '[1]listes infos résidents'!$A$33:$A$35
Name Vecteurs_dentree: '[1]table des codes '!$B$33:$B$45

Sheet Base de données
A1: 1 | B1: 2 | C1: 3 | D1: 4 | E1: 5 | F1: 6 | G1: 7 | H1: 8 | I1: 9 | J1: 253 | K1: 254 | L1: 255 | M1: 256 | N1: 257 | O1: 258 | P1: 259 | Q1: 260 | R1: 261
A2: Nom&Prénom | B2: Date d'effet | C2: Nom résident | D2: Prénom résident | E2: Mme/Mr résident | F2: Nom de naissance | G2: Nationalité: | H2: Date de naissance: | I2: Age
A3: =C3&" "&D3 | B3: 41351 | E3: Mme | H3: 8940 | I3: =IF(H3>0,INT((TODAY()-H3)/365),"") -> 89
A4: =C4&" "&D4 | B4: 40452 | E4: Mr | H4: 12775 | I4: =IF(H4>0,INT((TODAY()-H4)/365),"") -> 78
A5: =C5&" "&D5 | B5: 41162 | E5: Mme | H5: 14756 | I5: =IF(H5>0,INT((TODAY()-H5)/365),"") -> 73
A6: =C6&" "&D6 | B6: 38638 | E6: Mme | H6: 10007 | I6: =IF(H6>0,INT((TODAY()-H6)/365),"") -> 86
A7: =C7&" "&D7 | B7: 38698 | E7: Mr | H7: 15483 | I7: =IF(H7>0,INT((TODAY()-H7)/365),"") -> 71
A8: =C8&" "&D8 | B8: 41015 | E8: Mr | H8: 19308 | I8: =IF(H8>0,INT((TODAY()-H8)/365),"") -> 60
A9: =C9&" "&D9 | B9: 40148 | E9: Mme | H9: 4574 | I9: =IF(H9>0,INT((TODAY()-H9)/365),"") -> 101
A10: =C10&" "&D10 | B10: 41041 | E10: Mme | H10: 12733 | I10: =IF(H10>0,INT((TODAY()-H10)/365),"") -> 78
A11: =C11&" "&D11 | B11: 40695 | E11: Mme | H11: 11680 | I11: =IF(H11>0,INT((TODAY()-H11)/365),"") -> 81
A12: =C12&" "&D12 | B12: 39518 | E12: Mme | H12: 11792 | I12: =IF(H12>0,INT((TODAY()-H12)/365),"") -> 81
A13: =C13&" "&D13 | B13: 39837 | E13: Mr | H13: 17399 | I13: =IF(H13>0,INT((TODAY()-H13)/365),"") -> 66
A14: =C14&" "&D14 | B14: 40148 | E14: Mr | H14: 18233 | I14: =IF(H14>0,INT((TODAY()-H14)/365),"") -> 63
... A23: =C23&" "&D23 | B23: 39541 | E23: Mr | H23: 8675 | I23: =IF(H23>0,INT((TODAY()-H23)/365),"") -> 90
B24: 40848 | E24: Mr | H24: 16921 | I24: =IF(H24>0,INT((TODAY()-H24)/365),"") -> 67
B25: 41094 | E25: Mr | H25: 16447 | I25: =IF(H25>0,INT((TODAY()-H25)/365),"") -> 68
B26: 41104 | E26: Mme | H26: 7581 | I26: =IF(H26>0,INT((TODAY()-H26)/365),"") -> 93
B27: 37130 | E27: Mme | H27: 9768 | I27: =IF(H27>0,INT((TODAY()-H27)/365),"") -> 87
B28: 38087 | E28: Mme | H28: 8076 | I28: =IF(H28>0,INT((TODAY()-H28)/365),"") -> 91
B29: 41518 | E29: Mme | H29: 10208 | I29: =IF(H29>0,INT((TODAY()-H29)/365),"") -> 85
B30: 39241 | E30: Mme | H30: 7724 | I30: =IF(H30>0,INT((TODAY()-H30)/365),"") -> 92
B31: 39162 | E31: Mr | H31: 9975 | I31: =IF(H31>0,INT((TODAY()-H31)/365),"") -> 86
B32: 41153 | E32: Mme | H32: 10960 | I32: =IF(H32>0,INT((TODAY()-H32)/365),"") -> 83
B33: 39764 | E33: Mme | H33: 11337 | I33: =IF(H33>0,INT((TODAY()-H33)/365),"") -> 82
B34: 39689 | E34: Mme | H34: 7559 | I34: =IF(H34>0,INT((TODAY()-H34)/365),"") -> 93
B35: 37257 | E35: Mr | H35: 10779 | I35: =IF(H35>0,INT((TODAY()-H35)/365),"") -> 84
... B63: 41348 | E63: Mme | H63: 11609 | I63: =IF(H63>0,INT((TODAY()-H63)/365),"") -> 81
I64: =IF(H64>0,INT((TODAY()-H64)/365),"")
I65: =IF(H65>0,INT((TODAY()-H65)/365),"")
I66: =IF(H66>0,INT((TODAY()-H66)/365),"")
A67: =C67&" "&D67 | I67: =IF(H67>0,INT((TODAY()-H67)/365),"")
A68: =C68&" "&D68 | I68: =IF(H68>0,INT((TODAY()-H68)/365),"")
A69: =C69&" "&D69 | I69: =IF(H69>0,INT((TODAY()-H69)/365),"")
A70: =C70&" "&D70 | I70: =IF(H70>0,INT((TODAY()-H70)/365),"")
A71: =C71&" "&D71 | I71: =IF(H71>0,INT((TODAY()-H71)/365),"")
A72: =C72&" "&D72 | I72: =IF(H72>0,INT((TODAY()-H72)/365),"")
A73: =C73&" "&D73 | I73: =IF(H73>0,INT((TODAY()-H73)/365),"")
A74: =C74&" "&D74 | I74: =IF(H74>0,INT((TODAY()-H74)/365),"")
A75: =C75&" "&D75 | I75: =IF(H75>0,INT((TODAY()-H75)/365),"")
...

Sheet tableau de commandes
A1: Année | B1: 2013
A2: ENTREE
B4: Total Mr | C4: =SUMPRODUCT(('Base de données'!$E$3:$E$102="Mr")*(YEAR('Base de données'!$B$3:$B$102)=B$1)) -> 3
B5: Total Mme | C5: =SUMPRODUCT(('Base de données'!$E$3:$E$102="Mme")*(YEAR('Base de données'!$B$3:$B$102)=B$1)) -> 4
B9: ="Total entrants " & B1 -> Total entrants 2013 | C9: =SUMPRODUCT((YEAR('Base de données'!$B$3:$B$102)=$B$1)*1) -> 7
A11: formule pas ok | B11: Moyenne age entrants | C11: =(SUMPRODUCT((YEAR('Base de données'!B3:B102)=$B$1)*('Base de données'!I3:I102)))/C9 -> #VALUE!
A14: formule ok | B14: Moins de 55 ans | D14: =SUMPRODUCT(('Base de données'!$I$3:$I$102>=1)*('Base de données'!$I$3:$I$102<=54)*(YEAR('Base de données'!B3:B102)=B$1)) -> 0
A15: formule ok | B15: De 55 à 59 ans | D15: =SUMPRODUCT(('Base de données'!$I$3:$I$102>=55)*('Base de données'!$I$3:$I$102<=59)*(YEAR('Base de données'!B3:B102)=B$1)) -> 0
A16: formule ok | B16: De 60 à 64 ans | D16: =SUMPRODUCT(('Base de données'!$I$3:$I$102>=60)*('Base de données'!$I$3:$I$102<=64)*(YEAR('Base de données'!B3:B102)=B$1)) -> 2
A17: formule ok | B17: De 65 à 69 ans | D17: =SUMPRODUCT(('Base de données'!$I$3:$I$102>=65)*('Base de données'!$I$3:$I$102<=69)*(YEAR('Base de données'!B3:B102)=B$1)) -> 1
A18: formule ok | B18: De 70 à 74 ans | D18: =SUMPRODUCT(('Base de données'!$I$3:$I$102>=70)*('Base de données'!$I$3:$I$102<=74)*(YEAR('Base de données'!B3:B102)=B$1)) -> 0
A19: formule ok | B19: De 75 à 79 ans | D19: =SUMPRODUCT(('Base de données'!$I$3:$I$102>=75)*('Base de données'!$I$3:$I$102<=79)*(YEAR('Base de données'!B3:B102)=B$1)) -> 1
A20: formule ok | B20: De 80 à 84 ans | D20: =SUMPRODUCT(('Base de données'!$I$3:$I$102>=80)*('Base de données'!$I$3:$I$102<=84)*(YEAR('Base de données'!B3:B102)=B$1)) -> 1
A21: formule ok | B21: De 85 à 89 ans | D21: =SUMPRODUCT(('Base de données'!$I$3:$I$102>=85)*('Base de données'!$I$3:$I$102<=89)*(YEAR('Base de données'!B3:B102)=B$1)) -> 2
A22: formule ok | B22: De 90 à 94 ans | D22: =SUMPRODUCT(('Base de données'!$I$3:$I$102>=90)*('Base de données'!$I$3:$I$102<=94)*(YEAR('Base de données'!B3:B102)=B$1)) -> 0
A23: formule ok | B23: De 95 à 99 ans | D23: =SUMPRODUCT(('Base de données'!$I$3:$I$102>=95)*('Base de données'!$I$3:$I$102<=99)*(YEAR('Base de données'!B3:B102)=B$1)) -> 0
A24: formule ok | B24: Plus de 100 ans | D24: =SUMPRODUCT(('Base de données'!$I$3:$I$102>=100)*('Base de données'!$I$3:$I$102<=200)*(YEAR('Base de données'!B3:B102)=B$1)) -> 0
