Workbook

Sheet CSE1 et CSE3 CDD DOC DE TRAVAIL
A1: Matricule | B1: période | C1: mat et pér | D1: CSE | E1: RESIDENCE 1 | F1: Code résidence | G1: Adresse résidence | H1: POSTE | I1: COEFFICENT CCN51 | J1: Date ancienneté | K1: date de réf | L1: ancienneté au 31.03.2020 | M1: Nom | N1: Prenom | O1: Civilité | P1: Adresse ligne 1 | Q1: Adresse ligne 2 | R1: Adresse ligne 3 | S1: Code Postal | T1: Ville | U1: Pays | V1: Contrat | W1: Date de naissance | X1: Date d'entrée | Y1: Date de sortie | Z1: ETP | AA1: Horaire hebdomadaire | AB1: Nombre de jour du contrat | AC1: Motif de sortie | AD1: a | AE1: b | AF1: TRIM1 | AG1: TRIM2 | AH1: TRIM3 | AI1: TRIM4 | AJ1: janvier | AK1: février | AL1: mars | AM1: avril | AN1: mai | AO1: juin | AP1: juillet | AQ1: août | AR1: septembre | AS1: octobre | AT1: novembre | AU1: décembre
A2: M00000012 | V2: CDD | X2: 43848 | Y2: 44183 | Z2: 1 | AA2: 35 | AB2: 1 | AC2: Fin normale de CDD | AF2: =SUM(AJ2:AL2) -> 74 | AG2: =SUM(AM2:AO2) -> 91 | AH2: =SUM(AP2:AR2) -> 92 | AI2: =SUM(AS2:AU2) -> 79 | AJ2: =IF(AND('MOIS 2020'!A$1<=$Y2,EOMONTH('MOIS 2020'!A$1,0)>=$X2),MIN(EOMONTH('MOIS 2020'!A$1,0),$Y2)-MAX('MOIS 2020'!A$1-1,$X2-1),0) -> 14 | AK2: =IF(AND('MOIS 2020'!B$1<=$Y2,EOMONTH('MOIS 2020'!B$1,0)>=$X2),MIN(EOMONTH('MOIS 2020'!B$1,0),$Y2)-MAX('MOIS 2020'!B$1-1,$X2-1),0) -> 29 | AL2: =IF(AND('MOIS 2020'!C$1<=$Y2,EOMONTH('MOIS 2020'!C$1,0)>=$X2),MIN(EOMONTH('MOIS 2020'!C$1,0),$Y2)-MAX('MOIS 2020'!C$1-1,$X2-1),0) -> 31 | AM2: =IF(AND('MOIS 2020'!D$1<=$Y2,EOMONTH('MOIS 2020'!D$1,0)>=$X2),MIN(EOMONTH('MOIS 2020'!D$1,0),$Y2)-MAX('MOIS 2020'!D$1-1,$X2-1),0) -> 30 | AN2: =IF(AND('MOIS 2020'!E$1<=$Y2,EOMONTH('MOIS 2020'!E$1,0)>=$X2),MIN(EOMONTH('MOIS 2020'!E$1,0),$Y2)-MAX('MOIS 2020'!E$1-1,$X2-1),0) -> 31 | AO2: =IF(AND('MOIS 2020'!F$1<=$Y2,EOMONTH('MOIS 2020'!F$1,0)>=$X2),MIN(EOMONTH('MOIS 2020'!F$1,0),$Y2)-MAX('MOIS 2020'!F$1-1,$X2-1),0) -> 30 | AP2: =IF(AND('MOIS 2020'!G$1<=$Y2,EOMONTH('MOIS 2020'!G$1,0)>=$X2),MIN(EOMONTH('MOIS 2020'!G$1,0),$Y2)-MAX('MOIS 2020'!G$1-1,$X2-1),0) -> 31 | AQ2: =IF(AND('MOIS 2020'!H$1<=$Y2,EOMONTH('MOIS 2020'!H$1,0)>=$X2),MIN(EOMONTH('MOIS 2020'!H$1,0),$Y2)-MAX('MOIS 2020'!H$1-1,$X2-1),0) -> 31 | ... AU2: =IF(AND('MOIS 2020'!L$1<=$Y2,EOMONTH('MOIS 2020'!L$1,0)>=$X2),MIN(EOMONTH('MOIS 2020'!L$1,0),$Y2)-MAX('MOIS 2020'!L$1-1,$X2-1),0) -> 18
A3: M00000012 | V3: CDD | X3: 43876 | Y3: 43877 | Z3: 1 | AA3: 35 | AB3: 2 | AC3: Fin normale de CDD | AF3: =SUM(AJ3:AL3) -> 2 | AG3: =SUM(AM3:AO3) -> 0 | AH3: =SUM(AP3:AR3) -> 0 | AI3: =SUM(AS3:AU3) -> 0 | AJ3: =IF(AND('MOIS 2020'!A$1<=$Y3,EOMONTH('MOIS 2020'!A$1,0)>=$X3),MIN(EOMONTH('MOIS 2020'!A$1,0),$Y3)-MAX('MOIS 2020'!A$1-1,$X3-1),0) -> 0 | AK3: =IF(AND('MOIS 2020'!B$1<=$Y3,EOMONTH('MOIS 2020'!B$1,0)>=$X3),MIN(EOMONTH('MOIS 2020'!B$1,0),$Y3)-MAX('MOIS 2020'!B$1-1,$X3-1),0) -> 2 | AL3: =IF(AND('MOIS 2020'!C$1<=$Y3,EOMONTH('MOIS 2020'!C$1,0)>=$X3),MIN(EOMONTH('MOIS 2020'!C$1,0),$Y3)-MAX('MOIS 2020'!C$1-1,$X3-1),0) -> 0 | AM3: =IF(AND('MOIS 2020'!D$1<=$Y3,EOMONTH('MOIS 2020'!D$1,0)>=$X3),MIN(EOMONTH('MOIS 2020'!D$1,0),$Y3)-MAX('MOIS 2020'!D$1-1,$X3-1),0) -> 0 | AN3: =IF(AND('MOIS 2020'!E$1<=$Y3,EOMONTH('MOIS 2020'!E$1,0)>=$X3),MIN(EOMONTH('MOIS 2020'!E$1,0),$Y3)-MAX('MOIS 2020'!E$1-1,$X3-1),0) -> 0 | AO3: =IF(AND('MOIS 2020'!F$1<=$Y3,EOMONTH('MOIS 2020'!F$1,0)>=$X3),MIN(EOMONTH('MOIS 2020'!F$1,0),$Y3)-MAX('MOIS 2020'!F$1-1,$X3-1),0) -> 0 | AP3: =IF(AND('MOIS 2020'!G$1<=$Y3,EOMONTH('MOIS 2020'!G$1,0)>=$X3),MIN(EOMONTH('MOIS 2020'!G$1,0),$Y3)-MAX('MOIS 2020'!G$1-1,$X3-1),0) -> 0 | AQ3: =IF(AND('MOIS 2020'!H$1<=$Y3,EOMONTH('MOIS 2020'!H$1,0)>=$X3),MIN(EOMONTH('MOIS 2020'!H$1,0),$Y3)-MAX('MOIS 2020'!H$1-1,$X3-1),0) -> 0 | ... AU3: =IF(AND('MOIS 2020'!L$1<=$Y3,EOMONTH('MOIS 2020'!L$1,0)>=$X3),MIN(EOMONTH('MOIS 2020'!L$1,0),$Y3)-MAX('MOIS 2020'!L$1-1,$X3-1),0) -> 0
A4: M00000012 | V4: CDD | X4: 43925 | Y4: 43926 | Z4: 1 | AA4: 35 | AB4: 2 | AC4: Fin normale de CDD | AF4: =SUM(AJ4:AL4) -> 0 | AG4: =SUM(AM4:AO4) -> 2 | AH4: =SUM(AP4:AR4) -> 0 | AI4: =SUM(AS4:AU4) -> 0 | AJ4: =IF(AND('MOIS 2020'!A$1<=$Y4,EOMONTH('MOIS 2020'!A$1,0)>=$X4),MIN(EOMONTH('MOIS 2020'!A$1,0),$Y4)-MAX('MOIS 2020'!A$1-1,$X4-1),0) -> 0 | AK4: =IF(AND('MOIS 2020'!B$1<=$Y4,EOMONTH('MOIS 2020'!B$1,0)>=$X4),MIN(EOMONTH('MOIS 2020'!B$1,0),$Y4)-MAX('MOIS 2020'!B$1-1,$X4-1),0) -> 0 | AL4: =IF(AND('MOIS 2020'!C$1<=$Y4,EOMONTH('MOIS 2020'!C$1,0)>=$X4),MIN(EOMONTH('MOIS 2020'!C$1,0),$Y4)-MAX('MOIS 2020'!C$1-1,$X4-1),0) -> 0 | AM4: =IF(AND('MOIS 2020'!D$1<=$Y4,EOMONTH('MOIS 2020'!D$1,0)>=$X4),MIN(EOMONTH('MOIS 2020'!D$1,0),$Y4)-MAX('MOIS 2020'!D$1-1,$X4-1),0) -> 2 | AN4: =IF(AND('MOIS 2020'!E$1<=$Y4,EOMONTH('MOIS 2020'!E$1,0)>=$X4),MIN(EOMONTH('MOIS 2020'!E$1,0),$Y4)-MAX('MOIS 2020'!E$1-1,$X4-1),0) -> 0 | AO4: =IF(AND('MOIS 2020'!F$1<=$Y4,EOMONTH('MOIS 2020'!F$1,0)>=$X4),MIN(EOMONTH('MOIS 2020'!F$1,0),$Y4)-MAX('MOIS 2020'!F$1-1,$X4-1),0) -> 0 | AP4: =IF(AND('MOIS 2020'!G$1<=$Y4,EOMONTH('MOIS 2020'!G$1,0)>=$X4),MIN(EOMONTH('MOIS 2020'!G$1,0),$Y4)-MAX('MOIS 2020'!G$1-1,$X4-1),0) -> 0 | AQ4: =IF(AND('MOIS 2020'!H$1<=$Y4,EOMONTH('MOIS 2020'!H$1,0)>=$X4),MIN(EOMONTH('MOIS 2020'!H$1,0),$Y4)-MAX('MOIS 2020'!H$1-1,$X4-1),0) -> 0 | ... AU4: =IF(AND('MOIS 2020'!L$1<=$Y4,EOMONTH('MOIS 2020'!L$1,0)>=$X4),MIN(EOMONTH('MOIS 2020'!L$1,0),$Y4)-MAX('MOIS 2020'!L$1-1,$X4-1),0) -> 0
A5: M00000012 | V5: CDD | X5: 43932 | Y5: 43933 | Z5: 1 | AA5: 35 | AB5: 2 | AC5: Fin normale de CDD | AF5: =SUM(AJ5:AL5) -> 0 | AG5: =SUM(AM5:AO5) -> 2 | AH5: =SUM(AP5:AR5) -> 0 | AI5: =SUM(AS5:AU5) -> 0 | AJ5: =IF(AND('MOIS 2020'!A$1<=$Y5,EOMONTH('MOIS 2020'!A$1,0)>=$X5),MIN(EOMONTH('MOIS 2020'!A$1,0),$Y5)-MAX('MOIS 2020'!A$1-1,$X5-1),0) -> 0 | AK5: =IF(AND('MOIS 2020'!B$1<=$Y5,EOMONTH('MOIS 2020'!B$1,0)>=$X5),MIN(EOMONTH('MOIS 2020'!B$1,0),$Y5)-MAX('MOIS 2020'!B$1-1,$X5-1),0) -> 0 | AL5: =IF(AND('MOIS 2020'!C$1<=$Y5,EOMONTH('MOIS 2020'!C$1,0)>=$X5),MIN(EOMONTH('MOIS 2020'!C$1,0),$Y5)-MAX('MOIS 2020'!C$1-1,$X5-1),0) -> 0 | AM5: =IF(AND('MOIS 2020'!D$1<=$Y5,EOMONTH('MOIS 2020'!D$1,0)>=$X5),MIN(EOMONTH('MOIS 2020'!D$1,0),$Y5)-MAX('MOIS 2020'!D$1-1,$X5-1),0) -> 2 | AN5: =IF(AND('MOIS 2020'!E$1<=$Y5,EOMONTH('MOIS 2020'!E$1,0)>=$X5),MIN(EOMONTH('MOIS 2020'!E$1,0),$Y5)-MAX('MOIS 2020'!E$1-1,$X5-1),0) -> 0 | AO5: =IF(AND('MOIS 2020'!F$1<=$Y5,EOMONTH('MOIS 2020'!F$1,0)>=$X5),MIN(EOMONTH('MOIS 2020'!F$1,0),$Y5)-MAX('MOIS 2020'!F$1-1,$X5-1),0) -> 0 | AP5: =IF(AND('MOIS 2020'!G$1<=$Y5,EOMONTH('MOIS 2020'!G$1,0)>=$X5),MIN(EOMONTH('MOIS 2020'!G$1,0),$Y5)-MAX('MOIS 2020'!G$1-1,$X5-1),0) -> 0 | AQ5: =IF(AND('MOIS 2020'!H$1<=$Y5,EOMONTH('MOIS 2020'!H$1,0)>=$X5),MIN(EOMONTH('MOIS 2020'!H$1,0),$Y5)-MAX('MOIS 2020'!H$1-1,$X5-1),0) -> 0 | ... AU5: =IF(AND('MOIS 2020'!L$1<=$Y5,EOMONTH('MOIS 2020'!L$1,0)>=$X5),MIN(EOMONTH('MOIS 2020'!L$1,0),$Y5)-MAX('MOIS 2020'!L$1-1,$X5-1),0) -> 0
A6: M00000012 | V6: CDD | X6: 43939 | Y6: 43940 | Z6: 1 | AA6: 35 | AB6: 2 | AC6: Fin normale de CDD | AF6: =SUM(AJ6:AL6) -> 0 | AG6: =SUM(AM6:AO6) -> 2 | AH6: =SUM(AP6:AR6) -> 0 | AI6: =SUM(AS6:AU6) -> 0 | AJ6: =IF(AND('MOIS 2020'!A$1<=$Y6,EOMONTH('MOIS 2020'!A$1,0)>=$X6),MIN(EOMONTH('MOIS 2020'!A$1,0),$Y6)-MAX('MOIS 2020'!A$1-1,$X6-1),0) -> 0 | AK6: =IF(AND('MOIS 2020'!B$1<=$Y6,EOMONTH('MOIS 2020'!B$1,0)>=$X6),MIN(EOMONTH('MOIS 2020'!B$1,0),$Y6)-MAX('MOIS 2020'!B$1-1,$X6-1),0) -> 0 | AL6: =IF(AND('MOIS 2020'!C$1<=$Y6,EOMONTH('MOIS 2020'!C$1,0)>=$X6),MIN(EOMONTH('MOIS 2020'!C$1,0),$Y6)-MAX('MOIS 2020'!C$1-1,$X6-1),0) -> 0 | AM6: =IF(AND('MOIS 2020'!D$1<=$Y6,EOMONTH('MOIS 2020'!D$1,0)>=$X6),MIN(EOMONTH('MOIS 2020'!D$1,0),$Y6)-MAX('MOIS 2020'!D$1-1,$X6-1),0) -> 2 | AN6: =IF(AND('MOIS 2020'!E$1<=$Y6,EOMONTH('MOIS 2020'!E$1,0)>=$X6),MIN(EOMONTH('MOIS 2020'!E$1,0),$Y6)-MAX('MOIS 2020'!E$1-1,$X6-1),0) -> 0 | AO6: =IF(AND('MOIS 2020'!F$1<=$Y6,EOMONTH('MOIS 2020'!F$1,0)>=$X6),MIN(EOMONTH('MOIS 2020'!F$1,0),$Y6)-MAX('MOIS 2020'!F$1-1,$X6-1),0) -> 0 | AP6: =IF(AND('MOIS 2020'!G$1<=$Y6,EOMONTH('MOIS 2020'!G$1,0)>=$X6),MIN(EOMONTH('MOIS 2020'!G$1,0),$Y6)-MAX('MOIS 2020'!G$1-1,$X6-1),0) -> 0 | AQ6: =IF(AND('MOIS 2020'!H$1<=$Y6,EOMONTH('MOIS 2020'!H$1,0)>=$X6),MIN(EOMONTH('MOIS 2020'!H$1,0),$Y6)-MAX('MOIS 2020'!H$1-1,$X6-1),0) -> 0 | ... AU6: =IF(AND('MOIS 2020'!L$1<=$Y6,EOMONTH('MOIS 2020'!L$1,0)>=$X6),MIN(EOMONTH('MOIS 2020'!L$1,0),$Y6)-MAX('MOIS 2020'!L$1-1,$X6-1),0) -> 0
A7: M00000012 | V7: CDD | X7: 43946 | Y7: 43946 | Z7: 1 | AA7: 35 | AB7: 1 | AC7: Fin normale de CDD | AF7: =SUM(AJ7:AL7) -> 0 | AG7: =SUM(AM7:AO7) -> 1 | AH7: =SUM(AP7:AR7) -> 0 | AI7: =SUM(AS7:AU7) -> 0 | AJ7: =IF(AND('MOIS 2020'!A$1<=$Y7,EOMONTH('MOIS 2020'!A$1,0)>=$X7),MIN(EOMONTH('MOIS 2020'!A$1,0),$Y7)-MAX('MOIS 2020'!A$1-1,$X7-1),0) -> 0 | AK7: =IF(AND('MOIS 2020'!B$1<=$Y7,EOMONTH('MOIS 2020'!B$1,0)>=$X7),MIN(EOMONTH('MOIS 2020'!B$1,0),$Y7)-MAX('MOIS 2020'!B$1-1,$X7-1),0) -> 0 | AL7: =IF(AND('MOIS 2020'!C$1<=$Y7,EOMONTH('MOIS 2020'!C$1,0)>=$X7),MIN(EOMONTH('MOIS 2020'!C$1,0),$Y7)-MAX('MOIS 2020'!C$1-1,$X7-1),0) -> 0 | AM7: =IF(AND('MOIS 2020'!D$1<=$Y7,EOMONTH('MOIS 2020'!D$1,0)>=$X7),MIN(EOMONTH('MOIS 2020'!D$1,0),$Y7)-MAX('MOIS 2020'!D$1-1,$X7-1),0) -> 1 | AN7: =IF(AND('MOIS 2020'!E$1<=$Y7,EOMONTH('MOIS 2020'!E$1,0)>=$X7),MIN(EOMONTH('MOIS 2020'!E$1,0),$Y7)-MAX('MOIS 2020'!E$1-1,$X7-1),0) -> 0 | AO7: =IF(AND('MOIS 2020'!F$1<=$Y7,EOMONTH('MOIS 2020'!F$1,0)>=$X7),MIN(EOMONTH('MOIS 2020'!F$1,0),$Y7)-MAX('MOIS 2020'!F$1-1,$X7-1),0) -> 0 | AP7: =IF(AND('MOIS 2020'!G$1<=$Y7,EOMONTH('MOIS 2020'!G$1,0)>=$X7),MIN(EOMONTH('MOIS 2020'!G$1,0),$Y7)-MAX('MOIS 2020'!G$1-1,$X7-1),0) -> 0 | AQ7: =IF(AND('MOIS 2020'!H$1<=$Y7,EOMONTH('MOIS 2020'!H$1,0)>=$X7),MIN(EOMONTH('MOIS 2020'!H$1,0),$Y7)-MAX('MOIS 2020'!H$1-1,$X7-1),0) -> 0 | ... AU7: =IF(AND('MOIS 2020'!L$1<=$Y7,EOMONTH('MOIS 2020'!L$1,0)>=$X7),MIN(EOMONTH('MOIS 2020'!L$1,0),$Y7)-MAX('MOIS 2020'!L$1-1,$X7-1),0) -> 0
A8: M00000012 | V8: CDD | X8: 43953 | Y8: 43954 | Z8: 1 | AA8: 35 | AB8: 2 | AC8: Fin normale de CDD | AF8: =SUM(AJ8:AL8) -> 0 | AG8: =SUM(AM8:AO8) -> 2 | AH8: =SUM(AP8:AR8) -> 0 | AI8: =SUM(AS8:AU8) -> 0 | AJ8: =IF(AND('MOIS 2020'!A$1<=$Y8,EOMONTH('MOIS 2020'!A$1,0)>=$X8),MIN(EOMONTH('MOIS 2020'!A$1,0),$Y8)-MAX('MOIS 2020'!A$1-1,$X8-1),0) -> 0 | AK8: =IF(AND('MOIS 2020'!B$1<=$Y8,EOMONTH('MOIS 2020'!B$1,0)>=$X8),MIN(EOMONTH('MOIS 2020'!B$1,0),$Y8)-MAX('MOIS 2020'!B$1-1,$X8-1),0) -> 0 | AL8: =IF(AND('MOIS 2020'!C$1<=$Y8,EOMONTH('MOIS 2020'!C$1,0)>=$X8),MIN(EOMONTH('MOIS 2020'!C$1,0),$Y8)-MAX('MOIS 2020'!C$1-1,$X8-1),0) -> 0 | AM8: =IF(AND('MOIS 2020'!D$1<=$Y8,EOMONTH('MOIS 2020'!D$1,0)>=$X8),MIN(EOMONTH('MOIS 2020'!D$1,0),$Y8)-MAX('MOIS 2020'!D$1-1,$X8-1),0) -> 0 | AN8: =IF(AND('MOIS 2020'!E$1<=$Y8,EOMONTH('MOIS 2020'!E$1,0)>=$X8),MIN(EOMONTH('MOIS 2020'!E$1,0),$Y8)-MAX('MOIS 2020'!E$1-1,$X8-1),0) -> 2 | AO8: =IF(AND('MOIS 2020'!F$1<=$Y8,EOMONTH('MOIS 2020'!F$1,0)>=$X8),MIN(EOMONTH('MOIS 2020'!F$1,0),$Y8)-MAX('MOIS 2020'!F$1-1,$X8-1),0) -> 0 | AP8: =IF(AND('MOIS 2020'!G$1<=$Y8,EOMONTH('MOIS 2020'!G$1,0)>=$X8),MIN(EOMONTH('MOIS 2020'!G$1,0),$Y8)-MAX('MOIS 2020'!G$1-1,$X8-1),0) -> 0 | AQ8: =IF(AND('MOIS 2020'!H$1<=$Y8,EOMONTH('MOIS 2020'!H$1,0)>=$X8),MIN(EOMONTH('MOIS 2020'!H$1,0),$Y8)-MAX('MOIS 2020'!H$1-1,$X8-1),0) -> 0 | ... AU8: =IF(AND('MOIS 2020'!L$1<=$Y8,EOMONTH('MOIS 2020'!L$1,0)>=$X8),MIN(EOMONTH('MOIS 2020'!L$1,0),$Y8)-MAX('MOIS 2020'!L$1-1,$X8-1),0) -> 0
A9: M00000012 | V9: CDD | X9: 43959 | Y9: 43961 | Z9: 1 | AA9: 35 | AB9: 3 | AC9: Fin normale de CDD | AF9: =SUM(AJ9:AL9) -> 0 | AG9: =SUM(AM9:AO9) -> 3 | AH9: =SUM(AP9:AR9) -> 0 | AI9: =SUM(AS9:AU9) -> 0 | AJ9: =IF(AND('MOIS 2020'!A$1<=$Y9,EOMONTH('MOIS 2020'!A$1,0)>=$X9),MIN(EOMONTH('MOIS 2020'!A$1,0),$Y9)-MAX('MOIS 2020'!A$1-1,$X9-1),0) -> 0 | AK9: =IF(AND('MOIS 2020'!B$1<=$Y9,EOMONTH('MOIS 2020'!B$1,0)>=$X9),MIN(EOMONTH('MOIS 2020'!B$1,0),$Y9)-MAX('MOIS 2020'!B$1-1,$X9-1),0) -> 0 | AL9: =IF(AND('MOIS 2020'!C$1<=$Y9,EOMONTH('MOIS 2020'!C$1,0)>=$X9),MIN(EOMONTH('MOIS 2020'!C$1,0),$Y9)-MAX('MOIS 2020'!C$1-1,$X9-1),0) -> 0 | AM9: =IF(AND('MOIS 2020'!D$1<=$Y9,EOMONTH('MOIS 2020'!D$1,0)>=$X9),MIN(EOMONTH('MOIS 2020'!D$1,0),$Y9)-MAX('MOIS 2020'!D$1-1,$X9-1),0) -> 0 | AN9: =IF(AND('MOIS 2020'!E$1<=$Y9,EOMONTH('MOIS 2020'!E$1,0)>=$X9),MIN(EOMONTH('MOIS 2020'!E$1,0),$Y9)-MAX('MOIS 2020'!E$1-1,$X9-1),0) -> 3 | AO9: =IF(AND('MOIS 2020'!F$1<=$Y9,EOMONTH('MOIS 2020'!F$1,0)>=$X9),MIN(EOMONTH('MOIS 2020'!F$1,0),$Y9)-MAX('MOIS 2020'!F$1-1,$X9-1),0) -> 0 | AP9: =IF(AND('MOIS 2020'!G$1<=$Y9,EOMONTH('MOIS 2020'!G$1,0)>=$X9),MIN(EOMONTH('MOIS 2020'!G$1,0),$Y9)-MAX('MOIS 2020'!G$1-1,$X9-1),0) -> 0 | AQ9: =IF(AND('MOIS 2020'!H$1<=$Y9,EOMONTH('MOIS 2020'!H$1,0)>=$X9),MIN(EOMONTH('MOIS 2020'!H$1,0),$Y9)-MAX('MOIS 2020'!H$1-1,$X9-1),0) -> 0 | ... AU9: =IF(AND('MOIS 2020'!L$1<=$Y9,EOMONTH('MOIS 2020'!L$1,0)>=$X9),MIN(EOMONTH('MOIS 2020'!L$1,0),$Y9)-MAX('MOIS 2020'!L$1-1,$X9-1),0) -> 0
A10: M00000012 | V10: CDD | X10: 43967 | Y10: 43968 | Z10: 1 | AA10: 35 | AB10: 2 | AC10: Fin normale de CDD | AF10: =SUM(AJ10:AL10) -> 0 | AG10: =SUM(AM10:AO10) -> 2 | AH10: =SUM(AP10:AR10) -> 0 | AI10: =SUM(AS10:AU10) -> 0 | AJ10: =IF(AND('MOIS 2020'!A$1<=$Y10,EOMONTH('MOIS 2020'!A$1,0)>=$X10),MIN(EOMONTH('MOIS 2020'!A$1,0),$Y10)-MAX('MOIS 2020'!A$1-1,$X10-1),0) -> 0 | AK10: =IF(AND('MOIS 2020'!B$1<=$Y10,EOMONTH('MOIS 2020'!B$1,0)>=$X10),MIN(EOMONTH('MOIS 2020'!B$1,0),$Y10)-MAX('MOIS 2020'!B$1-1,$X10-1),0) -> 0 | AL10: =IF(AND('MOIS 2020'!C$1<=$Y10,EOMONTH('MOIS 2020'!C$1,0)>=$X10),MIN(EOMONTH('MOIS 2020'!C$1,0),$Y10)-MAX('MOIS 2020'!C$1-1,$X10-1),0) -> 0 | AM10: =IF(AND('MOIS 2020'!D$1<=$Y10,EOMONTH('MOIS 2020'!D$1,0)>=$X10),MIN(EOMONTH('MOIS 2020'!D$1,0),$Y10)-MAX('MOIS 2020'!D$1-1,$X10-1),0) -> 0 | AN10: =IF(AND('MOIS 2020'!E$1<=$Y10,EOMONTH('MOIS 2020'!E$1,0)>=$X10),MIN(EOMONTH('MOIS 2020'!E$1,0),$Y10)-MAX('MOIS 2020'!E$1-1,$X10-1),0) -> 2 | AO10: =IF(AND('MOIS 2020'!F$1<=$Y10,EOMONTH('MOIS 2020'!F$1,0)>=$X10),MIN(EOMONTH('MOIS 2020'!F$1,0),$Y10)-MAX('MOIS 2020'!F$1-1,$X10-1),0) -> 0 | AP10: =IF(AND('MOIS 2020'!G$1<=$Y10,EOMONTH('MOIS 2020'!G$1,0)>=$X10),MIN(EOMONTH('MOIS 2020'!G$1,0),$Y10)-MAX('MOIS 2020'!G$1-1,$X10-1),0) -> 0 | AQ10: =IF(AND('MOIS 2020'!H$1<=$Y10,EOMONTH('MOIS 2020'!H$1,0)>=$X10),MIN(EOMONTH('MOIS 2020'!H$1,0),$Y10)-MAX('MOIS 2020'!H$1-1,$X10-1),0) -> 0 | ... AU10: =IF(AND('MOIS 2020'!L$1<=$Y10,EOMONTH('MOIS 2020'!L$1,0)>=$X10),MIN(EOMONTH('MOIS 2020'!L$1,0),$Y10)-MAX('MOIS 2020'!L$1-1,$X10-1),0) -> 0
A11: M00000012 | V11: CDD | X11: 43980 | Y11: 43980 | Z11: 1 | AA11: 35 | AB11: 1 | AC11: Fin normale de CDD | AF11: =SUM(AJ11:AL11) -> 0 | AG11: =SUM(AM11:AO11) -> 1 | AH11: =SUM(AP11:AR11) -> 0 | AI11: =SUM(AS11:AU11) -> 0 | AJ11: =IF(AND('MOIS 2020'!A$1<=$Y11,EOMONTH('MOIS 2020'!A$1,0)>=$X11),MIN(EOMONTH('MOIS 2020'!A$1,0),$Y11)-MAX('MOIS 2020'!A$1-1,$X11-1),0) -> 0 | AK11: =IF(AND('MOIS 2020'!B$1<=$Y11,EOMONTH('MOIS 2020'!B$1,0)>=$X11),MIN(EOMONTH('MOIS 2020'!B$1,0),$Y11)-MAX('MOIS 2020'!B$1-1,$X11-1),0) -> 0 | AL11: =IF(AND('MOIS 2020'!C$1<=$Y11,EOMONTH('MOIS 2020'!C$1,0)>=$X11),MIN(EOMONTH('MOIS 2020'!C$1,0),$Y11)-MAX('MOIS 2020'!C$1-1,$X11-1),0) -> 0 | AM11: =IF(AND('MOIS 2020'!D$1<=$Y11,EOMONTH('MOIS 2020'!D$1,0)>=$X11),MIN(EOMONTH('MOIS 2020'!D$1,0),$Y11)-MAX('MOIS 2020'!D$1-1,$X11-1),0) -> 0 | AN11: =IF(AND('MOIS 2020'!E$1<=$Y11,EOMONTH('MOIS 2020'!E$1,0)>=$X11),MIN(EOMONTH('MOIS 2020'!E$1,0),$Y11)-MAX('MOIS 2020'!E$1-1,$X11-1),0) -> 1 | AO11: =IF(AND('MOIS 2020'!F$1<=$Y11,EOMONTH('MOIS 2020'!F$1,0)>=$X11),MIN(EOMONTH('MOIS 2020'!F$1,0),$Y11)-MAX('MOIS 2020'!F$1-1,$X11-1),0) -> 0 | AP11: =IF(AND('MOIS 2020'!G$1<=$Y11,EOMONTH('MOIS 2020'!G$1,0)>=$X11),MIN(EOMONTH('MOIS 2020'!G$1,0),$Y11)-MAX('MOIS 2020'!G$1-1,$X11-1),0) -> 0 | AQ11: =IF(AND('MOIS 2020'!H$1<=$Y11,EOMONTH('MOIS 2020'!H$1,0)>=$X11),MIN(EOMONTH('MOIS 2020'!H$1,0),$Y11)-MAX('MOIS 2020'!H$1-1,$X11-1),0) -> 0 | ... AU11: =IF(AND('MOIS 2020'!L$1<=$Y11,EOMONTH('MOIS 2020'!L$1,0)>=$X11),MIN(EOMONTH('MOIS 2020'!L$1,0),$Y11)-MAX('MOIS 2020'!L$1-1,$X11-1),0) -> 0
A12: M00000147 | V12: CDD | X12: 43845 | Y12: 43846 | Z12: 1 | AA12: 35 | AB12: 2 | AC12: Fin normale de CDD | AF12: =SUM(AJ12:AL12) -> 2 | AG12: =SUM(AM12:AO12) -> 0 | AH12: =SUM(AP12:AR12) -> 0 | AI12: =SUM(AS12:AU12) -> 0 | AJ12: =IF(AND('MOIS 2020'!A$1<=$Y12,EOMONTH('MOIS 2020'!A$1,0)>=$X12),MIN(EOMONTH('MOIS 2020'!A$1,0),$Y12)-MAX('MOIS 2020'!A$1-1,$X12-1),0) -> 2 | AK12: =IF(AND('MOIS 2020'!B$1<=$Y12,EOMONTH('MOIS 2020'!B$1,0)>=$X12),MIN(EOMONTH('MOIS 2020'!B$1,0),$Y12)-MAX('MOIS 2020'!B$1-1,$X12-1),0) -> 0 | AL12: =IF(AND('MOIS 2020'!C$1<=$Y12,EOMONTH('MOIS 2020'!C$1,0)>=$X12),MIN(EOMONTH('MOIS 2020'!C$1,0),$Y12)-MAX('MOIS 2020'!C$1-1,$X12-1),0) -> 0 | AM12: =IF(AND('MOIS 2020'!D$1<=$Y12,EOMONTH('MOIS 2020'!D$1,0)>=$X12),MIN(EOMONTH('MOIS 2020'!D$1,0),$Y12)-MAX('MOIS 2020'!D$1-1,$X12-1),0) -> 0 | AN12: =IF(AND('MOIS 2020'!E$1<=$Y12,EOMONTH('MOIS 2020'!E$1,0)>=$X12),MIN(EOMONTH('MOIS 2020'!E$1,0),$Y12)-MAX('MOIS 2020'!E$1-1,$X12-1),0) -> 0 | AO12: =IF(AND('MOIS 2020'!F$1<=$Y12,EOMONTH('MOIS 2020'!F$1,0)>=$X12),MIN(EOMONTH('MOIS 2020'!F$1,0),$Y12)-MAX('MOIS 2020'!F$1-1,$X12-1),0) -> 0 | AP12: =IF(AND('MOIS 2020'!G$1<=$Y12,EOMONTH('MOIS 2020'!G$1,0)>=$X12),MIN(EOMONTH('MOIS 2020'!G$1,0),$Y12)-MAX('MOIS 2020'!G$1-1,$X12-1),0) -> 0 | AQ12: =IF(AND('MOIS 2020'!H$1<=$Y12,EOMONTH('MOIS 2020'!H$1,0)>=$X12),MIN(EOMONTH('MOIS 2020'!H$1,0),$Y12)-MAX('MOIS 2020'!H$1-1,$X12-1),0) -> 0 | ... AU12: =IF(AND('MOIS 2020'!L$1<=$Y12,EOMONTH('MOIS 2020'!L$1,0)>=$X12),MIN(EOMONTH('MOIS 2020'!L$1,0),$Y12)-MAX('MOIS 2020'!L$1-1,$X12-1),0) -> 0
A13: M00000147 | V13: CDD | X13: 43847 | Y13: 43848 | Z13: 1 | AA13: 35 | AB13: 2 | AC13: Fin normale de CDD | AF13: =SUM(AJ13:AL13) -> 2 | AG13: =SUM(AM13:AO13) -> 0 | AH13: =SUM(AP13:AR13) -> 0 | AI13: =SUM(AS13:AU13) -> 0 | AJ13: =IF(AND('MOIS 2020'!A$1<=$Y13,EOMONTH('MOIS 2020'!A$1,0)>=$X13),MIN(EOMONTH('MOIS 2020'!A$1,0),$Y13)-MAX('MOIS 2020'!A$1-1,$X13-1),0) -> 2 | AK13: =IF(AND('MOIS 2020'!B$1<=$Y13,EOMONTH('MOIS 2020'!B$1,0)>=$X13),MIN(EOMONTH('MOIS 2020'!B$1,0),$Y13)-MAX('MOIS 2020'!B$1-1,$X13-1),0) -> 0 | AL13: =IF(AND('MOIS 2020'!C$1<=$Y13,EOMONTH('MOIS 2020'!C$1,0)>=$X13),MIN(EOMONTH('MOIS 2020'!C$1,0),$Y13)-MAX('MOIS 2020'!C$1-1,$X13-1),0) -> 0 | AM13: =IF(AND('MOIS 2020'!D$1<=$Y13,EOMONTH('MOIS 2020'!D$1,0)>=$X13),MIN(EOMONTH('MOIS 2020'!D$1,0),$Y13)-MAX('MOIS 2020'!D$1-1,$X13-1),0) -> 0 | AN13: =IF(AND('MOIS 2020'!E$1<=$Y13,EOMONTH('MOIS 2020'!E$1,0)>=$X13),MIN(EOMONTH('MOIS 2020'!E$1,0),$Y13)-MAX('MOIS 2020'!E$1-1,$X13-1),0) -> 0 | AO13: =IF(AND('MOIS 2020'!F$1<=$Y13,EOMONTH('MOIS 2020'!F$1,0)>=$X13),MIN(EOMONTH('MOIS 2020'!F$1,0),$Y13)-MAX('MOIS 2020'!F$1-1,$X13-1),0) -> 0 | AP13: =IF(AND('MOIS 2020'!G$1<=$Y13,EOMONTH('MOIS 2020'!G$1,0)>=$X13),MIN(EOMONTH('MOIS 2020'!G$1,0),$Y13)-MAX('MOIS 2020'!G$1-1,$X13-1),0) -> 0 | AQ13: =IF(AND('MOIS 2020'!H$1<=$Y13,EOMONTH('MOIS 2020'!H$1,0)>=$X13),MIN(EOMONTH('MOIS 2020'!H$1,0),$Y13)-MAX('MOIS 2020'!H$1-1,$X13-1),0) -> 0 | ... AU13: =IF(AND('MOIS 2020'!L$1<=$Y13,EOMONTH('MOIS 2020'!L$1,0)>=$X13),MIN(EOMONTH('MOIS 2020'!L$1,0),$Y13)-MAX('MOIS 2020'!L$1-1,$X13-1),0) -> 0
... A18: M00000147 | V18: CDD | X18: 43895 | Y18: 43904 | Z18: 1 | AA18: 35 | AB18: 10 | AC18: Fin normale de CDD | AF18: =SUM(AJ18:AL18) -> 10 | AG18: =SUM(AM18:AO18) -> 0 | AH18: =SUM(AP18:AR18) -> 0 | AI18: =SUM(AS18:AU18) -> 0 | AJ18: =IF(AND('MOIS 2020'!A$1<=$Y18,EOMONTH('MOIS 2020'!A$1,0)>=$X18),MIN(EOMONTH('MOIS 2020'!A$1,0),$Y18)-MAX('MOIS 2020'!A$1-1,$X18-1),0) -> 0 | AK18: =IF(AND('MOIS 2020'!B$1<=$Y18,EOMONTH('MOIS 2020'!B$1,0)>=$X18),MIN(EOMONTH('MOIS 2020'!B$1,0),$Y18)-MAX('MOIS 2020'!B$1-1,$X18-1),0) -> 0 | AL18: =IF(AND('MOIS 2020'!C$1<=$Y18,EOMONTH('MOIS 2020'!C$1,0)>=$X18),MIN(EOMONTH('MOIS 2020'!C$1,0),$Y18)-MAX('MOIS 2020'!C$1-1,$X18-1),0) -> 10 | AM18: =IF(AND('MOIS 2020'!D$1<=$Y18,EOMONTH('MOIS 2020'!D$1,0)>=$X18),MIN(EOMONTH('MOIS 2020'!D$1,0),$Y18)-MAX('MOIS 2020'!D$1-1,$X18-1),0) -> 0 | AN18: =IF(AND('MOIS 2020'!E$1<=$Y18,EOMONTH('MOIS 2020'!E$1,0)>=$X18),MIN(EOMONTH('MOIS 2020'!E$1,0),$Y18)-MAX('MOIS 2020'!E$1-1,$X18-1),0) -> 0 | AO18: =IF(AND('MOIS 2020'!F$1<=$Y18,EOMONTH('MOIS 2020'!F$1,0)>=$X18),MIN(EOMONTH('MOIS 2020'!F$1,0),$Y18)-MAX('MOIS 2020'!F$1-1,$X18-1),0) -> 0 | AP18: =IF(AND('MOIS 2020'!G$1<=$Y18,EOMONTH('MOIS 2020'!G$1,0)>=$X18),MIN(EOMONTH('MOIS 2020'!G$1,0),$Y18)-MAX('MOIS 2020'!G$1-1,$X18-1),0) -> 0 | AQ18: =IF(AND('MOIS 2020'!H$1<=$Y18,EOMONTH('MOIS 2020'!H$1,0)>=$X18),MIN(EOMONTH('MOIS 2020'!H$1,0),$Y18)-MAX('MOIS 2020'!H$1-1,$X18-1),0) -> 0 | ... AU18: =IF(AND('MOIS 2020'!L$1<=$Y18,EOMONTH('MOIS 2020'!L$1,0)>=$X18),MIN(EOMONTH('MOIS 2020'!L$1,0),$Y18)-MAX('MOIS 2020'!L$1-1,$X18-1),0) -> 0
A19: M00000148 | V19: CDI | X19: 43245 | Z19: 1 | AA19: 35 | AB19: 6 | AF19: =SUM(AJ19:AL19) -> 0 | AG19: =SUM(AM19:AO19) -> 0 | AH19: =SUM(AP19:AR19) -> 0 | AI19: =SUM(AS19:AU19) -> 0 | AJ19: =IF(AND('MOIS 2020'!A$1<=$Y19,EOMONTH('MOIS 2020'!A$1,0)>=$X19),MIN(EOMONTH('MOIS 2020'!A$1,0),$Y19)-MAX('MOIS 2020'!A$1-1,$X19-1),0) -> 0 | AK19: =IF(AND('MOIS 2020'!B$1<=$Y19,EOMONTH('MOIS 2020'!B$1,0)>=$X19),MIN(EOMONTH('MOIS 2020'!B$1,0),$Y19)-MAX('MOIS 2020'!B$1-1,$X19-1),0) -> 0 | AL19: =IF(AND('MOIS 2020'!C$1<=$Y19,EOMONTH('MOIS 2020'!C$1,0)>=$X19),MIN(EOMONTH('MOIS 2020'!C$1,0),$Y19)-MAX('MOIS 2020'!C$1-1,$X19-1),0) -> 0 | AM19: =IF(AND('MOIS 2020'!D$1<=$Y19,EOMONTH('MOIS 2020'!D$1,0)>=$X19),MIN(EOMONTH('MOIS 2020'!D$1,0),$Y19)-MAX('MOIS 2020'!D$1-1,$X19-1),0) -> 0 | AN19: =IF(AND('MOIS 2020'!E$1<=$Y19,EOMONTH('MOIS 2020'!E$1,0)>=$X19),MIN(EOMONTH('MOIS 2020'!E$1,0),$Y19)-MAX('MOIS 2020'!E$1-1,$X19-1),0) -> 0 | AO19: =IF(AND('MOIS 2020'!F$1<=$Y19,EOMONTH('MOIS 2020'!F$1,0)>=$X19),MIN(EOMONTH('MOIS 2020'!F$1,0),$Y19)-MAX('MOIS 2020'!F$1-1,$X19-1),0) -> 0 | AP19: =IF(AND('MOIS 2020'!G$1<=$Y19,EOMONTH('MOIS 2020'!G$1,0)>=$X19),MIN(EOMONTH('MOIS 2020'!G$1,0),$Y19)-MAX('MOIS 2020'!G$1-1,$X19-1),0) -> 0 | AQ19: =IF(AND('MOIS 2020'!H$1<=$Y19,EOMONTH('MOIS 2020'!H$1,0)>=$X19),MIN(EOMONTH('MOIS 2020'!H$1,0),$Y19)-MAX('MOIS 2020'!H$1-1,$X19-1),0) -> 0 | ... AU19: =IF(AND('MOIS 2020'!L$1<=$Y19,EOMONTH('MOIS 2020'!L$1,0)>=$X19),MIN(EOMONTH('MOIS 2020'!L$1,0),$Y19)-MAX('MOIS 2020'!L$1-1,$X19-1),0) -> 0
A20: M00000182 | V20: CDI | X20: 43898 | Z20: 1 | AA20: 35 | AB20: 30 | AF20: =SUM(AJ20:AL20) -> 0 | AG20: =SUM(AM20:AO20) -> 0 | AH20: =SUM(AP20:AR20) -> 0 | AI20: =SUM(AS20:AU20) -> 0 | AJ20: =IF(AND('MOIS 2020'!A$1<=$Y20,EOMONTH('MOIS 2020'!A$1,0)>=$X20),MIN(EOMONTH('MOIS 2020'!A$1,0),$Y20)-MAX('MOIS 2020'!A$1-1,$X20-1),0) -> 0 | AK20: =IF(AND('MOIS 2020'!B$1<=$Y20,EOMONTH('MOIS 2020'!B$1,0)>=$X20),MIN(EOMONTH('MOIS 2020'!B$1,0),$Y20)-MAX('MOIS 2020'!B$1-1,$X20-1),0) -> 0 | AL20: =IF(AND('MOIS 2020'!C$1<=$Y20,EOMONTH('MOIS 2020'!C$1,0)>=$X20),MIN(EOMONTH('MOIS 2020'!C$1,0),$Y20)-MAX('MOIS 2020'!C$1-1,$X20-1),0) -> 0 | AM20: =IF(AND('MOIS 2020'!D$1<=$Y20,EOMONTH('MOIS 2020'!D$1,0)>=$X20),MIN(EOMONTH('MOIS 2020'!D$1,0),$Y20)-MAX('MOIS 2020'!D$1-1,$X20-1),0) -> 0 | AN20: =IF(AND('MOIS 2020'!E$1<=$Y20,EOMONTH('MOIS 2020'!E$1,0)>=$X20),MIN(EOMONTH('MOIS 2020'!E$1,0),$Y20)-MAX('MOIS 2020'!E$1-1,$X20-1),0) -> 0 | AO20: =IF(AND('MOIS 2020'!F$1<=$Y20,EOMONTH('MOIS 2020'!F$1,0)>=$X20),MIN(EOMONTH('MOIS 2020'!F$1,0),$Y20)-MAX('MOIS 2020'!F$1-1,$X20-1),0) -> 0 | AP20: =IF(AND('MOIS 2020'!G$1<=$Y20,EOMONTH('MOIS 2020'!G$1,0)>=$X20),MIN(EOMONTH('MOIS 2020'!G$1,0),$Y20)-MAX('MOIS 2020'!G$1-1,$X20-1),0) -> 0 | AQ20: =IF(AND('MOIS 2020'!H$1<=$Y20,EOMONTH('MOIS 2020'!H$1,0)>=$X20),MIN(EOMONTH('MOIS 2020'!H$1,0),$Y20)-MAX('MOIS 2020'!H$1-1,$X20-1),0) -> 0 | ... AU20: =IF(AND('MOIS 2020'!L$1<=$Y20,EOMONTH('MOIS 2020'!L$1,0)>=$X20),MIN(EOMONTH('MOIS 2020'!L$1,0),$Y20)-MAX('MOIS 2020'!L$1-1,$X20-1),0) -> 0
A21: M00000190 | V21: CDI | X21: 33241 | Y21: 44055 | Z21: 1 | AA21: 35 | AB21: 1 | AC21: Retraite | AF21: =SUM(AJ21:AL21) -> 91 | AG21: =SUM(AM21:AO21) -> 91 | AH21: =SUM(AP21:AR21) -> 43 | AI21: =SUM(AS21:AU21) -> 0 | AJ21: =IF(AND('MOIS 2020'!A$1<=$Y21,EOMONTH('MOIS 2020'!A$1,0)>=$X21),MIN(EOMONTH('MOIS 2020'!A$1,0),$Y21)-MAX('MOIS 2020'!A$1-1,$X21-1),0) -> 31 | AK21: =IF(AND('MOIS 2020'!B$1<=$Y21,EOMONTH('MOIS 2020'!B$1,0)>=$X21),MIN(EOMONTH('MOIS 2020'!B$1,0),$Y21)-MAX('MOIS 2020'!B$1-1,$X21-1),0) -> 29 | AL21: =IF(AND('MOIS 2020'!C$1<=$Y21,EOMONTH('MOIS 2020'!C$1,0)>=$X21),MIN(EOMONTH('MOIS 2020'!C$1,0),$Y21)-MAX('MOIS 2020'!C$1-1,$X21-1),0) -> 31 | AM21: =IF(AND('MOIS 2020'!D$1<=$Y21,EOMONTH('MOIS 2020'!D$1,0)>=$X21),MIN(EOMONTH('MOIS 2020'!D$1,0),$Y21)-MAX('MOIS 2020'!D$1-1,$X21-1),0) -> 30 | AN21: =IF(AND('MOIS 2020'!E$1<=$Y21,EOMONTH('MOIS 2020'!E$1,0)>=$X21),MIN(EOMONTH('MOIS 2020'!E$1,0),$Y21)-MAX('MOIS 2020'!E$1-1,$X21-1),0) -> 31 | AO21: =IF(AND('MOIS 2020'!F$1<=$Y21,EOMONTH('MOIS 2020'!F$1,0)>=$X21),MIN(EOMONTH('MOIS 2020'!F$1,0),$Y21)-MAX('MOIS 2020'!F$1-1,$X21-1),0) -> 30 | AP21: =IF(AND('MOIS 2020'!G$1<=$Y21,EOMONTH('MOIS 2020'!G$1,0)>=$X21),MIN(EOMONTH('MOIS 2020'!G$1,0),$Y21)-MAX('MOIS 2020'!G$1-1,$X21-1),0) -> 31 | AQ21: =IF(AND('MOIS 2020'!H$1<=$Y21,EOMONTH('MOIS 2020'!H$1,0)>=$X21),MIN(EOMONTH('MOIS 2020'!H$1,0),$Y21)-MAX('MOIS 2020'!H$1-1,$X21-1),0) -> 12 | ... AU21: =IF(AND('MOIS 2020'!L$1<=$Y21,EOMONTH('MOIS 2020'!L$1,0)>=$X21),MIN(EOMONTH('MOIS 2020'!L$1,0),$Y21)-MAX('MOIS 2020'!L$1-1,$X21-1),0) -> 0
A22: M00000198 | V22: CDD | X22: 43834 | Y22: 43858 | Z22: 0.554 | AA22: 19.4 | AB22: 25 | AC22: Fin normale de CDD | AF22: =SUM(AJ22:AL22) -> 25 | AG22: =SUM(AM22:AO22) -> 0 | AH22: =SUM(AP22:AR22) -> 0 | AI22: =SUM(AS22:AU22) -> 0 | AJ22: =IF(AND('MOIS 2020'!A$1<=$Y22,EOMONTH('MOIS 2020'!A$1,0)>=$X22),MIN(EOMONTH('MOIS 2020'!A$1,0),$Y22)-MAX('MOIS 2020'!A$1-1,$X22-1),0) -> 25 | AK22: =IF(AND('MOIS 2020'!B$1<=$Y22,EOMONTH('MOIS 2020'!B$1,0)>=$X22),MIN(EOMONTH('MOIS 2020'!B$1,0),$Y22)-MAX('MOIS 2020'!B$1-1,$X22-1),0) -> 0 | AL22: =IF(AND('MOIS 2020'!C$1<=$Y22,EOMONTH('MOIS 2020'!C$1,0)>=$X22),MIN(EOMONTH('MOIS 2020'!C$1,0),$Y22)-MAX('MOIS 2020'!C$1-1,$X22-1),0) -> 0 | AM22: =IF(AND('MOIS 2020'!D$1<=$Y22,EOMONTH('MOIS 2020'!D$1,0)>=$X22),MIN(EOMONTH('MOIS 2020'!D$1,0),$Y22)-MAX('MOIS 2020'!D$1-1,$X22-1),0) -> 0 | AN22: =IF(AND('MOIS 2020'!E$1<=$Y22,EOMONTH('MOIS 2020'!E$1,0)>=$X22),MIN(EOMONTH('MOIS 2020'!E$1,0),$Y22)-MAX('MOIS 2020'!E$1-1,$X22-1),0) -> 0 | AO22: =IF(AND('MOIS 2020'!F$1<=$Y22,EOMONTH('MOIS 2020'!F$1,0)>=$X22),MIN(EOMONTH('MOIS 2020'!F$1,0),$Y22)-MAX('MOIS 2020'!F$1-1,$X22-1),0) -> 0 | AP22: =IF(AND('MOIS 2020'!G$1<=$Y22,EOMONTH('MOIS 2020'!G$1,0)>=$X22),MIN(EOMONTH('MOIS 2020'!G$1,0),$Y22)-MAX('MOIS 2020'!G$1-1,$X22-1),0) -> 0 | AQ22: =IF(AND('MOIS 2020'!H$1<=$Y22,EOMONTH('MOIS 2020'!H$1,0)>=$X22),MIN(EOMONTH('MOIS 2020'!H$1,0),$Y22)-MAX('MOIS 2020'!H$1-1,$X22-1),0) -> 0 | ... AU22: =IF(AND('MOIS 2020'!L$1<=$Y22,EOMONTH('MOIS 2020'!L$1,0)>=$X22),MIN(EOMONTH('MOIS 2020'!L$1,0),$Y22)-MAX('MOIS 2020'!L$1-1,$X22-1),0) -> 0
A23: M00000198 | V23: CDD | X23: 43862 | Y23: 43887 | Z23: 0.385 | AA23: 13.46 | AB23: 26 | AC23: Fin normale de CDD | AF23: =SUM(AJ23:AL23) -> 26 | AG23: =SUM(AM23:AO23) -> 0 | AH23: =SUM(AP23:AR23) -> 0 | AI23: =SUM(AS23:AU23) -> 0 | AJ23: =IF(AND('MOIS 2020'!A$1<=$Y23,EOMONTH('MOIS 2020'!A$1,0)>=$X23),MIN(EOMONTH('MOIS 2020'!A$1,0),$Y23)-MAX('MOIS 2020'!A$1-1,$X23-1),0) -> 0 | AK23: =IF(AND('MOIS 2020'!B$1<=$Y23,EOMONTH('MOIS 2020'!B$1,0)>=$X23),MIN(EOMONTH('MOIS 2020'!B$1,0),$Y23)-MAX('MOIS 2020'!B$1-1,$X23-1),0) -> 26 | AL23: =IF(AND('MOIS 2020'!C$1<=$Y23,EOMONTH('MOIS 2020'!C$1,0)>=$X23),MIN(EOMONTH('MOIS 2020'!C$1,0),$Y23)-MAX('MOIS 2020'!C$1-1,$X23-1),0) -> 0 | AM23: =IF(AND('MOIS 2020'!D$1<=$Y23,EOMONTH('MOIS 2020'!D$1,0)>=$X23),MIN(EOMONTH('MOIS 2020'!D$1,0),$Y23)-MAX('MOIS 2020'!D$1-1,$X23-1),0) -> 0 | AN23: =IF(AND('MOIS 2020'!E$1<=$Y23,EOMONTH('MOIS 2020'!E$1,0)>=$X23),MIN(EOMONTH('MOIS 2020'!E$1,0),$Y23)-MAX('MOIS 2020'!E$1-1,$X23-1),0) -> 0 | AO23: =IF(AND('MOIS 2020'!F$1<=$Y23,EOMONTH('MOIS 2020'!F$1,0)>=$X23),MIN(EOMONTH('MOIS 2020'!F$1,0),$Y23)-MAX('MOIS 2020'!F$1-1,$X23-1),0) -> 0 | AP23: =IF(AND('MOIS 2020'!G$1<=$Y23,EOMONTH('MOIS 2020'!G$1,0)>=$X23),MIN(EOMONTH('MOIS 2020'!G$1,0),$Y23)-MAX('MOIS 2020'!G$1-1,$X23-1),0) -> 0 | AQ23: =IF(AND('MOIS 2020'!H$1<=$Y23,EOMONTH('MOIS 2020'!H$1,0)>=$X23),MIN(EOMONTH('MOIS 2020'!H$1,0),$Y23)-MAX('MOIS 2020'!H$1-1,$X23-1),0) -> 0 | ... AU23: =IF(AND('MOIS 2020'!L$1<=$Y23,EOMONTH('MOIS 2020'!L$1,0)>=$X23),MIN(EOMONTH('MOIS 2020'!L$1,0),$Y23)-MAX('MOIS 2020'!L$1-1,$X23-1),0) -> 0
A24: M00000198 | V24: CDD | X24: 43894 | Y24: 43894 | Z24: 1 | AA24: 35 | AB24: 1 | AC24: Fin normale de CDD | AF24: =SUM(AJ24:AL24) -> 1 | AG24: =SUM(AM24:AO24) -> 0 | AH24: =SUM(AP24:AR24) -> 0 | AI24: =SUM(AS24:AU24) -> 0 | AJ24: =IF(AND('MOIS 2020'!A$1<=$Y24,EOMONTH('MOIS 2020'!A$1,0)>=$X24),MIN(EOMONTH('MOIS 2020'!A$1,0),$Y24)-MAX('MOIS 2020'!A$1-1,$X24-1),0) -> 0 | AK24: =IF(AND('MOIS 2020'!B$1<=$Y24,EOMONTH('MOIS 2020'!B$1,0)>=$X24),MIN(EOMONTH('MOIS 2020'!B$1,0),$Y24)-MAX('MOIS 2020'!B$1-1,$X24-1),0) -> 0 | AL24: =IF(AND('MOIS 2020'!C$1<=$Y24,EOMONTH('MOIS 2020'!C$1,0)>=$X24),MIN(EOMONTH('MOIS 2020'!C$1,0),$Y24)-MAX('MOIS 2020'!C$1-1,$X24-1),0) -> 1 | AM24: =IF(AND('MOIS 2020'!D$1<=$Y24,EOMONTH('MOIS 2020'!D$1,0)>=$X24),MIN(EOMONTH('MOIS 2020'!D$1,0),$Y24)-MAX('MOIS 2020'!D$1-1,$X24-1),0) -> 0 | AN24: =IF(AND('MOIS 2020'!E$1<=$Y24,EOMONTH('MOIS 2020'!E$1,0)>=$X24),MIN(EOMONTH('MOIS 2020'!E$1,0),$Y24)-MAX('MOIS 2020'!E$1-1,$X24-1),0) -> 0 | AO24: =IF(AND('MOIS 2020'!F$1<=$Y24,EOMONTH('MOIS 2020'!F$1,0)>=$X24),MIN(EOMONTH('MOIS 2020'!F$1,0),$Y24)-MAX('MOIS 2020'!F$1-1,$X24-1),0) -> 0 | AP24: =IF(AND('MOIS 2020'!G$1<=$Y24,EOMONTH('MOIS 2020'!G$1,0)>=$X24),MIN(EOMONTH('MOIS 2020'!G$1,0),$Y24)-MAX('MOIS 2020'!G$1-1,$X24-1),0) -> 0 | AQ24: =IF(AND('MOIS 2020'!H$1<=$Y24,EOMONTH('MOIS 2020'!H$1,0)>=$X24),MIN(EOMONTH('MOIS 2020'!H$1,0),$Y24)-MAX('MOIS 2020'!H$1-1,$X24-1),0) -> 0 | ... AU24: =IF(AND('MOIS 2020'!L$1<=$Y24,EOMONTH('MOIS 2020'!L$1,0)>=$X24),MIN(EOMONTH('MOIS 2020'!L$1,0),$Y24)-MAX('MOIS 2020'!L$1-1,$X24-1),0) -> 0
A25: M00000198 | V25: CDD | X25: 43901 | Y25: 43901 | Z25: 1 | AA25: 35 | AB25: 1 | AC25: Fin normale de CDD | AF25: =SUM(AJ25:AL25) -> 1 | AG25: =SUM(AM25:AO25) -> 0 | AH25: =SUM(AP25:AR25) -> 0 | AI25: =SUM(AS25:AU25) -> 0 | AJ25: =IF(AND('MOIS 2020'!A$1<=$Y25,EOMONTH('MOIS 2020'!A$1,0)>=$X25),MIN(EOMONTH('MOIS 2020'!A$1,0),$Y25)-MAX('MOIS 2020'!A$1-1,$X25-1),0) -> 0 | AK25: =IF(AND('MOIS 2020'!B$1<=$Y25,EOMONTH('MOIS 2020'!B$1,0)>=$X25),MIN(EOMONTH('MOIS 2020'!B$1,0),$Y25)-MAX('MOIS 2020'!B$1-1,$X25-1),0) -> 0 | AL25: =IF(AND('MOIS 2020'!C$1<=$Y25,EOMONTH('MOIS 2020'!C$1,0)>=$X25),MIN(EOMONTH('MOIS 2020'!C$1,0),$Y25)-MAX('MOIS 2020'!C$1-1,$X25-1),0) -> 1 | AM25: =IF(AND('MOIS 2020'!D$1<=$Y25,EOMONTH('MOIS 2020'!D$1,0)>=$X25),MIN(EOMONTH('MOIS 2020'!D$1,0),$Y25)-MAX('MOIS 2020'!D$1-1,$X25-1),0) -> 0 | AN25: =IF(AND('MOIS 2020'!E$1<=$Y25,EOMONTH('MOIS 2020'!E$1,0)>=$X25),MIN(EOMONTH('MOIS 2020'!E$1,0),$Y25)-MAX('MOIS 2020'!E$1-1,$X25-1),0) -> 0 | AO25: =IF(AND('MOIS 2020'!F$1<=$Y25,EOMONTH('MOIS 2020'!F$1,0)>=$X25),MIN(EOMONTH('MOIS 2020'!F$1,0),$Y25)-MAX('MOIS 2020'!F$1-1,$X25-1),0) -> 0 | AP25: =IF(AND('MOIS 2020'!G$1<=$Y25,EOMONTH('MOIS 2020'!G$1,0)>=$X25),MIN(EOMONTH('MOIS 2020'!G$1,0),$Y25)-MAX('MOIS 2020'!G$1-1,$X25-1),0) -> 0 | AQ25: =IF(AND('MOIS 2020'!H$1<=$Y25,EOMONTH('MOIS 2020'!H$1,0)>=$X25),MIN(EOMONTH('MOIS 2020'!H$1,0),$Y25)-MAX('MOIS 2020'!H$1-1,$X25-1),0) -> 0 | ... AU25: =IF(AND('MOIS 2020'!L$1<=$Y25,EOMONTH('MOIS 2020'!L$1,0)>=$X25),MIN(EOMONTH('MOIS 2020'!L$1,0),$Y25)-MAX('MOIS 2020'!L$1-1,$X25-1),0) -> 0
A26: M00000198 | V26: CDD | X26: 43903 | Y26: 43903 | Z26: 1 | AA26: 35 | AB26: 1 | AC26: Fin normale de CDD | AF26: =SUM(AJ26:AL26) -> 1 | AG26: =SUM(AM26:AO26) -> 0 | AH26: =SUM(AP26:AR26) -> 0 | AI26: =SUM(AS26:AU26) -> 0 | AJ26: =IF(AND('MOIS 2020'!A$1<=$Y26,EOMONTH('MOIS 2020'!A$1,0)>=$X26),MIN(EOMONTH('MOIS 2020'!A$1,0),$Y26)-MAX('MOIS 2020'!A$1-1,$X26-1),0) -> 0 | AK26: =IF(AND('MOIS 2020'!B$1<=$Y26,EOMONTH('MOIS 2020'!B$1,0)>=$X26),MIN(EOMONTH('MOIS 2020'!B$1,0),$Y26)-MAX('MOIS 2020'!B$1-1,$X26-1),0) -> 0 | AL26: =IF(AND('MOIS 2020'!C$1<=$Y26,EOMONTH('MOIS 2020'!C$1,0)>=$X26),MIN(EOMONTH('MOIS 2020'!C$1,0),$Y26)-MAX('MOIS 2020'!C$1-1,$X26-1),0) -> 1 | AM26: =IF(AND('MOIS 2020'!D$1<=$Y26,EOMONTH('MOIS 2020'!D$1,0)>=$X26),MIN(EOMONTH('MOIS 2020'!D$1,0),$Y26)-MAX('MOIS 2020'!D$1-1,$X26-1),0) -> 0 | AN26: =IF(AND('MOIS 2020'!E$1<=$Y26,EOMONTH('MOIS 2020'!E$1,0)>=$X26),MIN(EOMONTH('MOIS 2020'!E$1,0),$Y26)-MAX('MOIS 2020'!E$1-1,$X26-1),0) -> 0 | AO26: =IF(AND('MOIS 2020'!F$1<=$Y26,EOMONTH('MOIS 2020'!F$1,0)>=$X26),MIN(EOMONTH('MOIS 2020'!F$1,0),$Y26)-MAX('MOIS 2020'!F$1-1,$X26-1),0) -> 0 | AP26: =IF(AND('MOIS 2020'!G$1<=$Y26,EOMONTH('MOIS 2020'!G$1,0)>=$X26),MIN(EOMONTH('MOIS 2020'!G$1,0),$Y26)-MAX('MOIS 2020'!G$1-1,$X26-1),0) -> 0 | AQ26: =IF(AND('MOIS 2020'!H$1<=$Y26,EOMONTH('MOIS 2020'!H$1,0)>=$X26),MIN(EOMONTH('MOIS 2020'!H$1,0),$Y26)-MAX('MOIS 2020'!H$1-1,$X26-1),0) -> 0 | ... AU26: =IF(AND('MOIS 2020'!L$1<=$Y26,EOMONTH('MOIS 2020'!L$1,0)>=$X26),MIN(EOMONTH('MOIS 2020'!L$1,0),$Y26)-MAX('MOIS 2020'!L$1-1,$X26-1),0) -> 0
A27: M00000198 | V27: CDD | X27: 43904 | Y27: 43918 | Z27: 0.4 | AA27: 14 | AB27: 15 | AC27: Fin normale de CDD | AF27: =SUM(AJ27:AL27) -> 15 | AG27: =SUM(AM27:AO27) -> 0 | AH27: =SUM(AP27:AR27) -> 0 | AI27: =SUM(AS27:AU27) -> 0 | AJ27: =IF(AND('MOIS 2020'!A$1<=$Y27,EOMONTH('MOIS 2020'!A$1,0)>=$X27),MIN(EOMONTH('MOIS 2020'!A$1,0),$Y27)-MAX('MOIS 2020'!A$1-1,$X27-1),0) -> 0 | AK27: =IF(AND('MOIS 2020'!B$1<=$Y27,EOMONTH('MOIS 2020'!B$1,0)>=$X27),MIN(EOMONTH('MOIS 2020'!B$1,0),$Y27)-MAX('MOIS 2020'!B$1-1,$X27-1),0) -> 0 | AL27: =IF(AND('MOIS 2020'!C$1<=$Y27,EOMONTH('MOIS 2020'!C$1,0)>=$X27),MIN(EOMONTH('MOIS 2020'!C$1,0),$Y27)-MAX('MOIS 2020'!C$1-1,$X27-1),0) -> 15 | AM27: =IF(AND('MOIS 2020'!D$1<=$Y27,EOMONTH('MOIS 2020'!D$1,0)>=$X27),MIN(EOMONTH('MOIS 2020'!D$1,0),$Y27)-MAX('MOIS 2020'!D$1-1,$X27-1),0) -> 0 | AN27: =IF(AND('MOIS 2020'!E$1<=$Y27,EOMONTH('MOIS 2020'!E$1,0)>=$X27),MIN(EOMONTH('MOIS 2020'!E$1,0),$Y27)-MAX('MOIS 2020'!E$1-1,$X27-1),0) -> 0 | AO27: =IF(AND('MOIS 2020'!F$1<=$Y27,EOMONTH('MOIS 2020'!F$1,0)>=$X27),MIN(EOMONTH('MOIS 2020'!F$1,0),$Y27)-MAX('MOIS 2020'!F$1-1,$X27-1),0) -> 0 | AP27: =IF(AND('MOIS 2020'!G$1<=$Y27,EOMONTH('MOIS 2020'!G$1,0)>=$X27),MIN(EOMONTH('MOIS 2020'!G$1,0),$Y27)-MAX('MOIS 2020'!G$1-1,$X27-1),0) -> 0 | AQ27: =IF(AND('MOIS 2020'!H$1<=$Y27,EOMONTH('MOIS 2020'!H$1,0)>=$X27),MIN(EOMONTH('MOIS 2020'!H$1,0),$Y27)-MAX('MOIS 2020'!H$1-1,$X27-1),0) -> 0 | ... AU27: =IF(AND('MOIS 2020'!L$1<=$Y27,EOMONTH('MOIS 2020'!L$1,0)>=$X27),MIN(EOMONTH('MOIS 2020'!L$1,0),$Y27)-MAX('MOIS 2020'!L$1-1,$X27-1),0) -> 0
A28: M00000198 | V28: CDD | X28: 43923 | Y28: 43923 | Z28: 1 | AA28: 35 | AB28: 1 | AC28: Fin normale de CDD | AF28: =SUM(AJ28:AL28) -> 0 | AG28: =SUM(AM28:AO28) -> 1 | AH28: =SUM(AP28:AR28) -> 0 | AI28: =SUM(AS28:AU28) -> 0 | AJ28: =IF(AND('MOIS 2020'!A$1<=$Y28,EOMONTH('MOIS 2020'!A$1,0)>=$X28),MIN(EOMONTH('MOIS 2020'!A$1,0),$Y28)-MAX('MOIS 2020'!A$1-1,$X28-1),0) -> 0 | AK28: =IF(AND('MOIS 2020'!B$1<=$Y28,EOMONTH('MOIS 2020'!B$1,0)>=$X28),MIN(EOMONTH('MOIS 2020'!B$1,0),$Y28)-MAX('MOIS 2020'!B$1-1,$X28-1),0) -> 0 | AL28: =IF(AND('MOIS 2020'!C$1<=$Y28,EOMONTH('MOIS 2020'!C$1,0)>=$X28),MIN(EOMONTH('MOIS 2020'!C$1,0),$Y28)-MAX('MOIS 2020'!C$1-1,$X28-1),0) -> 0 | AM28: =IF(AND('MOIS 2020'!D$1<=$Y28,EOMONTH('MOIS 2020'!D$1,0)>=$X28),MIN(EOMONTH('MOIS 2020'!D$1,0),$Y28)-MAX('MOIS 2020'!D$1-1,$X28-1),0) -> 1 | AN28: =IF(AND('MOIS 2020'!E$1<=$Y28,EOMONTH('MOIS 2020'!E$1,0)>=$X28),MIN(EOMONTH('MOIS 2020'!E$1,0),$Y28)-MAX('MOIS 2020'!E$1-1,$X28-1),0) -> 0 | AO28: =IF(AND('MOIS 2020'!F$1<=$Y28,EOMONTH('MOIS 2020'!F$1,0)>=$X28),MIN(EOMONTH('MOIS 2020'!F$1,0),$Y28)-MAX('MOIS 2020'!F$1-1,$X28-1),0) -> 0 | AP28: =IF(AND('MOIS 2020'!G$1<=$Y28,EOMONTH('MOIS 2020'!G$1,0)>=$X28),MIN(EOMONTH('MOIS 2020'!G$1,0),$Y28)-MAX('MOIS 2020'!G$1-1,$X28-1),0) -> 0 | AQ28: =IF(AND('MOIS 2020'!H$1<=$Y28,EOMONTH('MOIS 2020'!H$1,0)>=$X28),MIN(EOMONTH('MOIS 2020'!H$1,0),$Y28)-MAX('MOIS 2020'!H$1-1,$X28-1),0) -> 0 | ... AU28: =IF(AND('MOIS 2020'!L$1<=$Y28,EOMONTH('MOIS 2020'!L$1,0)>=$X28),MIN(EOMONTH('MOIS 2020'!L$1,0),$Y28)-MAX('MOIS 2020'!L$1-1,$X28-1),0) -> 0
A29: M00000198 | V29: CDD | X29: 43932 | Y29: 43933 | Z29: 1 | AA29: 35 | AB29: 2 | AC29: Fin normale de CDD | AF29: =SUM(AJ29:AL29) -> 0 | AG29: =SUM(AM29:AO29) -> 2 | AH29: =SUM(AP29:AR29) -> 0 | AI29: =SUM(AS29:AU29) -> 0 | AJ29: =IF(AND('MOIS 2020'!A$1<=$Y29,EOMONTH('MOIS 2020'!A$1,0)>=$X29),MIN(EOMONTH('MOIS 2020'!A$1,0),$Y29)-MAX('MOIS 2020'!A$1-1,$X29-1),0) -> 0 | AK29: =IF(AND('MOIS 2020'!B$1<=$Y29,EOMONTH('MOIS 2020'!B$1,0)>=$X29),MIN(EOMONTH('MOIS 2020'!B$1,0),$Y29)-MAX('MOIS 2020'!B$1-1,$X29-1),0) -> 0 | AL29: =IF(AND('MOIS 2020'!C$1<=$Y29,EOMONTH('MOIS 2020'!C$1,0)>=$X29),MIN(EOMONTH('MOIS 2020'!C$1,0),$Y29)-MAX('MOIS 2020'!C$1-1,$X29-1),0) -> 0 | AM29: =IF(AND('MOIS 2020'!D$1<=$Y29,EOMONTH('MOIS 2020'!D$1,0)>=$X29),MIN(EOMONTH('MOIS 2020'!D$1,0),$Y29)-MAX('MOIS 2020'!D$1-1,$X29-1),0) -> 2 | AN29: =IF(AND('MOIS 2020'!E$1<=$Y29,EOMONTH('MOIS 2020'!E$1,0)>=$X29),MIN(EOMONTH('MOIS 2020'!E$1,0),$Y29)-MAX('MOIS 2020'!E$1-1,$X29-1),0) -> 0 | AO29: =IF(AND('MOIS 2020'!F$1<=$Y29,EOMONTH('MOIS 2020'!F$1,0)>=$X29),MIN(EOMONTH('MOIS 2020'!F$1,0),$Y29)-MAX('MOIS 2020'!F$1-1,$X29-1),0) -> 0 | AP29: =IF(AND('MOIS 2020'!G$1<=$Y29,EOMONTH('MOIS 2020'!G$1,0)>=$X29),MIN(EOMONTH('MOIS 2020'!G$1,0),$Y29)-MAX('MOIS 2020'!G$1-1,$X29-1),0) -> 0 | AQ29: =IF(AND('MOIS 2020'!H$1<=$Y29,EOMONTH('MOIS 2020'!H$1,0)>=$X29),MIN(EOMONTH('MOIS 2020'!H$1,0),$Y29)-MAX('MOIS 2020'!H$1-1,$X29-1),0) -> 0 | ... AU29: =IF(AND('MOIS 2020'!L$1<=$Y29,EOMONTH('MOIS 2020'!L$1,0)>=$X29),MIN(EOMONTH('MOIS 2020'!L$1,0),$Y29)-MAX('MOIS 2020'!L$1-1,$X29-1),0) -> 0
A30: M00000198 | V30: CDD | X30: 43936 | Y30: 43936 | Z30: 1 | AA30: 35 | AB30: 1 | AC30: Fin normale de CDD | AF30: =SUM(AJ30:AL30) -> 0 | AG30: =SUM(AM30:AO30) -> 1 | AH30: =SUM(AP30:AR30) -> 0 | AI30: =SUM(AS30:AU30) -> 0 | AJ30: =IF(AND('MOIS 2020'!A$1<=$Y30,EOMONTH('MOIS 2020'!A$1,0)>=$X30),MIN(EOMONTH('MOIS 2020'!A$1,0),$Y30)-MAX('MOIS 2020'!A$1-1,$X30-1),0) -> 0 | AK30: =IF(AND('MOIS 2020'!B$1<=$Y30,EOMONTH('MOIS 2020'!B$1,0)>=$X30),MIN(EOMONTH('MOIS 2020'!B$1,0),$Y30)-MAX('MOIS 2020'!B$1-1,$X30-1),0) -> 0 | AL30: =IF(AND('MOIS 2020'!C$1<=$Y30,EOMONTH('MOIS 2020'!C$1,0)>=$X30),MIN(EOMONTH('MOIS 2020'!C$1,0),$Y30)-MAX('MOIS 2020'!C$1-1,$X30-1),0) -> 0 | AM30: =IF(AND('MOIS 2020'!D$1<=$Y30,EOMONTH('MOIS 2020'!D$1,0)>=$X30),MIN(EOMONTH('MOIS 2020'!D$1,0),$Y30)-MAX('MOIS 2020'!D$1-1,$X30-1),0) -> 1 | AN30: =IF(AND('MOIS 2020'!E$1<=$Y30,EOMONTH('MOIS 2020'!E$1,0)>=$X30),MIN(EOMONTH('MOIS 2020'!E$1,0),$Y30)-MAX('MOIS 2020'!E$1-1,$X30-1),0) -> 0 | AO30: =IF(AND('MOIS 2020'!F$1<=$Y30,EOMONTH('MOIS 2020'!F$1,0)>=$X30),MIN(EOMONTH('MOIS 2020'!F$1,0),$Y30)-MAX('MOIS 2020'!F$1-1,$X30-1),0) -> 0 | AP30: =IF(AND('MOIS 2020'!G$1<=$Y30,EOMONTH('MOIS 2020'!G$1,0)>=$X30),MIN(EOMONTH('MOIS 2020'!G$1,0),$Y30)-MAX('MOIS 2020'!G$1-1,$X30-1),0) -> 0 | AQ30: =IF(AND('MOIS 2020'!H$1<=$Y30,EOMONTH('MOIS 2020'!H$1,0)>=$X30),MIN(EOMONTH('MOIS 2020'!H$1,0),$Y30)-MAX('MOIS 2020'!H$1-1,$X30-1),0) -> 0 | ... AU30: =IF(AND('MOIS 2020'!L$1<=$Y30,EOMONTH('MOIS 2020'!L$1,0)>=$X30),MIN(EOMONTH('MOIS 2020'!L$1,0),$Y30)-MAX('MOIS 2020'!L$1-1,$X30-1),0) -> 0
A31: M00000198 | V31: CDD | X31: 43945 | Y31: 43945 | Z31: 1 | AA31: 35 | AB31: 1 | AC31: Fin normale de CDD | AF31: =SUM(AJ31:AL31) -> 0 | AG31: =SUM(AM31:AO31) -> 1 | AH31: =SUM(AP31:AR31) -> 0 | AI31: =SUM(AS31:AU31) -> 0 | AJ31: =IF(AND('MOIS 2020'!A$1<=$Y31,EOMONTH('MOIS 2020'!A$1,0)>=$X31),MIN(EOMONTH('MOIS 2020'!A$1,0),$Y31)-MAX('MOIS 2020'!A$1-1,$X31-1),0) -> 0 | AK31: =IF(AND('MOIS 2020'!B$1<=$Y31,EOMONTH('MOIS 2020'!B$1,0)>=$X31),MIN(EOMONTH('MOIS 2020'!B$1,0),$Y31)-MAX('MOIS 2020'!B$1-1,$X31-1),0) -> 0 | AL31: =IF(AND('MOIS 2020'!C$1<=$Y31,EOMONTH('MOIS 2020'!C$1,0)>=$X31),MIN(EOMONTH('MOIS 2020'!C$1,0),$Y31)-MAX('MOIS 2020'!C$1-1,$X31-1),0) -> 0 | AM31: =IF(AND('MOIS 2020'!D$1<=$Y31,EOMONTH('MOIS 2020'!D$1,0)>=$X31),MIN(EOMONTH('MOIS 2020'!D$1,0),$Y31)-MAX('MOIS 2020'!D$1-1,$X31-1),0) -> 1 | AN31: =IF(AND('MOIS 2020'!E$1<=$Y31,EOMONTH('MOIS 2020'!E$1,0)>=$X31),MIN(EOMONTH('MOIS 2020'!E$1,0),$Y31)-MAX('MOIS 2020'!E$1-1,$X31-1),0) -> 0 | AO31: =IF(AND('MOIS 2020'!F$1<=$Y31,EOMONTH('MOIS 2020'!F$1,0)>=$X31),MIN(EOMONTH('MOIS 2020'!F$1,0),$Y31)-MAX('MOIS 2020'!F$1-1,$X31-1),0) -> 0 | AP31: =IF(AND('MOIS 2020'!G$1<=$Y31,EOMONTH('MOIS 2020'!G$1,0)>=$X31),MIN(EOMONTH('MOIS 2020'!G$1,0),$Y31)-MAX('MOIS 2020'!G$1-1,$X31-1),0) -> 0 | AQ31: =IF(AND('MOIS 2020'!H$1<=$Y31,EOMONTH('MOIS 2020'!H$1,0)>=$X31),MIN(EOMONTH('MOIS 2020'!H$1,0),$Y31)-MAX('MOIS 2020'!H$1-1,$X31-1),0) -> 0 | ... AU31: =IF(AND('MOIS 2020'!L$1<=$Y31,EOMONTH('MOIS 2020'!L$1,0)>=$X31),MIN(EOMONTH('MOIS 2020'!L$1,0),$Y31)-MAX('MOIS 2020'!L$1-1,$X31-1),0) -> 0
A32: M00000198 | V32: CDD | X32: 43960 | Y32: 43961 | Z32: 1 | AA32: 35 | AB32: 2 | AC32: Fin normale de CDD | AF32: =SUM(AJ32:AL32) -> 0 | AG32: =SUM(AM32:AO32) -> 2 | AH32: =SUM(AP32:AR32) -> 0 | AI32: =SUM(AS32:AU32) -> 0 | AJ32: =IF(AND('MOIS 2020'!A$1<=$Y32,EOMONTH('MOIS 2020'!A$1,0)>=$X32),MIN(EOMONTH('MOIS 2020'!A$1,0),$Y32)-MAX('MOIS 2020'!A$1-1,$X32-1),0) -> 0 | AK32: =IF(AND('MOIS 2020'!B$1<=$Y32,EOMONTH('MOIS 2020'!B$1,0)>=$X32),MIN(EOMONTH('MOIS 2020'!B$1,0),$Y32)-MAX('MOIS 2020'!B$1-1,$X32-1),0) -> 0 | AL32: =IF(AND('MOIS 2020'!C$1<=$Y32,EOMONTH('MOIS 2020'!C$1,0)>=$X32),MIN(EOMONTH('MOIS 2020'!C$1,0),$Y32)-MAX('MOIS 2020'!C$1-1,$X32-1),0) -> 0 | AM32: =IF(AND('MOIS 2020'!D$1<=$Y32,EOMONTH('MOIS 2020'!D$1,0)>=$X32),MIN(EOMONTH('MOIS 2020'!D$1,0),$Y32)-MAX('MOIS 2020'!D$1-1,$X32-1),0) -> 0 | AN32: =IF(AND('MOIS 2020'!E$1<=$Y32,EOMONTH('MOIS 2020'!E$1,0)>=$X32),MIN(EOMONTH('MOIS 2020'!E$1,0),$Y32)-MAX('MOIS 2020'!E$1-1,$X32-1),0) -> 2 | AO32: =IF(AND('MOIS 2020'!F$1<=$Y32,EOMONTH('MOIS 2020'!F$1,0)>=$X32),MIN(EOMONTH('MOIS 2020'!F$1,0),$Y32)-MAX('MOIS 2020'!F$1-1,$X32-1),0) -> 0 | AP32: =IF(AND('MOIS 2020'!G$1<=$Y32,EOMONTH('MOIS 2020'!G$1,0)>=$X32),MIN(EOMONTH('MOIS 2020'!G$1,0),$Y32)-MAX('MOIS 2020'!G$1-1,$X32-1),0) -> 0 | AQ32: =IF(AND('MOIS 2020'!H$1<=$Y32,EOMONTH('MOIS 2020'!H$1,0)>=$X32),MIN(EOMONTH('MOIS 2020'!H$1,0),$Y32)-MAX('MOIS 2020'!H$1-1,$X32-1),0) -> 0 | ... AU32: =IF(AND('MOIS 2020'!L$1<=$Y32,EOMONTH('MOIS 2020'!L$1,0)>=$X32),MIN(EOMONTH('MOIS 2020'!L$1,0),$Y32)-MAX('MOIS 2020'!L$1-1,$X32-1),0) -> 0
... A487: M00001075 | V487: CDD | X487: 44009 | Y487: 44193 | Z487: 1 | AA487: 35 | AB487: 2 | AC487: Fin normale de CDD | AF487: =SUM(AJ487:AL487) -> 0 | AG487: =SUM(AM487:AO487) -> 4 | AH487: =SUM(AP487:AR487) -> 92 | AI487: =SUM(AS487:AU487) -> 89 | AJ487: =IF(AND('MOIS 2020'!A$1<=$Y487,EOMONTH('MOIS 2020'!A$1,0)>=$X487),MIN(EOMONTH('MOIS 2020'!A$1,0),$Y487)-MAX('MOIS 2020'!A$1-1,$X487-1),0) -> 0 | AK487: =IF(AND('MOIS 2020'!B$1<=$Y487,EOMONTH('MOIS 2020'!B$1,0)>=$X487),MIN(EOMONTH('MOIS 2020'!B$1,0),$Y487)-MAX('MOIS 2020'!B$1-1,$X487-1),0) -> 0 | AL487: =IF(AND('MOIS 2020'!C$1<=$Y487,EOMONTH('MOIS 2020'!C$1,0)>=$X487),MIN(EOMONTH('MOIS 2020'!C$1,0),$Y487)-MAX('MOIS 2020'!C$1-1,$X487-1),0) -> 0 | AM487: =IF(AND('MOIS 2020'!D$1<=$Y487,EOMONTH('MOIS 2020'!D$1,0)>=$X487),MIN(EOMONTH('MOIS 2020'!D$1,0),$Y487)-MAX('MOIS 2020'!D$1-1,$X487-1),0) -> 0 | AN487: =IF(AND('MOIS 2020'!E$1<=$Y487,EOMONTH('MOIS 2020'!E$1,0)>=$X487),MIN(EOMONTH('MOIS 2020'!E$1,0),$Y487)-MAX('MOIS 2020'!E$1-1,$X487-1),0) -> 0 | AO487: =IF(AND('MOIS 2020'!F$1<=$Y487,EOMONTH('MOIS 2020'!F$1,0)>=$X487),MIN(EOMONTH('MOIS 2020'!F$1,0),$Y487)-MAX('MOIS 2020'!F$1-1,$X487-1),0) -> 4 | AP487: =IF(AND('MOIS 2020'!G$1<=$Y487,EOMONTH('MOIS 2020'!G$1,0)>=$X487),MIN(EOMONTH('MOIS 2020'!G$1,0),$Y487)-MAX('MOIS 2020'!G$1-1,$X487-1),0) -> 31 | AQ487: =IF(AND('MOIS 2020'!H$1<=$Y487,EOMONTH('MOIS 2020'!H$1,0)>=$X487),MIN(EOMONTH('MOIS 2020'!H$1,0),$Y487)-MAX('MOIS 2020'!H$1-1,$X487-1),0) -> 31 | ... AU487: =IF(AND('MOIS 2020'!L$1<=$Y487,EOMONTH('MOIS 2020'!L$1,0)>=$X487),MIN(EOMONTH('MOIS 2020'!L$1,0),$Y487)-MAX('MOIS 2020'!L$1-1,$X487-1),0) -> 28

Sheet TCD CDD
A3: Étiquettes de lignes | B3: Somme de TRIM1 | C3: Somme de TRIM2 | D3: Somme de TRIM3 | E3: Somme de TRIM4
A4: M00000012 | B4: 76 | C4: 106 | D4: 92 | E4: 79
A5: M00000147 | B5: 34 | C5: 0 | D5: 0 | E5: 0
A6: M00000182 | B6: 0 | C6: 30 | D6: 0 | E6: 0
A7: M00000198 | B7: 158 | C7: 140 | D7: 92 | E7: 64
A8: M00000200 | B8: 3 | C8: 0 | D8: 0 | E8: 0
A9: M00000202 | B9: 71 | C9: 92 | D9: 92 | E9: 86
A10: M00000287 | B10: 0 | C10: 10 | D10: 0 | E10: 0
A11: M00000329 | B11: 36 | C11: 86 | D11: 0 | E11: 0
A12: M00000376 | B12: 3 | C12: 0 | D12: 0 | E12: 0
A13: M00000384 | B13: 2 | C13: 117 | D13: 92 | E13: 53
A14: M00000392 | B14: 61 | C14: 59 | D14: 0 | E14: 0
A15: M00000402 | B15: 0 | C15: 53 | D15: 10 | E15: 0
... A55: Total général | B55: 1809 | C55: 2191 | D55: 1120 | E55: 799

Sheet MOIS 2020
A1: 43831 | B1: 43862 | C1: 43891 | D1: 43922 | E1: 43952 | F1: 43983 | G1: 44013 | H1: 44044 | I1: 44075 | J1: 44105 | K1: 44136 | L1: 44166

Sheet FORMULES
A3: SI(MIN(AF2:AK2)<45;"NON";"OUI") | B3: si le salarié à bien 45 jours de contrats par trimestre
A4: SI(ET('MOIS 2020'!A$1<=$Y2;FIN.MOIS('MOIS 2020'!A$1;0)>=$X2);MIN(FIN.MOIS('MOIS 2020'!A$1;0);$Y2)-MAX('MOIS 2020'!A$1-1;$X2-1);0) | B4: nbre de jour de contrat par mois sur une plage comprenant plusieurs mois entre date X inclue et date Y inclue, et en prenant en compte toutes les variations possibles
A5: SOUS.TOTAL | B5: avoir le sous total par mois par salarié
B7: Appuyer sur Ctrl + D pour recopier la formule dans une colonne. Sélectionnez la cellule contenant la formule que vous souhaitez remplir, puis sélectionnez les cellules en dessous, puis appuyez sur Ctrl + D.
