Workbook
Name Codes1_dîners: '[1]Codes saisie'!$I$7:$I$21
Name Codes1_semaine: '[1]Codes saisie'!$E$7:$E$177
Name Codes1_weekend: '[1]Codes saisie'!$G$7:$G$85
Name DateRepas: '[1]Calendrier et repas à thème '!$E$6:$E$31
Name DateRepasDimanche: '[1]Calendrier et repas à thème '!$K$6:$K$31
Name DateRepasJeudi: '[1]Calendrier et repas à thème '!$H$6:$H$31
Name DateRepasLundi: '[1]Calendrier et repas à thème '!$E$6:$E$31
Name DateRepasMardi: '[1]Calendrier et repas à thème '!$F$6:$F$31
Name DateRepasMercredi: '[1]Calendrier et repas à thème '!$G$6:$G$31
Name DateRepasSamedi: '[1]Calendrier et repas à thème '!$J$6:$J$31
Name DateRepasVendredi: '[1]Calendrier et repas à thème '!$I$6:$I$31
Name invité: #REF!
Name MrMme: #REF!
Name Nbre: #REF!
Name Nbredéjeuner: #REF!
Name Nom: #REF!
Name rngAction: #REF!
Name rngBlockFactor: #REF!
Name rngCIName: #REF!
Name rngCINameHidden: #REF!
Name rngCoversheetHome: #REF!
Name rngCSIntro: #REF!
Name rngCSMsg1: #REF!
Name rngCSMsg2: #REF!
Name rngCSMsg2_1: #REF!
Name rngCSMsg2_2: #REF!
Name rngCSMsg2_3: #REF!
Name rngCSMsg3: #REF!
Name rngCSMsg3_1: #REF!
Name rngCSMsg4: #REF!
Name rngCSMsg4_1: #REF!
Name rngCSMsg4_2: #REF!
Name rngCSPrcs: #REF!
Name rngDataInputCIName: #REF!
Name rngErrorThreshold: #REF!
Name rngFileNameHidden: #REF!
Name rngHTTPPort: #REF!
Name rngLanguageCD: #REF!
Name rngMachineName: #REF!
Name rngNode: #REF!
Name rngPasswordHidden: #REF!
Name rngPortal: #REF!
Name rngProtocol: #REF!
Name rngPSSiteName: #REF!
Name rngResHeaders: #REF!
Name rngURL: #REF!
Name rngUserIDHidden: #REF!
Name rngXmlConst: #REF!
Name serviceresto: #REF!
Name soir: #REF!
Name Studio: #REF!
Name tarifhorssubvention: #REF!
Name TarifInvité: #REF!
Name TarifMidi: #REF!
Name TarifMidiMairie: #REF!
Name Tarifssoir: #REF!
Name TarifsSoirMairie: #REF!
Name tarifsubvention: #REF!
Name TarifVin: #REF!
Name txtBoxTitleConnectInfo: "txtBoxTitle"

Sheet Fiche Agt.Service
G1: 0 | H1: 0 | I1: 0 | J1: 0 | K1: 0 | L1: 0 | M1: 0 | N1: 0 | O1: 0 | P1: 0 | Q1: 0 | R1: 0 | T1: 0 | U1: 0 | W1: 0 | X1: 0 | Y1: 0 | AA1: 0 | AB1: 0 | AD1: 0 | AE1: 0 | AG1: 0 | AH1: 0 | AI1: 0 | AK1: 0 | AL1: 0 | AM1: 0
A3: ='[1]Menus du mois'!A3:B18 -> 1ere semaine du mois
V5: ='[1]Menus du mois'!C4 -> 41302
B6: ='[1]Fiche d''informations'!B24 -> Studio | C6: ='[1]Fiche d''informations'!C24 -> Résident client | D6: ='[1]Fiche d''informations'!D24 -> N° de table | E6: ='[1]Fiche d''informations'!E24 -> Mme/Mr | F6: ='[1]Fiche d''informations'!F24 -> Nom | G6: Diabétique | H6: Diab Sans Sel | I6: mixé | J6: Sans Sel | K6: Sans Graisse | L6: Sans Graisse Sans Sel | M6: lgt Diabétique | N6: lgt Diab Sans Sel | O6: lgt mixé | P6: lgt Sans Sel | Q6: lgt Sans Graisse | R6: lgt Sans Graisse Sans Sel | S6: Salle / Logement | T6: salle | U6: Logement | V6: Entrée | W6: Entrée Répartion1 | X6: Entrée Répartion2 | Y6: Entrée Répartion3 | Z6: Viande | AA6: Viande Répartition 1 | AB6: Viande Répartition 2 | AC6: Accompagnement | AD6: Accompagnement répartition 1 | AE6: Accompagnement répartition 2 | AF6: Laitage | AG6: Laitage répartition 1 | AH6: Laitage répartition 2 | AI6: Laitage répartition 3 | AJ6: Dessert | AK6: Dessert repartition 1 | AL6: Dessert repartition 2 | AM6: Vin | AN6: Soir léger | AO6: soir complet
B7: ='[1]Fiche d''informations'!B25 -> 1 | C7: ='[1]Fiche d''informations'!C25 -> 0 | D7: ='[1]Fiche d''informations'!D25 -> 0 | E7: ='[1]Fiche d''informations'!E25 -> 0 | F7: NOM 1 | G7: =IF([1]SAISIE!AA7=1,'Fiche Agt.Service'!G6,"") | H7: =IF([1]SAISIE!AB7=1,'Fiche Agt.Service'!H6,"") | I7: =IF([1]SAISIE!AC7=1,'Fiche Agt.Service'!I6,"") | J7: =IF([1]SAISIE!AD7=1,'Fiche Agt.Service'!J6,"") | K7: =IF([1]SAISIE!AE7=1,'Fiche Agt.Service'!K6,"") | L7: =IF([1]SAISIE!AF7=1,'Fiche Agt.Service'!L6,"") | M7: =IF([1]SAISIE!BH7=1,'Fiche Agt.Service'!M6,"") | N7: =IF([1]SAISIE!BI7=1,'Fiche Agt.Service'!N6,"") | O7: =IF([1]SAISIE!BJ7=1,'Fiche Agt.Service'!O6,"") | P7: =IF([1]SAISIE!BK7=1,'Fiche Agt.Service'!P6,"") | Q7: =IF([1]SAISIE!BL7=1,'Fiche Agt.Service'!Q6,"") | R7: =IF([1]SAISIE!BM7=1,'Fiche Agt.Service'!R6,"") | S7: =CONCATENATE(IF([1]SAISIE!J7=1,"salle"," "), IF([1]SAISIE!K7=1,"logement"," ")) | T7: =IF(S7="salle ", F7 & " " & G7 & H7 & I7 & J7 & K7 & L7 & " ","") | U7: =IF(S7=" logement", F7 & " " & M7 & N7 & O7 & P7 & Q7 & R7 & " ","") | V7: =CONCATENATE((IF(SUM([1]SAISIE!BN7:BP7)=0,"-",INDEX(B162:B164,MATCH(1,[1]SAISIE!BN7:BP7,0)))),(CONCATENATE(G7,H7,I7,J7,K7,L7,M7,N7,O7,P7,Q7,R7))) -> - | W7: =IF(V7=B162,F7 &" "," ") | X7: =IF(V7=B163, F7 & " "," ") | Y7: =IF(V7=B164, F7 & " "," ") | Z7: =CONCATENATE((IF(SUM([1]SAISIE!BQ7:BR7)=0,"-",INDEX(B165:B166,MATCH(1,[1]SAISIE!BQ7:BR7,0)))),(CONCATENATE(G7,H7,I7,J7,K7,L7,M7,N7,O7,P7,Q7,R7))) -> - | AA7: =IF(Z7=B165, F7 &" "," ") | AB7: =IF(Z7=B166,F7 &" "," ") | AC7: =CONCATENATE((IF(SUM([1]SAISIE!BS7:BT7)=0,"-",INDEX(B167:B168,MATCH(1,[1]SAISIE!BS7:BT7,0)))),(CONCATENATE(G7,H7,I7,J7,K7,L7,M7,N7,O7,P7,Q7,R7))) -> - | AD7: =IF(AC7=B167, F7 &" "," ") | AE7: =IF(AC7=B168,F7 &" "," ") | AF7: =CONCATENATE((IF(SUM([1]SAISIE!BU7:BW7)=0,"-",INDEX(B169:B171,MATCH(1,[1]SAISIE!BU7:BW7,0)))),(CONCATENATE(G7,H7,I7,J7,K7,L7,M7,N7,O7,P7,Q7,R7))) -> - | AG7: =IF(AF7=B169, F7 &" "," ") | AH7: =IF(AF7=B170,F7 & " "," ") | AI7: =IF(AF7=B171,F7 & " "," ") | AJ7: =CONCATENATE((IF(SUM([1]SAISIE!BX7:BY7)=0,"-",INDEX(B172:B173,MATCH(1,[1]SAISIE!BX7:BY7,0)))),(CONCATENATE(G7,H7,I7,J7,K7,L7,M7,N7,O7,P7,Q7,R7))) -> - | AK7: =IF(AJ7=B172,F7 &" "," ") | AL7: =IF(AJ7=B173,F7 & " "," ") | AN7: =CONCATENATE((IF([1]SAISIE!AG7=1,F7 & " " & "normal ","")),(IF([1]SAISIE!AH7=1,F7 & " " & "diab ","")),(IF([1]SAISIE!AI7=1,F7 & " " & "diab s sel ","")),(IF([1]SAISIE!AJ7=1, F7 & " " & "mixé ","")),(IF([1]SAISIE!AK7=1,F7 & " " & "sans sel ","")),(IF([1]SAISIE!AL7=1,F7 & " " & "sans graisse ","")),,(IF([1]SAISIE!AM7=1,F7 & " " & "sans gr s sel ",""))) | AO7: =CONCATENATE((IF([1]SAISIE!AN7=1,F7 & " " & "normal ","")),(IF([1]SAISIE!AO7=1,F7 & " " & "diab ","")),(IF([1]SAISIE!AP7=1,F7 & " " & "diab s sel ","")),(IF([1]SAISIE!AQ7=1,F7 & " " & "mixé ","")),(IF([1]SAISIE!AR7=1,F7 & " " & "sans sel ","")),(IF([1]SAISIE!AS7=1,F7 & " " & "sans graisse ","")),,(IF([1]SAISIE!AT7=1,F7 & " " & "sans gr s sel ","")),(IF([1]SAISIE!AU7=1,F7 & " " & "sans porc ","")))
B8: ='[1]Fiche d''informations'!B26 -> 2 | C8: ='[1]Fiche d''informations'!C26 -> 1 | D8: ='[1]Fiche d''informations'!D26 -> 7 | E8: ='[1]Fiche d''informations'!E26 -> Mr | F8: NOM 2 | G8: =IF([1]SAISIE!AA8=1,'Fiche Agt.Service'!G6,"") | H8: =IF([1]SAISIE!AB8=1,'Fiche Agt.Service'!H6,"") | I8: =IF([1]SAISIE!AC8=1,'Fiche Agt.Service'!I6,"") | J8: =IF([1]SAISIE!AD8=1,'Fiche Agt.Service'!J6,"") | K8: =IF([1]SAISIE!AE8=1,'Fiche Agt.Service'!K6,"") | L8: =IF([1]SAISIE!AF8=1,'Fiche Agt.Service'!L6,"") | M8: =IF([1]SAISIE!BH8=1,'Fiche Agt.Service'!M6,"") | N8: =IF([1]SAISIE!BI8=1,'Fiche Agt.Service'!N6,"") | O8: =IF([1]SAISIE!BJ8=1,'Fiche Agt.Service'!O6,"") | P8: =IF([1]SAISIE!BK8=1,'Fiche Agt.Service'!P6,"") | Q8: =IF([1]SAISIE!BL8=1,'Fiche Agt.Service'!Q6,"") | R8: =IF([1]SAISIE!BM8=1,'Fiche Agt.Service'!R6,"") | S8: =CONCATENATE(IF([1]SAISIE!J8=1,"salle"," "), IF([1]SAISIE!K8=1,"logement"," ")) | T8: =IF(S8="salle ", F8 & " " & G8 & H8 & I8 & J8 & K8 & L8 & " ","") | U8: =IF(S8=" logement", F8 & " " & M8 & N8 & O8 & P8 & Q8 & R8 & " ","") | V8: =CONCATENATE((IF(SUM([1]SAISIE!BN8:BP8)=0,"-",INDEX(B162:B164,MATCH(1,[1]SAISIE!BN8:BP8,0)))),(CONCATENATE(G8,H8,I8,J8,K8,L8,M8,N8,O8,P8,Q8,R8))) -> - | W8: =IF(V8=B162,F8 &" "," ") | X8: =IF(V8=B163, F8 & " "," ") | Y8: =IF(V8=B164, F8 & " "," ") | Z8: =CONCATENATE((IF(SUM([1]SAISIE!BQ8:BR8)=0,"-",INDEX(B165:B166,MATCH(1,[1]SAISIE!BQ8:BR8,0)))),(CONCATENATE(G8,H8,I8,J8,K8,L8,M8,N8,O8,P8,Q8,R8))) -> - | AA8: =IF(Z8=B165, F8 &" "," ") | AB8: =IF(Z8=B166,F8 &" "," ") | AC8: =CONCATENATE((IF(SUM([1]SAISIE!BS8:BT8)=0,"-",INDEX(B167:B168,MATCH(1,[1]SAISIE!BS8:BT8,0)))),(CONCATENATE(G8,H8,I8,J8,K8,L8,M8,N8,O8,P8,Q8,R8))) -> - | AD8: =IF(AC8=B167, F8 &" "," ") | AE8: =IF(AC8=B168,F8 &" "," ") | AF8: =CONCATENATE((IF(SUM([1]SAISIE!BU8:BW8)=0,"-",INDEX(B169:B171,MATCH(1,[1]SAISIE!BU8:BW8,0)))),(CONCATENATE(G8,H8,I8,J8,K8,L8,M8,N8,O8,P8,Q8,R8))) -> - | AG8: =IF(AF8=B169, F8 &" "," ") | AH8: =IF(AF8=B170,F8 & " "," ") | AI8: =IF(AF8=B171,F8 & " "," ") | AJ8: =CONCATENATE((IF(SUM([1]SAISIE!BX8:BY8)=0,"-",INDEX(B172:B173,MATCH(1,[1]SAISIE!BX8:BY8,0)))),(CONCATENATE(G8,H8,I8,J8,K8,L8,M8,N8,O8,P8,Q8,R8))) -> - | AK8: =IF(AJ8=B172,F8 &" "," ") | AL8: =IF(AJ8=B173,F8 & " "," ") | AN8: =CONCATENATE((IF([1]SAISIE!AG8=1,F8 & " " & "normal ","")),(IF([1]SAISIE!AH8=1,F8 & " " & "diab ","")),(IF([1]SAISIE!AI8=1,F8 & " " & "diab s sel ","")),(IF([1]SAISIE!AJ8=1, F8 & " " & "mixé ","")),(IF([1]SAISIE!AK8=1,F8 & " " & "sans sel ","")),(IF([1]SAISIE!AL8=1,F8 & " " & "sans graisse ","")),,(IF([1]SAISIE!AM8=1,F8 & " " & "sans gr s sel ",""))) | AO8: =CONCATENATE((IF([1]SAISIE!AN8=1,F8 & " " & "normal ","")),(IF([1]SAISIE!AO8=1,F8 & " " & "diab ","")),(IF([1]SAISIE!AP8=1,F8 & " " & "diab s sel ","")),(IF([1]SAISIE!AQ8=1,F8 & " " & "mixé ","")),(IF([1]SAISIE!AR8=1,F8 & " " & "sans sel ","")),(IF([1]SAISIE!AS8=1,F8 & " " & "sans graisse ","")),,(IF([1]SAISIE!AT8=1,F8 & " " & "sans gr s sel ","")),(IF([1]SAISIE!AU8=1,F8 & " " & "sans porc ","")))
B9: ='[1]Fiche d''informations'!B27 -> 3 | C9: ='[1]Fiche d''informations'!C27 -> 0 | D9: ='[1]Fiche d''informations'!D27 -> 0 | E9: ='[1]Fiche d''informations'!E27 -> 0 | F9: NOM 3 | G9: =IF([1]SAISIE!AA9=1,'Fiche Agt.Service'!G6,"") | H9: =IF([1]SAISIE!AB9=1,'Fiche Agt.Service'!H6,"") | I9: =IF([1]SAISIE!AC9=1,'Fiche Agt.Service'!I6,"") | J9: =IF([1]SAISIE!AD9=1,'Fiche Agt.Service'!J6,"") | K9: =IF([1]SAISIE!AE9=1,'Fiche Agt.Service'!K6,"") | L9: =IF([1]SAISIE!AF9=1,'Fiche Agt.Service'!L6,"") | M9: =IF([1]SAISIE!BH9=1,'Fiche Agt.Service'!M6,"") | N9: =IF([1]SAISIE!BI9=1,'Fiche Agt.Service'!N6,"") | O9: =IF([1]SAISIE!BJ9=1,'Fiche Agt.Service'!O6,"") | P9: =IF([1]SAISIE!BK9=1,'Fiche Agt.Service'!P6,"") | Q9: =IF([1]SAISIE!BL9=1,'Fiche Agt.Service'!Q6,"") | R9: =IF([1]SAISIE!BM9=1,'Fiche Agt.Service'!R6,"") | S9: =CONCATENATE(IF([1]SAISIE!J9=1,"salle"," "), IF([1]SAISIE!K9=1,"logement"," ")) | T9: =IF(S9="salle ", F9 & " " & G9 & H9 & I9 & J9 & K9 & L9 & " ","") | U9: =IF(S9=" logement", F9 & " " & M9 & N9 & O9 & P9 & Q9 & R9 & " ","") | V9: =CONCATENATE((IF(SUM([1]SAISIE!BN9:BP9)=0,"-",INDEX(B162:B164,MATCH(1,[1]SAISIE!BN9:BP9,0)))),(CONCATENATE(G9,H9,I9,J9,K9,L9,M9,N9,O9,P9,Q9,R9))) -> - | W9: =IF(V9=B162,F9 &" "," ") | X9: =IF(V9=B163, F9 & " "," ") | Y9: =IF(V9=B164, F9 & " "," ") | Z9: =CONCATENATE((IF(SUM([1]SAISIE!BQ9:BR9)=0,"-",INDEX(B165:B166,MATCH(1,[1]SAISIE!BQ9:BR9,0)))),(CONCATENATE(G9,H9,I9,J9,K9,L9,M9,N9,O9,P9,Q9,R9))) -> - | AA9: =IF(Z9=B165, F9 &" "," ") | AB9: =IF(Z9=B166,F9 &" "," ") | AC9: =CONCATENATE((IF(SUM([1]SAISIE!BS9:BT9)=0,"-",INDEX(B167:B168,MATCH(1,[1]SAISIE!BS9:BT9,0)))),(CONCATENATE(G9,H9,I9,J9,K9,L9,M9,N9,O9,P9,Q9,R9))) -> - | AD9: =IF(AC9=B167, F9 &" "," ") | AE9: =IF(AC9=B168,F9 &" "," ") | AF9: =CONCATENATE((IF(SUM([1]SAISIE!BU9:BW9)=0,"-",INDEX(B169:B171,MATCH(1,[1]SAISIE!BU9:BW9,0)))),(CONCATENATE(G9,H9,I9,J9,K9,L9,M9,N9,O9,P9,Q9,R9))) -> - | AG9: =IF(AF9=B169, F9 &" "," ") | AH9: =IF(AF9=B170,F9 & " "," ") | AI9: =IF(AF9=B171,F9 & " "," ") | AJ9: =CONCATENATE((IF(SUM([1]SAISIE!BX9:BY9)=0,"-",INDEX(B172:B173,MATCH(1,[1]SAISIE!BX9:BY9,0)))),(CONCATENATE(G9,H9,I9,J9,K9,L9,M9,N9,O9,P9,Q9,R9))) -> - | AK9: =IF(AJ9=B172,F9 &" "," ") | AL9: =IF(AJ9=B173,F9 & " "," ") | AN9: =CONCATENATE((IF([1]SAISIE!AG9=1,F9 & " " & "normal ","")),(IF([1]SAISIE!AH9=1,F9 & " " & "diab ","")),(IF([1]SAISIE!AI9=1,F9 & " " & "diab s sel ","")),(IF([1]SAISIE!AJ9=1, F9 & " " & "mixé ","")),(IF([1]SAISIE!AK9=1,F9 & " " & "sans sel ","")),(IF([1]SAISIE!AL9=1,F9 & " " & "sans graisse ","")),,(IF([1]SAISIE!AM9=1,F9 & " " & "sans gr s sel ",""))) | AO9: =CONCATENATE((IF([1]SAISIE!AN9=1,F9 & " " & "normal ","")),(IF([1]SAISIE!AO9=1,F9 & " " & "diab ","")),(IF([1]SAISIE!AP9=1,F9 & " " & "diab s sel ","")),(IF([1]SAISIE!AQ9=1,F9 & " " & "mixé ","")),(IF([1]SAISIE!AR9=1,F9 & " " & "sans sel ","")),(IF([1]SAISIE!AS9=1,F9 & " " & "sans graisse ","")),,(IF([1]SAISIE!AT9=1,F9 & " " & "sans gr s sel ","")),(IF([1]SAISIE!AU9=1,F9 & " " & "sans porc ","")))
B10: ='[1]Fiche d''informations'!B28 -> 4 | C10: ='[1]Fiche d''informations'!C28 -> 1 | D10: ='[1]Fiche d''informations'!D28 -> 3 | E10: ='[1]Fiche d''informations'!E28 -> Mme | F10: NOM 4 | G10: =IF([1]SAISIE!AA10=1,'Fiche Agt.Service'!G6,"") | H10: =IF([1]SAISIE!AB10=1,'Fiche Agt.Service'!H6,"") | I10: =IF([1]SAISIE!AC10=1,'Fiche Agt.Service'!I6,"") | J10: =IF([1]SAISIE!AD10=1,'Fiche Agt.Service'!J6,"") | K10: =IF([1]SAISIE!AE10=1,'Fiche Agt.Service'!K6,"") | L10: =IF([1]SAISIE!AF10=1,'Fiche Agt.Service'!L6,"") | M10: =IF([1]SAISIE!BH10=1,'Fiche Agt.Service'!M6,"") | N10: =IF([1]SAISIE!BI10=1,'Fiche Agt.Service'!N6,"") | O10: =IF([1]SAISIE!BJ10=1,'Fiche Agt.Service'!O6,"") | P10: =IF([1]SAISIE!BK10=1,'Fiche Agt.Service'!P6,"") | Q10: =IF([1]SAISIE!BL10=1,'Fiche Agt.Service'!Q6,"") | R10: =IF([1]SAISIE!BM10=1,'Fiche Agt.Service'!R6,"") | S10: =CONCATENATE(IF([1]SAISIE!J10=1,"salle"," "), IF([1]SAISIE!K10=1,"logement"," ")) -> salle | T10: =IF(S10="salle ", F10 & " " & G10 & H10 & I10 & J10 & K10 & L10 & " ","") -> NOM 4 | U10: =IF(S10=" logement", F10 & " " & M10 & N10 & O10 & P10 & Q10 & R10 & " ","") | V10: =CONCATENATE((IF(SUM([1]SAISIE!BN10:BP10)=0,"-",INDEX(B162:B164,MATCH(1,[1]SAISIE!BN10:BP10,0)))),(CONCATENATE(G10,H10,I10,J10,K10,L10,M10,N10,O10,P10,Q10,R10))) -> Betteraves | W10: =IF(V10=B162,F10 &" "," ") | X10: =IF(V10=B163, F10 & " "," ") | Y10: =IF(V10=B164, F10 & " "," ") -> NOM 4 | Z10: =CONCATENATE((IF(SUM([1]SAISIE!BQ10:BR10)=0,"-",INDEX(B165:B166,MATCH(1,[1]SAISIE!BQ10:BR10,0)))),(CONCATENATE(G10,H10,I10,J10,K10,L10,M10,N10,O10,P10,Q10,R10))) -> Dés de colin sauce curry | AA10: =IF(Z10=B165, F10 &" "," ") | AB10: =IF(Z10=B166,F10 &" "," ") -> NOM 4 | AC10: =CONCATENATE((IF(SUM([1]SAISIE!BS10:BT10)=0,"-",INDEX(B167:B168,MATCH(1,[1]SAISIE!BS10:BT10,0)))),(CONCATENATE(G10,H10,I10,J10,K10,L10,M10,N10,O10,P10,Q10,R10))) -> Gratin de courgettes | AD10: =IF(AC10=B167, F10 &" "," ") -> NOM 4 | AE10: =IF(AC10=B168,F10 &" "," ") | AF10: =CONCATENATE((IF(SUM([1]SAISIE!BU10:BW10)=0,"-",INDEX(B169:B171,MATCH(1,[1]SAISIE!BU10:BW10,0)))),(CONCATENATE(G10,H10,I10,J10,K10,L10,M10,N10,O10,P10,Q10,R10))) -> Edam | AG10: =IF(AF10=B169, F10 &" "," ") -> NOM 4 | AH10: =IF(AF10=B170,F10 & " "," ") | AI10: =IF(AF10=B171,F10 & " "," ") | AJ10: =CONCATENATE((IF(SUM([1]SAISIE!BX10:BY10)=0,"-",INDEX(B172:B173,MATCH(1,[1]SAISIE!BX10:BY10,0)))),(CONCATENATE(G10,H10,I10,J10,K10,L10,M10,N10,O10,P10,Q10,R10))) -> Pêches au sirop | AK10: =IF(AJ10=B172,F10 &" "," ") | AL10: =IF(AJ10=B173,F10 & " "," ") -> NOM 4 | AN10: =CONCATENATE((IF([1]SAISIE!AG10=1,F10 & " " & "normal ","")),(IF([1]SAISIE!AH10=1,F10 & " " & "diab ","")),(IF([1]SAISIE!AI10=1,F10 & " " & "diab s sel ","")),(IF([1]SAISIE!AJ10=1, F10 & " " & "mixé ","")),(IF([1]SAISIE!AK10=1,F10 & " " & "sans sel ","")),(IF([1]SAISIE!AL10=1,F10 & " " & "sans graisse ","")),,(IF([1]SAISIE!AM10=1,F10 & " " & "sans gr s sel ",""))) -> NOM 4 normal | AO10: =CONCATENATE((IF([1]SAISIE!AN10=1,F10 & " " & "normal ","")),(IF([1]SAISIE!AO10=1,F10 & " " & "diab ","")),(IF([1]SAISIE!AP10=1,F10 & " " & "diab s sel ","")),(IF([1]SAISIE!AQ10=1,F10 & " " & "mixé ","")),(IF([1]SAISIE!AR10=1,F10 & " " & "sans sel ","")),(IF([1]SAISIE!AS10=1,F10 & " " & "sans graisse ","")),,(IF([1]SAISIE!AT10=1,F10 & " " & "sans gr s sel ","")),(IF([1]SAISIE!AU10=1,F10 & " " & "sans porc ","")))
B11: ='[1]Fiche d''informations'!B29 -> 5 | C11: ='[1]Fiche d''informations'!C29 -> 1 | D11: ='[1]Fiche d''informations'!D29 -> 10 | E11: ='[1]Fiche d''informations'!E29 -> Mr | F11: NOM 5 | G11: =IF([1]SAISIE!AA11=1,'Fiche Agt.Service'!G6,"") | H11: =IF([1]SAISIE!AB11=1,'Fiche Agt.Service'!H6,"") | I11: =IF([1]SAISIE!AC11=1,'Fiche Agt.Service'!I6,"") | J11: =IF([1]SAISIE!AD11=1,'Fiche Agt.Service'!J6,"") -> Sans Sel | K11: =IF([1]SAISIE!AE11=1,'Fiche Agt.Service'!K6,"") | L11: =IF([1]SAISIE!AF11=1,'Fiche Agt.Service'!L6,"") | M11: =IF([1]SAISIE!BH11=1,'Fiche Agt.Service'!M6,"") | N11: =IF([1]SAISIE!BI11=1,'Fiche Agt.Service'!N6,"") | O11: =IF([1]SAISIE!BJ11=1,'Fiche Agt.Service'!O6,"") | P11: =IF([1]SAISIE!BK11=1,'Fiche Agt.Service'!P6,"") | Q11: =IF([1]SAISIE!BL11=1,'Fiche Agt.Service'!Q6,"") | R11: =IF([1]SAISIE!BM11=1,'Fiche Agt.Service'!R6,"") | S11: =CONCATENATE(IF([1]SAISIE!J11=1,"salle"," "), IF([1]SAISIE!K11=1,"logement"," ")) -> salle | T11: =IF(S11="salle ", F11 & " " & G11 & H11 & I11 & J11 & K11 & L11 & " ","") -> NOM 5 Sans Sel | U11: =IF(S11=" logement", F11 & " " & M11 & N11 & O11 & P11 & Q11 & R11 & " ","") | V11: =CONCATENATE((IF(SUM([1]SAISIE!BN11:BP11)=0,"-",INDEX(B162:B164,MATCH(1,[1]SAISIE!BN11:BP11,0)))),(CONCATENATE(G11,H11,I11,J11,K11,L11,M11,N11,O11,P11,Q11,R11))) -> -Sans Sel | W11: =IF(V11=B162,F11 &" "," ") | X11: =IF(V11=B163, F11 & " "," ") | Y11: =IF(V11=B164, F11 & " "," ") | Z11: =CONCATENATE((IF(SUM([1]SAISIE!BQ11:BR11)=0,"-",INDEX(B165:B166,MATCH(1,[1]SAISIE!BQ11:BR11,0)))),(CONCATENATE(G11,H11,I11,J11,K11,L11,M11,N11,O11,P11,Q11,R11))) -> -Sans Sel | AA11: =IF(Z11=B165, F11 &" "," ") | AB11: =IF(Z11=B166,F11 &" "," ") | AC11: =CONCATENATE((IF(SUM([1]SAISIE!BS11:BT11)=0,"-",INDEX(B167:B168,MATCH(1,[1]SAISIE!BS11:BT11,0)))),(CONCATENATE(G11,H11,I11,J11,K11,L11,M11,N11,O11,P11,Q11,R11))) -> -Sans Sel | AD11: =IF(AC11=B167, F11 &" "," ") | AE11: =IF(AC11=B168,F11 &" "," ") | AF11: =CONCATENATE((IF(SUM([1]SAISIE!BU11:BW11)=0,"-",INDEX(B169:B171,MATCH(1,[1]SAISIE!BU11:BW11,0)))),(CONCATENATE(G11,H11,I11,J11,K11,L11,M11,N11,O11,P11,Q11,R11))) -> -Sans Sel | AG11: =IF(AF11=B169, F11 &" "," ") | AH11: =IF(AF11=B170,F11 & " "," ") | AI11: =IF(AF11=B171,F11 & " "," ") | AJ11: =CONCATENATE((IF(SUM([1]SAISIE!BX11:BY11)=0,"-",INDEX(B172:B173,MATCH(1,[1]SAISIE!BX11:BY11,0)))),(CONCATENATE(G11,H11,I11,J11,K11,L11,M11,N11,O11,P11,Q11,R11))) -> -Sans Sel | AK11: =IF(AJ11=B172,F11 &" "," ") | AL11: =IF(AJ11=B173,F11 & " "," ") | AN11: =CONCATENATE((IF([1]SAISIE!AG11=1,F11 & " " & "normal ","")),(IF([1]SAISIE!AH11=1,F11 & " " & "diab ","")),(IF([1]SAISIE!AI11=1,F11 & " " & "diab s sel ","")),(IF([1]SAISIE!AJ11=1, F11 & " " & "mixé ","")),(IF([1]SAISIE!AK11=1,F11 & " " & "sans sel ","")),(IF([1]SAISIE!AL11=1,F11 & " " & "sans graisse ","")),,(IF([1]SAISIE!AM11=1,F11 & " " & "sans gr s sel ",""))) | AO11: =CONCATENATE((IF([1]SAISIE!AN11=1,F11 & " " & "normal ","")),(IF([1]SAISIE!AO11=1,F11 & " " & "diab ","")),(IF([1]SAISIE!AP11=1,F11 & " " & "diab s sel ","")),(IF([1]SAISIE!AQ11=1,F11 & " " & "mixé ","")),(IF([1]SAISIE!AR11=1,F11 & " " & "sans sel ","")),(IF([1]SAISIE!AS11=1,F11 & " " & "sans graisse ","")),,(IF([1]SAISIE!AT11=1,F11 & " " & "sans gr s sel ","")),(IF([1]SAISIE!AU11=1,F11 & " " & "sans porc ","")))
B12: ='[1]Fiche d''informations'!B30 -> 6 | C12: ='[1]Fiche d''informations'!C30 -> 0 | D12: ='[1]Fiche d''informations'!D30 -> 0 | E12: ='[1]Fiche d''informations'!E30 -> 0 | F12: NOM 6 | G12: =IF([1]SAISIE!AA12=1,'Fiche Agt.Service'!G6,"") | H12: =IF([1]SAISIE!AB12=1,'Fiche Agt.Service'!H6,"") | I12: =IF([1]SAISIE!AC12=1,'Fiche Agt.Service'!I6,"") | J12: =IF([1]SAISIE!AD12=1,'Fiche Agt.Service'!J6,"") | K12: =IF([1]SAISIE!AE12=1,'Fiche Agt.Service'!K6,"") | L12: =IF([1]SAISIE!AF12=1,'Fiche Agt.Service'!L6,"") | M12: =IF([1]SAISIE!BH12=1,'Fiche Agt.Service'!M6,"") | N12: =IF([1]SAISIE!BI12=1,'Fiche Agt.Service'!N6,"") | O12: =IF([1]SAISIE!BJ12=1,'Fiche Agt.Service'!O6,"") | P12: =IF([1]SAISIE!BK12=1,'Fiche Agt.Service'!P6,"") | Q12: =IF([1]SAISIE!BL12=1,'Fiche Agt.Service'!Q6,"") | R12: =IF([1]SAISIE!BM12=1,'Fiche Agt.Service'!R6,"") | S12: =CONCATENATE(IF([1]SAISIE!J12=1,"salle"," "), IF([1]SAISIE!K12=1,"logement"," ")) | T12: =IF(S12="salle ", F12 & " " & G12 & H12 & I12 & J12 & K12 & L12 & " ","") | U12: =IF(S12=" logement", F12 & " " & M12 & N12 & O12 & P12 & Q12 & R12 & " ","") | V12: =CONCATENATE((IF(SUM([1]SAISIE!BN12:BP12)=0,"-",INDEX(B162:B164,MATCH(1,[1]SAISIE!BN12:BP12,0)))),(CONCATENATE(G12,H12,I12,J12,K12,L12,M12,N12,O12,P12,Q12,R12))) -> - | W12: =IF(V12=B162,F12 &" "," ") | X12: =IF(V12=B163, F12 & " "," ") | Y12: =IF(V12=B164, F12 & " "," ") | Z12: =CONCATENATE((IF(SUM([1]SAISIE!BQ12:BR12)=0,"-",INDEX(B165:B166,MATCH(1,[1]SAISIE!BQ12:BR12,0)))),(CONCATENATE(G12,H12,I12,J12,K12,L12,M12,N12,O12,P12,Q12,R12))) -> - | AA12: =IF(Z12=B165, F12 &" "," ") | AB12: =IF(Z12=B166,F12 &" "," ") | AC12: =CONCATENATE((IF(SUM([1]SAISIE!BS12:BT12)=0,"-",INDEX(B167:B168,MATCH(1,[1]SAISIE!BS12:BT12,0)))),(CONCATENATE(G12,H12,I12,J12,K12,L12,M12,N12,O12,P12,Q12,R12))) -> - | AD12: =IF(AC12=B167, F12 &" "," ") | AE12: =IF(AC12=B168,F12 &" "," ") | AF12: =CONCATENATE((IF(SUM([1]SAISIE!BU12:BW12)=0,"-",INDEX(B169:B171,MATCH(1,[1]SAISIE!BU12:BW12,0)))),(CONCATENATE(G12,H12,I12,J12,K12,L12,M12,N12,O12,P12,Q12,R12))) -> - | AG12: =IF(AF12=B169, F12 &" "," ") | AH12: =IF(AF12=B170,F12 & " "," ") | AI12: =IF(AF12=B171,F12 & " "," ") | AJ12: =CONCATENATE((IF(SUM([1]SAISIE!BX12:BY12)=0,"-",INDEX(B172:B173,MATCH(1,[1]SAISIE!BX12:BY12,0)))),(CONCATENATE(G12,H12,I12,J12,K12,L12,M12,N12,O12,P12,Q12,R12))) -> - | AK12: =IF(AJ12=B172,F12 &" "," ") | AL12: =IF(AJ12=B173,F12 & " "," ") | AN12: =CONCATENATE((IF([1]SAISIE!AG12=1,F12 & " " & "normal ","")),(IF([1]SAISIE!AH12=1,F12 & " " & "diab ","")),(IF([1]SAISIE!AI12=1,F12 & " " & "diab s sel ","")),(IF([1]SAISIE!AJ12=1, F12 & " " & "mixé ","")),(IF([1]SAISIE!AK12=1,F12 & " " & "sans sel ","")),(IF([1]SAISIE!AL12=1,F12 & " " & "sans graisse ","")),,(IF([1]SAISIE!AM12=1,F12 & " " & "sans gr s sel ",""))) | AO12: =CONCATENATE((IF([1]SAISIE!AN12=1,F12 & " " & "normal ","")),(IF([1]SAISIE!AO12=1,F12 & " " & "diab ","")),(IF([1]SAISIE!AP12=1,F12 & " " & "diab s sel ","")),(IF([1]SAISIE!AQ12=1,F12 & " " & "mixé ","")),(IF([1]SAISIE!AR12=1,F12 & " " & "sans sel ","")),(IF([1]SAISIE!AS12=1,F12 & " " & "sans graisse ","")),,(IF([1]SAISIE!AT12=1,F12 & " " & "sans gr s sel ","")),(IF([1]SAISIE!AU12=1,F12 & " " & "sans porc ","")))
B13: ='[1]Fiche d''informations'!B31 -> 7 | C13: ='[1]Fiche d''informations'!C31 -> 0 | D13: ='[1]Fiche d''informations'!D31 -> 0 | E13: ='[1]Fiche d''informations'!E31 -> Mr | F13: NOM 7 | G13: =IF([1]SAISIE!AA13=1,'Fiche Agt.Service'!G6,"") | H13: =IF([1]SAISIE!AB13=1,'Fiche Agt.Service'!H6,"") | I13: =IF([1]SAISIE!AC13=1,'Fiche Agt.Service'!I6,"") | J13: =IF([1]SAISIE!AD13=1,'Fiche Agt.Service'!J6,"") | K13: =IF([1]SAISIE!AE13=1,'Fiche Agt.Service'!K6,"") | L13: =IF([1]SAISIE!AF13=1,'Fiche Agt.Service'!L6,"") | M13: =IF([1]SAISIE!BH13=1,'Fiche Agt.Service'!M6,"") | N13: =IF([1]SAISIE!BI13=1,'Fiche Agt.Service'!N6,"") | O13: =IF([1]SAISIE!BJ13=1,'Fiche Agt.Service'!O6,"") | P13: =IF([1]SAISIE!BK13=1,'Fiche Agt.Service'!P6,"") | Q13: =IF([1]SAISIE!BL13=1,'Fiche Agt.Service'!Q6,"") | R13: =IF([1]SAISIE!BM13=1,'Fiche Agt.Service'!R6,"") | S13: =CONCATENATE(IF([1]SAISIE!J13=1,"salle"," "), IF([1]SAISIE!K13=1,"logement"," ")) | T13: =IF(S13="salle ", F13 & " " & G13 & H13 & I13 & J13 & K13 & L13 & " ","") | U13: =IF(S13=" logement", F13 & " " & M13 & N13 & O13 & P13 & Q13 & R13 & " ","") | V13: =CONCATENATE((IF(SUM([1]SAISIE!BN13:BP13)=0,"-",INDEX(B162:B164,MATCH(1,[1]SAISIE!BN13:BP13,0)))),(CONCATENATE(G13,H13,I13,J13,K13,L13,M13,N13,O13,P13,Q13,R13))) -> - | W13: =IF(V13=B162,F13 &" "," ") | X13: =IF(V13=B163, F13 & " "," ") | Y13: =IF(V13=B164, F13 & " "," ") | Z13: =CONCATENATE((IF(SUM([1]SAISIE!BQ13:BR13)=0,"-",INDEX(B165:B166,MATCH(1,[1]SAISIE!BQ13:BR13,0)))),(CONCATENATE(G13,H13,I13,J13,K13,L13,M13,N13,O13,P13,Q13,R13))) -> - | AA13: =IF(Z13=B165, F13 &" "," ") | AB13: =IF(Z13=B166,F13 &" "," ") | AC13: =CONCATENATE((IF(SUM([1]SAISIE!BS13:BT13)=0,"-",INDEX(B167:B168,MATCH(1,[1]SAISIE!BS13:BT13,0)))),(CONCATENATE(G13,H13,I13,J13,K13,L13,M13,N13,O13,P13,Q13,R13))) -> - | AD13: =IF(AC13=B167, F13 &" "," ") | AE13: =IF(AC13=B168,F13 &" "," ") | AF13: =CONCATENATE((IF(SUM([1]SAISIE!BU13:BW13)=0,"-",INDEX(B169:B171,MATCH(1,[1]SAISIE!BU13:BW13,0)))),(CONCATENATE(G13,H13,I13,J13,K13,L13,M13,N13,O13,P13,Q13,R13))) -> - | AG13: =IF(AF13=B169, F13 &" "," ") | AH13: =IF(AF13=B170,F13 & " "," ") | AI13: =IF(AF13=B171,F13 & " "," ") | AJ13: =CONCATENATE((IF(SUM([1]SAISIE!BX13:BY13)=0,"-",INDEX(B172:B173,MATCH(1,[1]SAISIE!BX13:BY13,0)))),(CONCATENATE(G13,H13,I13,J13,K13,L13,M13,N13,O13,P13,Q13,R13))) -> - | AK13: =IF(AJ13=B172,F13 &" "," ") | AL13: =IF(AJ13=B173,F13 & " "," ") | AN13: =CONCATENATE((IF([1]SAISIE!AG13=1,F13 & " " & "normal ","")),(IF([1]SAISIE!AH13=1,F13 & " " & "diab ","")),(IF([1]SAISIE!AI13=1,F13 & " " & "diab s sel ","")),(IF([1]SAISIE!AJ13=1, F13 & " " & "mixé ","")),(IF([1]SAISIE!AK13=1,F13 & " " & "sans sel ","")),(IF([1]SAISIE!AL13=1,F13 & " " & "sans graisse ","")),,(IF([1]SAISIE!AM13=1,F13 & " " & "sans gr s sel ",""))) | AO13: =CONCATENATE((IF([1]SAISIE!AN13=1,F13 & " " & "normal ","")),(IF([1]SAISIE!AO13=1,F13 & " " & "diab ","")),(IF([1]SAISIE!AP13=1,F13 & " " & "diab s sel ","")),(IF([1]SAISIE!AQ13=1,F13 & " " & "mixé ","")),(IF([1]SAISIE!AR13=1,F13 & " " & "sans sel ","")),(IF([1]SAISIE!AS13=1,F13 & " " & "sans graisse ","")),,(IF([1]SAISIE!AT13=1,F13 & " " & "sans gr s sel ","")),(IF([1]SAISIE!AU13=1,F13 & " " & "sans porc ","")))
B14: ='[1]Fiche d''informations'!B32 -> 8 | C14: ='[1]Fiche d''informations'!C32 -> 0 | D14: ='[1]Fiche d''informations'!D32 -> 0 | E14: ='[1]Fiche d''informations'!E32 -> Mme | F14: NOM 8 | G14: =IF([1]SAISIE!AA14=1,'Fiche Agt.Service'!G6,"") | H14: =IF([1]SAISIE!AB14=1,'Fiche Agt.Service'!H6,"") | I14: =IF([1]SAISIE!AC14=1,'Fiche Agt.Service'!I6,"") | J14: =IF([1]SAISIE!AD14=1,'Fiche Agt.Service'!J6,"") | K14: =IF([1]SAISIE!AE14=1,'Fiche Agt.Service'!K6,"") | L14: =IF([1]SAISIE!AF14=1,'Fiche Agt.Service'!L6,"") | M14: =IF([1]SAISIE!BH14=1,'Fiche Agt.Service'!M6,"") | N14: =IF([1]SAISIE!BI14=1,'Fiche Agt.Service'!N6,"") | O14: =IF([1]SAISIE!BJ14=1,'Fiche Agt.Service'!O6,"") | P14: =IF([1]SAISIE!BK14=1,'Fiche Agt.Service'!P6,"") | Q14: =IF([1]SAISIE!BL14=1,'Fiche Agt.Service'!Q6,"") | R14: =IF([1]SAISIE!BM14=1,'Fiche Agt.Service'!R6,"") | S14: =CONCATENATE(IF([1]SAISIE!J14=1,"salle"," "), IF([1]SAISIE!K14=1,"logement"," ")) | T14: =IF(S14="salle ", F14 & " " & G14 & H14 & I14 & J14 & K14 & L14 & " ","") | U14: =IF(S14=" logement", F14 & " " & M14 & N14 & O14 & P14 & Q14 & R14 & " ","") | V14: =CONCATENATE((IF(SUM([1]SAISIE!BN14:BP14)=0,"-",INDEX(B162:B164,MATCH(1,[1]SAISIE!BN14:BP14,0)))),(CONCATENATE(G14,H14,I14,J14,K14,L14,M14,N14,O14,P14,Q14,R14))) -> - | W14: =IF(V14=B162,F14 &" "," ") | X14: =IF(V14=B163, F14 & " "," ") | Y14: =IF(V14=B164, F14 & " "," ") | Z14: =CONCATENATE((IF(SUM([1]SAISIE!BQ14:BR14)=0,"-",INDEX(B165:B166,MATCH(1,[1]SAISIE!BQ14:BR14,0)))),(CONCATENATE(G14,H14,I14,J14,K14,L14,M14,N14,O14,P14,Q14,R14))) -> - | AA14: =IF(Z14=B165, F14 &" "," ") | AB14: =IF(Z14=B166,F14 &" "," ") | AC14: =CONCATENATE((IF(SUM([1]SAISIE!BS14:BT14)=0,"-",INDEX(B167:B168,MATCH(1,[1]SAISIE!BS14:BT14,0)))),(CONCATENATE(G14,H14,I14,J14,K14,L14,M14,N14,O14,P14,Q14,R14))) -> - | AD14: =IF(AC14=B167, F14 &" "," ") | AE14: =IF(AC14=B168,F14 &" "," ") | AF14: =CONCATENATE((IF(SUM([1]SAISIE!BU14:BW14)=0,"-",INDEX(B169:B171,MATCH(1,[1]SAISIE!BU14:BW14,0)))),(CONCATENATE(G14,H14,I14,J14,K14,L14,M14,N14,O14,P14,Q14,R14))) -> - | AG14: =IF(AF14=B169, F14 &" "," ") | AH14: =IF(AF14=B170,F14 & " "," ") | AI14: =IF(AF14=B171,F14 & " "," ") | AJ14: =CONCATENATE((IF(SUM([1]SAISIE!BX14:BY14)=0,"-",INDEX(B172:B173,MATCH(1,[1]SAISIE!BX14:BY14,0)))),(CONCATENATE(G14,H14,I14,J14,K14,L14,M14,N14,O14,P14,Q14,R14))) -> - | AK14: =IF(AJ14=B172,F14 &" "," ") | AL14: =IF(AJ14=B173,F14 & " "," ") | AN14: =CONCATENATE((IF([1]SAISIE!AG14=1,F14 & " " & "normal ","")),(IF([1]SAISIE!AH14=1,F14 & " " & "diab ","")),(IF([1]SAISIE!AI14=1,F14 & " " & "diab s sel ","")),(IF([1]SAISIE!AJ14=1, F14 & " " & "mixé ","")),(IF([1]SAISIE!AK14=1,F14 & " " & "sans sel ","")),(IF([1]SAISIE!AL14=1,F14 & " " & "sans graisse ","")),,(IF([1]SAISIE!AM14=1,F14 & " " & "sans gr s sel ",""))) | AO14: =CONCATENATE((IF([1]SAISIE!AN14=1,F14 & " " & "normal ","")),(IF([1]SAISIE!AO14=1,F14 & " " & "diab ","")),(IF([1]SAISIE!AP14=1,F14 & " " & "diab s sel ","")),(IF([1]SAISIE!AQ14=1,F14 & " " & "mixé ","")),(IF([1]SAISIE!AR14=1,F14 & " " & "sans sel ","")),(IF([1]SAISIE!AS14=1,F14 & " " & "sans graisse ","")),,(IF([1]SAISIE!AT14=1,F14 & " " & "sans gr s sel ","")),(IF([1]SAISIE!AU14=1,F14 & " " & "sans porc ","")))
B15: ='[1]Fiche d''informations'!B33 -> 9 | C15: ='[1]Fiche d''informations'!C33 -> 0 | D15: ='[1]Fiche d''informations'!D33 -> 0 | E15: ='[1]Fiche d''informations'!E33 -> Mme | F15: NOM 9 | G15: =IF([1]SAISIE!AA15=1,'Fiche Agt.Service'!G6,"") | H15: =IF([1]SAISIE!AB15=1,'Fiche Agt.Service'!H6,"") | I15: =IF([1]SAISIE!AC15=1,'Fiche Agt.Service'!I6,"") | J15: =IF([1]SAISIE!AD15=1,'Fiche Agt.Service'!J6,"") | K15: =IF([1]SAISIE!AE15=1,'Fiche Agt.Service'!K6,"") | L15: =IF([1]SAISIE!AF15=1,'Fiche Agt.Service'!L6,"") | M15: =IF([1]SAISIE!BH15=1,'Fiche Agt.Service'!M6,"") | N15: =IF([1]SAISIE!BI15=1,'Fiche Agt.Service'!N6,"") | O15: =IF([1]SAISIE!BJ15=1,'Fiche Agt.Service'!O6,"") | P15: =IF([1]SAISIE!BK15=1,'Fiche Agt.Service'!P6,"") | Q15: =IF([1]SAISIE!BL15=1,'Fiche Agt.Service'!Q6,"") | R15: =IF([1]SAISIE!BM15=1,'Fiche Agt.Service'!R6,"") | S15: =CONCATENATE(IF([1]SAISIE!J15=1,"salle"," "), IF([1]SAISIE!K15=1,"logement"," ")) | T15: =IF(S15="salle ", F15 & " " & G15 & H15 & I15 & J15 & K15 & L15 & " ","") | U15: =IF(S15=" logement", F15 & " " & M15 & N15 & O15 & P15 & Q15 & R15 & " ","") | V15: =CONCATENATE((IF(SUM([1]SAISIE!BN15:BP15)=0,"-",INDEX(B162:B164,MATCH(1,[1]SAISIE!BN15:BP15,0)))),(CONCATENATE(G15,H15,I15,J15,K15,L15,M15,N15,O15,P15,Q15,R15))) -> - | W15: =IF(V15=B162,F15 &" "," ") | X15: =IF(V15=B163, F15 & " "," ") | Y15: =IF(V15=B164, F15 & " "," ") | Z15: =CONCATENATE((IF(SUM([1]SAISIE!BQ15:BR15)=0,"-",INDEX(B165:B166,MATCH(1,[1]SAISIE!BQ15:BR15,0)))),(CONCATENATE(G15,H15,I15,J15,K15,L15,M15,N15,O15,P15,Q15,R15))) -> - | AA15: =IF(Z15=B165, F15 &" "," ") | AB15: =IF(Z15=B166,F15 &" "," ") | AC15: =CONCATENATE((IF(SUM([1]SAISIE!BS15:BT15)=0,"-",INDEX(B167:B168,MATCH(1,[1]SAISIE!BS15:BT15,0)))),(CONCATENATE(G15,H15,I15,J15,K15,L15,M15,N15,O15,P15,Q15,R15))) -> - | AD15: =IF(AC15=B167, F15 &" "," ") | AE15: =IF(AC15=B168,F15 &" "," ") | AF15: =CONCATENATE((IF(SUM([1]SAISIE!BU15:BW15)=0,"-",INDEX(B169:B171,MATCH(1,[1]SAISIE!BU15:BW15,0)))),(CONCATENATE(G15,H15,I15,J15,K15,L15,M15,N15,O15,P15,Q15,R15))) -> - | AG15: =IF(AF15=B169, F15 &" "," ") | AH15: =IF(AF15=B170,F15 & " "," ") | AI15: =IF(AF15=B171,F15 & " "," ") | AJ15: =CONCATENATE((IF(SUM([1]SAISIE!BX15:BY15)=0,"-",INDEX(B172:B173,MATCH(1,[1]SAISIE!BX15:BY15,0)))),(CONCATENATE(G15,H15,I15,J15,K15,L15,M15,N15,O15,P15,Q15,R15))) -> - | AK15: =IF(AJ15=B172,F15 &" "," ") | AL15: =IF(AJ15=B173,F15 & " "," ") | AN15: =CONCATENATE((IF([1]SAISIE!AG15=1,F15 & " " & "normal ","")),(IF([1]SAISIE!AH15=1,F15 & " " & "diab ","")),(IF([1]SAISIE!AI15=1,F15 & " " & "diab s sel ","")),(IF([1]SAISIE!AJ15=1, F15 & " " & "mixé ","")),(IF([1]SAISIE!AK15=1,F15 & " " & "sans sel ","")),(IF([1]SAISIE!AL15=1,F15 & " " & "sans graisse ","")),,(IF([1]SAISIE!AM15=1,F15 & " " & "sans gr s sel ",""))) | AO15: =CONCATENATE((IF([1]SAISIE!AN15=1,F15 & " " & "normal ","")),(IF([1]SAISIE!AO15=1,F15 & " " & "diab ","")),(IF([1]SAISIE!AP15=1,F15 & " " & "diab s sel ","")),(IF([1]SAISIE!AQ15=1,F15 & " " & "mixé ","")),(IF([1]SAISIE!AR15=1,F15 & " " & "sans sel ","")),(IF([1]SAISIE!AS15=1,F15 & " " & "sans graisse ","")),,(IF([1]SAISIE!AT15=1,F15 & " " & "sans gr s sel ","")),(IF([1]SAISIE!AU15=1,F15 & " " & "sans porc ","")))
B16: ='[1]Fiche d''informations'!B34 -> 10 | C16: ='[1]Fiche d''informations'!C34 -> 0 | D16: ='[1]Fiche d''informations'!D34 -> 0 | E16: ='[1]Fiche d''informations'!E34 -> Mme | F16: NOM 10 | G16: =IF([1]SAISIE!AA16=1,'Fiche Agt.Service'!G6,"") | H16: =IF([1]SAISIE!AB16=1,'Fiche Agt.Service'!H6,"") | I16: =IF([1]SAISIE!AC16=1,'Fiche Agt.Service'!I6,"") | J16: =IF([1]SAISIE!AD16=1,'Fiche Agt.Service'!J6,"") | K16: =IF([1]SAISIE!AE16=1,'Fiche Agt.Service'!K6,"") | L16: =IF([1]SAISIE!AF16=1,'Fiche Agt.Service'!L6,"") | M16: =IF([1]SAISIE!BH16=1,'Fiche Agt.Service'!M6,"") | N16: =IF([1]SAISIE!BI16=1,'Fiche Agt.Service'!N6,"") | O16: =IF([1]SAISIE!BJ16=1,'Fiche Agt.Service'!O6,"") | P16: =IF([1]SAISIE!BK16=1,'Fiche Agt.Service'!P6,"") | Q16: =IF([1]SAISIE!BL16=1,'Fiche Agt.Service'!Q6,"") | R16: =IF([1]SAISIE!BM16=1,'Fiche Agt.Service'!R6,"") | S16: =CONCATENATE(IF([1]SAISIE!J16=1,"salle"," "), IF([1]SAISIE!K16=1,"logement"," ")) | T16: =IF(S16="salle ", F16 & " " & G16 & H16 & I16 & J16 & K16 & L16 & " ","") | U16: =IF(S16=" logement", F16 & " " & M16 & N16 & O16 & P16 & Q16 & R16 & " ","") | V16: =CONCATENATE((IF(SUM([1]SAISIE!BN16:BP16)=0,"-",INDEX(B162:B164,MATCH(1,[1]SAISIE!BN16:BP16,0)))),(CONCATENATE(G16,H16,I16,J16,K16,L16,M16,N16,O16,P16,Q16,R16))) -> - | W16: =IF(V16=B162,F16 &" "," ") | X16: =IF(V16=B163, F16 & " "," ") | Y16: =IF(V16=B164, F16 & " "," ") | Z16: =CONCATENATE((IF(SUM([1]SAISIE!BQ16:BR16)=0,"-",INDEX(B165:B166,MATCH(1,[1]SAISIE!BQ16:BR16,0)))),(CONCATENATE(G16,H16,I16,J16,K16,L16,M16,N16,O16,P16,Q16,R16))) -> - | AA16: =IF(Z16=B165, F16 &" "," ") | AB16: =IF(Z16=B166,F16 &" "," ") | AC16: =CONCATENATE((IF(SUM([1]SAISIE!BS16:BT16)=0,"-",INDEX(B167:B168,MATCH(1,[1]SAISIE!BS16:BT16,0)))),(CONCATENATE(G16,H16,I16,J16,K16,L16,M16,N16,O16,P16,Q16,R16))) -> - | AD16: =IF(AC16=B167, F16 &" "," ") | AE16: =IF(AC16=B168,F16 &" "," ") | AF16: =CONCATENATE((IF(SUM([1]SAISIE!BU16:BW16)=0,"-",INDEX(B169:B171,MATCH(1,[1]SAISIE!BU16:BW16,0)))),(CONCATENATE(G16,H16,I16,J16,K16,L16,M16,N16,O16,P16,Q16,R16))) -> - | AG16: =IF(AF16=B169, F16 &" "," ") | AH16: =IF(AF16=B170,F16 & " "," ") | AI16: =IF(AF16=B171,F16 & " "," ") | AJ16: =CONCATENATE((IF(SUM([1]SAISIE!BX16:BY16)=0,"-",INDEX(B172:B173,MATCH(1,[1]SAISIE!BX16:BY16,0)))),(CONCATENATE(G16,H16,I16,J16,K16,L16,M16,N16,O16,P16,Q16,R16))) -> - | AK16: =IF(AJ16=B172,F16 &" "," ") | AL16: =IF(AJ16=B173,F16 & " "," ") | AN16: =CONCATENATE((IF([1]SAISIE!AG16=1,F16 & " " & "normal ","")),(IF([1]SAISIE!AH16=1,F16 & " " & "diab ","")),(IF([1]SAISIE!AI16=1,F16 & " " & "diab s sel ","")),(IF([1]SAISIE!AJ16=1, F16 & " " & "mixé ","")),(IF([1]SAISIE!AK16=1,F16 & " " & "sans sel ","")),(IF([1]SAISIE!AL16=1,F16 & " " & "sans graisse ","")),,(IF([1]SAISIE!AM16=1,F16 & " " & "sans gr s sel ",""))) | AO16: =CONCATENATE((IF([1]SAISIE!AN16=1,F16 & " " & "normal ","")),(IF([1]SAISIE!AO16=1,F16 & " " & "diab ","")),(IF([1]SAISIE!AP16=1,F16 & " " & "diab s sel ","")),(IF([1]SAISIE!AQ16=1,F16 & " " & "mixé ","")),(IF([1]SAISIE!AR16=1,F16 & " " & "sans sel ","")),(IF([1]SAISIE!AS16=1,F16 & " " & "sans graisse ","")),,(IF([1]SAISIE!AT16=1,F16 & " " & "sans gr s sel ","")),(IF([1]SAISIE!AU16=1,F16 & " " & "sans porc ","")))
B17: ='[1]Fiche d''informations'!B35 -> 11 | C17: ='[1]Fiche d''informations'!C35 -> 1 | D17: ='[1]Fiche d''informations'!D35 -> 12 | E17: ='[1]Fiche d''informations'!E35 -> Mme | F17: NOM 11 | G17: =IF([1]SAISIE!AA17=1,'Fiche Agt.Service'!G6,"") | H17: =IF([1]SAISIE!AB17=1,'Fiche Agt.Service'!H6,"") | I17: =IF([1]SAISIE!AC17=1,'Fiche Agt.Service'!I6,"") | J17: =IF([1]SAISIE!AD17=1,'Fiche Agt.Service'!J6,"") | K17: =IF([1]SAISIE!AE17=1,'Fiche Agt.Service'!K6,"") | L17: =IF([1]SAISIE!AF17=1,'Fiche Agt.Service'!L6,"") | M17: =IF([1]SAISIE!BH17=1,'Fiche Agt.Service'!M6,"") | N17: =IF([1]SAISIE!BI17=1,'Fiche Agt.Service'!N6,"") | O17: =IF([1]SAISIE!BJ17=1,'Fiche Agt.Service'!O6,"") | P17: =IF([1]SAISIE!BK17=1,'Fiche Agt.Service'!P6,"") | Q17: =IF([1]SAISIE!BL17=1,'Fiche Agt.Service'!Q6,"") | R17: =IF([1]SAISIE!BM17=1,'Fiche Agt.Service'!R6,"") | S17: =CONCATENATE(IF([1]SAISIE!J17=1,"salle"," "), IF([1]SAISIE!K17=1,"logement"," ")) -> salle | T17: =IF(S17="salle ", F17 & " " & G17 & H17 & I17 & J17 & K17 & L17 & " ","") -> NOM 11 | U17: =IF(S17=" logement", F17 & " " & M17 & N17 & O17 & P17 & Q17 & R17 & " ","") | V17: =CONCATENATE((IF(SUM([1]SAISIE!BN17:BP17)=0,"-",INDEX(B162:B164,MATCH(1,[1]SAISIE!BN17:BP17,0)))),(CONCATENATE(G17,H17,I17,J17,K17,L17,M17,N17,O17,P17,Q17,R17))) -> Friand au fromage | W17: =IF(V17=B162,F17 &" "," ") -> NOM 11 | X17: =IF(V17=B163, F17 & " "," ") | Y17: =IF(V17=B164, F17 & " "," ") | Z17: =CONCATENATE((IF(SUM([1]SAISIE!BQ17:BR17)=0,"-",INDEX(B165:B166,MATCH(1,[1]SAISIE!BQ17:BR17,0)))),(CONCATENATE(G17,H17,I17,J17,K17,L17,M17,N17,O17,P17,Q17,R17))) -> Nuggets de volaille | AA17: =IF(Z17=B165, F17 &" "," ") -> NOM 11 | AB17: =IF(Z17=B166,F17 &" "," ") | AC17: =CONCATENATE((IF(SUM([1]SAISIE!BS17:BT17)=0,"-",INDEX(B167:B168,MATCH(1,[1]SAISIE!BS17:BT17,0)))),(CONCATENATE(G17,H17,I17,J17,K17,L17,M17,N17,O17,P17,Q17,R17))) -> Pommes de terre persillées | AD17: =IF(AC17=B167, F17 &" "," ") | AE17: =IF(AC17=B168,F17 &" "," ") -> NOM 11 | AF17: =CONCATENATE((IF(SUM([1]SAISIE!BU17:BW17)=0,"-",INDEX(B169:B171,MATCH(1,[1]SAISIE!BU17:BW17,0)))),(CONCATENATE(G17,H17,I17,J17,K17,L17,M17,N17,O17,P17,Q17,R17))) -> Edam | AG17: =IF(AF17=B169, F17 &" "," ") -> NOM 11 | AH17: =IF(AF17=B170,F17 & " "," ") | AI17: =IF(AF17=B171,F17 & " "," ") | AJ17: =CONCATENATE((IF(SUM([1]SAISIE!BX17:BY17)=0,"-",INDEX(B172:B173,MATCH(1,[1]SAISIE!BX17:BY17,0)))),(CONCATENATE(G17,H17,I17,J17,K17,L17,M17,N17,O17,P17,Q17,R17))) -> Pêches au sirop | AK17: =IF(AJ17=B172,F17 &" "," ") | AL17: =IF(AJ17=B173,F17 & " "," ") -> NOM 11 | AN17: =CONCATENATE((IF([1]SAISIE!AG17=1,F17 & " " & "normal ","")),(IF([1]SAISIE!AH17=1,F17 & " " & "diab ","")),(IF([1]SAISIE!AI17=1,F17 & " " & "diab s sel ","")),(IF([1]SAISIE!AJ17=1, F17 & " " & "mixé ","")),(IF([1]SAISIE!AK17=1,F17 & " " & "sans sel ","")),(IF([1]SAISIE!AL17=1,F17 & " " & "sans graisse ","")),,(IF([1]SAISIE!AM17=1,F17 & " " & "sans gr s sel ",""))) -> NOM 11 normal | AO17: =CONCATENATE((IF([1]SAISIE!AN17=1,F17 & " " & "normal ","")),(IF([1]SAISIE!AO17=1,F17 & " " & "diab ","")),(IF([1]SAISIE!AP17=1,F17 & " " & "diab s sel ","")),(IF([1]SAISIE!AQ17=1,F17 & " " & "mixé ","")),(IF([1]SAISIE!AR17=1,F17 & " " & "sans sel ","")),(IF([1]SAISIE!AS17=1,F17 & " " & "sans graisse ","")),,(IF([1]SAISIE!AT17=1,F17 & " " & "sans gr s sel ","")),(IF([1]SAISIE!AU17=1,F17 & " " & "sans porc ","")))
B18: ='[1]Fiche d''informations'!B36 -> 12 | C18: ='[1]Fiche d''informations'!C36 -> 1 | D18: ='[1]Fiche d''informations'!D36 -> 7 | E18: ='[1]Fiche d''informations'!E36 -> Mr | F18: NOM 12 | G18: =IF([1]SAISIE!AA18=1,'Fiche Agt.Service'!G6,"") | H18: =IF([1]SAISIE!AB18=1,'Fiche Agt.Service'!H6,"") | I18: =IF([1]SAISIE!AC18=1,'Fiche Agt.Service'!I6,"") | J18: =IF([1]SAISIE!AD18=1,'Fiche Agt.Service'!J6,"") | K18: =IF([1]SAISIE!AE18=1,'Fiche Agt.Service'!K6,"") | L18: =IF([1]SAISIE!AF18=1,'Fiche Agt.Service'!L6,"") | M18: =IF([1]SAISIE!BH18=1,'Fiche Agt.Service'!M6,"") | N18: =IF([1]SAISIE!BI18=1,'Fiche Agt.Service'!N6,"") | O18: =IF([1]SAISIE!BJ18=1,'Fiche Agt.Service'!O6,"") | P18: =IF([1]SAISIE!BK18=1,'Fiche Agt.Service'!P6,"") | Q18: =IF([1]SAISIE!BL18=1,'Fiche Agt.Service'!Q6,"") | R18: =IF([1]SAISIE!BM18=1,'Fiche Agt.Service'!R6,"") | S18: =CONCATENATE(IF([1]SAISIE!J18=1,"salle"," "), IF([1]SAISIE!K18=1,"logement"," ")) | T18: =IF(S18="salle ", F18 & " " & G18 & H18 & I18 & J18 & K18 & L18 & " ","") | U18: =IF(S18=" logement", F18 & " " & M18 & N18 & O18 & P18 & Q18 & R18 & " ","") | V18: =CONCATENATE((IF(SUM([1]SAISIE!BN18:BP18)=0,"-",INDEX(B162:B164,MATCH(1,[1]SAISIE!BN18:BP18,0)))),(CONCATENATE(G18,H18,I18,J18,K18,L18,M18,N18,O18,P18,Q18,R18))) -> - | W18: =IF(V18=B162,F18 &" "," ") | X18: =IF(V18=B163, F18 & " "," ") | Y18: =IF(V18=B164, F18 & " "," ") | Z18: =CONCATENATE((IF(SUM([1]SAISIE!BQ18:BR18)=0,"-",INDEX(B165:B166,MATCH(1,[1]SAISIE!BQ18:BR18,0)))),(CONCATENATE(G18,H18,I18,J18,K18,L18,M18,N18,O18,P18,Q18,R18))) -> - | AA18: =IF(Z18=B165, F18 &" "," ") | AB18: =IF(Z18=B166,F18 &" "," ") | AC18: =CONCATENATE((IF(SUM([1]SAISIE!BS18:BT18)=0,"-",INDEX(B167:B168,MATCH(1,[1]SAISIE!BS18:BT18,0)))),(CONCATENATE(G18,H18,I18,J18,K18,L18,M18,N18,O18,P18,Q18,R18))) -> - | AD18: =IF(AC18=B167, F18 &" "," ") | AE18: =IF(AC18=B168,F18 &" "," ") | AF18: =CONCATENATE((IF(SUM([1]SAISIE!BU18:BW18)=0,"-",INDEX(B169:B171,MATCH(1,[1]SAISIE!BU18:BW18,0)))),(CONCATENATE(G18,H18,I18,J18,K18,L18,M18,N18,O18,P18,Q18,R18))) -> - | AG18: =IF(AF18=B169, F18 &" "," ") | AH18: =IF(AF18=B170,F18 & " "," ") | AI18: =IF(AF18=B171,F18 & " "," ") | AJ18: =CONCATENATE((IF(SUM([1]SAISIE!BX18:BY18)=0,"-",INDEX(B172:B173,MATCH(1,[1]SAISIE!BX18:BY18,0)))),(CONCATENATE(G18,H18,I18,J18,K18,L18,M18,N18,O18,P18,Q18,R18))) -> - | AK18: =IF(AJ18=B172,F18 &" "," ") | AL18: =IF(AJ18=B173,F18 & " "," ") | AN18: =CONCATENATE((IF([1]SAISIE!AG18=1,F18 & " " & "normal ","")),(IF([1]SAISIE!AH18=1,F18 & " " & "diab ","")),(IF([1]SAISIE!AI18=1,F18 & " " & "diab s sel ","")),(IF([1]SAISIE!AJ18=1, F18 & " " & "mixé ","")),(IF([1]SAISIE!AK18=1,F18 & " " & "sans sel ","")),(IF([1]SAISIE!AL18=1,F18 & " " & "sans graisse ","")),,(IF([1]SAISIE!AM18=1,F18 & " " & "sans gr s sel ",""))) | AO18: =CONCATENATE((IF([1]SAISIE!AN18=1,F18 & " " & "normal ","")),(IF([1]SAISIE!AO18=1,F18 & " " & "diab ","")),(IF([1]SAISIE!AP18=1,F18 & " " & "diab s sel ","")),(IF([1]SAISIE!AQ18=1,F18 & " " & "mixé ","")),(IF([1]SAISIE!AR18=1,F18 & " " & "sans sel ","")),(IF([1]SAISIE!AS18=1,F18 & " " & "sans graisse ","")),,(IF([1]SAISIE!AT18=1,F18 & " " & "sans gr s sel ","")),(IF([1]SAISIE!AU18=1,F18 & " " & "sans porc ","")))
B19: ='[1]Fiche d''informations'!B37 -> 13 | C19: ='[1]Fiche d''informations'!C37 -> 0 | D19: ='[1]Fiche d''informations'!D37 -> 0 | E19: ='[1]Fiche d''informations'!E37 -> Mr | F19: NOM 13 | G19: =IF([1]SAISIE!AA19=1,'Fiche Agt.Service'!G6,"") | H19: =IF([1]SAISIE!AB19=1,'Fiche Agt.Service'!H6,"") | I19: =IF([1]SAISIE!AC19=1,'Fiche Agt.Service'!I6,"") | J19: =IF([1]SAISIE!AD19=1,'Fiche Agt.Service'!J6,"") | K19: =IF([1]SAISIE!AE19=1,'Fiche Agt.Service'!K6,"") | L19: =IF([1]SAISIE!AF19=1,'Fiche Agt.Service'!L6,"") | M19: =IF([1]SAISIE!BH19=1,'Fiche Agt.Service'!M6,"") | N19: =IF([1]SAISIE!BI19=1,'Fiche Agt.Service'!N6,"") | O19: =IF([1]SAISIE!BJ19=1,'Fiche Agt.Service'!O6,"") | P19: =IF([1]SAISIE!BK19=1,'Fiche Agt.Service'!P6,"") | Q19: =IF([1]SAISIE!BL19=1,'Fiche Agt.Service'!Q6,"") | R19: =IF([1]SAISIE!BM19=1,'Fiche Agt.Service'!R6,"") | S19: =CONCATENATE(IF([1]SAISIE!J19=1,"salle"," "), IF([1]SAISIE!K19=1,"logement"," ")) | T19: =IF(S19="salle ", F19 & " " & G19 & H19 & I19 & J19 & K19 & L19 & " ","") | U19: =IF(S19=" logement", F19 & " " & M19 & N19 & O19 & P19 & Q19 & R19 & " ","") | V19: =CONCATENATE((IF(SUM([1]SAISIE!BN19:BP19)=0,"-",INDEX(B162:B164,MATCH(1,[1]SAISIE!BN19:BP19,0)))),(CONCATENATE(G19,H19,I19,J19,K19,L19,M19,N19,O19,P19,Q19,R19))) -> - | W19: =IF(V19=B162,F19 &" "," ") | X19: =IF(V19=B163, F19 & " "," ") | Y19: =IF(V19=B164, F19 & " "," ") | Z19: =CONCATENATE((IF(SUM([1]SAISIE!BQ19:BR19)=0,"-",INDEX(B165:B166,MATCH(1,[1]SAISIE!BQ19:BR19,0)))),(CONCATENATE(G19,H19,I19,J19,K19,L19,M19,N19,O19,P19,Q19,R19))) -> - | AA19: =IF(Z19=B165, F19 &" "," ") | AB19: =IF(Z19=B166,F19 &" "," ") | AC19: =CONCATENATE((IF(SUM([1]SAISIE!BS19:BT19)=0,"-",INDEX(B167:B168,MATCH(1,[1]SAISIE!BS19:BT19,0)))),(CONCATENATE(G19,H19,I19,J19,K19,L19,M19,N19,O19,P19,Q19,R19))) -> - | AD19: =IF(AC19=B167, F19 &" "," ") | AE19: =IF(AC19=B168,F19 &" "," ") | AF19: =CONCATENATE((IF(SUM([1]SAISIE!BU19:BW19)=0,"-",INDEX(B169:B171,MATCH(1,[1]SAISIE!BU19:BW19,0)))),(CONCATENATE(G19,H19,I19,J19,K19,L19,M19,N19,O19,P19,Q19,R19))) -> - | AG19: =IF(AF19=B169, F19 &" "," ") | AH19: =IF(AF19=B170,F19 & " "," ") | AI19: =IF(AF19=B171,F19 & " "," ") | AJ19: =CONCATENATE((IF(SUM([1]SAISIE!BX19:BY19)=0,"-",INDEX(B172:B173,MATCH(1,[1]SAISIE!BX19:BY19,0)))),(CONCATENATE(G19,H19,I19,J19,K19,L19,M19,N19,O19,P19,Q19,R19))) -> - | AK19: =IF(AJ19=B172,F19 &" "," ") | AL19: =IF(AJ19=B173,F19 & " "," ") | AN19: =CONCATENATE((IF([1]SAISIE!AG19=1,F19 & " " & "normal ","")),(IF([1]SAISIE!AH19=1,F19 & " " & "diab ","")),(IF([1]SAISIE!AI19=1,F19 & " " & "diab s sel ","")),(IF([1]SAISIE!AJ19=1, F19 & " " & "mixé ","")),(IF([1]SAISIE!AK19=1,F19 & " " & "sans sel ","")),(IF([1]SAISIE!AL19=1,F19 & " " & "sans graisse ","")),,(IF([1]SAISIE!AM19=1,F19 & " " & "sans gr s sel ",""))) | AO19: =CONCATENATE((IF([1]SAISIE!AN19=1,F19 & " " & "normal ","")),(IF([1]SAISIE!AO19=1,F19 & " " & "diab ","")),(IF([1]SAISIE!AP19=1,F19 & " " & "diab s sel ","")),(IF([1]SAISIE!AQ19=1,F19 & " " & "mixé ","")),(IF([1]SAISIE!AR19=1,F19 & " " & "sans sel ","")),(IF([1]SAISIE!AS19=1,F19 & " " & "sans graisse ","")),,(IF([1]SAISIE!AT19=1,F19 & " " & "sans gr s sel ","")),(IF([1]SAISIE!AU19=1,F19 & " " & "sans porc ","")))
B20: ='[1]Fiche d''informations'!B38 -> 14 | C20: ='[1]Fiche d''informations'!C38 -> 0 | D20: ='[1]Fiche d''informations'!D38 -> 0 | E20: ='[1]Fiche d''informations'!E38 -> 0 | F20: NOM 14 | G20: =IF([1]SAISIE!AA20=1,'Fiche Agt.Service'!G6,"") | H20: =IF([1]SAISIE!AB20=1,'Fiche Agt.Service'!H6,"") | I20: =IF([1]SAISIE!AC20=1,'Fiche Agt.Service'!I6,"") | J20: =IF([1]SAISIE!AD20=1,'Fiche Agt.Service'!J6,"") | K20: =IF([1]SAISIE!AE20=1,'Fiche Agt.Service'!K6,"") | L20: =IF([1]SAISIE!AF20=1,'Fiche Agt.Service'!L6,"") | M20: =IF([1]SAISIE!BH20=1,'Fiche Agt.Service'!M6,"") | N20: =IF([1]SAISIE!BI20=1,'Fiche Agt.Service'!N6,"") | O20: =IF([1]SAISIE!BJ20=1,'Fiche Agt.Service'!O6,"") | P20: =IF([1]SAISIE!BK20=1,'Fiche Agt.Service'!P6,"") | Q20: =IF([1]SAISIE!BL20=1,'Fiche Agt.Service'!Q6,"") | R20: =IF([1]SAISIE!BM20=1,'Fiche Agt.Service'!R6,"") | S20: =CONCATENATE(IF([1]SAISIE!J20=1,"salle"," "), IF([1]SAISIE!K20=1,"logement"," ")) | T20: =IF(S20="salle ", F20 & " " & G20 & H20 & I20 & J20 & K20 & L20 & " ","") | U20: =IF(S20=" logement", F20 & " " & M20 & N20 & O20 & P20 & Q20 & R20 & " ","") | V20: =CONCATENATE((IF(SUM([1]SAISIE!BN20:BP20)=0,"-",INDEX(B162:B164,MATCH(1,[1]SAISIE!BN20:BP20,0)))),(CONCATENATE(G20,H20,I20,J20,K20,L20,M20,N20,O20,P20,Q20,R20))) -> - | W20: =IF(V20=B162,F20 &" "," ") | X20: =IF(V20=B163, F20 & " "," ") | Y20: =IF(V20=B164, F20 & " "," ") | Z20: =CONCATENATE((IF(SUM([1]SAISIE!BQ20:BR20)=0,"-",INDEX(B165:B166,MATCH(1,[1]SAISIE!BQ20:BR20,0)))),(CONCATENATE(G20,H20,I20,J20,K20,L20,M20,N20,O20,P20,Q20,R20))) -> - | AA20: =IF(Z20=B165, F20 &" "," ") | AB20: =IF(Z20=B166,F20 &" "," ") | AC20: =CONCATENATE((IF(SUM([1]SAISIE!BS20:BT20)=0,"-",INDEX(B167:B168,MATCH(1,[1]SAISIE!BS20:BT20,0)))),(CONCATENATE(G20,H20,I20,J20,K20,L20,M20,N20,O20,P20,Q20,R20))) -> - | AD20: =IF(AC20=B167, F20 &" "," ") | AE20: =IF(AC20=B168,F20 &" "," ") | AF20: =CONCATENATE((IF(SUM([1]SAISIE!BU20:BW20)=0,"-",INDEX(B169:B171,MATCH(1,[1]SAISIE!BU20:BW20,0)))),(CONCATENATE(G20,H20,I20,J20,K20,L20,M20,N20,O20,P20,Q20,R20))) -> - | AG20: =IF(AF20=B169, F20 &" "," ") | AH20: =IF(AF20=B170,F20 & " "," ") | AI20: =IF(AF20=B171,F20 & " "," ") | AJ20: =CONCATENATE((IF(SUM([1]SAISIE!BX20:BY20)=0,"-",INDEX(B172:B173,MATCH(1,[1]SAISIE!BX20:BY20,0)))),(CONCATENATE(G20,H20,I20,J20,K20,L20,M20,N20,O20,P20,Q20,R20))) -> - | AK20: =IF(AJ20=B172,F20 &" "," ") | AL20: =IF(AJ20=B173,F20 & " "," ") | AN20: =CONCATENATE((IF([1]SAISIE!AG20=1,F20 & " " & "normal ","")),(IF([1]SAISIE!AH20=1,F20 & " " & "diab ","")),(IF([1]SAISIE!AI20=1,F20 & " " & "diab s sel ","")),(IF([1]SAISIE!AJ20=1, F20 & " " & "mixé ","")),(IF([1]SAISIE!AK20=1,F20 & " " & "sans sel ","")),(IF([1]SAISIE!AL20=1,F20 & " " & "sans graisse ","")),,(IF([1]SAISIE!AM20=1,F20 & " " & "sans gr s sel ",""))) | AO20: =CONCATENATE((IF([1]SAISIE!AN20=1,F20 & " " & "normal ","")),(IF([1]SAISIE!AO20=1,F20 & " " & "diab ","")),(IF([1]SAISIE!AP20=1,F20 & " " & "diab s sel ","")),(IF([1]SAISIE!AQ20=1,F20 & " " & "mixé ","")),(IF([1]SAISIE!AR20=1,F20 & " " & "sans sel ","")),(IF([1]SAISIE!AS20=1,F20 & " " & "sans graisse ","")),,(IF([1]SAISIE!AT20=1,F20 & " " & "sans gr s sel ","")),(IF([1]SAISIE!AU20=1,F20 & " " & "sans porc ","")))
B21: ='[1]Fiche d''informations'!B39 -> 15 | C21: ='[1]Fiche d''informations'!C39 -> 0 | D21: ='[1]Fiche d''informations'!D39 -> 0 | E21: ='[1]Fiche d''informations'!E39 -> Mr | F21: NOM 15 | G21: =IF([1]SAISIE!AA21=1,'Fiche Agt.Service'!G6,"") | H21: =IF([1]SAISIE!AB21=1,'Fiche Agt.Service'!H6,"") | I21: =IF([1]SAISIE!AC21=1,'Fiche Agt.Service'!I6,"") | J21: =IF([1]SAISIE!AD21=1,'Fiche Agt.Service'!J6,"") | K21: =IF([1]SAISIE!AE21=1,'Fiche Agt.Service'!K6,"") | L21: =IF([1]SAISIE!AF21=1,'Fiche Agt.Service'!L6,"") | M21: =IF([1]SAISIE!BH21=1,'Fiche Agt.Service'!M6,"") | N21: =IF([1]SAISIE!BI21=1,'Fiche Agt.Service'!N6,"") | O21: =IF([1]SAISIE!BJ21=1,'Fiche Agt.Service'!O6,"") | P21: =IF([1]SAISIE!BK21=1,'Fiche Agt.Service'!P6,"") | Q21: =IF([1]SAISIE!BL21=1,'Fiche Agt.Service'!Q6,"") | R21: =IF([1]SAISIE!BM21=1,'Fiche Agt.Service'!R6,"") | S21: =CONCATENATE(IF([1]SAISIE!J21=1,"salle"," "), IF([1]SAISIE!K21=1,"logement"," ")) | T21: =IF(S21="salle ", F21 & " " & G21 & H21 & I21 & J21 & K21 & L21 & " ","") | U21: =IF(S21=" logement", F21 & " " & M21 & N21 & O21 & P21 & Q21 & R21 & " ","") | V21: =CONCATENATE((IF(SUM([1]SAISIE!BN21:BP21)=0,"-",INDEX(B162:B164,MATCH(1,[1]SAISIE!BN21:BP21,0)))),(CONCATENATE(G21,H21,I21,J21,K21,L21,M21,N21,O21,P21,Q21,R21))) -> - | W21: =IF(V21=B162,F21 &" "," ") | X21: =IF(V21=B163, F21 & " "," ") | Y21: =IF(V21=B164, F21 & " "," ") | Z21: =CONCATENATE((IF(SUM([1]SAISIE!BQ21:BR21)=0,"-",INDEX(B165:B166,MATCH(1,[1]SAISIE!BQ21:BR21,0)))),(CONCATENATE(G21,H21,I21,J21,K21,L21,M21,N21,O21,P21,Q21,R21))) -> - | AA21: =IF(Z21=B165, F21 &" "," ") | AB21: =IF(Z21=B166,F21 &" "," ") | AC21: =CONCATENATE((IF(SUM([1]SAISIE!BS21:BT21)=0,"-",INDEX(B167:B168,MATCH(1,[1]SAISIE!BS21:BT21,0)))),(CONCATENATE(G21,H21,I21,J21,K21,L21,M21,N21,O21,P21,Q21,R21))) -> - | AD21: =IF(AC21=B167, F21 &" "," ") | AE21: =IF(AC21=B168,F21 &" "," ") | AF21: =CONCATENATE((IF(SUM([1]SAISIE!BU21:BW21)=0,"-",INDEX(B169:B171,MATCH(1,[1]SAISIE!BU21:BW21,0)))),(CONCATENATE(G21,H21,I21,J21,K21,L21,M21,N21,O21,P21,Q21,R21))) -> - | AG21: =IF(AF21=B169, F21 &" "," ") | AH21: =IF(AF21=B170,F21 & " "," ") | AI21: =IF(AF21=B171,F21 & " "," ") | AJ21: =CONCATENATE((IF(SUM([1]SAISIE!BX21:BY21)=0,"-",INDEX(B172:B173,MATCH(1,[1]SAISIE!BX21:BY21,0)))),(CONCATENATE(G21,H21,I21,J21,K21,L21,M21,N21,O21,P21,Q21,R21))) -> - | AK21: =IF(AJ21=B172,F21 &" "," ") | AL21: =IF(AJ21=B173,F21 & " "," ") | AN21: =CONCATENATE((IF([1]SAISIE!AG21=1,F21 & " " & "normal ","")),(IF([1]SAISIE!AH21=1,F21 & " " & "diab ","")),(IF([1]SAISIE!AI21=1,F21 & " " & "diab s sel ","")),(IF([1]SAISIE!AJ21=1, F21 & " " & "mixé ","")),(IF([1]SAISIE!AK21=1,F21 & " " & "sans sel ","")),(IF([1]SAISIE!AL21=1,F21 & " " & "sans graisse ","")),,(IF([1]SAISIE!AM21=1,F21 & " " & "sans gr s sel ",""))) | AO21: =CONCATENATE((IF([1]SAISIE!AN21=1,F21 & " " & "normal ","")),(IF([1]SAISIE!AO21=1,F21 & " " & "diab ","")),(IF([1]SAISIE!AP21=1,F21 & " " & "diab s sel ","")),(IF([1]SAISIE!AQ21=1,F21 & " " & "mixé ","")),(IF([1]SAISIE!AR21=1,F21 & " " & "sans sel ","")),(IF([1]SAISIE!AS21=1,F21 & " " & "sans graisse ","")),,(IF([1]SAISIE!AT21=1,F21 & " " & "sans gr s sel ","")),(IF([1]SAISIE!AU21=1,F21 & " " & "sans porc ","")))
B22: ='[1]Fiche d''informations'!B40 -> 16 | C22: ='[1]Fiche d''informations'!C40 -> 0 | D22: ='[1]Fiche d''informations'!D40 -> 0 | E22: ='[1]Fiche d''informations'!E40 -> Mme | F22: NOM 16 | G22: =IF([1]SAISIE!AA22=1,'Fiche Agt.Service'!G6,"") | H22: =IF([1]SAISIE!AB22=1,'Fiche Agt.Service'!H6,"") | I22: =IF([1]SAISIE!AC22=1,'Fiche Agt.Service'!I6,"") | J22: =IF([1]SAISIE!AD22=1,'Fiche Agt.Service'!J6,"") | K22: =IF([1]SAISIE!AE22=1,'Fiche Agt.Service'!K6,"") | L22: =IF([1]SAISIE!AF22=1,'Fiche Agt.Service'!L6,"") | M22: =IF([1]SAISIE!BH22=1,'Fiche Agt.Service'!M6,"") | N22: =IF([1]SAISIE!BI22=1,'Fiche Agt.Service'!N6,"") | O22: =IF([1]SAISIE!BJ22=1,'Fiche Agt.Service'!O6,"") | P22: =IF([1]SAISIE!BK22=1,'Fiche Agt.Service'!P6,"") | Q22: =IF([1]SAISIE!BL22=1,'Fiche Agt.Service'!Q6,"") | R22: =IF([1]SAISIE!BM22=1,'Fiche Agt.Service'!R6,"") | S22: =CONCATENATE(IF([1]SAISIE!J22=1,"salle"," "), IF([1]SAISIE!K22=1,"logement"," ")) | T22: =IF(S22="salle ", F22 & " " & G22 & H22 & I22 & J22 & K22 & L22 & " ","") | U22: =IF(S22=" logement", F22 & " " & M22 & N22 & O22 & P22 & Q22 & R22 & " ","") | V22: =CONCATENATE((IF(SUM([1]SAISIE!BN22:BP22)=0,"-",INDEX(B162:B164,MATCH(1,[1]SAISIE!BN22:BP22,0)))),(CONCATENATE(G22,H22,I22,J22,K22,L22,M22,N22,O22,P22,Q22,R22))) -> - | W22: =IF(V22=B162,F22 &" "," ") | X22: =IF(V22=B163, F22 & " "," ") | Y22: =IF(V22=B164, F22 & " "," ") | Z22: =CONCATENATE((IF(SUM([1]SAISIE!BQ22:BR22)=0,"-",INDEX(B165:B166,MATCH(1,[1]SAISIE!BQ22:BR22,0)))),(CONCATENATE(G22,H22,I22,J22,K22,L22,M22,N22,O22,P22,Q22,R22))) -> - | AA22: =IF(Z22=B165, F22 &" "," ") | AB22: =IF(Z22=B166,F22 &" "," ") | AC22: =CONCATENATE((IF(SUM([1]SAISIE!BS22:BT22)=0,"-",INDEX(B167:B168,MATCH(1,[1]SAISIE!BS22:BT22,0)))),(CONCATENATE(G22,H22,I22,J22,K22,L22,M22,N22,O22,P22,Q22,R22))) -> - | AD22: =IF(AC22=B167, F22 &" "," ") | AE22: =IF(AC22=B168,F22 &" "," ") | AF22: =CONCATENATE((IF(SUM([1]SAISIE!BU22:BW22)=0,"-",INDEX(B169:B171,MATCH(1,[1]SAISIE!BU22:BW22,0)))),(CONCATENATE(G22,H22,I22,J22,K22,L22,M22,N22,O22,P22,Q22,R22))) -> - | AG22: =IF(AF22=B169, F22 &" "," ") | AH22: =IF(AF22=B170,F22 & " "," ") | AI22: =IF(AF22=B171,F22 & " "," ") | AJ22: =CONCATENATE((IF(SUM([1]SAISIE!BX22:BY22)=0,"-",INDEX(B172:B173,MATCH(1,[1]SAISIE!BX22:BY22,0)))),(CONCATENATE(G22,H22,I22,J22,K22,L22,M22,N22,O22,P22,Q22,R22))) -> - | AK22: =IF(AJ22=B172,F22 &" "," ") | AL22: =IF(AJ22=B173,F22 & " "," ") | AN22: =CONCATENATE((IF([1]SAISIE!AG22=1,F22 & " " & "normal ","")),(IF([1]SAISIE!AH22=1,F22 & " " & "diab ","")),(IF([1]SAISIE!AI22=1,F22 & " " & "diab s sel ","")),(IF([1]SAISIE!AJ22=1, F22 & " " & "mixé ","")),(IF([1]SAISIE!AK22=1,F22 & " " & "sans sel ","")),(IF([1]SAISIE!AL22=1,F22 & " " & "sans graisse ","")),,(IF([1]SAISIE!AM22=1,F22 & " " & "sans gr s sel ",""))) | AO22: =CONCATENATE((IF([1]SAISIE!AN22=1,F22 & " " & "normal ","")),(IF([1]SAISIE!AO22=1,F22 & " " & "diab ","")),(IF([1]SAISIE!AP22=1,F22 & " " & "diab s sel ","")),(IF([1]SAISIE!AQ22=1,F22 & " " & "mixé ","")),(IF([1]SAISIE!AR22=1,F22 & " " & "sans sel ","")),(IF([1]SAISIE!AS22=1,F22 & " " & "sans graisse ","")),,(IF([1]SAISIE!AT22=1,F22 & " " & "sans gr s sel ","")),(IF([1]SAISIE!AU22=1,F22 & " " & "sans porc ","")))
B23: ='[1]Fiche d''informations'!B41 -> 17 | C23: ='[1]Fiche d''informations'!C41 -> 1 | D23: ='[1]Fiche d''informations'!D41 -> 0 | E23: ='[1]Fiche d''informations'!E41 -> Mr | F23: NOM 17 | G23: =IF([1]SAISIE!AA23=1,'Fiche Agt.Service'!G6,"") | H23: =IF([1]SAISIE!AB23=1,'Fiche Agt.Service'!H6,"") | I23: =IF([1]SAISIE!AC23=1,'Fiche Agt.Service'!I6,"") | J23: =IF([1]SAISIE!AD23=1,'Fiche Agt.Service'!J6,"") | K23: =IF([1]SAISIE!AE23=1,'Fiche Agt.Service'!K6,"") | L23: =IF([1]SAISIE!AF23=1,'Fiche Agt.Service'!L6,"") | M23: =IF([1]SAISIE!BH23=1,'Fiche Agt.Service'!M6,"") | N23: =IF([1]SAISIE!BI23=1,'Fiche Agt.Service'!N6,"") | O23: =IF([1]SAISIE!BJ23=1,'Fiche Agt.Service'!O6,"") | P23: =IF([1]SAISIE!BK23=1,'Fiche Agt.Service'!P6,"") | Q23: =IF([1]SAISIE!BL23=1,'Fiche Agt.Service'!Q6,"") | R23: =IF([1]SAISIE!BM23=1,'Fiche Agt.Service'!R6,"") | S23: =CONCATENATE(IF([1]SAISIE!J23=1,"salle"," "), IF([1]SAISIE!K23=1,"logement"," ")) | T23: =IF(S23="salle ", F23 & " " & G23 & H23 & I23 & J23 & K23 & L23 & " ","") | U23: =IF(S23=" logement", F23 & " " & M23 & N23 & O23 & P23 & Q23 & R23 & " ","") | V23: =CONCATENATE((IF(SUM([1]SAISIE!BN23:BP23)=0,"-",INDEX(B162:B164,MATCH(1,[1]SAISIE!BN23:BP23,0)))),(CONCATENATE(G23,H23,I23,J23,K23,L23,M23,N23,O23,P23,Q23,R23))) -> - | W23: =IF(V23=B162,F23 &" "," ") | X23: =IF(V23=B163, F23 & " "," ") | Y23: =IF(V23=B164, F23 & " "," ") | Z23: =CONCATENATE((IF(SUM([1]SAISIE!BQ23:BR23)=0,"-",INDEX(B165:B166,MATCH(1,[1]SAISIE!BQ23:BR23,0)))),(CONCATENATE(G23,H23,I23,J23,K23,L23,M23,N23,O23,P23,Q23,R23))) -> - | AA23: =IF(Z23=B165, F23 &" "," ") | AB23: =IF(Z23=B166,F23 &" "," ") | AC23: =CONCATENATE((IF(SUM([1]SAISIE!BS23:BT23)=0,"-",INDEX(B167:B168,MATCH(1,[1]SAISIE!BS23:BT23,0)))),(CONCATENATE(G23,H23,I23,J23,K23,L23,M23,N23,O23,P23,Q23,R23))) -> - | AD23: =IF(AC23=B167, F23 &" "," ") | AE23: =IF(AC23=B168,F23 &" "," ") | AF23: =CONCATENATE((IF(SUM([1]SAISIE!BU23:BW23)=0,"-",INDEX(B169:B171,MATCH(1,[1]SAISIE!BU23:BW23,0)))),(CONCATENATE(G23,H23,I23,J23,K23,L23,M23,N23,O23,P23,Q23,R23))) -> - | AG23: =IF(AF23=B169, F23 &" "," ") | AH23: =IF(AF23=B170,F23 & " "," ") | AI23: =IF(AF23=B171,F23 & " "," ") | AJ23: =CONCATENATE((IF(SUM([1]SAISIE!BX23:BY23)=0,"-",INDEX(B172:B173,MATCH(1,[1]SAISIE!BX23:BY23,0)))),(CONCATENATE(G23,H23,I23,J23,K23,L23,M23,N23,O23,P23,Q23,R23))) -> - | AK23: =IF(AJ23=B172,F23 &" "," ") | AL23: =IF(AJ23=B173,F23 & " "," ") | AN23: =CONCATENATE((IF([1]SAISIE!AG23=1,F23 & " " & "normal ","")),(IF([1]SAISIE!AH23=1,F23 & " " & "diab ","")),(IF([1]SAISIE!AI23=1,F23 & " " & "diab s sel ","")),(IF([1]SAISIE!AJ23=1, F23 & " " & "mixé ","")),(IF([1]SAISIE!AK23=1,F23 & " " & "sans sel ","")),(IF([1]SAISIE!AL23=1,F23 & " " & "sans graisse ","")),,(IF([1]SAISIE!AM23=1,F23 & " " & "sans gr s sel ",""))) -> NOM 17 normal | AO23: =CONCATENATE((IF([1]SAISIE!AN23=1,F23 & " " & "normal ","")),(IF([1]SAISIE!AO23=1,F23 & " " & "diab ","")),(IF([1]SAISIE!AP23=1,F23 & " " & "diab s sel ","")),(IF([1]SAISIE!AQ23=1,F23 & " " & "mixé ","")),(IF([1]SAISIE!AR23=1,F23 & " " & "sans sel ","")),(IF([1]SAISIE!AS23=1,F23 & " " & "sans graisse ","")),,(IF([1]SAISIE!AT23=1,F23 & " " & "sans gr s sel ","")),(IF([1]SAISIE!AU23=1,F23 & " " & "sans porc ","")))
B24: ='[1]Fiche d''informations'!B42 -> 17 | C24: ='[1]Fiche d''informations'!C42 -> 1 | D24: ='[1]Fiche d''informations'!D42 -> 0 | E24: ='[1]Fiche d''informations'!E42 -> Mme | F24: NOM 18 | G24: =IF([1]SAISIE!AA24=1,'Fiche Agt.Service'!G6,"") | H24: =IF([1]SAISIE!AB24=1,'Fiche Agt.Service'!H6,"") | I24: =IF([1]SAISIE!AC24=1,'Fiche Agt.Service'!I6,"") | J24: =IF([1]SAISIE!AD24=1,'Fiche Agt.Service'!J6,"") | K24: =IF([1]SAISIE!AE24=1,'Fiche Agt.Service'!K6,"") | L24: =IF([1]SAISIE!AF24=1,'Fiche Agt.Service'!L6,"") | M24: =IF([1]SAISIE!BH24=1,'Fiche Agt.Service'!M6,"") | N24: =IF([1]SAISIE!BI24=1,'Fiche Agt.Service'!N6,"") | O24: =IF([1]SAISIE!BJ24=1,'Fiche Agt.Service'!O6,"") | P24: =IF([1]SAISIE!BK24=1,'Fiche Agt.Service'!P6,"") | Q24: =IF([1]SAISIE!BL24=1,'Fiche Agt.Service'!Q6,"") | R24: =IF([1]SAISIE!BM24=1,'Fiche Agt.Service'!R6,"") | S24: =CONCATENATE(IF([1]SAISIE!J24=1,"salle"," "), IF([1]SAISIE!K24=1,"logement"," ")) | T24: =IF(S24="salle ", F24 & " " & G24 & H24 & I24 & J24 & K24 & L24 & " ","") | U24: =IF(S24=" logement", F24 & " " & M24 & N24 & O24 & P24 & Q24 & R24 & " ","") | V24: =CONCATENATE((IF(SUM([1]SAISIE!BN24:BP24)=0,"-",INDEX(B162:B164,MATCH(1,[1]SAISIE!BN24:BP24,0)))),(CONCATENATE(G24,H24,I24,J24,K24,L24,M24,N24,O24,P24,Q24,R24))) -> - | W24: =IF(V24=B162,F24 &" "," ") | X24: =IF(V24=B163, F24 & " "," ") | Y24: =IF(V24=B164, F24 & " "," ") | Z24: =CONCATENATE((IF(SUM([1]SAISIE!BQ24:BR24)=0,"-",INDEX(B165:B166,MATCH(1,[1]SAISIE!BQ24:BR24,0)))),(CONCATENATE(G24,H24,I24,J24,K24,L24,M24,N24,O24,P24,Q24,R24))) -> - | AA24: =IF(Z24=B165, F24 &" "," ") | AB24: =IF(Z24=B166,F24 &" "," ") | AC24: =CONCATENATE((IF(SUM([1]SAISIE!BS24:BT24)=0,"-",INDEX(B167:B168,MATCH(1,[1]SAISIE!BS24:BT24,0)))),(CONCATENATE(G24,H24,I24,J24,K24,L24,M24,N24,O24,P24,Q24,R24))) -> - | AD24: =IF(AC24=B167, F24 &" "," ") | AE24: =IF(AC24=B168,F24 &" "," ") | AF24: =CONCATENATE((IF(SUM([1]SAISIE!BU24:BW24)=0,"-",INDEX(B169:B171,MATCH(1,[1]SAISIE!BU24:BW24,0)))),(CONCATENATE(G24,H24,I24,J24,K24,L24,M24,N24,O24,P24,Q24,R24))) -> - | AG24: =IF(AF24=B169, F24 &" "," ") | AH24: =IF(AF24=B170,F24 & " "," ") | AI24: =IF(AF24=B171,F24 & " "," ") | AJ24: =CONCATENATE((IF(SUM([1]SAISIE!BX24:BY24)=0,"-",INDEX(B172:B173,MATCH(1,[1]SAISIE!BX24:BY24,0)))),(CONCATENATE(G24,H24,I24,J24,K24,L24,M24,N24,O24,P24,Q24,R24))) -> - | AK24: =IF(AJ24=B172,F24 &" "," ") | AL24: =IF(AJ24=B173,F24 & " "," ") | AN24: =CONCATENATE((IF([1]SAISIE!AG24=1,F24 & " " & "normal ","")),(IF([1]SAISIE!AH24=1,F24 & " " & "diab ","")),(IF([1]SAISIE!AI24=1,F24 & " " & "diab s sel ","")),(IF([1]SAISIE!AJ24=1, F24 & " " & "mixé ","")),(IF([1]SAISIE!AK24=1,F24 & " " & "sans sel ","")),(IF([1]SAISIE!AL24=1,F24 & " " & "sans graisse ","")),,(IF([1]SAISIE!AM24=1,F24 & " " & "sans gr s sel ",""))) | AO24: =CONCATENATE((IF([1]SAISIE!AN24=1,F24 & " " & "normal ","")),(IF([1]SAISIE!AO24=1,F24 & " " & "diab ","")),(IF([1]SAISIE!AP24=1,F24 & " " & "diab s sel ","")),(IF([1]SAISIE!AQ24=1,F24 & " " & "mixé ","")),(IF([1]SAISIE!AR24=1,F24 & " " & "sans sel ","")),(IF([1]SAISIE!AS24=1,F24 & " " & "sans graisse ","")),,(IF([1]SAISIE!AT24=1,F24 & " " & "sans gr s sel ","")),(IF([1]SAISIE!AU24=1,F24 & " " & "sans porc ","")))
B25: ='[1]Fiche d''informations'!B43 -> 18 | C25: ='[1]Fiche d''informations'!C43 -> 0 | D25: ='[1]Fiche d''informations'!D43 -> 0 | E25: ='[1]Fiche d''informations'!E43 -> Mr | F25: NOM 19 | G25: =IF([1]SAISIE!AA25=1,'Fiche Agt.Service'!G6,"") | H25: =IF([1]SAISIE!AB25=1,'Fiche Agt.Service'!H6,"") | I25: =IF([1]SAISIE!AC25=1,'Fiche Agt.Service'!I6,"") | J25: =IF([1]SAISIE!AD25=1,'Fiche Agt.Service'!J6,"") | K25: =IF([1]SAISIE!AE25=1,'Fiche Agt.Service'!K6,"") | L25: =IF([1]SAISIE!AF25=1,'Fiche Agt.Service'!L6,"") | M25: =IF([1]SAISIE!BH25=1,'Fiche Agt.Service'!M6,"") | N25: =IF([1]SAISIE!BI25=1,'Fiche Agt.Service'!N6,"") | O25: =IF([1]SAISIE!BJ25=1,'Fiche Agt.Service'!O6,"") | P25: =IF([1]SAISIE!BK25=1,'Fiche Agt.Service'!P6,"") | Q25: =IF([1]SAISIE!BL25=1,'Fiche Agt.Service'!Q6,"") | R25: =IF([1]SAISIE!BM25=1,'Fiche Agt.Service'!R6,"") | S25: =CONCATENATE(IF([1]SAISIE!J25=1,"salle"," "), IF([1]SAISIE!K25=1,"logement"," ")) | T25: =IF(S25="salle ", F25 & " " & G25 & H25 & I25 & J25 & K25 & L25 & " ","") | U25: =IF(S25=" logement", F25 & " " & M25 & N25 & O25 & P25 & Q25 & R25 & " ","") | V25: =CONCATENATE((IF(SUM([1]SAISIE!BN25:BP25)=0,"-",INDEX(B162:B164,MATCH(1,[1]SAISIE!BN25:BP25,0)))),(CONCATENATE(G25,H25,I25,J25,K25,L25,M25,N25,O25,P25,Q25,R25))) -> - | W25: =IF(V25=B162,F25 &" "," ") | X25: =IF(V25=B163, F25 & " "," ") | Y25: =IF(V25=B164, F25 & " "," ") | Z25: =CONCATENATE((IF(SUM([1]SAISIE!BQ25:BR25)=0,"-",INDEX(B165:B166,MATCH(1,[1]SAISIE!BQ25:BR25,0)))),(CONCATENATE(G25,H25,I25,J25,K25,L25,M25,N25,O25,P25,Q25,R25))) -> - | AA25: =IF(Z25=B165, F25 &" "," ") | AB25: =IF(Z25=B166,F25 &" "," ") | AC25: =CONCATENATE((IF(SUM([1]SAISIE!BS25:BT25)=0,"-",INDEX(B167:B168,MATCH(1,[1]SAISIE!BS25:BT25,0)))),(CONCATENATE(G25,H25,I25,J25,K25,L25,M25,N25,O25,P25,Q25,R25))) -> - | AD25: =IF(AC25=B167, F25 &" "," ") | AE25: =IF(AC25=B168,F25 &" "," ") | AF25: =CONCATENATE((IF(SUM([1]SAISIE!BU25:BW25)=0,"-",INDEX(B169:B171,MATCH(1,[1]SAISIE!BU25:BW25,0)))),(CONCATENATE(G25,H25,I25,J25,K25,L25,M25,N25,O25,P25,Q25,R25))) -> - | AG25: =IF(AF25=B169, F25 &" "," ") | AH25: =IF(AF25=B170,F25 & " "," ") | AI25: =IF(AF25=B171,F25 & " "," ") | AJ25: =CONCATENATE((IF(SUM([1]SAISIE!BX25:BY25)=0,"-",INDEX(B172:B173,MATCH(1,[1]SAISIE!BX25:BY25,0)))),(CONCATENATE(G25,H25,I25,J25,K25,L25,M25,N25,O25,P25,Q25,R25))) -> - | AK25: =IF(AJ25=B172,F25 &" "," ") | AL25: =IF(AJ25=B173,F25 & " "," ") | AN25: =CONCATENATE((IF([1]SAISIE!AG25=1,F25 & " " & "normal ","")),(IF([1]SAISIE!AH25=1,F25 & " " & "diab ","")),(IF([1]SAISIE!AI25=1,F25 & " " & "diab s sel ","")),(IF([1]SAISIE!AJ25=1, F25 & " " & "mixé ","")),(IF([1]SAISIE!AK25=1,F25 & " " & "sans sel ","")),(IF([1]SAISIE!AL25=1,F25 & " " & "sans graisse ","")),,(IF([1]SAISIE!AM25=1,F25 & " " & "sans gr s sel ",""))) | AO25: =CONCATENATE((IF([1]SAISIE!AN25=1,F25 & " " & "normal ","")),(IF([1]SAISIE!AO25=1,F25 & " " & "diab ","")),(IF([1]SAISIE!AP25=1,F25 & " " & "diab s sel ","")),(IF([1]SAISIE!AQ25=1,F25 & " " & "mixé ","")),(IF([1]SAISIE!AR25=1,F25 & " " & "sans sel ","")),(IF([1]SAISIE!AS25=1,F25 & " " & "sans graisse ","")),,(IF([1]SAISIE!AT25=1,F25 & " " & "sans gr s sel ","")),(IF([1]SAISIE!AU25=1,F25 & " " & "sans porc ","")))
B26: ='[1]Fiche d''informations'!B44 -> 19 | C26: ='[1]Fiche d''informations'!C44 -> 0 | D26: ='[1]Fiche d''informations'!D44 -> 0 | E26: ='[1]Fiche d''informations'!E44 -> Mme | F26: NOM 20 | G26: =IF([1]SAISIE!AA26=1,'Fiche Agt.Service'!G6,"") | H26: =IF([1]SAISIE!AB26=1,'Fiche Agt.Service'!H6,"") | I26: =IF([1]SAISIE!AC26=1,'Fiche Agt.Service'!I6,"") | J26: =IF([1]SAISIE!AD26=1,'Fiche Agt.Service'!J6,"") | K26: =IF([1]SAISIE!AE26=1,'Fiche Agt.Service'!K6,"") | L26: =IF([1]SAISIE!AF26=1,'Fiche Agt.Service'!L6,"") | M26: =IF([1]SAISIE!BH26=1,'Fiche Agt.Service'!M6,"") | N26: =IF([1]SAISIE!BI26=1,'Fiche Agt.Service'!N6,"") | O26: =IF([1]SAISIE!BJ26=1,'Fiche Agt.Service'!O6,"") | P26: =IF([1]SAISIE!BK26=1,'Fiche Agt.Service'!P6,"") | Q26: =IF([1]SAISIE!BL26=1,'Fiche Agt.Service'!Q6,"") | R26: =IF([1]SAISIE!BM26=1,'Fiche Agt.Service'!R6,"") | S26: =CONCATENATE(IF([1]SAISIE!J26=1,"salle"," "), IF([1]SAISIE!K26=1,"logement"," ")) | T26: =IF(S26="salle ", F26 & " " & G26 & H26 & I26 & J26 & K26 & L26 & " ","") | U26: =IF(S26=" logement", F26 & " " & M26 & N26 & O26 & P26 & Q26 & R26 & " ","") | V26: =CONCATENATE((IF(SUM([1]SAISIE!BN26:BP26)=0,"-",INDEX(B162:B164,MATCH(1,[1]SAISIE!BN26:BP26,0)))),(CONCATENATE(G26,H26,I26,J26,K26,L26,M26,N26,O26,P26,Q26,R26))) -> - | W26: =IF(V26=B162,F26 &" "," ") | X26: =IF(V26=B163, F26 & " "," ") | Y26: =IF(V26=B164, F26 & " "," ") | Z26: =CONCATENATE((IF(SUM([1]SAISIE!BQ26:BR26)=0,"-",INDEX(B165:B166,MATCH(1,[1]SAISIE!BQ26:BR26,0)))),(CONCATENATE(G26,H26,I26,J26,K26,L26,M26,N26,O26,P26,Q26,R26))) -> - | AA26: =IF(Z26=B165, F26 &" "," ") | AB26: =IF(Z26=B166,F26 &" "," ") | AC26: =CONCATENATE((IF(SUM([1]SAISIE!BS26:BT26)=0,"-",INDEX(B167:B168,MATCH(1,[1]SAISIE!BS26:BT26,0)))),(CONCATENATE(G26,H26,I26,J26,K26,L26,M26,N26,O26,P26,Q26,R26))) -> - | AD26: =IF(AC26=B167, F26 &" "," ") | AE26: =IF(AC26=B168,F26 &" "," ") | AF26: =CONCATENATE((IF(SUM([1]SAISIE!BU26:BW26)=0,"-",INDEX(B169:B171,MATCH(1,[1]SAISIE!BU26:BW26,0)))),(CONCATENATE(G26,H26,I26,J26,K26,L26,M26,N26,O26,P26,Q26,R26))) -> - | AG26: =IF(AF26=B169, F26 &" "," ") | AH26: =IF(AF26=B170,F26 & " "," ") | AI26: =IF(AF26=B171,F26 & " "," ") | AJ26: =CONCATENATE((IF(SUM([1]SAISIE!BX26:BY26)=0,"-",INDEX(B172:B173,MATCH(1,[1]SAISIE!BX26:BY26,0)))),(CONCATENATE(G26,H26,I26,J26,K26,L26,M26,N26,O26,P26,Q26,R26))) -> - | AK26: =IF(AJ26=B172,F26 &" "," ") | AL26: =IF(AJ26=B173,F26 & " "," ") | AN26: =CONCATENATE((IF([1]SAISIE!AG26=1,F26 & " " & "normal ","")),(IF([1]SAISIE!AH26=1,F26 & " " & "diab ","")),(IF([1]SAISIE!AI26=1,F26 & " " & "diab s sel ","")),(IF([1]SAISIE!AJ26=1, F26 & " " & "mixé ","")),(IF([1]SAISIE!AK26=1,F26 & " " & "sans sel ","")),(IF([1]SAISIE!AL26=1,F26 & " " & "sans graisse ","")),,(IF([1]SAISIE!AM26=1,F26 & " " & "sans gr s sel ",""))) | AO26: =CONCATENATE((IF([1]SAISIE!AN26=1,F26 & " " & "normal ","")),(IF([1]SAISIE!AO26=1,F26 & " " & "diab ","")),(IF([1]SAISIE!AP26=1,F26 & " " & "diab s sel ","")),(IF([1]SAISIE!AQ26=1,F26 & " " & "mixé ","")),(IF([1]SAISIE!AR26=1,F26 & " " & "sans sel ","")),(IF([1]SAISIE!AS26=1,F26 & " " & "sans graisse ","")),,(IF([1]SAISIE!AT26=1,F26 & " " & "sans gr s sel ","")),(IF([1]SAISIE!AU26=1,F26 & " " & "sans porc ","")))
B27: ='[1]Fiche d''informations'!B45 -> 20 | C27: ='[1]Fiche d''informations'!C45 -> 0 | D27: ='[1]Fiche d''informations'!D45 -> 0 | E27: ='[1]Fiche d''informations'!E45 -> Mme | F27: NOM 21 | G27: =IF([1]SAISIE!AA27=1,'Fiche Agt.Service'!G6,"") | H27: =IF([1]SAISIE!AB27=1,'Fiche Agt.Service'!H6,"") | I27: =IF([1]SAISIE!AC27=1,'Fiche Agt.Service'!I6,"") | J27: =IF([1]SAISIE!AD27=1,'Fiche Agt.Service'!J6,"") | K27: =IF([1]SAISIE!AE27=1,'Fiche Agt.Service'!K6,"") | L27: =IF([1]SAISIE!AF27=1,'Fiche Agt.Service'!L6,"") | M27: =IF([1]SAISIE!BH27=1,'Fiche Agt.Service'!M6,"") | N27: =IF([1]SAISIE!BI27=1,'Fiche Agt.Service'!N6,"") | O27: =IF([1]SAISIE!BJ27=1,'Fiche Agt.Service'!O6,"") | P27: =IF([1]SAISIE!BK27=1,'Fiche Agt.Service'!P6,"") | Q27: =IF([1]SAISIE!BL27=1,'Fiche Agt.Service'!Q6,"") | R27: =IF([1]SAISIE!BM27=1,'Fiche Agt.Service'!R6,"") | S27: =CONCATENATE(IF([1]SAISIE!J27=1,"salle"," "), IF([1]SAISIE!K27=1,"logement"," ")) | T27: =IF(S27="salle ", F27 & " " & G27 & H27 & I27 & J27 & K27 & L27 & " ","") | U27: =IF(S27=" logement", F27 & " " & M27 & N27 & O27 & P27 & Q27 & R27 & " ","") | V27: =CONCATENATE((IF(SUM([1]SAISIE!BN27:BP27)=0,"-",INDEX(B162:B164,MATCH(1,[1]SAISIE!BN27:BP27,0)))),(CONCATENATE(G27,H27,I27,J27,K27,L27,M27,N27,O27,P27,Q27,R27))) -> - | W27: =IF(V27=B162,F27 &" "," ") | X27: =IF(V27=B163, F27 & " "," ") | Y27: =IF(V27=B164, F27 & " "," ") | Z27: =CONCATENATE((IF(SUM([1]SAISIE!BQ27:BR27)=0,"-",INDEX(B165:B166,MATCH(1,[1]SAISIE!BQ27:BR27,0)))),(CONCATENATE(G27,H27,I27,J27,K27,L27,M27,N27,O27,P27,Q27,R27))) -> - | AA27: =IF(Z27=B165, F27 &" "," ") | AB27: =IF(Z27=B166,F27 &" "," ") | AC27: =CONCATENATE((IF(SUM([1]SAISIE!BS27:BT27)=0,"-",INDEX(B167:B168,MATCH(1,[1]SAISIE!BS27:BT27,0)))),(CONCATENATE(G27,H27,I27,J27,K27,L27,M27,N27,O27,P27,Q27,R27))) -> - | AD27: =IF(AC27=B167, F27 &" "," ") | AE27: =IF(AC27=B168,F27 &" "," ") | AF27: =CONCATENATE((IF(SUM([1]SAISIE!BU27:BW27)=0,"-",INDEX(B169:B171,MATCH(1,[1]SAISIE!BU27:BW27,0)))),(CONCATENATE(G27,H27,I27,J27,K27,L27,M27,N27,O27,P27,Q27,R27))) -> - | AG27: =IF(AF27=B169, F27 &" "," ") | AH27: =IF(AF27=B170,F27 & " "," ") | AI27: =IF(AF27=B171,F27 & " "," ") | AJ27: =CONCATENATE((IF(SUM([1]SAISIE!BX27:BY27)=0,"-",INDEX(B172:B173,MATCH(1,[1]SAISIE!BX27:BY27,0)))),(CONCATENATE(G27,H27,I27,J27,K27,L27,M27,N27,O27,P27,Q27,R27))) -> - | AK27: =IF(AJ27=B172,F27 &" "," ") | AL27: =IF(AJ27=B173,F27 & " "," ") | AN27: =CONCATENATE((IF([1]SAISIE!AG27=1,F27 & " " & "normal ","")),(IF([1]SAISIE!AH27=1,F27 & " " & "diab ","")),(IF([1]SAISIE!AI27=1,F27 & " " & "diab s sel ","")),(IF([1]SAISIE!AJ27=1, F27 & " " & "mixé ","")),(IF([1]SAISIE!AK27=1,F27 & " " & "sans sel ","")),(IF([1]SAISIE!AL27=1,F27 & " " & "sans graisse ","")),,(IF([1]SAISIE!AM27=1,F27 & " " & "sans gr s sel ",""))) | AO27: =CONCATENATE((IF([1]SAISIE!AN27=1,F27 & " " & "normal ","")),(IF([1]SAISIE!AO27=1,F27 & " " & "diab ","")),(IF([1]SAISIE!AP27=1,F27 & " " & "diab s sel ","")),(IF([1]SAISIE!AQ27=1,F27 & " " & "mixé ","")),(IF([1]SAISIE!AR27=1,F27 & " " & "sans sel ","")),(IF([1]SAISIE!AS27=1,F27 & " " & "sans graisse ","")),,(IF([1]SAISIE!AT27=1,F27 & " " & "sans gr s sel ","")),(IF([1]SAISIE!AU27=1,F27 & " " & "sans porc ","")))
B28: ='[1]Fiche d''informations'!B46 -> 21 | C28: ='[1]Fiche d''informations'!C46 -> 1 | D28: ='[1]Fiche d''informations'!D46 -> 12 | E28: ='[1]Fiche d''informations'!E46 -> Mr | F28: NOM 22 | G28: =IF([1]SAISIE!AA28=1,'Fiche Agt.Service'!G6,"") | H28: =IF([1]SAISIE!AB28=1,'Fiche Agt.Service'!H6,"") | I28: =IF([1]SAISIE!AC28=1,'Fiche Agt.Service'!I6,"") | J28: =IF([1]SAISIE!AD28=1,'Fiche Agt.Service'!J6,"") | K28: =IF([1]SAISIE!AE28=1,'Fiche Agt.Service'!K6,"") | L28: =IF([1]SAISIE!AF28=1,'Fiche Agt.Service'!L6,"") | M28: =IF([1]SAISIE!BH28=1,'Fiche Agt.Service'!M6,"") | N28: =IF([1]SAISIE!BI28=1,'Fiche Agt.Service'!N6,"") | O28: =IF([1]SAISIE!BJ28=1,'Fiche Agt.Service'!O6,"") | P28: =IF([1]SAISIE!BK28=1,'Fiche Agt.Service'!P6,"") | Q28: =IF([1]SAISIE!BL28=1,'Fiche Agt.Service'!Q6,"") | R28: =IF([1]SAISIE!BM28=1,'Fiche Agt.Service'!R6,"") | S28: =CONCATENATE(IF([1]SAISIE!J28=1,"salle"," "), IF([1]SAISIE!K28=1,"logement"," ")) -> salle | T28: =IF(S28="salle ", F28 & " " & G28 & H28 & I28 & J28 & K28 & L28 & " ","") -> NOM 22 | U28: =IF(S28=" logement", F28 & " " & M28 & N28 & O28 & P28 & Q28 & R28 & " ","") | V28: =CONCATENATE((IF(SUM([1]SAISIE!BN28:BP28)=0,"-",INDEX(B162:B164,MATCH(1,[1]SAISIE!BN28:BP28,0)))),(CONCATENATE(G28,H28,I28,J28,K28,L28,M28,N28,O28,P28,Q28,R28))) -> Friand au fromage | W28: =IF(V28=B162,F28 &" "," ") -> NOM 22 | X28: =IF(V28=B163, F28 & " "," ") | Y28: =IF(V28=B164, F28 & " "," ") | Z28: =CONCATENATE((IF(SUM([1]SAISIE!BQ28:BR28)=0,"-",INDEX(B165:B166,MATCH(1,[1]SAISIE!BQ28:BR28,0)))),(CONCATENATE(G28,H28,I28,J28,K28,L28,M28,N28,O28,P28,Q28,R28))) -> Nuggets de volaille | AA28: =IF(Z28=B165, F28 &" "," ") -> NOM 22 | AB28: =IF(Z28=B166,F28 &" "," ") | AC28: =CONCATENATE((IF(SUM([1]SAISIE!BS28:BT28)=0,"-",INDEX(B167:B168,MATCH(1,[1]SAISIE!BS28:BT28,0)))),(CONCATENATE(G28,H28,I28,J28,K28,L28,M28,N28,O28,P28,Q28,R28))) -> Pommes de terre persillées | AD28: =IF(AC28=B167, F28 &" "," ") | AE28: =IF(AC28=B168,F28 &" "," ") -> NOM 22 | AF28: =CONCATENATE((IF(SUM([1]SAISIE!BU28:BW28)=0,"-",INDEX(B169:B171,MATCH(1,[1]SAISIE!BU28:BW28,0)))),(CONCATENATE(G28,H28,I28,J28,K28,L28,M28,N28,O28,P28,Q28,R28))) -> Edam | AG28: =IF(AF28=B169, F28 &" "," ") -> NOM 22 | AH28: =IF(AF28=B170,F28 & " "," ") | AI28: =IF(AF28=B171,F28 & " "," ") | AJ28: =CONCATENATE((IF(SUM([1]SAISIE!BX28:BY28)=0,"-",INDEX(B172:B173,MATCH(1,[1]SAISIE!BX28:BY28,0)))),(CONCATENATE(G28,H28,I28,J28,K28,L28,M28,N28,O28,P28,Q28,R28))) -> Pêches au sirop | AK28: =IF(AJ28=B172,F28 &" "," ") | AL28: =IF(AJ28=B173,F28 & " "," ") -> NOM 22 | AN28: =CONCATENATE((IF([1]SAISIE!AG28=1,F28 & " " & "normal ","")),(IF([1]SAISIE!AH28=1,F28 & " " & "diab ","")),(IF([1]SAISIE!AI28=1,F28 & " " & "diab s sel ","")),(IF([1]SAISIE!AJ28=1, F28 & " " & "mixé ","")),(IF([1]SAISIE!AK28=1,F28 & " " & "sans sel ","")),(IF([1]SAISIE!AL28=1,F28 & " " & "sans graisse ","")),,(IF([1]SAISIE!AM28=1,F28 & " " & "sans gr s sel ",""))) -> NOM 22 normal | AO28: =CONCATENATE((IF([1]SAISIE!AN28=1,F28 & " " & "normal ","")),(IF([1]SAISIE!AO28=1,F28 & " " & "diab ","")),(IF([1]SAISIE!AP28=1,F28 & " " & "diab s sel ","")),(IF([1]SAISIE!AQ28=1,F28 & " " & "mixé ","")),(IF([1]SAISIE!AR28=1,F28 & " " & "sans sel ","")),(IF([1]SAISIE!AS28=1,F28 & " " & "sans graisse ","")),,(IF([1]SAISIE!AT28=1,F28 & " " & "sans gr s sel ","")),(IF([1]SAISIE!AU28=1,F28 & " " & "sans porc ","")))
B29: ='[1]Fiche d''informations'!B47 -> 22 | C29: ='[1]Fiche d''informations'!C47 -> 1 | D29: ='[1]Fiche d''informations'!D47 -> 0 | E29: ='[1]Fiche d''informations'!E47 -> Mr | F29: NOM 23 | G29: =IF([1]SAISIE!AA29=1,'Fiche Agt.Service'!G6,"") | H29: =IF([1]SAISIE!AB29=1,'Fiche Agt.Service'!H6,"") | I29: =IF([1]SAISIE!AC29=1,'Fiche Agt.Service'!I6,"") | J29: =IF([1]SAISIE!AD29=1,'Fiche Agt.Service'!J6,"") | K29: =IF([1]SAISIE!AE29=1,'Fiche Agt.Service'!K6,"") | L29: =IF([1]SAISIE!AF29=1,'Fiche Agt.Service'!L6,"") | M29: =IF([1]SAISIE!BH29=1,'Fiche Agt.Service'!M6,"") | N29: =IF([1]SAISIE!BI29=1,'Fiche Agt.Service'!N6,"") | O29: =IF([1]SAISIE!BJ29=1,'Fiche Agt.Service'!O6,"") | P29: =IF([1]SAISIE!BK29=1,'Fiche Agt.Service'!P6,"") | Q29: =IF([1]SAISIE!BL29=1,'Fiche Agt.Service'!Q6,"") | R29: =IF([1]SAISIE!BM29=1,'Fiche Agt.Service'!R6,"") | S29: =CONCATENATE(IF([1]SAISIE!J29=1,"salle"," "), IF([1]SAISIE!K29=1,"logement"," ")) | T29: =IF(S29="salle ", F29 & " " & G29 & H29 & I29 & J29 & K29 & L29 & " ","") | U29: =IF(S29=" logement", F29 & " " & M29 & N29 & O29 & P29 & Q29 & R29 & " ","") | V29: =CONCATENATE((IF(SUM([1]SAISIE!BN29:BP29)=0,"-",INDEX(B162:B164,MATCH(1,[1]SAISIE!BN29:BP29,0)))),(CONCATENATE(G29,H29,I29,J29,K29,L29,M29,N29,O29,P29,Q29,R29))) -> - | W29: =IF(V29=B162,F29 &" "," ") | X29: =IF(V29=B163, F29 & " "," ") | Y29: =IF(V29=B164, F29 & " "," ") | Z29: =CONCATENATE((IF(SUM([1]SAISIE!BQ29:BR29)=0,"-",INDEX(B165:B166,MATCH(1,[1]SAISIE!BQ29:BR29,0)))),(CONCATENATE(G29,H29,I29,J29,K29,L29,M29,N29,O29,P29,Q29,R29))) -> - | AA29: =IF(Z29=B165, F29 &" "," ") | AB29: =IF(Z29=B166,F29 &" "," ") | AC29: =CONCATENATE((IF(SUM([1]SAISIE!BS29:BT29)=0,"-",INDEX(B167:B168,MATCH(1,[1]SAISIE!BS29:BT29,0)))),(CONCATENATE(G29,H29,I29,J29,K29,L29,M29,N29,O29,P29,Q29,R29))) -> - | AD29: =IF(AC29=B167, F29 &" "," ") | AE29: =IF(AC29=B168,F29 &" "," ") | AF29: =CONCATENATE((IF(SUM([1]SAISIE!BU29:BW29)=0,"-",INDEX(B169:B171,MATCH(1,[1]SAISIE!BU29:BW29,0)))),(CONCATENATE(G29,H29,I29,J29,K29,L29,M29,N29,O29,P29,Q29,R29))) -> - | AG29: =IF(AF29=B169, F29 &" "," ") | AH29: =IF(AF29=B170,F29 & " "," ") | AI29: =IF(AF29=B171,F29 & " "," ") | AJ29: =CONCATENATE((IF(SUM([1]SAISIE!BX29:BY29)=0,"-",INDEX(B172:B173,MATCH(1,[1]SAISIE!BX29:BY29,0)))),(CONCATENATE(G29,H29,I29,J29,K29,L29,M29,N29,O29,P29,Q29,R29))) -> - | AK29: =IF(AJ29=B172,F29 &" "," ") | AL29: =IF(AJ29=B173,F29 & " "," ") | AN29: =CONCATENATE((IF([1]SAISIE!AG29=1,F29 & " " & "normal ","")),(IF([1]SAISIE!AH29=1,F29 & " " & "diab ","")),(IF([1]SAISIE!AI29=1,F29 & " " & "diab s sel ","")),(IF([1]SAISIE!AJ29=1, F29 & " " & "mixé ","")),(IF([1]SAISIE!AK29=1,F29 & " " & "sans sel ","")),(IF([1]SAISIE!AL29=1,F29 & " " & "sans graisse ","")),,(IF([1]SAISIE!AM29=1,F29 & " " & "sans gr s sel ",""))) -> NOM 23 normal | AO29: =CONCATENATE((IF([1]SAISIE!AN29=1,F29 & " " & "normal ","")),(IF([1]SAISIE!AO29=1,F29 & " " & "diab ","")),(IF([1]SAISIE!AP29=1,F29 & " " & "diab s sel ","")),(IF([1]SAISIE!AQ29=1,F29 & " " & "mixé ","")),(IF([1]SAISIE!AR29=1,F29 & " " & "sans sel ","")),(IF([1]SAISIE!AS29=1,F29 & " " & "sans graisse ","")),,(IF([1]SAISIE!AT29=1,F29 & " " & "sans gr s sel ","")),(IF([1]SAISIE!AU29=1,F29 & " " & "sans porc ","")))
B30: ='[1]Fiche d''informations'!B48 -> 24 | C30: ='[1]Fiche d''informations'!C48 -> 0 | D30: ='[1]Fiche d''informations'!D48 -> 0 | E30: ='[1]Fiche d''informations'!E48 -> Mr | F30: NOM 24 | G30: =IF([1]SAISIE!AA30=1,'Fiche Agt.Service'!G6,"") | H30: =IF([1]SAISIE!AB30=1,'Fiche Agt.Service'!H6,"") | I30: =IF([1]SAISIE!AC30=1,'Fiche Agt.Service'!I6,"") | J30: =IF([1]SAISIE!AD30=1,'Fiche Agt.Service'!J6,"") | K30: =IF([1]SAISIE!AE30=1,'Fiche Agt.Service'!K6,"") | L30: =IF([1]SAISIE!AF30=1,'Fiche Agt.Service'!L6,"") | M30: =IF([1]SAISIE!BH30=1,'Fiche Agt.Service'!M6,"") | N30: =IF([1]SAISIE!BI30=1,'Fiche Agt.Service'!N6,"") | O30: =IF([1]SAISIE!BJ30=1,'Fiche Agt.Service'!O6,"") | P30: =IF([1]SAISIE!BK30=1,'Fiche Agt.Service'!P6,"") | Q30: =IF([1]SAISIE!BL30=1,'Fiche Agt.Service'!Q6,"") | R30: =IF([1]SAISIE!BM30=1,'Fiche Agt.Service'!R6,"") | S30: =CONCATENATE(IF([1]SAISIE!J30=1,"salle"," "), IF([1]SAISIE!K30=1,"logement"," ")) | T30: =IF(S30="salle ", F30 & " " & G30 & H30 & I30 & J30 & K30 & L30 & " ","") | U30: =IF(S30=" logement", F30 & " " & M30 & N30 & O30 & P30 & Q30 & R30 & " ","") | V30: =CONCATENATE((IF(SUM([1]SAISIE!BN30:BP30)=0,"-",INDEX(B162:B164,MATCH(1,[1]SAISIE!BN30:BP30,0)))),(CONCATENATE(G30,H30,I30,J30,K30,L30,M30,N30,O30,P30,Q30,R30))) -> - | W30: =IF(V30=B162,F30 &" "," ") | X30: =IF(V30=B163, F30 & " "," ") | Y30: =IF(V30=B164, F30 & " "," ") | Z30: =CONCATENATE((IF(SUM([1]SAISIE!BQ30:BR30)=0,"-",INDEX(B165:B166,MATCH(1,[1]SAISIE!BQ30:BR30,0)))),(CONCATENATE(G30,H30,I30,J30,K30,L30,M30,N30,O30,P30,Q30,R30))) -> - | AA30: =IF(Z30=B165, F30 &" "," ") | AB30: =IF(Z30=B166,F30 &" "," ") | AC30: =CONCATENATE((IF(SUM([1]SAISIE!BS30:BT30)=0,"-",INDEX(B167:B168,MATCH(1,[1]SAISIE!BS30:BT30,0)))),(CONCATENATE(G30,H30,I30,J30,K30,L30,M30,N30,O30,P30,Q30,R30))) -> - | AD30: =IF(AC30=B167, F30 &" "," ") | AE30: =IF(AC30=B168,F30 &" "," ") | AF30: =CONCATENATE((IF(SUM([1]SAISIE!BU30:BW30)=0,"-",INDEX(B169:B171,MATCH(1,[1]SAISIE!BU30:BW30,0)))),(CONCATENATE(G30,H30,I30,J30,K30,L30,M30,N30,O30,P30,Q30,R30))) -> - | AG30: =IF(AF30=B169, F30 &" "," ") | AH30: =IF(AF30=B170,F30 & " "," ") | AI30: =IF(AF30=B171,F30 & " "," ") | AJ30: =CONCATENATE((IF(SUM([1]SAISIE!BX30:BY30)=0,"-",INDEX(B172:B173,MATCH(1,[1]SAISIE!BX30:BY30,0)))),(CONCATENATE(G30,H30,I30,J30,K30,L30,M30,N30,O30,P30,Q30,R30))) -> - | AK30: =IF(AJ30=B172,F30 &" "," ") | AL30: =IF(AJ30=B173,F30 & " "," ") | AN30: =CONCATENATE((IF([1]SAISIE!AG30=1,F30 & " " & "normal ","")),(IF([1]SAISIE!AH30=1,F30 & " " & "diab ","")),(IF([1]SAISIE!AI30=1,F30 & " " & "diab s sel ","")),(IF([1]SAISIE!AJ30=1, F30 & " " & "mixé ","")),(IF([1]SAISIE!AK30=1,F30 & " " & "sans sel ","")),(IF([1]SAISIE!AL30=1,F30 & " " & "sans graisse ","")),,(IF([1]SAISIE!AM30=1,F30 & " " & "sans gr s sel ",""))) | AO30: =CONCATENATE((IF([1]SAISIE!AN30=1,F30 & " " & "normal ","")),(IF([1]SAISIE!AO30=1,F30 & " " & "diab ","")),(IF([1]SAISIE!AP30=1,F30 & " " & "diab s sel ","")),(IF([1]SAISIE!AQ30=1,F30 & " " & "mixé ","")),(IF([1]SAISIE!AR30=1,F30 & " " & "sans sel ","")),(IF([1]SAISIE!AS30=1,F30 & " " & "sans graisse ","")),,(IF([1]SAISIE!AT30=1,F30 & " " & "sans gr s sel ","")),(IF([1]SAISIE!AU30=1,F30 & " " & "sans porc ","")))
B31: ='[1]Fiche d''informations'!B49 -> 25 | C31: ='[1]Fiche d''informations'!C49 -> 0 | D31: ='[1]Fiche d''informations'!D49 -> 0 | E31: ='[1]Fiche d''informations'!E49 -> Mr | F31: NOM 25 | G31: =IF([1]SAISIE!AA31=1,'Fiche Agt.Service'!G6,"") | H31: =IF([1]SAISIE!AB31=1,'Fiche Agt.Service'!H6,"") | I31: =IF([1]SAISIE!AC31=1,'Fiche Agt.Service'!I6,"") | J31: =IF([1]SAISIE!AD31=1,'Fiche Agt.Service'!J6,"") | K31: =IF([1]SAISIE!AE31=1,'Fiche Agt.Service'!K6,"") | L31: =IF([1]SAISIE!AF31=1,'Fiche Agt.Service'!L6,"") | M31: =IF([1]SAISIE!BH31=1,'Fiche Agt.Service'!M6,"") | N31: =IF([1]SAISIE!BI31=1,'Fiche Agt.Service'!N6,"") | O31: =IF([1]SAISIE!BJ31=1,'Fiche Agt.Service'!O6,"") | P31: =IF([1]SAISIE!BK31=1,'Fiche Agt.Service'!P6,"") | Q31: =IF([1]SAISIE!BL31=1,'Fiche Agt.Service'!Q6,"") | R31: =IF([1]SAISIE!BM31=1,'Fiche Agt.Service'!R6,"") | S31: =CONCATENATE(IF([1]SAISIE!J31=1,"salle"," "), IF([1]SAISIE!K31=1,"logement"," ")) | T31: =IF(S31="salle ", F31 & " " & G31 & H31 & I31 & J31 & K31 & L31 & " ","") | U31: =IF(S31=" logement", F31 & " " & M31 & N31 & O31 & P31 & Q31 & R31 & " ","") | V31: =CONCATENATE((IF(SUM([1]SAISIE!BN31:BP31)=0,"-",INDEX(B162:B164,MATCH(1,[1]SAISIE!BN31:BP31,0)))),(CONCATENATE(G31,H31,I31,J31,K31,L31,M31,N31,O31,P31,Q31,R31))) -> - | W31: =IF(V31=B162,F31 &" "," ") | X31: =IF(V31=B163, F31 & " "," ") | Y31: =IF(V31=B164, F31 & " "," ") | Z31: =CONCATENATE((IF(SUM([1]SAISIE!BQ31:BR31)=0,"-",INDEX(B165:B166,MATCH(1,[1]SAISIE!BQ31:BR31,0)))),(CONCATENATE(G31,H31,I31,J31,K31,L31,M31,N31,O31,P31,Q31,R31))) -> - | AA31: =IF(Z31=B165, F31 &" "," ") | AB31: =IF(Z31=B166,F31 &" "," ") | AC31: =CONCATENATE((IF(SUM([1]SAISIE!BS31:BT31)=0,"-",INDEX(B167:B168,MATCH(1,[1]SAISIE!BS31:BT31,0)))),(CONCATENATE(G31,H31,I31,J31,K31,L31,M31,N31,O31,P31,Q31,R31))) -> - | AD31: =IF(AC31=B167, F31 &" "," ") | AE31: =IF(AC31=B168,F31 &" "," ") | AF31: =CONCATENATE((IF(SUM([1]SAISIE!BU31:BW31)=0,"-",INDEX(B169:B171,MATCH(1,[1]SAISIE!BU31:BW31,0)))),(CONCATENATE(G31,H31,I31,J31,K31,L31,M31,N31,O31,P31,Q31,R31))) -> - | AG31: =IF(AF31=B169, F31 &" "," ") | AH31: =IF(AF31=B170,F31 & " "," ") | AI31: =IF(AF31=B171,F31 & " "," ") | AJ31: =CONCATENATE((IF(SUM([1]SAISIE!BX31:BY31)=0,"-",INDEX(B172:B173,MATCH(1,[1]SAISIE!BX31:BY31,0)))),(CONCATENATE(G31,H31,I31,J31,K31,L31,M31,N31,O31,P31,Q31,R31))) -> - | AK31: =IF(AJ31=B172,F31 &" "," ") | AL31: =IF(AJ31=B173,F31 & " "," ") | AN31: =CONCATENATE((IF([1]SAISIE!AG31=1,F31 & " " & "normal ","")),(IF([1]SAISIE!AH31=1,F31 & " " & "diab ","")),(IF([1]SAISIE!AI31=1,F31 & " " & "diab s sel ","")),(IF([1]SAISIE!AJ31=1, F31 & " " & "mixé ","")),(IF([1]SAISIE!AK31=1,F31 & " " & "sans sel ","")),(IF([1]SAISIE!AL31=1,F31 & " " & "sans graisse ","")),,(IF([1]SAISIE!AM31=1,F31 & " " & "sans gr s sel ",""))) | AO31: =CONCATENATE((IF([1]SAISIE!AN31=1,F31 & " " & "normal ","")),(IF([1]SAISIE!AO31=1,F31 & " " & "diab ","")),(IF([1]SAISIE!AP31=1,F31 & " " & "diab s sel ","")),(IF([1]SAISIE!AQ31=1,F31 & " " & "mixé ","")),(IF([1]SAISIE!AR31=1,F31 & " " & "sans sel ","")),(IF([1]SAISIE!AS31=1,F31 & " " & "sans graisse ","")),,(IF([1]SAISIE!AT31=1,F31 & " " & "sans gr s sel ","")),(IF([1]SAISIE!AU31=1,F31 & " " & "sans porc ","")))
B32: ='[1]Fiche d''informations'!B50 -> 26 | C32: ='[1]Fiche d''informations'!C50 -> 0 | D32: ='[1]Fiche d''informations'!D50 -> 0 | E32: ='[1]Fiche d''informations'!E50 -> Mme | F32: NOM 26 | G32: =IF([1]SAISIE!AA32=1,'Fiche Agt.Service'!G6,"") | H32: =IF([1]SAISIE!AB32=1,'Fiche Agt.Service'!H6,"") | I32: =IF([1]SAISIE!AC32=1,'Fiche Agt.Service'!I6,"") | J32: =IF([1]SAISIE!AD32=1,'Fiche Agt.Service'!J6,"") | K32: =IF([1]SAISIE!AE32=1,'Fiche Agt.Service'!K6,"") | L32: =IF([1]SAISIE!AF32=1,'Fiche Agt.Service'!L6,"") | M32: =IF([1]SAISIE!BH32=1,'Fiche Agt.Service'!M6,"") | N32: =IF([1]SAISIE!BI32=1,'Fiche Agt.Service'!N6,"") | O32: =IF([1]SAISIE!BJ32=1,'Fiche Agt.Service'!O6,"") | P32: =IF([1]SAISIE!BK32=1,'Fiche Agt.Service'!P6,"") | Q32: =IF([1]SAISIE!BL32=1,'Fiche Agt.Service'!Q6,"") | R32: =IF([1]SAISIE!BM32=1,'Fiche Agt.Service'!R6,"") | S32: =CONCATENATE(IF([1]SAISIE!J32=1,"salle"," "), IF([1]SAISIE!K32=1,"logement"," ")) | T32: =IF(S32="salle ", F32 & " " & G32 & H32 & I32 & J32 & K32 & L32 & " ","") | U32: =IF(S32=" logement", F32 & " " & M32 & N32 & O32 & P32 & Q32 & R32 & " ","") | V32: =CONCATENATE((IF(SUM([1]SAISIE!BN32:BP32)=0,"-",INDEX(B162:B164,MATCH(1,[1]SAISIE!BN32:BP32,0)))),(CONCATENATE(G32,H32,I32,J32,K32,L32,M32,N32,O32,P32,Q32,R32))) -> - | W32: =IF(V32=B162,F32 &" "," ") | X32: =IF(V32=B163, F32 & " "," ") | Y32: =IF(V32=B164, F32 & " "," ") | Z32: =CONCATENATE((IF(SUM([1]SAISIE!BQ32:BR32)=0,"-",INDEX(B165:B166,MATCH(1,[1]SAISIE!BQ32:BR32,0)))),(CONCATENATE(G32,H32,I32,J32,K32,L32,M32,N32,O32,P32,Q32,R32))) -> - | AA32: =IF(Z32=B165, F32 &" "," ") | AB32: =IF(Z32=B166,F32 &" "," ") | AC32: =CONCATENATE((IF(SUM([1]SAISIE!BS32:BT32)=0,"-",INDEX(B167:B168,MATCH(1,[1]SAISIE!BS32:BT32,0)))),(CONCATENATE(G32,H32,I32,J32,K32,L32,M32,N32,O32,P32,Q32,R32))) -> - | AD32: =IF(AC32=B167, F32 &" "," ") | AE32: =IF(AC32=B168,F32 &" "," ") | AF32: =CONCATENATE((IF(SUM([1]SAISIE!BU32:BW32)=0,"-",INDEX(B169:B171,MATCH(1,[1]SAISIE!BU32:BW32,0)))),(CONCATENATE(G32,H32,I32,J32,K32,L32,M32,N32,O32,P32,Q32,R32))) -> - | AG32: =IF(AF32=B169, F32 &" "," ") | AH32: =IF(AF32=B170,F32 & " "," ") | AI32: =IF(AF32=B171,F32 & " "," ") | AJ32: =CONCATENATE((IF(SUM([1]SAISIE!BX32:BY32)=0,"-",INDEX(B172:B173,MATCH(1,[1]SAISIE!BX32:BY32,0)))),(CONCATENATE(G32,H32,I32,J32,K32,L32,M32,N32,O32,P32,Q32,R32))) -> - | AK32: =IF(AJ32=B172,F32 &" "," ") | AL32: =IF(AJ32=B173,F32 & " "," ") | AN32: =CONCATENATE((IF([1]SAISIE!AG32=1,F32 & " " & "normal ","")),(IF([1]SAISIE!AH32=1,F32 & " " & "diab ","")),(IF([1]SAISIE!AI32=1,F32 & " " & "diab s sel ","")),(IF([1]SAISIE!AJ32=1, F32 & " " & "mixé ","")),(IF([1]SAISIE!AK32=1,F32 & " " & "sans sel ","")),(IF([1]SAISIE!AL32=1,F32 & " " & "sans graisse ","")),,(IF([1]SAISIE!AM32=1,F32 & " " & "sans gr s sel ",""))) | AO32: =CONCATENATE((IF([1]SAISIE!AN32=1,F32 & " " & "normal ","")),(IF([1]SAISIE!AO32=1,F32 & " " & "diab ","")),(IF([1]SAISIE!AP32=1,F32 & " " & "diab s sel ","")),(IF([1]SAISIE!AQ32=1,F32 & " " & "mixé ","")),(IF([1]SAISIE!AR32=1,F32 & " " & "sans sel ","")),(IF([1]SAISIE!AS32=1,F32 & " " & "sans graisse ","")),,(IF([1]SAISIE!AT32=1,F32 & " " & "sans gr s sel ","")),(IF([1]SAISIE!AU32=1,F32 & " " & "sans porc ","")))
B33: ='[1]Fiche d''informations'!B51 -> 27 | C33: ='[1]Fiche d''informations'!C51 -> 1 | D33: ='[1]Fiche d''informations'!D51 -> 7 | E33: ='[1]Fiche d''informations'!E51 -> Mme | F33: NOM 27 | G33: =IF([1]SAISIE!AA33=1,'Fiche Agt.Service'!G6,"") | H33: =IF([1]SAISIE!AB33=1,'Fiche Agt.Service'!H6,"") | I33: =IF([1]SAISIE!AC33=1,'Fiche Agt.Service'!I6,"") | J33: =IF([1]SAISIE!AD33=1,'Fiche Agt.Service'!J6,"") | K33: =IF([1]SAISIE!AE33=1,'Fiche Agt.Service'!K6,"") | L33: =IF([1]SAISIE!AF33=1,'Fiche Agt.Service'!L6,"") | M33: =IF([1]SAISIE!BH33=1,'Fiche Agt.Service'!M6,"") | N33: =IF([1]SAISIE!BI33=1,'Fiche Agt.Service'!N6,"") | O33: =IF([1]SAISIE!BJ33=1,'Fiche Agt.Service'!O6,"") | P33: =IF([1]SAISIE!BK33=1,'Fiche Agt.Service'!P6,"") | Q33: =IF([1]SAISIE!BL33=1,'Fiche Agt.Service'!Q6,"") | R33: =IF([1]SAISIE!BM33=1,'Fiche Agt.Service'!R6,"") | S33: =CONCATENATE(IF([1]SAISIE!J33=1,"salle"," "), IF([1]SAISIE!K33=1,"logement"," ")) | T33: =IF(S33="salle ", F33 & " " & G33 & H33 & I33 & J33 & K33 & L33 & " ","") | U33: =IF(S33=" logement", F33 & " " & M33 & N33 & O33 & P33 & Q33 & R33 & " ","") | V33: =CONCATENATE((IF(SUM([1]SAISIE!BN33:BP33)=0,"-",INDEX(B162:B164,MATCH(1,[1]SAISIE!BN33:BP33,0)))),(CONCATENATE(G33,H33,I33,J33,K33,L33,M33,N33,O33,P33,Q33,R33))) -> - | W33: =IF(V33=B162,F33 &" "," ") | X33: =IF(V33=B163, F33 & " "," ") | Y33: =IF(V33=B164, F33 & " "," ") | Z33: =CONCATENATE((IF(SUM([1]SAISIE!BQ33:BR33)=0,"-",INDEX(B165:B166,MATCH(1,[1]SAISIE!BQ33:BR33,0)))),(CONCATENATE(G33,H33,I33,J33,K33,L33,M33,N33,O33,P33,Q33,R33))) -> - | AA33: =IF(Z33=B165, F33 &" "," ") | AB33: =IF(Z33=B166,F33 &" "," ") | AC33: =CONCATENATE((IF(SUM([1]SAISIE!BS33:BT33)=0,"-",INDEX(B167:B168,MATCH(1,[1]SAISIE!BS33:BT33,0)))),(CONCATENATE(G33,H33,I33,J33,K33,L33,M33,N33,O33,P33,Q33,R33))) -> - | AD33: =IF(AC33=B167, F33 &" "," ") | AE33: =IF(AC33=B168,F33 &" "," ") | AF33: =CONCATENATE((IF(SUM([1]SAISIE!BU33:BW33)=0,"-",INDEX(B169:B171,MATCH(1,[1]SAISIE!BU33:BW33,0)))),(CONCATENATE(G33,H33,I33,J33,K33,L33,M33,N33,O33,P33,Q33,R33))) -> - | AG33: =IF(AF33=B169, F33 &" "," ") | AH33: =IF(AF33=B170,F33 & " "," ") | AI33: =IF(AF33=B171,F33 & " "," ") | AJ33: =CONCATENATE((IF(SUM([1]SAISIE!BX33:BY33)=0,"-",INDEX(B172:B173,MATCH(1,[1]SAISIE!BX33:BY33,0)))),(CONCATENATE(G33,H33,I33,J33,K33,L33,M33,N33,O33,P33,Q33,R33))) -> - | AK33: =IF(AJ33=B172,F33 &" "," ") | AL33: =IF(AJ33=B173,F33 & " "," ") | AN33: =CONCATENATE((IF([1]SAISIE!AG33=1,F33 & " " & "normal ","")),(IF([1]SAISIE!AH33=1,F33 & " " & "diab ","")),(IF([1]SAISIE!AI33=1,F33 & " " & "diab s sel ","")),(IF([1]SAISIE!AJ33=1, F33 & " " & "mixé ","")),(IF([1]SAISIE!AK33=1,F33 & " " & "sans sel ","")),(IF([1]SAISIE!AL33=1,F33 & " " & "sans graisse ","")),,(IF([1]SAISIE!AM33=1,F33 & " " & "sans gr s sel ",""))) | AO33: =CONCATENATE((IF([1]SAISIE!AN33=1,F33 & " " & "normal ","")),(IF([1]SAISIE!AO33=1,F33 & " " & "diab ","")),(IF([1]SAISIE!AP33=1,F33 & " " & "diab s sel ","")),(IF([1]SAISIE!AQ33=1,F33 & " " & "mixé ","")),(IF([1]SAISIE!AR33=1,F33 & " " & "sans sel ","")),(IF([1]SAISIE!AS33=1,F33 & " " & "sans graisse ","")),,(IF([1]SAISIE!AT33=1,F33 & " " & "sans gr s sel ","")),(IF([1]SAISIE!AU33=1,F33 & " " & "sans porc ","")))
B34: ='[1]Fiche d''informations'!B52 -> 28 | C34: ='[1]Fiche d''informations'!C52 -> 1 | D34: ='[1]Fiche d''informations'!D52 -> 3 | E34: ='[1]Fiche d''informations'!E52 -> Mme | F34: NOM 28 | G34: =IF([1]SAISIE!AA34=1,'Fiche Agt.Service'!G6,"") | H34: =IF([1]SAISIE!AB34=1,'Fiche Agt.Service'!H6,"") | I34: =IF([1]SAISIE!AC34=1,'Fiche Agt.Service'!I6,"") | J34: =IF([1]SAISIE!AD34=1,'Fiche Agt.Service'!J6,"") | K34: =IF([1]SAISIE!AE34=1,'Fiche Agt.Service'!K6,"") | L34: =IF([1]SAISIE!AF34=1,'Fiche Agt.Service'!L6,"") | M34: =IF([1]SAISIE!BH34=1,'Fiche Agt.Service'!M6,"") | N34: =IF([1]SAISIE!BI34=1,'Fiche Agt.Service'!N6,"") | O34: =IF([1]SAISIE!BJ34=1,'Fiche Agt.Service'!O6,"") | P34: =IF([1]SAISIE!BK34=1,'Fiche Agt.Service'!P6,"") | Q34: =IF([1]SAISIE!BL34=1,'Fiche Agt.Service'!Q6,"") | R34: =IF([1]SAISIE!BM34=1,'Fiche Agt.Service'!R6,"") | S34: =CONCATENATE(IF([1]SAISIE!J34=1,"salle"," "), IF([1]SAISIE!K34=1,"logement"," ")) | T34: =IF(S34="salle ", F34 & " " & G34 & H34 & I34 & J34 & K34 & L34 & " ","") | U34: =IF(S34=" logement", F34 & " " & M34 & N34 & O34 & P34 & Q34 & R34 & " ","") | V34: =CONCATENATE((IF(SUM([1]SAISIE!BN34:BP34)=0,"-",INDEX(B162:B164,MATCH(1,[1]SAISIE!BN34:BP34,0)))),(CONCATENATE(G34,H34,I34,J34,K34,L34,M34,N34,O34,P34,Q34,R34))) -> - | W34: =IF(V34=B162,F34 &" "," ") | X34: =IF(V34=B163, F34 & " "," ") | Y34: =IF(V34=B164, F34 & " "," ") | Z34: =CONCATENATE((IF(SUM([1]SAISIE!BQ34:BR34)=0,"-",INDEX(B165:B166,MATCH(1,[1]SAISIE!BQ34:BR34,0)))),(CONCATENATE(G34,H34,I34,J34,K34,L34,M34,N34,O34,P34,Q34,R34))) -> - | AA34: =IF(Z34=B165, F34 &" "," ") | AB34: =IF(Z34=B166,F34 &" "," ") | AC34: =CONCATENATE((IF(SUM([1]SAISIE!BS34:BT34)=0,"-",INDEX(B167:B168,MATCH(1,[1]SAISIE!BS34:BT34,0)))),(CONCATENATE(G34,H34,I34,J34,K34,L34,M34,N34,O34,P34,Q34,R34))) -> - | AD34: =IF(AC34=B167, F34 &" "," ") | AE34: =IF(AC34=B168,F34 &" "," ") | AF34: =CONCATENATE((IF(SUM([1]SAISIE!BU34:BW34)=0,"-",INDEX(B169:B171,MATCH(1,[1]SAISIE!BU34:BW34,0)))),(CONCATENATE(G34,H34,I34,J34,K34,L34,M34,N34,O34,P34,Q34,R34))) -> - | AG34: =IF(AF34=B169, F34 &" "," ") | AH34: =IF(AF34=B170,F34 & " "," ") | AI34: =IF(AF34=B171,F34 & " "," ") | AJ34: =CONCATENATE((IF(SUM([1]SAISIE!BX34:BY34)=0,"-",INDEX(B172:B173,MATCH(1,[1]SAISIE!BX34:BY34,0)))),(CONCATENATE(G34,H34,I34,J34,K34,L34,M34,N34,O34,P34,Q34,R34))) -> - | AK34: =IF(AJ34=B172,F34 &" "," ") | AL34: =IF(AJ34=B173,F34 & " "," ") | AN34: =CONCATENATE((IF([1]SAISIE!AG34=1,F34 & " " & "normal ","")),(IF([1]SAISIE!AH34=1,F34 & " " & "diab ","")),(IF([1]SAISIE!AI34=1,F34 & " " & "diab s sel ","")),(IF([1]SAISIE!AJ34=1, F34 & " " & "mixé ","")),(IF([1]SAISIE!AK34=1,F34 & " " & "sans sel ","")),(IF([1]SAISIE!AL34=1,F34 & " " & "sans graisse ","")),,(IF([1]SAISIE!AM34=1,F34 & " " & "sans gr s sel ",""))) | AO34: =CONCATENATE((IF([1]SAISIE!AN34=1,F34 & " " & "normal ","")),(IF([1]SAISIE!AO34=1,F34 & " " & "diab ","")),(IF([1]SAISIE!AP34=1,F34 & " " & "diab s sel ","")),(IF([1]SAISIE!AQ34=1,F34 & " " & "mixé ","")),(IF([1]SAISIE!AR34=1,F34 & " " & "sans sel ","")),(IF([1]SAISIE!AS34=1,F34 & " " & "sans graisse ","")),,(IF([1]SAISIE!AT34=1,F34 & " " & "sans gr s sel ","")),(IF([1]SAISIE!AU34=1,F34 & " " & "sans porc ","")))
B35: ='[1]Fiche d''informations'!B53 -> 29 | C35: ='[1]Fiche d''informations'!C53 -> 0 | D35: ='[1]Fiche d''informations'!D53 -> 0 | E35: ='[1]Fiche d''informations'!E53 -> Mme | F35: NOM 29 | G35: =IF([1]SAISIE!AA35=1,'Fiche Agt.Service'!G6,"") | H35: =IF([1]SAISIE!AB35=1,'Fiche Agt.Service'!H6,"") | I35: =IF([1]SAISIE!AC35=1,'Fiche Agt.Service'!I6,"") | J35: =IF([1]SAISIE!AD35=1,'Fiche Agt.Service'!J6,"") | K35: =IF([1]SAISIE!AE35=1,'Fiche Agt.Service'!K6,"") | L35: =IF([1]SAISIE!AF35=1,'Fiche Agt.Service'!L6,"") | M35: =IF([1]SAISIE!BH35=1,'Fiche Agt.Service'!M6,"") | N35: =IF([1]SAISIE!BI35=1,'Fiche Agt.Service'!N6,"") | O35: =IF([1]SAISIE!BJ35=1,'Fiche Agt.Service'!O6,"") | P35: =IF([1]SAISIE!BK35=1,'Fiche Agt.Service'!P6,"") | Q35: =IF([1]SAISIE!BL35=1,'Fiche Agt.Service'!Q6,"") | R35: =IF([1]SAISIE!BM35=1,'Fiche Agt.Service'!R6,"") | S35: =CONCATENATE(IF([1]SAISIE!J35=1,"salle"," "), IF([1]SAISIE!K35=1,"logement"," ")) | T35: =IF(S35="salle ", F35 & " " & G35 & H35 & I35 & J35 & K35 & L35 & " ","") | U35: =IF(S35=" logement", F35 & " " & M35 & N35 & O35 & P35 & Q35 & R35 & " ","") | V35: =CONCATENATE((IF(SUM([1]SAISIE!BN35:BP35)=0,"-",INDEX(B162:B164,MATCH(1,[1]SAISIE!BN35:BP35,0)))),(CONCATENATE(G35,H35,I35,J35,K35,L35,M35,N35,O35,P35,Q35,R35))) -> - | W35: =IF(V35=B162,F35 &" "," ") | X35: =IF(V35=B163, F35 & " "," ") | Y35: =IF(V35=B164, F35 & " "," ") | Z35: =CONCATENATE((IF(SUM([1]SAISIE!BQ35:BR35)=0,"-",INDEX(B165:B166,MATCH(1,[1]SAISIE!BQ35:BR35,0)))),(CONCATENATE(G35,H35,I35,J35,K35,L35,M35,N35,O35,P35,Q35,R35))) -> - | AA35: =IF(Z35=B165, F35 &" "," ") | AB35: =IF(Z35=B166,F35 &" "," ") | AC35: =CONCATENATE((IF(SUM([1]SAISIE!BS35:BT35)=0,"-",INDEX(B167:B168,MATCH(1,[1]SAISIE!BS35:BT35,0)))),(CONCATENATE(G35,H35,I35,J35,K35,L35,M35,N35,O35,P35,Q35,R35))) -> - | AD35: =IF(AC35=B167, F35 &" "," ") | AE35: =IF(AC35=B168,F35 &" "," ") | AF35: =CONCATENATE((IF(SUM([1]SAISIE!BU35:BW35)=0,"-",INDEX(B169:B171,MATCH(1,[1]SAISIE!BU35:BW35,0)))),(CONCATENATE(G35,H35,I35,J35,K35,L35,M35,N35,O35,P35,Q35,R35))) -> - | AG35: =IF(AF35=B169, F35 &" "," ") | AH35: =IF(AF35=B170,F35 & " "," ") | AI35: =IF(AF35=B171,F35 & " "," ") | AJ35: =CONCATENATE((IF(SUM([1]SAISIE!BX35:BY35)=0,"-",INDEX(B172:B173,MATCH(1,[1]SAISIE!BX35:BY35,0)))),(CONCATENATE(G35,H35,I35,J35,K35,L35,M35,N35,O35,P35,Q35,R35))) -> - | AK35: =IF(AJ35=B172,F35 &" "," ") | AL35: =IF(AJ35=B173,F35 & " "," ") | AN35: =CONCATENATE((IF([1]SAISIE!AG35=1,F35 & " " & "normal ","")),(IF([1]SAISIE!AH35=1,F35 & " " & "diab ","")),(IF([1]SAISIE!AI35=1,F35 & " " & "diab s sel ","")),(IF([1]SAISIE!AJ35=1, F35 & " " & "mixé ","")),(IF([1]SAISIE!AK35=1,F35 & " " & "sans sel ","")),(IF([1]SAISIE!AL35=1,F35 & " " & "sans graisse ","")),,(IF([1]SAISIE!AM35=1,F35 & " " & "sans gr s sel ",""))) | AO35: =CONCATENATE((IF([1]SAISIE!AN35=1,F35 & " " & "normal ","")),(IF([1]SAISIE!AO35=1,F35 & " " & "diab ","")),(IF([1]SAISIE!AP35=1,F35 & " " & "diab s sel ","")),(IF([1]SAISIE!AQ35=1,F35 & " " & "mixé ","")),(IF([1]SAISIE!AR35=1,F35 & " " & "sans sel ","")),(IF([1]SAISIE!AS35=1,F35 & " " & "sans graisse ","")),,(IF([1]SAISIE!AT35=1,F35 & " " & "sans gr s sel ","")),(IF([1]SAISIE!AU35=1,F35 & " " & "sans porc ","")))
B36: ='[1]Fiche d''informations'!B54 -> 30 | C36: ='[1]Fiche d''informations'!C54 -> 1 | D36: ='[1]Fiche d''informations'!D54 -> 8 | E36: ='[1]Fiche d''informations'!E54 -> Mme | F36: NOM 30 | G36: =IF([1]SAISIE!AA36=1,'Fiche Agt.Service'!G6,"") | H36: =IF([1]SAISIE!AB36=1,'Fiche Agt.Service'!H6,"") | I36: =IF([1]SAISIE!AC36=1,'Fiche Agt.Service'!I6,"") | J36: =IF([1]SAISIE!AD36=1,'Fiche Agt.Service'!J6,"") | K36: =IF([1]SAISIE!AE36=1,'Fiche Agt.Service'!K6,"") | L36: =IF([1]SAISIE!AF36=1,'Fiche Agt.Service'!L6,"") | M36: =IF([1]SAISIE!BH36=1,'Fiche Agt.Service'!M6,"") | N36: =IF([1]SAISIE!BI36=1,'Fiche Agt.Service'!N6,"") | O36: =IF([1]SAISIE!BJ36=1,'Fiche Agt.Service'!O6,"") | P36: =IF([1]SAISIE!BK36=1,'Fiche Agt.Service'!P6,"") | Q36: =IF([1]SAISIE!BL36=1,'Fiche Agt.Service'!Q6,"") | R36: =IF([1]SAISIE!BM36=1,'Fiche Agt.Service'!R6,"") | S36: =CONCATENATE(IF([1]SAISIE!J36=1,"salle"," "), IF([1]SAISIE!K36=1,"logement"," ")) | T36: =IF(S36="salle ", F36 & " " & G36 & H36 & I36 & J36 & K36 & L36 & " ","") | U36: =IF(S36=" logement", F36 & " " & M36 & N36 & O36 & P36 & Q36 & R36 & " ","") | V36: =CONCATENATE((IF(SUM([1]SAISIE!BN36:BP36)=0,"-",INDEX(B162:B164,MATCH(1,[1]SAISIE!BN36:BP36,0)))),(CONCATENATE(G36,H36,I36,J36,K36,L36,M36,N36,O36,P36,Q36,R36))) -> - | W36: =IF(V36=B162,F36 &" "," ") | X36: =IF(V36=B163, F36 & " "," ") | Y36: =IF(V36=B164, F36 & " "," ") | Z36: =CONCATENATE((IF(SUM([1]SAISIE!BQ36:BR36)=0,"-",INDEX(B165:B166,MATCH(1,[1]SAISIE!BQ36:BR36,0)))),(CONCATENATE(G36,H36,I36,J36,K36,L36,M36,N36,O36,P36,Q36,R36))) -> - | AA36: =IF(Z36=B165, F36 &" "," ") | AB36: =IF(Z36=B166,F36 &" "," ") | AC36: =CONCATENATE((IF(SUM([1]SAISIE!BS36:BT36)=0,"-",INDEX(B167:B168,MATCH(1,[1]SAISIE!BS36:BT36,0)))),(CONCATENATE(G36,H36,I36,J36,K36,L36,M36,N36,O36,P36,Q36,R36))) -> - | AD36: =IF(AC36=B167, F36 &" "," ") | AE36: =IF(AC36=B168,F36 &" "," ") | AF36: =CONCATENATE((IF(SUM([1]SAISIE!BU36:BW36)=0,"-",INDEX(B169:B171,MATCH(1,[1]SAISIE!BU36:BW36,0)))),(CONCATENATE(G36,H36,I36,J36,K36,L36,M36,N36,O36,P36,Q36,R36))) -> - | AG36: =IF(AF36=B169, F36 &" "," ") | AH36: =IF(AF36=B170,F36 & " "," ") | AI36: =IF(AF36=B171,F36 & " "," ") | AJ36: =CONCATENATE((IF(SUM([1]SAISIE!BX36:BY36)=0,"-",INDEX(B172:B173,MATCH(1,[1]SAISIE!BX36:BY36,0)))),(CONCATENATE(G36,H36,I36,J36,K36,L36,M36,N36,O36,P36,Q36,R36))) -> - | AK36: =IF(AJ36=B172,F36 &" "," ") | AL36: =IF(AJ36=B173,F36 & " "," ") | AN36: =CONCATENATE((IF([1]SAISIE!AG36=1,F36 & " " & "normal ","")),(IF([1]SAISIE!AH36=1,F36 & " " & "diab ","")),(IF([1]SAISIE!AI36=1,F36 & " " & "diab s sel ","")),(IF([1]SAISIE!AJ36=1, F36 & " " & "mixé ","")),(IF([1]SAISIE!AK36=1,F36 & " " & "sans sel ","")),(IF([1]SAISIE!AL36=1,F36 & " " & "sans graisse ","")),,(IF([1]SAISIE!AM36=1,F36 & " " & "sans gr s sel ",""))) | AO36: =CONCATENATE((IF([1]SAISIE!AN36=1,F36 & " " & "normal ","")),(IF([1]SAISIE!AO36=1,F36 & " " & "diab ","")),(IF([1]SAISIE!AP36=1,F36 & " " & "diab s sel ","")),(IF([1]SAISIE!AQ36=1,F36 & " " & "mixé ","")),(IF([1]SAISIE!AR36=1,F36 & " " & "sans sel ","")),(IF([1]SAISIE!AS36=1,F36 & " " & "sans graisse ","")),,(IF([1]SAISIE!AT36=1,F36 & " " & "sans gr s sel ","")),(IF([1]SAISIE!AU36=1,F36 & " " & "sans porc ","")))
B37: ='[1]Fiche d''informations'!B55 -> 31 | C37: ='[1]Fiche d''informations'!C55 -> 1 | D37: ='[1]Fiche d''informations'!D55 -> 6 | E37: ='[1]Fiche d''informations'!E55 -> Mr | F37: NOM 31 | G37: =IF([1]SAISIE!AA37=1,'Fiche Agt.Service'!G6,"") | H37: =IF([1]SAISIE!AB37=1,'Fiche Agt.Service'!H6,"") | I37: =IF([1]SAISIE!AC37=1,'Fiche Agt.Service'!I6,"") | J37: =IF([1]SAISIE!AD37=1,'Fiche Agt.Service'!J6,"") | K37: =IF([1]SAISIE!AE37=1,'Fiche Agt.Service'!K6,"") | L37: =IF([1]SAISIE!AF37=1,'Fiche Agt.Service'!L6,"") | M37: =IF([1]SAISIE!BH37=1,'Fiche Agt.Service'!M6,"") | N37: =IF([1]SAISIE!BI37=1,'Fiche Agt.Service'!N6,"") | O37: =IF([1]SAISIE!BJ37=1,'Fiche Agt.Service'!O6,"") | P37: =IF([1]SAISIE!BK37=1,'Fiche Agt.Service'!P6,"") | Q37: =IF([1]SAISIE!BL37=1,'Fiche Agt.Service'!Q6,"") | R37: =IF([1]SAISIE!BM37=1,'Fiche Agt.Service'!R6,"") | S37: =CONCATENATE(IF([1]SAISIE!J37=1,"salle"," "), IF([1]SAISIE!K37=1,"logement"," ")) -> salle | T37: =IF(S37="salle ", F37 & " " & G37 & H37 & I37 & J37 & K37 & L37 & " ","") -> NOM 31 | U37: =IF(S37=" logement", F37 & " " & M37 & N37 & O37 & P37 & Q37 & R37 & " ","") | V37: =CONCATENATE((IF(SUM([1]SAISIE!BN37:BP37)=0,"-",INDEX(B162:B164,MATCH(1,[1]SAISIE!BN37:BP37,0)))),(CONCATENATE(G37,H37,I37,J37,K37,L37,M37,N37,O37,P37,Q37,R37))) -> Friand au fromage | W37: =IF(V37=B162,F37 &" "," ") -> NOM 31 | X37: =IF(V37=B163, F37 & " "," ") | Y37: =IF(V37=B164, F37 & " "," ") | Z37: =CONCATENATE((IF(SUM([1]SAISIE!BQ37:BR37)=0,"-",INDEX(B165:B166,MATCH(1,[1]SAISIE!BQ37:BR37,0)))),(CONCATENATE(G37,H37,I37,J37,K37,L37,M37,N37,O37,P37,Q37,R37))) -> Dés de colin sauce curry | AA37: =IF(Z37=B165, F37 &" "," ") | AB37: =IF(Z37=B166,F37 &" "," ") -> NOM 31 | AC37: =CONCATENATE((IF(SUM([1]SAISIE!BS37:BT37)=0,"-",INDEX(B167:B168,MATCH(1,[1]SAISIE!BS37:BT37,0)))),(CONCATENATE(G37,H37,I37,J37,K37,L37,M37,N37,O37,P37,Q37,R37))) -> Pommes de terre persillées | AD37: =IF(AC37=B167, F37 &" "," ") | AE37: =IF(AC37=B168,F37 &" "," ") -> NOM 31 | AF37: =CONCATENATE((IF(SUM([1]SAISIE!BU37:BW37)=0,"-",INDEX(B169:B171,MATCH(1,[1]SAISIE!BU37:BW37,0)))),(CONCATENATE(G37,H37,I37,J37,K37,L37,M37,N37,O37,P37,Q37,R37))) -> Camembert | AG37: =IF(AF37=B169, F37 &" "," ") | AH37: =IF(AF37=B170,F37 & " "," ") | AI37: =IF(AF37=B171,F37 & " "," ") -> NOM 31 | AJ37: =CONCATENATE((IF(SUM([1]SAISIE!BX37:BY37)=0,"-",INDEX(B172:B173,MATCH(1,[1]SAISIE!BX37:BY37,0)))),(CONCATENATE(G37,H37,I37,J37,K37,L37,M37,N37,O37,P37,Q37,R37))) -> Pêches au sirop | AK37: =IF(AJ37=B172,F37 &" "," ") | AL37: =IF(AJ37=B173,F37 & " "," ") -> NOM 31 | AN37: =CONCATENATE((IF([1]SAISIE!AG37=1,F37 & " " & "normal ","")),(IF([1]SAISIE!AH37=1,F37 & " " & "diab ","")),(IF([1]SAISIE!AI37=1,F37 & " " & "diab s sel ","")),(IF([1]SAISIE!AJ37=1, F37 & " " & "mixé ","")),(IF([1]SAISIE!AK37=1,F37 & " " & "sans sel ","")),(IF([1]SAISIE!AL37=1,F37 & " " & "sans graisse ","")),,(IF([1]SAISIE!AM37=1,F37 & " " & "sans gr s sel ",""))) | AO37: =CONCATENATE((IF([1]SAISIE!AN37=1,F37 & " " & "normal ","")),(IF([1]SAISIE!AO37=1,F37 & " " & "diab ","")),(IF([1]SAISIE!AP37=1,F37 & " " & "diab s sel ","")),(IF([1]SAISIE!AQ37=1,F37 & " " & "mixé ","")),(IF([1]SAISIE!AR37=1,F37 & " " & "sans sel ","")),(IF([1]SAISIE!AS37=1,F37 & " " & "sans graisse ","")),,(IF([1]SAISIE!AT37=1,F37 & " " & "sans gr s sel ","")),(IF([1]SAISIE!AU37=1,F37 & " " & "sans porc ","")))
B38: ='[1]Fiche d''informations'!B56 -> 32 | C38: ='[1]Fiche d''informations'!C56 -> 0 | D38: ='[1]Fiche d''informations'!D56 -> 0 | E38: ='[1]Fiche d''informations'!E56 -> Mme | F38: NOM 32 | G38: =IF([1]SAISIE!AA38=1,'Fiche Agt.Service'!G6,"") | H38: =IF([1]SAISIE!AB38=1,'Fiche Agt.Service'!H6,"") | I38: =IF([1]SAISIE!AC38=1,'Fiche Agt.Service'!I6,"") | J38: =IF([1]SAISIE!AD38=1,'Fiche Agt.Service'!J6,"") | K38: =IF([1]SAISIE!AE38=1,'Fiche Agt.Service'!K6,"") | L38: =IF([1]SAISIE!AF38=1,'Fiche Agt.Service'!L6,"") | M38: =IF([1]SAISIE!BH38=1,'Fiche Agt.Service'!M6,"") | N38: =IF([1]SAISIE!BI38=1,'Fiche Agt.Service'!N6,"") | O38: =IF([1]SAISIE!BJ38=1,'Fiche Agt.Service'!O6,"") | P38: =IF([1]SAISIE!BK38=1,'Fiche Agt.Service'!P6,"") | Q38: =IF([1]SAISIE!BL38=1,'Fiche Agt.Service'!Q6,"") | R38: =IF([1]SAISIE!BM38=1,'Fiche Agt.Service'!R6,"") | S38: =CONCATENATE(IF([1]SAISIE!J38=1,"salle"," "), IF([1]SAISIE!K38=1,"logement"," ")) | T38: =IF(S38="salle ", F38 & " " & G38 & H38 & I38 & J38 & K38 & L38 & " ","") | U38: =IF(S38=" logement", F38 & " " & M38 & N38 & O38 & P38 & Q38 & R38 & " ","") | V38: =CONCATENATE((IF(SUM([1]SAISIE!BN38:BP38)=0,"-",INDEX(B162:B164,MATCH(1,[1]SAISIE!BN38:BP38,0)))),(CONCATENATE(G38,H38,I38,J38,K38,L38,M38,N38,O38,P38,Q38,R38))) -> - | W38: =IF(V38=B162,F38 &" "," ") | X38: =IF(V38=B163, F38 & " "," ") | Y38: =IF(V38=B164, F38 & " "," ") | Z38: =CONCATENATE((IF(SUM([1]SAISIE!BQ38:BR38)=0,"-",INDEX(B165:B166,MATCH(1,[1]SAISIE!BQ38:BR38,0)))),(CONCATENATE(G38,H38,I38,J38,K38,L38,M38,N38,O38,P38,Q38,R38))) -> - | AA38: =IF(Z38=B165, F38 &" "," ") | AB38: =IF(Z38=B166,F38 &" "," ") | AC38: =CONCATENATE((IF(SUM([1]SAISIE!BS38:BT38)=0,"-",INDEX(B167:B168,MATCH(1,[1]SAISIE!BS38:BT38,0)))),(CONCATENATE(G38,H38,I38,J38,K38,L38,M38,N38,O38,P38,Q38,R38))) -> - | AD38: =IF(AC38=B167, F38 &" "," ") | AE38: =IF(AC38=B168,F38 &" "," ") | AF38: =CONCATENATE((IF(SUM([1]SAISIE!BU38:BW38)=0,"-",INDEX(B169:B171,MATCH(1,[1]SAISIE!BU38:BW38,0)))),(CONCATENATE(G38,H38,I38,J38,K38,L38,M38,N38,O38,P38,Q38,R38))) -> - | AG38: =IF(AF38=B169, F38 &" "," ") | AH38: =IF(AF38=B170,F38 & " "," ") | AI38: =IF(AF38=B171,F38 & " "," ") | AJ38: =CONCATENATE((IF(SUM([1]SAISIE!BX38:BY38)=0,"-",INDEX(B172:B173,MATCH(1,[1]SAISIE!BX38:BY38,0)))),(CONCATENATE(G38,H38,I38,J38,K38,L38,M38,N38,O38,P38,Q38,R38))) -> - | AK38: =IF(AJ38=B172,F38 &" "," ") | AL38: =IF(AJ38=B173,F38 & " "," ") | AN38: =CONCATENATE((IF([1]SAISIE!AG38=1,F38 & " " & "normal ","")),(IF([1]SAISIE!AH38=1,F38 & " " & "diab ","")),(IF([1]SAISIE!AI38=1,F38 & " " & "diab s sel ","")),(IF([1]SAISIE!AJ38=1, F38 & " " & "mixé ","")),(IF([1]SAISIE!AK38=1,F38 & " " & "sans sel ","")),(IF([1]SAISIE!AL38=1,F38 & " " & "sans graisse ","")),,(IF([1]SAISIE!AM38=1,F38 & " " & "sans gr s sel ",""))) | AO38: =CONCATENATE((IF([1]SAISIE!AN38=1,F38 & " " & "normal ","")),(IF([1]SAISIE!AO38=1,F38 & " " & "diab ","")),(IF([1]SAISIE!AP38=1,F38 & " " & "diab s sel ","")),(IF([1]SAISIE!AQ38=1,F38 & " " & "mixé ","")),(IF([1]SAISIE!AR38=1,F38 & " " & "sans sel ","")),(IF([1]SAISIE!AS38=1,F38 & " " & "sans graisse ","")),,(IF([1]SAISIE!AT38=1,F38 & " " & "sans gr s sel ","")),(IF([1]SAISIE!AU38=1,F38 & " " & "sans porc ","")))
B39: ='[1]Fiche d''informations'!B57 -> 33 | C39: ='[1]Fiche d''informations'!C57 -> 0 | D39: ='[1]Fiche d''informations'!D57 -> 0 | E39: ='[1]Fiche d''informations'!E57 -> Mme | F39: NOM 33 | G39: =IF([1]SAISIE!AA39=1,'Fiche Agt.Service'!G6,"") | H39: =IF([1]SAISIE!AB39=1,'Fiche Agt.Service'!H6,"") | I39: =IF([1]SAISIE!AC39=1,'Fiche Agt.Service'!I6,"") | J39: =IF([1]SAISIE!AD39=1,'Fiche Agt.Service'!J6,"") | K39: =IF([1]SAISIE!AE39=1,'Fiche Agt.Service'!K6,"") | L39: =IF([1]SAISIE!AF39=1,'Fiche Agt.Service'!L6,"") | M39: =IF([1]SAISIE!BH39=1,'Fiche Agt.Service'!M6,"") | N39: =IF([1]SAISIE!BI39=1,'Fiche Agt.Service'!N6,"") | O39: =IF([1]SAISIE!BJ39=1,'Fiche Agt.Service'!O6,"") | P39: =IF([1]SAISIE!BK39=1,'Fiche Agt.Service'!P6,"") | Q39: =IF([1]SAISIE!BL39=1,'Fiche Agt.Service'!Q6,"") | R39: =IF([1]SAISIE!BM39=1,'Fiche Agt.Service'!R6,"") | S39: =CONCATENATE(IF([1]SAISIE!J39=1,"salle"," "), IF([1]SAISIE!K39=1,"logement"," ")) | T39: =IF(S39="salle ", F39 & " " & G39 & H39 & I39 & J39 & K39 & L39 & " ","") | U39: =IF(S39=" logement", F39 & " " & M39 & N39 & O39 & P39 & Q39 & R39 & " ","") | V39: =CONCATENATE((IF(SUM([1]SAISIE!BN39:BP39)=0,"-",INDEX(B162:B164,MATCH(1,[1]SAISIE!BN39:BP39,0)))),(CONCATENATE(G39,H39,I39,J39,K39,L39,M39,N39,O39,P39,Q39,R39))) -> - | W39: =IF(V39=B162,F39 &" "," ") | X39: =IF(V39=B163, F39 & " "," ") | Y39: =IF(V39=B164, F39 & " "," ") | Z39: =CONCATENATE((IF(SUM([1]SAISIE!BQ39:BR39)=0,"-",INDEX(B165:B166,MATCH(1,[1]SAISIE!BQ39:BR39,0)))),(CONCATENATE(G39,H39,I39,J39,K39,L39,M39,N39,O39,P39,Q39,R39))) -> - | AA39: =IF(Z39=B165, F39 &" "," ") | AB39: =IF(Z39=B166,F39 &" "," ") | AC39: =CONCATENATE((IF(SUM([1]SAISIE!BS39:BT39)=0,"-",INDEX(B167:B168,MATCH(1,[1]SAISIE!BS39:BT39,0)))),(CONCATENATE(G39,H39,I39,J39,K39,L39,M39,N39,O39,P39,Q39,R39))) -> - | AD39: =IF(AC39=B167, F39 &" "," ") | AE39: =IF(AC39=B168,F39 &" "," ") | AF39: =CONCATENATE((IF(SUM([1]SAISIE!BU39:BW39)=0,"-",INDEX(B169:B171,MATCH(1,[1]SAISIE!BU39:BW39,0)))),(CONCATENATE(G39,H39,I39,J39,K39,L39,M39,N39,O39,P39,Q39,R39))) -> - | AG39: =IF(AF39=B169, F39 &" "," ") | AH39: =IF(AF39=B170,F39 & " "," ") | AI39: =IF(AF39=B171,F39 & " "," ") | AJ39: =CONCATENATE((IF(SUM([1]SAISIE!BX39:BY39)=0,"-",INDEX(B172:B173,MATCH(1,[1]SAISIE!BX39:BY39,0)))),(CONCATENATE(G39,H39,I39,J39,K39,L39,M39,N39,O39,P39,Q39,R39))) -> - | AK39: =IF(AJ39=B172,F39 &" "," ") | AL39: =IF(AJ39=B173,F39 & " "," ") | AN39: =CONCATENATE((IF([1]SAISIE!AG39=1,F39 & " " & "normal ","")),(IF([1]SAISIE!AH39=1,F39 & " " & "diab ","")),(IF([1]SAISIE!AI39=1,F39 & " " & "diab s sel ","")),(IF([1]SAISIE!AJ39=1, F39 & " " & "mixé ","")),(IF([1]SAISIE!AK39=1,F39 & " " & "sans sel ","")),(IF([1]SAISIE!AL39=1,F39 & " " & "sans graisse ","")),,(IF([1]SAISIE!AM39=1,F39 & " " & "sans gr s sel ",""))) | AO39: =CONCATENATE((IF([1]SAISIE!AN39=1,F39 & " " & "normal ","")),(IF([1]SAISIE!AO39=1,F39 & " " & "diab ","")),(IF([1]SAISIE!AP39=1,F39 & " " & "diab s sel ","")),(IF([1]SAISIE!AQ39=1,F39 & " " & "mixé ","")),(IF([1]SAISIE!AR39=1,F39 & " " & "sans sel ","")),(IF([1]SAISIE!AS39=1,F39 & " " & "sans graisse ","")),,(IF([1]SAISIE!AT39=1,F39 & " " & "sans gr s sel ","")),(IF([1]SAISIE!AU39=1,F39 & " " & "sans porc ","")))
B40: ='[1]Fiche d''informations'!B58 -> 34 | C40: ='[1]Fiche d''informations'!C58 -> 1 | D40: ='[1]Fiche d''informations'!D58 -> 8 | E40: ='[1]Fiche d''informations'!E58 -> Mme | F40: NOM 34 | G40: =IF([1]SAISIE!AA40=1,'Fiche Agt.Service'!G6,"") -> Diabétique | H40: =IF([1]SAISIE!AB40=1,'Fiche Agt.Service'!H6,"") | I40: =IF([1]SAISIE!AC40=1,'Fiche Agt.Service'!I6,"") | J40: =IF([1]SAISIE!AD40=1,'Fiche Agt.Service'!J6,"") | K40: =IF([1]SAISIE!AE40=1,'Fiche Agt.Service'!K6,"") | L40: =IF([1]SAISIE!AF40=1,'Fiche Agt.Service'!L6,"") | M40: =IF([1]SAISIE!BH40=1,'Fiche Agt.Service'!M6,"") | N40: =IF([1]SAISIE!BI40=1,'Fiche Agt.Service'!N6,"") | O40: =IF([1]SAISIE!BJ40=1,'Fiche Agt.Service'!O6,"") | P40: =IF([1]SAISIE!BK40=1,'Fiche Agt.Service'!P6,"") | Q40: =IF([1]SAISIE!BL40=1,'Fiche Agt.Service'!Q6,"") | R40: =IF([1]SAISIE!BM40=1,'Fiche Agt.Service'!R6,"") | S40: =CONCATENATE(IF([1]SAISIE!J40=1,"salle"," "), IF([1]SAISIE!K40=1,"logement"," ")) -> salle | T40: =IF(S40="salle ", F40 & " " & G40 & H40 & I40 & J40 & K40 & L40 & " ","") -> NOM 34 Diabétique | U40: =IF(S40=" logement", F40 & " " & M40 & N40 & O40 & P40 & Q40 & R40 & " ","") | V40: =CONCATENATE((IF(SUM([1]SAISIE!BN40:BP40)=0,"-",INDEX(B162:B164,MATCH(1,[1]SAISIE!BN40:BP40,0)))),(CONCATENATE(G40,H40,I40,J40,K40,L40,M40,N40,O40,P40,Q40,R40))) -> -Diabétique | W40: =IF(V40=B162,F40 &" "," ") | X40: =IF(V40=B163, F40 & " "," ") | Y40: =IF(V40=B164, F40 & " "," ") | Z40: =CONCATENATE((IF(SUM([1]SAISIE!BQ40:BR40)=0,"-",INDEX(B165:B166,MATCH(1,[1]SAISIE!BQ40:BR40,0)))),(CONCATENATE(G40,H40,I40,J40,K40,L40,M40,N40,O40,P40,Q40,R40))) -> -Diabétique | AA40: =IF(Z40=B165, F40 &" "," ") | AB40: =IF(Z40=B166,F40 &" "," ") | AC40: =CONCATENATE((IF(SUM([1]SAISIE!BS40:BT40)=0,"-",INDEX(B167:B168,MATCH(1,[1]SAISIE!BS40:BT40,0)))),(CONCATENATE(G40,H40,I40,J40,K40,L40,M40,N40,O40,P40,Q40,R40))) -> -Diabétique | AD40: =IF(AC40=B167, F40 &" "," ") | AE40: =IF(AC40=B168,F40 &" "," ") | AF40: =CONCATENATE((IF(SUM([1]SAISIE!BU40:BW40)=0,"-",INDEX(B169:B171,MATCH(1,[1]SAISIE!BU40:BW40,0)))),(CONCATENATE(G40,H40,I40,J40,K40,L40,M40,N40,O40,P40,Q40,R40))) -> -Diabétique | AG40: =IF(AF40=B169, F40 &" "," ") | AH40: =IF(AF40=B170,F40 & " "," ") | AI40: =IF(AF40=B171,F40 & " "," ") | AJ40: =CONCATENATE((IF(SUM([1]SAISIE!BX40:BY40)=0,"-",INDEX(B172:B173,MATCH(1,[1]SAISIE!BX40:BY40,0)))),(CONCATENATE(G40,H40,I40,J40,K40,L40,M40,N40,O40,P40,Q40,R40))) -> -Diabétique | AK40: =IF(AJ40=B172,F40 &" "," ") | AL40: =IF(AJ40=B173,F40 & " "," ") | AN40: =CONCATENATE((IF([1]SAISIE!AG40=1,F40 & " " & "normal ","")),(IF([1]SAISIE!AH40=1,F40 & " " & "diab ","")),(IF([1]SAISIE!AI40=1,F40 & " " & "diab s sel ","")),(IF([1]SAISIE!AJ40=1, F40 & " " & "mixé ","")),(IF([1]SAISIE!AK40=1,F40 & " " & "sans sel ","")),(IF([1]SAISIE!AL40=1,F40 & " " & "sans graisse ","")),,(IF([1]SAISIE!AM40=1,F40 & " " & "sans gr s sel ",""))) | AO40: =CONCATENATE((IF([1]SAISIE!AN40=1,F40 & " " & "normal ","")),(IF([1]SAISIE!AO40=1,F40 & " " & "diab ","")),(IF([1]SAISIE!AP40=1,F40 & " " & "diab s sel ","")),(IF([1]SAISIE!AQ40=1,F40 & " " & "mixé ","")),(IF([1]SAISIE!AR40=1,F40 & " " & "sans sel ","")),(IF([1]SAISIE!AS40=1,F40 & " " & "sans graisse ","")),,(IF([1]SAISIE!AT40=1,F40 & " " & "sans gr s sel ","")),(IF([1]SAISIE!AU40=1,F40 & " " & "sans porc ","")))
B41: ='[1]Fiche d''informations'!B59 -> 35 | C41: ='[1]Fiche d''informations'!C59 -> 0 | D41: ='[1]Fiche d''informations'!D59 -> 0 | E41: ='[1]Fiche d''informations'!E59 -> Mr | F41: NOM 35 | G41: =IF([1]SAISIE!AA41=1,'Fiche Agt.Service'!G6,"") | H41: =IF([1]SAISIE!AB41=1,'Fiche Agt.Service'!H6,"") | I41: =IF([1]SAISIE!AC41=1,'Fiche Agt.Service'!I6,"") | J41: =IF([1]SAISIE!AD41=1,'Fiche Agt.Service'!J6,"") | K41: =IF([1]SAISIE!AE41=1,'Fiche Agt.Service'!K6,"") | L41: =IF([1]SAISIE!AF41=1,'Fiche Agt.Service'!L6,"") | M41: =IF([1]SAISIE!BH41=1,'Fiche Agt.Service'!M6,"") | N41: =IF([1]SAISIE!BI41=1,'Fiche Agt.Service'!N6,"") | O41: =IF([1]SAISIE!BJ41=1,'Fiche Agt.Service'!O6,"") | P41: =IF([1]SAISIE!BK41=1,'Fiche Agt.Service'!P6,"") | Q41: =IF([1]SAISIE!BL41=1,'Fiche Agt.Service'!Q6,"") | R41: =IF([1]SAISIE!BM41=1,'Fiche Agt.Service'!R6,"") | S41: =CONCATENATE(IF([1]SAISIE!J41=1,"salle"," "), IF([1]SAISIE!K41=1,"logement"," ")) | T41: =IF(S41="salle ", F41 & " " & G41 & H41 & I41 & J41 & K41 & L41 & " ","") | U41: =IF(S41=" logement", F41 & " " & M41 & N41 & O41 & P41 & Q41 & R41 & " ","") | V41: =CONCATENATE((IF(SUM([1]SAISIE!BN41:BP41)=0,"-",INDEX(B162:B164,MATCH(1,[1]SAISIE!BN41:BP41,0)))),(CONCATENATE(G41,H41,I41,J41,K41,L41,M41,N41,O41,P41,Q41,R41))) -> - | W41: =IF(V41=B162,F41 &" "," ") | X41: =IF(V41=B163, F41 & " "," ") | Y41: =IF(V41=B164, F41 & " "," ") | Z41: =CONCATENATE((IF(SUM([1]SAISIE!BQ41:BR41)=0,"-",INDEX(B165:B166,MATCH(1,[1]SAISIE!BQ41:BR41,0)))),(CONCATENATE(G41,H41,I41,J41,K41,L41,M41,N41,O41,P41,Q41,R41))) -> - | AA41: =IF(Z41=B165, F41 &" "," ") | AB41: =IF(Z41=B166,F41 &" "," ") | AC41: =CONCATENATE((IF(SUM([1]SAISIE!BS41:BT41)=0,"-",INDEX(B167:B168,MATCH(1,[1]SAISIE!BS41:BT41,0)))),(CONCATENATE(G41,H41,I41,J41,K41,L41,M41,N41,O41,P41,Q41,R41))) -> - | AD41: =IF(AC41=B167, F41 &" "," ") | AE41: =IF(AC41=B168,F41 &" "," ") | AF41: =CONCATENATE((IF(SUM([1]SAISIE!BU41:BW41)=0,"-",INDEX(B169:B171,MATCH(1,[1]SAISIE!BU41:BW41,0)))),(CONCATENATE(G41,H41,I41,J41,K41,L41,M41,N41,O41,P41,Q41,R41))) -> - | AG41: =IF(AF41=B169, F41 &" "," ") | AH41: =IF(AF41=B170,F41 & " "," ") | AI41: =IF(AF41=B171,F41 & " "," ") | AJ41: =CONCATENATE((IF(SUM([1]SAISIE!BX41:BY41)=0,"-",INDEX(B172:B173,MATCH(1,[1]SAISIE!BX41:BY41,0)))),(CONCATENATE(G41,H41,I41,J41,K41,L41,M41,N41,O41,P41,Q41,R41))) -> - | AK41: =IF(AJ41=B172,F41 &" "," ") | AL41: =IF(AJ41=B173,F41 & " "," ") | AN41: =CONCATENATE((IF([1]SAISIE!AG41=1,F41 & " " & "normal ","")),(IF([1]SAISIE!AH41=1,F41 & " " & "diab ","")),(IF([1]SAISIE!AI41=1,F41 & " " & "diab s sel ","")),(IF([1]SAISIE!AJ41=1, F41 & " " & "mixé ","")),(IF([1]SAISIE!AK41=1,F41 & " " & "sans sel ","")),(IF([1]SAISIE!AL41=1,F41 & " " & "sans graisse ","")),,(IF([1]SAISIE!AM41=1,F41 & " " & "sans gr s sel ",""))) | AO41: =CONCATENATE((IF([1]SAISIE!AN41=1,F41 & " " & "normal ","")),(IF([1]SAISIE!AO41=1,F41 & " " & "diab ","")),(IF([1]SAISIE!AP41=1,F41 & " " & "diab s sel ","")),(IF([1]SAISIE!AQ41=1,F41 & " " & "mixé ","")),(IF([1]SAISIE!AR41=1,F41 & " " & "sans sel ","")),(IF([1]SAISIE!AS41=1,F41 & " " & "sans graisse ","")),,(IF([1]SAISIE!AT41=1,F41 & " " & "sans gr s sel ","")),(IF([1]SAISIE!AU41=1,F41 & " " & "sans porc ","")))
B42: ='[1]Fiche d''informations'!B60 -> 36 | C42: ='[1]Fiche d''informations'!C60 -> 1 | D42: ='[1]Fiche d''informations'!D60 -> 5 | E42: ='[1]Fiche d''informations'!E60 -> Mme | F42: NOM 36 | G42: =IF([1]SAISIE!AA42=1,'Fiche Agt.Service'!G6,"") | H42: =IF([1]SAISIE!AB42=1,'Fiche Agt.Service'!H6,"") | I42: =IF([1]SAISIE!AC42=1,'Fiche Agt.Service'!I6,"") | J42: =IF([1]SAISIE!AD42=1,'Fiche Agt.Service'!J6,"") | K42: =IF([1]SAISIE!AE42=1,'Fiche Agt.Service'!K6,"") | L42: =IF([1]SAISIE!AF42=1,'Fiche Agt.Service'!L6,"") | M42: =IF([1]SAISIE!BH42=1,'Fiche Agt.Service'!M6,"") | N42: =IF([1]SAISIE!BI42=1,'Fiche Agt.Service'!N6,"") | O42: =IF([1]SAISIE!BJ42=1,'Fiche Agt.Service'!O6,"") | P42: =IF([1]SAISIE!BK42=1,'Fiche Agt.Service'!P6,"") | Q42: =IF([1]SAISIE!BL42=1,'Fiche Agt.Service'!Q6,"") | R42: =IF([1]SAISIE!BM42=1,'Fiche Agt.Service'!R6,"") | S42: =CONCATENATE(IF([1]SAISIE!J42=1,"salle"," "), IF([1]SAISIE!K42=1,"logement"," ")) | T42: =IF(S42="salle ", F42 & " " & G42 & H42 & I42 & J42 & K42 & L42 & " ","") | U42: =IF(S42=" logement", F42 & " " & M42 & N42 & O42 & P42 & Q42 & R42 & " ","") | V42: =CONCATENATE((IF(SUM([1]SAISIE!BN42:BP42)=0,"-",INDEX(B162:B164,MATCH(1,[1]SAISIE!BN42:BP42,0)))),(CONCATENATE(G42,H42,I42,J42,K42,L42,M42,N42,O42,P42,Q42,R42))) -> - | W42: =IF(V42=B162,F42 &" "," ") | X42: =IF(V42=B163, F42 & " "," ") | Y42: =IF(V42=B164, F42 & " "," ") | Z42: =CONCATENATE((IF(SUM([1]SAISIE!BQ42:BR42)=0,"-",INDEX(B165:B166,MATCH(1,[1]SAISIE!BQ42:BR42,0)))),(CONCATENATE(G42,H42,I42,J42,K42,L42,M42,N42,O42,P42,Q42,R42))) -> - | AA42: =IF(Z42=B165, F42 &" "," ") | AB42: =IF(Z42=B166,F42 &" "," ") | AC42: =CONCATENATE((IF(SUM([1]SAISIE!BS42:BT42)=0,"-",INDEX(B167:B168,MATCH(1,[1]SAISIE!BS42:BT42,0)))),(CONCATENATE(G42,H42,I42,J42,K42,L42,M42,N42,O42,P42,Q42,R42))) -> - | AD42: =IF(AC42=B167, F42 &" "," ") | AE42: =IF(AC42=B168,F42 &" "," ") | AF42: =CONCATENATE((IF(SUM([1]SAISIE!BU42:BW42)=0,"-",INDEX(B169:B171,MATCH(1,[1]SAISIE!BU42:BW42,0)))),(CONCATENATE(G42,H42,I42,J42,K42,L42,M42,N42,O42,P42,Q42,R42))) -> - | AG42: =IF(AF42=B169, F42 &" "," ") | AH42: =IF(AF42=B170,F42 & " "," ") | AI42: =IF(AF42=B171,F42 & " "," ") | AJ42: =CONCATENATE((IF(SUM([1]SAISIE!BX42:BY42)=0,"-",INDEX(B172:B173,MATCH(1,[1]SAISIE!BX42:BY42,0)))),(CONCATENATE(G42,H42,I42,J42,K42,L42,M42,N42,O42,P42,Q42,R42))) -> - | AK42: =IF(AJ42=B172,F42 &" "," ") | AL42: =IF(AJ42=B173,F42 & " "," ") | AN42: =CONCATENATE((IF([1]SAISIE!AG42=1,F42 & " " & "normal ","")),(IF([1]SAISIE!AH42=1,F42 & " " & "diab ","")),(IF([1]SAISIE!AI42=1,F42 & " " & "diab s sel ","")),(IF([1]SAISIE!AJ42=1, F42 & " " & "mixé ","")),(IF([1]SAISIE!AK42=1,F42 & " " & "sans sel ","")),(IF([1]SAISIE!AL42=1,F42 & " " & "sans graisse ","")),,(IF([1]SAISIE!AM42=1,F42 & " " & "sans gr s sel ",""))) | AO42: =CONCATENATE((IF([1]SAISIE!AN42=1,F42 & " " & "normal ","")),(IF([1]SAISIE!AO42=1,F42 & " " & "diab ","")),(IF([1]SAISIE!AP42=1,F42 & " " & "diab s sel ","")),(IF([1]SAISIE!AQ42=1,F42 & " " & "mixé ","")),(IF([1]SAISIE!AR42=1,F42 & " " & "sans sel ","")),(IF([1]SAISIE!AS42=1,F42 & " " & "sans graisse ","")),,(IF([1]SAISIE!AT42=1,F42 & " " & "sans gr s sel ","")),(IF([1]SAISIE!AU42=1,F42 & " " & "sans porc ","")))
B43: ='[1]Fiche d''informations'!B61 -> 37 | C43: ='[1]Fiche d''informations'!C61 -> 0 | D43: ='[1]Fiche d''informations'!D61 -> 0 | E43: ='[1]Fiche d''informations'!E61 -> Mr | F43: NOM 37 | G43: =IF([1]SAISIE!AA43=1,'Fiche Agt.Service'!G6,"") | H43: =IF([1]SAISIE!AB43=1,'Fiche Agt.Service'!H6,"") | I43: =IF([1]SAISIE!AC43=1,'Fiche Agt.Service'!I6,"") | J43: =IF([1]SAISIE!AD43=1,'Fiche Agt.Service'!J6,"") | K43: =IF([1]SAISIE!AE43=1,'Fiche Agt.Service'!K6,"") | L43: =IF([1]SAISIE!AF43=1,'Fiche Agt.Service'!L6,"") | M43: =IF([1]SAISIE!BH43=1,'Fiche Agt.Service'!M6,"") | N43: =IF([1]SAISIE!BI43=1,'Fiche Agt.Service'!N6,"") | O43: =IF([1]SAISIE!BJ43=1,'Fiche Agt.Service'!O6,"") | P43: =IF([1]SAISIE!BK43=1,'Fiche Agt.Service'!P6,"") | Q43: =IF([1]SAISIE!BL43=1,'Fiche Agt.Service'!Q6,"") | R43: =IF([1]SAISIE!BM43=1,'Fiche Agt.Service'!R6,"") | S43: =CONCATENATE(IF([1]SAISIE!J43=1,"salle"," "), IF([1]SAISIE!K43=1,"logement"," ")) | T43: =IF(S43="salle ", F43 & " " & G43 & H43 & I43 & J43 & K43 & L43 & " ","") | U43: =IF(S43=" logement", F43 & " " & M43 & N43 & O43 & P43 & Q43 & R43 & " ","") | V43: =CONCATENATE((IF(SUM([1]SAISIE!BN43:BP43)=0,"-",INDEX(B162:B164,MATCH(1,[1]SAISIE!BN43:BP43,0)))),(CONCATENATE(G43,H43,I43,J43,K43,L43,M43,N43,O43,P43,Q43,R43))) -> - | W43: =IF(V43=B162,F43 &" "," ") | X43: =IF(V43=B163, F43 & " "," ") | Y43: =IF(V43=B164, F43 & " "," ") | Z43: =CONCATENATE((IF(SUM([1]SAISIE!BQ43:BR43)=0,"-",INDEX(B165:B166,MATCH(1,[1]SAISIE!BQ43:BR43,0)))),(CONCATENATE(G43,H43,I43,J43,K43,L43,M43,N43,O43,P43,Q43,R43))) -> - | AA43: =IF(Z43=B165, F43 &" "," ") | AB43: =IF(Z43=B166,F43 &" "," ") | AC43: =CONCATENATE((IF(SUM([1]SAISIE!BS43:BT43)=0,"-",INDEX(B167:B168,MATCH(1,[1]SAISIE!BS43:BT43,0)))),(CONCATENATE(G43,H43,I43,J43,K43,L43,M43,N43,O43,P43,Q43,R43))) -> - | AD43: =IF(AC43=B167, F43 &" "," ") | AE43: =IF(AC43=B168,F43 &" "," ") | AF43: =CONCATENATE((IF(SUM([1]SAISIE!BU43:BW43)=0,"-",INDEX(B169:B171,MATCH(1,[1]SAISIE!BU43:BW43,0)))),(CONCATENATE(G43,H43,I43,J43,K43,L43,M43,N43,O43,P43,Q43,R43))) -> - | AG43: =IF(AF43=B169, F43 &" "," ") | AH43: =IF(AF43=B170,F43 & " "," ") | AI43: =IF(AF43=B171,F43 & " "," ") | AJ43: =CONCATENATE((IF(SUM([1]SAISIE!BX43:BY43)=0,"-",INDEX(B172:B173,MATCH(1,[1]SAISIE!BX43:BY43,0)))),(CONCATENATE(G43,H43,I43,J43,K43,L43,M43,N43,O43,P43,Q43,R43))) -> - | AK43: =IF(AJ43=B172,F43 &" "," ") | AL43: =IF(AJ43=B173,F43 & " "," ") | AN43: =CONCATENATE((IF([1]SAISIE!AG43=1,F43 & " " & "normal ","")),(IF([1]SAISIE!AH43=1,F43 & " " & "diab ","")),(IF([1]SAISIE!AI43=1,F43 & " " & "diab s sel ","")),(IF([1]SAISIE!AJ43=1, F43 & " " & "mixé ","")),(IF([1]SAISIE!AK43=1,F43 & " " & "sans sel ","")),(IF([1]SAISIE!AL43=1,F43 & " " & "sans graisse ","")),,(IF([1]SAISIE!AM43=1,F43 & " " & "sans gr s sel ",""))) | AO43: =CONCATENATE((IF([1]SAISIE!AN43=1,F43 & " " & "normal ","")),(IF([1]SAISIE!AO43=1,F43 & " " & "diab ","")),(IF([1]SAISIE!AP43=1,F43 & " " & "diab s sel ","")),(IF([1]SAISIE!AQ43=1,F43 & " " & "mixé ","")),(IF([1]SAISIE!AR43=1,F43 & " " & "sans sel ","")),(IF([1]SAISIE!AS43=1,F43 & " " & "sans graisse ","")),,(IF([1]SAISIE!AT43=1,F43 & " " & "sans gr s sel ","")),(IF([1]SAISIE!AU43=1,F43 & " " & "sans porc ","")))
B44: ='[1]Fiche d''informations'!B62 -> 38 | C44: ='[1]Fiche d''informations'!C62 -> 1 | D44: ='[1]Fiche d''informations'!D62 -> 6 | E44: ='[1]Fiche d''informations'!E62 -> Mr | F44: NOM 38 | G44: =IF([1]SAISIE!AA44=1,'Fiche Agt.Service'!G6,"") | H44: =IF([1]SAISIE!AB44=1,'Fiche Agt.Service'!H6,"") | I44: =IF([1]SAISIE!AC44=1,'Fiche Agt.Service'!I6,"") | J44: =IF([1]SAISIE!AD44=1,'Fiche Agt.Service'!J6,"") | K44: =IF([1]SAISIE!AE44=1,'Fiche Agt.Service'!K6,"") | L44: =IF([1]SAISIE!AF44=1,'Fiche Agt.Service'!L6,"") | M44: =IF([1]SAISIE!BH44=1,'Fiche Agt.Service'!M6,"") | N44: =IF([1]SAISIE!BI44=1,'Fiche Agt.Service'!N6,"") | O44: =IF([1]SAISIE!BJ44=1,'Fiche Agt.Service'!O6,"") | P44: =IF([1]SAISIE!BK44=1,'Fiche Agt.Service'!P6,"") | Q44: =IF([1]SAISIE!BL44=1,'Fiche Agt.Service'!Q6,"") | R44: =IF([1]SAISIE!BM44=1,'Fiche Agt.Service'!R6,"") | S44: =CONCATENATE(IF([1]SAISIE!J44=1,"salle"," "), IF([1]SAISIE!K44=1,"logement"," ")) -> salle | T44: =IF(S44="salle ", F44 & " " & G44 & H44 & I44 & J44 & K44 & L44 & " ","") -> NOM 38 | U44: =IF(S44=" logement", F44 & " " & M44 & N44 & O44 & P44 & Q44 & R44 & " ","") | V44: =CONCATENATE((IF(SUM([1]SAISIE!BN44:BP44)=0,"-",INDEX(B162:B164,MATCH(1,[1]SAISIE!BN44:BP44,0)))),(CONCATENATE(G44,H44,I44,J44,K44,L44,M44,N44,O44,P44,Q44,R44))) -> Betteraves | W44: =IF(V44=B162,F44 &" "," ") | X44: =IF(V44=B163, F44 & " "," ") | Y44: =IF(V44=B164, F44 & " "," ") -> NOM 38 | Z44: =CONCATENATE((IF(SUM([1]SAISIE!BQ44:BR44)=0,"-",INDEX(B165:B166,MATCH(1,[1]SAISIE!BQ44:BR44,0)))),(CONCATENATE(G44,H44,I44,J44,K44,L44,M44,N44,O44,P44,Q44,R44))) -> Nuggets de volaille | AA44: =IF(Z44=B165, F44 &" "," ") -> NOM 38 | AB44: =IF(Z44=B166,F44 &" "," ") | AC44: =CONCATENATE((IF(SUM([1]SAISIE!BS44:BT44)=0,"-",INDEX(B167:B168,MATCH(1,[1]SAISIE!BS44:BT44,0)))),(CONCATENATE(G44,H44,I44,J44,K44,L44,M44,N44,O44,P44,Q44,R44))) -> Pommes de terre persillées | AD44: =IF(AC44=B167, F44 &" "," ") | AE44: =IF(AC44=B168,F44 &" "," ") -> NOM 38 | AF44: =CONCATENATE((IF(SUM([1]SAISIE!BU44:BW44)=0,"-",INDEX(B169:B171,MATCH(1,[1]SAISIE!BU44:BW44,0)))),(CONCATENATE(G44,H44,I44,J44,K44,L44,M44,N44,O44,P44,Q44,R44))) -> Camembert | AG44: =IF(AF44=B169, F44 &" "," ") | AH44: =IF(AF44=B170,F44 & " "," ") | AI44: =IF(AF44=B171,F44 & " "," ") -> NOM 38 | AJ44: =CONCATENATE((IF(SUM([1]SAISIE!BX44:BY44)=0,"-",INDEX(B172:B173,MATCH(1,[1]SAISIE!BX44:BY44,0)))),(CONCATENATE(G44,H44,I44,J44,K44,L44,M44,N44,O44,P44,Q44,R44))) -> Fruit | AK44: =IF(AJ44=B172,F44 &" "," ") -> NOM 38 | AL44: =IF(AJ44=B173,F44 & " "," ") | AN44: =CONCATENATE((IF([1]SAISIE!AG44=1,F44 & " " & "normal ","")),(IF([1]SAISIE!AH44=1,F44 & " " & "diab ","")),(IF([1]SAISIE!AI44=1,F44 & " " & "diab s sel ","")),(IF([1]SAISIE!AJ44=1, F44 & " " & "mixé ","")),(IF([1]SAISIE!AK44=1,F44 & " " & "sans sel ","")),(IF([1]SAISIE!AL44=1,F44 & " " & "sans graisse ","")),,(IF([1]SAISIE!AM44=1,F44 & " " & "sans gr s sel ",""))) | AO44: =CONCATENATE((IF([1]SAISIE!AN44=1,F44 & " " & "normal ","")),(IF([1]SAISIE!AO44=1,F44 & " " & "diab ","")),(IF([1]SAISIE!AP44=1,F44 & " " & "diab s sel ","")),(IF([1]SAISIE!AQ44=1,F44 & " " & "mixé ","")),(IF([1]SAISIE!AR44=1,F44 & " " & "sans sel ","")),(IF([1]SAISIE!AS44=1,F44 & " " & "sans graisse ","")),,(IF([1]SAISIE!AT44=1,F44 & " " & "sans gr s sel ","")),(IF([1]SAISIE!AU44=1,F44 & " " & "sans porc ","")))
B45: ='[1]Fiche d''informations'!B63 -> 39 | C45: ='[1]Fiche d''informations'!C63 -> 0 | D45: ='[1]Fiche d''informations'!D63 -> 0 | E45: ='[1]Fiche d''informations'!E63 -> Mme | F45: NOM 39 | G45: =IF([1]SAISIE!AA45=1,'Fiche Agt.Service'!G6,"") | H45: =IF([1]SAISIE!AB45=1,'Fiche Agt.Service'!H6,"") | I45: =IF([1]SAISIE!AC45=1,'Fiche Agt.Service'!I6,"") | J45: =IF([1]SAISIE!AD45=1,'Fiche Agt.Service'!J6,"") | K45: =IF([1]SAISIE!AE45=1,'Fiche Agt.Service'!K6,"") | L45: =IF([1]SAISIE!AF45=1,'Fiche Agt.Service'!L6,"") | M45: =IF([1]SAISIE!BH45=1,'Fiche Agt.Service'!M6,"") | N45: =IF([1]SAISIE!BI45=1,'Fiche Agt.Service'!N6,"") | O45: =IF([1]SAISIE!BJ45=1,'Fiche Agt.Service'!O6,"") | P45: =IF([1]SAISIE!BK45=1,'Fiche Agt.Service'!P6,"") | Q45: =IF([1]SAISIE!BL45=1,'Fiche Agt.Service'!Q6,"") | R45: =IF([1]SAISIE!BM45=1,'Fiche Agt.Service'!R6,"") | S45: =CONCATENATE(IF([1]SAISIE!J45=1,"salle"," "), IF([1]SAISIE!K45=1,"logement"," ")) | T45: =IF(S45="salle ", F45 & " " & G45 & H45 & I45 & J45 & K45 & L45 & " ","") | U45: =IF(S45=" logement", F45 & " " & M45 & N45 & O45 & P45 & Q45 & R45 & " ","") | V45: =CONCATENATE((IF(SUM([1]SAISIE!BN45:BP45)=0,"-",INDEX(B162:B164,MATCH(1,[1]SAISIE!BN45:BP45,0)))),(CONCATENATE(G45,H45,I45,J45,K45,L45,M45,N45,O45,P45,Q45,R45))) -> - | W45: =IF(V45=B162,F45 &" "," ") | X45: =IF(V45=B163, F45 & " "," ") | Y45: =IF(V45=B164, F45 & " "," ") | Z45: =CONCATENATE((IF(SUM([1]SAISIE!BQ45:BR45)=0,"-",INDEX(B165:B166,MATCH(1,[1]SAISIE!BQ45:BR45,0)))),(CONCATENATE(G45,H45,I45,J45,K45,L45,M45,N45,O45,P45,Q45,R45))) -> - | AA45: =IF(Z45=B165, F45 &" "," ") | AB45: =IF(Z45=B166,F45 &" "," ") | AC45: =CONCATENATE((IF(SUM([1]SAISIE!BS45:BT45)=0,"-",INDEX(B167:B168,MATCH(1,[1]SAISIE!BS45:BT45,0)))),(CONCATENATE(G45,H45,I45,J45,K45,L45,M45,N45,O45,P45,Q45,R45))) -> - | AD45: =IF(AC45=B167, F45 &" "," ") | AE45: =IF(AC45=B168,F45 &" "," ") | AF45: =CONCATENATE((IF(SUM([1]SAISIE!BU45:BW45)=0,"-",INDEX(B169:B171,MATCH(1,[1]SAISIE!BU45:BW45,0)))),(CONCATENATE(G45,H45,I45,J45,K45,L45,M45,N45,O45,P45,Q45,R45))) -> - | AG45: =IF(AF45=B169, F45 &" "," ") | AH45: =IF(AF45=B170,F45 & " "," ") | AI45: =IF(AF45=B171,F45 & " "," ") | AJ45: =CONCATENATE((IF(SUM([1]SAISIE!BX45:BY45)=0,"-",INDEX(B172:B173,MATCH(1,[1]SAISIE!BX45:BY45,0)))),(CONCATENATE(G45,H45,I45,J45,K45,L45,M45,N45,O45,P45,Q45,R45))) -> - | AK45: =IF(AJ45=B172,F45 &" "," ") | AL45: =IF(AJ45=B173,F45 & " "," ") | AN45: =CONCATENATE((IF([1]SAISIE!AG45=1,F45 & " " & "normal ","")),(IF([1]SAISIE!AH45=1,F45 & " " & "diab ","")),(IF([1]SAISIE!AI45=1,F45 & " " & "diab s sel ","")),(IF([1]SAISIE!AJ45=1, F45 & " " & "mixé ","")),(IF([1]SAISIE!AK45=1,F45 & " " & "sans sel ","")),(IF([1]SAISIE!AL45=1,F45 & " " & "sans graisse ","")),,(IF([1]SAISIE!AM45=1,F45 & " " & "sans gr s sel ",""))) | AO45: =CONCATENATE((IF([1]SAISIE!AN45=1,F45 & " " & "normal ","")),(IF([1]SAISIE!AO45=1,F45 & " " & "diab ","")),(IF([1]SAISIE!AP45=1,F45 & " " & "diab s sel ","")),(IF([1]SAISIE!AQ45=1,F45 & " " & "mixé ","")),(IF([1]SAISIE!AR45=1,F45 & " " & "sans sel ","")),(IF([1]SAISIE!AS45=1,F45 & " " & "sans graisse ","")),,(IF([1]SAISIE!AT45=1,F45 & " " & "sans gr s sel ","")),(IF([1]SAISIE!AU45=1,F45 & " " & "sans porc ","")))
B46: ='[1]Fiche d''informations'!B64 -> 40 | C46: ='[1]Fiche d''informations'!C64 -> 0 | D46: ='[1]Fiche d''informations'!D64 -> 0 | E46: ='[1]Fiche d''informations'!E64 -> Mr | F46: NOM 40 | G46: =IF([1]SAISIE!AA46=1,'Fiche Agt.Service'!G6,"") | H46: =IF([1]SAISIE!AB46=1,'Fiche Agt.Service'!H6,"") | I46: =IF([1]SAISIE!AC46=1,'Fiche Agt.Service'!I6,"") | J46: =IF([1]SAISIE!AD46=1,'Fiche Agt.Service'!J6,"") | K46: =IF([1]SAISIE!AE46=1,'Fiche Agt.Service'!K6,"") | L46: =IF([1]SAISIE!AF46=1,'Fiche Agt.Service'!L6,"") | M46: =IF([1]SAISIE!BH46=1,'Fiche Agt.Service'!M6,"") | N46: =IF([1]SAISIE!BI46=1,'Fiche Agt.Service'!N6,"") | O46: =IF([1]SAISIE!BJ46=1,'Fiche Agt.Service'!O6,"") | P46: =IF([1]SAISIE!BK46=1,'Fiche Agt.Service'!P6,"") | Q46: =IF([1]SAISIE!BL46=1,'Fiche Agt.Service'!Q6,"") | R46: =IF([1]SAISIE!BM46=1,'Fiche Agt.Service'!R6,"") | S46: =CONCATENATE(IF([1]SAISIE!J46=1,"salle"," "), IF([1]SAISIE!K46=1,"logement"," ")) | T46: =IF(S46="salle ", F46 & " " & G46 & H46 & I46 & J46 & K46 & L46 & " ","") | U46: =IF(S46=" logement", F46 & " " & M46 & N46 & O46 & P46 & Q46 & R46 & " ","") | V46: =CONCATENATE((IF(SUM([1]SAISIE!BN46:BP46)=0,"-",INDEX(B162:B164,MATCH(1,[1]SAISIE!BN46:BP46,0)))),(CONCATENATE(G46,H46,I46,J46,K46,L46,M46,N46,O46,P46,Q46,R46))) -> - | W46: =IF(V46=B162,F46 &" "," ") | X46: =IF(V46=B163, F46 & " "," ") | Y46: =IF(V46=B164, F46 & " "," ") | Z46: =CONCATENATE((IF(SUM([1]SAISIE!BQ46:BR46)=0,"-",INDEX(B165:B166,MATCH(1,[1]SAISIE!BQ46:BR46,0)))),(CONCATENATE(G46,H46,I46,J46,K46,L46,M46,N46,O46,P46,Q46,R46))) -> - | AA46: =IF(Z46=B165, F46 &" "," ") | AB46: =IF(Z46=B166,F46 &" "," ") | AC46: =CONCATENATE((IF(SUM([1]SAISIE!BS46:BT46)=0,"-",INDEX(B167:B168,MATCH(1,[1]SAISIE!BS46:BT46,0)))),(CONCATENATE(G46,H46,I46,J46,K46,L46,M46,N46,O46,P46,Q46,R46))) -> - | AD46: =IF(AC46=B167, F46 &" "," ") | AE46: =IF(AC46=B168,F46 &" "," ") | AF46: =CONCATENATE((IF(SUM([1]SAISIE!BU46:BW46)=0,"-",INDEX(B169:B171,MATCH(1,[1]SAISIE!BU46:BW46,0)))),(CONCATENATE(G46,H46,I46,J46,K46,L46,M46,N46,O46,P46,Q46,R46))) -> - | AG46: =IF(AF46=B169, F46 &" "," ") | AH46: =IF(AF46=B170,F46 & " "," ") | AI46: =IF(AF46=B171,F46 & " "," ") | AJ46: =CONCATENATE((IF(SUM([1]SAISIE!BX46:BY46)=0,"-",INDEX(B172:B173,MATCH(1,[1]SAISIE!BX46:BY46,0)))),(CONCATENATE(G46,H46,I46,J46,K46,L46,M46,N46,O46,P46,Q46,R46))) -> - | AK46: =IF(AJ46=B172,F46 &" "," ") | AL46: =IF(AJ46=B173,F46 & " "," ") | AN46: =CONCATENATE((IF([1]SAISIE!AG46=1,F46 & " " & "normal ","")),(IF([1]SAISIE!AH46=1,F46 & " " & "diab ","")),(IF([1]SAISIE!AI46=1,F46 & " " & "diab s sel ","")),(IF([1]SAISIE!AJ46=1, F46 & " " & "mixé ","")),(IF([1]SAISIE!AK46=1,F46 & " " & "sans sel ","")),(IF([1]SAISIE!AL46=1,F46 & " " & "sans graisse ","")),,(IF([1]SAISIE!AM46=1,F46 & " " & "sans gr s sel ",""))) | AO46: =CONCATENATE((IF([1]SAISIE!AN46=1,F46 & " " & "normal ","")),(IF([1]SAISIE!AO46=1,F46 & " " & "diab ","")),(IF([1]SAISIE!AP46=1,F46 & " " & "diab s sel ","")),(IF([1]SAISIE!AQ46=1,F46 & " " & "mixé ","")),(IF([1]SAISIE!AR46=1,F46 & " " & "sans sel ","")),(IF([1]SAISIE!AS46=1,F46 & " " & "sans graisse ","")),,(IF([1]SAISIE!AT46=1,F46 & " " & "sans gr s sel ","")),(IF([1]SAISIE!AU46=1,F46 & " " & "sans porc ","")))
B47: ='[1]Fiche d''informations'!B65 -> 41 | C47: ='[1]Fiche d''informations'!C65 -> 0 | D47: ='[1]Fiche d''informations'!D65 -> 0 | E47: ='[1]Fiche d''informations'!E65 -> Mme | F47: NOM 41 | G47: =IF([1]SAISIE!AA47=1,'Fiche Agt.Service'!G6,"") | H47: =IF([1]SAISIE!AB47=1,'Fiche Agt.Service'!H6,"") | I47: =IF([1]SAISIE!AC47=1,'Fiche Agt.Service'!I6,"") | J47: =IF([1]SAISIE!AD47=1,'Fiche Agt.Service'!J6,"") | K47: =IF([1]SAISIE!AE47=1,'Fiche Agt.Service'!K6,"") | L47: =IF([1]SAISIE!AF47=1,'Fiche Agt.Service'!L6,"") | M47: =IF([1]SAISIE!BH47=1,'Fiche Agt.Service'!M6,"") | N47: =IF([1]SAISIE!BI47=1,'Fiche Agt.Service'!N6,"") | O47: =IF([1]SAISIE!BJ47=1,'Fiche Agt.Service'!O6,"") | P47: =IF([1]SAISIE!BK47=1,'Fiche Agt.Service'!P6,"") | Q47: =IF([1]SAISIE!BL47=1,'Fiche Agt.Service'!Q6,"") | R47: =IF([1]SAISIE!BM47=1,'Fiche Agt.Service'!R6,"") | S47: =CONCATENATE(IF([1]SAISIE!J47=1,"salle"," "), IF([1]SAISIE!K47=1,"logement"," ")) | T47: =IF(S47="salle ", F47 & " " & G47 & H47 & I47 & J47 & K47 & L47 & " ","") | U47: =IF(S47=" logement", F47 & " " & M47 & N47 & O47 & P47 & Q47 & R47 & " ","") | V47: =CONCATENATE((IF(SUM([1]SAISIE!BN47:BP47)=0,"-",INDEX(B162:B164,MATCH(1,[1]SAISIE!BN47:BP47,0)))),(CONCATENATE(G47,H47,I47,J47,K47,L47,M47,N47,O47,P47,Q47,R47))) -> - | W47: =IF(V47=B162,F47 &" "," ") | X47: =IF(V47=B163, F47 & " "," ") | Y47: =IF(V47=B164, F47 & " "," ") | Z47: =CONCATENATE((IF(SUM([1]SAISIE!BQ47:BR47)=0,"-",INDEX(B165:B166,MATCH(1,[1]SAISIE!BQ47:BR47,0)))),(CONCATENATE(G47,H47,I47,J47,K47,L47,M47,N47,O47,P47,Q47,R47))) -> - | AA47: =IF(Z47=B165, F47 &" "," ") | AB47: =IF(Z47=B166,F47 &" "," ") | AC47: =CONCATENATE((IF(SUM([1]SAISIE!BS47:BT47)=0,"-",INDEX(B167:B168,MATCH(1,[1]SAISIE!BS47:BT47,0)))),(CONCATENATE(G47,H47,I47,J47,K47,L47,M47,N47,O47,P47,Q47,R47))) -> - | AD47: =IF(AC47=B167, F47 &" "," ") | AE47: =IF(AC47=B168,F47 &" "," ") | AF47: =CONCATENATE((IF(SUM([1]SAISIE!BU47:BW47)=0,"-",INDEX(B169:B171,MATCH(1,[1]SAISIE!BU47:BW47,0)))),(CONCATENATE(G47,H47,I47,J47,K47,L47,M47,N47,O47,P47,Q47,R47))) -> - | AG47: =IF(AF47=B169, F47 &" "," ") | AH47: =IF(AF47=B170,F47 & " "," ") | AI47: =IF(AF47=B171,F47 & " "," ") | AJ47: =CONCATENATE((IF(SUM([1]SAISIE!BX47:BY47)=0,"-",INDEX(B172:B173,MATCH(1,[1]SAISIE!BX47:BY47,0)))),(CONCATENATE(G47,H47,I47,J47,K47,L47,M47,N47,O47,P47,Q47,R47))) -> - | AK47: =IF(AJ47=B172,F47 &" "," ") | AL47: =IF(AJ47=B173,F47 & " "," ") | AN47: =CONCATENATE((IF([1]SAISIE!AG47=1,F47 & " " & "normal ","")),(IF([1]SAISIE!AH47=1,F47 & " " & "diab ","")),(IF([1]SAISIE!AI47=1,F47 & " " & "diab s sel ","")),(IF([1]SAISIE!AJ47=1, F47 & " " & "mixé ","")),(IF([1]SAISIE!AK47=1,F47 & " " & "sans sel ","")),(IF([1]SAISIE!AL47=1,F47 & " " & "sans graisse ","")),,(IF([1]SAISIE!AM47=1,F47 & " " & "sans gr s sel ",""))) | AO47: =CONCATENATE((IF([1]SAISIE!AN47=1,F47 & " " & "normal ","")),(IF([1]SAISIE!AO47=1,F47 & " " & "diab ","")),(IF([1]SAISIE!AP47=1,F47 & " " & "diab s sel ","")),(IF([1]SAISIE!AQ47=1,F47 & " " & "mixé ","")),(IF([1]SAISIE!AR47=1,F47 & " " & "sans sel ","")),(IF([1]SAISIE!AS47=1,F47 & " " & "sans graisse ","")),,(IF([1]SAISIE!AT47=1,F47 & " " & "sans gr s sel ","")),(IF([1]SAISIE!AU47=1,F47 & " " & "sans porc ","")))
B48: ='[1]Fiche d''informations'!B66 -> 42 | C48: ='[1]Fiche d''informations'!C66 -> 0 | D48: ='[1]Fiche d''informations'!D66 -> 0 | E48: ='[1]Fiche d''informations'!E66 -> Mme | F48: NOM 42 | G48: =IF([1]SAISIE!AA48=1,'Fiche Agt.Service'!G6,"") | H48: =IF([1]SAISIE!AB48=1,'Fiche Agt.Service'!H6,"") | I48: =IF([1]SAISIE!AC48=1,'Fiche Agt.Service'!I6,"") | J48: =IF([1]SAISIE!AD48=1,'Fiche Agt.Service'!J6,"") | K48: =IF([1]SAISIE!AE48=1,'Fiche Agt.Service'!K6,"") | L48: =IF([1]SAISIE!AF48=1,'Fiche Agt.Service'!L6,"") | M48: =IF([1]SAISIE!BH48=1,'Fiche Agt.Service'!M6,"") | N48: =IF([1]SAISIE!BI48=1,'Fiche Agt.Service'!N6,"") | O48: =IF([1]SAISIE!BJ48=1,'Fiche Agt.Service'!O6,"") | P48: =IF([1]SAISIE!BK48=1,'Fiche Agt.Service'!P6,"") | Q48: =IF([1]SAISIE!BL48=1,'Fiche Agt.Service'!Q6,"") | R48: =IF([1]SAISIE!BM48=1,'Fiche Agt.Service'!R6,"") | S48: =CONCATENATE(IF([1]SAISIE!J48=1,"salle"," "), IF([1]SAISIE!K48=1,"logement"," ")) | T48: =IF(S48="salle ", F48 & " " & G48 & H48 & I48 & J48 & K48 & L48 & " ","") | U48: =IF(S48=" logement", F48 & " " & M48 & N48 & O48 & P48 & Q48 & R48 & " ","") | V48: =CONCATENATE((IF(SUM([1]SAISIE!BN48:BP48)=0,"-",INDEX(B162:B164,MATCH(1,[1]SAISIE!BN48:BP48,0)))),(CONCATENATE(G48,H48,I48,J48,K48,L48,M48,N48,O48,P48,Q48,R48))) -> - | W48: =IF(V48=B162,F48 &" "," ") | X48: =IF(V48=B163, F48 & " "," ") | Y48: =IF(V48=B164, F48 & " "," ") | Z48: =CONCATENATE((IF(SUM([1]SAISIE!BQ48:BR48)=0,"-",INDEX(B165:B166,MATCH(1,[1]SAISIE!BQ48:BR48,0)))),(CONCATENATE(G48,H48,I48,J48,K48,L48,M48,N48,O48,P48,Q48,R48))) -> - | AA48: =IF(Z48=B165, F48 &" "," ") | AB48: =IF(Z48=B166,F48 &" "," ") | AC48: =CONCATENATE((IF(SUM([1]SAISIE!BS48:BT48)=0,"-",INDEX(B167:B168,MATCH(1,[1]SAISIE!BS48:BT48,0)))),(CONCATENATE(G48,H48,I48,J48,K48,L48,M48,N48,O48,P48,Q48,R48))) -> - | AD48: =IF(AC48=B167, F48 &" "," ") | AE48: =IF(AC48=B168,F48 &" "," ") | AF48: =CONCATENATE((IF(SUM([1]SAISIE!BU48:BW48)=0,"-",INDEX(B169:B171,MATCH(1,[1]SAISIE!BU48:BW48,0)))),(CONCATENATE(G48,H48,I48,J48,K48,L48,M48,N48,O48,P48,Q48,R48))) -> - | AG48: =IF(AF48=B169, F48 &" "," ") | AH48: =IF(AF48=B170,F48 & " "," ") | AI48: =IF(AF48=B171,F48 & " "," ") | AJ48: =CONCATENATE((IF(SUM([1]SAISIE!BX48:BY48)=0,"-",INDEX(B172:B173,MATCH(1,[1]SAISIE!BX48:BY48,0)))),(CONCATENATE(G48,H48,I48,J48,K48,L48,M48,N48,O48,P48,Q48,R48))) -> - | AK48: =IF(AJ48=B172,F48 &" "," ") | AL48: =IF(AJ48=B173,F48 & " "," ") | AN48: =CONCATENATE((IF([1]SAISIE!AG48=1,F48 & " " & "normal ","")),(IF([1]SAISIE!AH48=1,F48 & " " & "diab ","")),(IF([1]SAISIE!AI48=1,F48 & " " & "diab s sel ","")),(IF([1]SAISIE!AJ48=1, F48 & " " & "mixé ","")),(IF([1]SAISIE!AK48=1,F48 & " " & "sans sel ","")),(IF([1]SAISIE!AL48=1,F48 & " " & "sans graisse ","")),,(IF([1]SAISIE!AM48=1,F48 & " " & "sans gr s sel ",""))) | AO48: =CONCATENATE((IF([1]SAISIE!AN48=1,F48 & " " & "normal ","")),(IF([1]SAISIE!AO48=1,F48 & " " & "diab ","")),(IF([1]SAISIE!AP48=1,F48 & " " & "diab s sel ","")),(IF([1]SAISIE!AQ48=1,F48 & " " & "mixé ","")),(IF([1]SAISIE!AR48=1,F48 & " " & "sans sel ","")),(IF([1]SAISIE!AS48=1,F48 & " " & "sans graisse ","")),,(IF([1]SAISIE!AT48=1,F48 & " " & "sans gr s sel ","")),(IF([1]SAISIE!AU48=1,F48 & " " & "sans porc ","")))
B49: ='[1]Fiche d''informations'!B67 -> 43 | C49: ='[1]Fiche d''informations'!C67 -> 0 | D49: ='[1]Fiche d''informations'!D67 -> 0 | E49: ='[1]Fiche d''informations'!E67 -> Mme | F49: NOM 43 | G49: =IF([1]SAISIE!AA49=1,'Fiche Agt.Service'!G6,"") | H49: =IF([1]SAISIE!AB49=1,'Fiche Agt.Service'!H6,"") | I49: =IF([1]SAISIE!AC49=1,'Fiche Agt.Service'!I6,"") | J49: =IF([1]SAISIE!AD49=1,'Fiche Agt.Service'!J6,"") | K49: =IF([1]SAISIE!AE49=1,'Fiche Agt.Service'!K6,"") | L49: =IF([1]SAISIE!AF49=1,'Fiche Agt.Service'!L6,"") | M49: =IF([1]SAISIE!BH49=1,'Fiche Agt.Service'!M6,"") | N49: =IF([1]SAISIE!BI49=1,'Fiche Agt.Service'!N6,"") | O49: =IF([1]SAISIE!BJ49=1,'Fiche Agt.Service'!O6,"") | P49: =IF([1]SAISIE!BK49=1,'Fiche Agt.Service'!P6,"") | Q49: =IF([1]SAISIE!BL49=1,'Fiche Agt.Service'!Q6,"") | R49: =IF([1]SAISIE!BM49=1,'Fiche Agt.Service'!R6,"") | S49: =CONCATENATE(IF([1]SAISIE!J49=1,"salle"," "), IF([1]SAISIE!K49=1,"logement"," ")) | T49: =IF(S49="salle ", F49 & " " & G49 & H49 & I49 & J49 & K49 & L49 & " ","") | U49: =IF(S49=" logement", F49 & " " & M49 & N49 & O49 & P49 & Q49 & R49 & " ","") | V49: =CONCATENATE((IF(SUM([1]SAISIE!BN49:BP49)=0,"-",INDEX(B162:B164,MATCH(1,[1]SAISIE!BN49:BP49,0)))),(CONCATENATE(G49,H49,I49,J49,K49,L49,M49,N49,O49,P49,Q49,R49))) -> - | W49: =IF(V49=B162,F49 &" "," ") | X49: =IF(V49=B163, F49 & " "," ") | Y49: =IF(V49=B164, F49 & " "," ") | Z49: =CONCATENATE((IF(SUM([1]SAISIE!BQ49:BR49)=0,"-",INDEX(B165:B166,MATCH(1,[1]SAISIE!BQ49:BR49,0)))),(CONCATENATE(G49,H49,I49,J49,K49,L49,M49,N49,O49,P49,Q49,R49))) -> - | AA49: =IF(Z49=B165, F49 &" "," ") | AB49: =IF(Z49=B166,F49 &" "," ") | AC49: =CONCATENATE((IF(SUM([1]SAISIE!BS49:BT49)=0,"-",INDEX(B167:B168,MATCH(1,[1]SAISIE!BS49:BT49,0)))),(CONCATENATE(G49,H49,I49,J49,K49,L49,M49,N49,O49,P49,Q49,R49))) -> - | AD49: =IF(AC49=B167, F49 &" "," ") | AE49: =IF(AC49=B168,F49 &" "," ") | AF49: =CONCATENATE((IF(SUM([1]SAISIE!BU49:BW49)=0,"-",INDEX(B169:B171,MATCH(1,[1]SAISIE!BU49:BW49,0)))),(CONCATENATE(G49,H49,I49,J49,K49,L49,M49,N49,O49,P49,Q49,R49))) -> - | AG49: =IF(AF49=B169, F49 &" "," ") | AH49: =IF(AF49=B170,F49 & " "," ") | AI49: =IF(AF49=B171,F49 & " "," ") | AJ49: =CONCATENATE((IF(SUM([1]SAISIE!BX49:BY49)=0,"-",INDEX(B172:B173,MATCH(1,[1]SAISIE!BX49:BY49,0)))),(CONCATENATE(G49,H49,I49,J49,K49,L49,M49,N49,O49,P49,Q49,R49))) -> - | AK49: =IF(AJ49=B172,F49 &" "," ") | AL49: =IF(AJ49=B173,F49 & " "," ") | AN49: =CONCATENATE((IF([1]SAISIE!AG49=1,F49 & " " & "normal ","")),(IF([1]SAISIE!AH49=1,F49 & " " & "diab ","")),(IF([1]SAISIE!AI49=1,F49 & " " & "diab s sel ","")),(IF([1]SAISIE!AJ49=1, F49 & " " & "mixé ","")),(IF([1]SAISIE!AK49=1,F49 & " " & "sans sel ","")),(IF([1]SAISIE!AL49=1,F49 & " " & "sans graisse ","")),,(IF([1]SAISIE!AM49=1,F49 & " " & "sans gr s sel ",""))) | AO49: =CONCATENATE((IF([1]SAISIE!AN49=1,F49 & " " & "normal ","")),(IF([1]SAISIE!AO49=1,F49 & " " & "diab ","")),(IF([1]SAISIE!AP49=1,F49 & " " & "diab s sel ","")),(IF([1]SAISIE!AQ49=1,F49 & " " & "mixé ","")),(IF([1]SAISIE!AR49=1,F49 & " " & "sans sel ","")),(IF([1]SAISIE!AS49=1,F49 & " " & "sans graisse ","")),,(IF([1]SAISIE!AT49=1,F49 & " " & "sans gr s sel ","")),(IF([1]SAISIE!AU49=1,F49 & " " & "sans porc ","")))
B50: ='[1]Fiche d''informations'!B68 -> 44 | C50: ='[1]Fiche d''informations'!C68 -> 0 | D50: ='[1]Fiche d''informations'!D68 -> 0 | E50: ='[1]Fiche d''informations'!E68 -> Mme | F50: NOM 44 | G50: =IF([1]SAISIE!AA50=1,'Fiche Agt.Service'!G6,"") | H50: =IF([1]SAISIE!AB50=1,'Fiche Agt.Service'!H6,"") | I50: =IF([1]SAISIE!AC50=1,'Fiche Agt.Service'!I6,"") | J50: =IF([1]SAISIE!AD50=1,'Fiche Agt.Service'!J6,"") | K50: =IF([1]SAISIE!AE50=1,'Fiche Agt.Service'!K6,"") | L50: =IF([1]SAISIE!AF50=1,'Fiche Agt.Service'!L6,"") | M50: =IF([1]SAISIE!BH50=1,'Fiche Agt.Service'!M6,"") | N50: =IF([1]SAISIE!BI50=1,'Fiche Agt.Service'!N6,"") | O50: =IF([1]SAISIE!BJ50=1,'Fiche Agt.Service'!O6,"") | P50: =IF([1]SAISIE!BK50=1,'Fiche Agt.Service'!P6,"") | Q50: =IF([1]SAISIE!BL50=1,'Fiche Agt.Service'!Q6,"") | R50: =IF([1]SAISIE!BM50=1,'Fiche Agt.Service'!R6,"") | S50: =CONCATENATE(IF([1]SAISIE!J50=1,"salle"," "), IF([1]SAISIE!K50=1,"logement"," ")) | T50: =IF(S50="salle ", F50 & " " & G50 & H50 & I50 & J50 & K50 & L50 & " ","") | U50: =IF(S50=" logement", F50 & " " & M50 & N50 & O50 & P50 & Q50 & R50 & " ","") | V50: =CONCATENATE((IF(SUM([1]SAISIE!BN50:BP50)=0,"-",INDEX(B162:B164,MATCH(1,[1]SAISIE!BN50:BP50,0)))),(CONCATENATE(G50,H50,I50,J50,K50,L50,M50,N50,O50,P50,Q50,R50))) -> - | W50: =IF(V50=B162,F50 &" "," ") | X50: =IF(V50=B163, F50 & " "," ") | Y50: =IF(V50=B164, F50 & " "," ") | Z50: =CONCATENATE((IF(SUM([1]SAISIE!BQ50:BR50)=0,"-",INDEX(B165:B166,MATCH(1,[1]SAISIE!BQ50:BR50,0)))),(CONCATENATE(G50,H50,I50,J50,K50,L50,M50,N50,O50,P50,Q50,R50))) -> - | AA50: =IF(Z50=B165, F50 &" "," ") | AB50: =IF(Z50=B166,F50 &" "," ") | AC50: =CONCATENATE((IF(SUM([1]SAISIE!BS50:BT50)=0,"-",INDEX(B167:B168,MATCH(1,[1]SAISIE!BS50:BT50,0)))),(CONCATENATE(G50,H50,I50,J50,K50,L50,M50,N50,O50,P50,Q50,R50))) -> - | AD50: =IF(AC50=B167, F50 &" "," ") | AE50: =IF(AC50=B168,F50 &" "," ") | AF50: =CONCATENATE((IF(SUM([1]SAISIE!BU50:BW50)=0,"-",INDEX(B169:B171,MATCH(1,[1]SAISIE!BU50:BW50,0)))),(CONCATENATE(G50,H50,I50,J50,K50,L50,M50,N50,O50,P50,Q50,R50))) -> - | AG50: =IF(AF50=B169, F50 &" "," ") | AH50: =IF(AF50=B170,F50 & " "," ") | AI50: =IF(AF50=B171,F50 & " "," ") | AJ50: =CONCATENATE((IF(SUM([1]SAISIE!BX50:BY50)=0,"-",INDEX(B172:B173,MATCH(1,[1]SAISIE!BX50:BY50,0)))),(CONCATENATE(G50,H50,I50,J50,K50,L50,M50,N50,O50,P50,Q50,R50))) -> - | AK50: =IF(AJ50=B172,F50 &" "," ") | AL50: =IF(AJ50=B173,F50 & " "," ") | AN50: =CONCATENATE((IF([1]SAISIE!AG50=1,F50 & " " & "normal ","")),(IF([1]SAISIE!AH50=1,F50 & " " & "diab ","")),(IF([1]SAISIE!AI50=1,F50 & " " & "diab s sel ","")),(IF([1]SAISIE!AJ50=1, F50 & " " & "mixé ","")),(IF([1]SAISIE!AK50=1,F50 & " " & "sans sel ","")),(IF([1]SAISIE!AL50=1,F50 & " " & "sans graisse ","")),,(IF([1]SAISIE!AM50=1,F50 & " " & "sans gr s sel ",""))) | AO50: =CONCATENATE((IF([1]SAISIE!AN50=1,F50 & " " & "normal ","")),(IF([1]SAISIE!AO50=1,F50 & " " & "diab ","")),(IF([1]SAISIE!AP50=1,F50 & " " & "diab s sel ","")),(IF([1]SAISIE!AQ50=1,F50 & " " & "mixé ","")),(IF([1]SAISIE!AR50=1,F50 & " " & "sans sel ","")),(IF([1]SAISIE!AS50=1,F50 & " " & "sans graisse ","")),,(IF([1]SAISIE!AT50=1,F50 & " " & "sans gr s sel ","")),(IF([1]SAISIE!AU50=1,F50 & " " & "sans porc ","")))
B51: ='[1]Fiche d''informations'!B69 -> 45 | C51: ='[1]Fiche d''informations'!C69 -> 0 | D51: ='[1]Fiche d''informations'!D69 -> 0 | E51: ='[1]Fiche d''informations'!E69 -> 0 | F51: NOM 45 | G51: =IF([1]SAISIE!AA51=1,'Fiche Agt.Service'!G6,"") | H51: =IF([1]SAISIE!AB51=1,'Fiche Agt.Service'!H6,"") | I51: =IF([1]SAISIE!AC51=1,'Fiche Agt.Service'!I6,"") | J51: =IF([1]SAISIE!AD51=1,'Fiche Agt.Service'!J6,"") | K51: =IF([1]SAISIE!AE51=1,'Fiche Agt.Service'!K6,"") | L51: =IF([1]SAISIE!AF51=1,'Fiche Agt.Service'!L6,"") | M51: =IF([1]SAISIE!BH51=1,'Fiche Agt.Service'!M6,"") | N51: =IF([1]SAISIE!BI51=1,'Fiche Agt.Service'!N6,"") | O51: =IF([1]SAISIE!BJ51=1,'Fiche Agt.Service'!O6,"") | P51: =IF([1]SAISIE!BK51=1,'Fiche Agt.Service'!P6,"") | Q51: =IF([1]SAISIE!BL51=1,'Fiche Agt.Service'!Q6,"") | R51: =IF([1]SAISIE!BM51=1,'Fiche Agt.Service'!R6,"") | S51: =CONCATENATE(IF([1]SAISIE!J51=1,"salle"," "), IF([1]SAISIE!K51=1,"logement"," ")) | T51: =IF(S51="salle ", F51 & " " & G51 & H51 & I51 & J51 & K51 & L51 & " ","") | U51: =IF(S51=" logement", F51 & " " & M51 & N51 & O51 & P51 & Q51 & R51 & " ","") | V51: =CONCATENATE((IF(SUM([1]SAISIE!BN51:BP51)=0,"-",INDEX(B162:B164,MATCH(1,[1]SAISIE!BN51:BP51,0)))),(CONCATENATE(G51,H51,I51,J51,K51,L51,M51,N51,O51,P51,Q51,R51))) -> - | W51: =IF(V51=B162,F51 &" "," ") | X51: =IF(V51=B163, F51 & " "," ") | Y51: =IF(V51=B164, F51 & " "," ") | Z51: =CONCATENATE((IF(SUM([1]SAISIE!BQ51:BR51)=0,"-",INDEX(B165:B166,MATCH(1,[1]SAISIE!BQ51:BR51,0)))),(CONCATENATE(G51,H51,I51,J51,K51,L51,M51,N51,O51,P51,Q51,R51))) -> - | AA51: =IF(Z51=B165, F51 &" "," ") | AB51: =IF(Z51=B166,F51 &" "," ") | AC51: =CONCATENATE((IF(SUM([1]SAISIE!BS51:BT51)=0,"-",INDEX(B167:B168,MATCH(1,[1]SAISIE!BS51:BT51,0)))),(CONCATENATE(G51,H51,I51,J51,K51,L51,M51,N51,O51,P51,Q51,R51))) -> - | AD51: =IF(AC51=B167, F51 &" "," ") | AE51: =IF(AC51=B168,F51 &" "," ") | AF51: =CONCATENATE((IF(SUM([1]SAISIE!BU51:BW51)=0,"-",INDEX(B169:B171,MATCH(1,[1]SAISIE!BU51:BW51,0)))),(CONCATENATE(G51,H51,I51,J51,K51,L51,M51,N51,O51,P51,Q51,R51))) -> - | AG51: =IF(AF51=B169, F51 &" "," ") | AH51: =IF(AF51=B170,F51 & " "," ") | AI51: =IF(AF51=B171,F51 & " "," ") | AJ51: =CONCATENATE((IF(SUM([1]SAISIE!BX51:BY51)=0,"-",INDEX(B172:B173,MATCH(1,[1]SAISIE!BX51:BY51,0)))),(CONCATENATE(G51,H51,I51,J51,K51,L51,M51,N51,O51,P51,Q51,R51))) -> - | AK51: =IF(AJ51=B172,F51 &" "," ") | AL51: =IF(AJ51=B173,F51 & " "," ") | AN51: =CONCATENATE((IF([1]SAISIE!AG51=1,F51 & " " & "normal ","")),(IF([1]SAISIE!AH51=1,F51 & " " & "diab ","")),(IF([1]SAISIE!AI51=1,F51 & " " & "diab s sel ","")),(IF([1]SAISIE!AJ51=1, F51 & " " & "mixé ","")),(IF([1]SAISIE!AK51=1,F51 & " " & "sans sel ","")),(IF([1]SAISIE!AL51=1,F51 & " " & "sans graisse ","")),,(IF([1]SAISIE!AM51=1,F51 & " " & "sans gr s sel ",""))) | AO51: =CONCATENATE((IF([1]SAISIE!AN51=1,F51 & " " & "normal ","")),(IF([1]SAISIE!AO51=1,F51 & " " & "diab ","")),(IF([1]SAISIE!AP51=1,F51 & " " & "diab s sel ","")),(IF([1]SAISIE!AQ51=1,F51 & " " & "mixé ","")),(IF([1]SAISIE!AR51=1,F51 & " " & "sans sel ","")),(IF([1]SAISIE!AS51=1,F51 & " " & "sans graisse ","")),,(IF([1]SAISIE!AT51=1,F51 & " " & "sans gr s sel ","")),(IF([1]SAISIE!AU51=1,F51 & " " & "sans porc ","")))
B52: ='[1]Fiche d''informations'!B70 -> 47 | C52: ='[1]Fiche d''informations'!C70 -> 1 | D52: ='[1]Fiche d''informations'!D70 -> 11 | E52: ='[1]Fiche d''informations'!E70 -> Mme | F52: NOM 46 | G52: =IF([1]SAISIE!AA52=1,'Fiche Agt.Service'!G6,"") | H52: =IF([1]SAISIE!AB52=1,'Fiche Agt.Service'!H6,"") | I52: =IF([1]SAISIE!AC52=1,'Fiche Agt.Service'!I6,"") | J52: =IF([1]SAISIE!AD52=1,'Fiche Agt.Service'!J6,"") | K52: =IF([1]SAISIE!AE52=1,'Fiche Agt.Service'!K6,"") | L52: =IF([1]SAISIE!AF52=1,'Fiche Agt.Service'!L6,"") | M52: =IF([1]SAISIE!BH52=1,'Fiche Agt.Service'!M6,"") | N52: =IF([1]SAISIE!BI52=1,'Fiche Agt.Service'!N6,"") | O52: =IF([1]SAISIE!BJ52=1,'Fiche Agt.Service'!O6,"") | P52: =IF([1]SAISIE!BK52=1,'Fiche Agt.Service'!P6,"") | Q52: =IF([1]SAISIE!BL52=1,'Fiche Agt.Service'!Q6,"") | R52: =IF([1]SAISIE!BM52=1,'Fiche Agt.Service'!R6,"") | S52: =CONCATENATE(IF([1]SAISIE!J52=1,"salle"," "), IF([1]SAISIE!K52=1,"logement"," ")) -> salle | T52: =IF(S52="salle ", F52 & " " & G52 & H52 & I52 & J52 & K52 & L52 & " ","") -> NOM 46 | U52: =IF(S52=" logement", F52 & " " & M52 & N52 & O52 & P52 & Q52 & R52 & " ","") | V52: =CONCATENATE((IF(SUM([1]SAISIE!BN52:BP52)=0,"-",INDEX(B162:B164,MATCH(1,[1]SAISIE!BN52:BP52,0)))),(CONCATENATE(G52,H52,I52,J52,K52,L52,M52,N52,O52,P52,Q52,R52))) -> Potage Tourangelle | W52: =IF(V52=B162,F52 &" "," ") | X52: =IF(V52=B163, F52 & " "," ") -> NOM 46 | Y52: =IF(V52=B164, F52 & " "," ") | Z52: =CONCATENATE((IF(SUM([1]SAISIE!BQ52:BR52)=0,"-",INDEX(B165:B166,MATCH(1,[1]SAISIE!BQ52:BR52,0)))),(CONCATENATE(G52,H52,I52,J52,K52,L52,M52,N52,O52,P52,Q52,R52))) -> Nuggets de volaille | AA52: =IF(Z52=B165, F52 &" "," ") -> NOM 46 | AB52: =IF(Z52=B166,F52 &" "," ") | AC52: =CONCATENATE((IF(SUM([1]SAISIE!BS52:BT52)=0,"-",INDEX(B167:B168,MATCH(1,[1]SAISIE!BS52:BT52,0)))),(CONCATENATE(G52,H52,I52,J52,K52,L52,M52,N52,O52,P52,Q52,R52))) -> Gratin de courgettes | AD52: =IF(AC52=B167, F52 &" "," ") -> NOM 46 | AE52: =IF(AC52=B168,F52 &" "," ") | AF52: =CONCATENATE((IF(SUM([1]SAISIE!BU52:BW52)=0,"-",INDEX(B169:B171,MATCH(1,[1]SAISIE!BU52:BW52,0)))),(CONCATENATE(G52,H52,I52,J52,K52,L52,M52,N52,O52,P52,Q52,R52))) -> Yaourt aux fruits | AG52: =IF(AF52=B169, F52 &" "," ") | AH52: =IF(AF52=B170,F52 & " "," ") -> NOM 46 | AI52: =IF(AF52=B171,F52 & " "," ") | AJ52: =CONCATENATE((IF(SUM([1]SAISIE!BX52:BY52)=0,"-",INDEX(B172:B173,MATCH(1,[1]SAISIE!BX52:BY52,0)))),(CONCATENATE(G52,H52,I52,J52,K52,L52,M52,N52,O52,P52,Q52,R52))) -> Fruit | AK52: =IF(AJ52=B172,F52 &" "," ") -> NOM 46 | AL52: =IF(AJ52=B173,F52 & " "," ") | AN52: =CONCATENATE((IF([1]SAISIE!AG52=1,F52 & " " & "normal ","")),(IF([1]SAISIE!AH52=1,F52 & " " & "diab ","")),(IF([1]SAISIE!AI52=1,F52 & " " & "diab s sel ","")),(IF([1]SAISIE!AJ52=1, F52 & " " & "mixé ","")),(IF([1]SAISIE!AK52=1,F52 & " " & "sans sel ","")),(IF([1]SAISIE!AL52=1,F52 & " " & "sans graisse ","")),,(IF([1]SAISIE!AM52=1,F52 & " " & "sans gr s sel ",""))) | AO52: =CONCATENATE((IF([1]SAISIE!AN52=1,F52 & " " & "normal ","")),(IF([1]SAISIE!AO52=1,F52 & " " & "diab ","")),(IF([1]SAISIE!AP52=1,F52 & " " & "diab s sel ","")),(IF([1]SAISIE!AQ52=1,F52 & " " & "mixé ","")),(IF([1]SAISIE!AR52=1,F52 & " " & "sans sel ","")),(IF([1]SAISIE!AS52=1,F52 & " " & "sans graisse ","")),,(IF([1]SAISIE!AT52=1,F52 & " " & "sans gr s sel ","")),(IF([1]SAISIE!AU52=1,F52 & " " & "sans porc ","")))
B53: ='[1]Fiche d''informations'!B71 -> 48 | C53: ='[1]Fiche d''informations'!C71 -> 1 | D53: ='[1]Fiche d''informations'!D71 -> 6 | E53: ='[1]Fiche d''informations'!E71 -> Mme | F53: NOM 47 | G53: =IF([1]SAISIE!AA53=1,'Fiche Agt.Service'!G6,"") | H53: =IF([1]SAISIE!AB53=1,'Fiche Agt.Service'!H6,"") | I53: =IF([1]SAISIE!AC53=1,'Fiche Agt.Service'!I6,"") | J53: =IF([1]SAISIE!AD53=1,'Fiche Agt.Service'!J6,"") | K53: =IF([1]SAISIE!AE53=1,'Fiche Agt.Service'!K6,"") | L53: =IF([1]SAISIE!AF53=1,'Fiche Agt.Service'!L6,"") | M53: =IF([1]SAISIE!BH53=1,'Fiche Agt.Service'!M6,"") | N53: =IF([1]SAISIE!BI53=1,'Fiche Agt.Service'!N6,"") | O53: =IF([1]SAISIE!BJ53=1,'Fiche Agt.Service'!O6,"") | P53: =IF([1]SAISIE!BK53=1,'Fiche Agt.Service'!P6,"") | Q53: =IF([1]SAISIE!BL53=1,'Fiche Agt.Service'!Q6,"") | R53: =IF([1]SAISIE!BM53=1,'Fiche Agt.Service'!R6,"") | S53: =CONCATENATE(IF([1]SAISIE!J53=1,"salle"," "), IF([1]SAISIE!K53=1,"logement"," ")) | T53: =IF(S53="salle ", F53 & " " & G53 & H53 & I53 & J53 & K53 & L53 & " ","") | U53: =IF(S53=" logement", F53 & " " & M53 & N53 & O53 & P53 & Q53 & R53 & " ","") | V53: =CONCATENATE((IF(SUM([1]SAISIE!BN53:BP53)=0,"-",INDEX(B162:B164,MATCH(1,[1]SAISIE!BN53:BP53,0)))),(CONCATENATE(G53,H53,I53,J53,K53,L53,M53,N53,O53,P53,Q53,R53))) -> - | W53: =IF(V53=B162,F53 &" "," ") | X53: =IF(V53=B163, F53 & " "," ") | Y53: =IF(V53=B164, F53 & " "," ") | Z53: =CONCATENATE((IF(SUM([1]SAISIE!BQ53:BR53)=0,"-",INDEX(B165:B166,MATCH(1,[1]SAISIE!BQ53:BR53,0)))),(CONCATENATE(G53,H53,I53,J53,K53,L53,M53,N53,O53,P53,Q53,R53))) -> - | AA53: =IF(Z53=B165, F53 &" "," ") | AB53: =IF(Z53=B166,F53 &" "," ") | AC53: =CONCATENATE((IF(SUM([1]SAISIE!BS53:BT53)=0,"-",INDEX(B167:B168,MATCH(1,[1]SAISIE!BS53:BT53,0)))),(CONCATENATE(G53,H53,I53,J53,K53,L53,M53,N53,O53,P53,Q53,R53))) -> - | AD53: =IF(AC53=B167, F53 &" "," ") | AE53: =IF(AC53=B168,F53 &" "," ") | AF53: =CONCATENATE((IF(SUM([1]SAISIE!BU53:BW53)=0,"-",INDEX(B169:B171,MATCH(1,[1]SAISIE!BU53:BW53,0)))),(CONCATENATE(G53,H53,I53,J53,K53,L53,M53,N53,O53,P53,Q53,R53))) -> - | AG53: =IF(AF53=B169, F53 &" "," ") | AH53: =IF(AF53=B170,F53 & " "," ") | AI53: =IF(AF53=B171,F53 & " "," ") | AJ53: =CONCATENATE((IF(SUM([1]SAISIE!BX53:BY53)=0,"-",INDEX(B172:B173,MATCH(1,[1]SAISIE!BX53:BY53,0)))),(CONCATENATE(G53,H53,I53,J53,K53,L53,M53,N53,O53,P53,Q53,R53))) -> - | AK53: =IF(AJ53=B172,F53 &" "," ") | AL53: =IF(AJ53=B173,F53 & " "," ") | AN53: =CONCATENATE((IF([1]SAISIE!AG53=1,F53 & " " & "normal ","")),(IF([1]SAISIE!AH53=1,F53 & " " & "diab ","")),(IF([1]SAISIE!AI53=1,F53 & " " & "diab s sel ","")),(IF([1]SAISIE!AJ53=1, F53 & " " & "mixé ","")),(IF([1]SAISIE!AK53=1,F53 & " " & "sans sel ","")),(IF([1]SAISIE!AL53=1,F53 & " " & "sans graisse ","")),,(IF([1]SAISIE!AM53=1,F53 & " " & "sans gr s sel ",""))) | AO53: =CONCATENATE((IF([1]SAISIE!AN53=1,F53 & " " & "normal ","")),(IF([1]SAISIE!AO53=1,F53 & " " & "diab ","")),(IF([1]SAISIE!AP53=1,F53 & " " & "diab s sel ","")),(IF([1]SAISIE!AQ53=1,F53 & " " & "mixé ","")),(IF([1]SAISIE!AR53=1,F53 & " " & "sans sel ","")),(IF([1]SAISIE!AS53=1,F53 & " " & "sans graisse ","")),,(IF([1]SAISIE!AT53=1,F53 & " " & "sans gr s sel ","")),(IF([1]SAISIE!AU53=1,F53 & " " & "sans porc ","")))
B54: ='[1]Fiche d''informations'!B72 -> 49 | C54: ='[1]Fiche d''informations'!C72 -> 0 | D54: ='[1]Fiche d''informations'!D72 -> 0 | E54: ='[1]Fiche d''informations'!E72 -> Mme | F54: NOM 48 | G54: =IF([1]SAISIE!AA54=1,'Fiche Agt.Service'!G6,"") | H54: =IF([1]SAISIE!AB54=1,'Fiche Agt.Service'!H6,"") | I54: =IF([1]SAISIE!AC54=1,'Fiche Agt.Service'!I6,"") | J54: =IF([1]SAISIE!AD54=1,'Fiche Agt.Service'!J6,"") | K54: =IF([1]SAISIE!AE54=1,'Fiche Agt.Service'!K6,"") | L54: =IF([1]SAISIE!AF54=1,'Fiche Agt.Service'!L6,"") | M54: =IF([1]SAISIE!BH54=1,'Fiche Agt.Service'!M6,"") | N54: =IF([1]SAISIE!BI54=1,'Fiche Agt.Service'!N6,"") | O54: =IF([1]SAISIE!BJ54=1,'Fiche Agt.Service'!O6,"") | P54: =IF([1]SAISIE!BK54=1,'Fiche Agt.Service'!P6,"") | Q54: =IF([1]SAISIE!BL54=1,'Fiche Agt.Service'!Q6,"") | R54: =IF([1]SAISIE!BM54=1,'Fiche Agt.Service'!R6,"") | S54: =CONCATENATE(IF([1]SAISIE!J54=1,"salle"," "), IF([1]SAISIE!K54=1,"logement"," ")) | T54: =IF(S54="salle ", F54 & " " & G54 & H54 & I54 & J54 & K54 & L54 & " ","") | U54: =IF(S54=" logement", F54 & " " & M54 & N54 & O54 & P54 & Q54 & R54 & " ","") | V54: =CONCATENATE((IF(SUM([1]SAISIE!BN54:BP54)=0,"-",INDEX(B162:B164,MATCH(1,[1]SAISIE!BN54:BP54,0)))),(CONCATENATE(G54,H54,I54,J54,K54,L54,M54,N54,O54,P54,Q54,R54))) -> - | W54: =IF(V54=B162,F54 &" "," ") | X54: =IF(V54=B163, F54 & " "," ") | Y54: =IF(V54=B164, F54 & " "," ") | Z54: =CONCATENATE((IF(SUM([1]SAISIE!BQ54:BR54)=0,"-",INDEX(B165:B166,MATCH(1,[1]SAISIE!BQ54:BR54,0)))),(CONCATENATE(G54,H54,I54,J54,K54,L54,M54,N54,O54,P54,Q54,R54))) -> - | AA54: =IF(Z54=B165, F54 &" "," ") | AB54: =IF(Z54=B166,F54 &" "," ") | AC54: =CONCATENATE((IF(SUM([1]SAISIE!BS54:BT54)=0,"-",INDEX(B167:B168,MATCH(1,[1]SAISIE!BS54:BT54,0)))),(CONCATENATE(G54,H54,I54,J54,K54,L54,M54,N54,O54,P54,Q54,R54))) -> - | AD54: =IF(AC54=B167, F54 &" "," ") | AE54: =IF(AC54=B168,F54 &" "," ") | AF54: =CONCATENATE((IF(SUM([1]SAISIE!BU54:BW54)=0,"-",INDEX(B169:B171,MATCH(1,[1]SAISIE!BU54:BW54,0)))),(CONCATENATE(G54,H54,I54,J54,K54,L54,M54,N54,O54,P54,Q54,R54))) -> - | AG54: =IF(AF54=B169, F54 &" "," ") | AH54: =IF(AF54=B170,F54 & " "," ") | AI54: =IF(AF54=B171,F54 & " "," ") | AJ54: =CONCATENATE((IF(SUM([1]SAISIE!BX54:BY54)=0,"-",INDEX(B172:B173,MATCH(1,[1]SAISIE!BX54:BY54,0)))),(CONCATENATE(G54,H54,I54,J54,K54,L54,M54,N54,O54,P54,Q54,R54))) -> - | AK54: =IF(AJ54=B172,F54 &" "," ") | AL54: =IF(AJ54=B173,F54 & " "," ") | AN54: =CONCATENATE((IF([1]SAISIE!AG54=1,F54 & " " & "normal ","")),(IF([1]SAISIE!AH54=1,F54 & " " & "diab ","")),(IF([1]SAISIE!AI54=1,F54 & " " & "diab s sel ","")),(IF([1]SAISIE!AJ54=1, F54 & " " & "mixé ","")),(IF([1]SAISIE!AK54=1,F54 & " " & "sans sel ","")),(IF([1]SAISIE!AL54=1,F54 & " " & "sans graisse ","")),,(IF([1]SAISIE!AM54=1,F54 & " " & "sans gr s sel ",""))) | AO54: =CONCATENATE((IF([1]SAISIE!AN54=1,F54 & " " & "normal ","")),(IF([1]SAISIE!AO54=1,F54 & " " & "diab ","")),(IF([1]SAISIE!AP54=1,F54 & " " & "diab s sel ","")),(IF([1]SAISIE!AQ54=1,F54 & " " & "mixé ","")),(IF([1]SAISIE!AR54=1,F54 & " " & "sans sel ","")),(IF([1]SAISIE!AS54=1,F54 & " " & "sans graisse ","")),,(IF([1]SAISIE!AT54=1,F54 & " " & "sans gr s sel ","")),(IF([1]SAISIE!AU54=1,F54 & " " & "sans porc ","")))
B55: ='[1]Fiche d''informations'!B73 -> 50 | C55: ='[1]Fiche d''informations'!C73 -> 0 | D55: ='[1]Fiche d''informations'!D73 -> 0 | E55: ='[1]Fiche d''informations'!E73 -> Mme | F55: NOM 49 | G55: =IF([1]SAISIE!AA55=1,'Fiche Agt.Service'!G6,"") | H55: =IF([1]SAISIE!AB55=1,'Fiche Agt.Service'!H6,"") | I55: =IF([1]SAISIE!AC55=1,'Fiche Agt.Service'!I6,"") | J55: =IF([1]SAISIE!AD55=1,'Fiche Agt.Service'!J6,"") | K55: =IF([1]SAISIE!AE55=1,'Fiche Agt.Service'!K6,"") | L55: =IF([1]SAISIE!AF55=1,'Fiche Agt.Service'!L6,"") | M55: =IF([1]SAISIE!BH55=1,'Fiche Agt.Service'!M6,"") | N55: =IF([1]SAISIE!BI55=1,'Fiche Agt.Service'!N6,"") | O55: =IF([1]SAISIE!BJ55=1,'Fiche Agt.Service'!O6,"") | P55: =IF([1]SAISIE!BK55=1,'Fiche Agt.Service'!P6,"") | Q55: =IF([1]SAISIE!BL55=1,'Fiche Agt.Service'!Q6,"") | R55: =IF([1]SAISIE!BM55=1,'Fiche Agt.Service'!R6,"") | S55: =CONCATENATE(IF([1]SAISIE!J55=1,"salle"," "), IF([1]SAISIE!K55=1,"logement"," ")) | T55: =IF(S55="salle ", F55 & " " & G55 & H55 & I55 & J55 & K55 & L55 & " ","") | U55: =IF(S55=" logement", F55 & " " & M55 & N55 & O55 & P55 & Q55 & R55 & " ","") | V55: =CONCATENATE((IF(SUM([1]SAISIE!BN55:BP55)=0,"-",INDEX(B162:B164,MATCH(1,[1]SAISIE!BN55:BP55,0)))),(CONCATENATE(G55,H55,I55,J55,K55,L55,M55,N55,O55,P55,Q55,R55))) -> - | W55: =IF(V55=B162,F55 &" "," ") | X55: =IF(V55=B163, F55 & " "," ") | Y55: =IF(V55=B164, F55 & " "," ") | Z55: =CONCATENATE((IF(SUM([1]SAISIE!BQ55:BR55)=0,"-",INDEX(B165:B166,MATCH(1,[1]SAISIE!BQ55:BR55,0)))),(CONCATENATE(G55,H55,I55,J55,K55,L55,M55,N55,O55,P55,Q55,R55))) -> - | AA55: =IF(Z55=B165, F55 &" "," ") | AB55: =IF(Z55=B166,F55 &" "," ") | AC55: =CONCATENATE((IF(SUM([1]SAISIE!BS55:BT55)=0,"-",INDEX(B167:B168,MATCH(1,[1]SAISIE!BS55:BT55,0)))),(CONCATENATE(G55,H55,I55,J55,K55,L55,M55,N55,O55,P55,Q55,R55))) -> - | AD55: =IF(AC55=B167, F55 &" "," ") | AE55: =IF(AC55=B168,F55 &" "," ") | AF55: =CONCATENATE((IF(SUM([1]SAISIE!BU55:BW55)=0,"-",INDEX(B169:B171,MATCH(1,[1]SAISIE!BU55:BW55,0)))),(CONCATENATE(G55,H55,I55,J55,K55,L55,M55,N55,O55,P55,Q55,R55))) -> - | AG55: =IF(AF55=B169, F55 &" "," ") | AH55: =IF(AF55=B170,F55 & " "," ") | AI55: =IF(AF55=B171,F55 & " "," ") | AJ55: =CONCATENATE((IF(SUM([1]SAISIE!BX55:BY55)=0,"-",INDEX(B172:B173,MATCH(1,[1]SAISIE!BX55:BY55,0)))),(CONCATENATE(G55,H55,I55,J55,K55,L55,M55,N55,O55,P55,Q55,R55))) -> - | AK55: =IF(AJ55=B172,F55 &" "," ") | AL55: =IF(AJ55=B173,F55 & " "," ") | AN55: =CONCATENATE((IF([1]SAISIE!AG55=1,F55 & " " & "normal ","")),(IF([1]SAISIE!AH55=1,F55 & " " & "diab ","")),(IF([1]SAISIE!AI55=1,F55 & " " & "diab s sel ","")),(IF([1]SAISIE!AJ55=1, F55 & " " & "mixé ","")),(IF([1]SAISIE!AK55=1,F55 & " " & "sans sel ","")),(IF([1]SAISIE!AL55=1,F55 & " " & "sans graisse ","")),,(IF([1]SAISIE!AM55=1,F55 & " " & "sans gr s sel ",""))) | AO55: =CONCATENATE((IF([1]SAISIE!AN55=1,F55 & " " & "normal ","")),(IF([1]SAISIE!AO55=1,F55 & " " & "diab ","")),(IF([1]SAISIE!AP55=1,F55 & " " & "diab s sel ","")),(IF([1]SAISIE!AQ55=1,F55 & " " & "mixé ","")),(IF([1]SAISIE!AR55=1,F55 & " " & "sans sel ","")),(IF([1]SAISIE!AS55=1,F55 & " " & "sans graisse ","")),,(IF([1]SAISIE!AT55=1,F55 & " " & "sans gr s sel ","")),(IF([1]SAISIE!AU55=1,F55 & " " & "sans porc ","")))
B56: ='[1]Fiche d''informations'!B74 -> 51 | C56: ='[1]Fiche d''informations'!C74 -> 1 | D56: ='[1]Fiche d''informations'!D74 -> 5 | E56: ='[1]Fiche d''informations'!E74 -> Mme | F56: NOM 50 | G56: =IF([1]SAISIE!AA56=1,'Fiche Agt.Service'!G6,"") | H56: =IF([1]SAISIE!AB56=1,'Fiche Agt.Service'!H6,"") | I56: =IF([1]SAISIE!AC56=1,'Fiche Agt.Service'!I6,"") | J56: =IF([1]SAISIE!AD56=1,'Fiche Agt.Service'!J6,"") | K56: =IF([1]SAISIE!AE56=1,'Fiche Agt.Service'!K6,"") | L56: =IF([1]SAISIE!AF56=1,'Fiche Agt.Service'!L6,"") | M56: =IF([1]SAISIE!BH56=1,'Fiche Agt.Service'!M6,"") | N56: =IF([1]SAISIE!BI56=1,'Fiche Agt.Service'!N6,"") | O56: =IF([1]SAISIE!BJ56=1,'Fiche Agt.Service'!O6,"") | P56: =IF([1]SAISIE!BK56=1,'Fiche Agt.Service'!P6,"") | Q56: =IF([1]SAISIE!BL56=1,'Fiche Agt.Service'!Q6,"") | R56: =IF([1]SAISIE!BM56=1,'Fiche Agt.Service'!R6,"") | S56: =CONCATENATE(IF([1]SAISIE!J56=1,"salle"," "), IF([1]SAISIE!K56=1,"logement"," ")) -> salle | T56: =IF(S56="salle ", F56 & " " & G56 & H56 & I56 & J56 & K56 & L56 & " ","") -> NOM 50 | U56: =IF(S56=" logement", F56 & " " & M56 & N56 & O56 & P56 & Q56 & R56 & " ","") | V56: =CONCATENATE((IF(SUM([1]SAISIE!BN56:BP56)=0,"-",INDEX(B162:B164,MATCH(1,[1]SAISIE!BN56:BP56,0)))),(CONCATENATE(G56,H56,I56,J56,K56,L56,M56,N56,O56,P56,Q56,R56))) -> Friand au fromage | W56: =IF(V56=B162,F56 &" "," ") -> NOM 50 | X56: =IF(V56=B163, F56 & " "," ") | Y56: =IF(V56=B164, F56 & " "," ") | Z56: =CONCATENATE((IF(SUM([1]SAISIE!BQ56:BR56)=0,"-",INDEX(B165:B166,MATCH(1,[1]SAISIE!BQ56:BR56,0)))),(CONCATENATE(G56,H56,I56,J56,K56,L56,M56,N56,O56,P56,Q56,R56))) -> Dés de colin sauce curry | AA56: =IF(Z56=B165, F56 &" "," ") | AB56: =IF(Z56=B166,F56 &" "," ") -> NOM 50 | AC56: =CONCATENATE((IF(SUM([1]SAISIE!BS56:BT56)=0,"-",INDEX(B167:B168,MATCH(1,[1]SAISIE!BS56:BT56,0)))),(CONCATENATE(G56,H56,I56,J56,K56,L56,M56,N56,O56,P56,Q56,R56))) -> Pommes de terre persillées | AD56: =IF(AC56=B167, F56 &" "," ") | AE56: =IF(AC56=B168,F56 &" "," ") -> NOM 50 | AF56: =CONCATENATE((IF(SUM([1]SAISIE!BU56:BW56)=0,"-",INDEX(B169:B171,MATCH(1,[1]SAISIE!BU56:BW56,0)))),(CONCATENATE(G56,H56,I56,J56,K56,L56,M56,N56,O56,P56,Q56,R56))) -> Camembert | AG56: =IF(AF56=B169, F56 &" "," ") | AH56: =IF(AF56=B170,F56 & " "," ") | AI56: =IF(AF56=B171,F56 & " "," ") -> NOM 50 | AJ56: =CONCATENATE((IF(SUM([1]SAISIE!BX56:BY56)=0,"-",INDEX(B172:B173,MATCH(1,[1]SAISIE!BX56:BY56,0)))),(CONCATENATE(G56,H56,I56,J56,K56,L56,M56,N56,O56,P56,Q56,R56))) -> Pêches au sirop | AK56: =IF(AJ56=B172,F56 &" "," ") | AL56: =IF(AJ56=B173,F56 & " "," ") -> NOM 50 | AN56: =CONCATENATE((IF([1]SAISIE!AG56=1,F56 & " " & "normal ","")),(IF([1]SAISIE!AH56=1,F56 & " " & "diab ","")),(IF([1]SAISIE!AI56=1,F56 & " " & "diab s sel ","")),(IF([1]SAISIE!AJ56=1, F56 & " " & "mixé ","")),(IF([1]SAISIE!AK56=1,F56 & " " & "sans sel ","")),(IF([1]SAISIE!AL56=1,F56 & " " & "sans graisse ","")),,(IF([1]SAISIE!AM56=1,F56 & " " & "sans gr s sel ",""))) | AO56: =CONCATENATE((IF([1]SAISIE!AN56=1,F56 & " " & "normal ","")),(IF([1]SAISIE!AO56=1,F56 & " " & "diab ","")),(IF([1]SAISIE!AP56=1,F56 & " " & "diab s sel ","")),(IF([1]SAISIE!AQ56=1,F56 & " " & "mixé ","")),(IF([1]SAISIE!AR56=1,F56 & " " & "sans sel ","")),(IF([1]SAISIE!AS56=1,F56 & " " & "sans graisse ","")),,(IF([1]SAISIE!AT56=1,F56 & " " & "sans gr s sel ","")),(IF([1]SAISIE!AU56=1,F56 & " " & "sans porc ","")))
B57: ='[1]Fiche d''informations'!B75 -> 52 | C57: ='[1]Fiche d''informations'!C75 -> 0 | D57: ='[1]Fiche d''informations'!D75 -> 0 | E57: ='[1]Fiche d''informations'!E75 -> Mme | F57: NOM 51 | G57: =IF([1]SAISIE!AA57=1,'Fiche Agt.Service'!G6,"") | H57: =IF([1]SAISIE!AB57=1,'Fiche Agt.Service'!H6,"") | I57: =IF([1]SAISIE!AC57=1,'Fiche Agt.Service'!I6,"") | J57: =IF([1]SAISIE!AD57=1,'Fiche Agt.Service'!J6,"") | K57: =IF([1]SAISIE!AE57=1,'Fiche Agt.Service'!K6,"") | L57: =IF([1]SAISIE!AF57=1,'Fiche Agt.Service'!L6,"") | M57: =IF([1]SAISIE!BH57=1,'Fiche Agt.Service'!M6,"") | N57: =IF([1]SAISIE!BI57=1,'Fiche Agt.Service'!N6,"") | O57: =IF([1]SAISIE!BJ57=1,'Fiche Agt.Service'!O6,"") | P57: =IF([1]SAISIE!BK57=1,'Fiche Agt.Service'!P6,"") | Q57: =IF([1]SAISIE!BL57=1,'Fiche Agt.Service'!Q6,"") | R57: =IF([1]SAISIE!BM57=1,'Fiche Agt.Service'!R6,"") | S57: =CONCATENATE(IF([1]SAISIE!J57=1,"salle"," "), IF([1]SAISIE!K57=1,"logement"," ")) | T57: =IF(S57="salle ", F57 & " " & G57 & H57 & I57 & J57 & K57 & L57 & " ","") | U57: =IF(S57=" logement", F57 & " " & M57 & N57 & O57 & P57 & Q57 & R57 & " ","") | V57: =CONCATENATE((IF(SUM([1]SAISIE!BN57:BP57)=0,"-",INDEX(B162:B164,MATCH(1,[1]SAISIE!BN57:BP57,0)))),(CONCATENATE(G57,H57,I57,J57,K57,L57,M57,N57,O57,P57,Q57,R57))) -> - | W57: =IF(V57=B162,F57 &" "," ") | X57: =IF(V57=B163, F57 & " "," ") | Y57: =IF(V57=B164, F57 & " "," ") | Z57: =CONCATENATE((IF(SUM([1]SAISIE!BQ57:BR57)=0,"-",INDEX(B165:B166,MATCH(1,[1]SAISIE!BQ57:BR57,0)))),(CONCATENATE(G57,H57,I57,J57,K57,L57,M57,N57,O57,P57,Q57,R57))) -> - | AA57: =IF(Z57=B165, F57 &" "," ") | AB57: =IF(Z57=B166,F57 &" "," ") | AC57: =CONCATENATE((IF(SUM([1]SAISIE!BS57:BT57)=0,"-",INDEX(B167:B168,MATCH(1,[1]SAISIE!BS57:BT57,0)))),(CONCATENATE(G57,H57,I57,J57,K57,L57,M57,N57,O57,P57,Q57,R57))) -> - | AD57: =IF(AC57=B167, F57 &" "," ") | AE57: =IF(AC57=B168,F57 &" "," ") | AF57: =CONCATENATE((IF(SUM([1]SAISIE!BU57:BW57)=0,"-",INDEX(B169:B171,MATCH(1,[1]SAISIE!BU57:BW57,0)))),(CONCATENATE(G57,H57,I57,J57,K57,L57,M57,N57,O57,P57,Q57,R57))) -> - | AG57: =IF(AF57=B169, F57 &" "," ") | AH57: =IF(AF57=B170,F57 & " "," ") | AI57: =IF(AF57=B171,F57 & " "," ") | AJ57: =CONCATENATE((IF(SUM([1]SAISIE!BX57:BY57)=0,"-",INDEX(B172:B173,MATCH(1,[1]SAISIE!BX57:BY57,0)))),(CONCATENATE(G57,H57,I57,J57,K57,L57,M57,N57,O57,P57,Q57,R57))) -> - | AK57: =IF(AJ57=B172,F57 &" "," ") | AL57: =IF(AJ57=B173,F57 & " "," ") | AN57: =CONCATENATE((IF([1]SAISIE!AG57=1,F57 & " " & "normal ","")),(IF([1]SAISIE!AH57=1,F57 & " " & "diab ","")),(IF([1]SAISIE!AI57=1,F57 & " " & "diab s sel ","")),(IF([1]SAISIE!AJ57=1, F57 & " " & "mixé ","")),(IF([1]SAISIE!AK57=1,F57 & " " & "sans sel ","")),(IF([1]SAISIE!AL57=1,F57 & " " & "sans graisse ","")),,(IF([1]SAISIE!AM57=1,F57 & " " & "sans gr s sel ",""))) | AO57: =CONCATENATE((IF([1]SAISIE!AN57=1,F57 & " " & "normal ","")),(IF([1]SAISIE!AO57=1,F57 & " " & "diab ","")),(IF([1]SAISIE!AP57=1,F57 & " " & "diab s sel ","")),(IF([1]SAISIE!AQ57=1,F57 & " " & "mixé ","")),(IF([1]SAISIE!AR57=1,F57 & " " & "sans sel ","")),(IF([1]SAISIE!AS57=1,F57 & " " & "sans graisse ","")),,(IF([1]SAISIE!AT57=1,F57 & " " & "sans gr s sel ","")),(IF([1]SAISIE!AU57=1,F57 & " " & "sans porc ","")))
B58: ='[1]Fiche d''informations'!B76 -> 53 | C58: ='[1]Fiche d''informations'!C76 -> 1 | D58: ='[1]Fiche d''informations'!D76 -> 6 | E58: ='[1]Fiche d''informations'!E76 -> Mme | F58: NOM 52 | G58: =IF([1]SAISIE!AA58=1,'Fiche Agt.Service'!G6,"") | H58: =IF([1]SAISIE!AB58=1,'Fiche Agt.Service'!H6,"") | I58: =IF([1]SAISIE!AC58=1,'Fiche Agt.Service'!I6,"") | J58: =IF([1]SAISIE!AD58=1,'Fiche Agt.Service'!J6,"") | K58: =IF([1]SAISIE!AE58=1,'Fiche Agt.Service'!K6,"") | L58: =IF([1]SAISIE!AF58=1,'Fiche Agt.Service'!L6,"") | M58: =IF([1]SAISIE!BH58=1,'Fiche Agt.Service'!M6,"") | N58: =IF([1]SAISIE!BI58=1,'Fiche Agt.Service'!N6,"") | O58: =IF([1]SAISIE!BJ58=1,'Fiche Agt.Service'!O6,"") | P58: =IF([1]SAISIE!BK58=1,'Fiche Agt.Service'!P6,"") | Q58: =IF([1]SAISIE!BL58=1,'Fiche Agt.Service'!Q6,"") | R58: =IF([1]SAISIE!BM58=1,'Fiche Agt.Service'!R6,"") | S58: =CONCATENATE(IF([1]SAISIE!J58=1,"salle"," "), IF([1]SAISIE!K58=1,"logement"," ")) -> salle | T58: =IF(S58="salle ", F58 & " " & G58 & H58 & I58 & J58 & K58 & L58 & " ","") -> NOM 52 | U58: =IF(S58=" logement", F58 & " " & M58 & N58 & O58 & P58 & Q58 & R58 & " ","") | V58: =CONCATENATE((IF(SUM([1]SAISIE!BN58:BP58)=0,"-",INDEX(B162:B164,MATCH(1,[1]SAISIE!BN58:BP58,0)))),(CONCATENATE(G58,H58,I58,J58,K58,L58,M58,N58,O58,P58,Q58,R58))) -> Friand au fromage | W58: =IF(V58=B162,F58 &" "," ") -> NOM 52 | X58: =IF(V58=B163, F58 & " "," ") | Y58: =IF(V58=B164, F58 & " "," ") | Z58: =CONCATENATE((IF(SUM([1]SAISIE!BQ58:BR58)=0,"-",INDEX(B165:B166,MATCH(1,[1]SAISIE!BQ58:BR58,0)))),(CONCATENATE(G58,H58,I58,J58,K58,L58,M58,N58,O58,P58,Q58,R58))) -> Nuggets de volaille | AA58: =IF(Z58=B165, F58 &" "," ") -> NOM 52 | AB58: =IF(Z58=B166,F58 &" "," ") | AC58: =CONCATENATE((IF(SUM([1]SAISIE!BS58:BT58)=0,"-",INDEX(B167:B168,MATCH(1,[1]SAISIE!BS58:BT58,0)))),(CONCATENATE(G58,H58,I58,J58,K58,L58,M58,N58,O58,P58,Q58,R58))) -> Gratin de courgettes | AD58: =IF(AC58=B167, F58 &" "," ") -> NOM 52 | AE58: =IF(AC58=B168,F58 &" "," ") | AF58: =CONCATENATE((IF(SUM([1]SAISIE!BU58:BW58)=0,"-",INDEX(B169:B171,MATCH(1,[1]SAISIE!BU58:BW58,0)))),(CONCATENATE(G58,H58,I58,J58,K58,L58,M58,N58,O58,P58,Q58,R58))) -> Edam | AG58: =IF(AF58=B169, F58 &" "," ") -> NOM 52 | AH58: =IF(AF58=B170,F58 & " "," ") | AI58: =IF(AF58=B171,F58 & " "," ") | AJ58: =CONCATENATE((IF(SUM([1]SAISIE!BX58:BY58)=0,"-",INDEX(B172:B173,MATCH(1,[1]SAISIE!BX58:BY58,0)))),(CONCATENATE(G58,H58,I58,J58,K58,L58,M58,N58,O58,P58,Q58,R58))) -> Fruit | AK58: =IF(AJ58=B172,F58 &" "," ") -> NOM 52 | AL58: =IF(AJ58=B173,F58 & " "," ") | AN58: =CONCATENATE((IF([1]SAISIE!AG58=1,F58 & " " & "normal ","")),(IF([1]SAISIE!AH58=1,F58 & " " & "diab ","")),(IF([1]SAISIE!AI58=1,F58 & " " & "diab s sel ","")),(IF([1]SAISIE!AJ58=1, F58 & " " & "mixé ","")),(IF([1]SAISIE!AK58=1,F58 & " " & "sans sel ","")),(IF([1]SAISIE!AL58=1,F58 & " " & "sans graisse ","")),,(IF([1]SAISIE!AM58=1,F58 & " " & "sans gr s sel ",""))) | AO58: =CONCATENATE((IF([1]SAISIE!AN58=1,F58 & " " & "normal ","")),(IF([1]SAISIE!AO58=1,F58 & " " & "diab ","")),(IF([1]SAISIE!AP58=1,F58 & " " & "diab s sel ","")),(IF([1]SAISIE!AQ58=1,F58 & " " & "mixé ","")),(IF([1]SAISIE!AR58=1,F58 & " " & "sans sel ","")),(IF([1]SAISIE!AS58=1,F58 & " " & "sans graisse ","")),,(IF([1]SAISIE!AT58=1,F58 & " " & "sans gr s sel ","")),(IF([1]SAISIE!AU58=1,F58 & " " & "sans porc ","")))
B59: ='[1]Fiche d''informations'!B77 -> 54 | C59: ='[1]Fiche d''informations'!C77 -> 1 | D59: ='[1]Fiche d''informations'!D77 -> 6 | E59: ='[1]Fiche d''informations'!E77 -> Mme | F59: NOM 53 | G59: =IF([1]SAISIE!AA59=1,'Fiche Agt.Service'!G6,"") | H59: =IF([1]SAISIE!AB59=1,'Fiche Agt.Service'!H6,"") | I59: =IF([1]SAISIE!AC59=1,'Fiche Agt.Service'!I6,"") | J59: =IF([1]SAISIE!AD59=1,'Fiche Agt.Service'!J6,"") -> Sans Sel | K59: =IF([1]SAISIE!AE59=1,'Fiche Agt.Service'!K6,"") | L59: =IF([1]SAISIE!AF59=1,'Fiche Agt.Service'!L6,"") | M59: =IF([1]SAISIE!BH59=1,'Fiche Agt.Service'!M6,"") | N59: =IF([1]SAISIE!BI59=1,'Fiche Agt.Service'!N6,"") | O59: =IF([1]SAISIE!BJ59=1,'Fiche Agt.Service'!O6,"") | P59: =IF([1]SAISIE!BK59=1,'Fiche Agt.Service'!P6,"") | Q59: =IF([1]SAISIE!BL59=1,'Fiche Agt.Service'!Q6,"") | R59: =IF([1]SAISIE!BM59=1,'Fiche Agt.Service'!R6,"") | S59: =CONCATENATE(IF([1]SAISIE!J59=1,"salle"," "), IF([1]SAISIE!K59=1,"logement"," ")) -> salle | T59: =IF(S59="salle ", F59 & " " & G59 & H59 & I59 & J59 & K59 & L59 & " ","") -> NOM 53 Sans Sel | U59: =IF(S59=" logement", F59 & " " & M59 & N59 & O59 & P59 & Q59 & R59 & " ","") | V59: =CONCATENATE((IF(SUM([1]SAISIE!BN59:BP59)=0,"-",INDEX(B162:B164,MATCH(1,[1]SAISIE!BN59:BP59,0)))),(CONCATENATE(G59,H59,I59,J59,K59,L59,M59,N59,O59,P59,Q59,R59))) -> -Sans Sel | W59: =IF(V59=B162,F59 &" "," ") | X59: =IF(V59=B163, F59 & " "," ") | Y59: =IF(V59=B164, F59 & " "," ") | Z59: =CONCATENATE((IF(SUM([1]SAISIE!BQ59:BR59)=0,"-",INDEX(B165:B166,MATCH(1,[1]SAISIE!BQ59:BR59,0)))),(CONCATENATE(G59,H59,I59,J59,K59,L59,M59,N59,O59,P59,Q59,R59))) -> -Sans Sel | AA59: =IF(Z59=B165, F59 &" "," ") | AB59: =IF(Z59=B166,F59 &" "," ") | AC59: =CONCATENATE((IF(SUM([1]SAISIE!BS59:BT59)=0,"-",INDEX(B167:B168,MATCH(1,[1]SAISIE!BS59:BT59,0)))),(CONCATENATE(G59,H59,I59,J59,K59,L59,M59,N59,O59,P59,Q59,R59))) -> -Sans Sel | AD59: =IF(AC59=B167, F59 &" "," ") | AE59: =IF(AC59=B168,F59 &" "," ") | AF59: =CONCATENATE((IF(SUM([1]SAISIE!BU59:BW59)=0,"-",INDEX(B169:B171,MATCH(1,[1]SAISIE!BU59:BW59,0)))),(CONCATENATE(G59,H59,I59,J59,K59,L59,M59,N59,O59,P59,Q59,R59))) -> -Sans Sel | AG59: =IF(AF59=B169, F59 &" "," ") | AH59: =IF(AF59=B170,F59 & " "," ") | AI59: =IF(AF59=B171,F59 & " "," ") | AJ59: =CONCATENATE((IF(SUM([1]SAISIE!BX59:BY59)=0,"-",INDEX(B172:B173,MATCH(1,[1]SAISIE!BX59:BY59,0)))),(CONCATENATE(G59,H59,I59,J59,K59,L59,M59,N59,O59,P59,Q59,R59))) -> -Sans Sel | AK59: =IF(AJ59=B172,F59 &" "," ") | AL59: =IF(AJ59=B173,F59 & " "," ") | AN59: =CONCATENATE((IF([1]SAISIE!AG59=1,F59 & " " & "normal ","")),(IF([1]SAISIE!AH59=1,F59 & " " & "diab ","")),(IF([1]SAISIE!AI59=1,F59 & " " & "diab s sel ","")),(IF([1]SAISIE!AJ59=1, F59 & " " & "mixé ","")),(IF([1]SAISIE!AK59=1,F59 & " " & "sans sel ","")),(IF([1]SAISIE!AL59=1,F59 & " " & "sans graisse ","")),,(IF([1]SAISIE!AM59=1,F59 & " " & "sans gr s sel ",""))) | AO59: =CONCATENATE((IF([1]SAISIE!AN59=1,F59 & " " & "normal ","")),(IF([1]SAISIE!AO59=1,F59 & " " & "diab ","")),(IF([1]SAISIE!AP59=1,F59 & " " & "diab s sel ","")),(IF([1]SAISIE!AQ59=1,F59 & " " & "mixé ","")),(IF([1]SAISIE!AR59=1,F59 & " " & "sans sel ","")),(IF([1]SAISIE!AS59=1,F59 & " " & "sans graisse ","")),,(IF([1]SAISIE!AT59=1,F59 & " " & "sans gr s sel ","")),(IF([1]SAISIE!AU59=1,F59 & " " & "sans porc ","")))
B60: ='[1]Fiche d''informations'!B78 -> 55 | C60: ='[1]Fiche d''informations'!C78 -> 0 | D60: ='[1]Fiche d''informations'!D78 -> 0 | E60: ='[1]Fiche d''informations'!E78 -> Mme | F60: NOM 54 | G60: =IF([1]SAISIE!AA60=1,'Fiche Agt.Service'!G6,"") | H60: =IF([1]SAISIE!AB60=1,'Fiche Agt.Service'!H6,"") | I60: =IF([1]SAISIE!AC60=1,'Fiche Agt.Service'!I6,"") | J60: =IF([1]SAISIE!AD60=1,'Fiche Agt.Service'!J6,"") | K60: =IF([1]SAISIE!AE60=1,'Fiche Agt.Service'!K6,"") | L60: =IF([1]SAISIE!AF60=1,'Fiche Agt.Service'!L6,"") | M60: =IF([1]SAISIE!BH60=1,'Fiche Agt.Service'!M6,"") | N60: =IF([1]SAISIE!BI60=1,'Fiche Agt.Service'!N6,"") | O60: =IF([1]SAISIE!BJ60=1,'Fiche Agt.Service'!O6,"") | P60: =IF([1]SAISIE!BK60=1,'Fiche Agt.Service'!P6,"") | Q60: =IF([1]SAISIE!BL60=1,'Fiche Agt.Service'!Q6,"") | R60: =IF([1]SAISIE!BM60=1,'Fiche Agt.Service'!R6,"") | S60: =CONCATENATE(IF([1]SAISIE!J60=1,"salle"," "), IF([1]SAISIE!K60=1,"logement"," ")) | T60: =IF(S60="salle ", F60 & " " & G60 & H60 & I60 & J60 & K60 & L60 & " ","") | U60: =IF(S60=" logement", F60 & " " & M60 & N60 & O60 & P60 & Q60 & R60 & " ","") | V60: =CONCATENATE((IF(SUM([1]SAISIE!BN60:BP60)=0,"-",INDEX(B162:B164,MATCH(1,[1]SAISIE!BN60:BP60,0)))),(CONCATENATE(G60,H60,I60,J60,K60,L60,M60,N60,O60,P60,Q60,R60))) -> - | W60: =IF(V60=B162,F60 &" "," ") | X60: =IF(V60=B163, F60 & " "," ") | Y60: =IF(V60=B164, F60 & " "," ") | Z60: =CONCATENATE((IF(SUM([1]SAISIE!BQ60:BR60)=0,"-",INDEX(B165:B166,MATCH(1,[1]SAISIE!BQ60:BR60,0)))),(CONCATENATE(G60,H60,I60,J60,K60,L60,M60,N60,O60,P60,Q60,R60))) -> - | AA60: =IF(Z60=B165, F60 &" "," ") | AB60: =IF(Z60=B166,F60 &" "," ") | AC60: =CONCATENATE((IF(SUM([1]SAISIE!BS60:BT60)=0,"-",INDEX(B167:B168,MATCH(1,[1]SAISIE!BS60:BT60,0)))),(CONCATENATE(G60,H60,I60,J60,K60,L60,M60,N60,O60,P60,Q60,R60))) -> - | AD60: =IF(AC60=B167, F60 &" "," ") | AE60: =IF(AC60=B168,F60 &" "," ") | AF60: =CONCATENATE((IF(SUM([1]SAISIE!BU60:BW60)=0,"-",INDEX(B169:B171,MATCH(1,[1]SAISIE!BU60:BW60,0)))),(CONCATENATE(G60,H60,I60,J60,K60,L60,M60,N60,O60,P60,Q60,R60))) -> - | AG60: =IF(AF60=B169, F60 &" "," ") | AH60: =IF(AF60=B170,F60 & " "," ") | AI60: =IF(AF60=B171,F60 & " "," ") | AJ60: =CONCATENATE((IF(SUM([1]SAISIE!BX60:BY60)=0,"-",INDEX(B172:B173,MATCH(1,[1]SAISIE!BX60:BY60,0)))),(CONCATENATE(G60,H60,I60,J60,K60,L60,M60,N60,O60,P60,Q60,R60))) -> - | AK60: =IF(AJ60=B172,F60 &" "," ") | AL60: =IF(AJ60=B173,F60 & " "," ") | AN60: =CONCATENATE((IF([1]SAISIE!AG60=1,F60 & " " & "normal ","")),(IF([1]SAISIE!AH60=1,F60 & " " & "diab ","")),(IF([1]SAISIE!AI60=1,F60 & " " & "diab s sel ","")),(IF([1]SAISIE!AJ60=1, F60 & " " & "mixé ","")),(IF([1]SAISIE!AK60=1,F60 & " " & "sans sel ","")),(IF([1]SAISIE!AL60=1,F60 & " " & "sans graisse ","")),,(IF([1]SAISIE!AM60=1,F60 & " " & "sans gr s sel ",""))) | AO60: =CONCATENATE((IF([1]SAISIE!AN60=1,F60 & " " & "normal ","")),(IF([1]SAISIE!AO60=1,F60 & " " & "diab ","")),(IF([1]SAISIE!AP60=1,F60 & " " & "diab s sel ","")),(IF([1]SAISIE!AQ60=1,F60 & " " & "mixé ","")),(IF([1]SAISIE!AR60=1,F60 & " " & "sans sel ","")),(IF([1]SAISIE!AS60=1,F60 & " " & "sans graisse ","")),,(IF([1]SAISIE!AT60=1,F60 & " " & "sans gr s sel ","")),(IF([1]SAISIE!AU60=1,F60 & " " & "sans porc ","")))
B61: ='[1]Fiche d''informations'!B79 -> 56 | C61: ='[1]Fiche d''informations'!C79 -> 0 | D61: ='[1]Fiche d''informations'!D79 -> 0 | E61: ='[1]Fiche d''informations'!E79 -> Mr | F61: NOM 55 | G61: =IF([1]SAISIE!AA61=1,'Fiche Agt.Service'!G6,"") | H61: =IF([1]SAISIE!AB61=1,'Fiche Agt.Service'!H6,"") | I61: =IF([1]SAISIE!AC61=1,'Fiche Agt.Service'!I6,"") | J61: =IF([1]SAISIE!AD61=1,'Fiche Agt.Service'!J6,"") | K61: =IF([1]SAISIE!AE61=1,'Fiche Agt.Service'!K6,"") | L61: =IF([1]SAISIE!AF61=1,'Fiche Agt.Service'!L6,"") | M61: =IF([1]SAISIE!BH61=1,'Fiche Agt.Service'!M6,"") | N61: =IF([1]SAISIE!BI61=1,'Fiche Agt.Service'!N6,"") | O61: =IF([1]SAISIE!BJ61=1,'Fiche Agt.Service'!O6,"") | P61: =IF([1]SAISIE!BK61=1,'Fiche Agt.Service'!P6,"") | Q61: =IF([1]SAISIE!BL61=1,'Fiche Agt.Service'!Q6,"") | R61: =IF([1]SAISIE!BM61=1,'Fiche Agt.Service'!R6,"") | S61: =CONCATENATE(IF([1]SAISIE!J61=1,"salle"," "), IF([1]SAISIE!K61=1,"logement"," ")) | T61: =IF(S61="salle ", F61 & " " & G61 & H61 & I61 & J61 & K61 & L61 & " ","") | U61: =IF(S61=" logement", F61 & " " & M61 & N61 & O61 & P61 & Q61 & R61 & " ","") | V61: =CONCATENATE((IF(SUM([1]SAISIE!BN61:BP61)=0,"-",INDEX(B162:B164,MATCH(1,[1]SAISIE!BN61:BP61,0)))),(CONCATENATE(G61,H61,I61,J61,K61,L61,M61,N61,O61,P61,Q61,R61))) -> - | W61: =IF(V61=B162,F61 &" "," ") | X61: =IF(V61=B163, F61 & " "," ") | Y61: =IF(V61=B164, F61 & " "," ") | Z61: =CONCATENATE((IF(SUM([1]SAISIE!BQ61:BR61)=0,"-",INDEX(B165:B166,MATCH(1,[1]SAISIE!BQ61:BR61,0)))),(CONCATENATE(G61,H61,I61,J61,K61,L61,M61,N61,O61,P61,Q61,R61))) -> - | AA61: =IF(Z61=B165, F61 &" "," ") | AB61: =IF(Z61=B166,F61 &" "," ") | AC61: =CONCATENATE((IF(SUM([1]SAISIE!BS61:BT61)=0,"-",INDEX(B167:B168,MATCH(1,[1]SAISIE!BS61:BT61,0)))),(CONCATENATE(G61,H61,I61,J61,K61,L61,M61,N61,O61,P61,Q61,R61))) -> - | AD61: =IF(AC61=B167, F61 &" "," ") | AE61: =IF(AC61=B168,F61 &" "," ") | AF61: =CONCATENATE((IF(SUM([1]SAISIE!BU61:BW61)=0,"-",INDEX(B169:B171,MATCH(1,[1]SAISIE!BU61:BW61,0)))),(CONCATENATE(G61,H61,I61,J61,K61,L61,M61,N61,O61,P61,Q61,R61))) -> - | AG61: =IF(AF61=B169, F61 &" "," ") | AH61: =IF(AF61=B170,F61 & " "," ") | AI61: =IF(AF61=B171,F61 & " "," ") | AJ61: =CONCATENATE((IF(SUM([1]SAISIE!BX61:BY61)=0,"-",INDEX(B172:B173,MATCH(1,[1]SAISIE!BX61:BY61,0)))),(CONCATENATE(G61,H61,I61,J61,K61,L61,M61,N61,O61,P61,Q61,R61))) -> - | AK61: =IF(AJ61=B172,F61 &" "," ") | AL61: =IF(AJ61=B173,F61 & " "," ") | AN61: =CONCATENATE((IF([1]SAISIE!AG61=1,F61 & " " & "normal ","")),(IF([1]SAISIE!AH61=1,F61 & " " & "diab ","")),(IF([1]SAISIE!AI61=1,F61 & " " & "diab s sel ","")),(IF([1]SAISIE!AJ61=1, F61 & " " & "mixé ","")),(IF([1]SAISIE!AK61=1,F61 & " " & "sans sel ","")),(IF([1]SAISIE!AL61=1,F61 & " " & "sans graisse ","")),,(IF([1]SAISIE!AM61=1,F61 & " " & "sans gr s sel ",""))) | AO61: =CONCATENATE((IF([1]SAISIE!AN61=1,F61 & " " & "normal ","")),(IF([1]SAISIE!AO61=1,F61 & " " & "diab ","")),(IF([1]SAISIE!AP61=1,F61 & " " & "diab s sel ","")),(IF([1]SAISIE!AQ61=1,F61 & " " & "mixé ","")),(IF([1]SAISIE!AR61=1,F61 & " " & "sans sel ","")),(IF([1]SAISIE!AS61=1,F61 & " " & "sans graisse ","")),,(IF([1]SAISIE!AT61=1,F61 & " " & "sans gr s sel ","")),(IF([1]SAISIE!AU61=1,F61 & " " & "sans porc ","")))
B62: ='[1]Fiche d''informations'!B80 -> 57 | C62: ='[1]Fiche d''informations'!C80 -> 1 | D62: ='[1]Fiche d''informations'!D80 -> 11 | E62: ='[1]Fiche d''informations'!E80 -> Mme | F62: NOM 56 | G62: =IF([1]SAISIE!AA62=1,'Fiche Agt.Service'!G6,"") | H62: =IF([1]SAISIE!AB62=1,'Fiche Agt.Service'!H6,"") | I62: =IF([1]SAISIE!AC62=1,'Fiche Agt.Service'!I6,"") | J62: =IF([1]SAISIE!AD62=1,'Fiche Agt.Service'!J6,"") | K62: =IF([1]SAISIE!AE62=1,'Fiche Agt.Service'!K6,"") | L62: =IF([1]SAISIE!AF62=1,'Fiche Agt.Service'!L6,"") | M62: =IF([1]SAISIE!BH62=1,'Fiche Agt.Service'!M6,"") | N62: =IF([1]SAISIE!BI62=1,'Fiche Agt.Service'!N6,"") | O62: =IF([1]SAISIE!BJ62=1,'Fiche Agt.Service'!O6,"") | P62: =IF([1]SAISIE!BK62=1,'Fiche Agt.Service'!P6,"") | Q62: =IF([1]SAISIE!BL62=1,'Fiche Agt.Service'!Q6,"") | R62: =IF([1]SAISIE!BM62=1,'Fiche Agt.Service'!R6,"") | S62: =CONCATENATE(IF([1]SAISIE!J62=1,"salle"," "), IF([1]SAISIE!K62=1,"logement"," ")) -> salle | T62: =IF(S62="salle ", F62 & " " & G62 & H62 & I62 & J62 & K62 & L62 & " ","") -> NOM 56 | U62: =IF(S62=" logement", F62 & " " & M62 & N62 & O62 & P62 & Q62 & R62 & " ","") | V62: =CONCATENATE((IF(SUM([1]SAISIE!BN62:BP62)=0,"-",INDEX(B162:B164,MATCH(1,[1]SAISIE!BN62:BP62,0)))),(CONCATENATE(G62,H62,I62,J62,K62,L62,M62,N62,O62,P62,Q62,R62))) -> Potage Tourangelle | W62: =IF(V62=B162,F62 &" "," ") | X62: =IF(V62=B163, F62 & " "," ") -> NOM 56 | Y62: =IF(V62=B164, F62 & " "," ") | Z62: =CONCATENATE((IF(SUM([1]SAISIE!BQ62:BR62)=0,"-",INDEX(B165:B166,MATCH(1,[1]SAISIE!BQ62:BR62,0)))),(CONCATENATE(G62,H62,I62,J62,K62,L62,M62,N62,O62,P62,Q62,R62))) -> Dés de colin sauce curry | AA62: =IF(Z62=B165, F62 &" "," ") | AB62: =IF(Z62=B166,F62 &" "," ") -> NOM 56 | AC62: =CONCATENATE((IF(SUM([1]SAISIE!BS62:BT62)=0,"-",INDEX(B167:B168,MATCH(1,[1]SAISIE!BS62:BT62,0)))),(CONCATENATE(G62,H62,I62,J62,K62,L62,M62,N62,O62,P62,Q62,R62))) -> Pommes de terre persillées | AD62: =IF(AC62=B167, F62 &" "," ") | AE62: =IF(AC62=B168,F62 &" "," ") -> NOM 56 | AF62: =CONCATENATE((IF(SUM([1]SAISIE!BU62:BW62)=0,"-",INDEX(B169:B171,MATCH(1,[1]SAISIE!BU62:BW62,0)))),(CONCATENATE(G62,H62,I62,J62,K62,L62,M62,N62,O62,P62,Q62,R62))) -> Yaourt aux fruits | AG62: =IF(AF62=B169, F62 &" "," ") | AH62: =IF(AF62=B170,F62 & " "," ") -> NOM 56 | AI62: =IF(AF62=B171,F62 & " "," ") | AJ62: =CONCATENATE((IF(SUM([1]SAISIE!BX62:BY62)=0,"-",INDEX(B172:B173,MATCH(1,[1]SAISIE!BX62:BY62,0)))),(CONCATENATE(G62,H62,I62,J62,K62,L62,M62,N62,O62,P62,Q62,R62))) -> Fruit | AK62: =IF(AJ62=B172,F62 &" "," ") -> NOM 56 | AL62: =IF(AJ62=B173,F62 & " "," ") | AN62: =CONCATENATE((IF([1]SAISIE!AG62=1,F62 & " " & "normal ","")),(IF([1]SAISIE!AH62=1,F62 & " " & "diab ","")),(IF([1]SAISIE!AI62=1,F62 & " " & "diab s sel ","")),(IF([1]SAISIE!AJ62=1, F62 & " " & "mixé ","")),(IF([1]SAISIE!AK62=1,F62 & " " & "sans sel ","")),(IF([1]SAISIE!AL62=1,F62 & " " & "sans graisse ","")),,(IF([1]SAISIE!AM62=1,F62 & " " & "sans gr s sel ",""))) | AO62: =CONCATENATE((IF([1]SAISIE!AN62=1,F62 & " " & "normal ","")),(IF([1]SAISIE!AO62=1,F62 & " " & "diab ","")),(IF([1]SAISIE!AP62=1,F62 & " " & "diab s sel ","")),(IF([1]SAISIE!AQ62=1,F62 & " " & "mixé ","")),(IF([1]SAISIE!AR62=1,F62 & " " & "sans sel ","")),(IF([1]SAISIE!AS62=1,F62 & " " & "sans graisse ","")),,(IF([1]SAISIE!AT62=1,F62 & " " & "sans gr s sel ","")),(IF([1]SAISIE!AU62=1,F62 & " " & "sans porc ","")))
B63: ='[1]Fiche d''informations'!B81 -> 58 | C63: ='[1]Fiche d''informations'!C81 -> 1 | D63: ='[1]Fiche d''informations'!D81 -> 5 | E63: ='[1]Fiche d''informations'!E81 -> Mme | F63: NOM 57 | G63: =IF([1]SAISIE!AA63=1,'Fiche Agt.Service'!G6,"") | H63: =IF([1]SAISIE!AB63=1,'Fiche Agt.Service'!H6,"") | I63: =IF([1]SAISIE!AC63=1,'Fiche Agt.Service'!I6,"") | J63: =IF([1]SAISIE!AD63=1,'Fiche Agt.Service'!J6,"") | K63: =IF([1]SAISIE!AE63=1,'Fiche Agt.Service'!K6,"") | L63: =IF([1]SAISIE!AF63=1,'Fiche Agt.Service'!L6,"") | M63: =IF([1]SAISIE!BH63=1,'Fiche Agt.Service'!M6,"") | N63: =IF([1]SAISIE!BI63=1,'Fiche Agt.Service'!N6,"") | O63: =IF([1]SAISIE!BJ63=1,'Fiche Agt.Service'!O6,"") | P63: =IF([1]SAISIE!BK63=1,'Fiche Agt.Service'!P6,"") | Q63: =IF([1]SAISIE!BL63=1,'Fiche Agt.Service'!Q6,"") | R63: =IF([1]SAISIE!BM63=1,'Fiche Agt.Service'!R6,"") | S63: =CONCATENATE(IF([1]SAISIE!J63=1,"salle"," "), IF([1]SAISIE!K63=1,"logement"," ")) -> salle | T63: =IF(S63="salle ", F63 & " " & G63 & H63 & I63 & J63 & K63 & L63 & " ","") -> NOM 57 | U63: =IF(S63=" logement", F63 & " " & M63 & N63 & O63 & P63 & Q63 & R63 & " ","") | V63: =CONCATENATE((IF(SUM([1]SAISIE!BN63:BP63)=0,"-",INDEX(B162:B164,MATCH(1,[1]SAISIE!BN63:BP63,0)))),(CONCATENATE(G63,H63,I63,J63,K63,L63,M63,N63,O63,P63,Q63,R63))) -> Friand au fromage | W63: =IF(V63=B162,F63 &" "," ") -> NOM 57 | X63: =IF(V63=B163, F63 & " "," ") | Y63: =IF(V63=B164, F63 & " "," ") | Z63: =CONCATENATE((IF(SUM([1]SAISIE!BQ63:BR63)=0,"-",INDEX(B165:B166,MATCH(1,[1]SAISIE!BQ63:BR63,0)))),(CONCATENATE(G63,H63,I63,J63,K63,L63,M63,N63,O63,P63,Q63,R63))) -> Nuggets de volaille | AA63: =IF(Z63=B165, F63 &" "," ") -> NOM 57 | AB63: =IF(Z63=B166,F63 &" "," ") | AC63: =CONCATENATE((IF(SUM([1]SAISIE!BS63:BT63)=0,"-",INDEX(B167:B168,MATCH(1,[1]SAISIE!BS63:BT63,0)))),(CONCATENATE(G63,H63,I63,J63,K63,L63,M63,N63,O63,P63,Q63,R63))) -> Pommes de terre persillées | AD63: =IF(AC63=B167, F63 &" "," ") | AE63: =IF(AC63=B168,F63 &" "," ") -> NOM 57 | AF63: =CONCATENATE((IF(SUM([1]SAISIE!BU63:BW63)=0,"-",INDEX(B169:B171,MATCH(1,[1]SAISIE!BU63:BW63,0)))),(CONCATENATE(G63,H63,I63,J63,K63,L63,M63,N63,O63,P63,Q63,R63))) -> Edam | AG63: =IF(AF63=B169, F63 &" "," ") -> NOM 57 | AH63: =IF(AF63=B170,F63 & " "," ") | AI63: =IF(AF63=B171,F63 & " "," ") | AJ63: =CONCATENATE((IF(SUM([1]SAISIE!BX63:BY63)=0,"-",INDEX(B172:B173,MATCH(1,[1]SAISIE!BX63:BY63,0)))),(CONCATENATE(G63,H63,I63,J63,K63,L63,M63,N63,O63,P63,Q63,R63))) -> Pêches au sirop | AK63: =IF(AJ63=B172,F63 &" "," ") | AL63: =IF(AJ63=B173,F63 & " "," ") -> NOM 57 | AN63: =CONCATENATE((IF([1]SAISIE!AG63=1,F63 & " " & "normal ","")),(IF([1]SAISIE!AH63=1,F63 & " " & "diab ","")),(IF([1]SAISIE!AI63=1,F63 & " " & "diab s sel ","")),(IF([1]SAISIE!AJ63=1, F63 & " " & "mixé ","")),(IF([1]SAISIE!AK63=1,F63 & " " & "sans sel ","")),(IF([1]SAISIE!AL63=1,F63 & " " & "sans graisse ","")),,(IF([1]SAISIE!AM63=1,F63 & " " & "sans gr s sel ",""))) | AO63: =CONCATENATE((IF([1]SAISIE!AN63=1,F63 & " " & "normal ","")),(IF([1]SAISIE!AO63=1,F63 & " " & "diab ","")),(IF([1]SAISIE!AP63=1,F63 & " " & "diab s sel ","")),(IF([1]SAISIE!AQ63=1,F63 & " " & "mixé ","")),(IF([1]SAISIE!AR63=1,F63 & " " & "sans sel ","")),(IF([1]SAISIE!AS63=1,F63 & " " & "sans graisse ","")),,(IF([1]SAISIE!AT63=1,F63 & " " & "sans gr s sel ","")),(IF([1]SAISIE!AU63=1,F63 & " " & "sans porc ","")))
B64: ='[1]Fiche d''informations'!B82 -> 59 | C64: ='[1]Fiche d''informations'!C82 -> 0 | D64: ='[1]Fiche d''informations'!D82 -> 3 | E64: ='[1]Fiche d''informations'!E82 -> Mme | F64: NOM 58 | G64: =IF([1]SAISIE!AA64=1,'Fiche Agt.Service'!G6,"") | H64: =IF([1]SAISIE!AB64=1,'Fiche Agt.Service'!H6,"") | I64: =IF([1]SAISIE!AC64=1,'Fiche Agt.Service'!I6,"") | J64: =IF([1]SAISIE!AD64=1,'Fiche Agt.Service'!J6,"") | K64: =IF([1]SAISIE!AE64=1,'Fiche Agt.Service'!K6,"") | L64: =IF([1]SAISIE!AF64=1,'Fiche Agt.Service'!L6,"") | M64: =IF([1]SAISIE!BH64=1,'Fiche Agt.Service'!M6,"") | N64: =IF([1]SAISIE!BI64=1,'Fiche Agt.Service'!N6,"") | O64: =IF([1]SAISIE!BJ64=1,'Fiche Agt.Service'!O6,"") | P64: =IF([1]SAISIE!BK64=1,'Fiche Agt.Service'!P6,"") | Q64: =IF([1]SAISIE!BL64=1,'Fiche Agt.Service'!Q6,"") | R64: =IF([1]SAISIE!BM64=1,'Fiche Agt.Service'!R6,"") | S64: =CONCATENATE(IF([1]SAISIE!J64=1,"salle"," "), IF([1]SAISIE!K64=1,"logement"," ")) | T64: =IF(S64="salle ", F64 & " " & G64 & H64 & I64 & J64 & K64 & L64 & " ","") | U64: =IF(S64=" logement", F64 & " " & M64 & N64 & O64 & P64 & Q64 & R64 & " ","") | V64: =CONCATENATE((IF(SUM([1]SAISIE!BN64:BP64)=0,"-",INDEX(B162:B164,MATCH(1,[1]SAISIE!BN64:BP64,0)))),(CONCATENATE(G64,H64,I64,J64,K64,L64,M64,N64,O64,P64,Q64,R64))) -> - | W64: =IF(V64=B162,F64 &" "," ") | X64: =IF(V64=B163, F64 & " "," ") | Y64: =IF(V64=B164, F64 & " "," ") | Z64: =CONCATENATE((IF(SUM([1]SAISIE!BQ64:BR64)=0,"-",INDEX(B165:B166,MATCH(1,[1]SAISIE!BQ64:BR64,0)))),(CONCATENATE(G64,H64,I64,J64,K64,L64,M64,N64,O64,P64,Q64,R64))) -> - | AA64: =IF(Z64=B165, F64 &" "," ") | AB64: =IF(Z64=B166,F64 &" "," ") | AC64: =CONCATENATE((IF(SUM([1]SAISIE!BS64:BT64)=0,"-",INDEX(B167:B168,MATCH(1,[1]SAISIE!BS64:BT64,0)))),(CONCATENATE(G64,H64,I64,J64,K64,L64,M64,N64,O64,P64,Q64,R64))) -> - | AD64: =IF(AC64=B167, F64 &" "," ") | AE64: =IF(AC64=B168,F64 &" "," ") | AF64: =CONCATENATE((IF(SUM([1]SAISIE!BU64:BW64)=0,"-",INDEX(B169:B171,MATCH(1,[1]SAISIE!BU64:BW64,0)))),(CONCATENATE(G64,H64,I64,J64,K64,L64,M64,N64,O64,P64,Q64,R64))) -> - | AG64: =IF(AF64=B169, F64 &" "," ") | AH64: =IF(AF64=B170,F64 & " "," ") | AI64: =IF(AF64=B171,F64 & " "," ") | AJ64: =CONCATENATE((IF(SUM([1]SAISIE!BX64:BY64)=0,"-",INDEX(B172:B173,MATCH(1,[1]SAISIE!BX64:BY64,0)))),(CONCATENATE(G64,H64,I64,J64,K64,L64,M64,N64,O64,P64,Q64,R64))) -> - | AK64: =IF(AJ64=B172,F64 &" "," ") | AL64: =IF(AJ64=B173,F64 & " "," ") | AN64: =CONCATENATE((IF([1]SAISIE!AG64=1,F64 & " " & "normal ","")),(IF([1]SAISIE!AH64=1,F64 & " " & "diab ","")),(IF([1]SAISIE!AI64=1,F64 & " " & "diab s sel ","")),(IF([1]SAISIE!AJ64=1, F64 & " " & "mixé ","")),(IF([1]SAISIE!AK64=1,F64 & " " & "sans sel ","")),(IF([1]SAISIE!AL64=1,F64 & " " & "sans graisse ","")),,(IF([1]SAISIE!AM64=1,F64 & " " & "sans gr s sel ",""))) | AO64: =CONCATENATE((IF([1]SAISIE!AN64=1,F64 & " " & "normal ","")),(IF([1]SAISIE!AO64=1,F64 & " " & "diab ","")),(IF([1]SAISIE!AP64=1,F64 & " " & "diab s sel ","")),(IF([1]SAISIE!AQ64=1,F64 & " " & "mixé ","")),(IF([1]SAISIE!AR64=1,F64 & " " & "sans sel ","")),(IF([1]SAISIE!AS64=1,F64 & " " & "sans graisse ","")),,(IF([1]SAISIE!AT64=1,F64 & " " & "sans gr s sel ","")),(IF([1]SAISIE!AU64=1,F64 & " " & "sans porc ","")))
B65: ='[1]Fiche d''informations'!B83 -> 60 | C65: ='[1]Fiche d''informations'!C83 -> 1 | D65: ='[1]Fiche d''informations'!D83 -> 7 | E65: ='[1]Fiche d''informations'!E83 -> Mr | F65: NOM 59 | G65: =IF([1]SAISIE!AA65=1,'Fiche Agt.Service'!G6,"") | H65: =IF([1]SAISIE!AB65=1,'Fiche Agt.Service'!H6,"") | I65: =IF([1]SAISIE!AC65=1,'Fiche Agt.Service'!I6,"") | J65: =IF([1]SAISIE!AD65=1,'Fiche Agt.Service'!J6,"") | K65: =IF([1]SAISIE!AE65=1,'Fiche Agt.Service'!K6,"") | L65: =IF([1]SAISIE!AF65=1,'Fiche Agt.Service'!L6,"") | M65: =IF([1]SAISIE!BH65=1,'Fiche Agt.Service'!M6,"") | N65: =IF([1]SAISIE!BI65=1,'Fiche Agt.Service'!N6,"") | O65: =IF([1]SAISIE!BJ65=1,'Fiche Agt.Service'!O6,"") | P65: =IF([1]SAISIE!BK65=1,'Fiche Agt.Service'!P6,"") | Q65: =IF([1]SAISIE!BL65=1,'Fiche Agt.Service'!Q6,"") | R65: =IF([1]SAISIE!BM65=1,'Fiche Agt.Service'!R6,"") | S65: =CONCATENATE(IF([1]SAISIE!J65=1,"salle"," "), IF([1]SAISIE!K65=1,"logement"," ")) -> salle | T65: =IF(S65="salle ", F65 & " " & G65 & H65 & I65 & J65 & K65 & L65 & " ","") -> NOM 59 | U65: =IF(S65=" logement", F65 & " " & M65 & N65 & O65 & P65 & Q65 & R65 & " ","") | V65: =CONCATENATE((IF(SUM([1]SAISIE!BN65:BP65)=0,"-",INDEX(B162:B164,MATCH(1,[1]SAISIE!BN65:BP65,0)))),(CONCATENATE(G65,H65,I65,J65,K65,L65,M65,N65,O65,P65,Q65,R65))) -> Friand au fromage | W65: =IF(V65=B162,F65 &" "," ") -> NOM 59 | X65: =IF(V65=B163, F65 & " "," ") | Y65: =IF(V65=B164, F65 & " "," ") | Z65: =CONCATENATE((IF(SUM([1]SAISIE!BQ65:BR65)=0,"-",INDEX(B165:B166,MATCH(1,[1]SAISIE!BQ65:BR65,0)))),(CONCATENATE(G65,H65,I65,J65,K65,L65,M65,N65,O65,P65,Q65,R65))) -> Dés de colin sauce curry | AA65: =IF(Z65=B165, F65 &" "," ") | AB65: =IF(Z65=B166,F65 &" "," ") -> NOM 59 | AC65: =CONCATENATE((IF(SUM([1]SAISIE!BS65:BT65)=0,"-",INDEX(B167:B168,MATCH(1,[1]SAISIE!BS65:BT65,0)))),(CONCATENATE(G65,H65,I65,J65,K65,L65,M65,N65,O65,P65,Q65,R65))) -> Pommes de terre persillées | AD65: =IF(AC65=B167, F65 &" "," ") | AE65: =IF(AC65=B168,F65 &" "," ") -> NOM 59 | AF65: =CONCATENATE((IF(SUM([1]SAISIE!BU65:BW65)=0,"-",INDEX(B169:B171,MATCH(1,[1]SAISIE!BU65:BW65,0)))),(CONCATENATE(G65,H65,I65,J65,K65,L65,M65,N65,O65,P65,Q65,R65))) -> Edam | AG65: =IF(AF65=B169, F65 &" "," ") -> NOM 59 | AH65: =IF(AF65=B170,F65 & " "," ") | AI65: =IF(AF65=B171,F65 & " "," ") | AJ65: =CONCATENATE((IF(SUM([1]SAISIE!BX65:BY65)=0,"-",INDEX(B172:B173,MATCH(1,[1]SAISIE!BX65:BY65,0)))),(CONCATENATE(G65,H65,I65,J65,K65,L65,M65,N65,O65,P65,Q65,R65))) -> Pêches au sirop | AK65: =IF(AJ65=B172,F65 &" "," ") | AL65: =IF(AJ65=B173,F65 & " "," ") -> NOM 59 | AN65: =CONCATENATE((IF([1]SAISIE!AG65=1,F65 & " " & "normal ","")),(IF([1]SAISIE!AH65=1,F65 & " " & "diab ","")),(IF([1]SAISIE!AI65=1,F65 & " " & "diab s sel ","")),(IF([1]SAISIE!AJ65=1, F65 & " " & "mixé ","")),(IF([1]SAISIE!AK65=1,F65 & " " & "sans sel ","")),(IF([1]SAISIE!AL65=1,F65 & " " & "sans graisse ","")),,(IF([1]SAISIE!AM65=1,F65 & " " & "sans gr s sel ",""))) | AO65: =CONCATENATE((IF([1]SAISIE!AN65=1,F65 & " " & "normal ","")),(IF([1]SAISIE!AO65=1,F65 & " " & "diab ","")),(IF([1]SAISIE!AP65=1,F65 & " " & "diab s sel ","")),(IF([1]SAISIE!AQ65=1,F65 & " " & "mixé ","")),(IF([1]SAISIE!AR65=1,F65 & " " & "sans sel ","")),(IF([1]SAISIE!AS65=1,F65 & " " & "sans graisse ","")),,(IF([1]SAISIE!AT65=1,F65 & " " & "sans gr s sel ","")),(IF([1]SAISIE!AU65=1,F65 & " " & "sans porc ","")))
B66: ='[1]Fiche d''informations'!B84 -> 61 | C66: ='[1]Fiche d''informations'!C84 -> 0 | D66: ='[1]Fiche d''informations'!D84 -> 0 | E66: ='[1]Fiche d''informations'!E84 -> Mme | F66: NOM 60 | G66: =IF([1]SAISIE!AA66=1,'Fiche Agt.Service'!G6,"") | H66: =IF([1]SAISIE!AB66=1,'Fiche Agt.Service'!H6,"") | I66: =IF([1]SAISIE!AC66=1,'Fiche Agt.Service'!I6,"") | J66: =IF([1]SAISIE!AD66=1,'Fiche Agt.Service'!J6,"") | K66: =IF([1]SAISIE!AE66=1,'Fiche Agt.Service'!K6,"") | L66: =IF([1]SAISIE!AF66=1,'Fiche Agt.Service'!L6,"") | M66: =IF([1]SAISIE!BH66=1,'Fiche Agt.Service'!M6,"") | N66: =IF([1]SAISIE!BI66=1,'Fiche Agt.Service'!N6,"") | O66: =IF([1]SAISIE!BJ66=1,'Fiche Agt.Service'!O6,"") | P66: =IF([1]SAISIE!BK66=1,'Fiche Agt.Service'!P6,"") | Q66: =IF([1]SAISIE!BL66=1,'Fiche Agt.Service'!Q6,"") | R66: =IF([1]SAISIE!BM66=1,'Fiche Agt.Service'!R6,"") | S66: =CONCATENATE(IF([1]SAISIE!J66=1,"salle"," "), IF([1]SAISIE!K66=1,"logement"," ")) | T66: =IF(S66="salle ", F66 & " " & G66 & H66 & I66 & J66 & K66 & L66 & " ","") | U66: =IF(S66=" logement", F66 & " " & M66 & N66 & O66 & P66 & Q66 & R66 & " ","") | V66: =CONCATENATE((IF(SUM([1]SAISIE!BN66:BP66)=0,"-",INDEX(B162:B164,MATCH(1,[1]SAISIE!BN66:BP66,0)))),(CONCATENATE(G66,H66,I66,J66,K66,L66,M66,N66,O66,P66,Q66,R66))) -> - | W66: =IF(V66=B162,F66 &" "," ") | X66: =IF(V66=B163, F66 & " "," ") | Y66: =IF(V66=B164, F66 & " "," ") | Z66: =CONCATENATE((IF(SUM([1]SAISIE!BQ66:BR66)=0,"-",INDEX(B165:B166,MATCH(1,[1]SAISIE!BQ66:BR66,0)))),(CONCATENATE(G66,H66,I66,J66,K66,L66,M66,N66,O66,P66,Q66,R66))) -> - | AA66: =IF(Z66=B165, F66 &" "," ") | AB66: =IF(Z66=B166,F66 &" "," ") | AC66: =CONCATENATE((IF(SUM([1]SAISIE!BS66:BT66)=0,"-",INDEX(B167:B168,MATCH(1,[1]SAISIE!BS66:BT66,0)))),(CONCATENATE(G66,H66,I66,J66,K66,L66,M66,N66,O66,P66,Q66,R66))) -> - | AD66: =IF(AC66=B167, F66 &" "," ") | AE66: =IF(AC66=B168,F66 &" "," ") | AF66: =CONCATENATE((IF(SUM([1]SAISIE!BU66:BW66)=0,"-",INDEX(B169:B171,MATCH(1,[1]SAISIE!BU66:BW66,0)))),(CONCATENATE(G66,H66,I66,J66,K66,L66,M66,N66,O66,P66,Q66,R66))) -> - | AG66: =IF(AF66=B169, F66 &" "," ") | AH66: =IF(AF66=B170,F66 & " "," ") | AI66: =IF(AF66=B171,F66 & " "," ") | AJ66: =CONCATENATE((IF(SUM([1]SAISIE!BX66:BY66)=0,"-",INDEX(B172:B173,MATCH(1,[1]SAISIE!BX66:BY66,0)))),(CONCATENATE(G66,H66,I66,J66,K66,L66,M66,N66,O66,P66,Q66,R66))) -> - | AK66: =IF(AJ66=B172,F66 &" "," ") | AL66: =IF(AJ66=B173,F66 & " "," ") | AN66: =CONCATENATE((IF([1]SAISIE!AG66=1,F66 & " " & "normal ","")),(IF([1]SAISIE!AH66=1,F66 & " " & "diab ","")),(IF([1]SAISIE!AI66=1,F66 & " " & "diab s sel ","")),(IF([1]SAISIE!AJ66=1, F66 & " " & "mixé ","")),(IF([1]SAISIE!AK66=1,F66 & " " & "sans sel ","")),(IF([1]SAISIE!AL66=1,F66 & " " & "sans graisse ","")),,(IF([1]SAISIE!AM66=1,F66 & " " & "sans gr s sel ",""))) | AO66: =CONCATENATE((IF([1]SAISIE!AN66=1,F66 & " " & "normal ","")),(IF([1]SAISIE!AO66=1,F66 & " " & "diab ","")),(IF([1]SAISIE!AP66=1,F66 & " " & "diab s sel ","")),(IF([1]SAISIE!AQ66=1,F66 & " " & "mixé ","")),(IF([1]SAISIE!AR66=1,F66 & " " & "sans sel ","")),(IF([1]SAISIE!AS66=1,F66 & " " & "sans graisse ","")),,(IF([1]SAISIE!AT66=1,F66 & " " & "sans gr s sel ","")),(IF([1]SAISIE!AU66=1,F66 & " " & "sans porc ","")))
