Workbook
Name Codes1_dîners: '[1]Codes saisie'!$I$7:$I$21
Name Codes1_semaine: '[1]Codes saisie'!$E$7:$E$177
Name Codes1_weekend: '[1]Codes saisie'!$G$7:$G$85
Name DateRepas: '[1]Calendrier et repas à thème '!$E$6:$E$31
Name DateRepasDimanche: '[1]Calendrier et repas à thème '!$K$6:$K$31
Name DateRepasJeudi: '[1]Calendrier et repas à thème '!$H$6:$H$31
Name DateRepasLundi: '[1]Calendrier et repas à thème '!$E$6:$E$31
Name DateRepasMardi: '[1]Calendrier et repas à thème '!$F$6:$F$31
Name DateRepasMercredi: '[1]Calendrier et repas à thème '!$G$6:$G$31
Name DateRepasSamedi: '[1]Calendrier et repas à thème '!$J$6:$J$31
Name DateRepasVendredi: '[1]Calendrier et repas à thème '!$I$6:$I$31
Name invité: #REF!
Name MrMme: #REF!
Name Nbre: #REF!
Name Nbredéjeuner: #REF!
Name Nom: #REF!
Name rngAction: #REF!
Name rngBlockFactor: #REF!
Name rngCIName: #REF!
Name rngCINameHidden: #REF!
Name rngCoversheetHome: #REF!
Name rngCSIntro: #REF!
Name rngCSMsg1: #REF!
Name rngCSMsg2: #REF!
Name rngCSMsg2_1: #REF!
Name rngCSMsg2_2: #REF!
Name rngCSMsg2_3: #REF!
Name rngCSMsg3: #REF!
Name rngCSMsg3_1: #REF!
Name rngCSMsg4: #REF!
Name rngCSMsg4_1: #REF!
Name rngCSMsg4_2: #REF!
Name rngCSPrcs: #REF!
Name rngDataInputCIName: #REF!
Name rngErrorThreshold: #REF!
Name rngFileNameHidden: #REF!
Name rngHTTPPort: #REF!
Name rngLanguageCD: #REF!
Name rngMachineName: #REF!
Name rngNode: #REF!
Name rngPasswordHidden: #REF!
Name rngPortal: #REF!
Name rngProtocol: #REF!
Name rngPSSiteName: #REF!
Name rngResHeaders: #REF!
Name rngURL: #REF!
Name rngUserIDHidden: #REF!
Name rngXmlConst: #REF!
Name serviceresto: #REF!
Name soir: #REF!
Name Studio: #REF!
Name tarifhorssubvention: #REF!
Name TarifInvité: #REF!
Name TarifMidi: #REF!
Name TarifMidiMairie: #REF!
Name Tarifssoir: #REF!
Name TarifsSoirMairie: #REF!
Name tarifsubvention: #REF!
Name TarifVin: #REF!
Name txtBoxTitleConnectInfo: "txtBoxTitle"

Sheet Fiche Agt.Service
G1: 0 | H1: 0 | I1: 0 | J1: 0 | K1: 0 | L1: 0 | M1: 0 | N1: 0 | O1: 0 | P1: 0 | Q1: 0 | R1: 0 | T1: 0 | U1: 0 | W1: 0 | X1: 0 | Y1: 0 | AA1: 0 | AB1: 0 | AD1: 0 | AE1: 0 | AG1: 0 | AH1: 0 | AI1: 0 | AK1: 0 | AL1: 0 | AM1: 0
A3: ='[1]Menus du mois'!A3:B18 -> 1ere semaine du mois
V5: ='[1]Menus du mois'!C4 -> 41302
B6: ='[1]Fiche d''informations'!B24 -> Studio | C6: ='[1]Fiche d''informations'!C24 -> Résident client | D6: ='[1]Fiche d''informations'!D24 -> N° de table | E6: ='[1]Fiche d''informations'!E24 -> Mme/Mr | F6: ='[1]Fiche d''informations'!F24 -> Nom | G6: Diabétique | H6: Diab Sans Sel | I6: mixé | J6: Sans Sel | K6: Sans Graisse | L6: Sans Graisse Sans Sel | M6: lgt Diabétique | N6: lgt Diab Sans Sel | O6: lgt mixé | P6: lgt Sans Sel | Q6: lgt Sans Graisse | R6: lgt Sans Graisse Sans Sel | S6: Salle / Logement | T6: salle | U6: Logement | V6: Entrée | W6: Entrée Répartion1 | X6: Entrée Répartion2 | Y6: Entrée Répartion3 | Z6: Viande | AA6: Viande Répartition 1 | AB6: Viande Répartition 2 | AC6: Accompagnement | AD6: Accompagnement répartition 1 | AE6: Accompagnement répartition 2 | AF6: Laitage | AG6: Laitage répartition 1 | AH6: Laitage répartition 2 | AI6: Laitage répartition 3 | AJ6: Dessert | AK6: Dessert repartition 1 | AL6: Dessert repartition 2 | AM6: Vin | AN6: Soir léger | AO6: soir complet
B7: ='[1]Fiche d''informations'!B25 -> 1 | C7: ='[1]Fiche d''informations'!C25 -> 0 | D7: ='[1]Fiche d''informations'!D25 -> 0 | E7: ='[1]Fiche d''informations'!E25 -> 0 | F7: NOM 1 | G7: =IF([1]SAISIE!AA7=1,'Fiche Agt.Service'!G6,"") | H7: =IF([1]SAISIE!AB7=1,'Fiche Agt.Service'!H6,"") | I7: =IF([1]SAISIE!AC7=1,'Fiche Agt.Service'!I6,"") | J7: =IF([1]SAISIE!AD7=1,'Fiche Agt.Service'!J6,"") | K7: =IF([1]SAISIE!AE7=1,'Fiche Agt.Service'!K6,"") | L7: =IF([1]SAISIE!AF7=1,'Fiche Agt.Service'!L6,"") | M7: =IF([1]SAISIE!BH7=1,'Fiche Agt.Service'!M6,"") | N7: =IF([1]SAISIE!BI7=1,'Fiche Agt.Service'!N6,"") | O7: =IF([1]SAISIE!BJ7=1,'Fiche Agt.Service'!O6,"") | P7: =IF([1]SAISIE!BK7=1,'Fiche Agt.Service'!P6,"") | Q7: =IF([1]SAISIE!BL7=1,'Fiche Agt.Service'!Q6,"") | R7: =IF([1]SAISIE!BM7=1,'Fiche Agt.Service'!R6,"") | S7: =CONCATENATE(IF([1]SAISIE!J7=1,"salle"," "), IF([1]SAISIE!K7=1,"logement"," ")) | T7: =IF(S7="salle ", F7 & " " & G7 & H7 & I7 & J7 & K7 & L7 & " ","") | U7: =IF(S7=" logement", F7 & " " & M7 & N7 & O7 & P7 & Q7 & R7 & " ","") | V7: =CONCATENATE((IF(SUM([1]SAISIE!BN7:BP7)=0,"-",INDEX(B162:B164,MATCH(1,[1]SAISIE!BN7:BP7,0)))),(CONCATENATE(G7,H7,I7,J7,K7,L7,M7,N7,O7,P7,Q7,R7))) -> - | W7: =IF(V7=B162,F7 &" "," ") | X7: =IF(V7=B163, F7 & " "," ") | Y7: =IF(V7=B164, F7 & " "," ") | Z7: =CONCATENATE((IF(SUM([1]SAISIE!BQ7:BR7)=0,"-",INDEX(B165:B166,MATCH(1,[1]SAISIE!BQ7:BR7,0)))),(CONCATENATE(G7,H7,I7,J7,K7,L7,M7,N7,O7,P7,Q7,R7))) -> - | AA7: =IF(Z7=B165, F7 &" "," ") | AB7: =IF(Z7=B166,F7 &" "," ") | AC7: =CONCATENATE((IF(SUM([1]SAISIE!BS7:BT7)=0,"-",INDEX(B167:B168,MATCH(1,[1]SAISIE!BS7:BT7,0)))),(CONCATENATE(G7,H7,I7,J7,K7,L7,M7,N7,O7,P7,Q7,R7))) -> - | AD7: =IF(AC7=B167, F7 &" "," ") | AE7: =IF(AC7=B168,F7 &" "," ") | AF7: =CONCATENATE((IF(SUM([1]SAISIE!BU7:BW7)=0,"-",INDEX(B169:B171,MATCH(1,[1]SAISIE!BU7:BW7,0)))),(CONCATENATE(G7,H7,I7,J7,K7,L7,M7,N7,O7,P7,Q7,R7))) -> - | AG7: =IF(AF7=B169, F7 &" "," ") | AH7: =IF(AF7=B170,F7 & " "," ") | AI7: =IF(AF7=B171,F7 & " "," ") | AJ7: =CONCATENATE((IF(SUM([1]SAISIE!BX7:BY7)=0,"-",INDEX(B172:B173,MATCH(1,[1]SAISIE!BX7:BY7,0)))),(CONCATENATE(G7,H7,I7,J7,K7,L7,M7,N7,O7,P7,Q7,R7))) -> - | AK7: =IF(AJ7=B172,F7 &" "," ") | AL7: =IF(AJ7=B173,F7 & " "," ") | AN7: =CONCATENATE((IF([1]SAISIE!AG7=1,F7 & " " & "normal ","")),(IF([1]SAISIE!AH7=1,F7 & " " & "diab ","")),(IF([1]SAISIE!AI7=1,F7 & " " & "diab s sel ","")),(IF([1]SAISIE!AJ7=1, F7 & " " & "mixé ","")),(IF([1]SAISIE!AK7=1,F7 & " " & "sans sel ","")),(IF([1]SAISIE!AL7=1,F7 & " " & "sans graisse ","")),,(IF([1]SAISIE!AM7=1,F7 & " " & "sans gr s sel ",""))) | AO7: =CONCATENATE((IF([1]SAISIE!AN7=1,F7 & " " & "normal ","")),(IF([1]SAISIE!AO7=1,F7 & " " & "diab ","")),(IF([1]SAISIE!AP7=1,F7 & " " & "diab s sel ","")),(IF([1]SAISIE!AQ7=1,F7 & " " & "mixé ","")),(IF([1]SAISIE!AR7=1,F7 & " " & "sans sel ","")),(IF([1]SAISIE!AS7=1,F7 & " " & "sans graisse ","")),,(IF([1]SAISIE!AT7=1,F7 & " " & "sans gr s sel ","")),(IF([1]SAISIE!AU7=1,F7 & " " & "sans porc ","")))
B8: ='[1]Fiche d''informations'!B26 -> 2 | C8: ='[1]Fiche d''informations'!C26 -> 1 | D8: ='[1]Fiche d''informations'!D26 -> 7 | E8: ='[1]Fiche d''informations'!E26 -> Mr | F8: NOM 2 | G8: =IF([1]SAISIE!AA8=1,'Fiche Agt.Service'!G6,"") | H8: =IF([1]SAISIE!AB8=1,'Fiche Agt.Service'!H6,"") | I8: =IF([1]SAISIE!AC8=1,'Fiche Agt.Service'!I6,"") | J8: =IF([1]SAISIE!AD8=1,'Fiche Agt.Service'!J6,"") | K8: =IF([1]SAISIE!AE8=1,'Fiche Agt.Service'!K6,"") | L8: =IF([1]SAISIE!AF8=1,'Fiche Agt.Service'!L6,"") | M8: =IF([1]SAISIE!BH8=1,'Fiche Agt.Service'!M6,"") | N8: =IF([1]SAISIE!BI8=1,'Fiche Agt.Service'!N6,"") | O8: =IF([1]SAISIE!BJ8=1,'Fiche Agt.Service'!O6,"") | P8: =IF([1]SAISIE!BK8=1,'Fiche Agt.Service'!P6,"") | Q8: =IF([1]SAISIE!BL8=1,'Fiche Agt.Service'!Q6,"") | R8: =IF([1]SAISIE!BM8=1,'Fiche Agt.Service'!R6,"") | S8: =CONCATENATE(IF([1]SAISIE!J8=1,"salle"," "), IF([1]SAISIE!K8=1,"logement"," ")) | T8: =IF(S8="salle ", F8 & " " & G8 & H8 & I8 & J8 & K8 & L8 & " ","") | U8: =IF(S8=" logement", F8 & " " & M8 & N8 & O8 & P8 & Q8 & R8 & " ","") | V8: =CONCATENATE((IF(SUM([1]SAISIE!BN8:BP8)=0,"-",INDEX(B162:B164,MATCH(1,[1]SAISIE!BN8:BP8,0)))),(CONCATENATE(G8,H8,I8,J8,K8,L8,M8,N8,O8,P8,Q8,R8))) -> - | W8: =IF(V8=B162,F8 &" "," ") | X8: =IF(V8=B163, F8 & " "," ") | Y8: =IF(V8=B164, F8 & " "," ") | Z8: =CONCATENATE((IF(SUM([1]SAISIE!BQ8:BR8)=0,"-",INDEX(B165:B166,MATCH(1,[1]SAISIE!BQ8:BR8,0)))),(CONCATENATE(G8,H8,I8,J8,K8,L8,M8,N8,O8,P8,Q8,R8))) -> - | AA8: =IF(Z8=B165, F8 &" "," ") | AB8: =IF(Z8=B166,F8 &" "," ") | AC8: =CONCATENATE((IF(SUM([1]SAISIE!BS8:BT8)=0,"-",INDEX(B167:B168,MATCH(1,[1]SAISIE!BS8:BT8,0)))),(CONCATENATE(G8,H8,I8,J8,K8,L8,M8,N8,O8,P8,Q8,R8))) -> - | AD8: =IF(AC8=B167, F8 &" "," ") | AE8: =IF(AC8=B168,F8 &" "," ") | AF8: =CONCATENATE((IF(SUM([1]SAISIE!BU8:BW8)=0,"-",INDEX(B169:B171,MATCH(1,[1]SAISIE!BU8:BW8,0)))),(CONCATENATE(G8,H8,I8,J8,K8,L8,M8,N8,O8,P8,Q8,R8))) -> - | AG8: =IF(AF8=B169, F8 &" "," ") | AH8: =IF(AF8=B170,F8 & " "," ") | AI8: =IF(AF8=B171,F8 & " "," ") | AJ8: =CONCATENATE((IF(SUM([1]SAISIE!BX8:BY8)=0,"-",INDEX(B172:B173,MATCH(1,[1]SAISIE!BX8:BY8,0)))),(CONCATENATE(G8,H8,I8,J8,K8,L8,M8,N8,O8,P8,Q8,R8))) -> - | AK8: =IF(AJ8=B172,F8 &" "," ") | AL8: =IF(AJ8=B173,F8 & " "," ") | AN8: =CONCATENATE((IF([1]SAISIE!AG8=1,F8 & " " & "normal ","")),(IF([1]SAISIE!AH8=1,F8 & " " & "diab ","")),(IF([1]SAISIE!AI8=1,F8 & " " & "diab s sel ","")),(IF([1]SAISIE!AJ8=1, F8 & " " & "mixé ","")),(IF([1]SAISIE!AK8=1,F8 & " " & "sans sel ","")),(IF([1]SAISIE!AL8=1,F8 & " " & "sans graisse ","")),,(IF([1]SAISIE!AM8=1,F8 & " " & "sans gr s sel ",""))) | AO8: =CONCATENATE((IF([1]SAISIE!AN8=1,F8 & " " & "normal ","")),(IF([1]SAISIE!AO8=1,F8 & " " & "diab ","")),(IF([1]SAISIE!AP8=1,F8 & " " & "diab s sel ","")),(IF([1]SAISIE!AQ8=1,F8 & " " & "mixé ","")),(IF([1]SAISIE!AR8=1,F8 & " " & "sans sel ","")),(IF([1]SAISIE!AS8=1,F8 & " " & "sans graisse ","")),,(IF([1]SAISIE!AT8=1,F8 & " " & "sans gr s sel ","")),(IF([1]SAISIE!AU8=1,F8 & " " & "sans porc ","")))
B9: ='[1]Fiche d''informations'!B27 -> 3 | C9: ='[1]Fiche d''informations'!C27 -> 0 | D9: ='[1]Fiche d''informations'!D27 -> 0 | E9: ='[1]Fiche d''informations'!E27 -> 0 | F9: NOM 3 | G9: =IF([1]SAISIE!AA9=1,'Fiche Agt.Service'!G6,"") | H9: =IF([1]SAISIE!AB9=1,'Fiche Agt.Service'!H6,"") | I9: =IF([1]SAISIE!AC9=1,'Fiche Agt.Service'!I6,"") | J9: =IF([1]SAISIE!AD9=1,'Fiche Agt.Service'!J6,"") | K9: =IF([1]SAISIE!AE9=1,'Fiche Agt.Service'!K6,"") | L9: =IF([1]SAISIE!AF9=1,'Fiche Agt.Service'!L6,"") | M9: =IF([1]SAISIE!BH9=1,'Fiche Agt.Service'!M6,"") | N9: =IF([1]SAISIE!BI9=1,'Fiche Agt.Service'!N6,"") | O9: =IF([1]SAISIE!BJ9=1,'Fiche Agt.Service'!O6,"") | P9: =IF([1]SAISIE!BK9=1,'Fiche Agt.Service'!P6,"") | Q9: =IF([1]SAISIE!BL9=1,'Fiche Agt.Service'!Q6,"") | R9: =IF([1]SAISIE!BM9=1,'Fiche Agt.Service'!R6,"") | S9: =CONCATENATE(IF([1]SAISIE!J9=1,"salle"," "), IF([1]SAISIE!K9=1,"logement"," ")) | T9: =IF(S9="salle ", F9 & " " & G9 & H9 & I9 & J9 & K9 & L9 & " ","") | U9: =IF(S9=" logement", F9 & " " & M9 & N9 & O9 & P9 & Q9 & R9 & " ","") | V9: =CONCATENATE((IF(SUM([1]SAISIE!BN9:BP9)=0,"-",INDEX(B162:B164,MATCH(1,[1]SAISIE!BN9:BP9,0)))),(CONCATENATE(G9,H9,I9,J9,K9,L9,M9,N9,O9,P9,Q9,R9))) -> - | W9: =IF(V9=B162,F9 &" "," ") | X9: =IF(V9=B163, F9 & " "," ") | Y9: =IF(V9=B164, F9 & " "," ") | Z9: =CONCATENATE((IF(SUM([1]SAISIE!BQ9:BR9)=0,"-",INDEX(B165:B166,MATCH(1,[1]SAISIE!BQ9:BR9,0)))),(CONCATENATE(G9,H9,I9,J9,K9,L9,M9,N9,O9,P9,Q9,R9))) -> - | AA9: =IF(Z9=B165, F9 &" "," ") | AB9: =IF(Z9=B166,F9 &" "," ") | AC9: =CONCATENATE((IF(SUM([1]SAISIE!BS9:BT9)=0,"-",INDEX(B167:B168,MATCH(1,[1]SAISIE!BS9:BT9,0)))),(CONCATENATE(G9,H9,I9,J9,K9,L9,M9,N9,O9,P9,Q9,R9))) -> - | AD9: =IF(AC9=B167, F9 &" "," ") | AE9: =IF(AC9=B168,F9 &" "," ") | AF9: =CONCATENATE((IF(SUM([1]SAISIE!BU9:BW9)=0,"-",INDEX(B169:B171,MATCH(1,[1]SAISIE!BU9:BW9,0)))),(CONCATENATE(G9,H9,I9,J9,K9,L9,M9,N9,O9,P9,Q9,R9))) -> - | AG9: =IF(AF9=B169, F9 &" "," ") | AH9: =IF(AF9=B170,F9 & " "," ") | AI9: =IF(AF9=B171,F9 & " "," ") | AJ9: =CONCATENATE((IF(SUM([1]SAISIE!BX9:BY9)=0,"-",INDEX(B172:B173,MATCH(1,[1]SAISIE!BX9:BY9,0)))),(CONCATENATE(G9,H9,I9,J9,K9,L9,M9,N9,O9,P9,Q9,R9))) -> - | AK9: =IF(AJ9=B172,F9 &" "," ") | AL9: =IF(AJ9=B173,F9 & " "," ") | AN9: =CONCATENATE((IF([1]SAISIE!AG9=1,F9 & " " & "normal ","")),(IF([1]SAISIE!AH9=1,F9 & " " & "diab ","")),(IF([1]SAISIE!AI9=1,F9 & " " & "diab s sel ","")),(IF([1]SAISIE!AJ9=1, F9 & " " & "mixé ","")),(IF([1]SAISIE!AK9=1,F9 & " " & "sans sel ","")),(IF([1]SAISIE!AL9=1,F9 & " " & "sans graisse ","")),,(IF([1]SAISIE!AM9=1,F9 & " " & "sans gr s sel ",""))) | AO9: =CONCATENATE((IF([1]SAISIE!AN9=1,F9 & " " & "normal ","")),(IF([1]SAISIE!AO9=1,F9 & " " & "diab ","")),(IF([1]SAISIE!AP9=1,F9 & " " & "diab s sel ","")),(IF([1]SAISIE!AQ9=1,F9 & " " & "mixé ","")),(IF([1]SAISIE!AR9=1,F9 & " " & "sans sel ","")),(IF([1]SAISIE!AS9=1,F9 & " " & "sans graisse ","")),,(IF([1]SAISIE!AT9=1,F9 & " " & "sans gr s sel ","")),(IF([1]SAISIE!AU9=1,F9 & " " & "sans porc ","")))
B10: ='[1]Fiche d''informations'!B28 -> 4 | C10: ='[1]Fiche d''informations'!C28 -> 1 | D10: ='[1]Fiche d''informations'!D28 -> 3 | E10: ='[1]Fiche d''informations'!E28 -> Mme | F10: NOM 4 | G10: =IF([1]SAISIE!AA10=1,'Fiche Agt.Service'!G6,"") | H10: =IF([1]SAISIE!AB10=1,'Fiche Agt.Service'!H6,"") | I10: =IF([1]SAISIE!AC10=1,'Fiche Agt.Service'!I6,"") | J10: =IF([1]SAISIE!AD10=1,'Fiche Agt.Service'!J6,"") | K10: =IF([1]SAISIE!AE10=1,'Fiche Agt.Service'!K6,"") | L10: =IF([1]SAISIE!AF10=1,'Fiche Agt.Service'!L6,"") | M10: =IF([1]SAISIE!BH10=1,'Fiche Agt.Service'!M6,"") | N10: =IF([1]SAISIE!BI10=1,'Fiche Agt.Service'!N6,"") | O10: =IF([1]SAISIE!BJ10=1,'Fiche Agt.Service'!O6,"") | P10: =IF([1]SAISIE!BK10=1,'Fiche Agt.Service'!P6,"") | Q10: =IF([1]SAISIE!BL10=1,'Fiche Agt.Service'!Q6,"") | R10: =IF([1]SAISIE!BM10=1,'Fiche Agt.Service'!R6,"") | S10: =CONCATENATE(IF([1]SAISIE!J10=1,"salle"," "), IF([1]SAISIE!K10=1,"logement"," ")) -> salle | T10: =IF(S10="salle ", F10 & " " & G10 & H10 & I10 & J10 & K10 & L10 & " ","") -> NOM 4 | U10: =IF(S10=" logement", F10 & " " & M10 & N10 & O10 & P10 & Q10 & R10 & " ","") | V10: =CONCATENATE((IF(SUM([1]SAISIE!BN10:BP10)=0,"-",INDEX(B162:B164,MATCH(1,[1]SAISIE!BN10:BP10,0)))),(CONCATENATE(G10,H10,I10,J10,K10,L10,M10,N10,O10,P10,Q10,R10))) -> Betteraves | W10: =IF(V10=B162,F10 &" "," ") | X10: =IF(V10=B163, F10 & " "," ") | Y10: =IF(V10=B164, F10 & " "," ") -> NOM 4 | Z10: =CONCATENATE((IF(SUM([1]SAISIE!BQ10:BR10)=0,"-",INDEX(B165:B166,MATCH(1,[1]SAISIE!BQ10:BR10,0)))),(CONCATENATE(G10,H10,I10,J10,K10,L10,M10,N10,O10,P10,Q10,R10))) -> Dés de colin sauce curry | AA10: =IF(Z10=B165, F10 &" "," ") | AB10: =IF(Z10=B166,F10 &" "," ") -> NOM 4 | AC10: =CONCATENATE((IF(SUM([1]SAISIE!BS10:BT10)=0,"-",INDEX(B167:B168,MATCH(1,[1]SAISIE!BS10:BT10,0)))),(CONCATENATE(G10,H10,I10,J10,K10,L10,M10,N10,O10,P10,Q10,R10))) -> Gratin de courgettes | AD10: =IF(AC10=B167, F10 &" "," ") -> NOM 4 | AE10: =IF(AC10=B168,F10 &" "," ") | AF10: =CONCATENATE((IF(SUM([1]SAISIE!BU10:BW10)=0,"-",INDEX(B169:B171,MATCH(1,[1]SAISIE!BU10:BW10,0)))),(CONCATENATE(G10,H10,I10,J10,K10,L10,M10,N10,O10,P10,Q10,R10))) -> Edam | AG10: =IF(AF10=B169, F10 &" "," ") -> NOM 4 | AH10: =IF(AF10=B170,F10 & " "," ") | AI10: =IF(AF10=B171,F10 & " "," ") | AJ10: =CONCATENATE((IF(SUM([1]SAISIE!BX10:BY10)=0,"-",INDEX(B172:B173,MATCH(1,[1]SAISIE!BX10:BY10,0)))),(CONCATENATE(G10,H10,I10,J10,K10,L10,M10,N10,O10,P10,Q10,R10))) -> Pêches au sirop | AK10: =IF(AJ10=B172,F10 &" "," ") | AL10: =IF(AJ10=B173,F10 & " "," ") -> NOM 4 | AN10: =CONCATENATE((IF([1]SAISIE!AG10=1,F10 & " " & "normal ","")),(IF([1]SAISIE!AH10=1,F10 & " " & "diab ","")),(IF([1]SAISIE!AI10=1,F10 & " " & "diab s sel ","")),(IF([1]SAISIE!AJ10=1, F10 & " " & "mixé ","")),(IF([1]SAISIE!AK10=1,F10 & " " & "sans sel ","")),(IF([1]SAISIE!AL10=1,F10 & " " & "sans graisse ","")),,(IF([1]SAISIE!AM10=1,F10 & " " & "sans gr s sel ",""))) -> NOM 4 normal | AO10: =CONCATENATE((IF([1]SAISIE!AN10=1,F10 & " " & "normal ","")),(IF([1]SAISIE!AO10=1,F10 & " " & "diab ","")),(IF([1]SAISIE!AP10=1,F10 & " " & "diab s sel ","")),(IF([1]SAISIE!AQ10=1,F10 & " " & "mixé ","")),(IF([1]SAISIE!AR10=1,F10 & " " & "sans sel ","")),(IF([1]SAISIE!AS10=1,F10 & " " & "sans graisse ","")),,(IF([1]SAISIE!AT10=1,F10 & " " & "sans gr s sel ","")),(IF([1]SAISIE!AU10=1,F10 & " " & "sans porc ","")))
B11: ='[1]Fiche d''informations'!B29 -> 5 | C11: ='[1]Fiche d''informations'!C29 -> 1 | D11: ='[1]Fiche d''informations'!D29 -> 10 | E11: ='[1]Fiche d''informations'!E29 -> Mr | F11: NOM 5 | G11: =IF([1]SAISIE!AA11=1,'Fiche Agt.Service'!G6,"") | H11: =IF([1]SAISIE!AB11=1,'Fiche Agt.Service'!H6,"") | I11: =IF([1]SAISIE!AC11=1,'Fiche Agt.Service'!I6,"") | J11: =IF([1]SAISIE!AD11=1,'Fiche Agt.Service'!J6,"") -> Sans Sel | K11: =IF([1]SAISIE!AE11=1,'Fiche Agt.Service'!K6,"") | L11: =IF([1]SAISIE!AF11=1,'Fiche Agt.Service'!L6,"") | M11: =IF([1]SAISIE!BH11=1,'Fiche Agt.Service'!M6,"") | N11: =IF([1]SAISIE!BI11=1,'Fiche Agt.Service'!N6,"") | O11: =IF([1]SAISIE!BJ11=1,'Fiche Agt.Service'!O6,"") | P11: =IF([1]SAISIE!BK11=1,'Fiche Agt.Service'!P6,"") | Q11: =IF([1]SAISIE!BL11=1,'Fiche Agt.Service'!Q6,"") | R11: =IF([1]SAISIE!BM11=1,'Fiche Agt.Service'!R6,"") | S11: =CONCATENATE(IF([1]SAISIE!J11=1,"salle"," "), IF([1]SAISIE!K11=1,"logement"," ")) -> salle | T11: =IF(S11="salle ", F11 & " " & G11 & H11 & I11 & J11 & K11 & L11 & " ","") -> NOM 5 Sans Sel | U11: =IF(S11=" logement", F11 & " " & M11 & N11 & O11 & P11 & Q11 & R11 & " ","") | V11: =CONCATENATE((IF(SUM([1]SAISIE!BN11:BP11)=0,"-",INDEX(B162:B164,MATCH(1,[1]SAISIE!BN11:BP11,0)))),(CONCATENATE(G11,H11,I11,J11,K11,L11,M11,N11,O11,P11,Q11,R11))) -> -Sans Sel | W11: =IF(V11=B162,F11 &" "," ") | X11: =IF(V11=B163, F11 & " "," ") | Y11: =IF(V11=B164, F11 & " "," ") | Z11: =CONCATENATE((IF(SUM([1]SAISIE!BQ11:BR11)=0,"-",INDEX(B165:B166,MATCH(1,[1]SAISIE!BQ11:BR11,0)))),(CONCATENATE(G11,H11,I11,J11,K11,L11,M11,N11,O11,P11,Q11,R11))) -> -Sans Sel | AA11: =IF(Z11=B165, F11 &" "," ") | AB11: =IF(Z11=B166,F11 &" "," ") | AC11: =CONCATENATE((IF(SUM([1]SAISIE!BS11:BT11)=0,"-",INDEX(B167:B168,MATCH(1,[1]SAISIE!BS11:BT11,0)))),(CONCATENATE(G11,H11,I11,J11,K11,L11,M11,N11,O11,P11,Q11,R11))) -> -Sans Sel | AD11: =IF(AC11=B167, F11 &" "," ") | AE11: =IF(AC11=B168,F11 &" "," ") | AF11: =CONCATENATE((IF(SUM([1]SAISIE!BU11:BW11)=0,"-",INDEX(B169:B171,MATCH(1,[1]SAISIE!BU11:BW11,0)))),(CONCATENATE(G11,H11,I11,J11,K11,L11,M11,N11,O11,P11,Q11,R11))) -> -Sans Sel | AG11: =IF(AF11=B169, F11 &" "," ") | AH11: =IF(AF11=B170,F11 & " "," ") | AI11: =IF(AF11=B171,F11 & " "," ") | AJ11: =CONCATENATE((IF(SUM([1]SAISIE!BX11:BY11)=0,"-",INDEX(B172:B173,MATCH(1,[1]SAISIE!BX11:BY11,0)))),(CONCATENATE(G11,H11,I11,J11,K11,L11,M11,N11,O11,P11,Q11,R11))) -> -Sans Sel | AK11: =IF(AJ11=B172,F11 &" "," ") | AL11: =IF(AJ11=B173,F11 & " "," ") | AN11: =CONCATENATE((IF([1]SAISIE!AG11=1,F11 & " " & "normal ","")),(IF([1]SAISIE!AH11=1,F11 & " " & "diab ","")),(IF([1]SAISIE!AI11=1,F11 & " " & "diab s sel ","")),(IF([1]SAISIE!AJ11=1, F11 & " " & "mixé ","")),(IF([1]SAISIE!AK11=1,F11 & " " & "sans sel ","")),(IF([1]SAISIE!AL11=1,F11 & " " & "sans graisse ","")),,(IF([1]SAISIE!AM11=1,F11 & " " & "sans gr s sel ",""))) | AO11: =CONCATENATE((IF([1]SAISIE!AN11=1,F11 & " " & "normal ","")),(IF([1]SAISIE!AO11=1,F11 & " " & "diab ","")),(IF([1]SAISIE!AP11=1,F11 & " " & "diab s sel ","")),(IF([1]SAISIE!AQ11=1,F11 & " " & "mixé ","")),(IF([1]SAISIE!AR11=1,F11 & " " & "sans sel ","")),(IF([1]SAISIE!AS11=1,F11 & " " & "sans graisse ","")),,(IF([1]SAISIE!AT11=1,F11 & " " & "sans gr s sel ","")),(IF([1]SAISIE!AU11=1,F11 & " " & "sans porc ","")))
B12: ='[1]Fiche d''informations'!B30 -> 6 | C12: ='[1]Fiche d''informations'!C30 -> 0 | D12: ='[1]Fiche d''informations'!D30 -> 0 | E12: ='[1]Fiche d''informations'!E30 -> 0 | F12: NOM 6 | G12: =IF([1]SAISIE!AA12=1,'Fiche Agt.Service'!G6,"") | H12: =IF([1]SAISIE!AB12=1,'Fiche Agt.Service'!H6,"") | I12: =IF([1]SAISIE!AC12=1,'Fiche Agt.Service'!I6,"") | J12: =IF([1]SAISIE!AD12=1,'Fiche Agt.Service'!J6,"") | K12: =IF([1]SAISIE!AE12=1,'Fiche Agt.Service'!K6,"") | L12: =IF([1]SAISIE!AF12=1,'Fiche Agt.Service'!L6,"") | M12: =IF([1]SAISIE!BH12=1,'Fiche Agt.Service'!M6,"") | N12: =IF([1]SAISIE!BI12=1,'Fiche Agt.Service'!N6,"") | O12: =IF([1]SAISIE!BJ12=1,'Fiche Agt.Service'!O6,"") | P12: =IF([1]SAISIE!BK12=1,'Fiche Agt.Service'!P6,"") | Q12: =IF([1]SAISIE!BL12=1,'Fiche Agt.Service'!Q6,"") | R12: =IF([1]SAISIE!BM12=1,'Fiche Agt.Service'!R6,"") | S12: =CONCATENATE(IF([1]SAISIE!J12=1,"salle"," "), IF([1]SAISIE!K12=1,"logement"," ")) | T12: =IF(S12="salle ", F12 & " " & G12 & H12 & I12 & J12 & K12 & L12 & " ","") | U12: =IF(S12=" logement", F12 & " " & M12 & N12 & O12 & P12 & Q12 & R12 & " ","") | V12: =CONCATENATE((IF(SUM([1]SAISIE!BN12:BP12)=0,"-",INDEX(B162:B164,MATCH(1,[1]SAISIE!BN12:BP12,0)))),(CONCATENATE(G12,H12,I12,J12,K12,L12,M12,N12,O12,P12,Q12,R12))) -> - | W12: =IF(V12=B162,F12 &" "," ") | X12: =IF(V12=B163, F12 & " "," ") | Y12: =IF(V12=B164, F12 & " "," ") | Z12: =CONCATENATE((IF(SUM([1]SAISIE!BQ12:BR12)=0,"-",INDEX(B165:B166,MATCH(1,[1]SAISIE!BQ12:BR12,0)))),(CONCATENATE(G12,H12,I12,J12,K12,L12,M12,N12,O12,P12,Q12,R12))) -> - | AA12: =IF(Z12=B165, F12 &" "," ") | AB12: =IF(Z12=B166,F12 &" "," ") | AC12: =CONCATENATE((IF(SUM([1]SAISIE!BS12:BT12)=0,"-",INDEX(B167:B168,MATCH(1,[1]SAISIE!BS12:BT12,0)))),(CONCATENATE(G12,H12,I12,J12,K12,L12,M12,N12,O12,P12,Q12,R12))) -> - | AD12: =IF(AC12=B167, F12 &" "," ") | AE12: =IF(AC12=B168,F12 &" "," ") | AF12: =CONCATENATE((IF(SUM([1]SAISIE!BU12:BW12)=0,"-",INDEX(B169:B171,MATCH(1,[1]SAISIE!BU12:BW12,0)))),(CONCATENATE(G12,H12,I12,J12,K12,L12,M12,N12,O12,P12,Q12,R12))) -> - | AG12: =IF(AF12=B169, F12 &" "," ") | AH12: =IF(AF12=B170,F12 & " "," ") | AI12: =IF(AF12=B171,F12 & " "," ") | AJ12: =CONCATENATE((IF(SUM([1]SAISIE!BX12:BY12)=0,"-",INDEX(B172:B173,MATCH(1,[1]SAISIE!BX12:BY12,0)))),(CONCATENATE(G12,H12,I12,J12,K12,L12,M12,N12,O12,P12,Q12,R12))) -> - | AK12: =IF(AJ12=B172,F12 &" "," ") | AL12: =IF(AJ12=B173,F12 & " "," ") | AN12: =CONCATENATE((IF([1]SAISIE!AG12=1,F12 & " " & "normal ","")),(IF([1]SAISIE!AH12=1,F12 & " " & "diab ","")),(IF([1]SAISIE!AI12=1,F12 & " " & "diab s sel ","")),(IF([1]SAISIE!AJ12=1, F12 & " " & "mixé ","")),(IF([1]SAISIE!AK12=1,F12 & " " & "sans sel ","")),(IF([1]SAISIE!AL12=1,F12 & " " & "sans graisse ","")),,(IF([1]SAISIE!AM12=1,F12 & " " & "sans gr s sel ",""))) | AO12: =CONCATENATE((IF([1]SAISIE!AN12=1,F12 & " " & "normal ","")),(IF([1]SAISIE!AO12=1,F12 & " " & "diab ","")),(IF([1]SAISIE!AP12=1,F12 & " " & "diab s sel ","")),(IF([1]SAISIE!AQ12=1,F12 & " " & "mixé ","")),(IF([1]SAISIE!AR12=1,F12 & " " & "sans sel ","")),(IF([1]SAISIE!AS12=1,F12 & " " & "sans graisse ","")),,(IF([1]SAISIE!AT12=1,F12 & " " & "sans gr s sel ","")),(IF([1]SAISIE!AU12=1,F12 & " " & "sans porc ","")))
B13: ='[1]Fiche d''informations'!B31 -> 7 | C13: ='[1]Fiche d''informations'!C31 -> 0 | D13: ='[1]Fiche d''informations'!D31 -> 0 | E13: ='[1]Fiche d''informations'!E31 -> Mr | F13: NOM 7 | G13: =IF([1]SAISIE!AA13=1,'Fiche Agt.Service'!G6,"") | H13: =IF([1]SAISIE!AB13=1,'Fiche Agt.Service'!H6,"") | I13: =IF([1]SAISIE!AC13=1,'Fiche Agt.Service'!I6,"") | J13: =IF([1]SAISIE!AD13=1,'Fiche Agt.Service'!J6,"") | K13: =IF([1]SAISIE!AE13=1,'Fiche Agt.Service'!K6,"") | L13: =IF([1]SAISIE!AF13=1,'Fiche Agt.Service'!L6,"") | M13: =IF([1]SAISIE!BH13=1,'Fiche Agt.Service'!M6,"") | N13: =IF([1]SAISIE!BI13=1,'Fiche Agt.Service'!N6,"") | O13: =IF([1]SAISIE!BJ13=1,'Fiche Agt.Service'!O6,"") | P13: =IF([1]SAISIE!BK13=1,'Fiche Agt.Service'!P6,"") | Q13: =IF([1]SAISIE!BL13=1,'Fiche Agt.Service'!Q6,"") | R13: =IF([1]SAISIE!BM13=1,'Fiche Agt.Service'!R6,"") | S13: =CONCATENATE(IF([1]SAISIE!J13=1,"salle"," "), IF([1]SAISIE!K13=1,"logement"," ")) | T13: =IF(S13="salle ", F13 & " " & G13 & H13 & I13 & J13 & K13 & L13 & " ","") | U13: =IF(S13=" logement", F13 & " " & M13 & N13 & O13 & P13 & Q13 & R13 & " ","") | V13: =CONCATENATE((IF(SUM([1]SAISIE!BN13:BP13)=0,"-",INDEX(B162:B164,MATCH(1,[1]SAISIE!BN13:BP13,0)))),(CONCATENATE(G13,H13,I13,J13,K13,L13,M13,N13,O13,P13,Q13,R13))) -> - | W13: =IF(V13=B162,F13 &" "," ") | X13: =IF(V13=B163, F13 & " "," ") | Y13: =IF(V13=B164, F13 & " "," ") | Z13: =CONCATENATE((IF(SUM([1]SAISIE!BQ13:BR13)=0,"-",INDEX(B165:B166,MATCH(1,[1]SAISIE!BQ13:BR13,0)))),(CONCATENATE(G13,H13,I13,J13,K13,L13,M13,N13,O13,P13,Q13,R13))) -> - | AA13: =IF(Z13=B165, F13 &" "," ") | AB13: =IF(Z13=B166,F13 &" "," ") | AC13: =CONCATENATE((IF(SUM([1]SAISIE!BS13:BT13)=0,"-",INDEX(B167:B168,MATCH(1,[1]SAISIE!BS13:BT13,0)))),(CONCATENATE(G13,H13,I13,J13,K13,L13,M13,N13,O13,P13,Q13,R13))) -> - | AD13: =IF(AC13=B167, F13 &" "," ") | AE13: =IF(AC13=B168,F13 &" "," ") | AF13: =CONCATENATE((IF(SUM([1]SAISIE!BU13:BW13)=0,"-",INDEX(B169:B171,MATCH(1,[1]SAISIE!BU13:BW13,0)))),(CONCATENATE(G13,H13,I13,J13,K13,L13,M13,N13,O13,P13,Q13,R13))) -> - | AG13: =IF(AF13=B169, F13 &" "," ") | AH13: =IF(AF13=B170,F13 & " "," ") | AI13: =IF(AF13=B171,F13 & " "," ") | AJ13: =CONCATENATE((IF(SUM([1]SAISIE!BX13:BY13)=0,"-",INDEX(B172:B173,MATCH(1,[1]SAISIE!BX13:BY13,0)))),(CONCATENATE(G13,H13,I13,J13,K13,L13,M13,N13,O13,P13,Q13,R13))) -> - | AK13: =IF(AJ13=B172,F13 &" "," ") | AL13: =IF(AJ13=B173,F13 & " "," ") | AN13: =CONCATENATE((IF([1]SAISIE!AG13=1,F13 & " " & "normal ","")),(IF([1]SAISIE!AH13=1,F13 & " " & "diab ","")),(IF([1]SAISIE!AI13=1,F13 & " " & "diab s sel ","")),(IF([1]SAISIE!AJ13=1, F13 & " " & "mixé ","")),(IF([1]SAISIE!AK13=1,F13 & " " & "sans sel ","")),(IF([1]SAISIE!AL13=1,F13 & " " & "sans graisse ","")),,(IF([1]SAISIE!AM13=1,F13 & " " & "sans gr s sel ",""))) | AO13: =CONCATENATE((IF([1]SAISIE!AN13=1,F13 & " " & "normal ","")),(IF([1]SAISIE!AO13=1,F13 & " " & "diab ","")),(IF([1]SAISIE!AP13=1,F13 & " " & "diab s sel ","")),(IF([1]SAISIE!AQ13=1,F13 & " " & "mixé ","")),(IF([1]SAISIE!AR13=1,F13 & " " & "sans sel ","")),(IF([1]SAISIE!AS13=1,F13 & " " & "sans graisse ","")),,(IF([1]SAISIE!AT13=1,F13 & " " & "sans gr s sel ","")),(IF([1]SAISIE!AU13=1,F13 & " " & "sans porc ","")))
B14: ='[1]Fiche d''informations'!B32 -> 8 | C14: ='[1]Fiche d''informations'!C32 -> 0 | D14: ='[1]Fiche d''informations'!D32 -> 0 | E14: ='[1]Fiche d''informations'!E32 -> Mme | F14: NOM 8 | G14: =IF([1]SAISIE!AA14=1,'Fiche Agt.Service'!G6,"") | H14: =IF([1]SAISIE!AB14=1,'Fiche Agt.Service'!H6,"") | I14: =IF([1]SAISIE!AC14=1,'Fiche Agt.Service'!I6,"") | J14: =IF([1]SAISIE!AD14=1,'Fiche Agt.Service'!J6,"") | K14: =IF([1]SAISIE!AE14=1,'Fiche Agt.Service'!K6,"") | L14: =IF([1]SAISIE!AF14=1,'Fiche Agt.Service'!L6,"") | M14: =IF([1]SAISIE!BH14=1,'Fiche Agt.Service'!M6,"") | N14: =IF([1]SAISIE!BI14=1,'Fiche Agt.Service'!N6,"") | O14: =IF([1]SAISIE!BJ14=1,'Fiche Agt.Service'!O6,"") | P14: =IF([1]SAISIE!BK14=1,'Fiche Agt.Service'!P6,"") | Q14: =IF([1]SAISIE!BL14=1,'Fiche Agt.Service'!Q6,"") | R14: =IF([1]SAISIE!BM14=1,'Fiche Agt.Service'!R6,"") | S14: =CONCATENATE(IF([1]SAISIE!J14=1,"salle"," "), IF([1]SAISIE!K14=1,"logement"," ")) | T14: =IF(S14="salle ", F14 & " " & G14 & H14 & I14 & J14 & K14 & L14 & " ","") | U14: =IF(S14=" logement", F14 & " " & M14 & N14 & O14 & P14 & Q14 & R14 & " ","") | V14: =CONCATENATE((IF(SUM([1]SAISIE!BN14:BP14)=0,"-",INDEX(B162:B164,MATCH(1,[1]SAISIE!BN14:BP14,0)))),(CONCATENATE(G14,H14,I14,J14,K14,L14,M14,N14,O14,P14,Q14,R14))) -> - | W14: =IF(V14=B162,F14 &" "," ") | X14: =IF(V14=B163, F14 & " "," ") | Y14: =IF(V14=B164, F14 & " "," ") | Z14: =CONCATENATE((IF(SUM([1]SAISIE!BQ14:BR14)=0,"-",INDEX(B165:B166,MATCH(1,[1]SAISIE!BQ14:BR14,0)))),(CONCATENATE(G14,H14,I14,J14,K14,L14,M14,N14,O14,P14,Q14,R14))) -> - | AA14: =IF(Z14=B165, F14 &" "," ") | AB14: =IF(Z14=B166,F14 &" "," ") | AC14: =CONCATENATE((IF(SUM([1]SAISIE!BS14:BT14)=0,"-",INDEX(B167:B168,MATCH(1,[1]SAISIE!BS14:BT14,0)))),(CONCATENATE(G14,H14,I14,J14,K14,L14,M14,N14,O14,P14,Q14,R14))) -> - | AD14: =IF(AC14=B167, F14 &" "," ") | AE14: =IF(AC14=B168,F14 &" "," ") | AF14: =CONCATENATE((IF(SUM([1]SAISIE!BU14:BW14)=0,"-",INDEX(B169:B171,MATCH(1,[1]SAISIE!BU14:BW14,0)))),(CONCATENATE(G14,H14,I14,J14,K14,L14,M14,N14,O14,P14,Q14,R14))) -> - | AG14: =IF(AF14=B169, F14 &" "," ") | AH14: =IF(AF14=B170,F14 & " "," ") | AI14: =IF(AF14=B171,F14 & " "," ") | AJ14: =CONCATENATE((IF(SUM([1]SAISIE!BX14:BY14)=0,"-",INDEX(B172:B173,MATCH(1,[1]SAISIE!BX14:BY14,0)))),(CONCATENATE(G14,H14,I14,J14,K14,L14,M14,N14,O14,P14,Q14,R14))) -> - | AK14: =IF(AJ14=B172,F14 &" "," ") | AL14: =IF(AJ14=B173,F14 & " "," ") | AN14: =CONCATENATE((IF([1]SAISIE!AG14=1,F14 & " " & "normal ","")),(IF([1]SAISIE!AH14=1,F14 & " " & "diab ","")),(IF([1]SAISIE!AI14=1,F14 & " " & "diab s sel ","")),(IF([1]SAISIE!AJ14=1, F14 & " " & "mixé ","")),(IF([1]SAISIE!AK14=1,F14 & " " & "sans sel ","")),(IF([1]SAISIE!AL14=1,F14 & " " & "sans graisse ","")),,(IF([1]SAISIE!AM14=1,F14 & " " & "sans gr s sel ",""))) | AO14: =CONCATENATE((IF([1]SAISIE!AN14=1,F14 & " " & "normal ","")),(IF([1]SAISIE!AO14=1,F14 & " " & "diab ","")),(IF([1]SAISIE!AP14=1,F14 & " " & "diab s sel ","")),(IF([1]SAISIE!AQ14=1,F14 & " " & "mixé ","")),(IF([1]SAISIE!AR14=1,F14 & " " & "sans sel ","")),(IF([1]SAISIE!AS14=1,F14 & " " & "sans graisse ","")),,(IF([1]SAISIE!AT14=1,F14 & " " & "sans gr s sel ","")),(IF([1]SAISIE!AU14=1,F14 & " " & "sans porc ","")))
B15: ='[1]Fiche d''informations'!B33 -> 9 | C15: ='[1]Fiche d''informations'!C33 -> 0 | D15: ='[1]Fiche d''informations'!D33 -> 0 | E15: ='[1]Fiche d''informations'!E33 -> Mme | F15: NOM 9 | G15: =IF([1]SAISIE!AA15=1,'Fiche Agt.Service'!G6,"") | H15: =IF([1]SAISIE!AB15=1,'Fiche Agt.Service'!H6,"") | I15: =IF([1]SAISIE!AC15=1,'Fiche Agt.Service'!I6,"") | J15: =IF([1]SAISIE!AD15=1,'Fiche Agt.Service'!J6,"") | K15: =IF([1]SAISIE!AE15=1,'Fiche Agt.Service'!K6,"") | L15: =IF([1]SAISIE!AF15=1,'Fiche Agt.Service'!L6,"") | M15: =IF([1]SAISIE!BH15=1,'Fiche Agt.Service'!M6,"") | N15: =IF([1]SAISIE!BI15=1,'Fiche Agt.Service'!N6,"") | O15: =IF([1]SAISIE!BJ15=1,'Fiche Agt.Service'!O6,"") | P15: =IF([1]SAISIE!BK15=1,'Fiche Agt.Service'!P6,"") | Q15: =IF([1]SAISIE!BL15=1,'Fiche Agt.Service'!Q6,"") | R15: =IF([1]SAISIE!BM15=1,'Fiche Agt.Service'!R6,"") | S15: =CONCATENATE(IF([1]SAISIE!J15=1,"salle"," "), IF([1]SAISIE!K15=1,"logement"," ")) | T15: =IF(S15="salle ", F15 & " " & G15 & H15 & I15 & J15 & K15 & L15 & " ","") | U15: =IF(S15=" logement", F15 & " " & M15 & N15 & O15 & P15 & Q15 & R15 & " ","") | V15: =CONCATENATE((IF(SUM([1]SAISIE!BN15:BP15)=0,"-",INDEX(B162:B164,MATCH(1,[1]SAISIE!BN15:BP15,0)))),(CONCATENATE(G15,H15,I15,J15,K15,L15,M15,N15,O15,P15,Q15,R15))) -> - | W15: =IF(V15=B162,F15 &" "," ") | X15: =IF(V15=B163, F15 & " "," ") | Y15: =IF(V15=B164, F15 & " "," ") | Z15: =CONCATENATE((IF(SUM([1]SAISIE!BQ15:BR15)=0,"-",INDEX(B165:B166,MATCH(1,[1]SAISIE!BQ15:BR15,0)))),(CONCATENATE(G15,H15,I15,J15,K15,L15,M15,N15,O15,P15,Q15,R15))) -> - | AA15: =IF(Z15=B165, F15 &" "," ") | AB15: =IF(Z15=B166,F15 &" "," ") | AC15: =CONCATENATE((IF(SUM([1]SAISIE!BS15:BT15)=0,"-",INDEX(B167:B168,MATCH(1,[1]SAISIE!BS15:BT15,0)))),(CONCATENATE(G15,H15,I15,J15,K15,L15,M15,N15,O15,P15,Q15,R15))) -> - | AD15: =IF(AC15=B167, F15 &" "," ") | AE15: =IF(AC15=B168,F15 &" "," ") | AF15: =CONCATENATE((IF(SUM([1]SAISIE!BU15:BW15)=0,"-",INDEX(B169:B171,MATCH(1,[1]SAISIE!BU15:BW15,0)))),(CONCATENATE(G15,H15,I15,J15,K15,L15,M15,N15,O15,P15,Q15,R15))) -> - | AG15: =IF(AF15=B169, F15 &" "," ") | AH15: =IF(AF15=B170,F15 & " "," ") | AI15: =IF(AF15=B171,F15 & " "," ") | AJ15: =CONCATENATE((IF(SUM([1]SAISIE!BX15:BY15)=0,"-",INDEX(B172:B173,MATCH(1,[1]SAISIE!BX15:BY15,0)))),(CONCATENATE(G15,H15,I15,J15,K15,L15,M15,N15,O15,P15,Q15,R15))) -> - | AK15: =IF(AJ15=B172,F15 &" "," ") | AL15: =IF(AJ15=B173,F15 & " "," ") | AN15: =CONCATENATE((IF([1]SAISIE!AG15=1,F15 & " " & "normal ","")),(IF([1]SAISIE!AH15=1,F15 & " " & "diab ","")),(IF([1]SAISIE!AI15=1,F15 & " " & "diab s sel ","")),(IF([1]SAISIE!AJ15=1, F15 & " " & "mixé ","")),(IF([1]SAISIE!AK15=1,F15 & " " & "sans sel ","")),(IF([1]SAISIE!AL15=1,F15 & " " & "sans graisse ","")),,(IF([1]SAISIE!AM15=1,F15 & " " & "sans gr s sel ",""))) | AO15: =CONCATENATE((IF([1]SAISIE!AN15=1,F15 & " " & "normal ","")),(IF([1]SAISIE!AO15=1,F15 & " " & "diab ","")),(IF([1]SAISIE!AP15=1,F15 & " " & "diab s sel ","")),(IF([1]SAISIE!AQ15=1,F15 & " " & "mixé ","")),(IF([1]SAISIE!AR15=1,F15 & " " & "sans sel ","")),(IF([1]SAISIE!AS15=1,F15 & " " & "sans graisse ","")),,(IF([1]SAISIE!AT15=1,F15 & " " & "sans gr s sel ","")),(IF([1]SAISIE!AU15=1,F15 & " " & "sans porc ","")))
B16: ='[1]Fiche d''informations'!B34 -> 10 | C16: ='[1]Fiche d''informations'!C34 -> 0 | D16: ='[1]Fiche d''informations'!D34 -> 0 | E16: ='[1]Fiche d''informations'!E34 -> Mme | F16: NOM 10 | G16: =IF([1]SAISIE!AA16=1,'Fiche Agt.Service'!G6,"") | H16: =IF([1]SAISIE!AB16=1,'Fiche Agt.Service'!H6,"") | I16: =IF([1]SAISIE!AC16=1,'Fiche Agt.Service'!I6,"") | J16: =IF([1]SAISIE!AD16=1,'Fiche Agt.Service'!J6,"") | K16: =IF([1]SAISIE!AE16=1,'Fiche Agt.Service'!K6,"") | L16: =IF([1]SAISIE!AF16=1,'Fiche Agt.Service'!L6,"") | M16: =IF([1]SAISIE!BH16=1,'Fiche Agt.Service'!M6,"") | N16: =IF([1]SAISIE!BI16=1,'Fiche Agt.Service'!N6,"") | O16: =IF([1]SAISIE!BJ16=1,'Fiche Agt.Service'!O6,"") | P16: =IF([1]SAISIE!BK16=1,'Fiche Agt.Service'!P6,"") | Q16: =IF([1]SAISIE!BL16=1,'Fiche Agt.Service'!Q6,"") | R16: =IF([1]SAISIE!BM16=1,'Fiche Agt.Service'!R6,"") | S16: =CONCATENATE(IF([1]SAISIE!J16=1,"salle"," "), IF([1]SAISIE!K16=1,"logement"," ")) | T16: =IF(S16="salle ", F16 & " " & G16 & H16 & I16 & J16 & K16 & L16 & " ","") | U16: =IF(S16=" logement", F16 & " " & M16 & N16 & O16 & P16 & Q16 & R16 & " ","") | V16: =CONCATENATE((IF(SUM([1]SAISIE!BN16:BP16)=0,"-",INDEX(B162:B164,MATCH(1,[1]SAISIE!BN16:BP16,0)))),(CONCATENATE(G16,H16,I16,J16,K16,L16,M16,N16,O16,P16,Q16,R16))) -> - | W16: =IF(V16=B162,F16 &" "," ") | X16: =IF(V16=B163, F16 & " "," ") | Y16: =IF(V16=B164, F16 & " "," ") | Z16: =CONCATENATE((IF(SUM([1]SAISIE!BQ16:BR16)=0,"-",INDEX(B165:B166,MATCH(1,[1]SAISIE!BQ16:BR16,0)))),(CONCATENATE(G16,H16,I16,J16,K16,L16,M16,N16,O16,P16,Q16,R16))) -> - | AA16: =IF(Z16=B165, F16 &" "," ") | AB16: =IF(Z16=B166,F16 &" "," ") | AC16: =CONCATENATE((IF(SUM([1]SAISIE!BS16:BT16)=0,"-",INDEX(B167:B168,MATCH(1,[1]SAISIE!BS16:BT16,0)))),(CONCATENATE(G16,H16,I16,J16,K16,L16,M16,N16,O16,P16,Q16,R16))) -> - | AD16: =IF(AC16=B167, F16 &" "," ") | AE16: =IF(AC16=B168,F16 &" "," ") | AF16: =CONCATENATE((IF(SUM([1]SAISIE!BU16:BW16)=0,"-",INDEX(B169:B171,MATCH(1,[1]SAISIE!BU16:BW16,0)))),(CONCATENATE(G16,H16,I16,J16,K16,L16,M16,N16,O16,P16,Q16,R16))) -> - | AG16: =IF(AF16=B169, F16 &" "," ") | AH16: =IF(AF16=B170,F16 & " "," ") | AI16: =IF(AF16=B171,F16 & " "," ") | AJ16: =CONCATENATE((IF(SUM([1]SAISIE!BX16:BY16)=0,"-",INDEX(B172:B173,MATCH(1,[1]SAISIE!BX16:BY16,0)))),(CONCATENATE(G16,H16,I16,J16,K16,L16,M16,N16,O16,P16,Q16,R16))) -> - | AK16: =IF(AJ16=B172,F16 &" "," ") | AL16: =IF(AJ16=B173,F16 & " "," ") | AN16: =CONCATENATE((IF([1]SAISIE!AG16=1,F16 & " " & "normal ","")),(IF([1]SAISIE!AH16=1,F16 & " " & "diab ","")),(IF([1]SAISIE!AI16=1,F16 & " " & "diab s sel ","")),(IF([1]SAISIE!AJ16=1, F16 & " " & "mixé ","")),(IF([1]SAISIE!AK16=1,F16 & " " & "sans sel ","")),(IF([1]SAISIE!AL16=1,F16 & " " & "sans graisse ","")),,(IF([1]SAISIE!AM16=1,F16 & " " & "sans gr s sel ",""))) | AO16: =CONCATENATE((IF([1]SAISIE!AN16=1,F16 & " " & "normal ","")),(IF([1]SAISIE!AO16=1,F16 & " " & "diab ","")),(IF([1]SAISIE!AP16=1,F16 & " " & "diab s sel ","")),(IF([1]SAISIE!AQ16=1,F16 & " " & "mixé ","")),(IF([1]SAISIE!AR16=1,F16 & " " & "sans sel ","")),(IF([1]SAISIE!AS16=1,F16 & " " & "sans graisse ","")),,(IF([1]SAISIE!AT16=1,F16 & " " & "sans gr s sel ","")),(IF([1]SAISIE!AU16=1,F16 & " " & "sans porc ","")))
B17: ='[1]Fiche d''informations'!B35 -> 11 | C17: ='[1]Fiche d''informations'!C35 -> 1 | D17: ='[1]Fiche d''informations'!D35 -> 12 | E17: ='[1]Fiche d''informations'!E35 -> Mme | F17: NOM 11 | G17: =IF([1]SAISIE!AA17=1,'Fiche Agt.Service'!G6,"") | H17: =IF([1]SAISIE!AB17=1,'Fiche Agt.Service'!H6,"") | I17: =IF([1]SAISIE!AC17=1,'Fiche Agt.Service'!I6,"") | J17: =IF([1]SAISIE!AD17=1,'Fiche Agt.Service'!J6,"") | K17: =IF([1]SAISIE!AE17=1,'Fiche Agt.Service'!K6,"") | L17: =IF([1]SAISIE!AF17=1,'Fiche Agt.Service'!L6,"") | M17: =IF([1]SAISIE!BH17=1,'Fiche Agt.Service'!M6,"") | N17: =IF([1]SAISIE!BI17=1,'Fiche Agt.Service'!N6,"") | O17: =IF([1]SAISIE!BJ17=1,'Fiche Agt.Service'!O6,"") | P17: =IF([1]SAISIE!BK17=1,'Fiche Agt.Service'!P6,"") | Q17: =IF([1]SAISIE!BL17=1,'Fiche Agt.Service'!Q6,"") | R17: =IF([1]SAISIE!BM17=1,'Fiche Agt.Service'!R6,"") | S17: =CONCATENATE(IF([1]SAISIE!J17=1,"salle"," "), IF([1]SAISIE!K17=1,"logement"," ")) -> salle | T17: =IF(S17="salle ", F17 & " " & G17 & H17 & I17 & J17 & K17 & L17 & " ","") -> NOM 11 | U17: =IF(S17=" logement", F17 & " " & M17 & N17 & O17 & P17 & Q17 & R17 & " ","") | V17: =CONCATENATE((IF(SUM([1]SAISIE!BN17:BP17)=0,"-",INDEX(B162:B164,MATCH(1,[1]SAISIE!BN17:BP17,0)))),(CONCATENATE(G17,H17,I17,J17,K17,L17,M17,N17,O17,P17,Q17,R17))) -> Friand au fromage | W17: =IF(V17=B162,F17 &" "," ") -> NOM 11 | X17: =IF(V17=B163, F17 & " "," ") | Y17: =IF(V17=B164, F17 & " "," ") | Z17: =CONCATENATE((IF(SUM([1]SAISIE!BQ17:BR17)=0,"-",INDEX(B165:B166,MATCH(1,[1]SAISIE!BQ17:BR17,0)))),(CONCATENATE(G17,H17,I17,J17,K17,L17,M17,N17,O17,P17,Q17,R17))) -> Nuggets de volaille | AA17: =IF(Z17=B165, F17 &" "," ") -> NOM 11 | AB17: =IF(Z17=B166,F17 &" "," ") | AC17: =CONCATENATE((IF(SUM([1]SAISIE!BS17:BT17)=0,"-",INDEX(B167:B168,MATCH(1,[1]SAISIE!BS17:BT17,0)))),(CONCATENATE(G17,H17,I17,J17,K17,L17,M17,N17,O17,P17,Q17,R17))) -> Pommes de terre persillées | AD17: =IF(AC17=B167, F17 &" "," ") | AE17: =IF(AC17=B168,F17 &" "," ") -> NOM 11 | AF17: =CONCATENATE((IF(SUM([1]SAISIE!BU17:BW17)=0,"-",INDEX(B169:B171,MATCH(1,[1]SAISIE!BU17:BW17,0)))),(CONCATENATE(G17,H17,I17,J17,K17,L17,M17,N17,O17,P17,Q17,R17))) -> Edam | AG17: =IF(AF17=B169, F17 &" "," ") -> NOM 11 | AH17: =IF(AF17=B170,F17 & " "," ") | AI17: =IF(AF17=B171,F17 & " "," ") | AJ17: =CONCATENATE((IF(SUM([1]SAISIE!BX17:BY17)=0,"-",INDEX(B172:B173,MATCH(1,[1]SAISIE!BX17:BY17,0)))),(CONCATENATE(G17,H17,I17,J17,K17,L17,M17,N17,O17,P17,Q17,R17))) -> Pêches au sirop | AK17: =IF(AJ17=B172,F17 &" "," ") | AL17: =IF(AJ17=B173,F17 & " "," ") -> NOM 11 | AN17: =CONCATENATE((IF([1]SAISIE!AG17=1,F17 & " " & "normal ","")),(IF([1]SAISIE!AH17=1,F17 & " " & "diab ","")),(IF([1]SAISIE!AI17=1,F17 & " " & "diab s sel ","")),(IF([1]SAISIE!AJ17=1, F17 & " " & "mixé ","")),(IF([1]SAISIE!AK17=1,F17 & " " & "sans sel ","")),(IF([1]SAISIE!AL17=1,F17 & " " & "sans graisse ","")),,(IF([1]SAISIE!AM17=1,F17 & " " & "sans gr s sel ",""))) -> NOM 11 normal | AO17: =CONCATENATE((IF([1]SAISIE!AN17=1,F17 & " " & "normal ","")),(IF([1]SAISIE!AO17=1,F17 & " " & "diab ","")),(IF([1]SAISIE!AP17=1,F17 & " " & "diab s sel ","")),(IF([1]SAISIE!AQ17=1,F17 & " " & "mixé ","")),(IF([1]SAISIE!AR17=1,F17 & " " & "sans sel ","")),(IF([1]SAISIE!AS17=1,F17 & " " & "sans graisse ","")),,(IF([1]SAISIE!AT17=1,F17 & " " & "sans gr s sel ","")),(IF([1]SAISIE!AU17=1,F17 & " " & "sans porc ","")))
B18: ='[1]Fiche d''informations'!B36 -> 12 | C18: ='[1]Fiche d''informations'!C36 -> 1 | D18: ='[1]Fiche d''informations'!D36 -> 7 | E18: ='[1]Fiche d''informations'!E36 -> Mr | F18: NOM 12 | G18: =IF([1]SAISIE!AA18=1,'Fiche Agt.Service'!G6,"") | H18: =IF([1]SAISIE!AB18=1,'Fiche Agt.Service'!H6,"") | I18: =IF([1]SAISIE!AC18=1,'Fiche Agt.Service'!I6,"") | J18: =IF([1]SAISIE!AD18=1,'Fiche Agt.Service'!J6,"") | K18: =IF([1]SAISIE!AE18=1,'Fiche Agt.Service'!K6,"") | L18: =IF([1]SAISIE!AF18=1,'Fiche Agt.Service'!L6,"") | M18: =IF([1]SAISIE!BH18=1,'Fiche Agt.Service'!M6,"") | N18: =IF([1]SAISIE!BI18=1,'Fiche Agt.Service'!N6,"") | O18: =IF([1]SAISIE!BJ18=1,'Fiche Agt.Service'!O6,"") | P18: =IF([1]SAISIE!BK18=1,'Fiche Agt.Service'!P6,"") | Q18: =IF([1]SAISIE!BL18=1,'Fiche Agt.Service'!Q6,"") | R18: =IF([1]SAISIE!BM18=1,'Fiche Agt.Service'!R6,"") | S18: =CONCATENATE(IF([1]SAISIE!J18=1,"salle"," "), IF([1]SAISIE!K18=1,"logement"," ")) | T18: =IF(S18="salle ", F18 & " " & G18 & H18 & I18 & J18 & K18 & L18 & " ","") | U18: =IF(S18=" logement", F18 & " " & M18 & N18 & O18 & P18 & Q18 & R18 & " ","") | V18: =CONCATENATE((IF(SUM([1]SAISIE!BN18:BP18)=0,"-",INDEX(B162:B164,MATCH(1,[1]SAISIE!BN18:BP18,0)))),(CONCATENATE(G18,H18,I18,J18,K18,L18,M18,N18,O18,P18,Q18,R18))) -> - | W18: =IF(V18=B162,F18 &" "," ") | X18: =IF(V18=B163, F18 & " "," ") | Y18: =IF(V18=B164, F18 & " "," ") | Z18: =CONCATENATE((IF(SUM([1]SAISIE!BQ18:BR18)=0,"-",INDEX(B165:B166,MATCH(1,[1]SAISIE!BQ18:BR18,0)))),(CONCATENATE(G18,H18,I18,J18,K18,L18,M18,N18,O18,P18,Q18,R18))) -> - | AA18: =IF(Z18=B165, F18 &" "," ") | AB18: =IF(Z18=B166,F18 &" "," ") | AC18: =CONCATENATE((IF(SUM([1]SAISIE!BS18:BT18)=0,"-",INDEX(B167:B168,MATCH(1,[1]SAISIE!BS18:BT18,0)))),(CONCATENATE(G18,H18,I18,J18,K18,L18,M18,N18,O18,P18,Q18,R18))) -> - | AD18: =IF(AC18=B167, F18 &" "," ") | AE18: =IF(AC18=B168,F18 &" "," ") | AF18: =CONCATENATE((IF(SUM([1]SAISIE!BU18:BW18)=0,"-",INDEX(B169:B171,MATCH(1,[1]SAISIE!BU18:BW18,0)))),(CONCATENATE(G18,H18,I18,J18,K18,L18,M18,N18,O18,P18,Q18,R18))) -> - | AG18: =IF(AF18=B169, F18 &" "," ") | AH18: =IF(AF18=B170,F18 & " "," ") | AI18: =IF(AF18=B171,F18 & " "," ") | AJ18: =CONCATENATE((IF(SUM([1]SAISIE!BX18:BY18)=0,"-",INDEX(B172:B173,MATCH(1,[1]SAISIE!BX18:BY18,0)))),(CONCATENATE(G18,H18,I18,J18,K18,L18,M18,N18,O18,P18,Q18,R18))) -> - | AK18: =IF(AJ18=B172,F18 &" "," ") | AL18: =IF(AJ18=B173,F18 & " "," ") | AN18: =CONCATENATE((IF([1]SAISIE!AG18=1,F18 & " " & "normal ","")),(IF([1]SAISIE!AH18=1,F18 & " " & "diab ","")),(IF([1]SAISIE!AI18=1,F18 & " " & "diab s sel ","")),(IF([1]SAISIE!AJ18=1, F18 & " " & "mixé ","")),(IF([1]SAISIE!AK18=1,F18 & " " & "sans sel ","")),(IF([1]SAISIE!AL18=1,F18 & " " & "sans graisse ","")),,(IF([1]SAISIE!AM18=1,F18 & " " & "sans gr s sel ",""))) | AO18: =CONCATENATE((IF([1]SAISIE!AN18=1,F18 & " " & "normal ","")),(IF([1]SAISIE!AO18=1,F18 & " " & "diab ","")),(IF([1]SAISIE!AP18=1,F18 & " " & "diab s sel ","")),(IF([1]SAISIE!AQ18=1,F18 & " " & "mixé ","")),(IF([1]SAISIE!AR18=1,F18 & " " & "sans sel ","")),(IF([1]SAISIE!AS18=1,F18 & " " & "sans graisse ","")),,(IF([1]SAISIE!AT18=1,F18 & " " & "sans gr s sel ","")),(IF([1]SAISIE!AU18=1,F18 & " " & "sans porc ","")))
B19: ='[1]Fiche d''informations'!B37 -> 13 | C19: ='[1]Fiche d''informations'!C37 -> 0 | D19: ='[1]Fiche d''informations'!D37 -> 0 | E19: ='[1]Fiche d''informations'!E37 -> Mr | F19: NOM 13 | G19: =IF([1]SAISIE!AA19=1,'Fiche Agt.Service'!G6,"") | H19: =IF([1]SAISIE!AB19=1,'Fiche Agt.Service'!H6,"") | I19: =IF([1]SAISIE!AC19=1,'Fiche Agt.Service'!I6,"") | J19: =IF([1]SAISIE!AD19=1,'Fiche Agt.Service'!J6,"") | K19: =IF([1]SAISIE!AE19=1,'Fiche Agt.Service'!K6,"") | L19: =IF([1]SAISIE!AF19=1,'Fiche Agt.Service'!L6,"") | M19: =IF([1]SAISIE!BH19=1,'Fiche Agt.Service'!M6,"") | N19: =IF([1]SAISIE!BI19=1,'Fiche Agt.Service'!N6,"") | O19: =IF([1]SAISIE!BJ19=1,'Fiche Agt.Service'!O6,"") | P19: =IF([1]SAISIE!BK19=1,'Fiche Agt.Service'!P6,"") | Q19: =IF([1]SAISIE!BL19=1,'Fiche Agt.Service'!Q6,"") | R19: =IF([1]SAISIE!BM19=1,'Fiche Agt.Service'!R6,"") | S19: =CONCATENATE(IF([1]SAISIE!J19=1,"salle"," "), IF([1]SAISIE!K19=1,"logement"," ")) | T19: =IF(S19="salle ", F19 & " " & G19 & H19 & I19 & J19 & K19 & L19 & " ","") | U19: =IF(S19=" logement", F19 & " " & M19 & N19 & O19 & P19 & Q19 & R19 & " ","") | V19: =CONCATENATE((IF(SUM([1]SAISIE!BN19:BP19)=0,"-",INDEX(B162:B164,MATCH(1,[1]SAISIE!BN19:BP19,0)))),(CONCATENATE(G19,H19,I19,J19,K19,L19,M19,N19,O19,P19,Q19,R19))) -> - | W19: =IF(V19=B162,F19 &" "," ") | X19: =IF(V19=B163, F19 & " "," ") | Y19: =IF(V19=B164, F19 & " "," ") | Z19: =CONCATENATE((IF(SUM([1]SAISIE!BQ19:BR19)=0,"-",INDEX(B165:B166,MATCH(1,[1]SAISIE!BQ19:BR19,0)))),(CONCATENATE(G19,H19,I19,J19,K19,L19,M19,N19,O19,P19,Q19,R19))) -> - | AA19: =IF(Z19=B165, F19 &" "," ") | AB19: =IF(Z19=B166,F19 &" "," ") | AC19: =CONCATENATE((IF(SUM([1]SAISIE!BS19:BT19)=0,"-",INDEX(B167:B168,MATCH(1,[1]SAISIE!BS19:BT19,0)))),(CONCATENATE(G19,H19,I19,J19,K19,L19,M19,N19,O19,P19,Q19,R19))) -> - | AD19: =IF(AC19=B167, F19 &" "," ") | AE19: =IF(AC19=B168,F19 &" "," ") | AF19: =CONCATENATE((IF(SUM([1]SAISIE!BU19:BW19)=0,"-",INDEX(B169:B171,MATCH(1,[1]SAISIE!BU19:BW19,0)))),(CONCATENATE(G19,H19,I19,J19,K19,L19,M19,N19,O19,P19,Q19,R19))) -> - | AG19: =IF(AF19=B169, F19 &" "," ") | AH19: =IF(AF19=B170,F19 & " "," ") | AI19: =IF(AF19=B171,F19 & " "," ") | AJ19: =CONCATENATE((IF(SUM([1]SAISIE!BX19:BY19)=0,"-",INDEX(B172:B173,MATCH(1,[1]SAISIE!BX19:BY19,0)))),(CONCATENATE(G19,H19,I19,J19,K19,L19,M19,N19,O19,P19,Q19,R19))) -> - | AK19: =IF(AJ19=B172,F19 &" "," ") | AL19: =IF(AJ19=B173,F19 & " "," ") | AN19: =CONCATENATE((IF([1]SAISIE!AG19=1,F19 & " " & "normal ","")),(IF([1]SAISIE!AH19=1,F19 & " " & "diab ","")),(IF([1]SAISIE!AI19=1,F19 & " " & "diab s sel ","")),(IF([1]SAISIE!AJ19=1, F19 & " " & "mixé ","")),(IF([1]SAISIE!AK19=1,F19 & " " & "sans sel ","")),(IF([1]SAISIE!AL19=1,F19 & " " & "sans graisse ","")),,(IF([1]SAISIE!AM19=1,F19 & " " & "sans gr s sel ",""))) | AO19: =CONCATENATE((IF([1]SAISIE!AN19=1,F19 & " " & "normal ","")),(IF([1]SAISIE!AO19=1,F19 & " " & "diab ","")),(IF([1]SAISIE!AP19=1,F19 & " " & "diab s sel ","")),(IF([1]SAISIE!AQ19=1,F19 & " " & "mixé ","")),(IF([1]SAISIE!AR19=1,F19 & " " & "sans sel ","")),(IF([1]SAISIE!AS19=1,F19 & " " & "sans graisse ","")),,(IF([1]SAISIE!AT19=1,F19 & " " & "sans gr s sel ","")),(IF([1]SAISIE!AU19=1,F19 & " " & "sans porc ","")))
B20: ='[1]Fiche d''informations'!B38 -> 14 | C20: ='[1]Fiche d''informations'!C38 -> 0 | D20: ='[1]Fiche d''informations'!D38 -> 0 | E20: ='[1]Fiche d''informations'!E38 -> 0 | F20: NOM 14 | G20: =IF([1]SAISIE!AA20=1,'Fiche Agt.Service'!G6,"") | H20: =IF([1]SAISIE!AB20=1,'Fiche Agt.Service'!H6,"") | I20: =IF([1]SAISIE!AC20=1,'Fiche Agt.Service'!I6,"") | J20: =IF([1]SAISIE!AD20=1,'Fiche Agt.Service'!J6,"") | K20: =IF([1]SAISIE!AE20=1,'Fiche Agt.Service'!K6,"") | L20: =IF([1]SAISIE!AF20=1,'Fiche Agt.Service'!L6,"") | M20: =IF([1]SAISIE!BH20=1,'Fiche Agt.Service'!M6,"") | N20: =IF([1]SAISIE!BI20=1,'Fiche Agt.Service'!N6,"") | O20: =IF([1]SAISIE!BJ20=1,'Fiche Agt.Service'!O6,"") | P20: =IF([1]SAISIE!BK20=1,'Fiche Agt.Service'!P6,"") | Q20: =IF([1]SAISIE!BL20=1,'Fiche Agt.Service'!Q6,"") | R20: =IF([1]SAISIE!BM20=1,'Fiche Agt.Service'!R6,"") | S20: =CONCATENATE(IF([1]SAISIE!J20=1,"salle"," "), IF([1]SAISIE!K20=1,"logement"," ")) | T20: =IF(S20="salle ", F20 & " " & G20 & H20 & I20 & J20 & K20 & L20 & " ","") | U20: =IF(S20=" logement", F20 & " " & M20 & N20 & O20 & P20 & Q20 & R20 & " ","") | V20: =CONCATENATE((IF(SUM([1]SAISIE!BN20:BP20)=0,"-",INDEX(B162:B164,MATCH(1,[1]SAISIE!BN20:BP20,0)))),(CONCATENATE(G20,H20,I20,J20,K20,L20,M20,N20,O20,P20,Q20,R20))) -> - | W20: =IF(V20=B162,F20 &" "," ") | X20: =IF(V20=B163, F20 & " "," ") | Y20: =IF(V20=B164, F20 & " "," ") | Z20: =CONCATENATE((IF(SUM([1]SAISIE!BQ20:BR20)=0,"-",INDEX(B165:B166,MATCH(1,[1]SAISIE!BQ20:BR20,0)))),(CONCATENATE(G20,H20,I20,J20,K20,L20,M20,N20,O20,P20,Q20,R20))) -> - | AA20: =IF(Z20=B165, F20 &" "," ") | AB20: =IF(Z20=B166,F20 &" "," ") | AC20: =CONCATENATE((IF(SUM([1]SAISIE!BS20:BT20)=0,"-",INDEX(B167:B168,MATCH(1,[1]SAISIE!BS20:BT20,0)))),(CONCATENATE(G20,H20,I20,J20,K20,L20,M20,N20,O20,P20,Q20,R20))) -> - | AD20: =IF(AC20=B167, F20 &" "," ") | AE20: =IF(AC20=B168,F20 &" "," ") | AF20: =CONCATENATE((IF(SUM([1]SAISIE!BU20:BW20)=0,"-",INDEX(B169:B171,MATCH(1,[1]SAISIE!BU20:BW20,0)))),(CONCATENATE(G20,H20,I20,J20,K20,L20,M20,N20,O20,P20,Q20,R20))) -> - | AG20: =IF(AF20=B169, F20 &" "," ") | AH20: =IF(AF20=B170,F20 & " "," ") | AI20: =IF(AF20=B171,F20 & " "," ") | AJ20: =CONCATENATE((IF(SUM([1]SAISIE!BX20:BY20)=0,"-",INDEX(B172:B173,MATCH(1,[1]SAISIE!BX20:BY20,0)))),(CONCATENATE(G20,H20,I20,J20,K20,L20,M20,N20,O20,P20,Q20,R20))) -> - | AK20: =IF(AJ20=B172,F20 &" "," ") | AL20: =IF(AJ20=B173,F20 & " "," ") | AN20: =CONCATENATE((IF([1]SAISIE!AG20=1,F20 & " " & "normal ","")),(IF([1]SAISIE!AH20=1,F20 & " " & "diab ","")),(IF([1]SAISIE!AI20=1,F20 & " " & "diab s sel ","")),(IF([1]SAISIE!AJ20=1, F20 & " " & "mixé ","")),(IF([1]SAISIE!AK20=1,F20 & " " & "sans sel ","")),(IF([1]SAISIE!AL20=1,F20 & " " & "sans graisse ","")),,(IF([1]SAISIE!AM20=1,F20 & " " & "sans gr s sel ",""))) | AO20: =CONCATENATE((IF([1]SAISIE!AN20=1,F20 & " " & "normal ","")),(IF([1]SAISIE!AO20=1,F20 & " " & "diab ","")),(IF([1]SAISIE!AP20=1,F20 & " " & "diab s sel ","")),(IF([1]SAISIE!AQ20=1,F20 & " " & "mixé ","")),(IF([1]SAISIE!AR20=1,F20 & " " & "sans sel ","")),(IF([1]SAISIE!AS20=1,F20 & " " & "sans graisse ","")),,(IF([1]SAISIE!AT20=1,F20 & " " & "sans gr s sel ","")),(IF([1]SAISIE!AU20=1,F20 & " " & "sans porc ","")))
B21: ='[1]Fiche d''informations'!B39 -> 15 | C21: ='[1]Fiche d''informations'!C39 -> 0 | D21: ='[1]Fiche d''informations'!D39 -> 0 | E21: ='[1]Fiche d''informations'!E39 -> Mr | F21: NOM 15 | G21: =IF([1]SAISIE!AA21=1,'Fiche Agt.Service'!G6,"") | H21: =IF([1]SAISIE!AB21=1,'Fiche Agt.Service'!H6,"") | I21: =IF([1]SAISIE!AC21=1,'Fiche Agt.Service'!I6,"") | J21: =IF([1]SAISIE!AD21=1,'Fiche Agt.Service'!J6,"") | K21: =IF([1]SAISIE!AE21=1,'Fiche Agt.Service'!K6,"") | L21: =IF([1]SAISIE!AF21=1,'Fiche Agt.Service'!L6,"") | M21: =IF([1]SAISIE!BH21=1,'Fiche Agt.Service'!M6,"") | N21: =IF([1]SAISIE!BI21=1,'Fiche Agt.Service'!N6,"") | O21: =IF([1]SAISIE!BJ21=1,'Fiche Agt.Service'!O6,"") | P21: =IF([1]SAISIE!BK21=1,'Fiche Agt.Service'!P6,"") | Q21: =IF([1]SAISIE!BL21=1,'Fiche Agt.Service'!Q6,"") | R21: =IF([1]SAISIE!BM21=1,'Fiche Agt.Service'!R6,"") | S21: =CONCATENATE(IF([1]SAISIE!J21=1,"salle"," "), IF([1]SAISIE!K21=1,"logement"," ")) | T21: =IF(S21="salle ", F21 & " " & G21 & H21 & I21 & J21 & K21 & L21 & " ","") | U21: =IF(S21=" logement", F21 & " " & M21 & N21 & O21 & P21 & Q21 & R21 & " ","") | V21: =CONCATENATE((IF(SUM([1]SAISIE!BN21:BP21)=0,"-",INDEX(B162:B164,MATCH(1,[1]SAISIE!BN21:BP21,0)))),(CONCATENATE(G21,H21,I21,J21,K21,L21,M21,N21,O21,P21,Q21,R21))) -> - | W21: =IF(V21=B162,F21 &" "," ") | X21: =IF(V21=B163, F21 & " "," ") | Y21: =IF(V21=B164, F21 & " "," ") | Z21: =CONCATENATE((IF(SUM([1]SAISIE!BQ21:BR21)=0,"-",INDEX(B165:B166,MATCH(1,[1]SAISIE!BQ21:BR21,0)))),(CONCATENATE(G21,H21,I21,J21,K21,L21,M21,N21,O21,P21,Q21,R21))) -> - | AA21: =IF(Z21=B165, F21 &" "," ") | AB21: =IF(Z21=B166,F21 &" "," ") | AC21: =CONCATENATE((IF(SUM([1]SAISIE!BS21:BT21)=0,"-",INDEX(B167:B168,MATCH(1,[1]SAISIE!BS21:BT21,0)))),(CONCATENATE(G21,H21,I21,J21,K21,L21,M21,N21,O21,P21,Q21,R21))) -> - | AD21: =IF(AC21=B167, F21 &" "," ") | AE21: =IF(AC21=B168,F21 &" "," ") | AF21: =CONCATENATE((IF(SUM([1]SAISIE!BU21:BW21)=0,"-",INDEX(B169:B171,MATCH(1,[1]SAISIE!BU21:BW21,0)))),(CONCATENATE(G21,H21,I21,J21,K21,L21,M21,N21,O21,P21,Q21,R21))) -> - | AG21: =IF(AF21=B169, F21 &" "," ") | AH21: =IF(AF21=B170,F21 & " "," ") | AI21: =IF(AF21=B171,F21 & " "," ") | AJ21: =CONCATENATE((IF(SUM([1]SAISIE!BX21:BY21)=0,"-",INDEX(B172:B173,MATCH(1,[1]SAISIE!BX21:BY21,0)))),(CONCATENATE(G21,H21,I21,J21,K21,L21,M21,N21,O21,P21,Q21,R21))) -> - | AK21: =IF(AJ21=B172,F21 &" "," ") | AL21: =IF(AJ21=B173,F21 & " "," ") | AN21: =CONCATENATE((IF([1]SAISIE!AG21=1,F21 & " " & "normal ","")),(IF([1]SAISIE!AH21=1,F21 & " " & "diab ","")),(IF([1]SAISIE!AI21=1,F21 & " " & "diab s sel ","")),(IF([1]SAISIE!AJ21=1, F21 & " " & "mixé ","")),(IF([1]SAISIE!AK21=1,F21 & " " & "sans sel ","")),(IF([1]SAISIE!AL21=1,F21 & " " & "sans graisse ","")),,(IF([1]SAISIE!AM21=1,F21 & " " & "sans gr s sel ",""))) | AO21: =CONCATENATE((IF([1]SAISIE!AN21=1,F21 & " " & "normal ","")),(IF([1]SAISIE!AO21=1,F21 & " " & "diab ","")),(IF([1]SAISIE!AP21=1,F21 & " " & "diab s sel ","")),(IF([1]SAISIE!AQ21=1,F21 & " " & "mixé ","")),(IF([1]SAISIE!AR21=1,F21 & " " & "sans sel ","")),(IF([1]SAISIE!AS21=1,F21 & " " & "sans graisse ","")),,(IF([1]SAISIE!AT21=1,F21 & " " & "sans gr s sel ","")),(IF([1]SAISIE!AU21=1,F21 & " " & "sans porc ","")))
B22: ='[1]Fiche d''informations'!B40 -> 16 | C22: ='[1]Fiche d''informations'!C40 -> 0 | D22: ='[1]Fiche d''informations'!D40 -> 0 | E22: ='[1]Fiche d''informations'!E40 -> Mme | F22: NOM 16 | G22: =IF([1]SAISIE!AA22=1,'Fiche Agt.Service'!G6,"") | H22: =IF([1]SAISIE!AB22=1,'Fiche Agt.Service'!H6,"") | I22: =IF([1]SAISIE!AC22=1,'Fiche Agt.Service'!I6,"") | J22: =IF([1]SAISIE!AD22=1,'Fiche Agt.Service'!J6,"") | K22: =IF([1]SAISIE!AE22=1,'Fiche Agt.Service'!K6,"") | L22: =IF([1]SAISIE!AF22=1,'Fiche Agt.Service'!L6,"") | M22: =IF([1]SAISIE!BH22=1,'Fiche Agt.Service'!M6,"") | N22: =IF([1]SAISIE!BI22=1,'Fiche Agt.Service'!N6,"") | O22: =IF([1]SAISIE!BJ22=1,'Fiche Agt.Service'!O6,"") | P22: =IF([1]SAISIE!BK22=1,'Fiche Agt.Service'!P6,"") | Q22: =IF([1]SAISIE!BL22=1,'Fiche Agt.Service'!Q6,"") | R22: =IF([1]SAISIE!BM22=1,'Fiche Agt.Service'!R6,"") | S22: =CONCATENATE(IF([1]SAISIE!J22=1,"salle"," "), IF([1]SAISIE!K22=1,"logement"," ")) | T22: =IF(S22="salle ", F22 & " " & G22 & H22 & I22 & J22 & K22 & L22 & " ","") | U22: =IF(S22=" logement", F22 & " " & M22 & N22 & O22 & P22 & Q22 & R22 & " ","") | V22: =CONCATENATE((IF(SUM([1]SAISIE!BN22:BP22)=0,"-",INDEX(B162:B164,MATCH(1,[1]SAISIE!BN22:BP22,0)))),(CONCATENATE(G22,H22,I22,J22,K22,L22,M22,N22,O22,P22,Q22,R22))) -> - | W22: =IF(V22=B162,F22 &" "," ") | X22: =IF(V22=B163, F22 & " "," ") | Y22: =IF(V22=B164, F22 & " "," ") | Z22: =CONCATENATE((IF(SUM([1]SAISIE!BQ22:BR22)=0,"-",INDEX(B165:B166,MATCH(1,[1]SAISIE!BQ22:BR22,0)))),(CONCATENATE(G22,H22,I22,J22,K22,L22,M22,N22,O22,P22,Q22,R22))) -> - | AA22: =IF(Z22=B165, F22 &" "," ") | AB22: =IF(Z22=B166,F22 &" "," ") | AC22: =CONCATENATE((IF(SUM([1]SAISIE!BS22:BT22)=0,"-",INDEX(B167:B168,MATCH(1,[1]SAISIE!BS22:BT22,0)))),(CONCATENATE(G22,H22,I22,J22,K22,L22,M22,N22,O22,P22,Q22,R22))) -> - | AD22: =IF(AC22=B167, F22 &" "," ") | AE22: =IF(AC22=B168,F22 &" "," ") | AF22: =CONCATENATE((IF(SUM([1]SAISIE!BU22:BW22)=0,"-",INDEX(B169:B171,MATCH(1,[1]SAISIE!BU22:BW22,0)))),(CONCATENATE(G22,H22,I22,J22,K22,L22,M22,N22,O22,P22,Q22,R22))) -> - | AG22: =IF(AF22=B169, F22 &" "," ") | AH22: =IF(AF22=B170,F22 & " "," ") | AI22: =IF(AF22=B171,F22 & " "," ") | AJ22: =CONCATENATE((IF(SUM([1]SAISIE!BX22:BY22)=0,"-",INDEX(B172:B173,MATCH(1,[1]SAISIE!BX22:BY22,0)))),(CONCATENATE(G22,H22,I22,J22,K22,L22,M22,N22,O22,P22,Q22,R22))) -> - | AK22: =IF(AJ22=B172,F22 &" "," ") | AL22: =IF(AJ22=B173,F22 & " "," ") | AN22: =CONCATENATE((IF([1]SAISIE!AG22=1,F22 & " " & "normal ","")),(IF([1]SAISIE!AH22=1,F22 & " " & "diab ","")),(IF([1]SAISIE!AI22=1,F22 & " " & "diab s sel ","")),(IF([1]SAISIE!AJ22=1, F22 & " " & "mixé ","")),(IF([1]SAISIE!AK22=1,F22 & " " & "sans sel ","")),(IF([1]SAISIE!AL22=1,F22 & " " & "sans graisse ","")),,(IF([1]SAISIE!AM22=1,F22 & " " & "sans gr s sel ",""))) | AO22: =CONCATENATE((IF([1]SAISIE!AN22=1,F22 & " " & "normal ","")),(IF([1]SAISIE!AO22=1,F22 & " " & "diab ","")),(IF([1]SAISIE!AP22=1,F22 & " " & "diab s sel ","")),(IF([1]SAISIE!AQ22=1,F22 & " " & "mixé ","")),(IF([1]SAISIE!AR22=1,F22 & " " & "sans sel ","")),(IF([1]SAISIE!AS22=1,F22 & " " & "sans graisse ","")),,(IF([1]SAISIE!AT22=1,F22 & " " & "sans gr s sel ","")),(IF([1]SAISIE!AU22=1,F22 & " " & "sans porc ","")))
B23: ='[1]Fiche d''informations'!B41 -> 17 | C23: ='[1]Fiche d''informations'!C41 -> 1 | D23: ='[1]Fiche d''informations'!D41 -> 0 | E23: ='[1]Fiche d''informations'!E41 -> Mr | F23: NOM 17 | G23: =IF([1]SAISIE!AA23=1,'Fiche Agt.Service'!G6,"") | H23: =IF([1]SAISIE!AB23=1,'Fiche Agt.Service'!H6,"") | I23: =IF([1]SAISIE!AC23=1,'Fiche Agt.Service'!I6,"") | J23: =IF([1]SAISIE!AD23=1,'Fiche Agt.Service'!J6,"") | K23: =IF([1]SAISIE!AE23=1,'Fiche Agt.Service'!K6,"") | L23: =IF([1]SAISIE!AF23=1,'Fiche Agt.Service'!L6,"") | M23: =IF([1]SAISIE!BH23=1,'Fiche Agt.Service'!M6,"") | N23: =IF([1]SAISIE!BI23=1,'Fiche Agt.Service'!N6,"") | O23: =IF([1]SAISIE!BJ23=1,'Fiche Agt.Service'!O6,"") | P23: =IF([1]SAISIE!BK23=1,'Fiche Agt.Service'!P6,"") | Q23: =IF([1]SAISIE!BL23=1,'Fiche Agt.Service'!Q6,"") | R23: =IF([1]SAISIE!BM23=1,'Fiche Agt.Service'!R6,"") | S23: =CONCATENATE(IF([1]SAISIE!J23=1,"salle"," "), IF([1]SAISIE!K23=1,"logement"," ")) | T23: =IF(S23="salle ", F23 & " " & G23 & H23 & I23 & J23 & K23 & L23 & " ","") | U23: =IF(S23=" logement", F23 & " " & M23 & N23 & O23 & P23 & Q23 & R23 & " ","") | V23: =CONCATENATE((IF(SUM([1]SAISIE!BN23:BP23)=0,"-",INDEX(B162:B164,MATCH(1,[1]SAISIE!BN23:BP23,0)))),(CONCATENATE(G23,H23,I23,J23,K23,L23,M23,N23,O23,P23,Q23,R23))) -> - | W23: =IF(V23=B162,F23 &" "," ") | X23: =IF(V23=B163, F23 & " "," ") | Y23: =IF(V23=B164, F23 & " "," ") | Z23: =CONCATENATE((IF(SUM([1]SAISIE!BQ23:BR23)=0,"-",INDEX(B165:B166,MATCH(1,[1]SAISIE!BQ23:BR23,0)))),(CONCATENATE(G23,H23,I23,J23,K23,L23,M23,N23,O23,P23,Q23,R23))) -> - | AA23: =IF(Z23=B165, F23 &" "," ") | AB23: =IF(Z23=B166,F23 &" "," ") | AC23: =CONCATENATE((IF(SUM([1]SAISIE!BS23:BT23)=0,"-",INDEX(B167:B168,MATCH(1,[1]SAISIE!BS23:BT23,0)))),(CONCATENATE(G23,H23,I23,J23,K23,L23,M23,N23,O23,P23,Q23,R23))) -> - | AD23: =IF(AC23=B167, F23 &" "," ") | AE23: =IF(AC23=B168,F23 &" "," ") | AF23: =CONCATENATE((IF(SUM([1]SAISIE!BU23:BW23)=0,"-",INDEX(B169:B171,MATCH(1,[1]SAISIE!BU23:BW23,0)))),(CONCATENATE(G23,H23,I23,J23,K23,L23,M23,N23,O23,P23,Q23,R23))) -> - | AG23: =IF(AF23=B169, F23 &" "," ") | AH23: =IF(AF23=B170,F23 & " "," ") | AI23: =IF(AF23=B171,F23 & " "," ") | AJ23: =CONCATENATE((IF(SUM([1]SAISIE!BX23:BY23)=0,"-",INDEX(B172:B173,MATCH(1,[1]SAISIE!BX23:BY23,0)))),(CONCATENATE(G23,H23,I23,J23,K23,L23,M23,N23,O23,P23,Q23,R23))) -> - | AK23: =IF(AJ23=B172,F23 &" "," ") | AL23: =IF(AJ23=B173,F23 & " "," ") | AN23: =CONCATENATE((IF([1]SAISIE!AG23=1,F23 & " " & "normal ","")),(IF([1]SAISIE!AH23=1,F23 & " " & "diab ","")),(IF([1]SAISIE!AI23=1,F23 & " " & "diab s sel ","")),(IF([1]SAISIE!AJ23=1, F23 & " " & "mixé ","")),(IF([1]SAISIE!AK23=1,F23 & " " & "sans sel ","")),(IF([1]SAISIE!AL23=1,F23 & " " & "sans graisse ","")),,(IF([1]SAISIE!AM23=1,F23 & " " & "sans gr s sel ",""))) -> NOM 17 normal | AO23: =CONCATENATE((IF([1]SAISIE!AN23=1,F23 & " " & "normal ","")),(IF([1]SAISIE!AO23=1,F23 & " " & "diab ","")),(IF([1]SAISIE!AP23=1,F23 & " " & "diab s sel ","")),(IF([1]SAISIE!AQ23=1,F23 & " " & "mixé ","")),(IF([1]SAISIE!AR23=1,F23 & " " & "sans sel ","")),(IF([1]SAISIE!AS23=1,F23 & " " & "sans graisse ","")),,(IF([1]SAISIE!AT23=1,F23 & " " & "sans gr s sel ","")),(IF([1]SAISIE!AU23=1,F23 & " " & "sans porc ","")))
